{"text_format":"3","workbook":"xlsx","n_sheets":3,"sheets":["English system","Metric system","Sheet2"],"not_rendered":{"charts":4,"images":6,"defined_names":15,"comments":2},"read":"whole","date_system":"1900"}

{"sheet":"English system","index":0,"n_rows":35,"n_cols":13,"rows_kept":35,"merged":[[28,2,28,4]]}
[null,"             A Bouncing Ball"]
[]
[null,"    This graphing utility produces the graph "]
[null,"        of the height H of a bouncing ball"]
[null,"               that is dropped from some"]
[null,null,"    initial height H0 "]
[null,"   using the English system of units with feet."]
[]
["What is the initial height H0 (in feet, 10 - 100)?"]
[null,null,{"$f":"E10","v":33},null,33]
[]
[]
["What percentage of the velocity is lost on each bounce (0 - 20%)?"]
[null,null,{"$f":"E14","v":7},"%",7]
[]
[{"$nulls":9},"Now trace a point along the path of the bouncing ball"]
[{"$nulls":11},119]
["Click each item below for suggestions and investigations",{"$nulls":9},"t =",{"$f":"L17*dt","v":5.95},"seconds"]
[null,"   Item 1",{"$nulls":8},"y =",{"$f":"LOOKUP(L$18,Sheet2!C3:C603,Sheet2!D3:D603)","v":{"v":18.915734739460582,"d":"18.92"}},"feet"]
[null,"   Item 2",{"$nulls":8},"v =",{"$f":"LOOKUP(L$18,Sheet2!C3:C603,Sheet2!F3:F603)","v":{"v":-19.216628783283575,"d":"-19.22"}},"ft/sec"]
[null,"   Item 3"]
[null,"   Item 4"]
[null,"   Item 5"]
[null,"   Item 6"]
[null,"   Item 7"]
[]
[]
["To access/download all the DIGMath Apps for Calculus"]
["      Click this link:",null,"DIGMath for Calculus"]
[]
["Created by:  Sheldon P. Gordon   "]
["                      Farmingdale State College    "]
["Development of this module was supported by the "]
["NSF's Division of Undergraduate Education  "]
["under grants DUE-0310123 and DUE-0442160."]

{"sheet":"Metric system","index":1,"n_rows":36,"n_cols":13,"rows_kept":36,"merged":[[29,2,29,4]]}
[null,"              A Bouncing Ball"]
[]
[null,"   This graphing utility produces the graph "]
[null,"          of the height H of a bouncing ball"]
[null,"               that is dropped from some"]
[null,null,"          initial height H0 "]
[null,"using the metric system of units with meters."]
[]
["What is the initial height H0 (in meters, 3 - 30)?"]
[null,null,{"$f":"E10","v":20},null,20]
[]
[]
["What percentage of the velocity is lost on each bounce (0 - 20%)?"]
[null,null,{"$f":"E14","v":10},"%",10]
[]
[{"$nulls":9},"Now trace a point along the path of the bouncing ball"]
[{"$nulls":10},127,115]
["Click each item below for suggestions and investigations",{"$nulls":9},"t =",{"$f":"K17*dtt","v":{"v":5.291666666666666,"d":"5.29"}},"seconds"]
[null,"   Item 1",{"$nulls":8},"y =",{"$f":"LOOKUP(L$18,Sheet2!J3:J603,Sheet2!K3:K603)","v":{"v":7.481766907149172,"d":"7.48"}},"meters"]
[null,"   Item 2",{"$nulls":8},"v =",{"$f":"LOOKUP(L$18,Sheet2!J3:J603,Sheet2!M3:M603)","v":{"v":-13.831919240875699,"d":"-13.83"}},"m/sec"]
[null,"   Item 3"]
[null,"   Item 4"]
[null,"   Item 5"]
[null,"   Item 6"]
[null,"   Item 7"]
[]
[]
[]
["To access/download all the DIGMath Apps for Calculus"]
["     Click this link:",null,"DIGMath for Calculus"]
[]
["Created by:  Sheldon P. Gordon   "]
["                      Farmingdale State College    "]
["Development of this module was supported by the "]
["NSF's Division of Undergraduate Education  "]
["under grants DUE-0310123 and DUE-0442160."]

{"sheet":"Sheet2","index":2,"n_rows":603,"n_cols":29,"rows_kept":603}
["English system",null,"t","y",null,"v",null,"Metric system",null,"t","y",null,"v",null,"English System",{"$nulls":7},"Metric System"]
[null,null,"First bounce",{"$nulls":6},"First bounce",{"$nulls":4},"t0","tfinal","t1 =",{"$f":"s/4","v":1.4361406616345072},"v1 =",{"$f":"df*s*8","v":42.73954609024293},0,null,"t0","tfinal","t1 =",{"$f":"SQRT(2*H00/gg)","v":2.0203050891044216},"v1 =",{"$f":"dff*gg*Z2","v":17.819090885900998},0]
[null,null,{"$f":"O4","v":0},{"$f":"h0","v":33},0.5,0,{"$nulls":3},{"$f":"W3","v":0},{"$f":"H00","v":20},0.5,0,null,0,0,"t2 =",{"$f":"R2+df*s/2","v":4.10736229227469},"v2 =",{"$f":"T2*df","v":39.747777863925926},0,null,0,0,"t2 =",{"$f":"Z2+2*AB2/gg","v":5.65685424949238},"v2 =",{"$f":"dff*AB2","v":16.0371817973109},0]
["sq rt(H0) =",{"$f":"SQRT(h0)","v":5.744562646538029},{"$f":"C3+Sheet2!B$12","v":0.05},{"$f":"IF(C4<=R$2,h0-16*C4^2,IF(AND(C4>R$2,C4<=R$3),T$2*(C4-R$2)-16*(C4-R$2)^2,IF(AND(C4>R$3,C4<=R$4),T$3*(C4-R$3)-16*(C4-R$3)^2,IF(AND(C4>R$4,C4<=R$5),T$4*(C4-R$4)-16*(C4-R$4)^2,IF(AND(C4>R$5,C4<=R$6),T$5*(C4-R$5)-16*(C4-R$5)^2,IF(AND(C4>R$6,C4<=R$7),T$6*(C4-R$6)-16*(C4-R$6)^2,IF(AND(C4>R$7,C4<=R$8),T$7*(C4-R$7)-16*(C4-R$7)^2,0)))))))","v":32.96},0.5,{"$f":"IF(C4<=R$2,-32*C4,IF(AND(C4>R$2,C4<=R$3),T$2-32*(C4-R$2),IF(AND(C4>R$3,C4<=R$4),T$3-32*(C4-R$3),IF(AND(C4>R$4,C4<=R$5),T$4-32*(C4-R$4),IF(AND(C4>R$5,C4<=R$6),T$5-32*(C4-R$5),IF(AND(C4>R$6,C4<=R$7),T$6-32*(C4-R$6),IF(AND(C4>R$7,C4<=R$8),T$7-32*(C4-R$7),0)))))))","v":-1.6},null,"sq rt(H00) =",{"$f":"SQRT(2*H00/9.6)","v":2.041241452319315},{"$f":"J3+Sheet2!I$12","v":0.041666666666666664},{"$f":"IF(J4<=Z$2,H00-4.8*J4^2,IF(AND(J4>Z$2,J4<=Z$3),AB$2*(J4-Z$2)-4.8*(J4-Z$2)^2,IF(AND(J4>Z$3,J4<=Z$4),AB$3*(J4-Z$3)-4.8*(J4-Z$3)^2,IF(AND(J4>Z$4,J4<=Z$5),AB$4*(J4-Z$4)-4.8*(J4-Z$4)^2,IF(AND(J4>Z$5,J4<=Z$6),AB$5*(J4-Z$5)-4.8*(J4-Z$5)^2,IF(AND(J4>Z$6,J4<=Z$7),AB$6*(J4-Z$6)-4.8*(J4-Z$6)^2,IF(AND(J4>Z$7,J4<=Z$8),AB$7*(J4-Z$7)-4.8*(J4-Z$7)^2,0)))))))","v":{"v":19.991666666666667,"d":"19.99"}},0.5,{"$f":"IF(J4<=Z$2,-gg*J4,IF(AND(J4>Z$2,J4<=Z$3),AB$2-gg*(J4-Z$2),IF(AND(J4>Z$3,J4<=Z$4),AB$3-gg*(J4-Z$3),IF(AND(J4>Z$4,J4<=Z$5),AB$4-gg*(J4-Z$4),IF(AND(J4>Z$5,J4<=Z$6),AB$5-gg*(J4-Z$5),IF(AND(J4>Z$6,J4<=Z$7),AB$6-gg*(J4-Z$6),IF(AND(J4>Z$7,J4<=Z$8),AB$7-gg*(J4-Z$7),0)))))))","v":-0.4083333333333333},null,0,0,"t3 =",{"$f":"R3+df^2*s/2","v":6.591598408770061},"v3 =",36.96543341345111,0,null,0,0,"t3 =",8.929748493841544,"v3 =",14.433463617579811,0]
["df =",{"$f":"1-frac/100","v":0.9299999999999999},{"$f":"C4+Sheet2!B$12","v":0.1},32.84,0.5,-3.2,null,"dff =",{"$f":"1-frac0/100","v":0.9},{"$f":"J4+Sheet2!I$12","v":0.08333333333333333},{"v":19.966666666666665,"d":"19.97"},0.5,-0.8166666666666667,null,null,0,"t4 =",{"$f":"R4+df^3*s/2","v":8.901937997110755},"v4 =",34.37785307450953,0,null,null,0,"t4 =",11.875353313755792,"v4 =",12.990117255821831,0]
[null,null,{"$f":"C5+Sheet2!B$12","v":0.15000000000000002},32.64,0.5,-4.800000000000001,null,"g =",9.8,{"$f":"J5+Sheet2!I$12","v":0.125},{"v":19.925,"d":"19.93"},0.5,-1.225,{"$nulls":3},"t5 =",{"$f":"R5+df^4*s/2","v":11.0505538142676},"v5 =",31.971403359293863,0,{"$nulls":3},"t5 =",14.526397651678614,"v5 =",11.691105530239648,0]
[null,null,{"$f":"C6+Sheet2!B$12","v":0.2},32.36,0.5,-6.4,{"$nulls":3},{"$f":"J6+Sheet2!I$12","v":0.16666666666666666},{"v":19.866666666666667,"d":"19.87"},0.5,-1.6333333333333333,{"$nulls":3},"t6 =",{"$f":"R6+df^5*s/2","v":13.048766524223465},"v6 =",29.73340512414329,0,{"$nulls":3},"t6 =",16.912337555809156,"v6 =",10.521994977215684,0]
[null,null,{"$f":"C7+Sheet2!B$12","v":0.25},{"v":32,"d":"32.00"},0.5,-8,{"$nulls":3},{"$f":"J7+Sheet2!I$12","v":0.20833333333333331},{"v":19.791666666666668,"d":"19.79"},0.5,-2.0416666666666665,{"$nulls":3},"t7 =",{"$f":"R7+df^6*s/2","v":14.90710434448242},"v7 =",27.652066765453256,0,{"$nulls":3},"t7 =",19.059683469526643,"v7 =",9.469795479494115,0]
[null,null,{"$f":"C8+Sheet2!B$12","v":0.3},31.56,0.5,-9.6,{"$nulls":3},{"$f":"J8+Sheet2!I$12","v":0.24999999999999997},{"v":19.7,"d":"19.70"},0.5,-2.4499999999999997,{"$nulls":4},30,null,null,0,{"$nulls":4},25,null,null,0]
[null,null,{"$f":"C9+Sheet2!B$12","v":0.35},31.04,0.5,-11.2,{"$nulls":3},{"$f":"J9+Sheet2!I$12","v":0.29166666666666663},{"v":19.59166666666667,"d":"19.59"},0.5,-2.8583333333333334]
[null,null,{"$f":"C10+Sheet2!B$12","v":0.39999999999999997},30.44,0.5,-12.799999999999999,{"$nulls":3},{"$f":"J10+Sheet2!I$12","v":0.3333333333333333},{"v":19.466666666666665,"d":"19.47"},0.5,-3.2666666666666666]
["delta t = ",0.05,{"$f":"C11+Sheet2!B$12","v":0.44999999999999996},29.76,0.5,-14.399999999999999,null,"delta t = ",{"$f":"25/600","v":0.041666666666666664},{"$f":"J11+Sheet2!I$12","v":0.375},{"v":19.325,"d":"19.33"},0.5,-3.6750000000000003]
[null,null,{"$f":"C12+Sheet2!B$12","v":0.49999999999999994},{"v":29,"d":"29.00"},0.5,-15.999999999999998,{"$nulls":3},{"$f":"J12+Sheet2!I$12","v":0.4166666666666667},{"v":19.166666666666668,"d":"19.17"},0.5,-4.083333333333334]
[null,null,{"$f":"C13+Sheet2!B$12","v":0.5499999999999999},28.16,0.5,-17.599999999999998,{"$nulls":3},{"$f":"J13+Sheet2!I$12","v":0.45833333333333337},{"v":18.991666666666667,"d":"18.99"},0.5,-4.491666666666667]
[null,null,{"$f":"C14+Sheet2!B$12","v":0.6},{"v":27.240000000000002,"d":"27.24"},0.5,-19.2,{"$nulls":3},{"$f":"J14+Sheet2!I$12","v":0.5},{"v":18.8,"d":"18.80"},0.5,-4.9]
[null,"t1",{"$f":"C15+Sheet2!B$12","v":0.65},26.24,0.5,-20.8,null,null,"t1",{"$f":"J15+Sheet2!I$12","v":0.5416666666666666},{"v":18.59166666666667,"d":"18.59"},0.5,-5.308333333333334]
[null,null,{"$f":"C16+Sheet2!B$12","v":0.7000000000000001},{"v":25.159999999999997,"d":"25.16"},0.5,-22.400000000000002,{"$nulls":3},{"$f":"J16+Sheet2!I$12","v":0.5833333333333333},{"v":18.366666666666667,"d":"18.37"},0.5,-5.716666666666667]
[null,null,{"$f":"C17+Sheet2!B$12","v":0.7500000000000001},{"v":23.999999999999996,"d":"24.00"},0.5,-24.000000000000004,{"$nulls":3},{"$f":"J17+Sheet2!I$12","v":0.6249999999999999},{"v":18.125,"d":"18.13"},0.5,-6.124999999999999]
[null,null,{"$f":"C18+Sheet2!B$12","v":0.8000000000000002},{"v":22.759999999999998,"d":"22.76"},0.5,-25.600000000000005,{"$nulls":3},{"$f":"J18+Sheet2!I$12","v":0.6666666666666665},{"v":17.866666666666667,"d":"17.87"},0.5,-6.533333333333332]
[null,null,{"$f":"C19+Sheet2!B$12","v":0.8500000000000002},{"v":21.439999999999994,"d":"21.44"},0.5,-27.200000000000006,{"$nulls":3},{"$f":"J19+Sheet2!I$12","v":0.7083333333333331},{"v":17.59166666666667,"d":"17.59"},0.5,-6.9416666666666655]
[null,null,{"$f":"C20+Sheet2!B$12","v":0.9000000000000002},{"v":20.039999999999992,"d":"20.04"},0.5,-28.800000000000008,{"$nulls":3},{"$f":"J20+Sheet2!I$12","v":0.7499999999999998},{"v":17.3,"d":"17.30"},0.5,-7.349999999999999]
[null,null,{"$f":"C21+Sheet2!B$12","v":0.9500000000000003},{"v":18.55999999999999,"d":"18.56"},0.5,-30.40000000000001,{"$nulls":3},{"$f":"J21+Sheet2!I$12","v":0.7916666666666664},{"v":16.991666666666667,"d":"16.99"},0.5,-7.758333333333331]
[null,null,{"$f":"C22+Sheet2!B$12","v":1.0000000000000002},{"v":16.999999999999993,"d":"17.00"},0.5,-32.00000000000001,{"$nulls":3},{"$f":"J22+Sheet2!I$12","v":0.833333333333333},{"v":16.666666666666668,"d":"16.67"},0.5,-8.166666666666664]
[null,null,{"$f":"C23+Sheet2!B$12","v":1.0500000000000003},{"v":15.359999999999992,"d":"15.36"},0.5,-33.60000000000001,{"$nulls":3},{"$f":"J23+Sheet2!I$12","v":0.8749999999999997},{"v":16.325000000000003,"d":"16.33"},0.5,-8.574999999999998]
[null,null,{"$f":"C24+Sheet2!B$12","v":1.1000000000000003},{"v":13.63999999999999,"d":"13.64"},0.5,-35.20000000000001,{"$nulls":3},{"$f":"J24+Sheet2!I$12","v":0.9166666666666663},{"v":15.96666666666667,"d":"15.97"},0.5,-8.98333333333333]
[null,null,{"$f":"C25+Sheet2!B$12","v":1.1500000000000004},{"v":11.839999999999986,"d":"11.84"},0.5,-36.80000000000001,{"$nulls":3},{"$f":"J25+Sheet2!I$12","v":0.9583333333333329},{"v":15.59166666666667,"d":"15.59"},0.5,-9.391666666666664]
[null,null,{"$f":"C26+Sheet2!B$12","v":1.2000000000000004},{"v":9.959999999999983,"d":"9.96"},0.5,-38.40000000000001,{"$nulls":3},{"$f":"J26+Sheet2!I$12","v":0.9999999999999996},{"v":15.200000000000005,"d":"15.20"},0.5,-9.799999999999997]
[null,null,{"$f":"C27+Sheet2!B$12","v":1.2500000000000004},{"v":7.999999999999982,"d":"8.00"},0.5,-40.000000000000014,{"$nulls":3},{"$f":"J27+Sheet2!I$12","v":1.0416666666666663},{"v":14.791666666666671,"d":"14.79"},0.5,-10.20833333333333]
[null,null,{"$f":"C28+Sheet2!B$12","v":1.3000000000000005},{"v":5.9599999999999795,"d":"5.96"},0.5,-41.600000000000016,{"$nulls":3},{"$f":"J28+Sheet2!I$12","v":1.083333333333333},{"v":14.36666666666667,"d":"14.37"},0.5,-10.616666666666665]
[null,null,{"$f":"C29+Sheet2!B$12","v":1.3500000000000005},{"v":3.8399999999999785,"d":"3.84"},0.5,-43.20000000000002,{"$nulls":3},{"$f":"J29+Sheet2!I$12","v":1.1249999999999998},{"v":13.925000000000002,"d":"13.93"},0.5,-11.024999999999999]
[null,null,{"$f":"C30+Sheet2!B$12","v":1.4000000000000006},{"v":1.6399999999999757,"d":"1.64"},0.5,-44.80000000000002,{"$nulls":3},{"$f":"J30+Sheet2!I$12","v":1.1666666666666665},{"v":13.466666666666669,"d":"13.47"},0.5,-11.433333333333334]
[null,null,{"$f":"C31+Sheet2!B$12","v":1.4500000000000006},{"v":0.5892685306934123,"d":"0.59"},0.5,42.29604726254714,{"$nulls":3},{"$f":"J31+Sheet2!I$12","v":1.2083333333333333},{"v":12.991666666666667,"d":"12.99"},0.5,-11.841666666666667]
[null,null,{"$f":"C32+Sheet2!B$12","v":1.5000000000000007},{"v":2.6640708938207713,"d":"2.66"},0.5,40.69604726254714,{"$nulls":3},{"$f":"J32+Sheet2!I$12","v":1.25},{"v":12.5,"d":"12.50"},0.5,-12.25]
[null,null,{"$f":"C33+Sheet2!B$12","v":1.5500000000000007},{"v":4.65887325694813,"d":"4.66"},0.5,39.09604726254714,{"$nulls":3},{"$f":"J33+Sheet2!I$12","v":1.2916666666666667},{"v":11.991666666666667,"d":"11.99"},0.5,-12.658333333333335]
[null,null,{"$f":"C34+Sheet2!B$12","v":1.6000000000000008},{"v":6.5736756200754884,"d":"6.57"},0.5,37.49604726254714,{"$nulls":3},{"$f":"J34+Sheet2!I$12","v":1.3333333333333335},{"v":11.466666666666665,"d":"11.47"},0.5,-13.066666666666668]
[null,"t2",{"$f":"C35+Sheet2!B$12","v":1.6500000000000008},{"v":8.408477983202847,"d":"8.41"},0.5,35.896047262547135,null,null,"t2",{"$f":"J35+Sheet2!I$12","v":1.3750000000000002},{"v":10.924999999999997,"d":"10.93"},0.5,-13.475000000000003]
[null,null,{"$f":"C36+Sheet2!B$12","v":1.7000000000000008},{"v":10.163280346330206,"d":"10.16"},0.5,34.296047262547134,{"$nulls":3},{"$f":"J36+Sheet2!I$12","v":1.416666666666667},{"v":10.366666666666664,"d":"10.37"},0.5,-13.883333333333336]
[null,null,{"$f":"C37+Sheet2!B$12","v":1.7500000000000009},{"v":11.838082709457563,"d":"11.84"},0.5,32.69604726254713,{"$nulls":3},{"$f":"J37+Sheet2!I$12","v":1.4583333333333337},{"v":9.791666666666663,"d":"9.79"},0.5,-14.291666666666671]
[null,null,{"$f":"C38+Sheet2!B$12","v":1.800000000000001},{"v":13.432885072584922,"d":"13.43"},0.5,31.09604726254713,{"$nulls":3},{"$f":"J38+Sheet2!I$12","v":1.5000000000000004},{"v":9.199999999999994,"d":"9.20"},0.5,-14.700000000000005]
[null,null,{"$f":"C39+Sheet2!B$12","v":1.850000000000001},{"v":14.947687435712279,"d":"14.95"},0.5,29.49604726254713,{"$nulls":3},{"$f":"J39+Sheet2!I$12","v":1.5416666666666672},{"v":8.59166666666666,"d":"8.59"},0.5,-15.10833333333334]
[null,null,{"$f":"C40+Sheet2!B$12","v":1.900000000000001},{"v":16.382489798839636,"d":"16.38"},0.5,27.89604726254713,{"$nulls":3},{"$f":"J40+Sheet2!I$12","v":1.583333333333334},{"v":7.966666666666658,"d":"7.97"},0.5,-15.516666666666673]
[null,null,{"$f":"C41+Sheet2!B$12","v":1.950000000000001},{"v":17.737292161966995,"d":"17.74"},0.5,26.296047262547127,{"$nulls":3},{"$f":"J41+Sheet2!I$12","v":1.6250000000000007},{"v":7.32499999999999,"d":"7.32"},0.5,-15.925000000000008]
[null,null,{"$f":"C42+Sheet2!B$12","v":2.000000000000001},{"v":19.012094525094348,"d":"19.01"},0.5,24.696047262547133,{"$nulls":3},{"$f":"J42+Sheet2!I$12","v":1.6666666666666674},{"v":6.666666666666655,"d":"6.67"},0.5,-16.333333333333343]
[null,null,{"$f":"C43+Sheet2!B$12","v":2.0500000000000007},{"v":20.2068968882217,"d":"20.21"},0.5,23.09604726254714,{"$nulls":3},{"$f":"J43+Sheet2!I$12","v":1.7083333333333341},{"v":5.991666666666655,"d":"5.99"},0.5,-16.741666666666674]
[null,null,{"$f":"C44+Sheet2!B$12","v":2.1000000000000005},{"v":21.321699251349052,"d":"21.32"},0.5,21.496047262547144,{"$nulls":3},{"$f":"J44+Sheet2!I$12","v":1.7500000000000009},{"v":5.2999999999999865,"d":"5.30"},0.5,-17.15000000000001]
[null,null,{"$f":"C45+Sheet2!B$12","v":2.1500000000000004},{"v":22.356501614476407,"d":"22.36"},0.5,19.89604726254715,{"$nulls":3},{"$f":"J45+Sheet2!I$12","v":1.7916666666666676},{"v":4.591666666666651,"d":"4.59"},0.5,-17.558333333333344]
[null,null,{"$f":"C46+Sheet2!B$12","v":2.2},{"v":23.311303977603764,"d":"23.31"},0.5,18.296047262547155,{"$nulls":3},{"$f":"J46+Sheet2!I$12","v":1.8333333333333344},{"v":3.8666666666666494,"d":"3.87"},0.5,-17.96666666666668]
[null,null,{"$f":"C47+Sheet2!B$12","v":2.25},{"v":24.186106340731115,"d":"24.19"},0.5,16.69604726254716,{"$nulls":3},{"$f":"J47+Sheet2!I$12","v":1.875000000000001},{"v":3.1249999999999822,"d":"3.12"},0.5,-18.37500000000001]
[null,null,{"$f":"C48+Sheet2!B$12","v":2.3},{"v":24.980908703858468,"d":"24.98"},0.5,15.096047262547167,{"$nulls":3},{"$f":"J48+Sheet2!I$12","v":1.9166666666666679},{"v":2.366666666666646,"d":"2.37"},0.5,-18.783333333333346]
[null,null,{"$f":"C49+Sheet2!B$12","v":2.3499999999999996},{"v":25.69571106698583,"d":"25.70"},0.5,13.496047262547172,{"$nulls":3},{"$f":"J49+Sheet2!I$12","v":1.9583333333333346},{"v":1.5916666666666437,"d":"1.59"},0.5,-19.19166666666668]
[null,null,{"$f":"C50+Sheet2!B$12","v":2.3999999999999995},{"v":26.330513430113182,"d":"26.33"},0.5,11.896047262547178,{"$nulls":3},{"$f":"J50+Sheet2!I$12","v":2.0000000000000013},{"v":0.7999999999999758,"d":"0.80"},0.5,-19.600000000000016]
[null,"t3",{"$f":"C51+Sheet2!B$12","v":2.4499999999999993},{"v":26.885315793240537,"d":"26.89"},0.5,10.296047262547184,null,null,"t3",{"$f":"J51+Sheet2!I$12","v":2.041666666666668},{"v":0.3784535704673391,"d":"0.38"},0.5,17.609747425790985]
[null,{"$f":"R4","v":6.591598408770061},{"$f":"C52+Sheet2!B$12","v":2.499999999999999},{"v":27.3601181563679,"d":"27.36"},0.5,8.69604726254719,null,null,{"$f":"Z3","v":5.65685424949238},{"$f":"J52+Sheet2!I$12","v":2.0833333333333344},{"v":1.1040377263549797,"d":"1.10"},0.5,17.201414092457654]
[null,null,{"$f":"C53+Sheet2!B$12","v":2.549999999999999},{"v":27.754920519495254,"d":"27.75"},0.5,7.096047262547195,{"$nulls":3},{"$f":"J53+Sheet2!I$12","v":2.125000000000001},{"v":1.8129552155759536,"d":"1.81"},0.5,16.793080759124322]
[null,null,{"$f":"C54+Sheet2!B$12","v":2.5999999999999988},{"v":28.069722882622617,"d":"28.07"},0.5,5.496047262547201,{"$nulls":3},{"$f":"J54+Sheet2!I$12","v":2.1666666666666674},{"v":2.505206038130261,"d":"2.51"},0.5,16.38474742579099]
[null,null,{"$f":"C55+Sheet2!B$12","v":2.6499999999999986},{"v":28.304525245749975,"d":"28.30"},0.5,3.8960472625472065,{"$nulls":3},{"$f":"J55+Sheet2!I$12","v":2.208333333333334},{"v":3.1807901940179018,"d":"3.18"},0.5,15.976414092457658]
[null,null,{"$f":"C56+Sheet2!B$12","v":2.6999999999999984},{"v":28.45932760887733,"d":"28.46"},0.5,2.296047262547212,{"$nulls":3},{"$f":"J56+Sheet2!I$12","v":2.2500000000000004},{"v":3.839707683238876,"d":"3.84"},0.5,15.568080759124324]
[null,null,{"$f":"C57+Sheet2!B$12","v":2.7499999999999982},{"v":28.534129972004695,"d":"28.53"},0.5,0.6960472625472178,{"$nulls":3},{"$f":"J57+Sheet2!I$12","v":2.291666666666667},{"v":4.481958505793184,"d":"4.48"},0.5,15.159747425790993]
[null,null,{"$f":"C58+Sheet2!B$12","v":2.799999999999998},{"v":28.528932335132055,"d":"28.53"},0.5,-0.9039527374527765,{"$nulls":3},{"$f":"J58+Sheet2!I$12","v":2.3333333333333335},{"v":5.107542661680825,"d":"5.11"},0.5,14.751414092457662]
[null,null,{"$f":"C59+Sheet2!B$12","v":2.849999999999998},{"v":28.443734698259412,"d":"28.44"},0.5,-2.503952737452771,{"$nulls":3},{"$f":"J59+Sheet2!I$12","v":2.375},{"v":5.7164601509018,"d":"5.72"},0.5,14.34308075912433]
[null,null,{"$f":"C60+Sheet2!B$12","v":2.8999999999999977},{"v":28.27853706138678,"d":"28.28"},0.5,-4.103952737452765,{"$nulls":3},{"$f":"J60+Sheet2!I$12","v":2.4166666666666665},{"v":6.308710973456108,"d":"6.31"},0.5,13.934747425790999]
[null,null,{"$f":"C61+Sheet2!B$12","v":2.9499999999999975},{"v":28.033339424514146,"d":"28.03"},0.5,-5.703952737452759,{"$nulls":3},{"$f":"J61+Sheet2!I$12","v":2.458333333333333},{"v":6.88429512934375,"d":"6.88"},0.5,13.526414092457667]
[null,null,{"$f":"C62+Sheet2!B$12","v":2.9999999999999973},{"v":27.7081417876415,"d":"27.71"},0.5,-7.303952737452754,{"$nulls":3},{"$f":"J62+Sheet2!I$12","v":2.4999999999999996},{"v":7.443212618564726,"d":"7.44"},0.5,13.118080759124334]
[null,"t4",{"$f":"C63+Sheet2!B$12","v":3.049999999999997},{"v":27.302944150768866,"d":"27.30"},0.5,-8.903952737452748,null,null,"t4",{"$f":"J63+Sheet2!I$12","v":2.541666666666666},{"v":7.985463441119033,"d":"7.99"},0.5,12.709747425791]
[null,{"$f":"R5","v":8.901937997110755},{"$f":"C64+Sheet2!B$12","v":3.099999999999997},{"v":26.81774651389624,"d":"26.82"},0.5,-10.503952737452742,null,null,{"$f":"Z4","v":8.929748493841544},{"$f":"J64+Sheet2!I$12","v":2.5833333333333326},{"v":8.511047597006675,"d":"8.51"},0.5,12.30141409245767]
[null,null,{"$f":"C65+Sheet2!B$12","v":3.149999999999997},{"v":26.252548877023592,"d":"26.25"},0.5,-12.103952737452737,{"$nulls":3},{"$f":"J65+Sheet2!I$12","v":2.624999999999999},{"v":9.019965086227652,"d":"9.02"},0.5,11.893080759124338]
[null,null,{"$f":"C66+Sheet2!B$12","v":3.1999999999999966},{"v":25.60735124015096,"d":"25.61"},0.5,-13.703952737452731,{"$nulls":3},{"$f":"J66+Sheet2!I$12","v":2.6666666666666656},{"v":9.51221590878196,"d":"9.51"},0.5,11.484747425791006]
[null,null,{"$f":"C67+Sheet2!B$12","v":3.2499999999999964},{"$f":"IF(C68<=R$2,h0-16*C68^2,IF(AND(C68>R$2,C68<=R$3),T$2*(C68-R$2)-16*(C68-R$2)^2,IF(AND(C68>R$3,C68<=R$4),T$3*(C68-R$3)-16*(C68-R$3)^2,IF(AND(C68>R$4,C68<=R$5),T$4*(C68-R$4)-16*(C68-R$4)^2,IF(AND(C68>R$5,C68<=R$6),T$5*(C68-R$5)-16*(C68-R$5)^2,IF(AND(C68>R$6,C68<=R$7),T$6*(C68-R$6)-16*(C68-R$6)^2,IF(AND(C68>R$7,C68<=R$8),T$7*(C68-R$7)-16*(C68-R$7)^2,0)))))))","v":{"v":24.882153603278333,"d":"24.88"}},0.5,{"$f":"IF(C68<=R$2,-32*C68,IF(AND(C68>R$2,C68<=R$3),T$2-32*(C68-R$2),IF(AND(C68>R$3,C68<=R$4),T$3-32*(C68-R$3),IF(AND(C68>R$4,C68<=R$5),T$4-32*(C68-R$4),IF(AND(C68>R$5,C68<=R$6),T$5-32*(C68-R$5),IF(AND(C68>R$6,C68<=R$7),T$6-32*(C68-R$6),IF(AND(C68>R$7,C68<=R$8),T$7-32*(C68-R$7),0)))))))","v":-15.303952737452725},{"$nulls":3},{"$f":"J67+Sheet2!I$12","v":2.708333333333332},{"$f":"IF(J68<=Z$2,H00-4.8*J68^2,IF(AND(J68>Z$2,J68<=Z$3),AB$2*(J68-Z$2)-4.8*(J68-Z$2)^2,IF(AND(J68>Z$3,J68<=Z$4),AB$3*(J68-Z$3)-4.8*(J68-Z$3)^2,IF(AND(J68>Z$4,J68<=Z$5),AB$4*(J68-Z$4)-4.8*(J68-Z$4)^2,IF(AND(J68>Z$5,J68<=Z$6),AB$5*(J68-Z$5)-4.8*(J68-Z$5)^2,IF(AND(J68>Z$6,J68<=Z$7),AB$6*(J68-Z$6)-4.8*(J68-Z$6)^2,IF(AND(J68>Z$7,J68<=Z$8),AB$7*(J68-Z$7)-4.8*(J68-Z$7)^2,0)))))))","v":{"v":9.987800064669601,"d":"9.99"}},0.5,{"$f":"IF(J68<=Z$2,-gg*J68,IF(AND(J68>Z$2,J68<=Z$3),AB$2-gg*(J68-Z$2),IF(AND(J68>Z$3,J68<=Z$4),AB$3-gg*(J68-Z$3),IF(AND(J68>Z$4,J68<=Z$5),AB$4-gg*(J68-Z$4),IF(AND(J68>Z$5,J68<=Z$6),AB$5-gg*(J68-Z$5),IF(AND(J68>Z$6,J68<=Z$7),AB$6-gg*(J68-Z$6),IF(AND(J68>Z$7,J68<=Z$8),AB$7-gg*(J68-Z$7),0)))))))","v":11.076414092457675}]
[null,null,{"$f":"C68+Sheet2!B$12","v":3.2999999999999963},{"v":24.07695596640569,"d":"24.08"},0.5,-16.90395273745272,{"$nulls":3},{"$f":"J68+Sheet2!I$12","v":2.7499999999999987},{"v":10.446717553890577,"d":"10.45"},0.5,10.668080759124344]
[null,null,{"$f":"C69+Sheet2!B$12","v":3.349999999999996},{"v":23.19175832953306,"d":"23.19"},0.5,-18.503952737452714,{"$nulls":3},{"$f":"J69+Sheet2!I$12","v":2.791666666666665},{"v":10.888968376444886,"d":"10.89"},0.5,10.25974742579101]
[null,null,{"$f":"C70+Sheet2!B$12","v":3.399999999999996},{"v":22.226560692660435,"d":"22.23"},0.5,-20.10395273745271,{"$nulls":3},{"$f":"J70+Sheet2!I$12","v":2.8333333333333317},{"v":11.31455253233253,"d":"11.31"},0.5,9.851414092457679]
[null,null,{"$f":"C71+Sheet2!B$12","v":3.4499999999999957},{"v":21.181363055787813,"d":"21.18"},0.5,-21.703952737452703,{"$nulls":3},{"$f":"J71+Sheet2!I$12","v":2.8749999999999982},{"v":11.723470021553506,"d":"11.72"},0.5,9.443080759124348]
[null,null,{"$f":"C72+Sheet2!B$12","v":3.4999999999999956},{"v":20.05616541891517,"d":"20.06"},0.5,-23.303952737452697,{"$nulls":3},{"$f":"J72+Sheet2!I$12","v":2.9166666666666647},{"v":12.115720844107816,"d":"12.12"},0.5,9.034747425791014]
[null,null,{"$f":"C73+Sheet2!B$12","v":3.5499999999999954},{"v":18.850967782042545,"d":"18.85"},0.5,-24.90395273745269,{"$nulls":3},{"$f":"J73+Sheet2!I$12","v":2.9583333333333313},{"v":12.49130499999546,"d":"12.49"},0.5,8.626414092457683]
[null,"t5",{"$f":"C74+Sheet2!B$12","v":3.599999999999995},{"v":17.56577014516992,"d":"17.57"},0.5,-26.503952737452686,null,null,"t5",{"$f":"J74+Sheet2!I$12","v":2.999999999999998},{"v":12.850222489216435,"d":"12.85"},0.5,8.218080759124351]
[null,{"$f":"R6","v":11.0505538142676},{"$f":"C75+Sheet2!B$12","v":3.649999999999995},{"v":16.20057250829727,"d":"16.20"},0.5,-28.10395273745268,null,null,{"$f":"Z5","v":11.875353313755792},{"$f":"J75+Sheet2!I$12","v":3.0416666666666643},{"v":13.192473311770744,"d":"13.19"},0.5,7.80974742579102]
[null,null,{"$f":"C76+Sheet2!B$12","v":3.699999999999995},{"v":14.75537487142465,"d":"14.76"},0.5,-29.703952737452674,{"$nulls":3},{"$f":"J76+Sheet2!I$12","v":3.083333333333331},{"v":13.518057467658387,"d":"13.52"},0.5,7.401414092457687]
[null,null,{"$f":"C77+Sheet2!B$12","v":3.7499999999999947},{"v":13.23017723455203,"d":"13.23"},0.5,-31.30395273745267,{"$nulls":3},{"$f":"J77+Sheet2!I$12","v":3.1249999999999973},{"v":13.826974956879365,"d":"13.83"},0.5,6.993080759124355]
[null,null,{"$f":"C78+Sheet2!B$12","v":3.7999999999999945},{"v":11.624979597679385,"d":"11.62"},0.5,-32.90395273745266,{"$nulls":3},{"$f":"J78+Sheet2!I$12","v":3.166666666666664},{"v":14.119225779433677,"d":"14.12"},0.5,6.584747425791024]
[null,null,{"$f":"C79+Sheet2!B$12","v":3.8499999999999943},{"v":9.93978196080677,"d":"9.94"},0.5,-34.50395273745266,{"$nulls":3},{"$f":"J79+Sheet2!I$12","v":3.2083333333333304},{"v":14.39480993532132,"d":"14.39"},0.5,6.176414092457691]
[null,null,{"$f":"C80+Sheet2!B$12","v":3.899999999999994},{"v":8.174584323934141,"d":"8.17"},0.5,-36.10395273745265,{"$nulls":3},{"$f":"J80+Sheet2!I$12","v":3.249999999999997},{"v":14.653727424542296,"d":"14.65"},0.5,5.768080759124359]
[null,null,{"$f":"C81+Sheet2!B$12","v":3.949999999999994},{"v":6.329386687061515,"d":"6.33"},0.5,-37.703952737452646,{"$nulls":3},{"$f":"J81+Sheet2!I$12","v":3.2916666666666634},{"v":14.895978247096608,"d":"14.90"},0.5,5.359747425791028]
[null,"t6",{"$f":"C82+Sheet2!B$12","v":3.999999999999994},{"v":4.40418905018889,"d":"4.40"},0.5,-39.30395273745264,null,null,"t6",{"$f":"J82+Sheet2!I$12","v":3.33333333333333},{"v":15.121562402984251,"d":"15.12"},0.5,4.951414092457696]
[null,{"$f":"R7","v":13.048766524223465},{"$f":"C83+Sheet2!B$12","v":4.049999999999994},{"v":2.398991413316267,"d":"2.40"},0.5,-40.903952737452634,null,null,{"$f":"Z6","v":14.526397651678614},{"$f":"J83+Sheet2!I$12","v":3.3749999999999964},{"v":15.330479892205231,"d":"15.33"},0.5,4.543080759124363]
[null,null,{"$f":"C84+Sheet2!B$12","v":4.099999999999993},{"v":0.3137937764436458,"d":"0.31"},0.5,-42.50395273745263,{"$nulls":3},{"$f":"J84+Sheet2!I$12","v":3.416666666666663},{"v":15.522730714759541,"d":"15.52"},0.5,4.134747425791032]
[null,null,{"$f":"C85+Sheet2!B$12","v":4.149999999999993},{"v":1.6656665493712592,"d":"1.67"},0.5,38.38337121671622,{"$nulls":3},{"$f":"J85+Sheet2!I$12","v":3.4583333333333295},{"v":15.698314870647186,"d":"15.70"},0.5,3.7264140924577003]
[null,null,{"$f":"C86+Sheet2!B$12","v":4.199999999999993},{"v":3.5448351102070634,"d":"3.54"},0.5,36.783371216716226,{"$nulls":3},{"$f":"J86+Sheet2!I$12","v":3.499999999999996},{"v":15.857232359868163,"d":"15.86"},0.5,3.318080759124369]
[null,null,{"$f":"C87+Sheet2!B$12","v":4.249999999999993},{"v":5.344003671042869,"d":"5.34"},0.5,35.18337121671623,{"$nulls":3},{"$f":"J87+Sheet2!I$12","v":3.5416666666666625},{"v":15.999483182422473,"d":"16.00"},0.5,2.9097474257910356]
[null,"t7",{"$f":"C88+Sheet2!B$12","v":4.299999999999993},{"v":7.063172231878674,"d":"7.06"},0.5,33.58337121671624,null,null,"t7",{"$f":"J88+Sheet2!I$12","v":3.583333333333329},{"v":16.125067338310117,"d":"16.13"},0.5,2.501414092457704]
[null,{"$f":"R8","v":14.90710434448242},{"$f":"C89+Sheet2!B$12","v":4.3499999999999925},{"v":8.702340792714482,"d":"8.70"},0.5,31.983371216716243,null,null,{"$f":"Z7","v":16.912337555809156},{"$f":"J89+Sheet2!I$12","v":3.6249999999999956},{"v":16.2339848275311,"d":"16.23"},0.5,2.0930807591243727]
[null,null,{"$f":"C90+Sheet2!B$12","v":4.399999999999992},{"v":10.261509353550286,"d":"10.26"},0.5,30.38337121671625,{"$nulls":3},{"$f":"J90+Sheet2!I$12","v":3.666666666666662},{"v":16.32623565008541,"d":"16.33"},0.5,1.6847474257910413]
[null,null,{"$f":"C91+Sheet2!B$12","v":4.449999999999992},{"v":11.740677914386094,"d":"11.74"},0.5,28.783371216716255,{"$nulls":3},{"$f":"J91+Sheet2!I$12","v":3.7083333333333286},{"v":16.401819805973055,"d":"16.40"},0.5,1.2764140924577099]
[null,null,{"$f":"C92+Sheet2!B$12","v":4.499999999999992},{"v":13.139846475221903,"d":"13.14"},0.5,27.18337121671626,{"$nulls":3},{"$f":"J92+Sheet2!I$12","v":3.749999999999995},{"v":16.460737295194033,"d":"16.46"},0.5,0.8680807591243784]
[null,"t8",{"$f":"C93+Sheet2!B$12","v":4.549999999999992},{"v":14.45901503605771,"d":"14.46"},0.5,25.583371216716266,null,null,"t8",{"$f":"J93+Sheet2!I$12","v":3.7916666666666616},{"v":16.502988117748345,"d":"16.50"},0.5,0.45974742579104344]
[null,{"$f":"#REF!","v":{"$error":"#REF!"}},{"$f":"C94+Sheet2!B$12","v":4.599999999999992},{"v":15.698183596893518,"d":"15.70"},0.5,23.98337121671627,null,null,{"$f":"Z8","v":19.059683469526643},{"$f":"J94+Sheet2!I$12","v":3.833333333333328},{"v":16.52857227363599,"d":"16.53"},0.5,0.051414092457712]
[null,null,{"$f":"C95+Sheet2!B$12","v":4.6499999999999915},{"v":16.85735215772933,"d":"16.86"},0.5,22.383371216716277,{"$nulls":3},{"$f":"J95+Sheet2!I$12","v":3.8749999999999947},{"v":16.537489762856968,"d":"16.54"},0.5,-0.35691924087561944]
[null,null,{"$f":"C96+Sheet2!B$12","v":4.699999999999991},{"v":17.93652071856514,"d":"17.94"},0.5,20.783371216716283,{"$nulls":3},{"$f":"J96+Sheet2!I$12","v":3.916666666666661},{"v":16.529740585411282,"d":"16.53"},0.5,-0.7652525742089509]
[null,null,{"$f":"C97+Sheet2!B$12","v":4.749999999999991},{"v":18.93568927940095,"d":"18.94"},0.5,19.18337121671629,{"$nulls":3},{"$f":"J97+Sheet2!I$12","v":3.9583333333333277},{"v":16.505324741298924,"d":"16.51"},0.5,-1.1735859075422823]
[null,null,{"$f":"C98+Sheet2!B$12","v":4.799999999999991},{"v":19.85485784023676,"d":"19.85"},0.5,17.583371216716294,{"$nulls":3},{"$f":"J98+Sheet2!I$12","v":3.9999999999999942},{"v":16.464242230519904,"d":"16.46"},0.5,-1.5819192408756138]
[null,null,{"$f":"C99+Sheet2!B$12","v":4.849999999999991},{"v":20.694026401072573,"d":"20.69"},0.5,15.9833712167163,{"$nulls":3},{"$f":"J99+Sheet2!I$12","v":4.041666666666661},{"v":16.40649305307422,"d":"16.41"},0.5,-1.9902525742089452]
[null,null,{"$f":"C100+Sheet2!B$12","v":4.899999999999991},{"v":21.453194961908387,"d":"21.45"},0.5,14.383371216716306,{"$nulls":3},{"$f":"J100+Sheet2!I$12","v":4.083333333333328},{"v":16.332077208961863,"d":"16.33"},0.5,-2.3985859075422837]
[null,null,{"$f":"C101+Sheet2!B$12","v":4.94999999999999},{"v":22.1323635227442,"d":"22.13"},0.5,12.783371216716311,{"$nulls":3},{"$f":"J101+Sheet2!I$12","v":4.124999999999995},{"v":16.240994698182845,"d":"16.24"},0.5,-2.8069192408756187]
[null,null,{"$f":"C102+Sheet2!B$12","v":4.99999999999999},{"v":22.731532083580014,"d":"22.73"},0.5,11.183371216716317,{"$nulls":3},{"$f":"J102+Sheet2!I$12","v":4.166666666666662},{"v":16.13324552073716,"d":"16.13"},0.5,-3.2152525742089573]
[null,null,{"$f":"C103+Sheet2!B$12","v":5.04999999999999},{"v":23.25070064441583,"d":"23.25"},0.5,9.583371216716323,{"$nulls":3},{"$f":"J103+Sheet2!I$12","v":4.208333333333329},{"v":16.008829676624796,"d":"16.01"},0.5,-3.6235859075422923]
[null,null,{"$f":"C104+Sheet2!B$12","v":5.09999999999999},{"v":23.689869205251643,"d":"23.69"},0.5,7.983371216716328,{"$nulls":3},{"$f":"J104+Sheet2!I$12","v":4.249999999999996},{"v":15.867747165845778,"d":"15.87"},0.5,-4.031919240875627]
[null,null,{"$f":"C105+Sheet2!B$12","v":5.14999999999999},{"v":24.04903776608746,"d":"24.05"},0.5,6.383371216716334,{"$nulls":3},{"$f":"J105+Sheet2!I$12","v":4.2916666666666625},{"v":15.70999798840009,"d":"15.71"},0.5,-4.440252574208966]
[null,null,{"$f":"C106+Sheet2!B$12","v":5.1999999999999895},{"v":24.328206326923276,"d":"24.33"},0.5,4.78337121671634,{"$nulls":3},{"$f":"J106+Sheet2!I$12","v":4.3333333333333295},{"v":15.535582144287737,"d":"15.54"},0.5,-4.848585907542301]
[null,null,{"$f":"C107+Sheet2!B$12","v":5.249999999999989},{"v":24.52737488775909,"d":"24.53"},0.5,3.1833712167163455,{"$nulls":3},{"$f":"J107+Sheet2!I$12","v":4.3749999999999964},{"v":15.344499633508708,"d":"15.34"},0.5,-5.256919240875636]
[null,null,{"$f":"C108+Sheet2!B$12","v":5.299999999999989},{"v":24.646543448594908,"d":"24.65"},0.5,1.5833712167163512,{"$nulls":3},{"$f":"J108+Sheet2!I$12","v":4.416666666666663},{"v":15.13675045606302,"d":"15.14"},0.5,-5.665252574208974]
[null,null,{"$f":"C109+Sheet2!B$12","v":5.349999999999989},{"v":24.685712009430727,"d":"24.69"},0.5,-0.016628783283643145,{"$nulls":3},{"$f":"J109+Sheet2!I$12","v":4.45833333333333},{"v":14.912334611950662,"d":"14.91"},0.5,-6.073585907542309]
[null,null,{"$f":"C110+Sheet2!B$12","v":5.399999999999989},{"v":24.64488057026654,"d":"24.64"},0.5,-1.6166287832836375,{"$nulls":3},{"$f":"J110+Sheet2!I$12","v":4.499999999999997},{"v":14.671252101171639,"d":"14.67"},0.5,-6.481919240875644]
[null,null,{"$f":"C111+Sheet2!B$12","v":5.449999999999989},{"v":24.52404913110236,"d":"24.52"},0.5,-3.2166287832836318,{"$nulls":3},{"$f":"J111+Sheet2!I$12","v":4.541666666666664},{"v":14.413502923725947,"d":"14.41"},0.5,-6.890252574208983]
[null,null,{"$f":"C112+Sheet2!B$12","v":5.4999999999999885},{"v":24.323217691938176,"d":"24.32"},0.5,-4.816628783283626,{"$nulls":3},{"$f":"J112+Sheet2!I$12","v":4.583333333333331},{"v":14.139087079613596,"d":"14.14"},0.5,-7.298585907542318]
[null,null,{"$f":"C113+Sheet2!B$12","v":5.549999999999988},{"v":24.042386252773994,"d":"24.04"},0.5,-6.41662878328362,{"$nulls":3},{"$f":"J113+Sheet2!I$12","v":4.624999999999998},{"v":13.848004568834561,"d":"13.85"},0.5,-7.706919240875653]
[null,null,{"$f":"C114+Sheet2!B$12","v":5.599999999999988},{"v":23.68155481360982,"d":"23.68"},0.5,-8.016628783283615,{"$nulls":3},{"$f":"J114+Sheet2!I$12","v":4.666666666666665},{"v":13.540255391388875,"d":"13.54"},0.5,-8.115252574208991]
[null,null,{"$f":"C115+Sheet2!B$12","v":5.649999999999988},{"v":23.240723374445636,"d":"23.24"},0.5,-9.616628783283609,{"$nulls":3},{"$f":"J115+Sheet2!I$12","v":4.708333333333332},{"v":13.215839547276516,"d":"13.22"},0.5,-8.523585907542326]
[null,null,{"$f":"C116+Sheet2!B$12","v":5.699999999999988},{"v":22.71989193528146,"d":"22.72"},0.5,-11.216628783283603,{"$nulls":3},{"$f":"J116+Sheet2!I$12","v":4.749999999999999},{"v":12.874757036497492,"d":"12.87"},0.5,-8.931919240875665]
[null,null,{"$f":"C117+Sheet2!B$12","v":5.749999999999988},{"v":22.119060496117285,"d":"22.12"},0.5,-12.816628783283598,{"$nulls":3},{"$f":"J117+Sheet2!I$12","v":4.791666666666666},{"v":12.517007859051802,"d":"12.52"},0.5,-9.340252574209]
[null,null,{"$f":"C118+Sheet2!B$12","v":5.799999999999987},{"v":21.438229056953112,"d":"21.44"},0.5,-14.416628783283592,{"$nulls":3},{"$f":"J118+Sheet2!I$12","v":4.833333333333333},{"v":12.142592014939446,"d":"12.14"},0.5,-9.748585907542335]
[null,null,{"$f":"C119+Sheet2!B$12","v":5.849999999999987},{"v":20.677397617788927,"d":"20.68"},0.5,-16.016628783283586,{"$nulls":3},{"$f":"J119+Sheet2!I$12","v":4.875},{"v":11.751509504160417,"d":"11.75"},0.5,-10.156919240875673]
[null,null,{"$f":"C120+Sheet2!B$12","v":5.899999999999987},{"v":19.836566178624764,"d":"19.84"},0.5,-17.61662878328358,{"$nulls":3},{"$f":"J120+Sheet2!I$12","v":4.916666666666667},{"v":11.343760326714715,"d":"11.34"},0.5,-10.565252574209008]
[null,null,{"$f":"C121+Sheet2!B$12","v":5.949999999999987},{"v":18.915734739460582,"d":"18.92"},0.5,-19.216628783283575,{"$nulls":3},{"$f":"J121+Sheet2!I$12","v":4.958333333333334},{"v":10.919344482602362,"d":"10.92"},0.5,-10.973585907542343]
[null,null,{"$f":"C122+Sheet2!B$12","v":5.999999999999987},{"v":17.914903300296395,"d":"17.91"},0.5,-20.81662878328357,{"$nulls":3},{"$f":"J122+Sheet2!I$12","v":5.000000000000001},{"v":10.478261971823343,"d":"10.48"},0.5,-11.381919240875682]
[null,null,{"$f":"C123+Sheet2!B$12","v":6.0499999999999865},{"v":16.83407186113223,"d":"16.83"},0.5,-22.416628783283564,{"$nulls":3},{"$f":"J123+Sheet2!I$12","v":5.041666666666668},{"v":10.020512794377638,"d":"10.02"},0.5,-11.790252574209017]
[null,null,{"$f":"C124+Sheet2!B$12","v":6.099999999999986},{"v":15.673240421968046,"d":"15.67"},0.5,-24.016628783283558,{"$nulls":3},{"$f":"J124+Sheet2!I$12","v":5.083333333333335},{"v":9.54609695026528,"d":"9.55"},0.5,-12.198585907542352]
[null,null,{"$f":"C125+Sheet2!B$12","v":6.149999999999986},{"v":14.432408982803878,"d":"14.43"},0.5,-25.616628783283552,{"$nulls":3},{"$f":"J125+Sheet2!I$12","v":5.125000000000002},{"v":9.055014439486257,"d":"9.06"},0.5,-12.60691924087569]
[null,null,{"$f":"C126+Sheet2!B$12","v":6.199999999999986},{"v":13.111577543639697,"d":"13.11"},0.5,-27.216628783283547,{"$nulls":3},{"$f":"J126+Sheet2!I$12","v":5.166666666666669},{"v":8.547265262040561,"d":"8.55"},0.5,-13.015252574209025]
[null,null,{"$f":"C127+Sheet2!B$12","v":6.249999999999986},{"v":11.710746104475533,"d":"11.71"},0.5,-28.81662878328354,{"$nulls":3},{"$f":"J127+Sheet2!I$12","v":5.208333333333336},{"v":8.0228494179282,"d":"8.02"},0.5,-13.42358590754236]
[null,null,{"$f":"C128+Sheet2!B$12","v":6.299999999999986},{"v":10.229914665311355,"d":"10.23"},0.5,-30.416628783283535,{"$nulls":3},{"$f":"J128+Sheet2!I$12","v":5.250000000000003},{"v":7.481766907149172,"d":"7.48"},0.5,-13.831919240875699]
[null,null,{"$f":"C129+Sheet2!B$12","v":6.349999999999985},{"v":8.669083226147194,"d":"8.67"},0.5,-32.01662878328353,{"$nulls":3},{"$f":"J129+Sheet2!I$12","v":5.29166666666667},{"v":6.924017729703486,"d":"6.92"},0.5,-14.240252574209038]
[null,null,{"$f":"C130+Sheet2!B$12","v":6.399999999999985},{"v":7.02825178698302,"d":"7.03"},0.5,-33.616628783283524,{"$nulls":3},{"$f":"J130+Sheet2!I$12","v":5.333333333333337},{"v":6.349601885591113,"d":"6.35"},0.5,-14.648585907542369]
[null,null,{"$f":"C131+Sheet2!B$12","v":6.449999999999985},{"$f":"IF(C132<=R$2,h0-16*C132^2,IF(AND(C132>R$2,C132<=R$3),T$2*(C132-R$2)-16*(C132-R$2)^2,IF(AND(C132>R$3,C132<=R$4),T$3*(C132-R$3)-16*(C132-R$3)^2,IF(AND(C132>R$4,C132<=R$5),T$4*(C132-R$4)-16*(C132-R$4)^2,IF(AND(C132>R$5,C132<=R$6),T$5*(C132-R$5)-16*(C132-R$5)^2,IF(AND(C132>R$6,C132<=R$7),T$6*(C132-R$6)-16*(C132-R$6)^2,IF(AND(C132>R$7,C132<=R$8),T$7*(C132-R$7)-16*(C132-R$7)^2,0)))))))","v":{"v":5.307420347818862,"d":"5.31"}},0.5,{"$f":"IF(C132<=R$2,-32*C132,IF(AND(C132>R$2,C132<=R$3),T$2-32*(C132-R$2),IF(AND(C132>R$3,C132<=R$4),T$3-32*(C132-R$3),IF(AND(C132>R$4,C132<=R$5),T$4-32*(C132-R$4),IF(AND(C132>R$5,C132<=R$6),T$5-32*(C132-R$5),IF(AND(C132>R$6,C132<=R$7),T$6-32*(C132-R$6),IF(AND(C132>R$7,C132<=R$8),T$7-32*(C132-R$7),0)))))))","v":-35.21662878328352},{"$nulls":3},{"$f":"J131+Sheet2!I$12","v":5.3750000000000036},{"$f":"IF(J132<=Z$2,H00-4.8*J132^2,IF(AND(J132>Z$2,J132<=Z$3),AB$2*(J132-Z$2)-4.8*(J132-Z$2)^2,IF(AND(J132>Z$3,J132<=Z$4),AB$3*(J132-Z$3)-4.8*(J132-Z$3)^2,IF(AND(J132>Z$4,J132<=Z$5),AB$4*(J132-Z$4)-4.8*(J132-Z$4)^2,IF(AND(J132>Z$5,J132<=Z$6),AB$5*(J132-Z$5)-4.8*(J132-Z$5)^2,IF(AND(J132>Z$6,J132<=Z$7),AB$6*(J132-Z$6)-4.8*(J132-Z$6)^2,IF(AND(J132>Z$7,J132<=Z$8),AB$7*(J132-Z$7)-4.8*(J132-Z$7)^2,0)))))))","v":{"v":5.758519374812089,"d":"5.76"}},0.5,{"$f":"IF(J132<=Z$2,-gg*J132,IF(AND(J132>Z$2,J132<=Z$3),AB$2-gg*(J132-Z$2),IF(AND(J132>Z$3,J132<=Z$4),AB$3-gg*(J132-Z$3),IF(AND(J132>Z$4,J132<=Z$5),AB$4-gg*(J132-Z$4),IF(AND(J132>Z$5,J132<=Z$6),AB$5-gg*(J132-Z$5),IF(AND(J132>Z$6,J132<=Z$7),AB$6-gg*(J132-Z$6),IF(AND(J132>Z$7,J132<=Z$8),AB$7-gg*(J132-Z$7),0)))))))","v":-15.056919240875708}]
[null,null,{"$f":"C132+Sheet2!B$12","v":6.499999999999985},{"v":3.5065889086546775,"d":"3.51"},0.5,-36.81662878328351,{"$nulls":3},{"$f":"J132+Sheet2!I$12","v":5.4166666666666705},{"v":5.150770197366391,"d":"5.15"},0.5,-15.465252574209046]
[null,null,{"$f":"C133+Sheet2!B$12","v":6.549999999999985},{"v":1.625757469490523,"d":"1.63"},0.5,-38.41662878328351,{"$nulls":3},{"$f":"J133+Sheet2!I$12","v":5.4583333333333375},{"v":4.526354353254028,"d":"4.53"},0.5,-15.873585907542378]
[null,null,{"$f":"C134+Sheet2!B$12","v":6.5999999999999845},{"v":0.3094390734136669,"d":"0.31"},0.5,36.69658249409355,{"$nulls":3},{"$f":"J134+Sheet2!I$12","v":5.500000000000004},{"v":3.8852718424749995,"d":"3.89"},0.5,-16.281919240875716]
[null,null,{"$f":"C135+Sheet2!B$12","v":6.649999999999984},{"v":2.104268198118338,"d":"2.10"},0.5,35.09658249409355,{"$nulls":3},{"$f":"J135+Sheet2!I$12","v":5.541666666666671},{"v":3.227522665029305,"d":"3.23"},0.5,-16.690252574209055]
[null,null,{"$f":"C136+Sheet2!B$12","v":6.699999999999984},{"v":3.8190973228230094,"d":"3.82"},0.5,33.49658249409356,{"$nulls":3},{"$f":"J136+Sheet2!I$12","v":5.583333333333338},{"v":2.5531068209169447,"d":"2.55"},0.5,-17.098585907542386]
[null,null,{"$f":"C137+Sheet2!B$12","v":6.749999999999984},{"v":5.453926447527682,"d":"5.45"},0.5,31.896582494093565,{"$nulls":3},{"$f":"J137+Sheet2!I$12","v":5.625000000000005},{"v":1.8620243101379117,"d":"1.86"},0.5,-17.506919240875725]
[null,null,{"$f":"C138+Sheet2!B$12","v":6.799999999999984},{"v":7.008755572232355,"d":"7.01"},0.5,30.29658249409357,{"$nulls":3},{"$f":"J138+Sheet2!I$12","v":5.666666666666672},{"v":0.15690135714733483,"d":"0.16"},0.5,15.941020109002833]
[null,null,{"$f":"C139+Sheet2!B$12","v":6.849999999999984},{"v":8.48358469693703,"d":"8.48"},0.5,28.696582494093576,{"$nulls":3},{"$f":"J139+Sheet2!I$12","v":5.708333333333339},{"v":0.8128589651655765,"d":"0.81"},0.5,15.532686775669497]
[null,null,{"$f":"C140+Sheet2!B$12","v":6.8999999999999835},{"v":9.878413821641702,"d":"9.88"},0.5,27.09658249409358,{"$nulls":3},{"$f":"J140+Sheet2!I$12","v":5.750000000000006},{"v":1.4521499065171513,"d":"1.45"},0.5,15.12435344233616]
[null,null,{"$f":"C141+Sheet2!B$12","v":6.949999999999983},{"v":11.193242946346377,"d":"11.19"},0.5,25.496582494093587,{"$nulls":3},{"$f":"J141+Sheet2!I$12","v":5.791666666666673},{"v":2.0747741812020593,"d":"2.07"},0.5,14.716020109002823]
[null,null,{"$f":"C142+Sheet2!B$12","v":6.999999999999983},{"v":12.428072071051053,"d":"12.43"},0.5,23.896582494093593,{"$nulls":3},{"$f":"J142+Sheet2!I$12","v":5.83333333333334},{"v":2.6807317892203004,"d":"2.68"},0.5,14.307686775669488]
[null,null,{"$f":"C143+Sheet2!B$12","v":7.049999999999983},{"v":13.582901195755728,"d":"13.58"},0.5,22.2965824940936,{"$nulls":3},{"$f":"J143+Sheet2!I$12","v":5.875000000000007},{"v":3.2700227305718745,"d":"3.27"},0.5,13.899353442336151]
[null,null,{"$f":"C144+Sheet2!B$12","v":7.099999999999983},{"v":14.657730320460406,"d":"14.66"},0.5,20.696582494093605,{"$nulls":3},{"$f":"J144+Sheet2!I$12","v":5.916666666666674},{"v":3.842647005256782,"d":"3.84"},0.5,13.491020109002815]
[null,null,{"$f":"C145+Sheet2!B$12","v":7.149999999999983},{"v":15.652559445165082,"d":"15.65"},0.5,19.09658249409361,{"$nulls":3},{"$f":"J145+Sheet2!I$12","v":5.958333333333341},{"v":4.3986046132750225,"d":"4.40"},0.5,13.08268677566948]
[null,null,{"$f":"C146+Sheet2!B$12","v":7.199999999999982},{"v":16.56738856986976,"d":"16.57"},0.5,17.496582494093616,{"$nulls":3},{"$f":"J146+Sheet2!I$12","v":6.000000000000008},{"v":4.9378955546265955,"d":"4.94"},0.5,12.674353442336143]
[null,null,{"$f":"C147+Sheet2!B$12","v":7.249999999999982},{"v":17.40221769457444,"d":"17.40"},0.5,15.896582494093622,{"$nulls":3},{"$f":"J147+Sheet2!I$12","v":6.041666666666675},{"v":5.460519829311503,"d":"5.46"},0.5,12.266020109002806]
[null,null,{"$f":"C148+Sheet2!B$12","v":7.299999999999982},{"v":18.157046819279113,"d":"18.16"},0.5,14.296582494093627,{"$nulls":3},{"$f":"J148+Sheet2!I$12","v":6.083333333333342},{"v":5.966477437329742,"d":"5.97"},0.5,11.857686775669471]
[null,null,{"$f":"C149+Sheet2!B$12","v":7.349999999999982},{"v":18.831875943983793,"d":"18.83"},0.5,12.696582494093633,{"$nulls":3},{"$f":"J149+Sheet2!I$12","v":6.125000000000009},{"v":6.455768378681314,"d":"6.46"},0.5,11.449353442336134]
[null,null,{"$f":"C150+Sheet2!B$12","v":7.399999999999982},{"v":19.42670506868847,"d":"19.43"},0.5,11.096582494093639,{"$nulls":3},{"$f":"J150+Sheet2!I$12","v":6.166666666666676},{"v":6.92839265336622,"d":"6.93"},0.5,11.041020109002798]
[null,null,{"$f":"C151+Sheet2!B$12","v":7.4499999999999815},{"v":19.941534193393153,"d":"19.94"},0.5,9.496582494093644,{"$nulls":3},{"$f":"J151+Sheet2!I$12","v":6.208333333333343},{"v":7.3843502613844585,"d":"7.38"},0.5,10.632686775669463]
[null,null,{"$f":"C152+Sheet2!B$12","v":7.499999999999981},{"v":20.376363318097834,"d":"20.38"},0.5,7.89658249409365,{"$nulls":3},{"$f":"J152+Sheet2!I$12","v":6.25000000000001},{"v":7.823641202736031,"d":"7.82"},0.5,10.224353442336124]
[null,null,{"$f":"C153+Sheet2!B$12","v":7.549999999999981},{"v":20.731192442802516,"d":"20.73"},0.5,6.296582494093656,{"$nulls":3},{"$f":"J153+Sheet2!I$12","v":6.291666666666677},{"v":8.246265477420936,"d":"8.25"},0.5,9.816020109002789]
[null,null,{"$f":"C154+Sheet2!B$12","v":7.599999999999981},{"v":21.006021567507197,"d":"21.01"},0.5,4.696582494093661,{"$nulls":3},{"$f":"J154+Sheet2!I$12","v":6.333333333333344},{"v":8.652223085439175,"d":"8.65"},0.5,9.407686775669452]
[null,null,{"$f":"C155+Sheet2!B$12","v":7.649999999999981},{"v":21.200850692211883,"d":"21.20"},0.5,3.096582494093667,{"$nulls":3},{"$f":"J155+Sheet2!I$12","v":6.375000000000011},{"v":9.041514026790747,"d":"9.04"},0.5,8.999353442336115]
[null,null,{"$f":"C156+Sheet2!B$12","v":7.699999999999981},{"v":21.315679816916564,"d":"21.32"},0.5,1.4965824940936727,{"$nulls":3},{"$f":"J156+Sheet2!I$12","v":6.416666666666678},{"v":9.41413830147565,"d":"9.41"},0.5,8.59102010900278]
[null,null,{"$f":"C157+Sheet2!B$12","v":7.7499999999999805},{"v":21.35050894162125,"d":"21.35"},0.5,-0.1034175059063216,{"$nulls":3},{"$f":"J157+Sheet2!I$12","v":6.458333333333345},{"v":9.770095909493888,"d":"9.77"},0.5,8.182686775669444]
[null,null,{"$f":"C158+Sheet2!B$12","v":7.79999999999998},{"v":21.30533806632593,"d":"21.31"},0.5,-1.703417505906316,{"$nulls":3},{"$f":"J158+Sheet2!I$12","v":6.5000000000000115},{"v":10.109386850845457,"d":"10.11"},0.5,7.774353442336107]
[null,null,{"$f":"C159+Sheet2!B$12","v":7.84999999999998},{"v":21.180167191030613,"d":"21.18"},0.5,-3.3034175059063102,{"$nulls":3},{"$f":"J159+Sheet2!I$12","v":6.5416666666666785},{"v":10.43201112553036,"d":"10.43"},0.5,7.366020109002772]
[null,null,{"$f":"C160+Sheet2!B$12","v":7.89999999999998},{"v":20.9749963157353,"d":"20.97"},0.5,-4.9034175059063045,{"$nulls":3},{"$f":"J160+Sheet2!I$12","v":6.5833333333333455},{"v":10.737968733548598,"d":"10.74"},0.5,6.957686775669435]
[null,null,{"$f":"C161+Sheet2!B$12","v":7.94999999999998},{"v":20.689825440439986,"d":"20.69"},0.5,-6.503417505906299,{"$nulls":3},{"$f":"J161+Sheet2!I$12","v":6.625000000000012},{"v":11.027259674900169,"d":"11.03"},0.5,6.549353442336098]
[null,null,{"$f":"C162+Sheet2!B$12","v":7.99999999999998},{"v":20.324654565144673,"d":"20.32"},0.5,-8.103417505906293,{"$nulls":3},{"$f":"J162+Sheet2!I$12","v":6.666666666666679},{"v":11.29988394958507,"d":"11.30"},0.5,6.141020109002762]
[null,null,{"$f":"C163+Sheet2!B$12","v":8.04999999999998},{"v":19.87948368984936,"d":"19.88"},0.5,-9.703417505906287,{"$nulls":3},{"$f":"J163+Sheet2!I$12","v":6.708333333333346},{"v":11.555841557603308,"d":"11.56"},0.5,5.732686775669427]
[null,null,{"$f":"C164+Sheet2!B$12","v":8.09999999999998},{"v":19.354312814554035,"d":"19.35"},0.5,-11.30341750590631,{"$nulls":3},{"$f":"J164+Sheet2!I$12","v":6.750000000000013},{"v":11.795132498954878,"d":"11.80"},0.5,5.32435344233609]
[null,null,{"$f":"C165+Sheet2!B$12","v":8.14999999999998},{"v":18.74914193925872,"d":"18.75"},0.5,-12.903417505906333,{"$nulls":3},{"$f":"J165+Sheet2!I$12","v":6.79166666666668},{"v":12.01775677363978,"d":"12.02"},0.5,4.916020109002753]
[null,null,{"$f":"C166+Sheet2!B$12","v":8.199999999999982},{"v":18.063971063963386,"d":"18.06"},0.5,-14.503417505906356,{"$nulls":3},{"$f":"J166+Sheet2!I$12","v":6.833333333333347},{"v":12.223714381658016,"d":"12.22"},0.5,4.507686775669418]
[null,null,{"$f":"C167+Sheet2!B$12","v":8.249999999999982},{"v":17.29880018866806,"d":"17.30"},0.5,-16.10341750590638,{"$nulls":3},{"$f":"J167+Sheet2!I$12","v":6.875000000000014},{"v":12.413005323009584,"d":"12.41"},0.5,4.099353442336081]
[null,null,{"$f":"C168+Sheet2!B$12","v":8.299999999999983},{"v":16.45362931337273,"d":"16.45"},0.5,-17.7034175059064,{"$nulls":3},{"$f":"J168+Sheet2!I$12","v":6.916666666666681},{"v":12.585629597694485,"d":"12.59"},0.5,3.6910201090027446]
[null,null,{"$f":"C169+Sheet2!B$12","v":8.349999999999984},{"v":15.528458438077394,"d":"15.53"},0.5,-19.303417505906424,{"$nulls":3},{"$f":"J169+Sheet2!I$12","v":6.958333333333348},{"v":12.741587205712719,"d":"12.74"},0.5,3.282686775669408]
[null,null,{"$f":"C170+Sheet2!B$12","v":8.399999999999984},{"v":14.523287562782066,"d":"14.52"},0.5,-20.903417505906447,{"$nulls":3},{"$f":"J170+Sheet2!I$12","v":7.000000000000015},{"v":12.880878147064287,"d":"12.88"},0.5,2.874353442336073]
[null,null,{"$f":"C171+Sheet2!B$12","v":8.449999999999985},{"v":13.438116687486719,"d":"13.44"},0.5,-22.50341750590647,{"$nulls":3},{"$f":"J171+Sheet2!I$12","v":7.041666666666682},{"v":13.003502421749188,"d":"13.00"},0.5,2.466020109002736]
[null,null,{"$f":"C172+Sheet2!B$12","v":8.499999999999986},{"v":12.27294581219138,"d":"12.27"},0.5,-24.103417505906492,{"$nulls":3},{"$f":"J172+Sheet2!I$12","v":7.083333333333349},{"v":13.109460029767419,"d":"13.11"},0.5,2.0576867756693993]
[null,null,{"$f":"C173+Sheet2!B$12","v":8.549999999999986},{"v":11.02777493689603,"d":"11.03"},0.5,-25.703417505906515,{"$nulls":3},{"$f":"J173+Sheet2!I$12","v":7.125000000000016},{"v":13.198750971118987,"d":"13.20"},0.5,1.6493534423360643]
[null,null,{"$f":"C174+Sheet2!B$12","v":8.599999999999987},{"v":9.702604061600695,"d":"9.70"},0.5,-27.303417505906538,{"$nulls":3},{"$f":"J174+Sheet2!I$12","v":7.166666666666683},{"v":13.27137524580389,"d":"13.27"},0.5,1.2410201090027275]
[null,null,{"$f":"C175+Sheet2!B$12","v":8.649999999999988},{"v":8.29743318630534,"d":"8.30"},0.5,-28.90341750590656,{"$nulls":3},{"$f":"J175+Sheet2!I$12","v":7.20833333333335},{"v":13.327332853822124,"d":"13.33"},0.5,0.8326867756693908]
[null,null,{"$f":"C176+Sheet2!B$12","v":8.699999999999989},{"v":6.812262311009988,"d":"6.81"},0.5,-30.503417505906583,{"$nulls":3},{"$f":"J176+Sheet2!I$12","v":7.250000000000017},{"v":13.36662379517369,"d":"13.37"},0.5,0.424353442336054]
[null,null,{"$f":"C177+Sheet2!B$12","v":8.74999999999999},{"v":5.247091435714637,"d":"5.25"},0.5,-32.103417505906606,{"$nulls":3},{"$f":"J177+Sheet2!I$12","v":7.291666666666684},{"v":13.389248069858589,"d":"13.39"},0.5,0.01602010900271722]
[null,null,{"$f":"C178+Sheet2!B$12","v":8.79999999999999},{"v":3.6019205604192877,"d":"3.60"},0.5,-33.70341750590663,{"$nulls":3},{"$f":"J178+Sheet2!I$12","v":7.333333333333351},{"v":13.39520567787682,"d":"13.40"},0.5,-0.39231322433061777]
[null,null,{"$f":"C179+Sheet2!B$12","v":8.84999999999999},{"v":1.8767496851239258,"d":"1.88"},0.5,-35.30341750590665,{"$nulls":3},{"$f":"J179+Sheet2!I$12","v":7.375000000000018},{"v":13.384496619228385,"d":"13.38"},0.5,-0.8006465576639528]
[null,null,{"$f":"C180+Sheet2!B$12","v":8.899999999999991},{"v":0.07157880982856568,"d":"0.07"},0.5,-36.903417505906674,{"$nulls":3},{"$f":"J180+Sheet2!I$12","v":7.416666666666685},{"v":13.357120893913285,"d":"13.36"},0.5,-1.2089798909972913]
[null,null,{"$f":"C181+Sheet2!B$12","v":8.949999999999992},{"v":1.6153091758452458,"d":"1.62"},0.5,32.83986898205394,{"$nulls":3},{"$f":"J181+Sheet2!I$12","v":7.458333333333352},{"v":13.313078501931516,"d":"13.31"},0.5,-1.6173132243306263]
[null,null,{"$f":"C182+Sheet2!B$12","v":8.999999999999993},{"v":3.217302624947965,"d":"3.22"},0.5,31.23986898205392,{"$nulls":3},{"$f":"J182+Sheet2!I$12","v":7.500000000000019},{"v":13.25236944328308,"d":"13.25"},0.5,-2.0256465576639613]
[null,null,{"$f":"C183+Sheet2!B$12","v":9.049999999999994},{"v":4.739296074050682,"d":"4.74"},0.5,29.639868982053898,{"$nulls":3},{"$f":"J183+Sheet2!I$12","v":7.541666666666686},{"v":13.174993717967979,"d":"13.17"},0.5,-2.4339798909973]
[null,null,{"$f":"C184+Sheet2!B$12","v":9.099999999999994},{"v":6.181289523153397,"d":"6.18"},0.5,28.039868982053875,{"$nulls":3},{"$f":"J184+Sheet2!I$12","v":7.583333333333353},{"v":13.08095132598621,"d":"13.08"},0.5,-2.842313224330635]
[null,null,{"$f":"C185+Sheet2!B$12","v":9.149999999999995},{"v":7.54328297225611,"d":"7.54"},0.5,26.439868982053852,{"$nulls":3},{"$f":"J185+Sheet2!I$12","v":7.6250000000000195},{"v":12.970242267337774,"d":"12.97"},0.5,-3.25064655766397]
[null,null,{"$f":"C186+Sheet2!B$12","v":9.199999999999996},{"v":8.82527642135882,"d":"8.83"},0.5,24.83986898205383,{"$nulls":3},{"$f":"J186+Sheet2!I$12","v":7.6666666666666865},{"v":12.842866542022673,"d":"12.84"},0.5,-3.6589798909973084]
[null,null,{"$f":"C187+Sheet2!B$12","v":9.249999999999996},{"v":10.027269870461527,"d":"10.03"},0.5,23.239868982053807,{"$nulls":3},{"$f":"J187+Sheet2!I$12","v":7.7083333333333535},{"v":12.698824150040902,"d":"12.70"},0.5,-4.067313224330643]
[null,null,{"$f":"C188+Sheet2!B$12","v":9.299999999999997},{"v":11.149263319564234,"d":"11.15"},0.5,21.639868982053784,{"$nulls":3},{"$f":"J188+Sheet2!I$12","v":7.75000000000002},{"v":12.538115091392466,"d":"12.54"},0.5,-4.475646557663982]
[null,null,{"$f":"C189+Sheet2!B$12","v":9.349999999999998},{"v":12.191256768666936,"d":"12.19"},0.5,20.03986898205376,{"$nulls":3},{"$f":"J189+Sheet2!I$12","v":7.791666666666687},{"v":12.360739366077361,"d":"12.36"},0.5,-4.883979890997317]
[null,null,{"$f":"C190+Sheet2!B$12","v":9.399999999999999},{"v":13.153250217769637,"d":"13.15"},0.5,18.43986898205374,{"$nulls":3},{"$f":"J190+Sheet2!I$12","v":7.833333333333354},{"v":12.166696974095593,"d":"12.17"},0.5,-5.292313224330652]
[null,null,{"$f":"C191+Sheet2!B$12","v":9.45},{"v":14.035243666872336,"d":"14.04"},0.5,16.839868982053716,{"$nulls":3},{"$f":"J191+Sheet2!I$12","v":7.875000000000021},{"v":11.955987915447157,"d":"11.96"},0.5,-5.70064655766399]
[null,null,{"$f":"C192+Sheet2!B$12","v":9.5},{"v":14.837237115975032,"d":"14.84"},0.5,15.239868982053693,{"$nulls":3},{"$f":"J192+Sheet2!I$12","v":7.916666666666688},{"v":11.72861219013205,"d":"11.73"},0.5,-6.108979890997325]
[null,null,{"$f":"C193+Sheet2!B$12","v":9.55},{"v":15.559230565077726,"d":"15.56"},0.5,13.63986898205367,{"$nulls":3},{"$f":"J193+Sheet2!I$12","v":7.958333333333355},{"v":11.484569798150279,"d":"11.48"},0.5,-6.51731322433066]
[null,null,{"$f":"C194+Sheet2!B$12","v":9.600000000000001},{"v":16.201224014180422,"d":"16.20"},0.5,12.039868982053648,{"$nulls":3},{"$f":"J194+Sheet2!I$12","v":8.000000000000021},{"v":11.223860739501848,"d":"11.22"},0.5,-6.925646557663988]
[null,null,{"$f":"C195+Sheet2!B$12","v":9.650000000000002},{"$f":"IF(C196<=R$2,h0-16*C196^2,IF(AND(C196>R$2,C196<=R$3),T$2*(C196-R$2)-16*(C196-R$2)^2,IF(AND(C196>R$3,C196<=R$4),T$3*(C196-R$3)-16*(C196-R$3)^2,IF(AND(C196>R$4,C196<=R$5),T$4*(C196-R$4)-16*(C196-R$4)^2,IF(AND(C196>R$5,C196<=R$6),T$5*(C196-R$5)-16*(C196-R$5)^2,IF(AND(C196>R$6,C196<=R$7),T$6*(C196-R$6)-16*(C196-R$6)^2,IF(AND(C196>R$7,C196<=R$8),T$7*(C196-R$7)-16*(C196-R$7)^2,0)))))))","v":{"v":16.763217463283112,"d":"16.76"}},0.5,{"$f":"IF(C196<=R$2,-32*C196,IF(AND(C196>R$2,C196<=R$3),T$2-32*(C196-R$2),IF(AND(C196>R$3,C196<=R$4),T$3-32*(C196-R$3),IF(AND(C196>R$4,C196<=R$5),T$4-32*(C196-R$4),IF(AND(C196>R$5,C196<=R$6),T$5-32*(C196-R$5),IF(AND(C196>R$6,C196<=R$7),T$6-32*(C196-R$6),IF(AND(C196>R$7,C196<=R$8),T$7-32*(C196-R$7),0)))))))","v":10.439868982053625},{"$nulls":3},{"$f":"J195+Sheet2!I$12","v":8.041666666666687},{"$f":"IF(J196<=Z$2,H00-4.8*J196^2,IF(AND(J196>Z$2,J196<=Z$3),AB$2*(J196-Z$2)-4.8*(J196-Z$2)^2,IF(AND(J196>Z$3,J196<=Z$4),AB$3*(J196-Z$3)-4.8*(J196-Z$3)^2,IF(AND(J196>Z$4,J196<=Z$5),AB$4*(J196-Z$4)-4.8*(J196-Z$4)^2,IF(AND(J196>Z$5,J196<=Z$6),AB$5*(J196-Z$5)-4.8*(J196-Z$5)^2,IF(AND(J196>Z$6,J196<=Z$7),AB$6*(J196-Z$6)-4.8*(J196-Z$6)^2,IF(AND(J196>Z$7,J196<=Z$8),AB$7*(J196-Z$7)-4.8*(J196-Z$7)^2,0)))))))","v":{"v":10.946485014186745,"d":"10.95"}},0.5,{"$f":"IF(J196<=Z$2,-gg*J196,IF(AND(J196>Z$2,J196<=Z$3),AB$2-gg*(J196-Z$2),IF(AND(J196>Z$3,J196<=Z$4),AB$3-gg*(J196-Z$3),IF(AND(J196>Z$4,J196<=Z$5),AB$4-gg*(J196-Z$4),IF(AND(J196>Z$5,J196<=Z$6),AB$5-gg*(J196-Z$5),IF(AND(J196>Z$6,J196<=Z$7),AB$6-gg*(J196-Z$6),IF(AND(J196>Z$7,J196<=Z$8),AB$7-gg*(J196-Z$7),0)))))))","v":-7.333979890997316}]
[null,null,{"$f":"C196+Sheet2!B$12","v":9.700000000000003},{"v":17.2452109123858,"d":"17.25"},0.5,8.839868982053602,{"$nulls":3},{"$f":"J196+Sheet2!I$12","v":8.083333333333353},{"v":10.652442622204983,"d":"10.65"},0.5,-7.742313224330644]
[null,null,{"$f":"C197+Sheet2!B$12","v":9.750000000000004},{"v":17.647204361488484,"d":"17.65"},0.5,7.239868982053579,{"$nulls":3},{"$f":"J197+Sheet2!I$12","v":8.12500000000002},{"v":10.341733563556552,"d":"10.34"},0.5,-8.150646557663972]
[null,null,{"$f":"C198+Sheet2!B$12","v":9.800000000000004},{"v":17.96919781059117,"d":"17.97"},0.5,5.639868982053557,{"$nulls":3},{"$f":"J198+Sheet2!I$12","v":8.166666666666686},{"v":10.014357838241455,"d":"10.01"},0.5,-8.5589798909973]
[null,null,{"$f":"C199+Sheet2!B$12","v":9.850000000000005},{"v":18.211191259693848,"d":"18.21"},0.5,4.039868982053534,{"$nulls":3},{"$f":"J199+Sheet2!I$12","v":8.208333333333352},{"v":9.670315446259693,"d":"9.67"},0.5,-8.967313224330628]
[null,null,{"$f":"C200+Sheet2!B$12","v":9.900000000000006},{"v":18.373184708796522,"d":"18.37"},0.5,2.439868982053511,{"$nulls":3},{"$f":"J200+Sheet2!I$12","v":8.250000000000018},{"v":9.309606387611261,"d":"9.31"},0.5,-9.375646557663956]
[null,null,{"$f":"C201+Sheet2!B$12","v":9.950000000000006},{"v":18.4551781578992,"d":"18.46"},0.5,0.8398689820534884,{"$nulls":3},{"$f":"J201+Sheet2!I$12","v":8.291666666666684},{"v":8.932230662296163,"d":"8.93"},0.5,-9.783979890997283]
[null,null,{"$f":"C202+Sheet2!B$12","v":10.000000000000007},{"v":18.45717160700188,"d":"18.46"},0.5,-0.7601310179465344,{"$nulls":3},{"$f":"J202+Sheet2!I$12","v":8.33333333333335},{"v":8.5381882703144,"d":"8.54"},0.5,-10.192313224330611]
[null,null,{"$f":"C203+Sheet2!B$12","v":10.050000000000008},{"v":18.379165056104547,"d":"18.38"},0.5,-2.360131017946557,{"$nulls":3},{"$f":"J203+Sheet2!I$12","v":8.375000000000016},{"v":8.127479211665978,"d":"8.13"},0.5,-10.600646557663936]
[null,null,{"$f":"C204+Sheet2!B$12","v":10.100000000000009},{"v":18.221158505207217,"d":"18.22"},0.5,-3.96013101794658,{"$nulls":3},{"$f":"J204+Sheet2!I$12","v":8.416666666666682},{"v":7.700103486350891,"d":"7.70"},0.5,-11.008979890997264]
[null,null,{"$f":"C205+Sheet2!B$12","v":10.15000000000001},{"v":17.983151954309882,"d":"17.98"},0.5,-5.560131017946603,{"$nulls":3},{"$f":"J205+Sheet2!I$12","v":8.458333333333348},{"v":7.25606109436913,"d":"7.26"},0.5,-11.417313224330591]
[null,null,{"$f":"C206+Sheet2!B$12","v":10.20000000000001},{"v":17.66514540341255,"d":"17.67"},0.5,-7.160131017946625,{"$nulls":3},{"$f":"J206+Sheet2!I$12","v":8.500000000000014},{"v":6.795352035720704,"d":"6.80"},0.5,-11.82564655766392]
[null,null,{"$f":"C207+Sheet2!B$12","v":10.25000000000001},{"v":17.26713885251521,"d":"17.27"},0.5,-8.760131017946648,{"$nulls":3},{"$f":"J207+Sheet2!I$12","v":8.54166666666668},{"v":6.317976310405605,"d":"6.32"},0.5,-12.233979890997247]
[null,null,{"$f":"C208+Sheet2!B$12","v":10.300000000000011},{"v":16.789132301617872,"d":"16.79"},0.5,-10.36013101794667,{"$nulls":3},{"$f":"J208+Sheet2!I$12","v":8.583333333333346},{"v":5.8239339184238474,"d":"5.82"},0.5,-12.642313224330575]
[null,null,{"$f":"C209+Sheet2!B$12","v":10.350000000000012},{"v":16.231125750720523,"d":"16.23"},0.5,-11.960131017946694,{"$nulls":3},{"$f":"J209+Sheet2!I$12","v":8.625000000000012},{"v":5.313224859775424,"d":"5.31"},0.5,-13.050646557663903]
[null,null,{"$f":"C210+Sheet2!B$12","v":10.400000000000013},{"v":15.593119199823185,"d":"15.59"},0.5,-13.560131017946716,{"$nulls":3},{"$f":"J210+Sheet2!I$12","v":8.666666666666679},{"v":4.785849134460335,"d":"4.79"},0.5,-13.458979890997231]
[null,null,{"$f":"C211+Sheet2!B$12","v":10.450000000000014},{"v":14.875112648925835,"d":"14.88"},0.5,-15.160131017946739,{"$nulls":3},{"$f":"J211+Sheet2!I$12","v":8.708333333333345},{"v":4.241806742478573,"d":"4.24"},0.5,-13.867313224330559]
[null,null,{"$f":"C212+Sheet2!B$12","v":10.500000000000014},{"v":14.077106098028487,"d":"14.08"},0.5,-16.76013101794676,{"$nulls":3},{"$f":"J212+Sheet2!I$12","v":8.75000000000001},{"v":3.681097683830153,"d":"3.68"},0.5,-14.275646557663887]
[null,null,{"$f":"C213+Sheet2!B$12","v":10.550000000000015},{"v":13.199099547131134,"d":"13.20"},0.5,-18.360131017946784,{"$nulls":3},{"$f":"J213+Sheet2!I$12","v":8.791666666666677},{"v":3.1037219585150595,"d":"3.10"},0.5,-14.683979890997215]
[null,null,{"$f":"C214+Sheet2!B$12","v":10.600000000000016},{"v":12.241092996233782,"d":"12.24"},0.5,-19.960131017946807,{"$nulls":3},{"$f":"J214+Sheet2!I$12","v":8.833333333333343},{"v":2.5096795665333005,"d":"2.51"},0.5,-15.092313224330539]
[null,null,{"$f":"C215+Sheet2!B$12","v":10.650000000000016},{"v":11.203086445336432,"d":"11.20"},0.5,-21.56013101794683,{"$nulls":3},{"$f":"J215+Sheet2!I$12","v":8.875000000000009},{"v":1.8989705078848829,"d":"1.90"},0.5,-15.500646557663867]
[null,null,{"$f":"C216+Sheet2!B$12","v":10.700000000000017},{"v":10.085079894439069,"d":"10.09"},0.5,-23.160131017946853,{"$nulls":3},{"$f":"J216+Sheet2!I$12","v":8.916666666666675},{"v":1.2715947825697995,"d":"1.27"},0.5,-15.908979890997195]
[null,null,{"$f":"C217+Sheet2!B$12","v":10.750000000000018},{"v":8.887073343541715,"d":"8.89"},0.5,-24.760131017946875,{"$nulls":3},{"$f":"J217+Sheet2!I$12","v":8.958333333333341},{"v":0.40865619418511095,"d":"0.41"},0.5,14.153332190560198]
[null,null,{"$f":"C218+Sheet2!B$12","v":10.800000000000018},{"v":7.609066792644356,"d":"7.61"},0.5,-26.360131017946898,{"$nulls":3},{"$f":"J218+Sheet2!I$12","v":9.000000000000007},{"v":0.9902832424542093,"d":"0.99"},0.5,13.74499885722687]
[null,null,{"$f":"C219+Sheet2!B$12","v":10.85000000000002},{"v":6.251060241746977,"d":"6.25"},0.5,-27.96013101794692,{"$nulls":3},{"$f":"J219+Sheet2!I$12","v":9.041666666666673},{"v":1.5552436240566414,"d":"1.56"},0.5,13.336665523893542]
[null,null,{"$f":"C220+Sheet2!B$12","v":10.90000000000002},{"v":4.813053690849614,"d":"4.81"},0.5,-29.560131017946944,{"$nulls":3},{"$f":"J220+Sheet2!I$12","v":9.08333333333334},{"v":2.1035373389924077,"d":"2.10"},0.5,12.928332190560214]
[null,null,{"$f":"C221+Sheet2!B$12","v":10.95000000000002},{"v":3.2950471399522456,"d":"3.30"},0.5,-31.160131017946966,{"$nulls":3},{"$f":"J221+Sheet2!I$12","v":9.125000000000005},{"v":2.6351643872615074,"d":"2.64"},0.5,12.519998857226886]
[null,null,{"$f":"C222+Sheet2!B$12","v":11.000000000000021},{"v":1.697040589054879,"d":"1.70"},0.5,-32.76013101794699,{"$nulls":3},{"$f":"J222+Sheet2!I$12","v":9.166666666666671},{"v":3.150124768863941,"d":"3.15"},0.5,12.11166552389356]
[null,null,{"$f":"C223+Sheet2!B$12","v":11.050000000000022},{"v":0.019034038157499822,"d":"0.02"},0.5,-34.36013101794701,{"$nulls":3},{"$f":"J223+Sheet2!I$12","v":9.208333333333337},{"v":3.6484184837997082,"d":"3.65"},0.5,11.703332190560232]
[null,null,{"$f":"C224+Sheet2!B$12","v":11.100000000000023},{"v":1.5417451440940888,"d":"1.54"},0.5,30.38912541585633,{"$nulls":3},{"$f":"J224+Sheet2!I$12","v":9.250000000000004},{"v":4.130045532068809,"d":"4.13"},0.5,11.294998857226904]
[null,null,{"$f":"C225+Sheet2!B$12","v":11.150000000000023},{"v":3.0212014148869257,"d":"3.02"},0.5,28.789125415856308,{"$nulls":3},{"$f":"J225+Sheet2!I$12","v":9.29166666666667},{"v":4.595005913671244,"d":"4.60"},0.5,10.886665523893576]
[null,null,{"$f":"C226+Sheet2!B$12","v":11.200000000000024},{"v":4.42065768567976,"d":"4.42"},0.5,27.189125415856285,{"$nulls":3},{"$f":"J226+Sheet2!I$12","v":9.333333333333336},{"v":5.043299628607014,"d":"5.04"},0.5,10.478332190560248]
[null,null,{"$f":"C227+Sheet2!B$12","v":11.250000000000025},{"v":5.740113956472593,"d":"5.74"},0.5,25.589125415856262,{"$nulls":3},{"$f":"J227+Sheet2!I$12","v":9.375000000000002},{"v":5.474926676876116,"d":"5.47"},0.5,10.06999885722692]
[null,null,{"$f":"C228+Sheet2!B$12","v":11.300000000000026},{"v":6.979570227265423,"d":"6.98"},0.5,23.98912541585624,{"$nulls":3},{"$f":"J228+Sheet2!I$12","v":9.416666666666668},{"v":5.889887058478552,"d":"5.89"},0.5,9.661665523893593]
[null,null,{"$f":"C229+Sheet2!B$12","v":11.350000000000026},{"v":8.139026498058252,"d":"8.14"},0.5,22.389125415856217,{"$nulls":3},{"$f":"J229+Sheet2!I$12","v":9.458333333333334},{"v":6.2881807734143225,"d":"6.29"},0.5,9.253332190560267]
[null,null,{"$f":"C230+Sheet2!B$12","v":11.400000000000027},{"v":9.218482768851077,"d":"9.22"},0.5,20.789125415856194,{"$nulls":3},{"$f":"J230+Sheet2!I$12","v":9.5},{"v":6.669807821683427,"d":"6.67"},0.5,8.844998857226939]
[null,null,{"$f":"C231+Sheet2!B$12","v":11.450000000000028},{"v":10.2179390396439,"d":"10.22"},0.5,19.18912541585617,{"$nulls":3},{"$f":"J231+Sheet2!I$12","v":9.541666666666666},{"v":7.034768203285864,"d":"7.03"},0.5,8.43666552389361]
[null,null,{"$f":"C232+Sheet2!B$12","v":11.500000000000028},{"v":11.137395310436721,"d":"11.14"},0.5,17.58912541585615,{"$nulls":3},{"$f":"J232+Sheet2!I$12","v":9.583333333333332},{"v":7.383061918221637,"d":"7.38"},0.5,8.028332190560285]
[null,null,{"$f":"C233+Sheet2!B$12","v":11.55000000000003},{"v":11.976851581229539,"d":"11.98"},0.5,15.989125415856126,{"$nulls":3},{"$f":"J233+Sheet2!I$12","v":9.624999999999998},{"v":7.714688966490742,"d":"7.71"},0.5,7.619998857226956]
[null,null,{"$f":"C234+Sheet2!B$12","v":11.60000000000003},{"v":12.736307852022357,"d":"12.74"},0.5,14.389125415856103,{"$nulls":3},{"$f":"J234+Sheet2!I$12","v":9.666666666666664},{"v":8.02964934809318,"d":"8.03"},0.5,7.211665523893628]
[null,null,{"$f":"C235+Sheet2!B$12","v":11.65000000000003},{"v":13.415764122815172,"d":"13.42"},0.5,12.78912541585608,{"$nulls":3},{"$f":"J235+Sheet2!I$12","v":9.70833333333333},{"v":8.327943063028954,"d":"8.33"},0.5,6.803332190560301]
[null,null,{"$f":"C236+Sheet2!B$12","v":11.700000000000031},{"v":14.015220393607983,"d":"14.02"},0.5,11.189125415856058,{"$nulls":3},{"$f":"J236+Sheet2!I$12","v":9.749999999999996},{"v":8.60957011129806,"d":"8.61"},0.5,6.394998857226973]
[null,null,{"$f":"C237+Sheet2!B$12","v":11.750000000000032},{"v":14.534676664400795,"d":"14.53"},0.5,9.589125415856035,{"$nulls":3},{"$f":"J237+Sheet2!I$12","v":9.791666666666663},{"v":8.874530492900501,"d":"8.87"},0.5,5.986665523893645]
[null,null,{"$f":"C238+Sheet2!B$12","v":11.800000000000033},{"v":14.974132935193598,"d":"14.97"},0.5,7.989125415856012,{"$nulls":3},{"$f":"J238+Sheet2!I$12","v":9.833333333333329},{"v":9.122824207836278,"d":"9.12"},0.5,5.578332190560317]
[null,null,{"$f":"C239+Sheet2!B$12","v":11.850000000000033},{"v":15.333589205986405,"d":"15.33"},0.5,6.38912541585599,{"$nulls":3},{"$f":"J239+Sheet2!I$12","v":9.874999999999995},{"v":9.354451256105385,"d":"9.35"},0.5,5.169998857226991]
[null,null,{"$f":"C240+Sheet2!B$12","v":11.900000000000034},{"v":15.613045476779208,"d":"15.61"},0.5,4.789125415855967,{"$nulls":3},{"$f":"J240+Sheet2!I$12","v":9.91666666666666},{"v":9.569411637707827,"d":"9.57"},0.5,4.761665523893663]
[null,null,{"$f":"C241+Sheet2!B$12","v":11.950000000000035},{"v":15.812501747572009,"d":"15.81"},0.5,3.189125415855944,{"$nulls":3},{"$f":"J241+Sheet2!I$12","v":9.958333333333327},{"v":9.767705352643603,"d":"9.77"},0.5,4.3533321905603355]
[null,null,{"$f":"C242+Sheet2!B$12","v":12.000000000000036},{"v":15.931958018364808,"d":"15.93"},0.5,1.5891254158559214,{"$nulls":3},{"$f":"J242+Sheet2!I$12","v":9.999999999999993},{"v":9.949332400912713,"d":"9.95"},0.5,3.9449988572270076]
[null,null,{"$f":"C243+Sheet2!B$12","v":12.050000000000036},{"v":15.971414289157604,"d":"15.97"},0.5,-0.010874584144101362,{"$nulls":3},{"$f":"J243+Sheet2!I$12","v":10.041666666666659},{"v":10.114292782515157,"d":"10.11"},0.5,3.5366655238936797]
[null,null,{"$f":"C244+Sheet2!B$12","v":12.100000000000037},{"v":15.930870559950396,"d":"15.93"},0.5,-1.610874584144124,{"$nulls":3},{"$f":"J244+Sheet2!I$12","v":10.083333333333325},{"v":10.262586497450933,"d":"10.26"},0.5,3.1283321905603536]
[null,null,{"$f":"C245+Sheet2!B$12","v":12.150000000000038},{"v":15.810326830743186,"d":"15.81"},0.5,-3.210874584144147,{"$nulls":3},{"$f":"J245+Sheet2!I$12","v":10.124999999999991},{"v":10.394213545720044,"d":"10.39"},0.5,2.7199988572270257]
[null,null,{"$f":"C246+Sheet2!B$12","v":12.200000000000038},{"v":15.609783101535978,"d":"15.61"},0.5,-4.81087458414417,{"$nulls":3},{"$f":"J246+Sheet2!I$12","v":10.166666666666657},{"v":10.50917392732249,"d":"10.51"},0.5,2.311665523893698]
[null,null,{"$f":"C247+Sheet2!B$12","v":12.250000000000039},{"v":15.329239372328765,"d":"15.33"},0.5,-6.410874584144192,{"$nulls":3},{"$f":"J247+Sheet2!I$12","v":10.208333333333323},{"v":10.607467642258268,"d":"10.61"},0.5,1.90333219056037]
[null,null,{"$f":"C248+Sheet2!B$12","v":12.30000000000004},{"v":14.96869564312155,"d":"14.97"},0.5,-8.010874584144215,{"$nulls":3},{"$f":"J248+Sheet2!I$12","v":10.24999999999999},{"v":10.68909469052738,"d":"10.69"},0.5,1.494998857227042]
[null,null,{"$f":"C249+Sheet2!B$12","v":12.35000000000004},{"v":14.528151913914332,"d":"14.53"},0.5,-9.610874584144238,{"$nulls":3},{"$f":"J249+Sheet2!I$12","v":10.291666666666655},{"v":10.754055072129828,"d":"10.75"},0.5,1.0866655238937142]
[null,null,{"$f":"C250+Sheet2!B$12","v":12.400000000000041},{"v":14.007608184707113,"d":"14.01"},0.5,-11.21087458414426,{"$nulls":3},{"$f":"J250+Sheet2!I$12","v":10.333333333333321},{"v":10.80234878706561,"d":"10.80"},0.5,0.6783321905603881]
[null,null,{"$f":"C251+Sheet2!B$12","v":12.450000000000042},{"v":13.407064455499892,"d":"13.41"},0.5,-12.810874584144283,{"$nulls":3},{"$f":"J251+Sheet2!I$12","v":10.374999999999988},{"v":10.833975835334721,"d":"10.83"},0.5,0.2699988572270602]
[null,null,{"$f":"C252+Sheet2!B$12","v":12.500000000000043},{"v":12.72652072629267,"d":"12.73"},0.5,-14.410874584144306,{"$nulls":3},{"$f":"J252+Sheet2!I$12","v":10.416666666666654},{"v":10.84893621693717,"d":"10.85"},0.5,-0.1383344761062677]
[null,null,{"$f":"C253+Sheet2!B$12","v":12.550000000000043},{"v":11.965976997085441,"d":"11.97"},0.5,-16.01087458414433,{"$nulls":3},{"$f":"J253+Sheet2!I$12","v":10.45833333333332},{"v":10.847229931872953,"d":"10.85"},0.5,-0.5466678094395956]
[null,null,{"$f":"C254+Sheet2!B$12","v":12.600000000000044},{"v":11.125433267878208,"d":"11.13"},0.5,-17.61087458414435,{"$nulls":3},{"$f":"J254+Sheet2!I$12","v":10.499999999999986},{"v":10.828856980142065,"d":"10.83"},0.5,-0.9550011427729235]
[null,null,{"$f":"C255+Sheet2!B$12","v":12.650000000000045},{"v":10.204889538670976,"d":"10.20"},0.5,-19.210874584144374,{"$nulls":3},{"$f":"J255+Sheet2!I$12","v":10.541666666666652},{"v":10.793817361744516,"d":"10.79"},0.5,-1.3633344761062496]
[null,null,{"$f":"C256+Sheet2!B$12","v":12.700000000000045},{"v":9.204345809463746,"d":"9.20"},0.5,-20.810874584144397,{"$nulls":3},{"$f":"J256+Sheet2!I$12","v":10.583333333333318},{"v":10.7421110766803,"d":"10.74"},0.5,-1.7716678094395775]
[null,null,{"$f":"C257+Sheet2!B$12","v":12.750000000000046},{"v":8.12380208025651,"d":"8.12"},0.5,-22.41087458414442,{"$nulls":3},{"$f":"J257+Sheet2!I$12","v":10.624999999999984},{"v":10.673738124949415,"d":"10.67"},0.5,-2.1800011427729054]
[null,null,{"$f":"C258+Sheet2!B$12","v":12.800000000000047},{"v":6.963258351049269,"d":"6.96"},0.5,-24.010874584144442,{"$nulls":3},{"$f":"J258+Sheet2!I$12","v":10.66666666666665},{"v":10.588698506551868,"d":"10.59"},0.5,-2.5883344761062332]
[null,null,{"$f":"C259+Sheet2!B$12","v":12.850000000000048},{"$f":"IF(C260<=R$2,h0-16*C260^2,IF(AND(C260>R$2,C260<=R$3),T$2*(C260-R$2)-16*(C260-R$2)^2,IF(AND(C260>R$3,C260<=R$4),T$3*(C260-R$3)-16*(C260-R$3)^2,IF(AND(C260>R$4,C260<=R$5),T$4*(C260-R$4)-16*(C260-R$4)^2,IF(AND(C260>R$5,C260<=R$6),T$5*(C260-R$5)-16*(C260-R$5)^2,IF(AND(C260>R$6,C260<=R$7),T$6*(C260-R$6)-16*(C260-R$6)^2,IF(AND(C260>R$7,C260<=R$8),T$7*(C260-R$7)-16*(C260-R$7)^2,0)))))))","v":{"v":5.72271462184203,"d":"5.72"}},0.5,{"$f":"IF(C260<=R$2,-32*C260,IF(AND(C260>R$2,C260<=R$3),T$2-32*(C260-R$2),IF(AND(C260>R$3,C260<=R$4),T$3-32*(C260-R$3),IF(AND(C260>R$4,C260<=R$5),T$4-32*(C260-R$4),IF(AND(C260>R$5,C260<=R$6),T$5-32*(C260-R$5),IF(AND(C260>R$6,C260<=R$7),T$6-32*(C260-R$6),IF(AND(C260>R$7,C260<=R$8),T$7-32*(C260-R$7),0)))))))","v":-25.610874584144465},{"$nulls":3},{"$f":"J259+Sheet2!I$12","v":10.708333333333316},{"$f":"IF(J260<=Z$2,H00-4.8*J260^2,IF(AND(J260>Z$2,J260<=Z$3),AB$2*(J260-Z$2)-4.8*(J260-Z$2)^2,IF(AND(J260>Z$3,J260<=Z$4),AB$3*(J260-Z$3)-4.8*(J260-Z$3)^2,IF(AND(J260>Z$4,J260<=Z$5),AB$4*(J260-Z$4)-4.8*(J260-Z$4)^2,IF(AND(J260>Z$5,J260<=Z$6),AB$5*(J260-Z$5)-4.8*(J260-Z$5)^2,IF(AND(J260>Z$6,J260<=Z$7),AB$6*(J260-Z$6)-4.8*(J260-Z$6)^2,IF(AND(J260>Z$7,J260<=Z$8),AB$7*(J260-Z$7)-4.8*(J260-Z$7)^2,0)))))))","v":{"v":10.486992221487652,"d":"10.49"}},0.5,{"$f":"IF(J260<=Z$2,-gg*J260,IF(AND(J260>Z$2,J260<=Z$3),AB$2-gg*(J260-Z$2),IF(AND(J260>Z$3,J260<=Z$4),AB$3-gg*(J260-Z$3),IF(AND(J260>Z$4,J260<=Z$5),AB$4-gg*(J260-Z$4),IF(AND(J260>Z$5,J260<=Z$6),AB$5-gg*(J260-Z$5),IF(AND(J260>Z$6,J260<=Z$7),AB$6-gg*(J260-Z$6),IF(AND(J260>Z$7,J260<=Z$8),AB$7-gg*(J260-Z$7),0)))))))","v":-2.996667809439561}]
[null,null,{"$f":"C260+Sheet2!B$12","v":12.900000000000048},{"v":4.402170892634786,"d":"4.40"},0.5,-27.210874584144488,{"$nulls":3},{"$f":"J260+Sheet2!I$12","v":10.749999999999982},{"v":10.368619269756767,"d":"10.37"},0.5,-3.405001142772889]
[null,null,{"$f":"C261+Sheet2!B$12","v":12.950000000000049},{"v":3.0016271634275427,"d":"3.00"},0.5,-28.81087458414451,{"$nulls":3},{"$f":"J261+Sheet2!I$12","v":10.791666666666648},{"v":10.233579651359221,"d":"10.23"},0.5,-3.813334476106217]
[null,null,{"$f":"C262+Sheet2!B$12","v":13.00000000000005},{"v":1.5210834342202944,"d":"1.52"},0.5,-30.410874584144533,{"$nulls":3},{"$f":"J262+Sheet2!I$12","v":10.833333333333314},{"v":10.08187336629501,"d":"10.08"},0.5,-4.221667809439545]
[null,null,{"$f":"C263+Sheet2!B$12","v":13.05000000000005},{"v":0.03665109157616462,"d":"0.04"},0.5,29.69393389929256,{"$nulls":3},{"$f":"J263+Sheet2!I$12","v":10.87499999999998},{"v":9.913500414564126,"d":"9.91"},0.5,-4.630001142772869]
[null,null,{"$f":"C264+Sheet2!B$12","v":13.100000000000051},{"v":1.4813477865408127,"d":"1.48"},0.5,28.093933899292537,{"$nulls":3},{"$f":"J264+Sheet2!I$12","v":10.916666666666647},{"v":9.72846079616658,"d":"9.73"},0.5,-5.038334476106197]
[null,null,{"$f":"C265+Sheet2!B$12","v":13.150000000000052},{"v":2.8460444815054586,"d":"2.85"},0.5,26.493933899292514,{"$nulls":3},{"$f":"J265+Sheet2!I$12","v":10.958333333333313},{"v":9.526754511102368,"d":"9.53"},0.5,-5.446667809439525]
[null,null,{"$f":"C266+Sheet2!B$12","v":13.200000000000053},{"v":4.130741176470102,"d":"4.13"},0.5,24.89393389929249,{"$nulls":3},{"$f":"J266+Sheet2!I$12","v":10.999999999999979},{"v":9.30838155937149,"d":"9.31"},0.5,-5.855001142772853]
[null,null,{"$f":"C267+Sheet2!B$12","v":13.250000000000053},{"v":5.335437871434743,"d":"5.34"},0.5,23.29393389929247,{"$nulls":3},{"$f":"J267+Sheet2!I$12","v":11.041666666666645},{"v":9.073341940973943,"d":"9.07"},0.5,-6.263334476106181]
[null,null,{"$f":"C268+Sheet2!B$12","v":13.300000000000054},{"v":6.460134566399382,"d":"6.46"},0.5,21.693933899292446,{"$nulls":3},{"$f":"J268+Sheet2!I$12","v":11.08333333333331},{"v":8.821635655909734,"d":"8.82"},0.5,-6.6716678094395085]
[null,null,{"$f":"C269+Sheet2!B$12","v":13.350000000000055},{"v":7.50483126136402,"d":"7.50"},0.5,20.093933899292423,{"$nulls":3},{"$f":"J269+Sheet2!I$12","v":11.124999999999977},{"v":8.553262704178852,"d":"8.55"},0.5,-7.080001142772836]
[null,null,{"$f":"C270+Sheet2!B$12","v":13.400000000000055},{"v":8.469527956328653,"d":"8.47"},0.5,18.4939338992924,{"$nulls":3},{"$f":"J270+Sheet2!I$12","v":11.166666666666643},{"v":8.268223085781312,"d":"8.27"},0.5,-7.488334476106164]
[null,null,{"$f":"C271+Sheet2!B$12","v":13.450000000000056},{"v":9.354224651293285,"d":"9.35"},0.5,16.893933899292378,{"$nulls":3},{"$f":"J271+Sheet2!I$12","v":11.208333333333309},{"v":7.966516800717098,"d":"7.97"},0.5,-7.896667809439492]
[null,null,{"$f":"C272+Sheet2!B$12","v":13.500000000000057},{"v":10.158921346257914,"d":"10.16"},0.5,15.293933899292355,{"$nulls":3},{"$f":"J272+Sheet2!I$12","v":11.249999999999975},{"v":7.648143848986226,"d":"7.65"},0.5,-8.30500114277282]
[null,null,{"$f":"C273+Sheet2!B$12","v":13.550000000000058},{"v":10.883618041222542,"d":"10.88"},0.5,13.693933899292333,{"$nulls":3},{"$f":"J273+Sheet2!I$12","v":11.291666666666641},{"v":7.313104230588685,"d":"7.31"},0.5,-8.713334476106148]
[null,null,{"$f":"C274+Sheet2!B$12","v":13.600000000000058},{"v":11.52831473618717,"d":"11.53"},0.5,12.09393389929231,{"$nulls":3},{"$f":"J274+Sheet2!I$12","v":11.333333333333307},{"v":6.961397945524471,"d":"6.96"},0.5,-9.121667809439472]
[null,null,{"$f":"C275+Sheet2!B$12","v":13.650000000000059},{"v":12.09301143115179,"d":"12.09"},0.5,10.493933899292287,{"$nulls":3},{"$f":"J275+Sheet2!I$12","v":11.374999999999973},{"v":6.593024993793602,"d":"6.59"},0.5,-9.5300011427728]
[null,null,{"$f":"C276+Sheet2!B$12","v":13.70000000000006},{"v":12.577708126116413,"d":"12.58"},0.5,8.893933899292264,{"$nulls":3},{"$f":"J276+Sheet2!I$12","v":11.41666666666664},{"v":6.20798537539606,"d":"6.21"},0.5,-9.938334476106128]
[null,null,{"$f":"C277+Sheet2!B$12","v":13.75000000000006},{"v":12.98240482108103,"d":"12.98"},0.5,7.293933899292242,{"$nulls":3},{"$f":"J277+Sheet2!I$12","v":11.458333333333306},{"v":5.806279090331849,"d":"5.81"},0.5,-10.346667809439456]
[null,null,{"$f":"C278+Sheet2!B$12","v":13.800000000000061},{"v":13.307101516045647,"d":"13.31"},0.5,5.693933899292219,{"$nulls":3},{"$f":"J278+Sheet2!I$12","v":11.499999999999972},{"v":5.387906138600982,"d":"5.39"},0.5,-10.755001142772784]
[null,null,{"$f":"C279+Sheet2!B$12","v":13.850000000000062},{"v":13.551798211010258,"d":"13.55"},0.5,4.093933899292196,{"$nulls":3},{"$f":"J279+Sheet2!I$12","v":11.541666666666638},{"v":4.952866520203443,"d":"4.95"},0.5,-11.163334476106112]
[null,null,{"$f":"C280+Sheet2!B$12","v":13.900000000000063},{"v":13.716494905974871,"d":"13.72"},0.5,2.4939338992921734,{"$nulls":3},{"$f":"J280+Sheet2!I$12","v":11.583333333333304},{"v":4.501160235139231,"d":"4.50"},0.5,-11.57166780943944]
[null,null,{"$f":"C281+Sheet2!B$12","v":13.950000000000063},{"v":13.801191600939479,"d":"13.80"},0.5,0.8939338992921506,{"$nulls":3},{"$f":"J281+Sheet2!I$12","v":11.62499999999997},{"v":4.032787283408368,"d":"4.03"},0.5,-11.980001142772768]
[null,null,{"$f":"C282+Sheet2!B$12","v":14.000000000000064},{"v":13.805888295904088,"d":"13.81"},0.5,-0.7060661007078721,{"$nulls":3},{"$f":"J282+Sheet2!I$12","v":11.666666666666636},{"v":3.5477476650108244,"d":"3.55"},0.5,-12.388334476106095]
[null,null,{"$f":"C283+Sheet2!B$12","v":14.050000000000065},{"v":13.730584990868689,"d":"13.73"},0.5,-2.306066100707895,{"$nulls":3},{"$f":"J283+Sheet2!I$12","v":11.708333333333302},{"v":3.0460413799466224,"d":"3.05"},0.5,-12.796667809439423]
[null,null,{"$f":"C284+Sheet2!B$12","v":14.100000000000065},{"v":13.575281685833293,"d":"13.58"},0.5,-3.9060661007079176,{"$nulls":3},{"$f":"J284+Sheet2!I$12","v":11.749999999999968},{"v":2.5276684282157476,"d":"2.53"},0.5,-13.205001142772751]
[null,null,{"$f":"C285+Sheet2!B$12","v":14.150000000000066},{"v":13.339978380797891,"d":"13.34"},0.5,-5.50606610070794,{"$nulls":3},{"$f":"J285+Sheet2!I$12","v":11.791666666666634},{"v":1.992628809818214,"d":"1.99"},0.5,-13.613334476106075]
[null,null,{"$f":"C286+Sheet2!B$12","v":14.200000000000067},{"v":13.024675075762495,"d":"13.02"},0.5,-7.106066100707963,{"$nulls":3},{"$f":"J286+Sheet2!I$12","v":11.8333333333333},{"v":1.4409225247540078,"d":"1.44"},0.5,-14.021667809439403]
[null,null,{"$f":"C287+Sheet2!B$12","v":14.250000000000068},{"v":12.62937177072709,"d":"12.63"},0.5,-8.706066100707986,{"$nulls":3},{"$f":"J287+Sheet2!I$12","v":11.874999999999966},{"v":0.872549573023143,"d":"0.87"},0.5,-14.430001142772731]
[null,null,{"$f":"C288+Sheet2!B$12","v":14.300000000000068},{"v":12.15406846569168,"d":"12.15"},0.5,-10.306066100708009,{"$nulls":3},{"$f":"J288+Sheet2!I$12","v":11.916666666666632},{"v":0.5284726915250377,"d":"0.53"},0.5,12.585246397295592]
[null,null,{"$f":"C289+Sheet2!B$12","v":14.350000000000069},{"v":11.59876516065627,"d":"11.60"},0.5,-11.906066100708031,{"$nulls":3},{"$f":"J289+Sheet2!I$12","v":11.958333333333298},{"v":1.0448689026866038,"d":"1.04"},0.5,12.176913063962264]
[null,null,{"$f":"C290+Sheet2!B$12","v":14.40000000000007},{"v":10.963461855620864,"d":"10.96"},0.5,-13.506066100708054,{"$nulls":3},{"$f":"J290+Sheet2!I$12","v":11.999999999999964},{"v":1.544598447181504,"d":"1.54"},0.5,11.768579730628936]
[null,null,{"$f":"C291+Sheet2!B$12","v":14.45000000000007},{"v":10.248158550585448,"d":"10.25"},0.5,-15.106066100708077,{"$nulls":3},{"$f":"J291+Sheet2!I$12","v":12.04166666666663},{"v":2.0276613250097375,"d":"2.03"},0.5,11.36024639729561]
[null,null,{"$f":"C292+Sheet2!B$12","v":14.500000000000071},{"v":9.452855245550033,"d":"9.45"},0.5,-16.7060661007081,{"$nulls":3},{"$f":"J292+Sheet2!I$12","v":12.083333333333297},{"v":2.494057536171305,"d":"2.49"},0.5,10.951913063962282]
[null,null,{"$f":"C293+Sheet2!B$12","v":14.550000000000072},{"v":8.57755194051461,"d":"8.58"},0.5,-18.306066100708122,{"$nulls":3},{"$f":"J293+Sheet2!I$12","v":12.124999999999963},{"v":2.943787080666206,"d":"2.94"},0.5,10.543579730628954]
[null,null,{"$f":"C294+Sheet2!B$12","v":14.600000000000072},{"v":7.622248635479195,"d":"7.62"},0.5,-19.906066100708145,{"$nulls":3},{"$f":"J294+Sheet2!I$12","v":12.166666666666629},{"v":3.376849958494441,"d":"3.38"},0.5,10.135246397295626]
[null,null,{"$f":"C295+Sheet2!B$12","v":14.650000000000073},{"v":6.586945330443768,"d":"6.59"},0.5,-21.506066100708168,{"$nulls":3},{"$f":"J295+Sheet2!I$12","v":12.208333333333295},{"v":3.79324616965601,"d":"3.79"},0.5,9.7269130639623]
[null,null,{"$f":"C296+Sheet2!B$12","v":14.700000000000074},{"v":5.471642025408343,"d":"5.47"},0.5,-23.10606610070819,{"$nulls":3},{"$f":"J296+Sheet2!I$12","v":12.249999999999961},{"v":4.192975714150913,"d":"4.19"},0.5,9.318579730628972]
[null,null,{"$f":"C297+Sheet2!B$12","v":14.750000000000075},{"v":4.2763387203729195,"d":"4.28"},0.5,-24.706066100708213,{"$nulls":3},{"$f":"J297+Sheet2!I$12","v":12.291666666666627},{"v":4.576038591979151,"d":"4.58"},0.5,8.910246397295644]
[null,null,{"$f":"C298+Sheet2!B$12","v":14.800000000000075},{"v":3.0010354153374905,"d":"3.00"},0.5,-26.306066100708236,{"$nulls":3},{"$f":"J298+Sheet2!I$12","v":12.333333333333293},{"v":4.942434803140721,"d":"4.94"},0.5,8.501913063962316]
[null,null,{"$f":"C299+Sheet2!B$12","v":14.850000000000076},{"v":1.6457321103020561,"d":"1.65"},0.5,-27.90606610070826,{"$nulls":3},{"$f":"J299+Sheet2!I$12","v":12.37499999999996},{"v":5.292164347635625,"d":"5.29"},0.5,8.093579730628989]
[null,null,{"$f":"C300+Sheet2!B$12","v":14.900000000000077},{"v":0.21042880526662344,"d":"0.21"},0.5,-29.50606610070828,{"$nulls":3},{"$f":"J300+Sheet2!I$12","v":12.416666666666625},{"v":5.6252272254638624,"d":"5.63"},0.5,7.6852463972956615]
[null,null,{"$f":"C301+Sheet2!B$12","v":14.950000000000077},{"v":0,"d":"0.00"},0.5,0,{"$nulls":3},{"$f":"J301+Sheet2!I$12","v":12.458333333333291},{"v":5.941623436625434,"d":"5.94"},0.5,7.276913063962334]
[null,null,{"$f":"C302+Sheet2!B$12","v":15.000000000000078},{"v":0,"d":"0.00"},0.5,0,{"$nulls":3},{"$f":"J302+Sheet2!I$12","v":12.499999999999957},{"v":6.241352981120339,"d":"6.24"},0.5,6.868579730629007]
[null,null,{"$f":"C303+Sheet2!B$12","v":15.050000000000079},{"v":0,"d":"0.00"},0.5,0,{"$nulls":3},{"$f":"J303+Sheet2!I$12","v":12.541666666666623},{"v":6.52441585894858,"d":"6.52"},0.5,6.460246397295679]
[null,null,{"$f":"C304+Sheet2!B$12","v":15.10000000000008},{"v":0,"d":"0.00"},0.5,0,{"$nulls":3},{"$f":"J304+Sheet2!I$12","v":12.58333333333329},{"v":6.790812070110153,"d":"6.79"},0.5,6.051913063962351]
[null,null,{"$f":"C305+Sheet2!B$12","v":15.15000000000008},{"v":0,"d":"0.00"},0.5,0,{"$nulls":3},{"$f":"J305+Sheet2!I$12","v":12.624999999999956},{"v":7.04054161460506,"d":"7.04"},0.5,5.643579730629024]
[null,null,{"$f":"C306+Sheet2!B$12","v":15.200000000000081},{"v":0,"d":"0.00"},0.5,0,{"$nulls":3},{"$f":"J306+Sheet2!I$12","v":12.666666666666622},{"v":7.273604492433301,"d":"7.27"},0.5,5.235246397295696]
[null,null,{"$f":"C307+Sheet2!B$12","v":15.250000000000082},{"v":0,"d":"0.00"},0.5,0,{"$nulls":3},{"$f":"J307+Sheet2!I$12","v":12.708333333333288},{"v":7.490000703594876,"d":"7.49"},0.5,4.826913063962369]
[null,null,{"$f":"C308+Sheet2!B$12","v":15.300000000000082},{"v":0,"d":"0.00"},0.5,0,{"$nulls":3},{"$f":"J308+Sheet2!I$12","v":12.749999999999954},{"v":7.689730248089784,"d":"7.69"},0.5,4.418579730629041]
[null,null,{"$f":"C309+Sheet2!B$12","v":15.350000000000083},{"v":0,"d":"0.00"},0.5,0,{"$nulls":3},{"$f":"J309+Sheet2!I$12","v":12.79166666666662},{"v":7.872793125918026,"d":"7.87"},0.5,4.010246397295713]
[null,null,{"$f":"C310+Sheet2!B$12","v":15.400000000000084},{"v":0,"d":"0.00"},0.5,0,{"$nulls":3},{"$f":"J310+Sheet2!I$12","v":12.833333333333286},{"v":8.039189337079602,"d":"8.04"},0.5,3.6019130639623853]
[null,null,{"$f":"C311+Sheet2!B$12","v":15.450000000000085},{"v":0,"d":"0.00"},0.5,0,{"$nulls":3},{"$f":"J311+Sheet2!I$12","v":12.874999999999952},{"v":8.188918881574512,"d":"8.19"},0.5,3.1935797306290574]
[null,null,{"$f":"C312+Sheet2!B$12","v":15.500000000000085},{"v":0,"d":"0.00"},0.5,0,{"$nulls":3},{"$f":"J312+Sheet2!I$12","v":12.916666666666618},{"v":8.321981759402757,"d":"8.32"},0.5,2.7852463972957313]
[null,null,{"$f":"C313+Sheet2!B$12","v":15.550000000000086},{"v":0,"d":"0.00"},0.5,0,{"$nulls":3},{"$f":"J313+Sheet2!I$12","v":12.958333333333284},{"v":8.438377970564332,"d":"8.44"},0.5,2.3769130639624034]
[null,null,{"$f":"C314+Sheet2!B$12","v":15.600000000000087},{"v":0,"d":"0.00"},0.5,0,{"$nulls":3},{"$f":"J314+Sheet2!I$12","v":12.99999999999995},{"v":8.538107515059245,"d":"8.54"},0.5,1.9685797306290755]
[null,null,{"$f":"C315+Sheet2!B$12","v":15.650000000000087},{"v":0,"d":"0.00"},0.5,0,{"$nulls":3},{"$f":"J315+Sheet2!I$12","v":13.041666666666616},{"v":8.621170392887489,"d":"8.62"},0.5,1.5602463972957477]
[null,null,{"$f":"C316+Sheet2!B$12","v":15.700000000000088},{"v":0,"d":"0.00"},0.5,0,{"$nulls":3},{"$f":"J316+Sheet2!I$12","v":13.083333333333282},{"v":8.687566604049067,"d":"8.69"},0.5,1.1519130639624198]
[null,null,{"$f":"C317+Sheet2!B$12","v":15.750000000000089},{"v":0,"d":"0.00"},0.5,0,{"$nulls":3},{"$f":"J317+Sheet2!I$12","v":13.124999999999948},{"v":8.737296148543981,"d":"8.74"},0.5,0.7435797306290919]
[null,null,{"$f":"C318+Sheet2!B$12","v":15.80000000000009},{"v":0,"d":"0.00"},0.5,0,{"$nulls":3},{"$f":"J318+Sheet2!I$12","v":13.166666666666615},{"v":8.770359026372228,"d":"8.77"},0.5,0.3352463972957658]
[null,null,{"$f":"C319+Sheet2!B$12","v":15.85000000000009},{"v":0,"d":"0.00"},0.5,0,{"$nulls":3},{"$f":"J319+Sheet2!I$12","v":13.20833333333328},{"v":8.786755237533807,"d":"8.79"},0.5,-0.07308693603756211]
[null,null,{"$f":"C320+Sheet2!B$12","v":15.900000000000091},{"v":0,"d":"0.00"},0.5,0,{"$nulls":3},{"$f":"J320+Sheet2!I$12","v":13.249999999999947},{"v":8.786484782028722,"d":"8.79"},0.5,-0.48142026937089]
[null,null,{"$f":"C321+Sheet2!B$12","v":15.950000000000092},{"v":0,"d":"0.00"},0.5,0,{"$nulls":3},{"$f":"J321+Sheet2!I$12","v":13.291666666666613},{"v":8.769547659856968,"d":"8.77"},0.5,-0.8897536027042179]
[null,null,{"$f":"C322+Sheet2!B$12","v":16.000000000000092},{"v":0,"d":"0.00"},0.5,0,{"$nulls":3},{"$f":"J322+Sheet2!I$12","v":13.333333333333279},{"v":8.735943871018552,"d":"8.74"},0.5,-1.2980869360375458]
[null,null,{"$f":"C323+Sheet2!B$12","v":16.050000000000093},{"$f":"IF(C324<=R$2,h0-16*C324^2,IF(AND(C324>R$2,C324<=R$3),T$2*(C324-R$2)-16*(C324-R$2)^2,IF(AND(C324>R$3,C324<=R$4),T$3*(C324-R$3)-16*(C324-R$3)^2,IF(AND(C324>R$4,C324<=R$5),T$4*(C324-R$4)-16*(C324-R$4)^2,IF(AND(C324>R$5,C324<=R$6),T$5*(C324-R$5)-16*(C324-R$5)^2,IF(AND(C324>R$6,C324<=R$7),T$6*(C324-R$6)-16*(C324-R$6)^2,IF(AND(C324>R$7,C324<=R$8),T$7*(C324-R$7)-16*(C324-R$7)^2,0)))))))","v":{"v":0,"d":"0.00"}},0.5,{"$f":"IF(C324<=R$2,-32*C324,IF(AND(C324>R$2,C324<=R$3),T$2-32*(C324-R$2),IF(AND(C324>R$3,C324<=R$4),T$3-32*(C324-R$3),IF(AND(C324>R$4,C324<=R$5),T$4-32*(C324-R$4),IF(AND(C324>R$5,C324<=R$6),T$5-32*(C324-R$5),IF(AND(C324>R$6,C324<=R$7),T$6-32*(C324-R$6),IF(AND(C324>R$7,C324<=R$8),T$7-32*(C324-R$7),0)))))))","v":0},{"$nulls":3},{"$f":"J323+Sheet2!I$12","v":13.374999999999945},{"$f":"IF(J324<=Z$2,H00-4.8*J324^2,IF(AND(J324>Z$2,J324<=Z$3),AB$2*(J324-Z$2)-4.8*(J324-Z$2)^2,IF(AND(J324>Z$3,J324<=Z$4),AB$3*(J324-Z$3)-4.8*(J324-Z$3)^2,IF(AND(J324>Z$4,J324<=Z$5),AB$4*(J324-Z$4)-4.8*(J324-Z$4)^2,IF(AND(J324>Z$5,J324<=Z$6),AB$5*(J324-Z$5)-4.8*(J324-Z$5)^2,IF(AND(J324>Z$6,J324<=Z$7),AB$6*(J324-Z$6)-4.8*(J324-Z$6)^2,IF(AND(J324>Z$7,J324<=Z$8),AB$7*(J324-Z$7)-4.8*(J324-Z$7)^2,0)))))))","v":{"v":8.685673415513468,"d":"8.69"}},0.5,{"$f":"IF(J324<=Z$2,-gg*J324,IF(AND(J324>Z$2,J324<=Z$3),AB$2-gg*(J324-Z$2),IF(AND(J324>Z$3,J324<=Z$4),AB$3-gg*(J324-Z$3),IF(AND(J324>Z$4,J324<=Z$5),AB$4-gg*(J324-Z$4),IF(AND(J324>Z$5,J324<=Z$6),AB$5-gg*(J324-Z$5),IF(AND(J324>Z$6,J324<=Z$7),AB$6-gg*(J324-Z$6),IF(AND(J324>Z$7,J324<=Z$8),AB$7-gg*(J324-Z$7),0)))))))","v":-1.7064202693708719}]
[null,null,{"$f":"C324+Sheet2!B$12","v":16.100000000000094},{"v":0,"d":"0.00"},0.5,0,{"$nulls":3},{"$f":"J324+Sheet2!I$12","v":13.416666666666611},{"v":8.618736293341717,"d":"8.62"},0.5,-2.1147536027041998]
[null,null,{"$f":"C325+Sheet2!B$12","v":16.150000000000095},{"v":0,"d":"0.00"},0.5,0,{"$nulls":3},{"$f":"J325+Sheet2!I$12","v":13.458333333333277},{"v":8.535132504503299,"d":"8.54"},0.5,-2.5230869360375277]
[null,null,{"$f":"C326+Sheet2!B$12","v":16.200000000000095},{"v":0,"d":"0.00"},0.5,0,{"$nulls":3},{"$f":"J326+Sheet2!I$12","v":13.499999999999943},{"v":8.434862048998214,"d":"8.43"},0.5,-2.9314202693708555]
[null,null,{"$f":"C327+Sheet2!B$12","v":16.250000000000096},{"v":0,"d":"0.00"},0.5,0,{"$nulls":3},{"$f":"J327+Sheet2!I$12","v":13.54166666666661},{"v":8.317924926826466,"d":"8.32"},0.5,-3.3397536027041834]
[null,null,{"$f":"C328+Sheet2!B$12","v":16.300000000000097},{"v":0,"d":"0.00"},0.5,0,{"$nulls":3},{"$f":"J328+Sheet2!I$12","v":13.583333333333275},{"v":8.184321137988052,"d":"8.18"},0.5,-3.7480869360375113]
[null,null,{"$f":"C329+Sheet2!B$12","v":16.350000000000097},{"v":0,"d":"0.00"},0.5,0,{"$nulls":3},{"$f":"J329+Sheet2!I$12","v":13.624999999999941},{"v":8.034050682482968,"d":"8.03"},0.5,-4.156420269370839]
[null,null,{"$f":"C330+Sheet2!B$12","v":16.400000000000098},{"v":0,"d":"0.00"},0.5,0,{"$nulls":3},{"$f":"J330+Sheet2!I$12","v":13.666666666666607},{"v":7.867113560311221,"d":"7.87"},0.5,-4.564753602704167]
[null,null,{"$f":"C331+Sheet2!B$12","v":16.4500000000001},{"v":0,"d":"0.00"},0.5,0,{"$nulls":3},{"$f":"J331+Sheet2!I$12","v":13.708333333333274},{"v":7.68350977147281,"d":"7.68"},0.5,-4.973086936037491]
[null,null,{"$f":"C332+Sheet2!B$12","v":16.5000000000001},{"v":0,"d":"0.00"},0.5,0,{"$nulls":3},{"$f":"J332+Sheet2!I$12","v":13.74999999999994},{"v":7.483239315967726,"d":"7.48"},0.5,-5.381420269370819]
[null,null,{"$f":"C333+Sheet2!B$12","v":16.5500000000001},{"v":0,"d":"0.00"},0.5,0,{"$nulls":3},{"$f":"J333+Sheet2!I$12","v":13.791666666666606},{"v":7.266302193795983,"d":"7.27"},0.5,-5.789753602704147]
[null,null,{"$f":"C334+Sheet2!B$12","v":16.6000000000001},{"v":0,"d":"0.00"},0.5,0,{"$nulls":3},{"$f":"J334+Sheet2!I$12","v":13.833333333333272},{"v":7.032698404957568,"d":"7.03"},0.5,-6.198086936037475]
[null,null,{"$f":"C335+Sheet2!B$12","v":16.6500000000001},{"v":0,"d":"0.00"},0.5,0,{"$nulls":3},{"$f":"J335+Sheet2!I$12","v":13.874999999999938},{"v":6.78242794945249,"d":"6.78"},0.5,-6.606420269370803]
[null,null,{"$f":"C336+Sheet2!B$12","v":16.700000000000102},{"v":0,"d":"0.00"},0.5,0,{"$nulls":3},{"$f":"J336+Sheet2!I$12","v":13.916666666666604},{"v":6.51549082728075,"d":"6.52"},0.5,-7.014753602704131]
[null,null,{"$f":"C337+Sheet2!B$12","v":16.750000000000103},{"v":0,"d":"0.00"},0.5,0,{"$nulls":3},{"$f":"J337+Sheet2!I$12","v":13.95833333333327},{"v":6.231887038442338,"d":"6.23"},0.5,-7.423086936037459]
[null,null,{"$f":"C338+Sheet2!B$12","v":16.800000000000104},{"v":0,"d":"0.00"},0.5,0,{"$nulls":3},{"$f":"J338+Sheet2!I$12","v":13.999999999999936},{"v":5.931616582937259,"d":"5.93"},0.5,-7.831420269370787]
[null,null,{"$f":"C339+Sheet2!B$12","v":16.850000000000104},{"v":0,"d":"0.00"},0.5,0,{"$nulls":3},{"$f":"J339+Sheet2!I$12","v":14.041666666666602},{"v":5.614679460765515,"d":"5.61"},0.5,-8.239753602704114]
[null,null,{"$f":"C340+Sheet2!B$12","v":16.900000000000105},{"v":0,"d":"0.00"},0.5,0,{"$nulls":3},{"$f":"J340+Sheet2!I$12","v":14.083333333333268},{"v":5.2810756719271055,"d":"5.28"},0.5,-8.648086936037442]
[null,null,{"$f":"C341+Sheet2!B$12","v":16.950000000000106},{"v":0,"d":"0.00"},0.5,0,{"$nulls":3},{"$f":"J341+Sheet2!I$12","v":14.124999999999934},{"v":4.93080521642203,"d":"4.93"},0.5,-9.05642026937077]
[null,null,{"$f":"C342+Sheet2!B$12","v":17.000000000000107},{"v":0,"d":"0.00"},0.5,0,{"$nulls":3},{"$f":"J342+Sheet2!I$12","v":14.1666666666666},{"v":4.563868094250289,"d":"4.56"},0.5,-9.464753602704095]
[null,null,{"$f":"C343+Sheet2!B$12","v":17.050000000000107},{"v":0,"d":"0.00"},0.5,0,{"$nulls":3},{"$f":"J343+Sheet2!I$12","v":14.208333333333266},{"v":4.180264305411878,"d":"4.18"},0.5,-9.873086936037422]
[null,null,{"$f":"C344+Sheet2!B$12","v":17.100000000000108},{"v":0,"d":"0.00"},0.5,0,{"$nulls":3},{"$f":"J344+Sheet2!I$12","v":14.249999999999932},{"v":3.7799938499068055,"d":"3.78"},0.5,-10.28142026937075]
[null,null,{"$f":"C345+Sheet2!B$12","v":17.15000000000011},{"v":0,"d":"0.00"},0.5,0,{"$nulls":3},{"$f":"J345+Sheet2!I$12","v":14.291666666666599},{"v":3.363056727735067,"d":"3.36"},0.5,-10.689753602704078]
[null,null,{"$f":"C346+Sheet2!B$12","v":17.20000000000011},{"v":0,"d":"0.00"},0.5,0,{"$nulls":3},{"$f":"J346+Sheet2!I$12","v":14.333333333333265},{"v":2.9294529388966595,"d":"2.93"},0.5,-11.098086936037406]
[null,null,{"$f":"C347+Sheet2!B$12","v":17.25000000000011},{"v":0,"d":"0.00"},0.5,0,{"$nulls":3},{"$f":"J347+Sheet2!I$12","v":14.37499999999993},{"v":2.4791824833915825,"d":"2.48"},0.5,-11.506420269370734]
[null,null,{"$f":"C348+Sheet2!B$12","v":17.30000000000011},{"v":0,"d":"0.00"},0.5,0,{"$nulls":3},{"$f":"J348+Sheet2!I$12","v":14.416666666666597},{"v":2.01224536121984,"d":"2.01"},0.5,-11.914753602704062]
[null,null,{"$f":"C349+Sheet2!B$12","v":17.35000000000011},{"v":0,"d":"0.00"},0.5,0,{"$nulls":3},{"$f":"J349+Sheet2!I$12","v":14.458333333333263},{"v":1.5286415723814386,"d":"1.53"},0.5,-12.32308693603739]
[null,null,{"$f":"C350+Sheet2!B$12","v":17.400000000000112},{"v":0,"d":"0.00"},0.5,0,{"$nulls":3},{"$f":"J350+Sheet2!I$12","v":14.499999999999929},{"v":1.0283711168763645,"d":"1.03"},0.5,-12.731420269370718]
[null,null,{"$f":"C351+Sheet2!B$12","v":17.450000000000113},{"v":0,"d":"0.00"},0.5,0,{"$nulls":3},{"$f":"J351+Sheet2!I$12","v":14.541666666666595},{"v":0.17739258003751696,"d":"0.18"},0.5,11.541469183357439]
[null,null,{"$f":"C352+Sheet2!B$12","v":17.500000000000114},{"v":0,"d":"0.00"},0.5,0,{"$nulls":3},{"$f":"J352+Sheet2!I$12","v":14.583333333333261},{"v":0.6500810378023034,"d":"0.65"},0.5,11.13313585002411]
[null,null,{"$f":"C353+Sheet2!B$12","v":17.550000000000114},{"v":0,"d":"0.00"},0.5,0,{"$nulls":3},{"$f":"J353+Sheet2!I$12","v":14.624999999999927},{"v":1.1061028289004238,"d":"1.11"},0.5,10.724802516690783]
[null,null,{"$f":"C354+Sheet2!B$12","v":17.600000000000115},{"v":0,"d":"0.00"},0.5,0,{"$nulls":3},{"$f":"J354+Sheet2!I$12","v":14.666666666666593},{"v":1.5454579533318777,"d":"1.55"},0.5,10.316469183357455]
[null,null,{"$f":"C355+Sheet2!B$12","v":17.650000000000116},{"v":0,"d":"0.00"},0.5,0,{"$nulls":3},{"$f":"J355+Sheet2!I$12","v":14.70833333333326},{"v":1.9681464110966658,"d":"1.97"},0.5,9.908135850024127]
[null,null,{"$f":"C356+Sheet2!B$12","v":17.700000000000117},{"v":0,"d":"0.00"},0.5,0,{"$nulls":3},{"$f":"J356+Sheet2!I$12","v":14.749999999999925},{"v":2.3741682021947876,"d":"2.37"},0.5,9.4998025166908]
[null,null,{"$f":"C357+Sheet2!B$12","v":17.750000000000117},{"v":0,"d":"0.00"},0.5,0,{"$nulls":3},{"$f":"J357+Sheet2!I$12","v":14.791666666666591},{"v":2.7635233266262427,"d":"2.76"},0.5,9.091469183357473]
[null,null,{"$f":"C358+Sheet2!B$12","v":17.800000000000118},{"v":0,"d":"0.00"},0.5,0,{"$nulls":3},{"$f":"J358+Sheet2!I$12","v":14.833333333333258},{"v":3.1362117843910324,"d":"3.14"},0.5,8.683135850024145]
[null,null,{"$f":"C359+Sheet2!B$12","v":17.85000000000012},{"v":0,"d":"0.00"},0.5,0,{"$nulls":3},{"$f":"J359+Sheet2!I$12","v":14.874999999999924},{"v":3.492233575489155,"d":"3.49"},0.5,8.274802516690817]
[null,null,{"$f":"C360+Sheet2!B$12","v":17.90000000000012},{"v":0,"d":"0.00"},0.5,0,{"$nulls":3},{"$f":"J360+Sheet2!I$12","v":14.91666666666659},{"v":3.831588699920613,"d":"3.83"},0.5,7.86646918335749]
[null,null,{"$f":"C361+Sheet2!B$12","v":17.95000000000012},{"v":0,"d":"0.00"},0.5,0,{"$nulls":3},{"$f":"J361+Sheet2!I$12","v":14.958333333333256},{"v":4.154277157685403,"d":"4.15"},0.5,7.458135850024163]
[null,null,{"$f":"C362+Sheet2!B$12","v":18.00000000000012},{"v":0,"d":"0.00"},0.5,0,{"$nulls":3},{"$f":"J362+Sheet2!I$12","v":14.999999999999922},{"v":4.460298948783528,"d":"4.46"},0.5,7.049802516690835]
[null,null,{"$f":"C363+Sheet2!B$12","v":18.05000000000012},{"v":0,"d":"0.00"},0.5,0,{"$nulls":3},{"$f":"J363+Sheet2!I$12","v":15.041666666666588},{"v":4.749654073214986,"d":"4.75"},0.5,6.641469183357508]
[null,null,{"$f":"C364+Sheet2!B$12","v":18.100000000000122},{"v":0,"d":"0.00"},0.5,0,{"$nulls":3},{"$f":"J364+Sheet2!I$12","v":15.083333333333254},{"v":5.0223425309797785,"d":"5.02"},0.5,6.23313585002418]
[null,null,{"$f":"C365+Sheet2!B$12","v":18.150000000000123},{"v":0,"d":"0.00"},0.5,0,{"$nulls":3},{"$f":"J365+Sheet2!I$12","v":15.12499999999992},{"v":5.278364322077905,"d":"5.28"},0.5,5.824802516690852]
[null,null,{"$f":"C366+Sheet2!B$12","v":18.200000000000124},{"v":0,"d":"0.00"},0.5,0,{"$nulls":3},{"$f":"J366+Sheet2!I$12","v":15.166666666666586},{"v":5.517719446509364,"d":"5.52"},0.5,5.416469183357525]
[null,null,{"$f":"C367+Sheet2!B$12","v":18.250000000000124},{"v":0,"d":"0.00"},0.5,0,{"$nulls":3},{"$f":"J367+Sheet2!I$12","v":15.208333333333252},{"v":5.740407904274158,"d":"5.74"},0.5,5.008135850024197]
[null,null,{"$f":"C368+Sheet2!B$12","v":18.300000000000125},{"v":0,"d":"0.00"},0.5,0,{"$nulls":3},{"$f":"J368+Sheet2!I$12","v":15.249999999999918},{"v":5.946429695372286,"d":"5.95"},0.5,4.599802516690869]
[null,null,{"$f":"C369+Sheet2!B$12","v":18.350000000000126},{"v":0,"d":"0.00"},0.5,0,{"$nulls":3},{"$f":"J369+Sheet2!I$12","v":15.291666666666584},{"v":6.135784819803747,"d":"6.14"},0.5,4.191469183357542]
[null,null,{"$f":"C370+Sheet2!B$12","v":18.400000000000126},{"v":0,"d":"0.00"},0.5,0,{"$nulls":3},{"$f":"J370+Sheet2!I$12","v":15.33333333333325},{"v":6.308473277568541,"d":"6.31"},0.5,3.7831358500242143]
[null,null,{"$f":"C371+Sheet2!B$12","v":18.450000000000127},{"v":0,"d":"0.00"},0.5,0,{"$nulls":3},{"$f":"J371+Sheet2!I$12","v":15.374999999999917},{"v":6.46449506866667,"d":"6.46"},0.5,3.3748025166908864]
[null,null,{"$f":"C372+Sheet2!B$12","v":18.500000000000128},{"v":0,"d":"0.00"},0.5,0,{"$nulls":3},{"$f":"J372+Sheet2!I$12","v":15.416666666666583},{"v":6.603850193098134,"d":"6.60"},0.5,2.9664691833575585]
[null,null,{"$f":"C373+Sheet2!B$12","v":18.55000000000013},{"v":0,"d":"0.00"},0.5,0,{"$nulls":3},{"$f":"J373+Sheet2!I$12","v":15.458333333333249},{"v":6.7265386508629295,"d":"6.73"},0.5,2.5581358500242324]
[null,null,{"$f":"C374+Sheet2!B$12","v":18.60000000000013},{"v":0,"d":"0.00"},0.5,0,{"$nulls":3},{"$f":"J374+Sheet2!I$12","v":15.499999999999915},{"v":6.83256044196106,"d":"6.83"},0.5,2.1498025166909045]
[null,null,{"$f":"C375+Sheet2!B$12","v":18.65000000000013},{"v":0,"d":"0.00"},0.5,0,{"$nulls":3},{"$f":"J375+Sheet2!I$12","v":15.54166666666658},{"v":6.9219155663925225,"d":"6.92"},0.5,1.7414691833575766]
[null,null,{"$f":"C376+Sheet2!B$12","v":18.70000000000013},{"v":0,"d":"0.00"},0.5,0,{"$nulls":3},{"$f":"J376+Sheet2!I$12","v":15.583333333333247},{"v":6.994604024157321,"d":"6.99"},0.5,1.3331358500242487]
[null,null,{"$f":"C377+Sheet2!B$12","v":18.75000000000013},{"v":0,"d":"0.00"},0.5,0,{"$nulls":3},{"$f":"J377+Sheet2!I$12","v":15.624999999999913},{"v":7.0506258152554535,"d":"7.05"},0.5,0.9248025166909208]
[null,null,{"$f":"C378+Sheet2!B$12","v":18.800000000000132},{"v":0,"d":"0.00"},0.5,0,{"$nulls":3},{"$f":"J378+Sheet2!I$12","v":15.666666666666579},{"v":7.089980939686917,"d":"7.09"},0.5,0.5164691833575947]
[null,null,{"$f":"C379+Sheet2!B$12","v":18.850000000000133},{"v":0,"d":"0.00"},0.5,0,{"$nulls":3},{"$f":"J379+Sheet2!I$12","v":15.708333333333245},{"v":7.112669397451717,"d":"7.11"},0.5,0.10813585002426684]
[null,null,{"$f":"C380+Sheet2!B$12","v":18.900000000000134},{"v":0,"d":"0.00"},0.5,0,{"$nulls":3},{"$f":"J380+Sheet2!I$12","v":15.749999999999911},{"v":7.118691188549851,"d":"7.12"},0.5,-0.30019748330906104]
[null,null,{"$f":"C381+Sheet2!B$12","v":18.950000000000134},{"v":0,"d":"0.00"},0.5,0,{"$nulls":3},{"$f":"J381+Sheet2!I$12","v":15.791666666666577},{"v":7.108046312981318,"d":"7.11"},0.5,-0.7085308166423889]
[null,null,{"$f":"C382+Sheet2!B$12","v":19.000000000000135},{"v":0,"d":"0.00"},0.5,0,{"$nulls":3},{"$f":"J382+Sheet2!I$12","v":15.833333333333243},{"v":7.080734770746119,"d":"7.08"},0.5,-1.1168641499757168]
[null,null,{"$f":"C383+Sheet2!B$12","v":19.050000000000136},{"v":0,"d":"0.00"},0.5,0,{"$nulls":3},{"$f":"J383+Sheet2!I$12","v":15.87499999999991},{"v":7.036756561844255,"d":"7.04"},0.5,-1.5251974833090447]
[null,null,{"$f":"C384+Sheet2!B$12","v":19.100000000000136},{"v":0,"d":"0.00"},0.5,0,{"$nulls":3},{"$f":"J384+Sheet2!I$12","v":15.916666666666575},{"v":6.976111686275722,"d":"6.98"},0.5,-1.9335308166423708]
[null,null,{"$f":"C385+Sheet2!B$12","v":19.150000000000137},{"v":0,"d":"0.00"},0.5,0,{"$nulls":3},{"$f":"J385+Sheet2!I$12","v":15.958333333333242},{"v":6.898800144040523,"d":"6.90"},0.5,-2.3418641499756987]
[null,null,{"$f":"C386+Sheet2!B$12","v":19.200000000000138},{"v":0,"d":"0.00"},0.5,0,{"$nulls":3},{"$f":"J386+Sheet2!I$12","v":15.999999999999908},{"v":6.80482193513866,"d":"6.80"},0.5,-2.7501974833090266]
[null,null,{"$f":"C387+Sheet2!B$12","v":19.25000000000014},{"$f":"IF(C388<=R$2,h0-16*C388^2,IF(AND(C388>R$2,C388<=R$3),T$2*(C388-R$2)-16*(C388-R$2)^2,IF(AND(C388>R$3,C388<=R$4),T$3*(C388-R$3)-16*(C388-R$3)^2,IF(AND(C388>R$4,C388<=R$5),T$4*(C388-R$4)-16*(C388-R$4)^2,IF(AND(C388>R$5,C388<=R$6),T$5*(C388-R$5)-16*(C388-R$5)^2,IF(AND(C388>R$6,C388<=R$7),T$6*(C388-R$6)-16*(C388-R$6)^2,IF(AND(C388>R$7,C388<=R$8),T$7*(C388-R$7)-16*(C388-R$7)^2,0)))))))","v":{"v":0,"d":"0.00"}},0.5,{"$f":"IF(C388<=R$2,-32*C388,IF(AND(C388>R$2,C388<=R$3),T$2-32*(C388-R$2),IF(AND(C388>R$3,C388<=R$4),T$3-32*(C388-R$3),IF(AND(C388>R$4,C388<=R$5),T$4-32*(C388-R$4),IF(AND(C388>R$5,C388<=R$6),T$5-32*(C388-R$5),IF(AND(C388>R$6,C388<=R$7),T$6-32*(C388-R$6),IF(AND(C388>R$7,C388<=R$8),T$7-32*(C388-R$7),0)))))))","v":0},{"$nulls":3},{"$f":"J387+Sheet2!I$12","v":16.041666666666575},{"$f":"IF(J388<=Z$2,H00-4.8*J388^2,IF(AND(J388>Z$2,J388<=Z$3),AB$2*(J388-Z$2)-4.8*(J388-Z$2)^2,IF(AND(J388>Z$3,J388<=Z$4),AB$3*(J388-Z$3)-4.8*(J388-Z$3)^2,IF(AND(J388>Z$4,J388<=Z$5),AB$4*(J388-Z$4)-4.8*(J388-Z$4)^2,IF(AND(J388>Z$5,J388<=Z$6),AB$5*(J388-Z$5)-4.8*(J388-Z$5)^2,IF(AND(J388>Z$6,J388<=Z$7),AB$6*(J388-Z$6)-4.8*(J388-Z$6)^2,IF(AND(J388>Z$7,J388<=Z$8),AB$7*(J388-Z$7)-4.8*(J388-Z$7)^2,0)))))))","v":{"v":6.694177059570121,"d":"6.69"}},0.5,{"$f":"IF(J388<=Z$2,-gg*J388,IF(AND(J388>Z$2,J388<=Z$3),AB$2-gg*(J388-Z$2),IF(AND(J388>Z$3,J388<=Z$4),AB$3-gg*(J388-Z$3),IF(AND(J388>Z$4,J388<=Z$5),AB$4-gg*(J388-Z$4),IF(AND(J388>Z$5,J388<=Z$6),AB$5-gg*(J388-Z$5),IF(AND(J388>Z$6,J388<=Z$7),AB$6-gg*(J388-Z$6),IF(AND(J388>Z$7,J388<=Z$8),AB$7-gg*(J388-Z$7),0)))))))","v":-3.1585308166423722}]
[null,null,{"$f":"C388+Sheet2!B$12","v":19.30000000000014},{"v":0,"d":"0.00"},0.5,0,{"$nulls":3},{"$f":"J388+Sheet2!I$12","v":16.083333333333243},{"v":6.5668655173349215,"d":"6.57"},0.5,-3.566864149975716]
[null,null,{"$f":"C389+Sheet2!B$12","v":19.35000000000014},{"v":0,"d":"0.00"},0.5,0,{"$nulls":3},{"$f":"J389+Sheet2!I$12","v":16.12499999999991},{"v":6.422887308433053,"d":"6.42"},0.5,-3.9751974833090618]
[null,null,{"$f":"C390+Sheet2!B$12","v":19.40000000000014},{"v":0,"d":"0.00"},0.5,0,{"$nulls":3},{"$f":"J390+Sheet2!I$12","v":16.16666666666658},{"v":6.262242432864511,"d":"6.26"},0.5,-4.383530816642407]
[null,null,{"$f":"C391+Sheet2!B$12","v":19.45000000000014},{"v":0,"d":"0.00"},0.5,0,{"$nulls":3},{"$f":"J391+Sheet2!I$12","v":16.208333333333247},{"v":6.084930890629307,"d":"6.08"},0.5,-4.791864149975753]
[null,null,{"$f":"C392+Sheet2!B$12","v":19.500000000000142},{"v":0,"d":"0.00"},0.5,0,{"$nulls":3},{"$f":"J392+Sheet2!I$12","v":16.249999999999915},{"v":5.890952681727434,"d":"5.89"},0.5,-5.200197483309095]
[null,null,{"$f":"C393+Sheet2!B$12","v":19.550000000000143},{"v":0,"d":"0.00"},0.5,0,{"$nulls":3},{"$f":"J393+Sheet2!I$12","v":16.291666666666583},{"v":5.680307806158892,"d":"5.68"},0.5,-5.608530816642441]
[null,null,{"$f":"C394+Sheet2!B$12","v":19.600000000000144},{"v":0,"d":"0.00"},0.5,0,{"$nulls":3},{"$f":"J394+Sheet2!I$12","v":16.33333333333325},{"v":5.4529962639236835,"d":"5.45"},0.5,-6.0168641499757864]
[null,null,{"$f":"C395+Sheet2!B$12","v":19.650000000000144},{"v":0,"d":"0.00"},0.5,0,{"$nulls":3},{"$f":"J395+Sheet2!I$12","v":16.37499999999992},{"v":5.209018055021808,"d":"5.21"},0.5,-6.425197483309132]
[null,null,{"$f":"C396+Sheet2!B$12","v":19.700000000000145},{"v":0,"d":"0.00"},0.5,0,{"$nulls":3},{"$f":"J396+Sheet2!I$12","v":16.416666666666586},{"v":4.948373179453263,"d":"4.95"},0.5,-6.833530816642478]
[null,null,{"$f":"C397+Sheet2!B$12","v":19.750000000000146},{"v":0,"d":"0.00"},0.5,0,{"$nulls":3},{"$f":"J397+Sheet2!I$12","v":16.458333333333254},{"v":4.6710616372180525,"d":"4.67"},0.5,-7.24186414997582]
[null,null,{"$f":"C398+Sheet2!B$12","v":19.800000000000146},{"v":0,"d":"0.00"},0.5,0,{"$nulls":3},{"$f":"J398+Sheet2!I$12","v":16.499999999999922},{"v":4.377083428316176,"d":"4.38"},0.5,-7.6501974833091655]
[null,null,{"$f":"C399+Sheet2!B$12","v":19.850000000000147},{"v":0,"d":"0.00"},0.5,0,{"$nulls":3},{"$f":"J399+Sheet2!I$12","v":16.54166666666659},{"v":4.0664385527476234,"d":"4.07"},0.5,-8.058530816642511]
[null,null,{"$f":"C400+Sheet2!B$12","v":19.900000000000148},{"v":0,"d":"0.00"},0.5,0,{"$nulls":3},{"$f":"J400+Sheet2!I$12","v":16.583333333333258},{"v":3.739127010512412,"d":"3.74"},0.5,-8.466864149975857]
[null,null,{"$f":"C401+Sheet2!B$12","v":19.95000000000015},{"v":0,"d":"0.00"},0.5,0,{"$nulls":3},{"$f":"J401+Sheet2!I$12","v":16.624999999999925},{"v":3.3951488016105316,"d":"3.40"},0.5,-8.875197483309202]
[null,null,{"$f":"C402+Sheet2!B$12","v":20.00000000000015},{"v":0,"d":"0.00"},0.5,0,{"$nulls":3},{"$f":"J402+Sheet2!I$12","v":16.666666666666593},{"v":3.034503926041978,"d":"3.03"},0.5,-9.283530816642545]
[null,null,{"$f":"C403+Sheet2!B$12","v":20.05000000000015},{"v":0,"d":"0.00"},0.5,0,{"$nulls":3},{"$f":"J403+Sheet2!I$12","v":16.70833333333326},{"v":2.657192383806766,"d":"2.66"},0.5,-9.69186414997589]
[null,null,{"$f":"C404+Sheet2!B$12","v":20.10000000000015},{"v":0,"d":"0.00"},0.5,0,{"$nulls":3},{"$f":"J404+Sheet2!I$12","v":16.74999999999993},{"v":2.2632141749048813,"d":"2.26"},0.5,-10.100197483309236]
[null,null,{"$f":"C405+Sheet2!B$12","v":20.15000000000015},{"v":0,"d":"0.00"},0.5,0,{"$nulls":3},{"$f":"J405+Sheet2!I$12","v":16.791666666666597},{"v":1.8525692993363236,"d":"1.85"},0.5,-10.508530816642581]
[null,null,{"$f":"C406+Sheet2!B$12","v":20.200000000000152},{"v":0,"d":"0.00"},0.5,0,{"$nulls":3},{"$f":"J406+Sheet2!I$12","v":16.833333333333265},{"v":1.4252577571011074,"d":"1.43"},0.5,-10.916864149975927]
[null,null,{"$f":"C407+Sheet2!B$12","v":20.250000000000153},{"v":0,"d":"0.00"},0.5,0,{"$nulls":3},{"$f":"J407+Sheet2!I$12","v":16.874999999999932},{"v":0.9812795481992183,"d":"0.98"},0.5,-11.32519748330927]
[null,null,{"$f":"C408+Sheet2!B$12","v":20.300000000000153},{"v":0,"d":"0.00"},0.5,0,{"$nulls":3},{"$f":"J408+Sheet2!I$12","v":16.9166666666666},{"v":0.04546092493392246,"d":"0.05"},0.5,10.47956969081273]
[null,null,{"$f":"C409+Sheet2!B$12","v":20.350000000000154},{"v":0,"d":"0.00"},0.5,0,{"$nulls":3},{"$f":"J409+Sheet2!I$12","v":16.958333333333268},{"v":0.4738124046416101,"d":"0.47"},0.5,10.071236357479384]
[null,null,{"$f":"C410+Sheet2!B$12","v":20.400000000000155},{"v":0,"d":"0.00"},0.5,0,{"$nulls":3},{"$f":"J410+Sheet2!I$12","v":16.999999999999936},{"v":0.8854972176826301,"d":"0.89"},0.5,9.66290302414604]
[null,null,{"$f":"C411+Sheet2!B$12","v":20.450000000000156},{"v":0,"d":"0.00"},0.5,0,{"$nulls":3},{"$f":"J411+Sheet2!I$12","v":17.041666666666604},{"v":1.2805153640569826,"d":"1.28"},0.5,9.254569690812694]
[null,null,{"$f":"C412+Sheet2!B$12","v":20.500000000000156},{"v":0,"d":"0.00"},0.5,0,{"$nulls":3},{"$f":"J412+Sheet2!I$12","v":17.08333333333327},{"v":1.6588668437646674,"d":"1.66"},0.5,8.846236357479349]
[null,null,{"$f":"C413+Sheet2!B$12","v":20.550000000000157},{"v":0,"d":"0.00"},0.5,0,{"$nulls":3},{"$f":"J413+Sheet2!I$12","v":17.12499999999994},{"v":2.0205516568056847,"d":"2.02"},0.5,8.437903024146005]
[null,null,{"$f":"C414+Sheet2!B$12","v":20.600000000000158},{"v":0,"d":"0.00"},0.5,0,{"$nulls":3},{"$f":"J414+Sheet2!I$12","v":17.166666666666607},{"v":2.3655698031800343,"d":"2.37"},0.5,8.029569690812659]
[null,null,{"$f":"C415+Sheet2!B$12","v":20.65000000000016},{"v":0,"d":"0.00"},0.5,0,{"$nulls":3},{"$f":"J415+Sheet2!I$12","v":17.208333333333275},{"v":2.6939212828877164,"d":"2.69"},0.5,7.621236357479314]
[null,null,{"$f":"C416+Sheet2!B$12","v":20.70000000000016},{"v":0,"d":"0.00"},0.5,0,{"$nulls":3},{"$f":"J416+Sheet2!I$12","v":17.249999999999943},{"v":3.005606095928731,"d":"3.01"},0.5,7.2129030241459695]
[null,null,{"$f":"C417+Sheet2!B$12","v":20.75000000000016},{"v":0,"d":"0.00"},0.5,0,{"$nulls":3},{"$f":"J417+Sheet2!I$12","v":17.29166666666661},{"v":3.3006242423030776,"d":"3.30"},0.5,6.804569690812624]
[null,null,{"$f":"C418+Sheet2!B$12","v":20.80000000000016},{"v":0,"d":"0.00"},0.5,0,{"$nulls":3},{"$f":"J418+Sheet2!I$12","v":17.33333333333328},{"v":3.5789757220107568,"d":"3.58"},0.5,6.396236357479279]
[null,null,{"$f":"C419+Sheet2!B$12","v":20.85000000000016},{"v":0,"d":"0.00"},0.5,0,{"$nulls":3},{"$f":"J419+Sheet2!I$12","v":17.374999999999947},{"v":3.840660535051768,"d":"3.84"},0.5,5.987903024145934]
[null,null,{"$f":"C420+Sheet2!B$12","v":20.900000000000162},{"v":0,"d":"0.00"},0.5,0,{"$nulls":3},{"$f":"J420+Sheet2!I$12","v":17.416666666666615},{"v":4.085678681426112,"d":"4.09"},0.5,5.57956969081259]
[null,null,{"$f":"C421+Sheet2!B$12","v":20.950000000000163},{"v":0,"d":"0.00"},0.5,0,{"$nulls":3},{"$f":"J421+Sheet2!I$12","v":17.458333333333282},{"v":4.314030161133789,"d":"4.31"},0.5,5.171236357479245]
[null,null,{"$f":"C422+Sheet2!B$12","v":21.000000000000163},{"v":0,"d":"0.00"},0.5,0,{"$nulls":3},{"$f":"J422+Sheet2!I$12","v":17.49999999999995},{"v":4.525714974174797,"d":"4.53"},0.5,4.762903024145899]
[null,null,{"$f":"C423+Sheet2!B$12","v":21.050000000000164},{"v":0,"d":"0.00"},0.5,0,{"$nulls":3},{"$f":"J423+Sheet2!I$12","v":17.541666666666618},{"v":4.720733120549138,"d":"4.72"},0.5,4.354569690812554]
[null,null,{"$f":"C424+Sheet2!B$12","v":21.100000000000165},{"v":0,"d":"0.00"},0.5,0,{"$nulls":3},{"$f":"J424+Sheet2!I$12","v":17.583333333333286},{"v":4.899084600256812,"d":"4.90"},0.5,3.9462363574792096]
[null,null,{"$f":"C425+Sheet2!B$12","v":21.150000000000166},{"v":0,"d":"0.00"},0.5,0,{"$nulls":3},{"$f":"J425+Sheet2!I$12","v":17.624999999999954},{"v":5.060769413297818,"d":"5.06"},0.5,3.537903024145865]
[null,null,{"$f":"C426+Sheet2!B$12","v":21.200000000000166},{"v":0,"d":"0.00"},0.5,0,{"$nulls":3},{"$f":"J426+Sheet2!I$12","v":17.66666666666662},{"v":5.205787559672156,"d":"5.21"},0.5,3.1295696908125192]
[null,null,{"$f":"C427+Sheet2!B$12","v":21.250000000000167},{"v":0,"d":"0.00"},0.5,0,{"$nulls":3},{"$f":"J427+Sheet2!I$12","v":17.70833333333329},{"v":5.334139039379828,"d":"5.33"},0.5,2.7212363574791745]
[null,null,{"$f":"C428+Sheet2!B$12","v":21.300000000000168},{"v":0,"d":"0.00"},0.5,0,{"$nulls":3},{"$f":"J428+Sheet2!I$12","v":17.749999999999957},{"v":5.44582385242083,"d":"5.45"},0.5,2.312903024145829]
[null,null,{"$f":"C429+Sheet2!B$12","v":21.35000000000017},{"v":0,"d":"0.00"},0.5,0,{"$nulls":3},{"$f":"J429+Sheet2!I$12","v":17.791666666666625},{"v":5.540841998795166,"d":"5.54"},0.5,1.904569690812485]
[null,null,{"$f":"C430+Sheet2!B$12","v":21.40000000000017},{"v":0,"d":"0.00"},0.5,0,{"$nulls":3},{"$f":"J430+Sheet2!I$12","v":17.833333333333293},{"v":5.619193478502833,"d":"5.62"},0.5,1.4962363574791393]
[null,null,{"$f":"C431+Sheet2!B$12","v":21.45000000000017},{"v":0,"d":"0.00"},0.5,0,{"$nulls":3},{"$f":"J431+Sheet2!I$12","v":17.87499999999996},{"v":5.680878291543833,"d":"5.68"},0.5,1.0879030241457954]
[null,null,{"$f":"C432+Sheet2!B$12","v":21.50000000000017},{"v":0,"d":"0.00"},0.5,0,{"$nulls":3},{"$f":"J432+Sheet2!I$12","v":17.91666666666663},{"v":5.725896437918165,"d":"5.73"},0.5,0.6795696908124498]
[null,null,{"$f":"C433+Sheet2!B$12","v":21.55000000000017},{"v":0,"d":"0.00"},0.5,0,{"$nulls":3},{"$f":"J433+Sheet2!I$12","v":17.958333333333297},{"v":5.754247917625831,"d":"5.75"},0.5,0.27123635747910413]
[null,null,{"$f":"C434+Sheet2!B$12","v":21.600000000000172},{"v":0,"d":"0.00"},0.5,0,{"$nulls":3},{"$f":"J434+Sheet2!I$12","v":17.999999999999964},{"v":5.765932730666828,"d":"5.77"},0.5,-0.13709697585423974]
[null,null,{"$f":"C435+Sheet2!B$12","v":21.650000000000173},{"v":0,"d":"0.00"},0.5,0,{"$nulls":3},{"$f":"J435+Sheet2!I$12","v":18.041666666666632},{"v":5.760950877041158,"d":"5.76"},0.5,-0.5454303091875854]
[null,null,{"$f":"C436+Sheet2!B$12","v":21.700000000000173},{"v":0,"d":"0.00"},0.5,0,{"$nulls":3},{"$f":"J436+Sheet2!I$12","v":18.0833333333333},{"v":5.73930235674882,"d":"5.74"},0.5,-0.9537636425209293]
[null,null,{"$f":"C437+Sheet2!B$12","v":21.750000000000174},{"v":0,"d":"0.00"},0.5,0,{"$nulls":3},{"$f":"J437+Sheet2!I$12","v":18.124999999999968},{"v":5.700987169789815,"d":"5.70"},0.5,-1.362096975854275]
[null,null,{"$f":"C438+Sheet2!B$12","v":21.800000000000175},{"v":0,"d":"0.00"},0.5,0,{"$nulls":3},{"$f":"J438+Sheet2!I$12","v":18.166666666666636},{"v":5.646005316164142,"d":"5.65"},0.5,-1.7704303091876206]
[null,null,{"$f":"C439+Sheet2!B$12","v":21.850000000000176},{"v":0,"d":"0.00"},0.5,0,{"$nulls":3},{"$f":"J439+Sheet2!I$12","v":18.208333333333304},{"v":5.5743567958718,"d":"5.57"},0.5,-2.1787636425209644]
[null,null,{"$f":"C440+Sheet2!B$12","v":21.900000000000176},{"v":0,"d":"0.00"},0.5,0,{"$nulls":3},{"$f":"J440+Sheet2!I$12","v":18.24999999999997},{"v":5.486041608912792,"d":"5.49"},0.5,-2.58709697585431]
[null,null,{"$f":"C441+Sheet2!B$12","v":21.950000000000177},{"v":0,"d":"0.00"},0.5,0,{"$nulls":3},{"$f":"J441+Sheet2!I$12","v":18.29166666666664},{"v":5.381059755287117,"d":"5.38"},0.5,-2.9954303091876557]
[null,null,{"$f":"C442+Sheet2!B$12","v":22.000000000000178},{"v":0,"d":"0.00"},0.5,0,{"$nulls":3},{"$f":"J442+Sheet2!I$12","v":18.333333333333307},{"v":5.259411234994772,"d":"5.26"},0.5,-3.4037636425209996]
[null,null,{"$f":"C443+Sheet2!B$12","v":22.05000000000018},{"v":0,"d":"0.00"},0.5,0,{"$nulls":3},{"$f":"J443+Sheet2!I$12","v":18.374999999999975},{"v":5.121096048035762,"d":"5.12"},0.5,-3.8120969758543453]
[null,null,{"$f":"C444+Sheet2!B$12","v":22.10000000000018},{"v":0,"d":"0.00"},0.5,0,{"$nulls":3},{"$f":"J444+Sheet2!I$12","v":18.416666666666643},{"v":4.966114194410082,"d":"4.97"},0.5,-4.220430309187689]
[null,null,{"$f":"C445+Sheet2!B$12","v":22.15000000000018},{"v":0,"d":"0.00"},0.5,0,{"$nulls":3},{"$f":"J445+Sheet2!I$12","v":18.45833333333331},{"v":4.7944656741177365,"d":"4.79"},0.5,-4.628763642521035]
[null,null,{"$f":"C446+Sheet2!B$12","v":22.20000000000018},{"v":0,"d":"0.00"},0.5,0,{"$nulls":3},{"$f":"J446+Sheet2!I$12","v":18.49999999999998},{"v":4.606150487158722,"d":"4.61"},0.5,-5.03709697585438]
[null,null,{"$f":"C447+Sheet2!B$12","v":22.25000000000018},{"v":0,"d":"0.00"},0.5,0,{"$nulls":3},{"$f":"J447+Sheet2!I$12","v":18.541666666666647},{"v":4.4011686335330396,"d":"4.40"},0.5,-5.445430309187724]
[null,null,{"$f":"C448+Sheet2!B$12","v":22.300000000000182},{"v":0,"d":"0.00"},0.5,0,{"$nulls":3},{"$f":"J448+Sheet2!I$12","v":18.583333333333314},{"v":4.17952011324069,"d":"4.18"},0.5,-5.85376364252107]
[null,null,{"$f":"C449+Sheet2!B$12","v":22.350000000000183},{"v":0,"d":"0.00"},0.5,0,{"$nulls":3},{"$f":"J449+Sheet2!I$12","v":18.624999999999982},{"v":3.9412049262816744,"d":"3.94"},0.5,-6.262096975854416]
[null,null,{"$f":"C450+Sheet2!B$12","v":22.400000000000183},{"v":0,"d":"0.00"},0.5,0,{"$nulls":3},{"$f":"J450+Sheet2!I$12","v":18.66666666666665},{"v":3.686223072655988,"d":"3.69"},0.5,-6.670430309187761]
[null,null,{"$f":"C451+Sheet2!B$12","v":22.450000000000184},{"$f":"IF(C452<=R$2,h0-16*C452^2,IF(AND(C452>R$2,C452<=R$3),T$2*(C452-R$2)-16*(C452-R$2)^2,IF(AND(C452>R$3,C452<=R$4),T$3*(C452-R$3)-16*(C452-R$3)^2,IF(AND(C452>R$4,C452<=R$5),T$4*(C452-R$4)-16*(C452-R$4)^2,IF(AND(C452>R$5,C452<=R$6),T$5*(C452-R$5)-16*(C452-R$5)^2,IF(AND(C452>R$6,C452<=R$7),T$6*(C452-R$6)-16*(C452-R$6)^2,IF(AND(C452>R$7,C452<=R$8),T$7*(C452-R$7)-16*(C452-R$7)^2,0)))))))","v":{"v":0,"d":"0.00"}},0.5,{"$f":"IF(C452<=R$2,-32*C452,IF(AND(C452>R$2,C452<=R$3),T$2-32*(C452-R$2),IF(AND(C452>R$3,C452<=R$4),T$3-32*(C452-R$3),IF(AND(C452>R$4,C452<=R$5),T$4-32*(C452-R$4),IF(AND(C452>R$5,C452<=R$6),T$5-32*(C452-R$5),IF(AND(C452>R$6,C452<=R$7),T$6-32*(C452-R$6),IF(AND(C452>R$7,C452<=R$8),T$7-32*(C452-R$7),0)))))))","v":0},{"$nulls":3},{"$f":"J451+Sheet2!I$12","v":18.708333333333318},{"$f":"IF(J452<=Z$2,H00-4.8*J452^2,IF(AND(J452>Z$2,J452<=Z$3),AB$2*(J452-Z$2)-4.8*(J452-Z$2)^2,IF(AND(J452>Z$3,J452<=Z$4),AB$3*(J452-Z$3)-4.8*(J452-Z$3)^2,IF(AND(J452>Z$4,J452<=Z$5),AB$4*(J452-Z$4)-4.8*(J452-Z$4)^2,IF(AND(J452>Z$5,J452<=Z$6),AB$5*(J452-Z$5)-4.8*(J452-Z$5)^2,IF(AND(J452>Z$6,J452<=Z$7),AB$6*(J452-Z$6)-4.8*(J452-Z$6)^2,IF(AND(J452>Z$7,J452<=Z$8),AB$7*(J452-Z$7)-4.8*(J452-Z$7)^2,0)))))))","v":{"v":3.4145745523636375,"d":"3.41"}},0.5,{"$f":"IF(J452<=Z$2,-gg*J452,IF(AND(J452>Z$2,J452<=Z$3),AB$2-gg*(J452-Z$2),IF(AND(J452>Z$3,J452<=Z$4),AB$3-gg*(J452-Z$3),IF(AND(J452>Z$4,J452<=Z$5),AB$4-gg*(J452-Z$4),IF(AND(J452>Z$5,J452<=Z$6),AB$5-gg*(J452-Z$5),IF(AND(J452>Z$6,J452<=Z$7),AB$6-gg*(J452-Z$6),IF(AND(J452>Z$7,J452<=Z$8),AB$7-gg*(J452-Z$7),0)))))))","v":-7.078763642521103}]
[null,null,{"$f":"C452+Sheet2!B$12","v":22.500000000000185},{"v":0,"d":"0.00"},0.5,0,{"$nulls":3},{"$f":"J452+Sheet2!I$12","v":18.749999999999986},{"v":3.1262593654046213,"d":"3.13"},0.5,-7.487096975854449]
[null,null,{"$f":"C453+Sheet2!B$12","v":22.550000000000185},{"v":0,"d":"0.00"},0.5,0,{"$nulls":3},{"$f":"J453+Sheet2!I$12","v":18.791666666666654},{"v":2.8212775117789306,"d":"2.82"},0.5,-7.895430309187795]
[null,null,{"$f":"C454+Sheet2!B$12","v":22.600000000000186},{"v":0,"d":"0.00"},0.5,0,{"$nulls":3},{"$f":"J454+Sheet2!I$12","v":18.83333333333332},{"v":2.4996289914865777,"d":"2.50"},0.5,-8.30376364252114]
[null,null,{"$f":"C455+Sheet2!B$12","v":22.650000000000187},{"v":0,"d":"0.00"},0.5,0,{"$nulls":3},{"$f":"J455+Sheet2!I$12","v":18.87499999999999},{"v":2.161313804527552,"d":"2.16"},0.5,-8.712096975854486]
[null,null,{"$f":"C456+Sheet2!B$12","v":22.700000000000188},{"v":0,"d":"0.00"},0.5,0,{"$nulls":3},{"$f":"J456+Sheet2!I$12","v":18.916666666666657},{"v":1.8063319509018676,"d":"1.81"},0.5,-9.120430309187828]
[null,null,{"$f":"C457+Sheet2!B$12","v":22.75000000000019},{"v":0,"d":"0.00"},0.5,0,{"$nulls":3},{"$f":"J457+Sheet2!I$12","v":18.958333333333325},{"v":1.4346834306095033,"d":"1.43"},0.5,-9.528763642521174]
[null,null,{"$f":"C458+Sheet2!B$12","v":22.80000000000019},{"v":0,"d":"0.00"},0.5,0,{"$nulls":3},{"$f":"J458+Sheet2!I$12","v":18.999999999999993},{"v":1.0463682436504804,"d":"1.05"},0.5,-9.93709697585452]
[null,null,{"$f":"C459+Sheet2!B$12","v":22.85000000000019},{"v":0,"d":"0.00"},0.5,0,{"$nulls":3},{"$f":"J459+Sheet2!I$12","v":19.04166666666666},{"v":0.6413863900247883,"d":"0.64"},0.5,-10.345430309187865]
[null,null,{"$f":"C460+Sheet2!B$12","v":22.90000000000019},{"v":0,"d":"0.00"},0.5,0,{"$nulls":3},{"$f":"J460+Sheet2!I$12","v":19.08333333333333},{"v":0,"d":"0.00"},0.5,0]
[null,null,{"$f":"C461+Sheet2!B$12","v":22.95000000000019},{"v":0,"d":"0.00"},0.5,0,{"$nulls":3},{"$f":"J461+Sheet2!I$12","v":19.124999999999996},{"v":0,"d":"0.00"},0.5,0]
[null,null,{"$f":"C462+Sheet2!B$12","v":23.000000000000192},{"v":0,"d":"0.00"},0.5,0,{"$nulls":3},{"$f":"J462+Sheet2!I$12","v":19.166666666666664},{"v":0,"d":"0.00"},0.5,0]
[null,null,{"$f":"C463+Sheet2!B$12","v":23.050000000000193},{"v":0,"d":"0.00"},0.5,0,{"$nulls":3},{"$f":"J463+Sheet2!I$12","v":19.208333333333332},{"v":0,"d":"0.00"},0.5,0]
[null,null,{"$f":"C464+Sheet2!B$12","v":23.100000000000193},{"v":0,"d":"0.00"},0.5,0,{"$nulls":3},{"$f":"J464+Sheet2!I$12","v":19.25},{"v":0,"d":"0.00"},0.5,0]
[null,null,{"$f":"C465+Sheet2!B$12","v":23.150000000000194},{"v":0,"d":"0.00"},0.5,0,{"$nulls":3},{"$f":"J465+Sheet2!I$12","v":19.291666666666668},{"v":0,"d":"0.00"},0.5,0]
[null,null,{"$f":"C466+Sheet2!B$12","v":23.200000000000195},{"v":0,"d":"0.00"},0.5,0,{"$nulls":3},{"$f":"J466+Sheet2!I$12","v":19.333333333333336},{"v":0,"d":"0.00"},0.5,0]
[null,null,{"$f":"C467+Sheet2!B$12","v":23.250000000000195},{"v":0,"d":"0.00"},0.5,0,{"$nulls":3},{"$f":"J467+Sheet2!I$12","v":19.375000000000004},{"v":0,"d":"0.00"},0.5,0]
[null,null,{"$f":"C468+Sheet2!B$12","v":23.300000000000196},{"v":0,"d":"0.00"},0.5,0,{"$nulls":3},{"$f":"J468+Sheet2!I$12","v":19.41666666666667},{"v":0,"d":"0.00"},0.5,0]
[null,null,{"$f":"C469+Sheet2!B$12","v":23.350000000000197},{"v":0,"d":"0.00"},0.5,0,{"$nulls":3},{"$f":"J469+Sheet2!I$12","v":19.45833333333334},{"v":0,"d":"0.00"},0.5,0]
[null,null,{"$f":"C470+Sheet2!B$12","v":23.400000000000198},{"v":0,"d":"0.00"},0.5,0,{"$nulls":3},{"$f":"J470+Sheet2!I$12","v":19.500000000000007},{"v":0,"d":"0.00"},0.5,0]
[null,null,{"$f":"C471+Sheet2!B$12","v":23.4500000000002},{"v":0,"d":"0.00"},0.5,0,{"$nulls":3},{"$f":"J471+Sheet2!I$12","v":19.541666666666675},{"v":0,"d":"0.00"},0.5,0]
[null,null,{"$f":"C472+Sheet2!B$12","v":23.5000000000002},{"v":0,"d":"0.00"},0.5,0,{"$nulls":3},{"$f":"J472+Sheet2!I$12","v":19.583333333333343},{"v":0,"d":"0.00"},0.5,0]
[null,null,{"$f":"C473+Sheet2!B$12","v":23.5500000000002},{"v":0,"d":"0.00"},0.5,0,{"$nulls":3},{"$f":"J473+Sheet2!I$12","v":19.62500000000001},{"v":0,"d":"0.00"},0.5,0]
[null,null,{"$f":"C474+Sheet2!B$12","v":23.6000000000002},{"v":0,"d":"0.00"},0.5,0,{"$nulls":3},{"$f":"J474+Sheet2!I$12","v":19.66666666666668},{"v":0,"d":"0.00"},0.5,0]
[null,null,{"$f":"C475+Sheet2!B$12","v":23.6500000000002},{"v":0,"d":"0.00"},0.5,0,{"$nulls":3},{"$f":"J475+Sheet2!I$12","v":19.708333333333346},{"v":0,"d":"0.00"},0.5,0]
[null,null,{"$f":"C476+Sheet2!B$12","v":23.700000000000202},{"v":0,"d":"0.00"},0.5,0,{"$nulls":3},{"$f":"J476+Sheet2!I$12","v":19.750000000000014},{"v":0,"d":"0.00"},0.5,0]
[null,null,{"$f":"C477+Sheet2!B$12","v":23.750000000000203},{"v":0,"d":"0.00"},0.5,0,{"$nulls":3},{"$f":"J477+Sheet2!I$12","v":19.791666666666682},{"v":0,"d":"0.00"},0.5,0]
[null,null,{"$f":"C478+Sheet2!B$12","v":23.800000000000203},{"v":0,"d":"0.00"},0.5,0,{"$nulls":3},{"$f":"J478+Sheet2!I$12","v":19.83333333333335},{"v":0,"d":"0.00"},0.5,0]
[null,null,{"$f":"C479+Sheet2!B$12","v":23.850000000000204},{"v":0,"d":"0.00"},0.5,0,{"$nulls":3},{"$f":"J479+Sheet2!I$12","v":19.875000000000018},{"v":0,"d":"0.00"},0.5,0]
[null,null,{"$f":"C480+Sheet2!B$12","v":23.900000000000205},{"v":0,"d":"0.00"},0.5,0,{"$nulls":3},{"$f":"J480+Sheet2!I$12","v":19.916666666666686},{"v":0,"d":"0.00"},0.5,0]
[null,null,{"$f":"C481+Sheet2!B$12","v":23.950000000000205},{"v":0,"d":"0.00"},0.5,0,{"$nulls":3},{"$f":"J481+Sheet2!I$12","v":19.958333333333353},{"v":0,"d":"0.00"},0.5,0]
[null,null,{"$f":"C482+Sheet2!B$12","v":24.000000000000206},{"v":0,"d":"0.00"},0.5,0,{"$nulls":3},{"$f":"J482+Sheet2!I$12","v":20.00000000000002},{"v":0,"d":"0.00"},0.5,0]
[null,null,{"$f":"C483+Sheet2!B$12","v":24.050000000000207},{"v":0,"d":"0.00"},0.5,0,{"$nulls":3},{"$f":"J483+Sheet2!I$12","v":20.04166666666669},{"v":0,"d":"0.00"},0.5,0]
[null,null,{"$f":"C484+Sheet2!B$12","v":24.100000000000207},{"v":0,"d":"0.00"},0.5,0,{"$nulls":3},{"$f":"J484+Sheet2!I$12","v":20.083333333333357},{"v":0,"d":"0.00"},0.5,0]
[null,null,{"$f":"C485+Sheet2!B$12","v":24.150000000000208},{"v":0,"d":"0.00"},0.5,0,{"$nulls":3},{"$f":"J485+Sheet2!I$12","v":20.125000000000025},{"v":0,"d":"0.00"},0.5,0]
[null,null,{"$f":"C486+Sheet2!B$12","v":24.20000000000021},{"v":0,"d":"0.00"},0.5,0,{"$nulls":3},{"$f":"J486+Sheet2!I$12","v":20.166666666666693},{"v":0,"d":"0.00"},0.5,0]
[null,null,{"$f":"C487+Sheet2!B$12","v":24.25000000000021},{"v":0,"d":"0.00"},0.5,0,{"$nulls":3},{"$f":"J487+Sheet2!I$12","v":20.20833333333336},{"v":0,"d":"0.00"},0.5,0]
[null,null,{"$f":"C488+Sheet2!B$12","v":24.30000000000021},{"v":0,"d":"0.00"},0.5,0,{"$nulls":3},{"$f":"J488+Sheet2!I$12","v":20.25000000000003},{"v":0,"d":"0.00"},0.5,0]
[null,null,{"$f":"C489+Sheet2!B$12","v":24.35000000000021},{"v":0,"d":"0.00"},0.5,0,{"$nulls":3},{"$f":"J489+Sheet2!I$12","v":20.291666666666696},{"v":0,"d":"0.00"},0.5,0]
[null,null,{"$f":"C490+Sheet2!B$12","v":24.40000000000021},{"v":0,"d":"0.00"},0.5,0,{"$nulls":3},{"$f":"J490+Sheet2!I$12","v":20.333333333333364},{"v":0,"d":"0.00"},0.5,0]
[null,null,{"$f":"C491+Sheet2!B$12","v":24.450000000000212},{"v":0,"d":"0.00"},0.5,0,{"$nulls":3},{"$f":"J491+Sheet2!I$12","v":20.375000000000032},{"v":0,"d":"0.00"},0.5,0]
[null,null,{"$f":"C492+Sheet2!B$12","v":24.500000000000213},{"v":0,"d":"0.00"},0.5,0,{"$nulls":3},{"$f":"J492+Sheet2!I$12","v":20.4166666666667},{"v":0,"d":"0.00"},0.5,0]
[null,null,{"$f":"C493+Sheet2!B$12","v":24.550000000000214},{"v":0,"d":"0.00"},0.5,0,{"$nulls":3},{"$f":"J493+Sheet2!I$12","v":20.458333333333368},{"v":0,"d":"0.00"},0.5,0]
[null,null,{"$f":"C494+Sheet2!B$12","v":24.600000000000215},{"v":0,"d":"0.00"},0.5,0,{"$nulls":3},{"$f":"J494+Sheet2!I$12","v":20.500000000000036},{"v":0,"d":"0.00"},0.5,0]
[null,null,{"$f":"C495+Sheet2!B$12","v":24.650000000000215},{"v":0,"d":"0.00"},0.5,0,{"$nulls":3},{"$f":"J495+Sheet2!I$12","v":20.541666666666703},{"v":0,"d":"0.00"},0.5,0]
[null,null,{"$f":"C496+Sheet2!B$12","v":24.700000000000216},{"v":0,"d":"0.00"},0.5,0,{"$nulls":3},{"$f":"J496+Sheet2!I$12","v":20.58333333333337},{"v":0,"d":"0.00"},0.5,0]
[null,null,{"$f":"C497+Sheet2!B$12","v":24.750000000000217},{"v":0,"d":"0.00"},0.5,0,{"$nulls":3},{"$f":"J497+Sheet2!I$12","v":20.62500000000004},{"v":0,"d":"0.00"},0.5,0]
[null,null,{"$f":"C498+Sheet2!B$12","v":24.800000000000217},{"v":0,"d":"0.00"},0.5,0,{"$nulls":3},{"$f":"J498+Sheet2!I$12","v":20.666666666666707},{"v":0,"d":"0.00"},0.5,0]
[null,null,{"$f":"C499+Sheet2!B$12","v":24.850000000000218},{"v":0,"d":"0.00"},0.5,0,{"$nulls":3},{"$f":"J499+Sheet2!I$12","v":20.708333333333375},{"v":0,"d":"0.00"},0.5,0]
[null,null,{"$f":"C500+Sheet2!B$12","v":24.90000000000022},{"v":0,"d":"0.00"},0.5,0,{"$nulls":3},{"$f":"J500+Sheet2!I$12","v":20.750000000000043},{"v":0,"d":"0.00"},0.5,0]
[null,null,{"$f":"C501+Sheet2!B$12","v":24.95000000000022},{"v":0,"d":"0.00"},0.5,0,{"$nulls":3},{"$f":"J501+Sheet2!I$12","v":20.79166666666671},{"v":0,"d":"0.00"},0.5,0]
[null,null,{"$f":"C502+Sheet2!B$12","v":25.00000000000022},{"v":0,"d":"0.00"},0.5,0,{"$nulls":3},{"$f":"J502+Sheet2!I$12","v":20.83333333333338},{"v":0,"d":"0.00"},0.5,0]
[null,null,{"$f":"C503+Sheet2!B$12","v":25.05000000000022},{"v":0,"d":"0.00"},0.5,0,{"$nulls":3},{"$f":"J503+Sheet2!I$12","v":20.875000000000046},{"v":0,"d":"0.00"},0.5,0]
[null,null,{"$f":"C504+Sheet2!B$12","v":25.10000000000022},{"v":0,"d":"0.00"},0.5,0,{"$nulls":3},{"$f":"J504+Sheet2!I$12","v":20.916666666666714},{"v":0,"d":"0.00"},0.5,0]
[null,null,{"$f":"C505+Sheet2!B$12","v":25.150000000000222},{"v":0,"d":"0.00"},0.5,0,{"$nulls":3},{"$f":"J505+Sheet2!I$12","v":20.958333333333382},{"v":0,"d":"0.00"},0.5,0]
[null,null,{"$f":"C506+Sheet2!B$12","v":25.200000000000223},{"v":0,"d":"0.00"},0.5,0,{"$nulls":3},{"$f":"J506+Sheet2!I$12","v":21.00000000000005},{"v":0,"d":"0.00"},0.5,0]
[null,null,{"$f":"C507+Sheet2!B$12","v":25.250000000000224},{"v":0,"d":"0.00"},0.5,0,{"$nulls":3},{"$f":"J507+Sheet2!I$12","v":21.041666666666718},{"v":0,"d":"0.00"},0.5,0]
[null,null,{"$f":"C508+Sheet2!B$12","v":25.300000000000225},{"v":0,"d":"0.00"},0.5,0,{"$nulls":3},{"$f":"J508+Sheet2!I$12","v":21.083333333333385},{"v":0,"d":"0.00"},0.5,0]
[null,null,{"$f":"C509+Sheet2!B$12","v":25.350000000000225},{"v":0,"d":"0.00"},0.5,0,{"$nulls":3},{"$f":"J509+Sheet2!I$12","v":21.125000000000053},{"v":0,"d":"0.00"},0.5,0]
[null,null,{"$f":"C510+Sheet2!B$12","v":25.400000000000226},{"v":0,"d":"0.00"},0.5,0,{"$nulls":3},{"$f":"J510+Sheet2!I$12","v":21.16666666666672},{"v":0,"d":"0.00"},0.5,0]
[null,null,{"$f":"C511+Sheet2!B$12","v":25.450000000000227},{"v":0,"d":"0.00"},0.5,0,{"$nulls":3},{"$f":"J511+Sheet2!I$12","v":21.20833333333339},{"v":0,"d":"0.00"},0.5,0]
[null,null,{"$f":"C512+Sheet2!B$12","v":25.500000000000227},{"v":0,"d":"0.00"},0.5,0,{"$nulls":3},{"$f":"J512+Sheet2!I$12","v":21.250000000000057},{"v":0,"d":"0.00"},0.5,0]
[null,null,{"$f":"C513+Sheet2!B$12","v":25.550000000000228},{"v":0,"d":"0.00"},0.5,0,{"$nulls":3},{"$f":"J513+Sheet2!I$12","v":21.291666666666725},{"v":0,"d":"0.00"},0.5,0]
[null,null,{"$f":"C514+Sheet2!B$12","v":25.60000000000023},{"v":0,"d":"0.00"},0.5,0,{"$nulls":3},{"$f":"J514+Sheet2!I$12","v":21.333333333333393},{"v":0,"d":"0.00"},0.5,0]
[null,null,{"$f":"C515+Sheet2!B$12","v":25.65000000000023},{"$f":"IF(C516<=R$2,h0-16*C516^2,IF(AND(C516>R$2,C516<=R$3),T$2*(C516-R$2)-16*(C516-R$2)^2,IF(AND(C516>R$3,C516<=R$4),T$3*(C516-R$3)-16*(C516-R$3)^2,IF(AND(C516>R$4,C516<=R$5),T$4*(C516-R$4)-16*(C516-R$4)^2,IF(AND(C516>R$5,C516<=R$6),T$5*(C516-R$5)-16*(C516-R$5)^2,IF(AND(C516>R$6,C516<=R$7),T$6*(C516-R$6)-16*(C516-R$6)^2,IF(AND(C516>R$7,C516<=R$8),T$7*(C516-R$7)-16*(C516-R$7)^2,0)))))))","v":{"v":0,"d":"0.00"}},0.5,{"$f":"IF(C516<=R$2,-32*C516,IF(AND(C516>R$2,C516<=R$3),T$2-32*(C516-R$2),IF(AND(C516>R$3,C516<=R$4),T$3-32*(C516-R$3),IF(AND(C516>R$4,C516<=R$5),T$4-32*(C516-R$4),IF(AND(C516>R$5,C516<=R$6),T$5-32*(C516-R$5),IF(AND(C516>R$6,C516<=R$7),T$6-32*(C516-R$6),IF(AND(C516>R$7,C516<=R$8),T$7-32*(C516-R$7),0)))))))","v":0},{"$nulls":3},{"$f":"J515+Sheet2!I$12","v":21.37500000000006},{"$f":"IF(J516<=Z$2,H00-4.8*J516^2,IF(AND(J516>Z$2,J516<=Z$3),AB$2*(J516-Z$2)-4.8*(J516-Z$2)^2,IF(AND(J516>Z$3,J516<=Z$4),AB$3*(J516-Z$3)-4.8*(J516-Z$3)^2,IF(AND(J516>Z$4,J516<=Z$5),AB$4*(J516-Z$4)-4.8*(J516-Z$4)^2,IF(AND(J516>Z$5,J516<=Z$6),AB$5*(J516-Z$5)-4.8*(J516-Z$5)^2,IF(AND(J516>Z$6,J516<=Z$7),AB$6*(J516-Z$6)-4.8*(J516-Z$6)^2,IF(AND(J516>Z$7,J516<=Z$8),AB$7*(J516-Z$7)-4.8*(J516-Z$7)^2,0)))))))","v":{"v":0,"d":"0.00"}},0.5,{"$f":"IF(J516<=Z$2,-gg*J516,IF(AND(J516>Z$2,J516<=Z$3),AB$2-gg*(J516-Z$2),IF(AND(J516>Z$3,J516<=Z$4),AB$3-gg*(J516-Z$3),IF(AND(J516>Z$4,J516<=Z$5),AB$4-gg*(J516-Z$4),IF(AND(J516>Z$5,J516<=Z$6),AB$5-gg*(J516-Z$5),IF(AND(J516>Z$6,J516<=Z$7),AB$6-gg*(J516-Z$6),IF(AND(J516>Z$7,J516<=Z$8),AB$7-gg*(J516-Z$7),0)))))))","v":0}]
[null,null,{"$f":"C516+Sheet2!B$12","v":25.70000000000023},{"v":0,"d":"0.00"},0.5,0,{"$nulls":3},{"$f":"J516+Sheet2!I$12","v":21.41666666666673},{"v":0,"d":"0.00"},0.5,0]
[null,null,{"$f":"C517+Sheet2!B$12","v":25.75000000000023},{"v":0,"d":"0.00"},0.5,0,{"$nulls":3},{"$f":"J517+Sheet2!I$12","v":21.458333333333396},{"v":0,"d":"0.00"},0.5,0]
[null,null,{"$f":"C518+Sheet2!B$12","v":25.80000000000023},{"v":0,"d":"0.00"},0.5,0,{"$nulls":3},{"$f":"J518+Sheet2!I$12","v":21.500000000000064},{"v":0,"d":"0.00"},0.5,0]
[null,null,{"$f":"C519+Sheet2!B$12","v":25.850000000000232},{"v":0,"d":"0.00"},0.5,0,{"$nulls":3},{"$f":"J519+Sheet2!I$12","v":21.541666666666732},{"v":0,"d":"0.00"},0.5,0]
[null,null,{"$f":"C520+Sheet2!B$12","v":25.900000000000233},{"v":0,"d":"0.00"},0.5,0,{"$nulls":3},{"$f":"J520+Sheet2!I$12","v":21.5833333333334},{"v":0,"d":"0.00"},0.5,0]
[null,null,{"$f":"C521+Sheet2!B$12","v":25.950000000000234},{"v":0,"d":"0.00"},0.5,0,{"$nulls":3},{"$f":"J521+Sheet2!I$12","v":21.625000000000068},{"v":0,"d":"0.00"},0.5,0]
[null,null,{"$f":"C522+Sheet2!B$12","v":26.000000000000234},{"v":0,"d":"0.00"},0.5,0,{"$nulls":3},{"$f":"J522+Sheet2!I$12","v":21.666666666666735},{"v":0,"d":"0.00"},0.5,0]
[null,null,{"$f":"C523+Sheet2!B$12","v":26.050000000000235},{"v":0,"d":"0.00"},0.5,0,{"$nulls":3},{"$f":"J523+Sheet2!I$12","v":21.708333333333403},{"v":0,"d":"0.00"},0.5,0]
[null,null,{"$f":"C524+Sheet2!B$12","v":26.100000000000236},{"v":0,"d":"0.00"},0.5,0,{"$nulls":3},{"$f":"J524+Sheet2!I$12","v":21.75000000000007},{"v":0,"d":"0.00"},0.5,0]
[null,null,{"$f":"C525+Sheet2!B$12","v":26.150000000000237},{"v":0,"d":"0.00"},0.5,0,{"$nulls":3},{"$f":"J525+Sheet2!I$12","v":21.79166666666674},{"v":0,"d":"0.00"},0.5,0]
[null,null,{"$f":"C526+Sheet2!B$12","v":26.200000000000237},{"v":0,"d":"0.00"},0.5,0,{"$nulls":3},{"$f":"J526+Sheet2!I$12","v":21.833333333333407},{"v":0,"d":"0.00"},0.5,0]
[null,null,{"$f":"C527+Sheet2!B$12","v":26.250000000000238},{"v":0,"d":"0.00"},0.5,0,{"$nulls":3},{"$f":"J527+Sheet2!I$12","v":21.875000000000075},{"v":0,"d":"0.00"},0.5,0]
[null,null,{"$f":"C528+Sheet2!B$12","v":26.30000000000024},{"v":0,"d":"0.00"},0.5,0,{"$nulls":3},{"$f":"J528+Sheet2!I$12","v":21.916666666666742},{"v":0,"d":"0.00"},0.5,0]
[null,null,{"$f":"C529+Sheet2!B$12","v":26.35000000000024},{"v":0,"d":"0.00"},0.5,0,{"$nulls":3},{"$f":"J529+Sheet2!I$12","v":21.95833333333341},{"v":0,"d":"0.00"},0.5,0]
[null,null,{"$f":"C530+Sheet2!B$12","v":26.40000000000024},{"v":0,"d":"0.00"},0.5,0,{"$nulls":3},{"$f":"J530+Sheet2!I$12","v":22.000000000000078},{"v":0,"d":"0.00"},0.5,0]
[null,null,{"$f":"C531+Sheet2!B$12","v":26.45000000000024},{"v":0,"d":"0.00"},0.5,0,{"$nulls":3},{"$f":"J531+Sheet2!I$12","v":22.041666666666746},{"v":0,"d":"0.00"},0.5,0]
[null,null,{"$f":"C532+Sheet2!B$12","v":26.50000000000024},{"v":0,"d":"0.00"},0.5,0,{"$nulls":3},{"$f":"J532+Sheet2!I$12","v":22.083333333333414},{"v":0,"d":"0.00"},0.5,0]
[null,null,{"$f":"C533+Sheet2!B$12","v":26.550000000000242},{"v":0,"d":"0.00"},0.5,0,{"$nulls":3},{"$f":"J533+Sheet2!I$12","v":22.12500000000008},{"v":0,"d":"0.00"},0.5,0]
[null,null,{"$f":"C534+Sheet2!B$12","v":26.600000000000243},{"v":0,"d":"0.00"},0.5,0,{"$nulls":3},{"$f":"J534+Sheet2!I$12","v":22.16666666666675},{"v":0,"d":"0.00"},0.5,0]
[null,null,{"$f":"C535+Sheet2!B$12","v":26.650000000000244},{"v":0,"d":"0.00"},0.5,0,{"$nulls":3},{"$f":"J535+Sheet2!I$12","v":22.208333333333417},{"v":0,"d":"0.00"},0.5,0]
[null,null,{"$f":"C536+Sheet2!B$12","v":26.700000000000244},{"v":0,"d":"0.00"},0.5,0,{"$nulls":3},{"$f":"J536+Sheet2!I$12","v":22.250000000000085},{"v":0,"d":"0.00"},0.5,0]
[null,null,{"$f":"C537+Sheet2!B$12","v":26.750000000000245},{"v":0,"d":"0.00"},0.5,0,{"$nulls":3},{"$f":"J537+Sheet2!I$12","v":22.291666666666753},{"v":0,"d":"0.00"},0.5,0]
[null,null,{"$f":"C538+Sheet2!B$12","v":26.800000000000246},{"v":0,"d":"0.00"},0.5,0,{"$nulls":3},{"$f":"J538+Sheet2!I$12","v":22.33333333333342},{"v":0,"d":"0.00"},0.5,0]
[null,null,{"$f":"C539+Sheet2!B$12","v":26.850000000000247},{"v":0,"d":"0.00"},0.5,0,{"$nulls":3},{"$f":"J539+Sheet2!I$12","v":22.37500000000009},{"v":0,"d":"0.00"},0.5,0]
[null,null,{"$f":"C540+Sheet2!B$12","v":26.900000000000247},{"v":0,"d":"0.00"},0.5,0,{"$nulls":3},{"$f":"J540+Sheet2!I$12","v":22.416666666666757},{"v":0,"d":"0.00"},0.5,0]
[null,null,{"$f":"C541+Sheet2!B$12","v":26.950000000000248},{"v":0,"d":"0.00"},0.5,0,{"$nulls":3},{"$f":"J541+Sheet2!I$12","v":22.458333333333425},{"v":0,"d":"0.00"},0.5,0]
[null,null,{"$f":"C542+Sheet2!B$12","v":27.00000000000025},{"v":0,"d":"0.00"},0.5,0,{"$nulls":3},{"$f":"J542+Sheet2!I$12","v":22.500000000000092},{"v":0,"d":"0.00"},0.5,0]
[null,null,{"$f":"C543+Sheet2!B$12","v":27.05000000000025},{"v":0,"d":"0.00"},0.5,0,{"$nulls":3},{"$f":"J543+Sheet2!I$12","v":22.54166666666676},{"v":0,"d":"0.00"},0.5,0]
[null,null,{"$f":"C544+Sheet2!B$12","v":27.10000000000025},{"v":0,"d":"0.00"},0.5,0,{"$nulls":3},{"$f":"J544+Sheet2!I$12","v":22.583333333333428},{"v":0,"d":"0.00"},0.5,0]
[null,null,{"$f":"C545+Sheet2!B$12","v":27.15000000000025},{"v":0,"d":"0.00"},0.5,0,{"$nulls":3},{"$f":"J545+Sheet2!I$12","v":22.625000000000096},{"v":0,"d":"0.00"},0.5,0]
[null,null,{"$f":"C546+Sheet2!B$12","v":27.20000000000025},{"v":0,"d":"0.00"},0.5,0,{"$nulls":3},{"$f":"J546+Sheet2!I$12","v":22.666666666666764},{"v":0,"d":"0.00"},0.5,0]
[null,null,{"$f":"C547+Sheet2!B$12","v":27.250000000000252},{"v":0,"d":"0.00"},0.5,0,{"$nulls":3},{"$f":"J547+Sheet2!I$12","v":22.70833333333343},{"v":0,"d":"0.00"},0.5,0]
[null,null,{"$f":"C548+Sheet2!B$12","v":27.300000000000253},{"v":0,"d":"0.00"},0.5,0,{"$nulls":3},{"$f":"J548+Sheet2!I$12","v":22.7500000000001},{"v":0,"d":"0.00"},0.5,0]
[null,null,{"$f":"C549+Sheet2!B$12","v":27.350000000000254},{"v":0,"d":"0.00"},0.5,0,{"$nulls":3},{"$f":"J549+Sheet2!I$12","v":22.791666666666767},{"v":0,"d":"0.00"},0.5,0]
[null,null,{"$f":"C550+Sheet2!B$12","v":27.400000000000254},{"v":0,"d":"0.00"},0.5,0,{"$nulls":3},{"$f":"J550+Sheet2!I$12","v":22.833333333333435},{"v":0,"d":"0.00"},0.5,0]
[null,null,{"$f":"C551+Sheet2!B$12","v":27.450000000000255},{"v":0,"d":"0.00"},0.5,0,{"$nulls":3},{"$f":"J551+Sheet2!I$12","v":22.875000000000103},{"v":0,"d":"0.00"},0.5,0]
[null,null,{"$f":"C552+Sheet2!B$12","v":27.500000000000256},{"v":0,"d":"0.00"},0.5,0,{"$nulls":3},{"$f":"J552+Sheet2!I$12","v":22.91666666666677},{"v":0,"d":"0.00"},0.5,0]
[null,null,{"$f":"C553+Sheet2!B$12","v":27.550000000000257},{"v":0,"d":"0.00"},0.5,0,{"$nulls":3},{"$f":"J553+Sheet2!I$12","v":22.95833333333344},{"v":0,"d":"0.00"},0.5,0]
[null,null,{"$f":"C554+Sheet2!B$12","v":27.600000000000257},{"v":0,"d":"0.00"},0.5,0,{"$nulls":3},{"$f":"J554+Sheet2!I$12","v":23.000000000000107},{"v":0,"d":"0.00"},0.5,0]
[null,null,{"$f":"C555+Sheet2!B$12","v":27.650000000000258},{"v":0,"d":"0.00"},0.5,0,{"$nulls":3},{"$f":"J555+Sheet2!I$12","v":23.041666666666774},{"v":0,"d":"0.00"},0.5,0]
[null,null,{"$f":"C556+Sheet2!B$12","v":27.70000000000026},{"v":0,"d":"0.00"},0.5,0,{"$nulls":3},{"$f":"J556+Sheet2!I$12","v":23.083333333333442},{"v":0,"d":"0.00"},0.5,0]
[null,null,{"$f":"C557+Sheet2!B$12","v":27.75000000000026},{"v":0,"d":"0.00"},0.5,0,{"$nulls":3},{"$f":"J557+Sheet2!I$12","v":23.12500000000011},{"v":0,"d":"0.00"},0.5,0]
[null,null,{"$f":"C558+Sheet2!B$12","v":27.80000000000026},{"v":0,"d":"0.00"},0.5,0,{"$nulls":3},{"$f":"J558+Sheet2!I$12","v":23.166666666666778},{"v":0,"d":"0.00"},0.5,0]
[null,null,{"$f":"C559+Sheet2!B$12","v":27.85000000000026},{"v":0,"d":"0.00"},0.5,0,{"$nulls":3},{"$f":"J559+Sheet2!I$12","v":23.208333333333446},{"v":0,"d":"0.00"},0.5,0]
[null,null,{"$f":"C560+Sheet2!B$12","v":27.90000000000026},{"v":0,"d":"0.00"},0.5,0,{"$nulls":3},{"$f":"J560+Sheet2!I$12","v":23.250000000000114},{"v":0,"d":"0.00"},0.5,0]
[null,null,{"$f":"C561+Sheet2!B$12","v":27.950000000000262},{"v":0,"d":"0.00"},0.5,0,{"$nulls":3},{"$f":"J561+Sheet2!I$12","v":23.29166666666678},{"v":0,"d":"0.00"},0.5,0]
[null,null,{"$f":"C562+Sheet2!B$12","v":28.000000000000263},{"v":0,"d":"0.00"},0.5,0,{"$nulls":3},{"$f":"J562+Sheet2!I$12","v":23.33333333333345},{"v":0,"d":"0.00"},0.5,0]
[null,null,{"$f":"C563+Sheet2!B$12","v":28.050000000000264},{"v":0,"d":"0.00"},0.5,0,{"$nulls":3},{"$f":"J563+Sheet2!I$12","v":23.375000000000117},{"v":0,"d":"0.00"},0.5,0]
[null,null,{"$f":"C564+Sheet2!B$12","v":28.100000000000264},{"v":0,"d":"0.00"},0.5,0,{"$nulls":3},{"$f":"J564+Sheet2!I$12","v":23.416666666666785},{"v":0,"d":"0.00"},0.5,0]
[null,null,{"$f":"C565+Sheet2!B$12","v":28.150000000000265},{"v":0,"d":"0.00"},0.5,0,{"$nulls":3},{"$f":"J565+Sheet2!I$12","v":23.458333333333453},{"v":0,"d":"0.00"},0.5,0]
[null,null,{"$f":"C566+Sheet2!B$12","v":28.200000000000266},{"v":0,"d":"0.00"},0.5,0,{"$nulls":3},{"$f":"J566+Sheet2!I$12","v":23.50000000000012},{"v":0,"d":"0.00"},0.5,0]
[null,null,{"$f":"C567+Sheet2!B$12","v":28.250000000000266},{"v":0,"d":"0.00"},0.5,0,{"$nulls":3},{"$f":"J567+Sheet2!I$12","v":23.54166666666679},{"v":0,"d":"0.00"},0.5,0]
[null,null,{"$f":"C568+Sheet2!B$12","v":28.300000000000267},{"v":0,"d":"0.00"},0.5,0,{"$nulls":3},{"$f":"J568+Sheet2!I$12","v":23.583333333333456},{"v":0,"d":"0.00"},0.5,0]
[null,null,{"$f":"C569+Sheet2!B$12","v":28.350000000000268},{"v":0,"d":"0.00"},0.5,0,{"$nulls":3},{"$f":"J569+Sheet2!I$12","v":23.625000000000124},{"v":0,"d":"0.00"},0.5,0]
[null,null,{"$f":"C570+Sheet2!B$12","v":28.40000000000027},{"v":0,"d":"0.00"},0.5,0,{"$nulls":3},{"$f":"J570+Sheet2!I$12","v":23.666666666666792},{"v":0,"d":"0.00"},0.5,0]
[null,null,{"$f":"C571+Sheet2!B$12","v":28.45000000000027},{"v":0,"d":"0.00"},0.5,0,{"$nulls":3},{"$f":"J571+Sheet2!I$12","v":23.70833333333346},{"v":0,"d":"0.00"},0.5,0]
[null,null,{"$f":"C572+Sheet2!B$12","v":28.50000000000027},{"v":0,"d":"0.00"},0.5,0,{"$nulls":3},{"$f":"J572+Sheet2!I$12","v":23.750000000000128},{"v":0,"d":"0.00"},0.5,0]
[null,null,{"$f":"C573+Sheet2!B$12","v":28.55000000000027},{"v":0,"d":"0.00"},0.5,0,{"$nulls":3},{"$f":"J573+Sheet2!I$12","v":23.791666666666796},{"v":0,"d":"0.00"},0.5,0]
[null,null,{"$f":"C574+Sheet2!B$12","v":28.60000000000027},{"v":0,"d":"0.00"},0.5,0,{"$nulls":3},{"$f":"J574+Sheet2!I$12","v":23.833333333333464},{"v":0,"d":"0.00"},0.5,0]
[null,null,{"$f":"C575+Sheet2!B$12","v":28.650000000000272},{"v":0,"d":"0.00"},0.5,0,{"$nulls":3},{"$f":"J575+Sheet2!I$12","v":23.87500000000013},{"v":0,"d":"0.00"},0.5,0]
[null,null,{"$f":"C576+Sheet2!B$12","v":28.700000000000273},{"v":0,"d":"0.00"},0.5,0,{"$nulls":3},{"$f":"J576+Sheet2!I$12","v":23.9166666666668},{"v":0,"d":"0.00"},0.5,0]
[null,null,{"$f":"C577+Sheet2!B$12","v":28.750000000000274},{"v":0,"d":"0.00"},0.5,0,{"$nulls":3},{"$f":"J577+Sheet2!I$12","v":23.958333333333467},{"v":0,"d":"0.00"},0.5,0]
[null,null,{"$f":"C578+Sheet2!B$12","v":28.800000000000274},{"v":0,"d":"0.00"},0.5,0,{"$nulls":3},{"$f":"J578+Sheet2!I$12","v":24.000000000000135},{"v":0,"d":"0.00"},0.5,0]
[null,null,{"$f":"C579+Sheet2!B$12","v":28.850000000000275},{"$f":"IF(C580<=R$2,h0-16*C580^2,IF(AND(C580>R$2,C580<=R$3),T$2*(C580-R$2)-16*(C580-R$2)^2,IF(AND(C580>R$3,C580<=R$4),T$3*(C580-R$3)-16*(C580-R$3)^2,IF(AND(C580>R$4,C580<=R$5),T$4*(C580-R$4)-16*(C580-R$4)^2,IF(AND(C580>R$5,C580<=R$6),T$5*(C580-R$5)-16*(C580-R$5)^2,IF(AND(C580>R$6,C580<=R$7),T$6*(C580-R$6)-16*(C580-R$6)^2,IF(AND(C580>R$7,C580<=R$8),T$7*(C580-R$7)-16*(C580-R$7)^2,0)))))))","v":{"v":0,"d":"0.00"}},0.5,{"$f":"IF(C580<=R$2,-32*C580,IF(AND(C580>R$2,C580<=R$3),T$2-32*(C580-R$2),IF(AND(C580>R$3,C580<=R$4),T$3-32*(C580-R$3),IF(AND(C580>R$4,C580<=R$5),T$4-32*(C580-R$4),IF(AND(C580>R$5,C580<=R$6),T$5-32*(C580-R$5),IF(AND(C580>R$6,C580<=R$7),T$6-32*(C580-R$6),IF(AND(C580>R$7,C580<=R$8),T$7-32*(C580-R$7),0)))))))","v":0},{"$nulls":3},{"$f":"J579+Sheet2!I$12","v":24.041666666666803},{"$f":"IF(J580<=Z$2,H00-4.8*J580^2,IF(AND(J580>Z$2,J580<=Z$3),AB$2*(J580-Z$2)-4.8*(J580-Z$2)^2,IF(AND(J580>Z$3,J580<=Z$4),AB$3*(J580-Z$3)-4.8*(J580-Z$3)^2,IF(AND(J580>Z$4,J580<=Z$5),AB$4*(J580-Z$4)-4.8*(J580-Z$4)^2,IF(AND(J580>Z$5,J580<=Z$6),AB$5*(J580-Z$5)-4.8*(J580-Z$5)^2,IF(AND(J580>Z$6,J580<=Z$7),AB$6*(J580-Z$6)-4.8*(J580-Z$6)^2,IF(AND(J580>Z$7,J580<=Z$8),AB$7*(J580-Z$7)-4.8*(J580-Z$7)^2,0)))))))","v":{"v":0,"d":"0.00"}},0.5,{"$f":"IF(J580<=Z$2,-gg*J580,IF(AND(J580>Z$2,J580<=Z$3),AB$2-gg*(J580-Z$2),IF(AND(J580>Z$3,J580<=Z$4),AB$3-gg*(J580-Z$3),IF(AND(J580>Z$4,J580<=Z$5),AB$4-gg*(J580-Z$4),IF(AND(J580>Z$5,J580<=Z$6),AB$5-gg*(J580-Z$5),IF(AND(J580>Z$6,J580<=Z$7),AB$6-gg*(J580-Z$6),IF(AND(J580>Z$7,J580<=Z$8),AB$7-gg*(J580-Z$7),0)))))))","v":0}]
[null,null,{"$f":"C580+Sheet2!B$12","v":28.900000000000276},{"v":0,"d":"0.00"},0.5,0,{"$nulls":3},{"$f":"J580+Sheet2!I$12","v":24.08333333333347},{"v":0,"d":"0.00"},0.5,0]
[null,null,{"$f":"C581+Sheet2!B$12","v":28.950000000000276},{"v":0,"d":"0.00"},0.5,0,{"$nulls":3},{"$f":"J581+Sheet2!I$12","v":24.12500000000014},{"v":0,"d":"0.00"},0.5,0]
[null,null,{"$f":"C582+Sheet2!B$12","v":29.000000000000277},{"v":0,"d":"0.00"},0.5,0,{"$nulls":3},{"$f":"J582+Sheet2!I$12","v":24.166666666666806},{"v":0,"d":"0.00"},0.5,0]
[null,null,{"$f":"C583+Sheet2!B$12","v":29.050000000000278},{"v":0,"d":"0.00"},0.5,0,{"$nulls":3},{"$f":"J583+Sheet2!I$12","v":24.208333333333474},{"v":0,"d":"0.00"},0.5,0]
[null,null,{"$f":"C584+Sheet2!B$12","v":29.10000000000028},{"v":0,"d":"0.00"},0.5,0,{"$nulls":3},{"$f":"J584+Sheet2!I$12","v":24.250000000000142},{"v":0,"d":"0.00"},0.5,0]
[null,null,{"$f":"C585+Sheet2!B$12","v":29.15000000000028},{"v":0,"d":"0.00"},0.5,0,{"$nulls":3},{"$f":"J585+Sheet2!I$12","v":24.29166666666681},{"v":0,"d":"0.00"},0.5,0]
[null,null,{"$f":"C586+Sheet2!B$12","v":29.20000000000028},{"v":0,"d":"0.00"},0.5,0,{"$nulls":3},{"$f":"J586+Sheet2!I$12","v":24.333333333333478},{"v":0,"d":"0.00"},0.5,0]
[null,null,{"$f":"C587+Sheet2!B$12","v":29.25000000000028},{"v":0,"d":"0.00"},0.5,0,{"$nulls":3},{"$f":"J587+Sheet2!I$12","v":24.375000000000146},{"v":0,"d":"0.00"},0.5,0]
[null,null,{"$f":"C588+Sheet2!B$12","v":29.30000000000028},{"v":0,"d":"0.00"},0.5,0,{"$nulls":3},{"$f":"J588+Sheet2!I$12","v":24.416666666666814},{"v":0,"d":"0.00"},0.5,0]
[null,null,{"$f":"C589+Sheet2!B$12","v":29.350000000000282},{"v":0,"d":"0.00"},0.5,0,{"$nulls":3},{"$f":"J589+Sheet2!I$12","v":24.45833333333348},{"v":0,"d":"0.00"},0.5,0]
[null,null,{"$f":"C590+Sheet2!B$12","v":29.400000000000283},{"v":0,"d":"0.00"},0.5,0,{"$nulls":3},{"$f":"J590+Sheet2!I$12","v":24.50000000000015},{"v":0,"d":"0.00"},0.5,0]
[null,null,{"$f":"C591+Sheet2!B$12","v":29.450000000000284},{"v":0,"d":"0.00"},0.5,0,{"$nulls":3},{"$f":"J591+Sheet2!I$12","v":24.541666666666817},{"v":0,"d":"0.00"},0.5,0]
[null,null,{"$f":"C592+Sheet2!B$12","v":29.500000000000284},{"v":0,"d":"0.00"},0.5,0,{"$nulls":3},{"$f":"J592+Sheet2!I$12","v":24.583333333333485},{"v":0,"d":"0.00"},0.5,0]
[null,null,{"$f":"C593+Sheet2!B$12","v":29.550000000000285},{"v":0,"d":"0.00"},0.5,0,{"$nulls":3},{"$f":"J593+Sheet2!I$12","v":24.625000000000153},{"v":0,"d":"0.00"},0.5,0]
[null,null,{"$f":"C594+Sheet2!B$12","v":29.600000000000286},{"v":0,"d":"0.00"},0.5,0,{"$nulls":3},{"$f":"J594+Sheet2!I$12","v":24.66666666666682},{"v":0,"d":"0.00"},0.5,0]
[null,null,{"$f":"C595+Sheet2!B$12","v":29.650000000000286},{"v":0,"d":"0.00"},0.5,0,{"$nulls":3},{"$f":"J595+Sheet2!I$12","v":24.70833333333349},{"v":0,"d":"0.00"},0.5,0]
[null,null,{"$f":"C596+Sheet2!B$12","v":29.700000000000287},{"v":0,"d":"0.00"},0.5,0,{"$nulls":3},{"$f":"J596+Sheet2!I$12","v":24.750000000000156},{"v":0,"d":"0.00"},0.5,0]
[null,null,{"$f":"C597+Sheet2!B$12","v":29.750000000000288},{"v":0,"d":"0.00"},0.5,0,{"$nulls":3},{"$f":"J597+Sheet2!I$12","v":24.791666666666824},{"v":0,"d":"0.00"},0.5,0]
[null,null,{"$f":"C598+Sheet2!B$12","v":29.80000000000029},{"v":0,"d":"0.00"},0.5,0,{"$nulls":3},{"$f":"J598+Sheet2!I$12","v":24.833333333333492},{"v":0,"d":"0.00"},0.5,0]
[null,null,{"$f":"C599+Sheet2!B$12","v":29.85000000000029},{"v":0,"d":"0.00"},0.5,0,{"$nulls":3},{"$f":"J599+Sheet2!I$12","v":24.87500000000016},{"v":0,"d":"0.00"},0.5,0]
[null,null,{"$f":"C600+Sheet2!B$12","v":29.90000000000029},{"v":0,"d":"0.00"},0.5,0,{"$nulls":3},{"$f":"J600+Sheet2!I$12","v":24.916666666666828},{"v":0,"d":"0.00"},0.5,0]
[null,null,{"$f":"C601+Sheet2!B$12","v":29.95000000000029},{"v":0,"d":"0.00"},0.5,0,{"$nulls":3},{"$f":"J601+Sheet2!I$12","v":24.958333333333496},{"v":0,"d":"0.00"},0.5,0]
[null,null,{"$f":"C602+Sheet2!B$12","v":30.00000000000029},{"v":0,"d":"0.00"},0.5,0,{"$nulls":3},{"$f":"J602+Sheet2!I$12","v":25.000000000000163},{"v":0,"d":"0.00"},0.5,0]