{"text_format":"3","workbook":"xlsx","n_sheets":4,"sheets":["Sheet1","Sheet2","Defining Function","Sheet3"],"not_rendered":{"charts":4,"images":1,"macros":1,"defined_names":7,"comments":1},"read":"whole","date_system":"1900"}

{"sheet":"Sheet1","index":0,"n_rows":62,"n_cols":19,"rows_kept":62,"merged":[[25,2,25,3]]}
[null,"   Derivative of y = sin (ex)"]
[]
[null,"            This DIGMath unit explores "]
[null,null,"the derivative function of"]
[{"$nulls":3},"y = sin (ex)"]
[null,"     on any interval from x = a  to x = b."]
[]
["      The function in terms of x:   f'(x) =",{"$nulls":4},"sin(exp(x))"]
[]
[]
["Now enter the interval for x:  "]
[null,null,"xMin =",-3.14]
[null,null,"xMax =",3.14]
[]
[]
["Click each item below for suggestions and investigations"]
[null,null,"   Item 1",{"$nulls":5},"Trace along all the curves:",{"$nulls":3},222,null,null,"     x =",{"$f":"M17/50-3.14","v":1.3000000000000003},"y =",{"$f":"Sheet2!N4","v":{"v":-0.46334039058082893,"d":"-0.46"}}]
[null,null,"   Item 2"]
[null,null,"   Item 3"]
[null,null,"   Item 4"]
[null,null,"   Item 5"]
[]
[]
[]
["To access/download all the DIGMath Apps for Calculus",{"$nulls":16},"y' =",{"$f":"Sheet2!N10","v":{"v":-3.2109305238003922,"d":"-3.21"}}]
["      Click this link:",null,"DIGMath for Calculus"]
[]
["Created by:  Sheldon P. Gordon   "]
["                      Farmingdale State College    "]
["Development of this module was supported by the "]
["NSF's Division of Undergraduate Education  "]
["under grants DUE-0310123 and DUE-0442160."]
{"$rows_empty":29}
[{"$nulls":17},"Error =",{"$f":"Sheet2!N16","v":{"v":-1.4361469811596805E-5,"d":"-0.000014"}}]

{"sheet":"Sheet2","index":1,"n_rows":405,"n_cols":14,"rows_kept":405}
[null,null,"x","y = f(x)","x+.00001"," f(x+0.00001)","AppDeriv","e^x",null,"Actual","Diff",null,"verticals"]
[{"$nulls":3},{"$f":"Sheet1!#REF!","v":{"$error":"#REF!"}},{"$nulls":5},"Deriv"]
[null,null,{"$f":"Sheet1!D12","v":-3.14},{"$f":"SIN(EXP(x))","v":0.043269284831246216},{"$f":"x+0.00001","v":-3.13999},{"$f":"SIN(EXP(x+0.00001))","v":0.0432697172560165},{"$f":"(F3-D3)/dxx","v":0.04324247702830463},{"$f":"EXP(x)","v":0.043282797901965896},{"$f":"-EXP(x)","v":-0.043282797901965896},{"$f":"EXP(x)*COS(EXP(x))","v":0.04324226122135761},{"$f":"J3-G3","v":-2.1580694702094672E-7},null,{"$f":"x0","v":1.3000000000000003},0]
[null,null,{"$f":"C3+Sheet2!B$12","v":-3.1086},0.044648592612418755,-3.10859,0.044649038803645104,0.04461912263484246,0.04466344040709179,-0.04466344040709179,0.044618899984958854,{"$f":"J4-G4","v":-2.2264988360637394E-7},null,{"$f":"M3","v":1.3000000000000003},{"$f":"LOOKUP(x0,C3:C203,D3:D203)","v":-0.46334039058082893}]
[null,null,{"$f":"C4+Sheet2!B$12","v":-3.0772},0.0460718085495741,-3.07719,0.04607226894370439,0.04603941302916414,0.04608812289621497,-0.04608812289621497,0.04603918332166483,-2.2970749930656398E-7]
[null,null,{"$f":"C5+Sheet2!B$12","v":-3.0458},0.04754032441877823,-3.0457899999999998,0.0475407994659179,0.04750471396738897,0.04755825016469939,-0.04755825016469939,0.04750447698137993,-2.3698600903898637E-7,null,{"$f":"M4","v":1.3000000000000003},{"$f":"N4","v":-0.46334039058082893}]
[null,null,{"$f":"C6+Sheet2!B$12","v":-3.0143999999999997},0.04905557552091669,-3.0143899999999997,0.0490560656852383,0.04901643216106976,0.04907527181832526,-0.04907527181832526,0.04901618766974816,-2.444913215979283E-7]
[null,null,{"$f":"C7+Sheet2!B$12","v":-2.9829999999999997},0.05061904198414997,-2.9829899999999996,0.05061954774431326,0.05057601632843522,0.05064068370265978,-0.05064068370265978,0.05057576409713716,-2.5223129805629352E-7,null,"Derivative"]
[null,null,{"$f":"C8+Sheet2!B$12","v":-2.9515999999999996},0.05223225009943945,-2.9515899999999995,0.05223277194902192,0.05218495824702018,0.052256029378022255,-0.052256029378022255,0.052184698035706086,-2.6021131409315057E-7,null,{"$f":"x0","v":1.3000000000000003},0]
[null,null,{"$f":"C9+Sheet2!B$12","v":-2.9201999999999995},0.05389677368936325,-2.9201899999999994,0.05389731213730147,0.05384479382225526,0.05392290164149781,-0.05392290164149781,0.05384452538231733,-2.6843993793101983E-7,null,{"$f":"M9","v":1.3000000000000003},{"$f":"LOOKUP(x0,C3:C203,G3:G203)","v":-3.2109305238003922}]
[null,null,{"$f":"C10+Sheet2!B$12","v":-2.8887999999999994},0.05561423551036626,-2.8887899999999993,0.05561479108140776,0.05555710414981151,0.055642944097500716,-0.055642944097500716,0.05555682722473541,-2.7692507610643791E-7]
["delta x = ",{"$f":"(xMax-xMin)/200","v":0.031400000000000004},{"$f":"C11+Sheet2!B$12","v":-2.8573999999999993},0.0573863086885029,-2.857389999999999,0.05738688192366869,0.05732351657933287,0.057417852778435696,-0.057417852778435696,0.05732323090820546,-2.8567112741323397E-7,null,{"$f":"M9","v":1.3000000000000003},{"$f":"N10","v":-3.2109305238003922}]
[null,null,{"$f":"C12+Sheet2!B$12","v":-2.825999999999999},0.059214718188633726,-2.825989999999999,0.05921530964569161,0.05914570578857691,0.05924937781705545,-0.05924937781705545,0.05914541109911561,-2.9468946129845852E-7]
[null,null,{"$f":"C13+Sheet2!B$12","v":-2.794599999999999},0.061101242316927304,-2.794589999999999,0.061101852570875574,0.06102539482702451,0.06113932517216335,-0.06113932517216335,0.06102509084201824,-3.0398500627110137E-7,null,"Error"]
["dxx =",{"$f":"0.00001","v":1e-05},{"$f":"C14+Sheet2!B$12","v":-2.763199999999999},0.06304771425639376,-2.763189999999999,0.06304834389995548,0.06296435617197949,0.06308955840936284,-0.06308955840936284,0.06296404260580972,-3.1356616976563334E-7,null,{"$f":"x0","v":1.3000000000000003},0]
[null,null,{"$f":"C15+Sheet2!B$12","v":-2.731799999999999},0.06505602363503724,-2.731789999999999,0.06505667327916483,0.06496441275899434,0.0651020005386096,-0.0651020005386096,0.06496408931434443,-3.2344464991063138E-7,null,{"$f":"M15","v":1.3000000000000003},{"$f":"LOOKUP(x0,C3:C203,K3:K209)","v":-1.4361469811596805E-5}]
[null,null,{"$f":"C16+Sheet2!B$12","v":-2.700399999999999},0.06712811812605668,-2.7003899999999987,0.06712878840044646,0.06702743897829544,0.06717863591037818,-0.06717863591037818,0.06702710535617872,-3.336221167243858E-7]
[null,null,{"$f":"C17+Sheet2!B$12","v":-2.6689999999999987},0.06926600507934791,-2.6689899999999986,0.0692666966329647,0.06915536167884095,0.069321512172313,-0.069321512172313,0.06915501756750124,-3.4411133971457009E-7,null,{"$f":"M15","v":1.3000000000000003},{"$f":"N16","v":-1.4361469811596805E-5}]
[null,null,{"$f":"C18+Sheet2!B$12","v":-2.6375999999999986},0.07147175318336282,-2.6375899999999985,0.07147246668497385,0.07135016110298986,0.07153274228829287,-0.07153274228829287,0.07134980618160057,-3.5492138929227313E-7]
[null,null,{"$f":"C19+Sheet2!B$12","v":-2.6061999999999985},0.07374749415616044,-2.6061899999999985,0.07374823029487841,0.07361387179688483,0.07381450662190006,-0.07381450662190006,0.07361350573744213,-3.6605944270240443E-7,null,"Envelopes"]
[null,null,{"$f":"C20+Sheet2!B$12","v":-2.5747999999999984},0.07609542446423798,-2.5747899999999984,0.07609618395007273,0.07594858347503841,0.07616905508634818,-0.07616905508634818,0.07594820593906931,-3.77535969098286e-07,null,-3.2,{"$f":"EXP(M21)","v":0.04076220397836621}]
[null,null,{"$f":"C21+Sheet2!B$12","v":-2.5433999999999983},0.07851780706745567,-2.5433899999999983,0.0785185906318738,0.0783564418127547,0.0785987093629889,-0.0785987093629889,0.07835605245659737,-3.8935615732926809E-7,null,0,1]
[null,null,{"$f":"C22+Sheet2!B$12","v":-2.5119999999999982},0.08101697318806288,-2.511989999999998,0.0810177815845548,0.08083964919275433,0.08110586519058503,-0.08110586519058503,0.08083924765852792,-4.0153422641020509E-7,null,{"$f":"-M21","v":3.2},{"$f":"EXP(M23)","v":24.532530197109352}]
[null,null,{"$f":"C23+Sheet2!B$12","v":-2.480599999999998},0.08359532410149267,-2.480589999999998,0.08359615810614607,0.08340046533938938,0.08369299472760709,-0.08369299472760709,0.0834000512639642,-4.1407542518412388E-7]
[null,null,{"$f":"C24+Sheet2!B$12","v":-2.449199999999998},0.0862553329462144,-2.449189999999998,0.0862561933582933,0.08604120789040824,0.08636264898988305,-0.08636264898988305,0.08604078090204595,-4.2698836229260184E-7,null,-3.2,{"$f":"-EXP(M25)","v":-0.04076220397836621}]
[null,null,{"$f":"C25+Sheet2!B$12","v":-2.417799999999998},0.08899954654951357,-2.417789999999998,0.0890004341920421,0.08876425285214705,0.08911746036600449,-0.08911746036600449,0.08876381256453236,-4.4028761468639654E-7,null,0,-1]
[null,null,{"$f":"C26+Sheet2!B$12","v":-2.386399999999998},0.09183058726560343,-2.386389999999998,0.09183150298595258,0.09157203491455544,0.09196014521296973,-0.09196014521296973,0.091571580935935,-4.5397862044604942E-7,null,{"$f":"-M25","v":3.2},{"$f":"-EXP(M27)","v":-24.532530197109352}]
[null,null,{"$f":"C27+Sheet2!B$12","v":-2.3549999999999978},0.0947511548219564,-2.3549899999999977,0.09475209949243293,0.0944670476538123,0.09489350653462332,-0.09489350653462332,0.0944665795839211,-4.6806989119352327E-7]
[null,null,{"$f":"C28+Sheet2!B$12","v":-2.3235999999999977},0.09776402816917278,-2.3235899999999976,0.0977650026876084,0.09745184356285684,0.09792043674553264,-0.09792043674553264,0.09745136099086171,-4.8257199512791171E-7]
[null,null,{"$f":"C29+Sheet2!B$12","v":-2.2921999999999976},0.1008720673290721,-2.2921899999999975,0.1008730726194111,0.10052903390012079,0.10104392052302738,-0.10104392052302738,0.1005285364053689,-4.97494751880434e-07,null,"Points/Verticals"]
[null,null,{"$f":"C30+Sheet2!B$12","v":-2.2607999999999975},0.10407821523499375,-2.2607899999999974,0.10407925224787713,0.10370128833842028,0.1042670377502138,-0.1042670377502138,0.1037007754904373,-5.1284798298356638E-7,null,{"$f":"x0","v":1.3000000000000003},{"$f":"EXP(x0)","v":3.6692966676192453}]
[null,null,{"$f":"C31+Sheet2!B$12","v":-2.2293999999999974},0.10738549955752122,-2.2293899999999973,0.10738656927086505,0.1069713343834766,0.10759296655286574,-0.10759296655286574,0.10697080574235616,-5.28641120434159e-07,null,{"$f":"M31","v":1.3000000000000003},{"$f":"-N31","v":-3.6692966676192453}]
[null,null,{"$f":"C32+Sheet2!B$12","v":-2.1979999999999973},0.11079703450799198,-2.1979899999999972,0.1107981379275573,0.11034195653153443,0.11102498643318702,-0.11102498643318702,0.11034141165187107,-5.4487966336114191E-7]
[null,null,{"$f":"C33+Sheet2!B$12","v":-2.166599999999997},0.1143160226112134,-2.166589999999997,0.11431716077116494,0.11381599515358774,0.11456648150353509,-0.11456648150353509,0.11381543357612427,-5.615774634759596E-7]
[null,null,{"$f":"C34+Sheet2!B$12","v":-2.135199999999997},0.11794575643776736,-2.135189999999997,0.11794693040121762,0.11739634502572203,0.1182209438232946,-0.1182209438232946,0.11739576628666683,-5.7873905520700042E-7]
[null,null,{"$f":"C35+Sheet2!B$12","v":-2.103799999999997},0.121689620285141,-2.103789999999997,0.1216908311446763,0.12108595352916528,0.12199197684219118,-0.12199197684219118,0.12108535715528727,-5.9637387800348662E-7]
[null,null,{"$f":"C36+Sheet2!B$12","v":-2.072399999999997},0.12555109179566037,-2.072389999999997,0.12555234067384463,0.12488781842567852,0.12588329895344066,-0.12588329895344066,0.12488720393551096,-6.14490167555326e-07]
[null,null,{"$f":"C37+Sheet2!B$12","v":-2.040999999999997},0.12953374349781377,-2.0409899999999968,0.12953503154766569,0.12880498519163286,0.1298987471602373,-0.1298987471602373,0.1288043520933613,-6.3309827155744181E-7]
[null,null,{"$f":"C38+Sheet2!B$12","v":-2.0095999999999967},0.13364124425602275,-2.0095899999999967,0.1336425726614611,0.13284054383444488,0.13404228085919626,-0.13404228085919626,0.13283989163630397,-6.5219814091022066E-7]
[null,null,{"$f":"C39+Sheet2!B$12","v":-1.9781999999999966},0.1378773606122351,-1.9781899999999966,0.13787873058848693,0.13699762518304404,0.13831798574448104,-0.13831798574448104,0.13699695338418158,-6.7179886245605225E-7]
[null,null,{"$f":"C40+Sheet2!B$12","v":-1.9467999999999965},0.14224595800086404,-1.9467899999999965,0.1422473707948293,0.1412793965260839,0.14273007783646557,-0.14273007783646557,0.14127870462034903,-6.9190573487309948E-7]
[null,null,{"$f":"C41+Sheet2!B$12","v":-1.9153999999999964},0.14675100181656184,-1.9153899999999964,0.14675245870712766,0.14568905658263187,0.14728290763890312,-0.14728290763890312,0.1456883440550963,-7.1252753555683945E-7]
[null,null,{"$f":"C42+Sheet2!B$12","v":-1.8839999999999963},0.15139655831208138,-1.8839899999999963,0.15139806061037828,0.15022982969015164,0.1519809644287015,-0.1519809644287015,0.15022909602674933,-7.3366340230807126E-7]
[null,null,{"$f":"C43+Sheet2!B$12","v":-1.8525999999999962},0.15618679530102145,-1.8525899999999962,0.15618834435061324,0.1549049591792473,0.15682888068253406,-0.15682888068253406,0.15490420385851852,-7.5532072876804968E-7]
[null,null,{"$f":"C44+Sheet2!B$12","v":-1.8211999999999962},0.16112598263755762,-1.821189999999996,0.1611275798145553,0.1597176997686356,0.161831436644652,-0.161831436644652,0.15971692228117013,-7.7748746546424385E-7]
[null,null,{"$f":"C45+Sheet2!B$12","v":-1.789799999999996},0.1662184924422988,-1.789789999999996,0.16622013915538883,0.1646713090025509,0.16699356504040078,-0.16699356504040078,0.1646705088228621,-8.0017968878687284E-7]
[null,null,{"$f":"C46+Sheet2!B$12","v":-1.758399999999996},0.1714687990401677,-1.758389999999996,0.17147049673054215,0.16976903744470026,0.1723203559400901,-0.1723203559400901,0.16976821405795967,-8.2338674059490025E-7]
[null,null,{"$f":"C47+Sheet2!B$12","v":-1.7269999999999959},0.17688147857264255,-1.7269899999999958,0.1768832287138196,0.17501411770370898,0.17781706177801157,-0.17781706177801157,0.17501327059625213,-8.4710745684724031E-7]
[null,null,{"$f":"C48+Sheet2!B$12","v":-1.6955999999999958},0.1824612082428008,-1.6955899999999957,0.18246301234032092,0.18040975201250029,0.18348910253155468,-0.18348910253155468,0.18040888068266855,-8.7132983173088263E-7]
[null,null,{"$f":"C49+Sheet2!B$12","v":-1.6641999999999957},0.18821276514733448,-1.6641899999999956,0.1882146247383177,0.18595909832275212,0.18934207106552647,-0.18934207106552647,0.18595820226525234,-8.9605749978294291E-7]
[null,null,{"$f":"C50+Sheet2!B$12","v":-1.6327999999999956},0.1941410246450342,-1.6327899999999955,0.19414294129758067,0.19166525464797687,0.19538173864694594,-0.19538173864694594,0.19166433337573097,-9.21272245907323e-07]
[null,null,{"$f":"C51+Sheet2!B$12","v":-1.6013999999999955},0.20025095820612251,-1.6013899999999954,0.2002529335185386,0.1975312416080399,0.20161406063574974,-0.20161406063574974,0.19753029465241645,-9.4695562344315753E-7]
[null,null,{"$f":"C52+Sheet2!B$12","v":-1.5699999999999954},0.20654763068122803,-1.5699899999999953,0.2065496662810572,0.20355998291698982,0.20804518235702144,-0.20804518235702144,0.203559009819309,-9.7309768082309844E-7]
[null,null,{"$f":"C53+Sheet2!B$12","v":-1.5385999999999953},0.21303619692267914,-1.5385899999999952,0.21303829446551512,0.2097542835977073,0.21468144516053408,-0.21468144516053408,0.209753283918058,-9.9967964928282527E-7]
[null,null,{"$f":"C54+Sheet2!B$12","v":-1.5071999999999952},0.21972189768412184,-1.5071899999999951,0.21972405885217922,0.21611680573740963,0.22152939267358118,-0.22152939267358118,0.21611577907075866,-1.0266666509717304E-6]
[null,null,{"$f":"C55+Sheet2!B$12","v":-1.4757999999999951},0.2266100547171819,-1.475789999999995,0.2266122812175976,0.22265004157029364,0.2285957772532615,-0.2285957772532615,0.22264898753133577,-1.0540389578650444E-6]
[null,null,{"$f":"C56+Sheet2!B$12","v":-1.444399999999995},0.23370606497594584,-1.444389999999995,0.23370835853878108,0.22935628352371837,0.23588756664458013,-0.23588756664458013,0.22935520176137905,-1.081762339316672E-6]
[null,null,{"$f":"C57+Sheet2!B$12","v":-1.412999999999995},0.24101539383137416,-1.4129899999999949,0.24101775620728444,0.2362375910280878,0.24341195085093092,-0.24341195085093092,0.23623648124264476,-1.1097854430430765E-6]
[null,null,{"$f":"C58+Sheet2!B$12","v":-1.3815999999999948},0.2485435671883284,-1.3815899999999948,0.24854600014586625,0.2432957537851221,0.2511763492237345,-0.2511763492237345,0.24329461571291744,-1.1380722046705483E-6]
[null,null,{"$f":"C59+Sheet2!B$12","v":-1.3501999999999947},0.25629616238763053,-1.3501899999999947,0.25629866771014104,0.2505322510504282,0.25918841777822327,-0.25918841777822327,0.25053108448443273,-1.1665659954696039E-6]
[null,null,{"$f":"C60+Sheet2!B$12","v":-1.3187999999999946},0.2642787977644111,-1.3187899999999946,0.26428137724647804,0.2579482066944472,0.26745605674258627,-0.26745605674258627,0.2579470114744887,-1.1952199585052448E-6]
[null,null,{"$f":"C61+Sheet2!B$12","v":-1.2873999999999945},0.27249712072188303,-1.2873899999999945,0.2724997761652779,0.2655443394838919,0.27598741834791835,-0.27598741834791835,0.26554311554612686,-1.223937765026939E-6]
[null,null,{"$f":"C62+Sheet2!B$12","v":-1.2559999999999945},0.2809567941665202,-1.2559899999999944,0.2809595273756041,0.27332090838938505,0.28479091486665403,-0.28479091486665403,0.273319655722753,-1.2526666320344937E-6]
[null,null,{"$f":"C63+Sheet2!B$12","v":-1.2245999999999944},0.28966348113636525,-1.2245899999999943,0.28966629391288634,0.2812776521088356,0.29387522690741363,-0.29387522690741363,0.2812763708042151,-1.2813046205151224E-6]
[null,null,{"$f":"C64+Sheet2!B$12","v":-1.1931999999999943},0.2986228274387479,-1.1931899999999942,0.2986257215759742,0.28941372263169285,0.30324931197443894,-0.30324931197443894,0.2894124128730995,-1.3097585933596889E-6]
[null,null,{"$f":"C65+Sheet2!B$12","v":-1.1617999999999942},0.3078404420970063,-1.161789999999994,0.30784341937312687,0.2977276120585959,0.31292241330006,-0.31292241330006,0.2977262741388086,-1.33791978729203e-06]
[null,null,{"$f":"C66+Sheet2!B$12","v":-1.130399999999994},{"$f":"SIN(EXP(x))","v":0.3173218753877756},-1.130389999999994,0.31732493755849733,{"$f":"(F67-D67)/dxx","v":0.3062170721712665},0.3229040689589011,-0.3229040689589011,0.3062157065233294,-1.3656479370682817E-6]
[null,null,{"$f":"C67+Sheet2!B$12","v":-1.098999999999994},0.32707259423097496,-1.098989999999994,0.32707574302123676,0.3148790261808809,0.33320412127281385,-0.33320412127281385,0.31487763334652025,{"$f":"J68-G68","v":-1.392834360680606E-6}]
[null,null,{"$f":"C68+Sheet2!B$12","v":-1.0675999999999939},0.3370979546737045,-1.0675899999999938,0.33710119176842157,0.3237094717056799,0.34383272651580987,-0.34383272651580987,0.3237080524202993,-1.4192853805550243E-6]
[null,null,{"$f":"C69+Sheet2!B$12","v":-1.0361999999999938},0.34740317118678876,-1.0361899999999937,0.3474064982205354,0.33270337466140276,0.35480036492856354,-0.35480036492856354,0.3327019298104425,-1.4448509602638104E-6]
[null,null,{"$f":"C70+Sheet2!B$12","v":-1.0047999999999937},0.357993282468605,-1.0047899999999936,0.3579967010141331,0.3418545528099947,0.3661178510523592,-0.3661178510523592,0.341853083471984,-1.4693380107067E-6]
[null,null,{"$f":"C71+Sheet2!B$12","v":-0.9733999999999937},0.36887311342504975,-0.9733899999999938,0.3688766249805341,0.3511555484336792,0.37779634439267257,-0.37779634439267257,0.35115405590974336,-1.4925239358309916E-6]
[null,null,{"$f":"C72+Sheet2!B$12","v":-0.9419999999999937},0.38004723296698284,-0.9419899999999938,0.38005083894187425,0.3605974891407459,0.3898473604229004,-0.3898473604229004,0.3605959749596643,-1.5141810816299284E-6]
[null,null,{"$f":"C73+Sheet2!B$12","v":-0.9105999999999937},0.3915199072372038,-0.9105899999999938,0.3915236089365615,0.37016993577054785,0.40228278193908995,-0.40228278193908995,0.37016840172995574,-1.534040592110486E-6]
[null,null,{"$f":"C74+Sheet2!B$12","v":-0.8791999999999938},0.4032950478479454,-0.8791899999999938,0.4032988464551104,0.37986071649842573,0.4151148707768628,-0.4151148707768628,0.37985916468413694,-1.5518142887915864E-6]
[null,null,{"$f":"C75+Sheet2!B$12","v":-0.8477999999999938},0.41537615467702194,-0.8477899999999938,0.41538005123448174,0.3896557459803773,0.42835627990208824,-0.42835627990208824,0.38965417879185305,-1.5671885242318773E-6]
[null,null,{"$f":"C76+Sheet2!B$12","v":-0.8163999999999938},0.4277662527361798,-0.8163899999999938,0.42777024812446396,0.399538828416146,0.44202006588722587,-0.44202006588722587,0.3995372486188098,-1.579797336226374E-6]
[null,null,{"$f":"C77+Sheet2!B$12","v":-0.7849999999999938},0.44046782258893985,-0.7849899999999939,0.4404719175033742,0.4094914434371599,0.45611970178564204,-0.45611970178564204,0.4094898541756909,-1.5892614689816398E-6]
[null,null,{"$f":"C78+Sheet2!B$12","v":-0.7535999999999938},0.4534827237574159,-0.7535899999999939,0.4534869186825504,0.4194925134537452,0.47066909041659283,-0.47066909041659283,0.4194909182991021,-1.5951546430970076E-6]
[null,null,{"$f":"C79+Sheet2!B$12","v":-0.7221999999999938},0.46681211051841415,-0.7221899999999939,0.46681640569992716,0.4295181513014334,0.485682578073974,-0.485682578073974,0.4295165542974078,-1.5970040255774975E-6]
[null,null,{"$f":"C80+Sheet2!B$12","v":-0.6907999999999939},0.4804563394488177,-0.6907899999999939,0.4804607348626863,0.4395413868596431,0.5011749686723552,-0.5011749686723552,0.43953979256320386,-1.5942964392556824E-6]
[null,null,{"$f":"C81+Sheet2!B$12","v":-0.6593999999999939},0.4944148680391554,-0.6593899999999939,0.4944193633578685,0.4495318713104712,0.517161538344247,-0.517161538344247,0.44953028483500473,-1.5864754664418612E-6]
[null,null,{"$f":"C82+Sheet2!B$12","v":-0.6279999999999939},0.5086861436527848,-0.6279899999999939,0.5086907382083619,0.45945555771087493,0.5336580505029939,-0.5336580505029939,0.45945398478698807,-1.5729238868611439E-6]
[null,null,{"$f":"C83+Sheet2!B$12","v":-0.5965999999999939},0.5232674820668263,-0.596589999999994,0.5232721748103922,0.4692743565959389,0.5506807713861461,-0.5506807713861461,0.46927280364149987,-1.5529544390435746E-6]
[null,null,{"$f":"C84+Sheet2!B$12","v":-0.5651999999999939},0.538154934790562,-0.565189999999994,0.5381597242482159,0.47894576539198036,0.5682464860946376,-0.5682464860946376,0.4789442395394019,-1.5258525784545007E-6]
[null,null,{"$f":"C85+Sheet2!B$12","v":-0.533799999999994},0.5533431443183154,-0.533789999999994,0.5533480285430183,0.48842247029057256,0.5863725151435834,-0.5863725151435834,0.4884209794740849,-1.49081648764815E-6]
[null,null,{"$f":"C86+Sheet2!B$12","v":-0.502399999999994},0.5688251864379216,-0.502389999999994,0.5688301629571182,0.497651919662001,0.6050767315410182,-0.6050767315410182,0.4976504727029439,-1.4469590571275504E-6]
[null,null,{"$f":"C87+Sheet2!B$12","v":-0.470999999999994},0.5845923986840633,-0.47098999999999397,0.584597464442744,0.5065758680644628,0.624377578411415,-0.624377578411415,0.5065744747033974,-1.3933610653049655E-6]
[null,null,{"$f":"C88+Sheet2!B$12","v":-0.439599999999994},0.6006341939995704,-0.439589999999994,0.6006393452984696,0.5151298899219725,0.6442940871813626,-0.6442940871813626,0.5151285609485612,-1.3289734113186569E-6]
[null,null,{"$f":"C89+Sheet2!B$12","v":-0.408199999999994},0.6169378586491185,-0.408189999999994,0.616943091077746,0.5232428627488517,0.6648458963453324,-0.6648458963453324,0.5232416100514498,-1.2526974019211323E-6]
[null,null,{"$f":"C90+Sheet2!B$12","v":-0.37679999999999403},0.6334883334209165,-0.376789999999994,0.6334936417851118,0.5308364195322213,0.6860532708300395,-0.6860532708300395,0.530835256178852,-1.1633533693045095E-6]
[null,null,{"$f":"C91+Sheet2!B$12","v":-0.34539999999999405},0.650267977155588,-0.34538999999999404,0.6502733553992951,0.5378243707054864,0.7079371219764917,-0.7079371219764917,0.5378233110815377,-1.0596239486959647E-6]
[null,null,{"$f":"C92+Sheet2!B$12","v":-0.31399999999999406},0.6672563116607553,-0.31398999999999405,0.6672617527817227,0.5441120967453195,0.7305190281594293,-0.7305190281594293,0.5441111566432237,-9.4010209572559233E-7]
[null,null,{"$f":"C93+Sheet2!B$12","v":-0.2825999999999941},0.6844297471085625,-0.28258999999999407,0.6844352430676912,0.5495959128687389,0.753821256064487,-0.753821256064487,0.5495951095362205,-8.0333251839537212E-7]
[null,null,{"$f":"C94+Sheet2!B$12","v":-0.2511999999999941},0.7017612870759599,-0.2511899999999941,0.7017668287000409,0.5541624081062402,0.7778667826440603,-0.7778667826440603,0.5541617604091899,-6.4769705032663438E-7]
[null,null,{"$f":"C95+Sheet2!B$12","v":-0.21979999999999408},0.719220212479154,-0.21978999999999407,0.7192257893567793,0.5576877625257382,0.8026793177735217,-0.8026793177735217,0.5576872910472578,-4.7147848036832585E-7]
[null,null,{"$f":"C96+Sheet2!B$12","v":-0.18839999999999407},0.7367717437802488,-0.18838999999999406,0.7367773441507189,0.5600370470149052,0.8282833276301313,-0.8282833276301313,0.5600367741655069,-2.7284939829730348E-7]
[null,null,{"$f":"C97+Sheet2!B$12","v":-0.15699999999999406},0.7543766810126886,-0.15698999999999405,0.7543822916478068,0.5610635118169505,0.8547040588176902,-0.8547040588176902,0.5610634619558486,-4.9861101913961647E-8]
[null,null,{"$f":"C98+Sheet2!B$12","v":-0.12559999999999405},0.7719910213907297,-0.12558999999999404,0.771996627469447,0.5606078717246277,0.8819675632607272,-0.8819675632607272,0.5606080712405048,1.9951587715283381E-7]
[null,null,{"$f":"C99+Sheet2!B$12","v":-0.09419999999999404},0.7895655545460257,-0.09418999999999404,0.7895711395220024,0.5584975976691275,0.9101007238927659,-0.9101007238927659,0.558498075132897,4.7746376941049107E-7]
[null,null,{"$f":"C100+Sheet2!B$12","v":-0.06279999999999403},0.8070454357820732,-0.06278999999999403,0.807050981244346,0.5545462272826818,0.9391312811639981,-0.9391312811639981,0.5545470135128282,7.862301464323096E-7]
[null,null,{"$f":"C101+Sheet2!B$12","v":-0.03139999999999402},0.8243697381667328,-0.03138999999999402,0.8243752236938249,0.5485527092119469,0.9690878603945071,-0.9690878603945071,0.5485538374357747,1.1282238278065293E-6]
[null,null,{"$f":"C102+Sheet2!B$12","v":5.981326545168031e-15},0.8414709848078997,1.0000000005981327E-5,0.8414763878158995,0.5403007999782439,1.000000000000006,-1.000000000000006,0.5403023058681379,1.5058898940045751E-6]
[null,null,{"$f":"C103+Sheet2!B$12","v":0.031400000000005986},0.8582746632929373,0.03141000000000599,0.8582799588782889,0.5295585351561272,1.0318981806179275,-1.0318981806179275,0.5295604569272725,1.9217711453300979E-6]
[null,null,{"$f":"C104+Sheet2!B$12","v":0.06280000000000599},0.8746987250357796,0.06281000000000599,0.8747038858137968,0.5160778017154755,1.0648138551625823,-1.0648138551625823,0.5160801801657623,2.3784502868329227E-6]
[null,null,{"$f":"C105+Sheet2!B$12","v":0.094200000000006},0.8906530731856348,0.094210000000006,0.8906580691260634,0.4995940428575984,1.0987794798390236,-1.0987794798390236,0.49959692143433293,2.878576734532956E-6]
[null,null,{"$f":"C106+Sheet2!B$12","v":0.125600000000006},0.9060390438288319,0.12561000000000602,0.9060438420901595,0.4798261327598751,1.1338285461461943,-1.1338285461461943,0.47982955754789375,3.4247880186244473E-6]
[null,null,{"$f":"C107+Sheet2!B$12","v":0.15700000000000602},0.9207488864833356,0.15701000000000603,0.920753451247983,0.45647646473856435,1.1699956139009207,-1.1699956139009207,0.45648048442350025,4.0196849359075415E-6]
[null,null,{"$f":"C108+Sheet2!B$12","v":0.18840000000000603},0.9346652513683374,0.18841000000000604,0.9346695436813756,0.42923130381122826,1.207316345315308,-1.207316345315308,0.429235969611741,4.66580051272647e-06]
[null,null,{"$f":"C109+Sheet2!B$12","v":0.21980000000000605},0.9476606926552572,0.21981000000000606,0.9476646702698848,0.3977614627559411,1.245827540161144,-1.245827540161144,0.3977668282495223,5.3654935812108562E-6]
[null,null,{"$f":"C110+Sheet2!B$12","v":0.25120000000000603},0.9595971988987948,0.25121000000000604,0.9596008161324895,0.3617233694686028,1.285567172055985,-1.285567172055985,0.36172949045380404,6.12098520125226e-06]
[null,null,{"$f":"C111+Sheet2!B$12","v":0.282600000000006},0.970325764135374,0.282610000000006,0.9703289717414132,0.3207606039223876,1.326574425906697,-1.326574425906697,0.32076753806308506,6.9341406974676723E-6]
[null,null,{"$f":"C112+Sheet2!B$12","v":0.314000000000006},0.9796860157493607,0.314010000000006,0.9796887608092897,0.27450599290324007,1.3688897365473838,-1.3688897365473838,0.2745137993975243,7.8064942842237528E-6]
[null,null,{"$f":"C113+Sheet2!B$12","v":0.345400000000006},0.9875059181715076,0.345410000000006,0.98750814401514,0.22258436324085193,1.4125548286097909,-1.4125548286097909,0.22259310229055007,8.7390496981420984E-6]
[null,null,{"$f":"C114+Sheet2!B$12","v":0.37680000000000596},0.9936015748132886,0.376810000000006,0.9936032209739462,0.16461606575646215,1.4576127576655027,-1.4576127576655027,0.16462579793196655,9.732175504401086E-6]
[null,null,{"$f":"C115+Sheet2!B$12","v":0.40820000000000595},0.9977771543745919,0.40821000000000596,0.9977781565885455,0.10022139536047801,1.5041079526805032,-1.5041079526805032,0.10023218087203287,1.07855115548533E-5]
[null,null,{"$f":"C116+Sheet2!B$12","v":0.43960000000000593},0.9998249718030214,0.43961000000000594,0.9998252620634805,0.02902604591126234,1.5520862598239575,-1.5520862598239575,0.02903794359439146,1.1897683129119541E-5]
[null,null,{"$f":"C117+Sheet2!B$12","v":0.4710000000000059},0.9995257587328852,0.4710100000000059,0.9995252654103933,-0.04933224918568512,1.601594987674416,-1.601594987674416,-0.0493191830151903,1.306617049481873E-5]
[null,null,{"$f":"C118+Sheet2!B$12","v":0.502400000000006},0.9966491631784895,0.5024100000000059,0.9966478112212214,-0.13519572681364167,1.652682953868012,-1.652682953868012,-0.1351814397295819,1.4287084059760868E-5]
[null,null,{"$f":"C119+Sheet2!B$12","v":0.5338000000000059},0.9909545235679197,0.5338100000000059,0.9909522347971198,-0.228877079988532,1.7054005332346533,-1.7054005332346533,-0.22886152512971134,1.5554858820654438E-5]
[null,null,{"$f":"C120+Sheet2!B$12","v":0.5652000000000059},0.9821919678227343,0.5652100000000059,0.9821886613403656,-0.33064823686812517,1.7597997074696716,-1.7597997074696716,-0.3306313748449764,1.6862023148767058E-5]
[null,null,{"$f":"C121+Sheet2!B$12","v":0.5966000000000059},0.9701038940254818,0.5966100000000059,0.970099486753035,-0.44072724467714147,1.815934116389904,-1.815934116389904,-0.44070904583029225,1.819884684922668E-5]
[null,null,{"$f":"C122+Sheet2!B$12","v":0.6280000000000059},0.9544268951380246,0.6280100000000058,0.954421302507319,-0.5592630705542057,1.8738591108247544,-1.8738591108247544,-0.5592435175733432,1.9552980862425073E-5]
[null,null,{"$f":"C123+Sheet2!B$12","v":0.6594000000000059},0.9348941960538228,0.6594100000000058,0.9348873328724417,-0.6863181381100424,1.9336318071943797,-1.9336318071943797,-0.6862972289518092,2.0909158233162195E-5]
[null,null,{"$f":"C124+Sheet2!B$12","v":0.6908000000000059},0.9112386767356444,0.6908100000000058,0.9112304582513029,-0.8218484341515618,1.9953111438288236,-1.9953111438288236,-0.8218261854667849,2.2248684776959848E-5]
[null,null,{"$f":"C125+Sheet2!B$12","v":0.7222000000000058},0.8831965599759455,0.7222100000000058,0.8831869031654586,-0.9656810486924349,2.0589579390836263,-2.0589579390836263,-0.9656574995555237,2.3549136911160673E-5]
[null,null,{"$f":"C126+Sheet2!B$12","v":0.7536000000000058},0.8505118459936318,0.7536100000000058,0.850500671103094,-1.1174890537812843,2.124634951309219,-2.124634951309219,-1.1174642699702038,2.4783811080508755E-5]
[null,null,{"$f":"C127+Sheet2!B$12","v":0.7850000000000058},0.8129415781073418,0.7850100000000058,0.8129288104704402,-1.2767636901611645,2.1924069407332283,-2.1924069407332283,-1.2767377687311035,2.5921430061082162E-5]
[null,null,{"$f":"C128+Sheet2!B$12","v":0.8164000000000058},0.7702620234277631,0.8164100000000057,0.7702475955886023,-1.442783916072443,2.262340733316721,-2.262340733316721,-1.4427569904830475,2.6925589395432326E-5]
[null,null,{"$f":"C129+Sheet2!B$12","v":0.8478000000000058},0.7222758490626032,0.8478100000000057,0.7222597032277136,-1.6145834889624842,2.3345052866473384,-2.3345052866473384,-1.614555734399601,2.7754562883064438E-5]
[null,null,{"$f":"C130+Sheet2!B$12","v":0.8792000000000058},{"$f":"SIN(EXP(x))","v":0.6688203667276603},0.8792100000000057,0.6688024575686634,{"$f":"(F131-D131)/dxx","v":-1.7909158996909367},2.408971757934307,-2.408971757934307,-1.790887538888581,2.8360802355686943E-5]
[null,null,{"$f":"C131+Sheet2!B$12","v":0.9106000000000057},0.6097769057156485,0.9106100000000057,0.6097572035389346,-1.9702176713876083,2.485813574172367,-2.485813574172367,-1.9701889805594948,{"$f":"J132-G132","v":2.8690828113520084E-5}]
[null,null,{"$f":"C132+Sheet2!B$12","v":0.9420000000000057},0.5450813544969529,0.9420100000000057,0.5450598487892218,-2.150570773118421,2.565106504543797,-2.565106504543797,-2.150542087849737,2.8685268683936727E-5]
[null,null,{"$f":"C133+Sheet2!B$12","v":0.9734000000000057},0.47473588320963284,0.9734100000000057,0.47471258655771614,-2.329665191669328,2.64692873512994,-2.64692873512994,-2.329636913031687,2.8278637640877236E-5]
[null,null,{"$f":"C134+Sheet2!B$12","v":1.0048000000000057},0.3988218211321831,1.0048100000000058,0.3987967735015773,-2.5047630605845583,2.7313609460058803,-2.7313609460058803,-2.5047356602740662,2.7400310492087243E-5]
[null,null,{"$f":"C135+Sheet2!B$12","v":1.0362000000000058},0.31751361293325,1.0362100000000058,0.31748688627163346,-2.6726661616516267,2.8184863907943125,-2.8184863907943125,-2.6726401871671865,2.5974484440194345E-5]
[null,null,{"$f":"C136+Sheet2!B$12","v":1.0676000000000059},0.2310937129356441,1.067610000000006,0.23106541604456704,-2.829689107705646,2.908390978757023,-2.908390978757023,-2.829665185814564,2.392189108180176E-5]
[null,null,{"$f":"C137+Sheet2!B$12","v":1.099000000000006},0.1399681956426354,1.099010000000006,0.13993847923195066,-2.971641068474917,3.001163359504947,-3.001163359504947,-2.971619907200822,2.116127409479418E-5]
[null,null,{"$f":"C138+Sheet2!B$12","v":1.130400000000006},0.04468276125010792,1.1304100000000061,0.04465182305485247,-3.093819525545188,3.0968950104103237,-3.0968950104103237,-3.0938019142044126,1.7611340775491868E-5]
[null,null,{"$f":"C139+Sheet2!B$12","v":1.1618000000000062},-0.054061305039407065,1.1618100000000062,-0.05409321524157358,-3.191020216651574,3.195680326807132,-3.195680326807132,-3.1910070225977036,1.3194053870346778E-5]
[null,null,{"$f":"C140+Sheet2!B$12","v":1.1932000000000063},-0.15539180271439865,1.1932100000000063,-0.15542437839572737,-3.2575681328722568,3.2976167150687634,-3.2976167150687634,-3.25756029450646,7.8383657968750242E-6]
[null,null,{"$f":"C141+Sheet2!B$12","v":1.2246000000000064},-0.2582516613158834,1.2246100000000064,-0.25828453506724347,-3.2873751360074084,3.402804688654703,-3.402804688654703,-3.2873736514184517,1.4845889566572623E-6]
[null,null,{"$f":"C142+Sheet2!B$12","v":1.2560000000000064},-0.36138729334922715,1.2560100000000065,-0.36142003365337483,-3.274030414768258,3.511347967220921,-3.511347967220921,-3.2740363241532386,-5.909384980462562E-6]
[null,null,{"$f":"C143+Sheet2!B$12","v":1.2874000000000065},-0.46334039058082893,1.2874100000000066,-0.46337249988606694,-3.2109305238003922,3.6233535788917046,-3.6233535788917046,-3.210944885270204,-1.4361469811596805E-5]
[null,null,{"$f":"C144+Sheet2!B$12","v":1.3188000000000066},-0.5624445169636634,1.3188100000000067,-0.5624754315242965,-3.09145606330885,3.738931965793784,-3.738931965793784,-3.091479920719027,-2.3857410176741922E-5]
[null,null,{"$f":"C145+Sheet2!B$12","v":1.3502000000000067},-0.6568280736459018,1.3502100000000068,-0.6568571656661736,-2.909202027179258,3.858197092956794,-3.858197092956794,-2.909236368829675,-3.4341650417157865E-5]
[null,null,{"$f":"C146+Sheet2!B$12","v":1.3816000000000068},-0.7444254254932431,1.3816100000000069,-0.744452008176473,-2.6582683229858795,3.9812665606874686,-3.9812665606874686,-2.6583140301580954,-4.5707172215969649E-5]
[null,null,{"$f":"C147+Sheet2!B$12","v":1.413000000000007},-0.8229981658257494,1.413010000000007,-0.8230215019833047,-2.3336157555342574,4.108261720528368,-4.108261720528368,-2.3336735405117075,-5.7784977450126007E-5]
[null,null,{"$f":"C148+Sheet2!B$12","v":1.444400000000007},-0.8901686316222548,1.444410000000007,-0.8901879465286882,-1.9314906433365306,4.239307794915474,-4.239307794915474,-1.931560976212344,-7.0332875813372553E-5]
[null,null,{"$f":"C149+Sheet2!B$12","v":1.475800000000007},-0.9434678326924871,1.4758100000000072,-0.943482331871932,-1.4499179444849017,4.37453400065265,-4.37453400065265,-1.4500009694126479,-8.3024927746144783E-5]
[null,null,{"$f":"C150+Sheet2!B$12","v":1.5072000000000072},-0.9803998842855621,1.5072100000000073,-0.9804087768659054,-0.8892580343311528,4.514073676324706,-4.514073676324706,-0.88935347622309,-9.5441891937220191E-5]
[null,null,{"$f":"C151+Sheet2!B$12","v":1.5386000000000073},-0.9985247835846528,1.5386100000000074,-0.9985273117428602,-0.2528158207448783,4.658064413774716,-4.658064413774716,-0.2529228850856786,-1.0706434080032246E-4]
[null,null,{"$f":"C152+Sheet2!B$12","v":1.5700000000000074},-0.9955608885239875,1.5700100000000075,-0.9955563633486076,0.45251753798547506,4.806648193775214,-4.806648193775214,0.45240026846737674,-1.1726951809831743E-4]
[null,null,{"$f":"C153+Sheet2!B$12","v":1.6014000000000075},-0.9695076777053206,1.6014100000000075,-0.9694955214992809,1.2156206039781736,4.9599715260270605,-4.9599715260270605,1.2154952699359443,-1.2533404222936362E-4]
[null,null,{"$f":"C154+Sheet2!B$12","v":1.6328000000000076},-0.9187882250101181,1.6328100000000076,-0.9187680196268714,2.020538324676302,5.118185593624019,-5.118185593624019,2.020407880205441,-1.3044447086096866E-4]
[null,null,{"$f":"C155+Sheet2!B$12","v":1.6642000000000077},-0.8424092465290376,1.6642100000000077,-0.8423807867584004,2.8459770637145883,5.281446402125481,-5.281446402125481,2.845845345118053,-1.3171859653526852E-4]
[null,null,{"$f":"C156+Sheet2!B$12","v":1.6956000000000078},-0.7401345169647722,1.6956100000000078,-0.740097867247421,3.6649717351178164,5.44991493338435,-5.44991493338435,3.6648434956920104,-1.2823942580597603E-4]
[null,null,{"$f":"C157+Sheet2!B$12","v":1.7270000000000079},-0.6126648784309323,1.727010000000008,-0.6126204302787536,4.444815217874432,5.623757304281751,-5.623757304281751,4.444696112977296,-1.1910489713518047E-4]
[null,null,{"$f":"C158+Sheet2!B$12","v":1.758400000000008},-0.4618149890526014,1.758410000000008,-0.46176351549879224,5.1473553809133765,5.803144930525085,-5.803144930525085,5.147251885125064,-1.0349578831281292E-4]
[null,null,{"$f":"C159+Sheet2!B$12","v":1.789800000000008},-0.2906734583665864,1.7898100000000081,-0.2906161606018155,5.7297764770924955,5.988254695670949,-5.988254695670949,5.729695714836176,-8.0762256319921732E-5]
[null,null,{"$f":"C160+Sheet2!B$12","v":1.8212000000000081},-0.10372925818501444,1.8212100000000082,-0.1036677983247745,6.145986023993466,6.179269125539577,-6.179269125539577,6.145935494274081,-5.0529719384684313E-5]
[null,null,{"$f":"C161+Sheet2!B$12","v":1.8526000000000082},0.09305643126328815,1.8526100000000083,0.0931199184757585,6.348721247034782,6.376376568192782,-6.376376568192782,6.348708425358401,-1.2821676381058467E-5]
[null,null,{"$f":"C162+Sheet2!B$12","v":1.8840000000000083},0.2922570413314254,1.8840100000000084,0.29231996598611304,6.292465468765717,6.579771379652877,-6.579771379652877,6.292497275288532,3.18065228155362e-05]
[null,null,{"$f":"C163+Sheet2!B$12","v":1.9154000000000084},0.48509238156906204,1.9154100000000085,0.48515175375472125,5.93721856592122,6.789654115545674,-6.789654115545674,5.937300697240963,8.2131319743439235E-5]
[null,null,{"$f":"C164+Sheet2!B$12","v":1.9468000000000085},0.6616719259306241,1.9468100000000086,0.6617244568379301,5.253090730605869,7.006231728856563,-7.006231728856563,5.2532268686601,1.3613805423062786E-4]
[null,null,{"$f":"C165+Sheet2!B$12","v":1.9782000000000086},0.8113936132533036,1.9782100000000087,0.8114358690539418,4.225580063821344,7.229717773994642,-7.229717773994642,4.225770993616761,1.9092979541746047E-4]
[null,null,{"$f":"C166+Sheet2!B$12","v":2.0096000000000087},0.9235155913707339,2.009610000000009,0.9235442038615824,2.8612490848511913,7.460332617366118,-7.460332617366118,2.861491781044993,2.4269619380179464E-4]
[null,null,{"$f":"C167+Sheet2!B$12","v":2.041000000000009},0.9879066371964083,2.041010000000009,0.9879185705419729,1.1933345564596465,7.698303654664633,-7.698303654664633,1.193621328337065,2.8677187741843468E-4]
[null,null,{"$f":"C168+Sheet2!B$12","v":2.072400000000009},0.9959631610988275,2.072410000000009,0.9959560272750047,-0.7133823822891293,7.94386553509273,-7.94386553509273,-0.7130645632917173,3.1781899741201158E-4]
[null,null,{"$f":"C169+Sheet2!B$12","v":2.103800000000009},0.9416561763384875,2.103810000000009,0.9416285829962194,-2.7593342268095173,8.197260392735597,-8.197260392735597,-2.7590040582947806,3.3016851473677278E-4]
[null,null,{"$f":"C170+Sheet2!B$12","v":2.135200000000009},0.8226405944783819,2.135210000000009,0.8225924981464875,-4.8096331894398325,8.458738085315211,-8.458738085315211,-4.809314844916662,3.1834452317092143E-4]
[null,null,{"$f":"C171+Sheet2!B$12","v":2.166600000000009},0.6413231546530215,2.1666100000000093,0.6412561802029079,-6.697445011361046,8.728556440560286,-8.728556440560286,-6.697167226839229,2.7778452181781432E-4]
[null,null,{"$f":"C172+Sheet2!B$12","v":2.1980000000000093},0.40574742789197493,2.1980100000000093,0.40566510335276756,-8.232453920736793,9.006981510434999,-9.006981510434999,-8.232248186173312,2.0573456348138563E-4]
[null,null,{"$f":"C173+Sheet2!B$12","v":2.2294000000000094},0.13012011857563469,2.2294100000000094,0.13002796485293527,-9.215372269941179,9.294287833477131,-9.294287833477131,-9.215270004661585,1.0226527959389387E-4]
[null,null,{"$f":"C174+Sheet2!B$12","v":2.2608000000000095},-0.16521967644997407,2.2608100000000095,-0.16531426567198135,-9.45892220072797,9.590758705504333,-9.590758705504333,-9.458950907647523,-2.8706919552590193E-5]
[null,null,{"$f":"C175+Sheet2!B$12","v":2.2922000000000096},-0.45458701601846485,2.2922100000000096,-0.45467516424995386,-8.814823148900475,9.896686458955413,-9.896686458955413,-8.81500171160435,-1.7856270387461848E-4]
[null,null,{"$f":"C176+Sheet2!B$12","v":2.3236000000000097},-0.7086583238128384,2.3236100000000097,-0.7087303740600467,-7.205024720824404,10.212372751142109,-10.212372751142109,-7.205358249010773,-3.335281863696693E-4]
[null,null,{"$f":"C177+Sheet2!B$12","v":2.3550000000000098},-0.8971836708916734,2.35501000000001,-0.8972302085925455,-4.6537700872151255,10.538128861695577,-10.538128861695577,-4.6542450003699,-4.7491315477454776E-4]
[null,null,{"$f":"C178+Sheet2!B$12","v":2.38640000000001},-0.9926523782526396,2.38641000000001,-0.9926655304382639,-1.3152185624254464,10.874275999500874,-10.874275999500874,-1.3157988969810066,-5.8033455556016911E-4]
[null,null,{"$f":"C179+Sheet2!B$12","v":2.41780000000001},-0.9746664802073268,2.41781000000001,-0.9746413763658943,2.5103841432505547,11.22114561942208,-11.22114561942208,2.509757972206967,-6.2617104358775322E-4]
[null,null,{"$f":"C180+Sheet2!B$12","v":2.44920000000001},-0.8345364376715629,2.44921000000001,-0.834472636499688,6.380117187498867,11.579079749130402,-11.579079749130402,6.379525845656672,-5.913418421954475E-4]
[null,null,{"$f":"C181+Sheet2!B$12","v":2.48060000000001},-0.5793567589311952,2.48061000000001,-0.579259365742873,9.739318832224786,11.948431326357479,-11.948431326357479,9.738856597425324,-4.6223479946227997E-4]
[null,null,{"$f":"C182+Sheet2!B$12","v":2.5120000000000102},-0.2345990313039258,2.5120100000000103,-0.23447917418339398,11.985712053180773,12.32956454690646,-12.32956454690646,11.985473837525316,-2.3821565545745216E-4]
[null,null,{"$f":"C183+Sheet2!B$12","v":2.5434000000000103},0.15584673983112385,2.5434100000000104,0.15597241317588742,12.56733447635716,12.722855223764002,-12.722855223764002,12.567397809659106,6.33333019450788e-05]
[null,null,{"$f":"C184+Sheet2!B$12","v":2.5748000000000104},0.5331508581371919,2.5748100000000105,0.5332619254753472,11.106733815535728,13.128691157667289,-13.128691157667289,11.107137792160804,4.0397662507629661E-4]
[null,null,{"$f":"C185+Sheet2!B$12","v":2.6062000000000105},0.8311106521780532,2.6062100000000106,0.8311859833813566,7.533120330338593,13.547472519491468,-13.547472519491468,7.533845377008611,0.000725046670018159]
[null,null,{"$f":"C186+Sheet2!B$12","v":2.6376000000000106},0.9876139128180945,2.6376100000000107,0.9876358378007242,2.1924982629650813,13.979612244834533,-13.979612244834533,2.1934523571884106,9.5409422332926042E-4]
[null,null,{"$f":"C187+Sheet2!B$12","v":2.6690000000000107},0.9587088466393916,2.6690100000000108,0.9586678117584035,-4.103488098805563,14.42553644118877,-14.42553644118877,-4.102470072756446,0.001018026049117715]
[null,null,{"$f":"C188+Sheet2!B$12","v":2.700400000000011},0.7326983441839068,2.700410000000011,0.7325970305033518,-10.131368055499301,14.885684808100216,-14.885684808100216,-10.130505662343927,8.6239315537461891E-4]
[null,null,{"$f":"C189+Sheet2!B$12","v":2.731800000000011},0.3405033607086277,2.731810000000011,0.3403589297939754,-14.443091465227152,15.360511070730443,-15.360511070730443,-14.442617603728769,4.7386149838324343E-4]
[null,null,{"$f":"C190+Sheet2!B$12","v":2.763200000000011},-0.14203817092067136,2.763210000000011,-0.14219506770269583,-15.689678202446265,15.850483427248184,-15.850483427248184,-15.68977824752543,-1.0004507916505645E-4]
[null,null,{"$f":"C191+Sheet2!B$12","v":2.794600000000011},-0.6036900887807035,2.794610000000011,-0.6038204751890135,-13.038640830997926,16.356085010491913,-16.356085010491913,-13.039383200307885,-0.000742369309959301]
[null,null,{"$f":"C192+Sheet2!B$12","v":2.826000000000011},-0.9206924925422244,2.8260100000000112,-0.9207583519739793,-6.585943175485553,16.877814364358663,-16.877814364358663,-6.5872216288468906,-1.2784533613379168E-3]
[null,null,{"$f":"C193+Sheet2!B$12","v":2.8574000000000113},-0.9905718528024519,2.8574100000000113,-0.9905479784994125,2.3874303039406186,17.41618593538872,-17.41618593538872,2.385916052570498,-1.5142513701205118E-3]
[null,null,{"$f":"C194+Sheet2!B$12","v":2.8888000000000114},{"$f":"SIN(EXP(x))","v":-0.7693514713793255},2.8888100000000114,-0.7692366503423049,{"$f":"(F195-D195)/dxx","v":11.482103702054046},17.971730580031053,-17.971730580031053,11.480803909633423,-1.2997924206228362E-3]
[null,null,{"$f":"C195+Sheet2!B$12","v":2.9202000000000115},-0.299873294609379,2.9202100000000115,-0.2996963731936931,17.692141568592668,18.544996088089505,-18.544996088089505,17.6915375495698,{"$f":"J196-G196","v":-6.0401902286599807E-4}]
[null,null,{"$f":"C196+Sheet2!B$12","v":2.9516000000000115},0.28306834767097566,2.9516100000000116,0.2832518819837989,18.35343128232525,19.136547722866027,-19.136547722866027,18.353857938303047,4.2665597779745212E-4]
[null,null,{"$f":"C197+Sheet2!B$12","v":2.9830000000000116},0.7817160960170442,2.9830100000000117,0.781839230293596,12.31342765518617,19.74696877853348,-19.74696877853348,12.314890298363814,1.4626431776445514E-3]
[null,null,{"$f":"C198+Sheet2!B$12","v":3.0144000000000117},0.9990544114733615,3.014410000000012,0.9990632501023601,0.883862899858645,20.376861155287592,-20.376861155287592,0.8859326162566463,2.0697163980013533E-3]
[null,null,{"$f":"C199+Sheet2!B$12","v":3.045800000000012},0.8216516179050481,3.045810000000012,0.8215317482200274,-11.9869685020757,21.026845952845264,-21.026845952845264,-11.985092269472009,1.8762326036902977E-3]
[null,null,{"$f":"C200+Sheet2!B$12","v":3.077200000000012},0.2893851984601197,3.077210000000012,0.2891774987662179,-20.7699693901775,21.69756408287433,-21.69756408287433,-20.769184509749003,7.8488042849755857E-4]
[null,null,{"$f":"C201+Sheet2!B$12","v":3.108600000000012},-0.3880624194183995,3.108610000000012,-0.38826876139339384,-20.63419749943618,22.38967690095878,-22.38967690095878,-20.63506717984665,-8.6968041047086331E-4]
[null,null,{"$f":"C202+Sheet2!B$12","v":3.140000000000012},-0.896904091111124,3.140010000000012,-0.8970062387844999,-10.214767337590747,23.103866858722462,-23.103866858722462,-10.217110152717828,-2.3428151270810105E-3]
[{"$nulls":4},1e-05,0.8414763878158963,null,1,-1,0.5403023058681398]
[null,null,{"$f":"C3+0.00001","v":-3.13999},{"$f":"SIN(2*x)","v":3.2053016910379953E-3},-3.13998,0.04327014968510295,null,0.04328323073210907,-0.04328323073210907,0.0432426928355087]
[null,null,{"$f":"C4+0.00001","v":-3.10859},0.06595739005883838,-3.10858,0.04464948499932449,null,0.04466388704372904,-0.04466388704372904,0.044619345285511494]
[null,null,-3.07719,0.1284494385132687,-3.07718,0.04607272934242886,null,0.04608858377974835,-0.04608858377974835,0.04603964273716222]
[null,null,-3.0457899999999998,0.1904350694027586,-3.0457799999999997,0.04754127451779732,null,0.047558725749578964,-0.047558725749578964,0.04750495095324253]
[null,null,-3.0143899999999997,0.251669901649277,-3.0143799999999996,0.04905655585444977,null,0.04907576257349722,-0.04907576257349722,0.049016676652606256]
[null,null,-2.9829899999999996,0.31191251423148864,-2.9829799999999995,0.05062005350952118,null,0.05064119011202886,-0.05064119011202886,0.05057626855916636]
[null,null,-2.9515899999999995,0.3709253979977565,-2.9515799999999994,0.05223329380380866,null,0.05225655194092885,-0.05225655194092885,0.052185218458964976]
[null,null,-2.9201899999999994,0.42847589205642606,-2.9201799999999993,0.05389785059060854,null,0.05392344087321038,-0.05392344087321038,0.05384506226308671]
[null,null,-2.8887899999999993,0.4843371010516308,-2.8887799999999992,0.055615346657987765,null,0.055643500529723854,-0.055643500529723854,0.055557381073858034]
[null,null,-2.857389999999999,0.5382887897082196,-2.857379999999999,0.05738745516454795,null,0.05741842695983439,-0.05741842695983439,0.05732380225142542]
[null,null,-2.825989999999999,0.5901182511190224,-2.825979999999999,0.05921590110864331,null,0.059249970313796106,-0.059249970313796106,0.05914600047741629]
[null,null,-2.794589999999999,0.6396211453511937,-2.794579999999999,0.06110246283090357,null,0.06113993656847205,-0.06113993656847205,0.061025698811957386]
[null,null,-2.763189999999999,0.686602305065392,-2.763179999999999,0.06304897354978858,null,0.06309018930810142,-0.06309018930810142,0.06296466973985046]
[null,null,-2.731789999999999,0.7308765049716048,-2.7317799999999988,0.0650573229297613,null,0.0651026515618701,-0.0651026515618701,0.06496473620118044]
[null,null,-2.7003899999999987,0.7722691920880076,-2.7003799999999987,0.06712945868150873,null,0.06717930770009622,-0.06717930770009622,0.06702777260105183]
[null,null,-2.6689899999999986,0.8106171739237771,-2.6689799999999986,0.0692673881934638,null,0.06932220539090081,-0.06932220539090081,0.06915570579250963]
[null,null,-2.6375899999999985,0.8457692618726692,-2.6375799999999985,0.07147318019368339,null,0.0715334576192924,-0.0715334576192924,0.0713505160259949]
[null,null,-2.6061899999999985,0.8775868672807536,-2.6061799999999984,0.07374896644091762,null,0.07381524477065701,-0.07381524477065701,0.07361423785790763]
[null,null,-2.5747899999999984,0.9059445478382819,-2.5747799999999983,0.0760969434434582,null,0.07616981678070751,-0.07616981678070751,0.07594896100999064]
[null,null,-2.5433899999999983,0.930730502141515,-2.543379999999998,0.07851937420407912,null,0.07859949535401249,-0.07859949535401249,0.07835683117030338]
[null,null,-2.511989999999998,0.9518470104746778,-2.511979999999998,0.08101858998907743,null,0.08110667625329225,-0.08110667625329225,0.08084005072551272]
[null,null,-2.480589999999998,0.9692108200742401,-2.480579999999998,0.08359699211908098,null,0.08369383166173905,-0.08369383166173905,0.08340087941308083]
[null,null,-2.449189999999998,0.9827534733566011,-2.449179999999998,0.08625705377891205,null,0.0863635126206911,-0.0863635126206911,0.08604163488066827]
[null,null,-2.417789999999998,0.9924215778151259,-2.417779999999998,0.08900132184337639,null,0.08911835154506403,-0.08911835154506403,0.0887646931386806]
[null,null,-2.386389999999998,0.9981770165224525,-2.3863799999999977,0.09183241871538128,null,0.0919610648190199,-0.0919610648190199,0.09157248889035959]
[null,null,-2.3549899999999977,0.9999970984081563,-2.3549799999999976,0.09475304417227089,null,0.09489445547443337,-0.09489445547443337,0.09446751572213903]
[null,null,-2.3235899999999976,0.9978746477192934,-2.3235799999999975,0.09776597721569552,null,0.09792141595479614,-0.09792141595479614,0.09745232613513914]
[null,null,-2.2921899999999975,0.9918180323111224,-2.2921799999999974,0.10087407791970007,null,0.10104493096728483,-0.10104493096728483,0.10052953139664275]
[null,null,-2.2607899999999974,0.9818511306564676,-2.2607799999999973,0.10408028927101756,null,0.10426808042580467,-0.10426808042580467,0.10370180118816814]
[null,null,-2.2293899999999973,0.9680132377037877,-2.2293799999999973,0.10738763899478176,null,0.10759404248791093,-0.10759404248791093,0.10697186302430368]
[null,null,-2.1979899999999972,0.9503589099551126,-2.197979999999997,0.11079924135802031,null,0.11102609668860262,-0.11102609668860262,0.1103425014137826]
[null,null,-2.166589999999997,0.9289577503746331,-2.166579999999997,0.11431829894234809,null,0.11456762717407847,-0.11456762717407847,0.11381655673132589]
[null,null,-2.135189999999997,0.9038941339759505,-2.135179999999997,0.11794810437624273,null,0.1182221260386439,-0.1182221260386439,0.11739692376554535]
[null,null,-2.103789999999997,0.8752668751698722,-2.103779999999997,0.12169204201613915,null,0.12199319676805923,-0.12199319676805923,0.12108654990465047]
[null,null,-2.072389999999997,0.8431888381842476,-2.072379999999997,0.12555358956431878,null,0.1258845577927244,-0.1258845577927244,0.12488843291781178]
[null,null,-2.0409899999999968,0.8077864920917823,-2.0409799999999967,0.12953631961017956,null,0.1299000461542039,-0.1299000461542039,0.12880561828577075]
[null,null,-2.0095899999999967,0.7691994122001526,-2.0095799999999966,0.1336439010799434,null,0.134043621288707,-0.134043621288707,0.13284119602961542]
[null,null,-1.9781899999999966,0.7275797297702113,-1.9781799999999965,0.13788010057817482,null,0.1383193689312544,-0.1383193689312544,0.13699829698152782]
[null,null,-1.9467899999999965,0.6830915322317965,-1.9467799999999964,0.1422487836026328,null,0.14273150514438046,-0.14273150514438046,0.14128008843571166]
[null,null,-1.9153899999999964,0.6359102162618167,-1.9153799999999963,0.14675391561194415,null,0.14728438047534367,-0.14728438047534367,0.1456897691115844]
[null,null,-1.8839899999999963,0.5862217962751322,-1.8839799999999962,0.15139956292334852,null,0.15198248424594485,-0.15198248424594485,0.1502305633546227]
[null,null,-1.8525899999999962,0.5342221710545377,-1.8525799999999961,0.1561898934153114,null,0.15683044897918239,-0.15683044897918239,0.1549057144929282]
[null,null,-1.821189999999996,0.48011635141118847,-1.821179999999996,0.1611291770071029,null,0.16183305496711003,-0.16183305496711003,0.1597184772595862]
[null,null,-1.789789999999996,0.4241176519204537,-1.789779999999996,0.16622178588448253,null,0.16699523498440091,-0.16699523498440091,0.16467210918215605]
[null,null,-1.758389999999996,0.3664468499198148,-1.7583799999999958,0.1714721944373844,null,0.17232207915226555,-0.17232207915226555,0.16976986083110457]
[null,null,-1.7269899999999958,0.3073313150844946,-1.7269799999999957,0.17688497887193882,null,0.17781883995752024,-0.17781883995752024,0.17501496480860212]
[null,null,-1.6955899999999957,0.24700411301250563,-1.6955799999999956,0.1824648164552678,null,0.18349093743175449,-0.18349093743175449,0.18041062334777355]
[null,null,-1.6641899999999956,0.18570308635327137,-1.6641799999999956,0.18821648434722216,null,0.1893439644957043,-0.1893439644957043,0.1859599943801609]
[null,null,-1.6327899999999955,0.12366991710251281,-1.6327799999999955,0.1941448579685526,null,0.19538369247410156,-0.19538369247410156,0.19166617591572954]
[null,null,-1.6013899999999954,0.061149173760342596,-1.6013799999999954,0.2002549088498939,null,0.20161607678643684,-0.20161607678643684,0.1975321885651481]
[null,null,-1.5699899999999953,-0.001612652890810972,-1.5699799999999953,0.20655170190034847,null,0.2080472628192473,-0.2080472628192473,0.20356095601821003]
[null,null,-1.5385899999999952,-0.06436812158696285,-1.5385799999999952,0.2130403920283447,null,0.21468359198571982,-0.21468359198571982,0.2097552832750445]
[null,null,-1.5071899999999951,-0.12686981613064546,-1.507179999999995,0.21972622004077005,null,0.22153160797858443,-0.22153160797858443,0.21611783240808893]
[null,null,-1.475789999999995,-0.18887132084015695,-1.475779999999995,0.22661450773909422,null,0.22859806322246387,-0.22859806322246387,0.22265109561256877]
[null,null,-1.444389999999995,-0.2501281920542322,-1.444379999999995,0.23371065212325157,null,0.23588992553204102,-0.23588992553204102,0.22935736528134065]
[null,null,-1.4129899999999949,-0.3103989218619363,-1.4129799999999948,0.24102011860539055,null,0.2434143849826101,-0.2434143849826101,0.23623870081630588]
[null,null,-1.3815899999999948,-0.36944589025823316,-1.3815799999999947,0.24854843312616573,null,0.2511788609997856,-0.2511788609997856,0.24329689186308073]
[null,null,-1.3501899999999947,-0.42703630197131415,-1.3501799999999946,0.2563011730559832,null,0.2591910096753605,-0.2591910096753605,0.2505334176281142]
[null,null,-1.3187899999999946,-0.48294310426820336,-1.3187799999999945,0.26428395675244937,null,0.2674587313165266,-0.2674587313165266,0.25794940190787125]
[null,null,-1.2873899999999945,-0.5369458821201509,-1.2873799999999944,0.27250243163315163,null,0.2759901782359012,-0.2759901782359012,0.2655455634279528]
[null,null,-1.2559899999999944,-0.5888317271985856,-1.2559799999999943,0.28096226060974144,null,0.2847937627900423,-0.2847937627900423,0.27332216105601104]
[null,null,-1.2245899999999943,-0.6383960772755704,-1.2245799999999942,0.28966910671503365,null,0.2938781656743765,-0.2938781656743765,0.2812789334159645]
[null,null,-1.1931899999999942,-0.6854435227193906,-1.1931799999999941,0.2986286157393958,null,0.3032523444827212,-0.3032523444827212,0.2894150323922631]
[null,null,-1.161789999999994,-0.7297885769056275,-1.161779999999994,0.3078463966760058,null,0.3129255425398392,-0.3129255425398392,0.2977289499717517]
[null,null,-1.130389999999994,{"$f":"SIN(2*x)","v":-0.7712564075063387},-1.130379999999994,0.31732799975653225,null,0.322907298015736,-0.322907298015736,0.3062184378270265]
[null,null,{"$f":"C68+0.00001","v":-1.098989999999994},-0.8096835257742067,-1.0989799999999939,0.32707889183935507,null,0.3332074533306869,-0.3332074533306869,0.3148804189990993]
[null,null,-1.0675899999999938,-0.8449184311041209,-1.0675799999999938,0.33710442889152437,null,0.34383616486026675,-0.34383616486026675,0.323710890988734]
[null,null,-1.0361899999999937,-0.876822208330981,-1.0361799999999937,0.34740982528317915,null,0.3548039129499529,-0.3548039129499529,0.3327048195151492]
[null,null,-1.0047899999999936,-0.9052690754088505,-1.0047799999999936,0.35800011958904804,null,0.3661215122491757,-0.3661215122491757,0.3418560221480611]
[null,null,-0.9733899999999938,-0.9301468793122079,-0.9733799999999938,0.36888013656586904,null,0.3778001223750064,-0.3778001223750064,0.35115704096457473]
[null,null,-0.9419899999999938,-0.9513575382041872,-0.9419799999999938,0.38005444494704943,null,0.3898512589159971,-0.3898512589159971,0.36059900332658945]
[null,null,-0.9105899999999938,-0.9688174281285364,-0.9105799999999938,0.3915273106666002,null,0.4022868047870235,-0.4022868047870235,0.37017146981769145]
[null,null,-0.8791899999999938,-0.9824577127007452,-0.8791799999999939,0.4033026450933118,null,0.4151190219463264,-0.4151190219463264,0.3798622683216174]
[null,null,-0.8477899999999938,-0.9922246144985211,-0.8477799999999939,0.4153839478232853,null,0.42836056348630513,-0.42836056348630513,0.38965731316813784]
[null,null,-0.8163899999999938,-0.9980796270816437,-0.8163799999999939,0.4277742435443441,null,0.4420244861099858,-0.4420244861099858,0.399540408217691]
[null,null,-0.7849899999999939,-0.9999996668053005,-0.7849799999999939,0.44047601244959395,null,0.45612426300546594,-0.45612426300546594,0.40949303270461707]
[null,null,-0.7535899999999939,-0.9979771638283716,-0.7535799999999939,0.4534911136395881,null,0.4706737971310305,-0.4706737971310305,0.4194941086120203]
[null,null,-0.7221899999999939,-0.9920200919578629,-0.7221799999999939,0.4668207009133803,null,0.48568743492403893,-0.48568743492403893,0.429519748311115]
[null,null,-0.6907899999999939,-0.9821519372118193,-0.690779999999994,0.480465130308441,null,0.5011799804471008,-0.5011799804471008,0.43954298116679125]
[null,null,-0.6593899999999939,-0.9684116052246664,-0.659379999999994,0.4944238587083111,null,0.5171667099854886,-0.5171667099854886,0.4495334577919728]
[null,null,-0.6279899999999939,-0.9508532678600335,-0.627979999999994,0.5086953327953972,null,0.5336633871101819,-0.5336633871101819,0.45945713062961335]
[null,null,-0.596589999999994,-0.9295461496357973,-0.596579999999994,0.5232768675850173,null,0.550686278221394,-0.550686278221394,0.46927590955704307]
[null,null,-0.565189999999994,-0.9045742548033731,-0.565179999999994,0.5381645137363867,null,0.5682521685879109,-0.5682521685879109,0.478947291247764]
[null,null,-0.533789999999994,-0.8760360361572559,-0.533779999999994,0.5533529127975373,null,0.5863783788980536,-0.5863783788980536,0.48842396109654496]
[null,null,-0.502389999999994,-0.8440440068805457,-0.502379999999994,0.5688351395052538,null,0.6050827823385875,-0.6050827823385875,0.49765336662165577]
[null,null,-0.47098999999999397,-0.8087242969567701,-0.47097999999999396,0.5846025302292915,null,0.624383822218418,-0.624383822218418,0.5065772614113777]
[null,null,-0.439589999999994,-0.770216155896873,-0.439579999999994,0.6006444966239481,null,0.6443005301544492,-0.6443005301544492,0.5151312188899767]
[null,null,-0.408189999999994,-0.728671403741889,-0.408179999999994,0.6169483235314274,null,0.6648525448375382,-0.6648525448375382,0.5232441154521136]
[null,null,-0.376789999999994,-0.684253832505749,-0.376779999999994,0.6334989501725737,null,0.6860601313970506,-0.6860601313970506,0.5308375828669613]
[null,null,-0.34538999999999404,-0.637138560418056,-0.345379999999994,0.6502787336641939,null,0.7079442013831085,-0.7079442013831085,0.5378254302988466]
[null,null,-0.31398999999999405,-0.5875113415127581,-0.31397999999999404,0.6672671939214919,null,0.7305263333862368,-0.7305263333862368,0.544113036847039]
[null,null,-0.28258999999999407,-0.5355678332846924,-0.28257999999999406,0.684440739042886,null,0.7538287943147388,-0.7538287943147388,0.5495967161928532]
[null,null,-0.2511899999999941,-0.48151282530130124,-0.2511799999999941,0.7017723703370752,null,0.7778745613507801,-0.7778745613507801,0.5541630557797839]
[null,null,-0.21978999999999407,-0.4255594318107481,-0.21977999999999406,0.719231366243833,null,0.8026873446068337,-0.8026873446068337,0.557688233967275]
[null,null,-0.18838999999999406,-0.3679282515296145,-0.18837999999999405,0.7367829445266448,null,0.828291610504822,-0.828291610504822,0.5600373198195725]
[null,null,-0.15698999999999405,-0.30884649792275026,-0.15697999999999404,0.7543879022839212,null,0.8547126059010137,-0.8547126059010137,0.5610635616501652]
[null,null,-0.12558999999999404,-0.24854710340418784,-0.12557999999999403,0.7720022335441726,null,0.8819763829804583,-0.8819763829804583,0.5606076721756463]
[null,null,-0.09418999999999404,-0.18726780099084744,-0.09417999999999405,0.7895767244884287,null,0.91010982494551,-0.91010982494551,0.5584971201804959]
[null,null,-0.06278999999999403,-0.12525018702965435,-0.06277999999999404,0.8070565266908926,null,0.9391406725237665,-0.9391406725237665,0.5545454410005024]
[null,null,-0.03138999999999402,-0.06273876869330752,-0.03137999999999402,0.8243807091983509,null,0.9690975513215656,-0.9690975513215656,0.5485515809456051]
[null,null,1.0000000005981327E-5,2.000000001062932E-5,2.0000000005981328E-5,0.8414817907937799,null,1.000010000050006,-1.000010000050006,0.5402992940551267]
[null,null,0.03141000000000599,0.06277868984244847,0.03142000000000599,0.8582852544252038,null,1.0319084996513286,-1.0319084996513286,0.5295566133655087]
[null,null,0.06281000000000599,0.12528987193702734,0.06282000000000598,0.8747090465442432,null,1.0648245033543748,-1.0648245033543748,0.5160754232315081]
[null,null,0.094210000000006,0.1873070931969585,0.094220000000006,0.8906630650089183,null,1.098790467688761,-1.098790467688761,0.49959116423693944]
[null,null,0.12561000000000602,0.24858584799778502,0.12562000000000603,0.9060486402829891,null,1.1338398844883473,-1.1338398844883473,0.4798227079213869]
[null,null,0.15701000000000603,0.30888454215156796,0.15702000000000604,0.9207580159322342,null,1.1700073139155596,-1.1700073139155596,0.45647244499385625]
[null,null,0.18841000000000604,0.36796544540260606,0.18842000000000605,0.9346738359010951,null,1.207328418539127,-1.207328418539127,0.42922663795731164]
[null,null,0.21981000000000606,0.42559562868943224,0.21982000000000607,0.9476686477771992,null,1.2458399984988373,-1.2458399984988373,0.39775609717479465]
[null,null,0.25121000000000604,0.4815478824778905,0.25122000000000605,0.9596044332437611,null,1.285580027791984,-1.285580027791984,0.3617172483996835]
[null,null,0.282610000000006,0.5356016125447252,0.28262000000000603,0.9703321792087658,null,1.326587691717285,-1.326587691717285,0.3207536696801821]
[null,null,0.314010000000006,0.5875437096800148,0.314020000000006,0.979691505713085,null,1.368903425513194,-1.368903425513194,0.27449818631248923]
[null,null,0.345410000000006,0.6371693898796127,0.345420000000006,0.9875103696839874,null,1.412568954228705,-1.412568954228705,0.22257562409930495]
[null,null,0.376810000000006,0.6842830017150965,0.376820000000006,0.9936048669399556,null,1.4576273338659602,-1.4576273338659602,0.16460633345769532]
[null,null,0.40821000000000596,0.7286987976981356,0.40822000000000597,0.9977791585867842,null,1.5041229938352356,-1.5041229938352356,0.10021060972992539]
[null,null,0.43961000000000594,0.7702416665981404,0.43962000000000595,0.9998255520859812,null,1.5521017807641604,-1.5521017807641604,0.02901414810929772]
[null,null,0.4710100000000059,0.8087478238259957,0.47102000000000593,0.999524771826573,null,1.601611003704373,-1.601611003704373,-0.04934531548799837]
[null,null,0.5024100000000059,0.8440654571620122,0.5024200000000059,0.9966464589782064,null,1.6526994807801851,-1.6526994807801851,-0.1352100140266217]
[null,null,0.5338100000000059,0.8760553252822845,0.5338200000000058,0.9909499457152172,null,1.705417587325256,-1.705417587325256,-0.22889263498740553]
[null,null,0.5652100000000059,0.9045913067237392,0.5652200000000058,0.9821853545207508,null,1.7598173055547366,-1.7598173055547366,-0.3306650990343668]
[null,null,0.5966100000000059,0.9295608971235547,0.5966200000000058,0.9700950791166058,null,1.815952275821865,-1.815952275821865,-0.44074544365813945]
[null,null,0.6280100000000058,0.9508656527725624,0.6280200000000058,0.9544157094855479,null,1.8738778495095558,-1.8738778495095558,-0.559282623690376]
[null,null,0.6594100000000058,0.968421578733904,0.6594200000000058,0.9348804692728717,null,1.9336511436091335,-1.9336511436091335,-0.6863390474123805]
[null,null,0.6908100000000058,0.9821594599967665,0.6908200000000058,0.9112222393219819,null,1.9953310970400275,-1.9953310970400275,-0.8218706829910412]
[null,null,0.7222100000000058,0.9920251343596088,0.7222200000000057,0.8831772458839838,null,2.0589785287659654,-2.0589785287659654,-0.9657045979563469]
[null,null,0.7536100000000058,0.9979797059670257,0.7536200000000057,0.850489495716875,null,2.124656197764964,-2.124656197764964,-1.1175138377238019]
[null,null,0.7850100000000058,0.9999996986583689,0.7850200000000057,0.8129160423151057,null,2.1924288649122565,-2.1924288649122565,-1.2767896116935915]
[null,null,0.8164100000000057,0.9980771485235445,0.8164200000000057,0.7702331672109256,null,2.2623633568371715,-2.2623633568371715,-1.4428108417871366]
[null,null,0.8478100000000057,0.9922196353010786,0.8478200000000057,0.7222435568377299,null,2.3345286318169305,-2.3345286318169305,-1.6146112436075153]
[null,null,0.8792100000000057,{"$f":"SIN(2*x)","v":0.9824502524946646},0.8792200000000057,0.6687845478424488,null,2.4089958477723354,-2.4089958477723354,-1.7909442605312613]
[null,null,{"$f":"C132+0.00001","v":0.9106100000000057},0.9688075163260085,0.9106200000000056,0.6097375007884032,null,2.4858384324323994,-2.4858384324323994,-1.9702463622603477]
[null,null,0.9420100000000057,0.9513452138829296,0.9420200000000056,0.5450383425077872,null,2.5651321557370985,-2.5651321557370985,-2.1505994583155617]
[null,null,0.9734100000000057,0.9301321910613995,0.9734200000000056,0.4746892893402285,null,2.646955204549638,-2.646955204549638,-2.329693470296178]
[null,null,1.0048100000000058,0.9052520811375667,1.0048200000000058,0.3987717253229708,null,2.7313882597519092,-2.7313882597519092,-2.5047904607022886]
[null,null,1.0362100000000058,0.8768029750398845,1.036220000000006,0.3174601590905358,null,2.8185145757991457,-2.8185145757991457,-2.672692135873925]
[null,null,1.067610000000006,0.8448970346213082,1.067620000000006,0.23103711867506257,null,2.9084200628122305,-2.9084200628122305,-2.8297130293162347]
[null,null,1.099010000000006,0.8096600504562531,1.099020000000006,0.13990876239805514,null,3.0011933712886014,-3.0011933712886014,-2.971662229308789]
[null,null,1.1304100000000061,0.7712309459057184,1.1304200000000062,0.044620884507388284,null,3.0969259795152735,-3.0969259795152735,-3.093837136374716]
[null,null,1.1618100000000062,0.7297612294058218,1.1618200000000063,-0.05412512570760058,null,3.1957122837701846,-3.1957122837701846,-3.191033410173261]
[null,null,1.1932100000000063,0.685414397139121,1.1932200000000064,-0.15545695423379724,null,3.297649691400796,-3.297649691400796,-3.257575970514095]
[null,null,1.2246100000000064,0.6383652884437191,1.2246200000000065,-0.25831740884826543,null,3.402838716871731,-3.402838716871731,-3.2873766198016963]
[null,null,1.2560100000000065,0.5887993965014774,1.2560200000000066,-0.3614527738393008,null,3.5113830808761612,-3.5113830808761612,-3.274024504513814]
[null,null,1.2874100000000066,0.5369121370229821,1.2874200000000067,-0.46340460890403706,null,3.623389812608662,-3.623389812608662,-3.210916161330447]
[null,null,1.3188100000000067,0.4829080778125048,1.3188200000000068,-0.5625063456077377,null,3.7389693553003895,-3.7389693553003895,-3.0914322047699123]
[null,null,1.3502100000000068,0.4270001322504291,1.3502200000000069,-0.6568862569995659,null,3.858235675120634,-3.858235675120634,-2.909167684350122]
[null,null,1.3816100000000069,0.36940871987287816,1.381620000000007,-0.744478589945509,null,3.98130637355214,-3.98130637355214,-2.658222614525888]
[null,null,1.413010000000007,0.31036089735799166,1.413020000000007,-0.8230448369851072,null,4.108302803350988,-4.108302803350988,-2.333557969208202]
[null,null,1.444410000000007,0.25008946334497834,1.4444200000000071,-0.8902072600284097,null,4.23935018820539,-4.23935018820539,-1.9314203090751387]
[null,null,1.4758100000000072,0.18883204061523473,1.4758200000000072,-0.943496829390825,null,4.374577746211384,-4.374577746211384,-1.449834918227191]
[null,null,1.5072100000000073,0.12683013925407052,1.5072200000000073,-0.98041766753736,null,4.514118817287174,-4.514118817287174,-0.8891625911764272]
[null,null,1.5386100000000074,0.06432820448656744,1.5386200000000074,-0.9985298377597344,null,4.658110994651758,-4.658110994651758,-0.2527087552481975]
[null,null,1.5700100000000075,1.5726529415202944E-3,1.5700200000000075,-0.995551835827798,null,4.8066962604974846,-4.8066962604974846,0.45263480848237714]
[null,null,1.6014100000000075,-0.06118909885696788,1.6014200000000076,-0.9694833627865321,null,4.960021125990321,-4.960021125990321,1.2157459386942142]
[null,null,1.6328100000000076,-0.12370960994002199,1.6328200000000077,-0.9187478116347209,null,5.118236775735865,-5.118236775735865,2.0206687694933345]
[null,null,1.6642100000000077,-0.1857423904409055,1.6642200000000078,-0.842352324353396,null,5.281499216853576,-5.281499216853576,2.846108782175918]
[null,null,1.6956100000000078,-0.2470428733921693,1.695620000000008,-0.7400612149653094,null,5.449969432806181,-5.449969432806181,3.66509997375715]
[null,null,1.727010000000008,-0.307369378941685,1.727020000000008,-0.6125759797445297,null,5.623813542135983,-5.623813542135983,4.444934321391983]
[null,null,1.758410000000008,-0.36648406718609955,1.758420000000008,-0.4617120398751483,null,5.803202962264549,-5.803202962264549,5.14745887465043]
[null,null,1.7898100000000081,-0.42415387586512243,1.7898200000000082,-0.29055886122191127,null,5.988314578517319,-5.988314578517319,5.729857236530153]
[null,null,1.8212100000000082,-0.4801514392197449,1.8212200000000083,-0.10360633745408426,null,6.179330918539796,-6.179330918539796,6.146036550119812]
[null,null,1.8526100000000083,-0.5342559843917523,1.8526200000000084,0.09318340594448661,null,6.3764403322772845,-6.3764403322772845,6.348734064236389]
[null,null,1.8840100000000084,-0.5862542018304346,1.8840200000000085,0.29238289000446666,null,6.579837177695664,-6.579837177695664,6.292433657071796]
[null,null,1.9154100000000085,-0.6359410862748789,1.9154200000000086,0.48521112429752816,null,6.7897220124263145,-6.7897220124263145,5.937136428813056]
[null,null,1.9468100000000086,-0.6831207449962333,1.9468200000000087,0.6617769850222416,null,7.006301791524165,-7.006301791524165,5.252954586655067]
[null,null,1.9782100000000087,-0.7276071701134132,1.9782200000000087,0.8114781210357548,null,7.229790071533869,-7.229790071533869,4.225389128272861]
[null,null,2.009610000000009,-0.7692249719373586,2.009620000000009,0.9235728114982987,null,7.460407221065311,-7.460407221065311,2.8610063833984087]
[null,null,2.041010000000009,-0.8078100704526037,2.041020000000009,0.9879304981519366,null,7.698380638086096,-7.698380638086096,1.1930477804957826]
[null,null,2.072410000000009,-0.8432103422099589,2.072420000000009,0.9959488870947054,null,7.943944974145276,-7.943944974145276,-0.7137002036992368]
[null,null,2.103810000000009,-0.8752862200799055,2.103820000000009,0.9416009830505786,null,8.19734236574939,-8.19734236574939,-2.7596643952958115]
[null,null,2.135210000000009,-0.9039112435021467,2.135220000000009,0.8225443954478087,null,8.458822673119002,-8.458822673119002,-4.809951531330149]
[null,null,2.1666100000000093,-0.928972557061932,2.1666200000000093,0.6411892001973397,null,8.72864372656112,-8.72864372656112,-6.697722790007629]
[null,null,2.1980100000000093,-0.9503713554274978,2.1980200000000094,0.40558277469923965,null,9.007071580700453,-9.007071580700453,-8.232659646116582]
[null,null,2.2294100000000094,-0.9680232728944366,2.2294200000000095,0.12993580908543717,null,9.294380776820184,-9.294380776820184,-9.215474522390204]
[null,null,2.2608100000000095,-0.9818587160011994,2.2608200000000096,-0.1654088543192429,null,9.59085461357093,-9.59085461357093,-9.458893478405393]
[null,null,2.2922100000000096,-0.9918231379043817,2.2922200000000097,-0.4547633089095304,null,9.896785426314839,-9.896785426314839,-8.814644569676036]
[null,null,2.3236100000000097,-0.9978772534320538,2.32362000000001,-0.7088024176360456,null,10.212474875380241,-10.212474875380241,-7.20469117640677]
[null,null,2.35501000000001,-0.9999971939672808,2.35502000000001,-0.8972767367946126,null,10.538234243511104,-10.538234243511104,-4.653295160420645]
[null,null,2.38641000000001,-0.998174601551195,2.38642000000001,-0.9926786710168595,null,10.874384742804585,-10.874384742804585,-1.3146382194196333]
[null,null,2.41781000000001,-0.9924166618346167,2.41782000000001,-0.9746162600010057,null,11.221257831439335,-11.221257831439335,2.5110103151317835]
[null,null,2.44921000000001,-0.98274607574831,2.44922000000001,-0.8344088235013188,null,11.57919554050685,-11.57919554050685,6.3807085207095335]
[null,null,2.48061000000001,-0.9692009700035632,2.4806200000000103,-0.5791619633106098,null,11.948550811268166,-11.948550811268166,9.739781048104915]
[null,null,2.5120100000000103,-0.9518347467759524,2.5120200000000104,-0.2343593122996861,null,12.32968784316841,-12.32968784316841,11.985950240244561]
[null,null,2.5434100000000104,-0.9307158731649131,2.5434200000000105,0.15609808525258542,null,12.722982452952385,-12.722982452952385,12.567271108018806]
[null,null,2.5748100000000105,-0.9059276112591876,2.5748200000000105,0.5333729847325126,null,13.128822445235304,-13.128822445235304,11.106329802271816]
[null,null,2.6062100000000106,-0.8775676898723753,2.6062200000000106,0.8312613000825051,null,13.547607994894038,-13.547607994894038,7.532395253104447]
[null,null,2.6376100000000107,-0.8457479192427837,2.6376200000000107,0.9876577437007983,null,13.979752041655965,-13.979752041655965,2.191544151932993]
[null,null,2.6690100000000108,-0.810593750216642,2.669020000000011,0.9586267565170628,null,14.425680697274462,-14.425680697274462,-4.1045061206306075]
[null,null,2.700410000000011,-0.7722437796526194,2.700420000000011,0.7324956995760995,null,14.885833665692584,-14.885833665692584,-10.132230419472037]
[null,null,2.731810000000011,-0.7308492039976083,2.731820000000011,0.3402144894041963,null,15.36066467660918,-15.36066467660918,-14.443565273965252]
[null,null,2.763210000000011,-0.686573223188079,2.763220000000011,-0.142351962481129,null,15.850641932874984,-15.850641932874984,-15.689578090032697]
[null,null,2.794610000000011,-0.6395903972271455,2.794620000000011,-0.603950846747292,null,16.356248572159828,-16.356248572159828,-13.037898395271867]
[null,null,2.8260100000000112,-0.5900859579740713,2.8260200000000113,-0.9208241858348981,null,16.8779831433462,-16.8779831433462,-6.584664677918933]
[null,null,2.8574100000000113,-0.538255078859511,2.8574200000000114,-0.9905240739112269,null,17.41636009811889,-17.41636009811889,2.3889445582553632]
[null,null,2.8888100000000114,{"$f":"SIN(2*x)","v":-0.48430210540566937},2.8888200000000115,-0.7691218033114018,null,17.971910298235443,-17.971910298235443,11.48340344533008]
[null,null,{"$f":"C196+0.00001","v":2.9202100000000115},-0.4284397495850864,2.9202200000000116,-0.2995194397014571,null,18.545181538977637,-18.545181538977637,17.692745491945296]
[null,null,2.9516100000000116,-0.3708882511943227,2.9516200000000117,0.2834354077588155,null,19.13673908930009,-19.13673908930009,18.353004508781822]
[null,null,2.9830100000000117,-0.3118745095488682,2.9830200000000118,0.7819623353134781,null,19.747166249208618,-19.747166249208618,12.31196491662357]
[null,null,3.014410000000012,-0.2516311889226039,3.014420000000012,0.9990720473359567,null,20.377064924917995,-20.377064924917995,0.8817931565725085]
[null,null,3.045810000000012,-0.19039580125866162,3.045820000000012,0.8214118410131585,null,21.02705622235614,-21.02705622235614,-11.988844664431571]
[null,null,3.077210000000012,-0.12840976976813434,3.077220000000012,0.2889697833809505,null,21.697781059600043,-21.697781059600043,-20.770754114201324]
[null,null,3.108610000000012,-0.06591747710844031,3.108620000000012,-0.388475085967515,null,22.389900798847275,-22.389900798847275,-20.63332763744199]
[null,null,3.140010000000012,-0.003165301893939884,3.1400200000000122,-0.8971083395969823,null,23.10409789854625,-23.10409789854625,-10.212424407500515]

{"sheet":"Defining Function","index":2,"n_rows":12,"n_cols":1,"rows_kept":12}
["                                                     Defining a Function in Excel"]
[]
["Computers have very specific rules you must follow when defining a function.  If you don't, the program will either not work at all or will work incorrectly."]
[]
["1. The Variable used should be the one named in the instruction, usually x, though sometimes y, t, Q (for an angle theta), "]
[" or even x and y (for a function of two variables). "]
[]
["2.  Order of Operations:  There five arithmetic operations, addition (+), subtraction (-), multiplication (*), division (/), and  exponentiation or power (^).  When computers see any of these operation symbols, they perform the indicated steps in a very particular order.  First, the power is done.  Second, products and quotients of adjacent terms is done.  Third, and last, sums and differences of adjacent terms are done.  So, in 10*x^3 + 5*x – 7, say with x = 2, the first pass only calculates 2^3 and ignores the multiplications and the sums and differences to calculate 2^3 = 8.  The second pass looks at 10*8 + 5*2 – 7 and only does the multiplications, so it produces 80 + 10 -  7.  The third pass looks at the +’s and –‘s to produce 80 + 10 – 7 = 83.  "]
[]
["3.    Parentheses  If you need an operation involving more than two adjacent terms, as in Ö4^3 + 6^2, the computer would take the square root of  4 to produce 2^3 + 6^2;  it would then cube the 2 and square the 6 to produce 8 + 36; and finally it would add the 8 and the 36 to get 44.  If you actually wanted the square root of the entire expression, you would need to use parentheses, as in Ö(4^3 + 6^2) to tell the computer to do all the operations inside the parentheses before taking the square root.  Therefore, it would calculate (4^3 + 6^2) = 64 + 36 = 100 and then take the square root of Ö100  =  10."]
[]
["4.  Built-In Functions  Computer programs have built-in functions for most common algebraic functions.  In Excel, the square root function is denoted by SQRT(…), so SQRT(100) = 10.  Alternatively, you could enter it as 100^.5 or 100^(1/2); notice that parentheses are needed to have the ½ done first.  The common trig functions are SIN (…), COS (…), and TAN (…), where the arguments are automatically interpreted as being in radians, not degrees.  The logarithm to the base 10 is represented by LOG (…) and the logarithm with the base e, known as the natural logarithm, is LN (…). The corresponding exponential function with base e is EXP (x).  If x is the variable, then each of these would be SQRT (x), SIN (x), COS (x), TAN (x), LOG (x) (for log with base 10 ), LN (x) (for log with base e ), and EXP (x)."]

{"sheet":"Sheet3","index":3,"n_rows":0,"n_cols":0,"rows_kept":0}