{"text_format":"3","workbook":"xlsx","n_sheets":4,"sheets":["Sheet1","Sheet2","Defining Function","Sheet3"],"not_rendered":{"charts":4,"images":1,"macros":1,"defined_names":7,"comments":1},"read":"whole","date_system":"1900"}

{"sheet":"Sheet1","index":0,"n_rows":62,"n_cols":19,"rows_kept":62,"merged":[[25,2,25,3]]}
[null,"   Derivative of y = sin (x2)"]
[]
[null,"            This DIGMath unit explores "]
[null,null,"the derivative function of"]
[{"$nulls":3},"y = sin (x2)"]
[null,"     on any interval from x = a  to x = b."]
[]
["      The function in terms of x:   f'(x) =",{"$nulls":4},"sin(x^2)"]
[]
[]
["Now enter the interval for x:  "]
[null,null,"xMin =",-6.28]
[null,null,"xMax =",6.28]
[]
[]
["Click each item below for suggestions and investigations"]
[null,null,"   Item 1",{"$nulls":5},"Trace along all the curves:",{"$nulls":3},282,null,null,"     x =",{"$f":"M17/50-3.14","v":2.4999999999999996},"y =",{"$f":"Sheet2!M4","v":{"v":-0.28077804358655567,"d":"-0.28"}}]
[null,null,"   Item 2"]
[null,null,"   Item 3"]
[null,null,"   Item 4"]
[null,null,"   Item 5"]
[]
[]
[]
["To access/download all the DIGMath Apps for Calculus",{"$nulls":16},"y' =",{"$f":"Sheet2!M10","v":{"v":4.701394014344773,"d":"4.70"}}]
["      Click this link:",null,"DIGMath for Calculus"]
[]
["Created by:  Sheldon P. Gordon   "]
["                      Farmingdale State College    "]
["Development of this module was supported by the "]
["NSF's Division of Undergraduate Education  "]
["under grants DUE-0310123 and DUE-0442160."]
{"$rows_empty":29}
[{"$nulls":17},"Error =",{"$f":"Sheet2!M16","v":{"v":-4.3281398797390125E-5,"d":"-0.000043"}}]

{"sheet":"Sheet2","index":1,"n_rows":405,"n_cols":13,"rows_kept":405}
[null,null,"x","y = f(x)","x+.00001"," f(x+0.00001)","AppDeriv",null,"Actual","Diff",null,"verticals"]
[{"$nulls":3},{"$f":"Sheet1!#REF!","v":{"$error":"#REF!"}},{"$nulls":4},"Deriv"]
[null,null,{"$f":"Sheet1!D12","v":-6.28},{"$f":"SIN(x^2)","v":0.985838801640944},{"$f":"x+0.00001","v":-6.279990000000001},{"$f":"SIN((x+0.00001)^2)","v":0.9858598564315825},{"$f":"(F3-D3)/dxx","v":2.105479063851945},null,{"$f":"2*x*COS(x^2)","v":2.106258343294188},{"$f":"I3-G3","v":7.7927944224320811E-4},null,{"$f":"x0","v":2.4999999999999996},0]
[null,null,{"$f":"C3+Sheet2!B$12","v":-6.2172},0.8160040231255131,-6.21719,0.8159321402958478,-7.188282966530401,null,-7.187657937184803,{"$f":"I4-G4","v":6.2502934559738321E-4},null,{"$f":"L3","v":2.4999999999999996},{"$f":"LOOKUP(x0,C3:C203,D3:D203)","v":-0.28077804358655567}]
[null,null,{"$f":"C4+Sheet2!B$12","v":-6.1544},0.17659649180383957,-6.15439,0.17647533709794758,-12.115470589199594,null,-12.115346685860132,1.2390333946221688E-4]
[null,null,{"$f":"C5+Sheet2!B$12","v":-6.0916},-0.5576244746250928,-6.09159,-0.5577256023346422,-10.112770954939787,null,-10.11319312255072,-4.221676109334993E-4,null,{"$f":"L4","v":2.4999999999999996},{"$f":"M4","v":-0.28077804358655567}]
[null,null,{"$f":"C6+Sheet2!B$12","v":-6.0287999999999995},-0.9763073110312853,-6.02879,-0.9763333951866607,-2.608415537541653,null,-2.6091274122909653,-7.1187474931244665E-4]
[null,null,{"$f":"C7+Sheet2!B$12","v":-5.965999999999999},-0.8601872903828005,-5.96599,-0.860126433704641,6.085667815947104,null,6.08506059587814,-0.000607220068963521,null,"Derivative"]
[null,null,{"$f":"C8+Sheet2!B$12","v":-5.903199999999999},-0.28619278370686485,-5.9031899999999995,-0.2860796561825936,11.312752427122817,null,11.312562572153752,-1.8985496906509525E-4,null,{"$f":"x0","v":2.4999999999999996},0]
[null,null,{"$f":"C9+Sheet2!B$12","v":-5.840399999999999},0.4324849846543094,-5.840389999999999,0.4325903005112767,10.531585696732515,null,10.531889780878313,0.000304084145797745,null,{"$f":"L9","v":2.4999999999999996},{"$f":"LOOKUP(x0,C3:C203,G3:G203)","v":4.701394014344773}]
[null,null,{"$f":"C10+Sheet2!B$12","v":-5.777599999999999},0.923404365673034,-5.777589999999999,0.9234487116296616,4.434595662761165,null,4.435215987011545,6.2032425037994443E-4]
["delta x = ",{"$f":"(xMax-xMin)/200","v":0.06280000000000001},{"$f":"C11+Sheet2!B$12","v":-5.7147999999999985},0.946758156531579,-5.714789999999999,0.9467213532813405,-3.680325023847075,null,-3.6797098501273102,6.1517371976460566E-4,null,{"$f":"L9","v":2.4999999999999996},{"$f":"M10","v":4.701394014344773}]
[null,null,{"$f":"C12+Sheet2!B$12","v":-5.651999999999998},0.5048234804832196,-5.651989999999999,0.5047258986619619,-9.75818212576307,null,-9.757868246842202,3.1387892086875979E-4]
[null,null,{"$f":"C13+Sheet2!B$12","v":-5.589199999999998},-0.17585072744593944,-5.5891899999999985,-0.1759607683010085,-11.004085506907678,null,-11.00420524275716,-1.1973584948243854E-4,null,"Error"]
["dxx =",{"$f":"0.00001","v":1e-05},{"$f":"C14+Sheet2!B$12","v":-5.526399999999998},-0.7674342497761801,-5.526389999999998,-0.7675051075819187,-7.0857805738566695,null,-7.086255764705049,-4.751908483795475E-4,null,{"$f":"x0","v":2.4999999999999996},0]
[null,null,{"$f":"C15+Sheet2!B$12","v":-5.463599999999998},-0.9999832104780028,-5.463589999999998,-0.9999838377078244,-0.06272298216369876,null,-0.06332004762754939,-5.9706546385063231E-4,null,{"$f":"L15","v":2.4999999999999996},{"$f":"LOOKUP(x0,C3:C203,J3:J209)","v":-4.3281398797390125E-5}]
[null,null,{"$f":"C16+Sheet2!B$12","v":-5.400799999999998},-0.779775257618665,-5.400789999999998,-0.779707628685145,6.762893351996978,null,6.7624447270977885,-4.4862489918973125E-4]
[null,null,{"$f":"C17+Sheet2!B$12","v":-5.337999999999997},-0.21814190628418867,-5.337989999999998,-0.21803771623346163,10.419005072703769,null,10.418890536518198,-1.1453618557055734E-4,null,{"$f":"L15","v":2.4999999999999996},{"$f":"M16","v":-4.3281398797390125E-5}]
[null,null,{"$f":"C18+Sheet2!B$12","v":-5.275199999999997},0.4319004616167837,-5.275189999999998,0.4319956154251436,9.515380835989351,null,9.515630248756146,2.494127667951318E-4]
[null,null,{"$f":"C19+Sheet2!B$12","v":-5.212399999999997},0.8935630340113098,-5.212389999999997,0.8936098299735399,4.679596223011728,null,4.6800862663410925,4.9004332936419814E-4]
[null,null,{"$f":"C20+Sheet2!B$12","v":-5.149599999999997},0.9829072860959805,-5.149589999999997,0.9828883199463996,-1.896614958096787,null,-1.896095501354588,5.194567421991092E-4,null,"Envelops/Verticals"]
[null,null,{"$f":"C21+Sheet2!B$12","v":-5.086799999999997},0.6763478299335415,-5.086789999999997,0.6762728895614354,-7.494037210609149,null,-7.493694573112266,3.4263749688356882E-4,null,{"$f":"6.4","v":6.4},{"$f":"-2*L22","v":-12.8}]
[null,null,{"$f":"C22+Sheet2!B$12","v":-5.0239999999999965},0.10762590289862686,-5.023989999999997,0.10752600609671026,-9.989680191660465,null,-9.989635819835769,4.4371824696298745E-5,null,{"$f":"-L22","v":-6.4},{"$f":"-2*L23","v":12.8}]
[null,null,{"$f":"C23+Sheet2!B$12","v":-4.961199999999996},-0.49621679560709325,-4.961189999999997,-0.496302939220018,-8.614361292474948,null,-8.614614261306006,-2.529688310577427E-4]
[null,null,{"$f":"C24+Sheet2!B$12","v":-4.898399999999996},-0.9079720050708175,-4.8983899999999965,-0.9080130522841525,-4.104721333497707,null,-4.105161253079698,-4.3991958199107728E-4,null,{"$f":"6.4","v":6.4},{"$f":"2*L25","v":12.8}]
[null,null,{"$f":"C25+Sheet2!B$12","v":-4.835599999999996},-0.984036908365576,-4.835589999999996,-0.9840196924788108,1.7215886765176156,null,1.7211302646307625,-4.5841188685313838E-4,null,{"$f":"-L25","v":-6.4},{"$f":"2*L26","v":-12.8}]
[null,null,{"$f":"C26+Sheet2!B$12","v":-4.772799999999996},-0.7092764497188986,-4.772789999999996,-0.70920915671851,6.7293000388546345,null,6.728983958202345,-3.1608065228905247E-4]
[null,null,{"$f":"C27+Sheet2!B$12","v":-4.7099999999999955},-0.19175637992632627,-4.709989999999996,-0.19166392728504614,9.245264128013297,null,9.245188877662702,-7.5250350594302517E-5]
[null,null,{"$f":"C28+Sheet2!B$12","v":-4.647199999999995},0.3845134888220634,-4.647189999999996,0.38459928547581135,8.579665374797152,null,8.579840700944679,1.7532614752724385E-4]
[null,null,{"$f":"C29+Sheet2!B$12","v":-4.584399999999995},0.8273792005504264,-4.5843899999999955,0.8274306930050412,5.149245461488761,null,5.149598860605757,3.5339911699594495E-4]
[null,null,{"$f":"C30+Sheet2!B$12","v":-4.521599999999995},0.9996995393090738,-4.521589999999995,0.9997017518750838,0.22125660099625574,null,0.2216656199903891,4.0901899413336995E-4]
[null,null,{"$f":"C31+Sheet2!B$12","v":-4.458799999999995},0.8579888565378626,-4.458789999999995,0.8579430462934943,-4.581024436833836,null,-4.580688428885303,0.000336007948533279]
[null,null,{"$f":"C32+Sheet2!B$12","v":-4.395999999999995},0.45756971759156734,-4.395989999999995,0.45749153975620716,-7.8177835360182515,null,-7.817615589503063,1.6794651518825532E-4]
[null,null,{"$f":"C33+Sheet2!B$12","v":-4.333199999999994},-0.07286903911228632,-4.333189999999995,-0.07295547234409273,-8.643323180641815,null,-8.643360529910764,-3.7349268948716485E-5]
[null,null,{"$f":"C34+Sheet2!B$12","v":-4.270399999999994},-0.5755199131572378,-4.270389999999995,-0.5755897565937893,-6.98434365514755,null,-6.9845617484074625,-2.1809325991206663E-4]
[null,null,{"$f":"C35+Sheet2!B$12","v":-4.207599999999994},-0.9109817558521153,-4.207589999999994,-0.9110164607958853,-3.47049437700031,null,-3.470821063447615,-3.2668644730504681E-4]
[null,null,{"$f":"C36+Sheet2!B$12","v":-4.144799999999994},-0.9950646250364793,-4.144789999999994,-0.9950563959413392,0.8229095140088737,null,0.822568616481534,-3.408975273396786E-4]
[null,null,{"$f":"C37+Sheet2!B$12","v":-4.081999999999994},-0.8161755138175387,-4.081989999999994,-0.816128339232059,4.717458547975895,null,4.717192338013693,-2.6620996220128035E-4]
[null,null,{"$f":"C38+Sheet2!B$12","v":-4.0191999999999934},-0.4313651221363697,-4.019189999999994,-0.43129260020176363,7.252193460605127,null,7.2520631254957655,-1.303351093611127E-4]
[null,null,{"$f":"C39+Sheet2!B$12","v":-3.9563999999999933},0.05483479066214318,-3.956389999999993,0.05491379933780276,7.900867565957536,null,7.900894725684477,2.7159726941228257E-5]
[null,null,{"$f":"C40+Sheet2!B$12","v":-3.893599999999993},0.5208465282534719,-3.893589999999993,0.5209130020476919,6.647379421997889,null,6.647545886708257,1.6646471036807498E-4]
[null,null,{"$f":"C41+Sheet2!B$12","v":-3.830799999999993},0.8588060972467629,-3.830789999999993,0.8588453451113225,3.9247864559555086,null,3.925043642163328,2.5718620781933765E-4]
[null,null,{"$f":"C42+Sheet2!B$12","v":-3.7679999999999927},0.9981609245824291,-3.7679899999999926,0.9981654900554298,0.45654730006505767,null,0.4568313401915434,2.8404012648575172E-4]
[null,null,{"$f":"C43+Sheet2!B$12","v":-3.7051999999999925},0.9176541750446758,-3.7051899999999924,0.9176247251219267,-2.944992274911406,null,-2.9447442916059248,2.479833054813696E-4]
[null,null,{"$f":"C44+Sheet2!B$12","v":-3.6423999999999923},0.6447583809391139,-3.6423899999999922,0.6447026952813868,-5.568565772706701,null,-5.568402340746623,1.6343196007806426E-4]
[null,null,{"$f":"C45+Sheet2!B$12","v":-3.579599999999992},0.24465663105719104,-3.579589999999992,0.2445872142235871,-6.941683360395245,null,-6.941630364325156,5.2996070088795477E-5]
[null,null,{"$f":"C46+Sheet2!B$12","v":-3.516799999999992},-0.19718761060967252,-3.516789999999992,-0.19725656503073685,-6.895442106433224,null,-6.895500691474369,-5.8585041144532113E-5]
[null,null,{"$f":"C47+Sheet2!B$12","v":-3.4539999999999917},-0.5941871017538329,-3.4539899999999917,-0.5942426631546931,-5.556140086016014,null,-5.55628990762026,-1.4982160424636959E-4]
[null,null,{"$f":"C48+Sheet2!B$12","v":-3.3911999999999916},-0.8753373941296029,-3.3911899999999915,-0.8753701858273446,-3.2791697741729737,null,-3.2793759429626275,-2.0616878965373786E-4]
[null,null,{"$f":"C49+Sheet2!B$12","v":-3.3283999999999914},-0.9965845936245911,-3.3283899999999913,-0.9965900884692908,-0.5494844699693857,null,-0.5497061036763986,-2.2163370701289153E-4]
[null,null,{"$f":"C50+Sheet2!B$12","v":-3.265599999999991},-0.9455776930491795,-3.265589999999991,-0.9455564387743776,2.125427480192954,null,2.1252290607599713,-1.9841943298271048E-4]
[null,null,{"$f":"C51+Sheet2!B$12","v":-3.202799999999991},-0.7400534839563216,-3.202789999999991,-0.740010401769279,4.308218704263123,null,4.308073604903844,-1.450993592788663E-4]
[null,null,{"$f":"C52+Sheet2!B$12","v":-3.139999999999991},-0.42124900740395094,-3.1399899999999907,-0.4211920505166056,5.695688734536074,null,5.695614741035683,-7.39935003908343e-05]
[null,null,{"$f":"C53+Sheet2!B$12","v":-3.0771999999999906},-0.044367310455471605,-3.0771899999999905,-0.04430582707462216,6.148338084944332,null,6.148339676470366,1.5915260336285542E-6]
[null,null,{"$f":"C54+Sheet2!B$12","v":-3.0143999999999904},0.33176186040235556,-3.0143899999999904,0.3318187331837812,5.6872781425632,null,5.687347871211422,6.972864822163416E-5]
[null,null,{"$f":"C55+Sheet2!B$12","v":-2.9515999999999902},0.6539814077808269,-2.95158999999999,0.6540260649005876,4.465711976064934,null,4.465833492390622,1.2151632568802029E-4]
[null,null,{"$f":"C56+Sheet2!B$12","v":-2.88879999999999},0.8817751107289856,-2.88878999999999,0.8818023604200099,2.72496910243003,null,2.7251209913184247,1.5188888839468007E-4]
[null,null,{"$f":"C57+Sheet2!B$12","v":-2.82599999999999},0.9912618559561696,-2.82598999999999,0.99126930984536,0.7453889190434103,null,0.7455485677839099,1.5964874049956279E-4]
[null,null,{"$f":"C58+Sheet2!B$12","v":-2.7631999999999897},0.9761787188983623,-2.7631899999999896,0.9761667269103819,-1.199198798040868,null,-1.199051901022489,1.4689701837911073E-4]
[null,null,{"$f":"C59+Sheet2!B$12","v":-2.7003999999999895},0.8462861642159597,-2.7003899999999894,0.8462573914304442,-2.877278551549622,null,-2.87716045559636,1.1809595326184308E-4]
[null,null,{"$f":"C60+Sheet2!B$12","v":-2.6375999999999893},0.6239197359897151,-2.637589999999989,0.6238785101222205,-4.122586749455426,null,-4.122507755198647,7.899425677848626E-5]
[null,null,{"$f":"C61+Sheet2!B$12","v":-2.574799999999989},0.33952300570338273,-2.574789999999989,0.3394745683255161,-4.843737786663915,null,-4.843702176939662,3.56097242528719e-05]
[null,null,{"$f":"C62+Sheet2!B$12","v":-2.511999999999989},0.026955427472461956,-2.511989999999989,0.026905205793813,-5.022167864895607,null,-5.022174461516504,-6.5966208966372619E-6]
[null,null,{"$f":"C63+Sheet2!B$12","v":-2.4491999999999887},-0.2807780435866682,-2.4491899999999887,-0.28082505666115004,-4.701307448184977,null,-4.701350732945769,-4.3284760791628685E-5]
[null,null,{"$f":"C64+Sheet2!B$12","v":-2.3863999999999885},-0.5549312714978657,-2.3863899999999885,-0.5549709755243362,-3.970402647046622,null,-3.970474172858861,-7.1525812238792952E-5]
[null,null,{"$f":"C65+Sheet2!B$12","v":-2.3235999999999883},-0.7733246453950967,-2.3235899999999883,-0.7733541082208159,-2.9462825719139825,null,-2.946372418112221,-8.9846198238596742E-5]
[null,null,{"$f":"C66+Sheet2!B$12","v":-2.260799999999988},{"$f":"SIN(x^2)","v":-0.921516891802816},-2.260789999999988,-0.9215344499255419,{"$f":"(F67-D67)/dxx","v":-1.7558122725858103},null,-1.7559103575839825,-9.8084998172209836E-5]
[null,null,{"$f":"C67+Sheet2!B$12","v":-2.197999999999988},-0.9929497953979242,-2.197989999999988,-0.9929550052544673,-0.5209856543175739,null,-0.5210827822687404,{"$f":"I68-G68","v":-9.7127951166453563E-5}]
[null,null,{"$f":"C68+Sheet2!B$12","v":-2.1351999999999878},-0.98827103119217,-2.1351899999999877,-0.9882645089750176,0.6522217152360454,null,0.6521331308439259,-8.85843921195617e-05]
[null,null,{"$f":"C69+Sheet2!B$12","v":-2.0723999999999876},-0.9140863392081261,-2.0723899999999875,-0.9140695304861898,1.680872193632332,null,1.6807977325672856,-7.4461065046493857E-5]
[null,null,{"$f":"C70+Sheet2!B$12","v":-2.0095999999999874},-0.7813958499118762,-2.0095899999999873,-0.7813707681012412,2.5081810634985935,null,2.5081241916189514,-5.687187964209528E-5]
[null,null,{"$f":"C71+Sheet2!B$12","v":-1.9467999999999874},-0.603941855425507,-1.9467899999999874,-0.6039108219505039,3.1033475003106044,null,3.103309692404634,-3.7807905970410616E-5]
[null,null,{"$f":"C72+Sheet2!B$12","v":-1.8839999999999875},-0.396648850094077,-1.8839899999999874,-0.3966142607789272,3.4589315149824436,null,3.458912537888964,-1.8977093479755069E-5]
[null,null,{"$f":"C73+Sheet2!B$12","v":-1.8211999999999875},-0.17428222114175407,-1.8211899999999874,-0.1742463545668577,3.586657489637601,null,3.5866557763590388,-1.7132785621321034E-6]
[null,null,{"$f":"C74+Sheet2!B$12","v":-1.7583999999999875},0.04960173158526316,-1.7583899999999875,0.049636856165589154,3.5124580325993078,null,3.512471088325106,1.3055725798238882E-5]
[null,null,{"$f":"C75+Sheet2!B$12","v":-1.6955999999999876},0.26338872984202927,-1.6955899999999875,0.2634214441540169,3.2714311987647178,null,3.271455991349589,2.479258487131375E-5]
[null,null,{"$f":"C76+Sheet2!B$12","v":-1.6327999999999876},0.45783354652919006,-1.6327899999999875,0.45786257861885415,2.903208966409387,null,2.9032422691554247,3.3302746037744413E-5]
[null,null,{"$f":"C77+Sheet2!B$12","v":-1.5699999999999876},0.6262178873311309,-1.5699899999999876,0.626242367894746,2.448056361503692,null,2.4480950294749806,3.8667971288486314E-5]
[null,null,{"$f":"C78+Sheet2!B$12","v":-1.5071999999999877},0.7642907707182801,-1.5071899999999876,0.7643102093216088,1.943860332864755,null,1.9439015056791011,4.11728143461243e-05]
[null,null,{"$f":"C79+Sheet2!B$12","v":-1.4443999999999877},0.8700487945670577,-1.4443899999999876,0.8700630349453399,1.424037828212654,null,1.4240790612871719,4.1233074517865731E-5]
[null,null,{"$f":"C80+Sheet2!B$12","v":-1.3815999999999877},0.9434123809749121,-1.3815899999999877,0.9434215439577176,0.9162982805510643,null,0.916337612680926,3.9332129861624487E-5]
[null,null,{"$f":"C81+Sheet2!B$12","v":-1.3187999999999878},0.9858479759593208,-1.3187899999999877,0.9858523973193732,0.44213600524090063,null,0.442171973838223,3.5968597322355578E-5]
[null,null,{"$f":"C82+Sheet2!B$12","v":-1.2559999999999878},0.9999772884885137,-1.2559899999999877,0.9999774574716515,0.016898313770496998,null,0.016929930921871447,3.1617151374448843E-5]
[null,null,{"$f":"C83+Sheet2!B$12","v":-1.1931999999999878},0.9892046740713581,-1.1931899999999878,0.9892011767622868,-0.3497309071343046,null,-0.34970420567959315,2.6701454711453021E-5]
[null,null,{"$f":"C84+Sheet2!B$12","v":-1.1303999999999879},0.9573839704312594,-1.1303899999999878,0.9573774406143712,-0.652981688820109,null,-0.6529601102785987,2.157854151030314E-5]
[null,null,{"$f":"C85+Sheet2!B$12","v":-1.067599999999988},0.908537325074592,-1.0675899999999878,0.908528403964739,-0.8921109852955132,null,-0.8920944531174776,1.6532178035655321E-5]
[null,null,{"$f":"C86+Sheet2!B$12","v":-1.004799999999988},0.8466312942383099,-1.0047899999999879,0.8466205994331975,-1.0694805112398953,null,-1.0694687377121033,1.1773527792025007E-5]
[null,null,{"$f":"C87+Sheet2!B$12","v":-0.941999999999988},0.775409919607769,-0.941989999999988,0.7753980228608414,-1.1896746927586577,null,-1.1896672461545026,7.44660415508136E-6]
[null,null,{"$f":"C88+Sheet2!B$12","v":-0.879199999999988},0.6982805663523325,-0.879189999999988,0.6982679792636565,-1.258708867601932,null,-1.2587052307204591,3.6368814728682253E-6]
[null,null,{"$f":"C89+Sheet2!B$12","v":-0.816399999999988},0.6182458557201034,-0.8163899999999881,0.6182330221569323,-1.2833563171055218,null,-1.2833559357932773,3.8131224444626355E-7]
[null,null,{"$f":"C90+Sheet2!B$12","v":-0.7535999999999881},0.5378737937513809,-0.7535899999999881,0.5378610876961477,-1.2706055233180358,null,-1.270607844396885,-2.3210788491212497E-6]
[null,null,{"$f":"C91+Sheet2!B$12","v":-0.6907999999999881},0.4592979044645096,-0.6907899999999881,0.45928563200132044,-1.2272463189133553,null,-1.227250818261854,-4.4993484986655119E-6]
[null,null,{"$f":"C92+Sheet2!B$12","v":-0.6279999999999881},0.38423954995165543,-0.6279899999999882,0.38422795420177774,-1.1595749877690853,null,-1.159581189429112,-6.20166002662792e-06]
[null,null,{"$f":"C93+Sheet2!B$12","v":-0.5651999999999882},0.31404542096873783,-0.5651899999999882,0.31403468893604064,-1.0732032697191585,null,-1.0732107574227154,-7.4877035569631545E-6]
[null,null,{"$f":"C94+Sheet2!B$12","v":-0.5023999999999882},0.24973421180640698,-0.5023899999999882,0.24972448226730104,-0.9729539105940431,null,-0.972962333093524,-8.4224994808534959E-6]
[null,null,{"$f":"C95+Sheet2!B$12","v":-0.43959999999998817},0.19204759996286838,-0.43958999999998816,0.19203897171128437,-0.8628251584014145,null,-0.8628342300291161,-9.07162770158454e-06]
[null,null,{"$f":"C96+Sheet2!B$12","v":-0.37679999999998814},0.14150172521265406,-0.37678999999998813,0.1414942651347938,-0.7460077860260704,null,-0.7460172836200432,-9.4975939727293124E-6]
[null,null,{"$f":"C97+Sheet2!B$12","v":-0.3139999999999881},0.09843633286113253,-0.3139899999999881,0.0984300834584637,-0.6249402668828674,null,-0.6249500242176245,-9.7573347570545366E-6]
[null,null,{"$f":"C98+Sheet2!B$12","v":-0.2511999999999881},0.0630595722043142,-0.2511899999999881,0.06305455830226174,-0.5013902052458663,null,-0.5014001057643297,-9.9005184633904619E-6]
[null,null,{"$f":"C99+Sheet2!B$12","v":-0.18839999999998808},0.03548710741766101,-0.18838999999998807,0.03548334189068031,-0.3765526980697986,null,-0.37656266658090154,-9.9685111029645945E-6]
[null,null,{"$f":"C100+Sheet2!B$12","v":-0.12559999999998805},0.015774705693576287,-0.12558999999998804,0.015772194106078247,-0.251158749803998,null,-0.25116874358311425,-9.9937791162574285E-6]
[null,null,{"$f":"C101+Sheet2!B$12","v":-0.06279999999998805},0.003943829776341412,-0.06278999999998805,0.003942573886105346,-0.1255890236066641,null,-0.12559902321795838,-9.9996112942757343E-6]
[null,null,{"$f":"C102+Sheet2!B$12","v":1.1962653090336062E-14},1.4310506895972693E-28,1.0000000011962654E-5,1.0000000023925308E-10,1.0000000023925307E-5,null,2.3925306180672123E-14,-1e-05]
[null,null,{"$f":"C103+Sheet2!B$12","v":0.06280000000001197},0.003943829776344418,0.06281000000001197,0.003945085866572708,0.1256090228289944,null,0.12559902321800623,-9.99961098815949e-06]
[null,null,{"$f":"C104+Sheet2!B$12","v":0.12560000000001198},0.0157747056935823,0.125610000000012,0.01577721748095591,0.25117873736109353,null,0.2511687435831621,-9.9937779314274167E-6]
[null,null,{"$f":"C105+Sheet2!B$12","v":0.188400000000012},0.03548710741767002,0.188410000000012,0.0354908731440209,0.3765726350878073,null,0.3765626665809493,-9.96850685802686e-06]
[null,null,{"$f":"C106+Sheet2!B$12","v":0.251200000000012},0.06305957220432619,0.25121000000001203,0.06306458630438894,0.5014100062747384,null,0.5014001057643771,-9.9005103613158951E-6]
[null,null,{"$f":"C107+Sheet2!B$12","v":0.31400000000001205},0.09843633286114747,0.31401000000001206,0.09844258245896281,0.6249597815338737,null,0.6249500242176712,-9.7573162024522375E-6]
[null,null,{"$f":"C108+Sheet2!B$12","v":0.37680000000001207},0.14150172521267193,0.3768100000000121,0.1415091854804837,0.7460267811759679,null,0.7460172836200886,-9.497555879312003E-6]
[null,null,{"$f":"C109+Sheet2!B$12","v":0.4396000000000121},0.19204759996288903,0.4396100000000121,0.19205622839590505,0.8628433016022451,null,0.8628342300291595,-9.0715730856061327E-6]
[null,null,{"$f":"C110+Sheet2!B$12","v":0.5024000000000121},0.24973421180643018,0.502410000000012,0.24974394151398524,0.9729707555056198,null,0.9729623330935642,-8.4224120556752879E-6]
[null,null,{"$f":"C111+Sheet2!B$12","v":0.565200000000012},0.3140454209687635,0.565210000000012,0.31405615315121344,1.0732182449957328,null,1.073210757422751,-7.4875729818568715E-6]
[null,null,{"$f":"C112+Sheet2!B$12","v":0.628000000000012},0.38423954995168313,0.628010000000012,0.38425114582559233,1.159587390919814,null,1.1595811894291415,-6.20149067254161e-06]
[null,null,{"$f":"C113+Sheet2!B$12","v":0.690800000000012},0.4592979044645389,0.6908100000000119,0.4593101770177128,1.2272553173930945,null,1.2272508182618753,-4.4991312191378086E-6]
[null,null,{"$f":"C114+Sheet2!B$12","v":0.7536000000000119},0.5378737937514112,0.7536100000000119,0.5378864998530632,1.2706101652049107,null,1.270607844396896,-2.3208080146552845E-6]
[null,null,{"$f":"C115+Sheet2!B$12","v":0.8164000000000119},0.618245855720134,0.8164100000000118,0.6182586892756755,1.283355554149157,null,1.2833559357932756,3.8164411853003344E-7]
[null,null,{"$f":"C116+Sheet2!B$12","v":0.8792000000000119},0.6982805663523626,0.8792100000000118,0.6982931533682971,1.2587015934539814,null,1.2587052307204416,3.6372664602435378E-6]
[null,null,{"$f":"C117+Sheet2!B$12","v":0.9420000000000118},0.7754099196077974,0.9420100000000118,0.7754218162057883,1.1896597990945779,null,1.189667246154467,7.4470598891984707E-6]
[null,null,{"$f":"C118+Sheet2!B$12","v":1.004800000000012},0.8466312942383355,1.004810000000012,0.8466419888079726,1.0694569637093032,null,1.0694687377120466,1.177400274343654E-5]
[null,null,{"$f":"C119+Sheet2!B$12","v":1.0676000000000119},0.9085373250746134,1.067610000000012,0.9085462458538176,0.8920779204224515,null,0.8920944531173982,1.6532694946724824E-5]
[null,null,{"$f":"C120+Sheet2!B$12","v":1.1304000000000118},0.9573839704312751,1.130410000000012,0.9573904998165871,0.6529385311981883,null,0.6529601102784953,2.1579080306977083E-5]
[null,null,{"$f":"C121+Sheet2!B$12","v":1.1932000000000118},0.9892046740713666,1.1932100000000119,0.9892081708464034,0.34967750368597444,null,0.3497042056794654,2.6701993490974019E-5]
[null,null,{"$f":"C122+Sheet2!B$12","v":1.2560000000000118},0.9999772884885133,1.2560100000000118,0.9999771188730276,-0.01696154856567489,null,-0.016929930922022923,3.1617643651966204E-5]
[null,null,{"$f":"C123+Sheet2!B$12","v":1.3188000000000117},0.9858479759593103,1.3188100000000118,0.9858435538798815,-0.4422079428745284,null,-0.442171973838395,3.5969036133398635E-5]
[null,null,{"$f":"C124+Sheet2!B$12","v":1.3816000000000117},0.9434123809748902,1.3816100000000118,0.9434032172054391,-0.9163769451148162,null,-0.9163376126811145,3.9332433701688707E-5]
[null,null,{"$f":"C125+Sheet2!B$12","v":1.4444000000000117},0.8700487945670237,1.4444100000000117,0.8700345533640785,-1.424120294513109,null,-1.4240790612873697,4.1233225739345514E-5]
[null,null,{"$f":"C126+Sheet2!B$12","v":1.5072000000000116},0.7642907707182335,1.5072100000000117,0.7642713312914495,-1.9439426783951494,null,-1.9439015056792985,4.1172715850912311E-5]
[null,null,{"$f":"C127+Sheet2!B$12","v":1.5700000000000116},0.6262178873310721,1.5700100000000117,0.6261934059941016,-2.448133697052768,null,-2.4480950294751667,3.8667577601181335E-5]
[null,null,{"$f":"C128+Sheet2!B$12","v":1.6328000000000116},0.45783354652912017,1.6328100000000116,0.45780451377340825,-2.903275571192187,null,-2.9032422691555846,3.3302036602567142E-5]
[null,null,{"$f":"C129+Sheet2!B$12","v":1.6956000000000115},0.2633887298419509,1.6956100000000116,0.26335601503412154,-3.271480782934821,null,-3.271455991349708,2.479158511281554E-5]
[null,null,{"$f":"C130+Sheet2!B$12","v":1.7584000000000115},{"$f":"SIN(x^2)","v":0.04960173158517889},1.7584100000000116,0.04956660674375223,{"$f":"(F131-D131)/dxx","v":-3.5124841426655005},null,-3.5124710883251686,1.3054340331830616E-5]
[null,null,{"$f":"C131+Sheet2!B$12","v":1.8212000000000115},-0.17428222114183978,1.8212100000000115,-0.1743180876824542,-3.5866540614409854,null,-3.5866557763590303,{"$f":"I132-G132","v":-1.7149180449038681E-6}]
[null,null,{"$f":"C132+Sheet2!B$12","v":1.8840000000000114},-0.3966488500941602,1.8840100000000115,-0.39668343902974906,-3.45889355888862,null,-3.4589125378888723,-1.8979000252272726E-5]
[null,null,{"$f":"C133+Sheet2!B$12","v":1.9468000000000114},-0.6039418554255813,1.9468100000000115,-0.6039728881444065,-3.1032718825207968,null,-3.103309692404453,-3.7809883656425569E-5]
[null,null,{"$f":"C134+Sheet2!B$12","v":2.0096000000000114},-0.7813958499119366,2.0096100000000114,-0.7814209305851144,-2.508067317785745,null,-2.508124191618677,-5.687383293206949E-5]
[null,null,{"$f":"C135+Sheet2!B$12","v":2.0724000000000116},-0.9140863392081665,2.0724100000000116,-0.9141031464408643,-1.6807232697813033,null,-1.680797732566928,-7.4462785624840322E-5]
[null,null,{"$f":"C136+Sheet2!B$12","v":2.1352000000000118},-0.9882710311921856,2.135210000000012,-0.9882775516376376,-0.6520445452018464,null,-0.6521331308435021,-8.8585641655702929E-5]
[null,null,{"$f":"C137+Sheet2!B$12","v":2.198000000000012},-0.9929497953979116,2.198010000000012,-0.9929445835988041,0.5211799107507353,null,0.5210827822692075,-9.712848152787501E-5]
[null,null,{"$f":"C138+Sheet2!B$12","v":2.260800000000012},-0.921516891802774,2.260810000000012,-0.9214993317183512,1.7560084422774123,null,1.7559103575844526,-9.8084692959687914E-5]
[null,null,{"$f":"C139+Sheet2!B$12","v":2.3236000000000123},-0.7733246453950258,2.3236100000000124,-0.7732951807723965,2.9464622629316035,null,2.946372418112653,-8.9844818950357563E-5]
[null,null,{"$f":"C140+Sheet2!B$12","v":2.3864000000000125},-0.5549312714977703,2.3864100000000126,-0.5548915660408082,3.970545696208027,null,3.9704741728592046,-7.1523348822655208E-5]
[null,null,{"$f":"C141+Sheet2!B$12","v":2.4492000000000127},-0.28077804358655567,2.4492100000000128,-0.2807310296464122,4.701394014344773,null,4.701350732945976,-4.3281398797390125E-5]
[null,null,{"$f":"C142+Sheet2!B$12","v":2.512000000000013},0.026955427472582703,2.512010000000013,0.027005649283121953,5.02218105392499,null,5.022174461516536,-6.5924084537982708E-6]
[null,null,{"$f":"C143+Sheet2!B$12","v":2.574800000000013},0.33952300570349886,2.574810000000013,0.33957144236912506,4.8436665626205855,null,4.843702176939492,3.5614318906418418E-5]
[null,null,{"$f":"C144+Sheet2!B$12","v":2.6376000000000133},0.6239197359898143,2.6376100000000133,0.6239609602773792,4.122428756492269,null,4.122507755198266,7.8998705997257446E-5]
[null,null,{"$f":"C145+Sheet2!B$12","v":2.7004000000000135},0.8462861642160288,2.7004100000000135,0.8463149346395883,2.8770423559532072,null,2.877160455595793,1.1809964258580052E-4]
[null,null,{"$f":"C146+Sheet2!B$12","v":2.7632000000000136},0.9761787188983913,2.7632100000000137,0.9761907079484083,1.1989050017091607,null,1.1990519010217806,1.4689931261990807E-4]
[null,null,{"$f":"C147+Sheet2!B$12","v":2.826000000000014},0.9912618559561516,2.826010000000014,0.991254398873983,-0.7457082168538242,null,-0.7455485677846776,1.596490691465613E-4]
[null,null,{"$f":"C148+Sheet2!B$12","v":2.888800000000014},0.8817751107289202,2.888810000000014,0.8817478580001381,-2.7252728782123365,null,-2.7251209913191534,1.5188689318312854E-4]
[null,null,{"$f":"C149+Sheet2!B$12","v":2.951600000000014},0.6539814077807194,2.9516100000000143,0.6539367482306774,-4.4659550042069895,null,-4.465833492391208,1.2151181578179404E-4]
[null,null,{"$f":"C150+Sheet2!B$12","v":3.0144000000000144},0.33176186040221817,3.0144100000000145,0.33170498622628397,-5.687417593419618,null,-5.687347871211759,6.97222078596127e-05]
[null,null,{"$f":"C151+Sheet2!B$12","v":3.0772000000000146},-0.044367310455618904,3.0772100000000147,-0.044428793868221184,-6.148341260227979,null,-6.148339676470373,1.5837576059496428E-6]
[null,null,{"$f":"C152+Sheet2!B$12","v":3.140000000000015},-0.4212490074040878,3.140010000000015,-0.4213059628114835,-5.695540739569792,null,-5.695614741035327,-7.4001465534934141E-5]
[null,null,{"$f":"C153+Sheet2!B$12","v":3.202800000000015},-0.7400534839564256,3.202810000000015,-0.7400965632414117,-4.3079284986147215,null,-4.308073604903144,-1.4510628842234752E-4]
[null,null,{"$f":"C154+Sheet2!B$12","v":3.265600000000015},-0.9455776930492304,3.2656100000000152,-0.9455989433556012,-2.1250306370790284,null,-2.125229060759022,-1.9842367999345356E-4]
[null,null,{"$f":"C155+Sheet2!B$12","v":3.3284000000000153},-0.9965845936245781,3.3284100000000154,-0.9965790943471988,0.54992773792506,null,0.5497061036774514,-2.2163424760857087E-4]
[null,null,{"$f":"C156+Sheet2!B$12","v":3.3912000000000155},-0.8753373941295239,3.3912100000000156,-0.8753045983084445,3.279582107940104,null,3.279375942963621,-2.0616497648306975E-4]
[null,null,{"$f":"C157+Sheet2!B$12","v":3.4540000000000157},-0.5941871017537,3.454010000000016,-0.594131537356486,5.556439721399186,null,5.556289907620977,-1.4981377820877384E-4]
[null,null,{"$f":"C158+Sheet2!B$12","v":3.516800000000016},-0.19718761060950707,3.516810000000016,-0.1971186550168523,6.895559265476802,null,6.895500691474649,-5.8574002152589344E-5]
[null,null,{"$f":"C159+Sheet2!B$12","v":3.579600000000016},0.24465663105735813,3.579610000000016,0.24472604683091911,6.941577356098238,null,6.941630364324902,5.3008226664097435E-5]
[null,null,{"$f":"C160+Sheet2!B$12","v":3.6424000000000163},0.6447583809392469,3.6424100000000164,0.6448140633282273,5.568238898046029,null,5.568402340745842,1.6344269981338755E-4]
[null,null,{"$f":"C161+Sheet2!B$12","v":3.7052000000000165},0.9176541750447464,3.7052100000000165,0.9176836200077622,2.9444963015712307,null,2.9447442916047355,2.4799003350484128E-4]
[null,null,{"$f":"C162+Sheet2!B$12","v":3.7680000000000167},0.9981609245824182,3.7680100000000167,0.9981563534286084,-0.4571153809806993,null,-0.4568313401928959,0.000284040787803419]
[null,null,{"$f":"C163+Sheet2!B$12","v":3.830800000000017},0.8588060972466692,3.830810000000017,0.8587668442384478,-3.9253008221384884,null,-3.925043642164556,2.5717997393259751E-4]
[null,null,{"$f":"C164+Sheet2!B$12","v":3.893600000000017},0.5208465282533127,3.893610000000017,0.5207800511299226,-6.647712339002964,null,-6.647545886709055,1.6645229390910288E-4]
[null,null,{"$f":"C165+Sheet2!B$12","v":3.9564000000000172},0.054834790661953396,3.9564100000000173,0.05475578144326091,-7.900921869248567,null,-7.900894725684608,2.7143563959164396E-5]
[null,null,{"$f":"C166+Sheet2!B$12","v":4.019200000000017},-0.43136512213654277,4.019210000000017,-0.43143764146427765,-7.251932773488789,null,-7.252063125495144,-1.3035200635513888E-4]
[null,null,{"$f":"C167+Sheet2!B$12","v":4.082000000000018},-0.8161755138176516,4.082010000000017,-0.8162226830788113,-4.716926115966302,null,-4.717192338012418,-2.6622204611559397E-4]
[null,null,{"$f":"C168+Sheet2!B$12","v":4.144800000000018},-0.995064625036499,4.144810000000017,-0.9950728473136526,-0.8222277153691059,null,-0.8225686164798975,-3.4090111079165819E-4]
[null,null,{"$f":"C169+Sheet2!B$12","v":4.207600000000018},-0.9109817558520318,4.207610000000018,-0.9109470443746027,3.471147742906133,null,3.470821063449187,-3.2667945694564438E-4]
[null,null,{"$f":"C170+Sheet2!B$12","v":4.270400000000018},-0.5755199131570722,4.270410000000018,-0.5754500653588179,6.984779825425224,null,6.984561748408497,-2.1807701672660329E-4]
[null,null,{"$f":"C171+Sheet2!B$12","v":4.333200000000018},-0.0728690391120808,4.333210000000018,-0.07278260513350875,8.64339785720536,null,8.643360529910941,-3.7327294418076917E-5]
[null,null,{"$f":"C172+Sheet2!B$12","v":4.396000000000019},0.4575697175917537,4.396010000000018,0.4576478920679684,7.8174476214720725,null,7.817615589502264,1.6796803019136775E-4]
[null,null,{"$f":"C173+Sheet2!B$12","v":4.458800000000019},0.8579888565379739,4.458810000000018,0.8580346600620405,4.580352406668986,null,4.580688428883669,3.3602221468331805E-4]
[null,null,{"$f":"C174+Sheet2!B$12","v":4.521600000000019},0.9996995393090686,4.521610000000019,0.9996973185626669,-0.22207464017709452,null,-0.2216656199923495,4.0902018474503476E-4]
[null,null,{"$f":"C175+Sheet2!B$12","v":4.584400000000019},0.8273792005503027,4.584410000000019,0.8273277010278391,-5.149952246352729,null,-5.149598860607454,3.5338574527532529E-4]
[null,null,{"$f":"C176+Sheet2!B$12","v":4.647200000000019},0.38451348882185676,4.647210000000019,0.38442768866183163,-8.580016002512902,null,-8.579840700945523,1.7530156737954883E-4]
[null,null,{"$f":"C177+Sheet2!B$12","v":4.7100000000000195},-0.19175637992654593,4.710010000000019,-0.1918488310625375,-9.24511359915725,null,-9.245188877662345,-7.5278505095255355E-5]
[null,null,{"$f":"C178+Sheet2!B$12","v":4.77280000000002},-0.7092764497190589,4.772810000000019,-0.7093437363976144,-6.72866785554893,null,-6.728983958200839,-3.1610265190895603E-4]
[null,null,{"$f":"C179+Sheet2!B$12","v":4.83560000000002},-0.9840369083656171,4.8356100000000195,-0.9840541150840704,-1.7206718453288692,null,-1.7211302646285733,-4.5841929970413808E-4]
[null,null,{"$f":"C180+Sheet2!B$12","v":4.89840000000002},-0.9079720050707193,4.89841000000002,-0.9079309490591088,4.105601161052963,null,4.105161253081804,-4.3990797115878166E-4]
[null,null,{"$f":"C181+Sheet2!B$12","v":4.96120000000002},-0.4962167956068866,4.96121000000002,-0.4961306469348651,8.614867202150212,null,8.614614261307219,-2.5294084299254393E-4]
[null,null,{"$f":"C182+Sheet2!B$12","v":5.0240000000000204},0.10762590289886705,5.02401000000002,0.10772579881300252,9.989591413547826,null,9.989635819835556,4.4406287729614746E-5]
[null,null,{"$f":"C183+Sheet2!B$12","v":5.086800000000021},0.676347829933722,5.08681000000002,0.6764227634528,7.493351907794653,null,7.493694573110615,3.4266531596127692E-4]
[null,null,{"$f":"C184+Sheet2!B$12","v":5.149600000000021},0.9829072860960263,5.1496100000000204,0.9829262418563833,1.895576035704227,null,1.896095501352079,0.000519465647851991]
[null,null,{"$f":"C185+Sheet2!B$12","v":5.212400000000021},0.8935630340111982,5.212410000000021,0.8935162282482543,-4.6805762943913365,null,-4.68008626634343,4.9002804790632126E-4]
[null,null,{"$f":"C186+Sheet2!B$12","v":5.275200000000021},0.43190046161655615,5.275210000000021,0.43180530282029056,-9.51587962655931,null,-9.515630248757338,2.4937780197120674E-4]
[null,null,{"$f":"C187+Sheet2!B$12","v":5.338000000000021},-0.2181419062844383,5.338010000000021,-0.21824609404403328,-10.418775959497584,null,-10.418890536517651,-1.1457702006723025E-4]
[null,null,{"$f":"C188+Sheet2!B$12","v":5.400800000000022},-0.7797752576188274,5.400810000000021,-0.7798428775795633,-6.761996073589848,null,-6.762444727095634,-4.4865350578593421E-4]
[null,null,{"$f":"C189+Sheet2!B$12","v":5.463600000000022},-0.9999832104780012,5.463610000000021,-0.9999825713068511,0.06391711501185782,null,0.0633200476304224,-5.9706738143541771E-4]
[null,null,{"$f":"C190+Sheet2!B$12","v":5.526400000000022},-0.7674342497760093,5.526410000000022,-0.7673633824667316,7.086730927763351,null,7.08625576470734,-4.7516305601114084E-4]
[null,null,{"$f":"C191+Sheet2!B$12","v":5.589200000000022},-0.17585072744567715,5.589210000000022,-0.17574068419635333,11.00432493238157,null,11.004205242757731,-1.1968962383868131E-4]
[null,null,{"$f":"C192+Sheet2!B$12","v":5.652000000000022},0.5048234804834527,5.652010000000022,0.5049210560266995,9.757554324674178,null,9.757868246840701,3.1392216652292859E-4]
[null,null,{"$f":"C193+Sheet2!B$12","v":5.7148000000000225},0.946758156531666,5.714810000000022,0.9467949474782456,3.6790946579601242,null,3.679709850124404,6.1519216427985413E-4]
[null,null,{"$f":"C194+Sheet2!B$12","v":5.777600000000023},{"$f":"SIN(x^2)","v":0.9234043656729276},5.777610000000022,0.9233600073099961,{"$f":"(F195-D195)/dxx","v":-4.435836293148476},null,-4.435215987014519,0.000620306133956916]
[null,null,{"$f":"C195+Sheet2!B$12","v":5.840400000000023},0.43248498465405316,5.8404100000000225,0.43237966271588857,-10.532193816459312,null,-10.53188978087979,{"$f":"I196-G196","v":3.0403557952141114E-4}]
[null,null,{"$f":"C196+Sheet2!B$12","v":5.903200000000023},-0.2861927837071372,5.903210000000023,-0.2863059074337673,-11.312372663013768,null,-11.312562572152835,-1.8990913906691276E-4]
[null,null,{"$f":"C197+Sheet2!B$12","v":5.966000000000023},-0.8601872903829455,5.966010000000023,-0.8602481349163902,-6.084453344468165,null,-6.085060595875247,-6.0725140708228764E-4]
[null,null,{"$f":"C198+Sheet2!B$12","v":6.0288000000000235},-0.9763073110312223,6.028810000000023,-0.976281212638456,2.6098392766238376,null,2.609127412294405,-7.1186432943282085E-4]
[null,null,{"$f":"C199+Sheet2!B$12","v":6.091600000000024},-0.557624474624851,6.091610000000023,-0.5575233384724456,10.113615240536777,null,10.113193122552739,-4.2211798403890555E-4]
[null,null,{"$f":"C200+Sheet2!B$12","v":6.154400000000024},0.1765964918041333,6.1544100000000235,0.1767176440313258,12.115222719250028,null,12.11534668585953,1.2396660950209082E-4]
[null,null,{"$f":"C201+Sheet2!B$12","v":6.217200000000024},0.8160040231256857,6.217210000000024,0.8160758934543687,7.187032868305464,null,7.187657937181804,6.2506887633961838E-4]
[null,null,{"$f":"C202+Sheet2!B$12","v":6.280000000000024},0.9858388016408927,6.280010000000024,0.9858177312647536,-2.1070376139076252,null,-2.1062583432979793,7.792706096458879E-4]
[{"$nulls":4},1e-05,1.0000000000000002E-10,null,null,0]
[null,null,{"$f":"C3+0.00001","v":-6.279990000000001},{"$f":"SIN(2*x)","v":6.39057086053003E-3},-6.279980000000001,0.9858808956364615,null,null,2.104699780285192]
[null,null,{"$f":"C4+0.00001","v":-6.21719},0.1316077018192636,-6.217180000000001,0.8158602449663768,null,null,-7.188907976583334]
[null,null,-6.15439,0.25475140181435507,-6.154380000000001,0.17635417991520475,null,null,-12.115594463028547]
[null,null,-6.09159,0.37388158711956543,-6.09158,-0.5578267215998753,null,null,-10.11234876364156]
[null,null,-6.02879,0.48712140545724103,-6.02878,-0.976359465104335,null,null,-2.607703657695499]
[null,null,-5.96599,0.5926868051160239,-5.96598,-0.8600655648826914,null,null,6.086275021130331]
[null,null,-5.9031899999999995,0.6889146420297532,-5.90318,-0.2859665248622852,null,null,11.312942256069595]
[null,null,-5.840389999999999,0.7742888820008619,-5.84038,0.43269561028564024,null,null,10.531281590502358]
[null,null,-5.777589999999999,0.8474644852618701,-5.7775799999999995,0.9234930451794572,null,null,4.4339753300818945]
[null,null,-5.714789999999999,0.907288597082491,-5.714779999999999,0.9466845377279914,null,null,-3.6809401886073316]
[null,null,-5.651989999999999,0.9528187105721199,-5.651979999999999,0.5046283105639745,null,null,-9.758495983877319]
[null,null,-5.5891899999999985,0.9833375155294346,-5.589179999999999,-0.17607080676045958,null,null,-11.003965749121507]
[null,null,-5.526389999999998,0.9983641994009363,-5.526379999999999,-0.7675759558833035,null,null,-7.085305370060991]
[null,null,-5.463589999999998,0.9976620223059847,-5.4635799999999985,-0.9999844529963758,null,null,-0.06212591768460187]
[null,null,-5.400789999999998,0.9812420467865928,-5.400779999999998,-0.7796399907796828,null,null,6.763341963299008]
[null,null,-5.337989999999998,0.9493629635211445,-5.337979999999998,-0.21793352389280402,null,null,10.419119589650558]
[null,null,-5.275189999999998,0.9025270157478499,-5.275179999999998,0.43209076424455956,null,null,9.515131406274637]
[null,null,-5.212389999999997,0.8414720866071504,-5.212379999999998,0.8936566161346018,null,null,4.679106172322843]
[null,null,-5.149589999999997,0.7671600740640843,-5.149579999999998,0.982869343407857,null,null,-1.8971344105976993]
[null,null,-5.086789999999997,0.6807617365594374,-5.086779999999997,0.6761979423371183,null,null,-7.49437983507577]
[null,null,-5.023989999999997,0.5836382481408758,-5.023979999999997,0.10742610840803463,null,null,-9.989724546844535]
[null,null,-4.961189999999997,0.4773197536661869,-4.961179999999997,-0.4963890777730336,null,null,-8.614108311012057]
[null,null,-4.8983899999999965,0.36348126193352126,-4.898379999999997,-0.9080540906988714,null,null,-4.104281408506412]
[null,null,-4.835589999999996,0.24391625653350463,-4.835579999999997,-0.9840024674239519,null,null,1.7220470849133105]
[null,null,-4.772789999999996,0.12050844017454601,-4.7727799999999965,-0.7091418573969447,null,null,6.729616108820351]
[null,null,-4.709989999999996,-0.004797942360891058,-4.709979999999996,-0.19157147313931217,null,null,9.245339364958676]
[null,null,-4.647189999999996,-0.13002873507813872,-4.647179999999996,0.38468507862256246,null,null,8.579490037243346]
[null,null,-4.5843899999999955,-0.25321097287232824,-4.584379999999996,0.8274821783914201,null,null,5.14889205637204]
[null,null,-4.521589999999995,-0.372403964868362,-4.521579999999996,0.999703956260738,null,null,0.22084758261289925]
[null,null,-4.458789999999995,-0.4857298692922601,-4.4587799999999955,0.8578972293292325,null,null,-4.581360438547905]
[null,null,-4.395989999999995,-0.5914032781780211,-4.395979999999995,0.4574133585623299,null,null,-7.817951472630084]
[null,null,-4.333189999999995,-0.6877593458138168,-4.333179999999995,-0.07304190482849522,null,null,-8.643285821434642]
[null,null,-4.270389999999995,-0.7732800177741911,-4.270379999999995,-0.5756595956681552,null,null,-6.984125554129163]
[null,null,-4.207589999999994,-0.8466179473095015,-4.207579999999995,-0.9110511592057949,null,null,-3.47016768741116]
[null,null,-4.144789999999994,-0.9066177222986795,-4.144779999999995,-0.995048160028319,null,null,0.8232504098170187]
[null,null,-4.081989999999994,-0.9523340683424736,-4.081979999999994,-0.8160811593226115,null,null,4.71772475250562]
[null,null,-4.019189999999994,-0.9830467412141287,-4.019179999999994,-0.431220075660779,null,null,7.252323787822848]
[null,null,-3.956389999999993,-0.9982718740424209,-3.956379999999993,0.05499280746993557,null,null,7.900840397790712]
[null,null,-3.893589999999993,-0.9977696004563444,-3.893579999999993,0.5209794725123643,null,null,6.647212950908448]
[null,null,-3.830789999999993,-0.9815478335916142,-3.8307799999999927,0.8588845878320284,null,null,3.924529266439299]
[null,null,-3.7679899999999926,-0.9498621414221207,-3.7679799999999926,0.9981700498476402,null,null,0.4562632602288737]
[null,null,-3.7051899999999924,-0.903211720380447,-3.7051799999999924,0.9175952702396474,null,null,-2.945240254753411]
[null,null,-3.6423899999999922,-0.8423315307015767,-3.642379999999992,0.644647006355237,null,null,-5.568729199216285]
[null,null,-3.579589999999992,-0.7681807173945607,-3.579579999999992,0.24451779633030307,null,null,-6.941736350478195]
[null,null,-3.516789999999992,-0.6819274992654771,-3.516779999999992,-0.19732551827987796,null,null,-6.895383515792757]
[null,null,-3.4539899999999917,-0.5849307640595754,-3.4539799999999916,-0.5942982215589575,null,null,-5.555990260215447]
[null,null,-3.3911899999999915,-0.4787186596843715,-3.3911799999999914,-0.8754029734016334,null,null,-3.2789636034341694]
[null,null,-3.3283899999999913,-0.3649645188011072,-3.3283799999999912,-0.9965955788813263,null,null,-0.5492628364925192]
[null,null,-3.265589999999991,-0.24546049608378298,-3.265579999999991,-0.9455351805312722,null,null,2.125625897489022]
[null,null,-3.202789999999991,-0.12208933348105908,-3.202779999999991,-0.7399673166803838,null,null,4.308363800292184]
[null,null,-3.1399899999999907,3.205301691056647E-3,-3.1399799999999907,-0.4211350921495511,null,null,5.695762723978803]
[null,null,-3.0771899999999905,0.12844943851328722,-3.0771799999999905,-0.044244343725761845,null,null,6.148336489285047]
[null,null,-3.0143899999999904,0.25166990164929504,-3.0143799999999903,0.3318756045705035,null,null,5.687208410621988]
[null,null,-2.95158999999999,0.37092539799777385,-2.95157999999999,0.6540707195899355,null,null,4.46559045761697]
[null,null,-2.88878999999999,0.4843371010516471,-2.88877999999999,0.8818296070732162,null,null,2.7248172125300845]
[null,null,-2.82598999999999,0.5901182511190375,-2.8259799999999897,0.9912767605415822,null,null,0.7452292704671315]
[null,null,-2.7631899999999896,0.6866023050654056,-2.7631799999999895,0.9761547319845072,null,null,-1.199345693902147]
[null,null,-2.7003899999999894,0.7722691920880195,-2.7003799999999893,0.846228616283084,null,null,-2.8773966456275897]
[null,null,-2.637589999999989,0.8457692618726791,-2.637579999999989,0.6238372826749309,null,null,-4.122665741437652]
[null,null,-2.574789999999989,0.9059445478382899,-2.574779999999989,0.3394261302355479,null,null,-4.843773394039164]
[null,null,-2.511989999999989,0.9518470104746835,-2.5119799999999888,0.026854984247181905,null,null,-5.022161266110223]
[null,null,-2.4491899999999887,0.9827534733566046,-2.4491799999999886,-0.280872068869864,null,null,-4.701264161474137]
[null,null,-2.3863899999999885,0.9981770165224536,-2.3863799999999884,-0.5550106781202413,null,null,-3.970331119973247]
[null,null,-2.3235899999999883,0.9978746477192921,-2.323579999999988,-0.7733835692495827,null,null,-2.9461927249956084]
[null,null,-2.260789999999988,{"$f":"SIN(2*x)","v":0.981851130656464},-2.260779999999988,-0.9215520060865601,null,null,-1.7557141873746955]
[null,null,{"$f":"C68+0.00001","v":-2.197989999999988},0.9503589099551069,-2.197979999999988,-0.9929602131684624,null,null,-0.5208885266405866]
[null,null,-2.1351899999999877,0.9038941339759425,-2.1351799999999876,-0.9882579849862021,null,null,0.6523102990113017]
[null,null,-2.0723899999999875,0.8431888381842376,-2.0723799999999875,-0.9140527202750663,null,null,1.6809466538417124]
[null,null,-2.0095899999999873,0.7691994122001407,-2.0095799999999873,-0.7813456851532082,null,null,2.5082379343779713]
[null,null,-1.9467899999999874,0.6830915322317832,-1.9467799999999873,-0.6038797877193849,null,null,3.103385307095109]
[null,null,-1.8839899999999874,0.5862217962751178,-1.8839799999999873,-0.3965796710842745,null,null,3.4589504910824127]
[null,null,-1.8211899999999874,0.4801163514111733,-1.8211799999999874,-0.17421048795772986,null,null,3.5866592020323256]
[null,null,-1.7583899999999875,0.3664468499197991,-1.7583799999999874,0.04967198048477208,null,null,3.51244497614009]
[null,null,-1.6955899999999875,0.2470041130124897,-1.6955799999999874,0.263454157970131,null,null,3.271406405611474]
[null,null,-1.6327899999999875,0.12366991710249695,-1.6327799999999875,0.4578916100424484,null,null,2.9031756632715697]
[null,null,-1.5699899999999876,-1.6126528908265152E-3,-1.5699799999999875,0.6262668476849933,null,null,2.4480176933172495]
[null,null,-1.5071899999999876,-0.12686981613066042,-1.5071799999999875,0.764329647101478,null,null,1.9438191599500074]
[null,null,-1.4443899999999876,-0.2501281920542464,-1.4443799999999876,0.8700772744989617,null,null,1.4239965951234328]
[null,null,-1.3815899999999877,-0.36944589025824637,-1.3815799999999876,0.9434307061538862,null,null,0.916258948552818]
[null,null,-1.3187899999999877,-0.4829431042682154,-1.3187799999999876,0.9858568179600619,null,null,0.4421000368381293]
[null,null,-1.2559899999999877,-0.5888317271985963,-1.2559799999999877,0.9999776258224561,null,null,0.01686669687080218]
[null,null,-1.1931899999999878,-0.6854435227194,-1.1931799999999877,0.989197678919197,null,null,-0.3497576083282371]
[null,null,-1.1303899999999878,-0.7712564075063466,-1.1303799999999877,0.9573709103659234,null,null,-0.6530032670678726]
[null,null,-1.0675899999999878,-0.8449184311041272,-1.0675799999999878,0.9085194825242533,null,null,-0.8921275171929759]
[null,null,-1.0047899999999879,-0.9052690754088554,-1.0047799999999878,0.846609904392624,null,null,-1.0694922845260735]
[null,null,-0.941989999999988,-0.9513575382041908,-0.941979999999988,0.7753861259649899,null,null,-1.1896821391750556]
[null,null,-0.879189999999988,-0.9824577127007473,-0.8791799999999881,0.6982553921022503,null,null,-1.2587125043035345]
[null,null,-0.8163899999999881,-0.9980796270816444,-0.8163799999999881,0.618220188586141,null,null,-1.2833566982800189]
[null,null,-0.7535899999999881,-0.997977163828371,-0.7535799999999881,0.5378483816873412,null,null,-1.2706032021218088]
[null,null,-0.6907899999999881,-0.9821519372118171,-0.6907799999999882,0.4592733596281223,null,null,-1.2272418194721118]
[null,null,-0.6279899999999882,-0.95085326786003,-0.6279799999999882,0.3842163585759363,null,null,-1.1595687860414752]
[null,null,-0.5651899999999882,-0.9045742548033681,-0.5651799999999882,0.3140239570530996,null,null,-1.0731957819739149]
[null,null,-0.5023899999999882,-0.8440440068805395,-0.5023799999999883,0.24971475289664677,null,null,-0.9729454880547943]
[null,null,-0.43958999999998816,-0.7702161558968655,-0.43957999999998815,0.192030343641134,null,null,-0.8628160867466892]
[null,null,-0.37678999999998813,-0.6842538325057403,-0.3767799999999881,0.14148680524688612,null,null,-0.7459982884133253]
[null,null,-0.3139899999999881,-0.5875113415127484,-0.3139799999999881,0.09842383425094199,null,null,-0.6249305095368902]
[null,null,-0.2511899999999881,-0.48151282530129075,-0.2511799999999881,0.0630495445982199,null,null,-0.5013803047191975]
[null,null,-0.18838999999998807,-0.36792825152960335,-0.18837999999998806,0.03547957656306994,null,null,-0.376542729555503]
[null,null,-0.12558999999998804,-0.2485471034041762,-0.12557999999998803,0.01576968271845582,null,null,-0.25114875602376785]
[null,null,-0.06278999999998805,-0.12525018702964247,-0.06277999999998805,0.003941318195861507,null,null,-0.12557902399540263]
[null,null,1.0000000011962654E-5,2.0000000022591973E-5,2.0000000011962655E-5,4.000000004785062e-10,null,null,2.0000000023925308E-5]
[null,null,0.06281000000001197,0.12528987193703922,0.06282000000001196,0.003946342156793217,null,null,0.12561902244006662]
[null,null,0.125610000000012,0.24858584799779657,0.125620000000012,0.01577972946820506,null,null,0.25118873113854606]
[null,null,0.188410000000012,0.36796544540261716,0.18842000000001202,0.03549463906974184,null,null,0.3765826035929785]
[null,null,0.25121000000001203,0.481547882477901,0.25122000000001204,0.06306960060246165,null,null,0.501419906777845]
[null,null,0.31401000000001206,0.5875437096800246,0.31402000000001207,0.09844883225192402,null,null,0.6249695388366676]
[null,null,0.3768100000000121,0.6842830017151054,0.3768200000000121,0.14151664593824598,null,null,0.7460362787204576]
[null,null,0.4396100000000121,0.7702416665981483,0.4396200000000121,0.19206485701035136,null,null,0.862852373143581]
[null,null,0.502410000000012,0.8440654571620188,0.502420000000012,0.24975367138998694,null,null,0.9729791778835015]
[null,null,0.565210000000012,0.9045913067237444,0.5652200000000119,0.3140668854834126,null,null,1.0732257325214178]
[null,null,0.628010000000012,0.9508656527725662,0.6280200000000119,0.3842627418235284,null,null,1.159593592344287]
[null,null,0.6908100000000119,0.9821594599967687,0.6908200000000119,0.4593224496608655,null,null,1.227259816436618]
[null,null,0.7536100000000119,0.9979797059670265,0.7536200000000118,0.5378992060011264,null,null,1.2706124858969243]
[null,null,0.8164100000000118,0.9980771485235438,0.8164200000000118,0.6182715228235779,null,null,1.2833551723587038]
[null,null,0.8792100000000118,0.9824502524946622,0.8792200000000118,0.698305740311479,null,null,1.2586979560114642]
[null,null,0.9420100000000118,0.9513452138829259,0.9420200000000117,0.7754337126548296,null,null,1.189652351835123]
[null,null,1.004810000000012,0.9052520811375614,1.004820000000012,0.8466526831421197,null,null,1.0694451894453383]
[null,null,1.067610000000012,0.8448970346213017,1.067620000000012,0.9085551663023577,null,null,0.8920613874712418]
[null,null,1.130410000000012,0.7712309459057111,1.130420000000012,0.9573970287703069,null,null,0.6529169518568071]
[null,null,1.1932100000000119,0.685414397139113,1.193220000000012,0.9892116670873895,null,null,0.349650801415286]
[null,null,1.2560100000000118,0.5887993965014687,1.256020000000012,0.9999769486251789,null,null,-0.016993166469574415]
[null,null,1.3188100000000118,0.48290807781249584,1.3188200000000119,0.9858391310810641,null,null,-0.4422439120910362]
[null,null,1.3816100000000118,0.3694087198728691,1.3816200000000118,0.9433940526493337,null,null,-0.9164162776736764]
[null,null,1.4444100000000117,0.25008946334496934,1.4444200000000118,0.8700203113364671,null,null,-1.4241615277707285]
[null,null,1.5072100000000117,0.1268301392540617,1.5072200000000118,0.764251891041214,null,null,-1.943983851024372]
[null,null,1.5700100000000117,1.5726529415118567E-3,1.5700200000000117,0.626168923883788,null,null,-2.4481723643989683]
[null,null,1.6328100000000116,-0.12370960994002991,1.6328200000000117,0.4577754803516704,null,null,-2.9033088728404413]
[null,null,1.6956100000000116,-0.24704287339217662,1.6956200000000117,0.2633232997304837,null,null,-3.271505573861494]
[null,null,1.7584100000000116,{"$f":"SIN(2*x)","v":-0.36648406718610615},1.7584200000000116,0.0495314816412673,null,null,-3.5124971962706653]
[null,null,{"$f":"C132+0.00001","v":1.8212100000000115},-0.48015143921975073,1.8212200000000116,-0.17435395418873434,null,null,-3.586652345546416]
[null,null,1.8840100000000115,-0.5862542018304396,1.8840200000000116,-0.3967180275857189,null,null,-3.4588745788877757]
[null,null,1.9468100000000115,-0.6831207449962375,1.9468200000000115,-0.6040039201069932,null,null,-3.103234071598419]
[null,null,2.0096100000000114,-0.7692249719373621,2.0096200000000115,-0.7814460101207755,null,null,-2.5080104429236894]
[null,null,2.0724100000000116,-0.8432103422099617,2.0724200000000117,-0.9141199521842721,null,null,-1.680648806131774]
[null,null,2.135210000000012,-0.903911243502149,2.135220000000012,-0.9882840703113523,null,null,-0.651955958954688]
[null,null,2.198010000000012,-0.9503713554274995,2.198020000000012,-0.9929393698571161,null,null,0.5212770395093828]
[null,null,2.260810000000012,-0.9818587160012004,2.2608200000000123,-0.921481769672243,null,null,1.7561065267038463]
[null,null,2.3236100000000124,-0.9978772534320541,2.3236200000000125,-0.773265714352899,null,null,2.9465521070224185]
[null,null,2.3864100000000126,-0.9981746015511946,2.3864200000000126,-0.554851859153429,null,null,3.970617218289375]
[null,null,2.4492100000000128,-0.982746075748309,2.449220000000013,-0.28068401484071087,null,null,4.70143729396225]
[null,null,2.512010000000013,-0.9518347467759507,2.512020000000013,0.027055871225423918,null,null,5.022187644165303]
[null,null,2.574810000000013,-0.9059276112591854,2.574820000000013,0.3396198783223719,null,null,4.843630945946232]
[null,null,2.6376100000000133,-0.8457479192427808,2.6376200000000134,0.6240021829848801,null,null,4.122349755512474]
[null,null,2.7004100000000135,-0.7722437796526159,2.7004200000000136,0.8463437027010805,null,null,2.876924254429904]
[null,null,2.7632100000000137,-0.6865732231880751,2.7632200000000138,0.9762026940603932,null,null,1.1987581012432338]
[null,null,2.826010000000014,-0.5900859579740669,2.826020000000014,0.9912469385988266,null,null,-0.7458678660813605]
[null,null,2.888810000000014,-0.4843021054056647,2.888820000000014,0.8817206022336588,null,null,-2.725424764067586]
[null,null,2.9516100000000143,-0.37088825119431773,2.9516200000000143,0.6538920862504849,null,null,-4.466076513918777]
[null,null,3.0144100000000145,-0.2516311889225987,3.0144200000000145,0.331648110656036,null,null,-5.6874873123297895]
[null,null,3.0772100000000147,-0.12840976976812907,3.0772200000000147,-0.04449027731234533,null,null,-6.148342840204016]
[null,null,3.140010000000015,-3.165301893934555E-3,3.140020000000015,-0.42136291673868903,null,null,-5.695466734042347]
[null,null,3.202810000000015,0.12212903414804524,3.202820000000015,-0.7401396396241374,null,null,-4.307783388993748]
[null,null,3.2656100000000152,0.24549927215121867,3.2656200000000153,-0.9456201896934138,null,null,-2.124832211259018]
[null,null,3.3284100000000154,0.36500175936630386,3.3284200000000155,-0.9965735906371246,null,null,0.5501493724058575]
[null,null,3.3912100000000156,0.47875377803591407,3.3912200000000157,-0.8752717983641426,null,null,3.279788270968771]
[null,null,3.454010000000016,0.5849632069207447,3.454020000000016,-0.5940759699631603,null,null,5.556589530973703]
[null,null,3.516810000000016,0.6819567555109212,3.516820000000016,-0.19704969825293994,null,null,6.895617833875328]
[null,null,3.579610000000016,0.7682063261028871,3.5796200000000162,0.24479546154406745,null,null,6.941524341542199]
[null,null,3.6424100000000164,0.8423530884169994,3.6424200000000164,0.6448697424481376,null,null,5.5680754499074485]
[null,null,3.7052100000000165,0.903228887469084,3.7052200000000166,0.9177130600108433,null,null,2.9442483082063733]
[null,null,3.7680100000000167,0.9498746474228013,3.768020000000017,0.9981517765939703,null,null,-0.4573994220744324]
[null,null,3.830810000000017,0.9815554814768948,3.830820000000017,0.8587275860867566,null,null,-3.9255579987964313]
[null,null,3.893610000000017,0.9977722697366036,3.893620000000017,0.5207135706777443,null,null,-6.647878784631394]
[null,null,3.9564100000000173,0.9982695226641294,3.9564200000000174,0.054676771682029376,null,null,-7.900949004369311]
[null,null,4.019210000000017,0.9830394062223876,4.019220000000017,-0.4315101581846584,null,null,-7.2518024142277415]
[null,null,4.082010000000017,0.9523218652973812,4.082020000000017,-0.8162698470152925,null,null,-4.716659888082004]
[null,null,4.144810000000017,0.9066008434547257,4.144820000000017,-0.9950810627727139,null,null,-0.8218868125427168]
[null,null,4.207610000000018,0.8465966585866679,4.207620000000017,-0.9109123263637116,null,null,3.471474419506447]
[null,null,4.270410000000018,0.7732546545684804,4.270420000000017,-0.5753802131993437,null,null,6.984997894686966]
[null,null,4.333210000000018,0.6877303077132115,4.333220000000018,-0.07269617040882355,null,null,8.643435173848724]
[null,null,4.396010000000018,0.591371022667122,4.396020000000018,0.4577260631844092,null,null,7.8172796435318785]
[null,null,4.458810000000018,0.4856949045447845,4.458820000000018,0.858080456865397,null,null,4.5800163782030685]
[null,null,4.521610000000019,0.37236684174105333,4.521620000000018,0.9996950896358371,null,null,-0.22248366098132752]
[null,null,4.584410000000019,0.2531722762264109,4.584420000000018,0.8272761944379123,null,null,-5.150305626101737]
[null,null,4.647210000000019,0.12998907456504447,4.647220000000019,0.38434188499624905,null,null,-8.580191292673446]
[null,null,4.710010000000019,0.004757942817424591,4.710020000000019,-0.1919412806924093,null,null,-9.245038307244087]
[null,null,4.772810000000019,-0.12054814857028107,4.772820000000019,-0.7094110167536807,null,null,-6.728351742207073]
[null,null,4.8356100000000195,-0.24395504819033012,4.835620000000019,-0.9840713126339937,null,null,-1.7202134225378403]
[null,null,4.89841000000002,-0.3635185257031436,4.898420000000019,-0.9078898842495636,null,null,4.106041063591998]
[null,null,4.96121000000002,-0.4773549024716137,4.9612200000000195,-0.49604449320456856,null,null,8.615120129741038]
[null,null,5.02401000000002,-0.5836707282255981,5.02402000000002,0.10782569383834534,null,null,9.989546991320273]
[null,null,5.08681000000002,-0.68079103621166,5.08682000000002,0.676497690118033,null,null,7.493009229457235]
[null,null,5.1496100000000204,-0.7671857316785569,5.14962000000002,0.9829451872272558,null,null,1.8950565659225562]
[null,null,5.212410000000021,-0.8414936979575887,5.21242000000002,0.8934694126850509,null,null,-4.681066315089291]
[null,null,5.275210000000021,-0.9025442403553718,5.2752200000000204,0.4317101390371479,null,null,-9.516128988053488]
[null,null,5.338010000000021,-0.9493755300183903,5.338020000000021,-0.21835027951129474,null,null,-10.418661363236598]
[null,null,5.400810000000021,-0.9812497571930178,5.400820000000021,-0.7799104885666802,null,null,-6.761547406940222]
[null,null,5.463610000000021,-0.99766475514697,5.463620000000021,-0.9999819201943145,null,null,0.06451418337351521]
[null,null,5.526410000000022,-0.9983619116215768,5.526420000000021,-0.7672925056547297,null,null,7.087206077871968]
[null,null,5.589210000000022,-0.9833302431728531,5.589220000000021,-0.17563063855413805,null,null,11.004444600067988]
[null,null,5.652010000000022,-0.9528065682116209,5.652020000000022,0.5050186252906511,null,null,9.75724038169522]
[null,null,5.714810000000022,-0.9072717760165008,5.714820000000022,0.9468317261206232,null,null,3.6784794570816133]
[null,null,5.777610000000022,{"$f":"SIN(2*x)","v":-0.8474432505001002},5.777620000000022,0.9233156365412862,null,null,-4.436456591126027]
[null,null,{"$f":"C196+0.00001","v":5.8404100000000225},-0.7742635680891778,5.840420000000022,0.43227433469792065,null,null,-10.53249783058854]
[null,null,5.903210000000023,-0.6888856477795284,5.903220000000022,-0.286419027361166,null,null,-11.312182728522627]
[null,null,5.966010000000023,-0.5926545873210125,5.9660200000000225,-0.8603089673041888,null,null,-6.083846077830163]
[null,null,6.028810000000023,-0.48708647169696023,6.028820000000023,-0.9762551000086077,null,null,2.610551136019997]
[null,null,6.091610000000023,-0.37384448776256696,6.091620000000023,-0.5574221938786388,null,null,10.114037335427573]
[null,null,6.1544100000000235,-0.2547127213473709,6.154420000000023,0.17683879377798425,null,null,12.11509872383146]
[null,null,6.217210000000024,-0.13156804963883215,6.217220000000023,0.8161477512809017,null,null,7.1864077805639255]
[null,null,6.280010000000024,-0.006350571672178051,6.2800200000000235,0.9857966453033709,null,null,-2.107816880509229]

{"sheet":"Defining Function","index":2,"n_rows":12,"n_cols":1,"rows_kept":12}
["                                                     Defining a Function in Excel"]
[]
["Computers have very specific rules you must follow when defining a function.  If you don't, the program will either not work at all or will work incorrectly."]
[]
["1. The Variable used should be the one named in the instruction, usually x, though sometimes y, t, Q (for an angle theta), "]
[" or even x and y (for a function of two variables). "]
[]
["2.  Order of Operations:  There five arithmetic operations, addition (+), subtraction (-), multiplication (*), division (/), and  exponentiation or power (^).  When computers see any of these operation symbols, they perform the indicated steps in a very particular order.  First, the power is done.  Second, products and quotients of adjacent terms is done.  Third, and last, sums and differences of adjacent terms are done.  So, in 10*x^3 + 5*x – 7, say with x = 2, the first pass only calculates 2^3 and ignores the multiplications and the sums and differences to calculate 2^3 = 8.  The second pass looks at 10*8 + 5*2 – 7 and only does the multiplications, so it produces 80 + 10 -  7.  The third pass looks at the +’s and –‘s to produce 80 + 10 – 7 = 83.  "]
[]
["3.    Parentheses  If you need an operation involving more than two adjacent terms, as in Ö4^3 + 6^2, the computer would take the square root of  4 to produce 2^3 + 6^2;  it would then cube the 2 and square the 6 to produce 8 + 36; and finally it would add the 8 and the 36 to get 44.  If you actually wanted the square root of the entire expression, you would need to use parentheses, as in Ö(4^3 + 6^2) to tell the computer to do all the operations inside the parentheses before taking the square root.  Therefore, it would calculate (4^3 + 6^2) = 64 + 36 = 100 and then take the square root of Ö100  =  10."]
[]
["4.  Built-In Functions  Computer programs have built-in functions for most common algebraic functions.  In Excel, the square root function is denoted by SQRT(…), so SQRT(100) = 10.  Alternatively, you could enter it as 100^.5 or 100^(1/2); notice that parentheses are needed to have the ½ done first.  The common trig functions are SIN (…), COS (…), and TAN (…), where the arguments are automatically interpreted as being in radians, not degrees.  The logarithm to the base 10 is represented by LOG (…) and the logarithm with the base e, known as the natural logarithm, is LN (…). The corresponding exponential function with base e is EXP (x).  If x is the variable, then each of these would be SQRT (x), SIN (x), COS (x), TAN (x), LOG (x) (for log with base 10 ), LN (x) (for log with base e ), and EXP (x)."]

{"sheet":"Sheet3","index":3,"n_rows":0,"n_cols":0,"rows_kept":0}