{"text_format":"3","workbook":"xlsx","n_sheets":4,"sheets":["Sheet1","Sheet2","Sheet3","Defining Function"],"not_rendered":{"charts":1,"images":1,"macros":1,"defined_names":11,"comments":1},"read":"whole","date_system":"1900"}

{"sheet":"Sheet1","index":0,"n_rows":41,"n_cols":18,"rows_kept":41,"merged":[[34,2,34,3]]}
[null,"Delta-Epsilon Definition of Limits"]
[]
[null,"    This graphing utility lets you investigate "]
[null,null,"the delta-epsilon definition"]
[null,null,"  of the limit of a function"]
[{"$nulls":3},"y = f(x)"]
[null,"         as x approaches a point x = x0.  "]
[]
[]
["  Enter the function in terms of x:     f(x) = ",{"$nulls":4},"x^2+2"]
[]
[]
["Now enter the \"display\" interval for x:  "]
[null,null,"xMin =",0]
[null,null,"xMax =",2.2]
[]
["         Next enter the limit point x0  =",{"$nulls":3},1]
[null,{"$f":"IF(OR(x0>=xMax,x0<=xMin),\"Either use a point inside the interval or expand the interval\",\"\")","v":""}]
[]
[null,"and the presumed limiting value L =",{"$nulls":3},3,{"$nulls":6},"The graph of the function y =",null,null,{"$f":"F10","v":"x^2+2"}]
[]
[]
[null,"     What is the value for epsilon e =",{"$nulls":3},0.8,{"$nulls":6},"The limit as x → x0 exists and is equal to L"]
[{"$nulls":13},"if, for any e > 0 (the vertical height above and below the limiting point)"]
[{"$nulls":13},"there exists a d > 0 (a horizontal distance either side of x0)"]
["Click each item below for suggestions and investigations",{"$nulls":12},"such that the curve remains within the horizontal band"]
[null,"   Item 1",{"$nulls":12},"from  x0 - d  to  x0 + d"]
[null,"   Item 2"]
[null,"   Item 3",{"$nulls":10},"   Select the horozontal distance d  = ±",{"$nulls":3},{"$f":"dd","v":0.19},"from x0"]
[null,"   Item 4"]
[{"$nulls":14},19,{"$f":"D14+O31*(D15-D14)/100","v":0.41800000000000004}]
[]
[]
["To access/download all the DIGMath Apps for Calculus"]
["      Click this link:",null,"DIGMath for Calculus"]
[]
["Created by:  Sheldon P. Gordon   "]
["                      Farmingdale State College    "]
["Development of this module was supported by the "]
["NSF's Division of Undergraduate Education  "]
["under grants DUE-0310123 and DUE-0442160."]

{"sheet":"Sheet2","index":1,"n_rows":1004,"n_cols":13,"rows_kept":1004}
["x","f(x)","slope",null,null,"xl=",{"$f":"IF(Sheet1!$P$31<Sheet1!D14+80*Sheet2!G5,Sheet1!D14,Sheet1!P31-80*Sheet2!G5)","v":0},{"$f":"LOOKUP(Sheet1!P31,Sheet2!A3:A1002,Sheet2!B3:B1002)+LOOKUP(Sheet1!P31,Sheet2!A3:A1002,Sheet2!C3:C1002)*(G1-Sheet1!P31)","v":1.8207052003663144},"\"=yl"]
[{"$nulls":5},"xr=",{"$f":"IF(Sheet1!$P$31>Sheet1!D15-80*Sheet2!G5,Sheet1!D15,Sheet1!P31+80*Sheet2!G5)","v":1.2936218905472638},{"$f":"LOOKUP(Sheet1!P31,Sheet2!A3:A1003,Sheet2!B3:B1003)+LOOKUP(Sheet1!P31,Sheet2!A3:A1003,Sheet2!C3:C1003)*(G2-Sheet1!P31)","v":2.9109517091161377},"\"=yR"]
[{"$f":"Sheet1!D14","v":{"v":0,"d":"0.00"}},{"$f":"x^2+2","v":2},{"$f":"(B4-B3)/Sheet2!$G$5","v":0.010945273631834344}]
[{"$f":"A3+Sheet2!G$5","v":{"v":0.010945273631840797,"d":"0.01"}},2.000119799014876,{"$f":"(B5-B4)/Sheet2!$G$5","v":0.032835820895543606}]
[{"$f":"A4+Sheet2!G$5","v":{"v":0.021890547263681594,"d":"0.02"}},2.0004791960595036,{"$f":"(B6-B5)/Sheet2!$G$5","v":0.05472636815917172},null,null,"delta x = ",{"$f":"(Sheet1!D15-Sheet1!D14)/201","v":0.010945273631840797}]
[{"$f":"A5+Sheet2!G$5","v":{"v":0.032835820895522394,"d":"0.03"}},2.0010781911338826,{"$f":"(B7-B6)/Sheet2!$G$5","v":0.07661691542292155}]
[{"$f":"A6+Sheet2!G$5","v":{"v":0.04378109452736319,"d":"0.04"}},2.001916784238014,{"$f":"(B8-B7)/Sheet2!$G$5","v":0.09850746268654967},null,null,"x0 =",{"$f":"x0","v":1}]
[{"$f":"A7+Sheet2!G$5","v":{"v":0.05472636815920398,"d":"0.05"}},2.0029949753718967,{"$f":"(B9-B8)/Sheet2!$G$5","v":0.12039800995025894},null,null,"L =",{"$f":"L","v":3}]
[{"$f":"A8+Sheet2!G$5","v":{"v":0.06567164179104477,"d":"0.07"}},2.0043127645355314,{"$f":"(B10-B9)/Sheet2!$G$5","v":0.14228855721392764}]
[{"$f":"A9+Sheet2!G$5","v":{"v":0.07661691542288557,"d":"0.08"}},2.0058701517289177,{"$f":"(B11-B10)/Sheet2!$G$5","v":0.16417910447759632},null,"upper line"]
[{"$f":"A10+Sheet2!G$5","v":{"v":0.08756218905472636,"d":"0.09"}},2.0076671369520556,{"$f":"(B12-B11)/Sheet2!$G$5","v":0.18606965174130558},null,null,"xMin =",{"$f":"xMin","v":0},{"$f":"L+E","v":3.8},"\"=L+E"]
[{"$f":"A11+Sheet2!G$5","v":{"v":0.09850746268656715,"d":"0.10"}},2.0097037202049455,{"$f":"(B13-B12)/Sheet2!$G$5","v":0.20796019900497426},null,null,"xMax -",{"$f":"xMax","v":2.2},{"$f":"L+E","v":3.8}]
[{"$f":"A12+Sheet2!G$5","v":{"v":0.10945273631840795,"d":"0.11"}},2.011979901487587,{"$f":"(B14-B13)/Sheet2!$G$5","v":0.22985074626864296},null,"lower line"]
[{"$f":"A13+Sheet2!G$5","v":{"v":0.12039800995024874,"d":"0.12"}},2.01449568079998,{"$f":"(B15-B14)/Sheet2!$G$5","v":0.2517412935323522},null,null,"xMin =",{"$f":"xMin","v":0},{"$f":"L-E","v":2.2},"\"=L-E"]
[{"$f":"A14+Sheet2!G$5","v":{"v":0.13134328358208955,"d":"0.13"}},2.0172510581421252,{"$f":"(B16-B15)/Sheet2!$G$5","v":0.27363184079602093},null,null,"xMax -",{"$f":"xMax","v":2.2},{"$f":"L-E","v":2.2}]
[{"$f":"A15+Sheet2!G$5","v":{"v":0.14228855721393036,"d":"0.14"}},2.020246033514022,{"$f":"(B17-B16)/Sheet2!$G$5","v":0.2955223880596896},null,"left line"]
[{"$f":"A16+Sheet2!G$5","v":{"v":0.15323383084577116,"d":"0.15"}},2.0234806069156703,{"$f":"(B18-B17)/Sheet2!$G$5","v":0.31741293532339887},null,null,"x0 - d =",{"$f":"x0-d","v":0.81},{"$f":"L-E","v":2.2},"\"= L-E",null,{"$f":"x0","v":1},{"$f":"d","v":0.19},{"$f":"x0-d","v":0.81}]
[{"$f":"A17+Sheet2!G$5","v":{"v":0.16417910447761197,"d":"0.16"}},2.0269547783470707,{"$f":"(B19-B18)/Sheet2!$G$5","v":0.33930348258706755},null,null,"x0 - d =",{"$f":"G17","v":0.81},{"$f":"L+E","v":3.8},"\"= L+E",{"$nulls":3},{"$f":"x0+d","v":1.19}]
[{"$f":"A18+Sheet2!G$5","v":{"v":0.17512437810945278,"d":"0.18"}},2.0306685478082227,{"$f":"(B20-B19)/Sheet2!$G$5","v":0.36119402985073623},null,"right line"]
[{"$f":"A19+Sheet2!G$5","v":{"v":0.18606965174129358,"d":"0.19"}},2.0346219152991263,{"$f":"(B21-B20)/Sheet2!$G$5","v":0.3830845771144455},null,null,"x0 + d =",{"$f":"x0+d","v":1.19},{"$f":"L-E","v":2.2},"\"= L-E"]
[{"$f":"A20+Sheet2!G$5","v":{"v":0.1970149253731344,"d":"0.20"}},2.038814880819782,{"$f":"(B22-B21)/Sheet2!$G$5","v":0.4049751243780736},null,null,"x0 + d =",{"$f":"G20","v":1.19},{"$f":"L+E","v":3.8},"\"= L+E"]
[{"$f":"A21+Sheet2!G$5","v":{"v":0.2079601990049752,"d":"0.21"}},2.0432474443701887,{"$f":"(B23-B22)/Sheet2!$G$5","v":0.42686567164182343}]
[{"$f":"A22+Sheet2!G$5","v":{"v":0.218905472636816,"d":"0.22"}},2.047919605950348,{"$f":"(B24-B23)/Sheet2!$G$5","v":0.4487562189054516}]
[{"$f":"A23+Sheet2!G$5","v":{"v":0.2298507462686568,"d":"0.23"}},2.0528313655602584,{"$f":"(B25-B24)/Sheet2!$G$5","v":0.47064676616916085}]
[{"$f":"A24+Sheet2!G$5","v":{"v":0.24079601990049762,"d":"0.24"}},2.057982723199921,{"$f":"(B26-B25)/Sheet2!$G$5","v":0.4925373134328295},null,"dMax =",{"$f":"MIN(xMax-x0,x0-xMin)","v":1}]
[{"$f":"A25+Sheet2!G$5","v":{"v":0.25174129353233843,"d":"0.25"}},2.063373678869335,{"$f":"(B27-B26)/Sheet2!$G$5","v":0.5144278606965388}]
[{"$f":"A26+Sheet2!G$5","v":{"v":0.2626865671641792,"d":"0.26"}},2.069004232568501,{"$f":"(B28-B27)/Sheet2!$G$5","v":0.5363184079601669},null,"dd =",{"$f":"Sheet1!O31/100*dMax","v":0.19}]
[{"$f":"A27+Sheet2!G$5","v":{"v":0.27363184079602,"d":"0.27"}},2.074874384297418,{"$f":"(B29-B28)/Sheet2!$G$5","v":0.5582089552239168}]
[{"$f":"A28+Sheet2!G$5","v":{"v":0.28457711442786077,"d":"0.28"}},2.080984134056088,{"$f":"(B30-B29)/Sheet2!$G$5","v":0.5800995024875448}]
[{"$f":"A29+Sheet2!G$5","v":{"v":0.29552238805970155,"d":"0.30"}},2.087333481844509,{"$f":"(B31-B30)/Sheet2!$G$5","v":0.6019900497512541}]
[{"$f":"A30+Sheet2!G$5","v":{"v":0.3064676616915423,"d":"0.31"}},2.0939224276626818,{"$f":"(B32-B31)/Sheet2!$G$5","v":0.6238805970149228}]
[{"$f":"A31+Sheet2!G$5","v":{"v":0.3174129353233831,"d":"0.32"}},2.1007509715106063,{"$f":"(B33-B32)/Sheet2!$G$5","v":0.6457711442785915}]
[{"$f":"A32+Sheet2!G$5","v":{"v":0.3283582089552239,"d":"0.33"}},2.1078191133882824,{"$f":"(B34-B33)/Sheet2!$G$5","v":0.6676616915423007}]
[{"$f":"A33+Sheet2!G$5","v":{"v":0.33930348258706466,"d":"0.34"}},2.1151268532957106,{"$f":"(B35-B34)/Sheet2!$G$5","v":0.6895522388059694}]
[{"$f":"A34+Sheet2!G$5","v":{"v":0.35024875621890544,"d":"0.35"}},2.1226741912328904,{"$f":"(B36-B35)/Sheet2!$G$5","v":0.7114427860696382}]
[{"$f":"A35+Sheet2!G$5","v":{"v":0.3611940298507462,"d":"0.36"}},2.1304611271998217,{"$f":"(B37-B36)/Sheet2!$G$5","v":0.7333333333333474}]
[{"$f":"A36+Sheet2!G$5","v":{"v":0.372139303482587,"d":"0.37"}},2.138487661196505,{"$f":"(B38-B37)/Sheet2!$G$5","v":0.7552238805970161}]
[{"$f":"A37+Sheet2!G$5","v":{"v":0.3830845771144278,"d":"0.38"}},2.14675379322294,{"$f":"(B39-B38)/Sheet2!$G$5","v":0.7771144278606847}]
[{"$f":"A38+Sheet2!G$5","v":{"v":0.39402985074626856,"d":"0.39"}},2.1552595232791267,{"$f":"(B40-B39)/Sheet2!$G$5","v":0.7990049751243534}]
[{"$f":"A39+Sheet2!G$5","v":{"v":0.40497512437810934,"d":"0.40"}},2.164004851365065,{"$f":"(B41-B40)/Sheet2!$G$5","v":0.8208955223880627}]
[{"$f":"A40+Sheet2!G$5","v":{"v":0.4159203980099501,"d":"0.42"}},2.172989777480755,{"$f":"(B42-B41)/Sheet2!$G$5","v":0.8427860696517719}]
[{"$f":"A41+Sheet2!G$5","v":{"v":0.4268656716417909,"d":"0.43"}},2.1822143016261975,{"$f":"(B43-B42)/Sheet2!$G$5","v":0.8646766169154001}]
[{"$f":"A42+Sheet2!G$5","v":{"v":0.4378109452736317,"d":"0.44"}},2.191678423801391,{"$f":"(B44-B43)/Sheet2!$G$5","v":0.8865671641791093}]
[{"$f":"A43+Sheet2!G$5","v":{"v":0.44875621890547246,"d":"0.45"}},2.2013821440063364,{"$f":"(B45-B44)/Sheet2!$G$5","v":0.9084577114427781}]
[{"$f":"A44+Sheet2!G$5","v":{"v":0.45970149253731324,"d":"0.46"}},2.2113254622410334,{"$f":"(B46-B45)/Sheet2!$G$5","v":0.9303482587064468}]
[{"$f":"A45+Sheet2!G$5","v":{"v":0.470646766169154,"d":"0.47"}},2.221508378505482,{"$f":"(B47-B46)/Sheet2!$G$5","v":0.952238805970156}]
[{"$f":"A46+Sheet2!G$5","v":{"v":0.4815920398009948,"d":"0.48"}},2.231930892799683,{"$f":"(B48-B47)/Sheet2!$G$5","v":0.9741293532338247}]
[{"$f":"A47+Sheet2!G$5","v":{"v":0.4925373134328356,"d":"0.49"}},2.242593005123635,{"$f":"(B49-B48)/Sheet2!$G$5","v":0.996019900497534}]
[{"$f":"A48+Sheet2!G$5","v":{"v":0.5034825870646764,"d":"0.50"}},2.2534947154773395,{"$f":"(B50-B49)/Sheet2!$G$5","v":1.0179104477612027}]
[{"$f":"A49+Sheet2!G$5","v":{"v":0.5144278606965172,"d":"0.51"}},2.2646360238607954,{"$f":"(B51-B50)/Sheet2!$G$5","v":1.0398009950248712}]
[{"$f":"A50+Sheet2!G$5","v":{"v":0.5253731343283581,"d":"0.53"}},2.276016930274003,{"$f":"(B52-B51)/Sheet2!$G$5","v":1.06169154228854}]
[{"$f":"A51+Sheet2!G$5","v":{"v":0.5363184079601989,"d":"0.54"}},2.287637434716962,{"$f":"(B53-B52)/Sheet2!$G$5","v":1.0835820895522492}]
[{"$f":"A52+Sheet2!G$5","v":{"v":0.5472636815920398,"d":"0.55"}},2.2994975371896733,{"$f":"(B54-B53)/Sheet2!$G$5","v":1.105472636815918}]
[{"$f":"A53+Sheet2!G$5","v":{"v":0.5582089552238806,"d":"0.56"}},2.311597237692136,{"$f":"(B55-B54)/Sheet2!$G$5","v":1.1273631840796272}]
[{"$f":"A54+Sheet2!G$5","v":{"v":0.5691542288557214,"d":"0.57"}},2.323936536224351,{"$f":"(B56-B55)/Sheet2!$G$5","v":1.149253731343296}]
[{"$f":"A55+Sheet2!G$5","v":{"v":0.5800995024875623,"d":"0.58"}},2.3365154327863173,{"$f":"(B57-B56)/Sheet2!$G$5","v":1.1711442786069646}]
[{"$f":"A56+Sheet2!G$5","v":{"v":0.5910447761194031,"d":"0.59"}},2.3493339273780354,{"$f":"(B58-B57)/Sheet2!$G$5","v":1.1930348258706334}]
[{"$f":"A57+Sheet2!G$5","v":{"v":0.6019900497512439,"d":"0.60"}},2.362392019999505,{"$f":"(B59-B58)/Sheet2!$G$5","v":1.2149253731343426}]
[{"$f":"A58+Sheet2!G$5","v":{"v":0.6129353233830848,"d":"0.61"}},2.3756897106507266,{"$f":"(B60-B59)/Sheet2!$G$5","v":1.2368159203980111}]
[{"$f":"A59+Sheet2!G$5","v":{"v":0.6238805970149256,"d":"0.62"}},2.3892269993317,{"$f":"(B61-B60)/Sheet2!$G$5","v":1.2587064676617206}]
[{"$f":"A60+Sheet2!G$5","v":{"v":0.6348258706467664,"d":"0.63"}},2.403003886042425,{"$f":"(B62-B61)/Sheet2!$G$5","v":1.2805970149253487}]
[{"$f":"A61+Sheet2!G$5","v":{"v":0.6457711442786073,"d":"0.65"}},2.4170203707829017,{"$f":"(B63-B62)/Sheet2!$G$5","v":1.302487562189058}]
[{"$f":"A62+Sheet2!G$5","v":{"v":0.6567164179104481,"d":"0.66"}},2.43127645355313,{"$f":"(B64-B63)/Sheet2!$G$5","v":1.3243781094527671}]
[{"$f":"A63+Sheet2!G$5","v":{"v":0.6676616915422889,"d":"0.67"}},2.4457721343531107,{"$f":"(B65-B64)/Sheet2!$G$5","v":1.3462686567163953}]
[{"$f":"A64+Sheet2!G$5","v":{"v":0.6786069651741298,"d":"0.68"}},2.4605074131828424,{"$f":"(B66-B65)/Sheet2!$G$5","v":1.3681592039801451}]
[{"$f":"A65+Sheet2!G$5","v":{"v":0.6895522388059706,"d":"0.69"}},2.4754822900423266,{"$f":"(B67-B66)/Sheet2!$G$5","v":1.3900497512437733}]
[{"$f":"A66+Sheet2!G$5","v":{"v":0.7004975124378114,"d":"0.70"}},{"$f":"x^2+2","v":2.490696764931562},{"$f":"(B68-B67)/Sheet2!$G$5","v":1.4119402985074418}]
[{"$f":"A67+Sheet2!G$5","v":{"v":0.7114427860696523,"d":"0.71"}},2.506150837850549,{"$f":"(B69-B68)/Sheet2!$G$5","v":1.4338308457711513}]
[{"$f":"A68+Sheet2!G$5","v":{"v":0.7223880597014931,"d":"0.72"}},2.521844508799288,{"$f":"(B70-B69)/Sheet2!$G$5","v":1.4557213930348605}]
[{"$f":"A69+Sheet2!G$5","v":{"v":0.733333333333334,"d":"0.73"}},2.537777777777779,{"$f":"(B71-B70)/Sheet2!$G$5","v":1.4776119402984886}]
[{"$f":"A70+Sheet2!G$5","v":{"v":0.7442786069651748,"d":"0.74"}},2.553950644786021,{"$f":"(B72-B71)/Sheet2!$G$5","v":1.4995024875621978}]
[{"$f":"A71+Sheet2!G$5","v":{"v":0.7552238805970156,"d":"0.76"}},2.570363109824015,{"$f":"(B73-B72)/Sheet2!$G$5","v":1.521393034825907}]
[{"$f":"A72+Sheet2!G$5","v":{"v":0.7661691542288565,"d":"0.77"}},2.5870151728917614,{"$f":"(B74-B73)/Sheet2!$G$5","v":1.5432835820895352}]
[{"$f":"A73+Sheet2!G$5","v":{"v":0.7771144278606973,"d":"0.78"}},2.603906833989259,{"$f":"(B75-B74)/Sheet2!$G$5","v":1.5651741293532444}]
[{"$f":"A74+Sheet2!G$5","v":{"v":0.7880597014925381,"d":"0.79"}},2.6210380931165083,{"$f":"(B76-B75)/Sheet2!$G$5","v":1.5870646766169132}]
[{"$f":"A75+Sheet2!G$5","v":{"v":0.799004975124379,"d":"0.80"}},2.6384089502735093,{"$f":"(B77-B76)/Sheet2!$G$5","v":1.6089552238806224}]
[{"$f":"A76+Sheet2!G$5","v":{"v":0.8099502487562198,"d":"0.81"}},2.6560194054602624,{"$f":"(B78-B77)/Sheet2!$G$5","v":1.6308457711442912}]
[{"$f":"A77+Sheet2!G$5","v":{"v":0.8208955223880606,"d":"0.82"}},2.673869458676767,{"$f":"(B79-B78)/Sheet2!$G$5","v":1.6527363184079598}]
[{"$f":"A78+Sheet2!G$5","v":{"v":0.8318407960199015,"d":"0.83"}},2.6919591099230233,{"$f":"(B80-B79)/Sheet2!$G$5","v":1.674626865671669}]
[{"$f":"A79+Sheet2!G$5","v":{"v":0.8427860696517423,"d":"0.84"}},2.7102883591990317,{"$f":"(B81-B80)/Sheet2!$G$5","v":1.6965174129352971}]
[{"$f":"A80+Sheet2!G$5","v":{"v":0.8537313432835831,"d":"0.85"}},2.728857206504791,{"$f":"(B82-B81)/Sheet2!$G$5","v":1.718407960199047}]
[{"$f":"A81+Sheet2!G$5","v":{"v":0.864676616915424,"d":"0.86"}},2.747665651840303,{"$f":"(B83-B82)/Sheet2!$G$5","v":1.7402985074626751}]
[{"$f":"A82+Sheet2!G$5","v":{"v":0.8756218905472648,"d":"0.88"}},2.766713695205566,{"$f":"(B84-B83)/Sheet2!$G$5","v":1.7621890547263843}]
[{"$f":"A83+Sheet2!G$5","v":{"v":0.8865671641791056,"d":"0.89"}},2.7860013366005814,{"$f":"(B85-B84)/Sheet2!$G$5","v":1.784079601990053}]
[{"$f":"A84+Sheet2!G$5","v":{"v":0.8975124378109465,"d":"0.90"}},2.805528576025348,{"$f":"(B86-B85)/Sheet2!$G$5","v":1.8059701492537217}]
[{"$f":"A85+Sheet2!G$5","v":{"v":0.9084577114427873,"d":"0.91"}},2.8252954134798665,{"$f":"(B87-B86)/Sheet2!$G$5","v":1.827860696517431}]
[{"$f":"A86+Sheet2!G$5","v":{"v":0.9194029850746281,"d":"0.92"}},2.845301848964137,{"$f":"(B88-B87)/Sheet2!$G$5","v":1.8497512437810997}]
[{"$f":"A87+Sheet2!G$5","v":{"v":0.930348258706469,"d":"0.93"}},2.865547882478159,{"$f":"(B89-B88)/Sheet2!$G$5","v":1.8716417910448089}]
[{"$f":"A88+Sheet2!G$5","v":{"v":0.9412935323383098,"d":"0.94"}},2.886033514021933,{"$f":"(B90-B89)/Sheet2!$G$5","v":1.893532338308437}]
[{"$f":"A89+Sheet2!G$5","v":{"v":0.9522388059701506,"d":"0.95"}},2.906758743595458,{"$f":"(B91-B90)/Sheet2!$G$5","v":1.9154228855721869}]
[{"$f":"A90+Sheet2!G$5","v":{"v":0.9631840796019915,"d":"0.96"}},2.9277235711987357,{"$f":"(B92-B91)/Sheet2!$G$5","v":1.937313432835815}]
[{"$f":"A91+Sheet2!G$5","v":{"v":0.9741293532338323,"d":"0.97"}},2.9489279968317645,{"$f":"(B93-B92)/Sheet2!$G$5","v":1.9592039800994838}]
[{"$f":"A92+Sheet2!G$5","v":{"v":0.9850746268656732,"d":"0.99"}},2.970372020494545,{"$f":"(B94-B93)/Sheet2!$G$5","v":1.981094527363193}]
[{"$f":"A93+Sheet2!G$5","v":{"v":0.996019900497514,"d":"1.00"}},2.9920556421870774,{"$f":"(B95-B94)/Sheet2!$G$5","v":2.0029850746269022}]
[{"$f":"A94+Sheet2!G$5","v":{"v":1.0069651741293548,"d":"1.01"}},3.013978861909362,{"$f":"(B96-B95)/Sheet2!$G$5","v":2.0248756218905304}]
[{"$f":"A95+Sheet2!G$5","v":{"v":1.0179104477611955,"d":"1.02"}},3.0361416796613976,{"$f":"(B97-B96)/Sheet2!$G$5","v":2.04676616915424}]
[{"$f":"A96+Sheet2!G$5","v":{"v":1.0288557213930363,"d":"1.03"}},3.0585440954431853,{"$f":"(B98-B97)/Sheet2!$G$5","v":2.0686567164178675}]
[{"$f":"A97+Sheet2!G$5","v":{"v":1.039800995024877,"d":"1.04"}},3.081186109254724,{"$f":"(B99-B98)/Sheet2!$G$5","v":2.0905472636816174}]
[{"$f":"A98+Sheet2!G$5","v":{"v":1.0507462686567177,"d":"1.05"}},3.1040677210960155,{"$f":"(B100-B99)/Sheet2!$G$5","v":2.1124378109452455}]
[{"$f":"A99+Sheet2!G$5","v":{"v":1.0616915422885584,"d":"1.06"}},3.127188930967058,{"$f":"(B101-B100)/Sheet2!$G$5","v":2.1343283582089145}]
[{"$f":"A100+Sheet2!G$5","v":{"v":1.0726368159203992,"d":"1.07"}},3.150549738867852,{"$f":"(B102-B101)/Sheet2!$G$5","v":2.1562189054726235}]
[{"$f":"A101+Sheet2!G$5","v":{"v":1.08358208955224,"d":"1.08"}},3.174150144798398,{"$f":"(B103-B102)/Sheet2!$G$5","v":2.178109452736333}]
[{"$f":"A102+Sheet2!G$5","v":{"v":1.0945273631840806,"d":"1.09"}},3.1979901487586964,{"$f":"(B104-B103)/Sheet2!$G$5","v":2.2000000000000015}]
[{"$f":"A103+Sheet2!G$5","v":{"v":1.1054726368159213,"d":"1.11"}},3.222069750748746,{"$f":"(B105-B104)/Sheet2!$G$5","v":2.2218905472636297}]
[{"$f":"A104+Sheet2!G$5","v":{"v":1.116417910447762,"d":"1.12"}},3.246388950768547,{"$f":"(B106-B105)/Sheet2!$G$5","v":2.2437810945273795}]
[{"$f":"A105+Sheet2!G$5","v":{"v":1.1273631840796028,"d":"1.13"}},3.2709477488181005,{"$f":"(B107-B106)/Sheet2!$G$5","v":2.265671641791048}]
[{"$f":"A106+Sheet2!G$5","v":{"v":1.1383084577114435,"d":"1.14"}},3.2957461448974055,{"$f":"(B108-B107)/Sheet2!$G$5","v":2.2875621890546762}]
[{"$f":"A107+Sheet2!G$5","v":{"v":1.1492537313432842,"d":"1.15"}},3.3207841390064616,{"$f":"(B109-B108)/Sheet2!$G$5","v":2.309452736318426}]
[{"$f":"A108+Sheet2!G$5","v":{"v":1.160199004975125,"d":"1.16"}},3.3460617311452703,{"$f":"(B110-B109)/Sheet2!$G$5","v":2.3313432835820542}]
[{"$f":"A109+Sheet2!G$5","v":{"v":1.1711442786069657,"d":"1.17"}},3.37157892131383,{"$f":"(B111-B110)/Sheet2!$G$5","v":2.3532338308457637}]
[{"$f":"A110+Sheet2!G$5","v":{"v":1.1820895522388064,"d":"1.18"}},3.397335709512142,{"$f":"(B112-B111)/Sheet2!$G$5","v":2.375124378109432}]
[{"$f":"A111+Sheet2!G$5","v":{"v":1.1930348258706471,"d":"1.19"}},3.4233320957402054,{"$f":"(B113-B112)/Sheet2!$G$5","v":2.3970149253731416}]
[{"$f":"A112+Sheet2!G$5","v":{"v":1.2039800995024879,"d":"1.20"}},3.449568079998021,{"$f":"(B114-B113)/Sheet2!$G$5","v":2.41890547263677}]
[{"$f":"A113+Sheet2!G$5","v":{"v":1.2149253731343286,"d":"1.21"}},3.4760436622855875,{"$f":"(B115-B114)/Sheet2!$G$5","v":2.440796019900479}]
[{"$f":"A114+Sheet2!G$5","v":{"v":1.2258706467661693,"d":"1.23"}},3.502758842602906,{"$f":"(B116-B115)/Sheet2!$G$5","v":2.462686567164188}]
[{"$f":"A115+Sheet2!G$5","v":{"v":1.23681592039801,"d":"1.24"}},3.529713620949977,{"$f":"(B117-B116)/Sheet2!$G$5","v":2.4845771144278164}]
[{"$f":"A116+Sheet2!G$5","v":{"v":1.2477611940298508,"d":"1.25"}},3.5569079973267987,{"$f":"(B118-B117)/Sheet2!$G$5","v":2.5064676616915254}]
[{"$f":"A117+Sheet2!G$5","v":{"v":1.2587064676616915,"d":"1.26"}},3.5843419717333727,{"$f":"(B119-B118)/Sheet2!$G$5","v":2.5283582089551944}]
[{"$f":"A118+Sheet2!G$5","v":{"v":1.2696517412935322,"d":"1.27"}},3.612015544169698,{"$f":"(B120-B119)/Sheet2!$G$5","v":2.5502487562189033}]
[{"$f":"A119+Sheet2!G$5","v":{"v":1.280597014925373,"d":"1.28"}},3.6399287146357757,{"$f":"(B121-B120)/Sheet2!$G$5","v":2.5721393034825724}]
[{"$f":"A120+Sheet2!G$5","v":{"v":1.2915422885572136,"d":"1.29"}},3.668081483131605,{"$f":"(B122-B121)/Sheet2!$G$5","v":2.594029850746241}]
[{"$f":"A121+Sheet2!G$5","v":{"v":1.3024875621890544,"d":"1.30"}},3.6964738496571856,{"$f":"(B123-B122)/Sheet2!$G$5","v":2.61592039800995}]
[{"$f":"A122+Sheet2!G$5","v":{"v":1.313432835820895,"d":"1.31"}},3.7251058142125184,{"$f":"(B124-B123)/Sheet2!$G$5","v":2.637810945273619}]
[{"$f":"A123+Sheet2!G$5","v":{"v":1.3243781094527358,"d":"1.32"}},3.753977376797603,{"$f":"(B125-B124)/Sheet2!$G$5","v":2.6597014925372875}]
[{"$f":"A124+Sheet2!G$5","v":{"v":1.3353233830845765,"d":"1.34"}},3.783088537412439,{"$f":"(B126-B125)/Sheet2!$G$5","v":2.681592039800956}]
[{"$f":"A125+Sheet2!G$5","v":{"v":1.3462686567164173,"d":"1.35"}},3.8124392960570264,{"$f":"(B127-B126)/Sheet2!$G$5","v":2.7034825870646655}]
[{"$f":"A126+Sheet2!G$5","v":{"v":1.357213930348258,"d":"1.36"}},3.842029652731366,{"$f":"(B128-B127)/Sheet2!$G$5","v":2.725373134328334}]
[{"$f":"A127+Sheet2!G$5","v":{"v":1.3681592039800987,"d":"1.37"}},3.871859607435457,{"$f":"(B129-B128)/Sheet2!$G$5","v":2.7472636815920435}]
[{"$f":"A128+Sheet2!G$5","v":{"v":1.3791044776119394,"d":"1.38"}},3.9019291601693005,{"$f":"(B130-B129)/Sheet2!$G$5","v":2.769154228855712}]
[{"$f":"A129+Sheet2!G$5","v":{"v":1.3900497512437802,"d":"1.39"}},3.9322383109328953,{"$f":"(B131-B130)/Sheet2!$G$5","v":2.79104477611934}]
[{"$f":"A130+Sheet2!G$5","v":{"v":1.4009950248756209,"d":"1.40"}},{"$f":"x^2+2","v":3.9627870597262413},{"$f":"(B132-B131)/Sheet2!$G$5","v":2.81293532338309}]
[{"$f":"A131+Sheet2!G$5","v":{"v":1.4119402985074616,"d":"1.41"}},3.99357540654934,{"$f":"(B133-B132)/Sheet2!$G$5","v":2.8348258706467586}]
[{"$f":"A132+Sheet2!G$5","v":{"v":1.4228855721393023,"d":"1.42"}},4.02460335140219,{"$f":"(B134-B133)/Sheet2!$G$5","v":2.8567164179104276}]
[{"$f":"A133+Sheet2!G$5","v":{"v":1.433830845771143,"d":"1.43"}},4.055870894284792,{"$f":"(B135-B134)/Sheet2!$G$5","v":2.878606965174096}]
[{"$f":"A134+Sheet2!G$5","v":{"v":1.4447761194029838,"d":"1.44"}},4.087378035197145,{"$f":"(B136-B135)/Sheet2!$G$5","v":2.9004975124377648}]
[{"$f":"A135+Sheet2!G$5","v":{"v":1.4557213930348245,"d":"1.46"}},4.11912477413925,{"$f":"(B137-B136)/Sheet2!$G$5","v":2.9223880597014333}]
[{"$f":"A136+Sheet2!G$5","v":{"v":1.4666666666666652,"d":"1.47"}},4.151111111111106,{"$f":"(B138-B137)/Sheet2!$G$5","v":2.944278606965183}]
[{"$f":"A137+Sheet2!G$5","v":{"v":1.477611940298506,"d":"1.48"}},4.183337046112715,{"$f":"(B139-B138)/Sheet2!$G$5","v":2.966169154228852}]
[{"$f":"A138+Sheet2!G$5","v":{"v":1.4885572139303467,"d":"1.49"}},4.215802579144076,{"$f":"(B140-B139)/Sheet2!$G$5","v":2.9880597014925208}]
[{"$f":"A139+Sheet2!G$5","v":{"v":1.4995024875621874,"d":"1.50"}},4.248507710205188,{"$f":"(B141-B140)/Sheet2!$G$5","v":3.0099502487561893}]
[{"$f":"A140+Sheet2!G$5","v":{"v":1.5104477611940281,"d":"1.51"}},4.281452439296052,{"$f":"(B142-B141)/Sheet2!$G$5","v":3.031840796019858}]
[{"$f":"A141+Sheet2!G$5","v":{"v":1.5213930348258689,"d":"1.52"}},4.314636766416667,{"$f":"(B143-B142)/Sheet2!$G$5","v":3.0537313432836077}]
[{"$f":"A142+Sheet2!G$5","v":{"v":1.5323383084577096,"d":"1.53"}},4.348060691567035,{"$f":"(B144-B143)/Sheet2!$G$5","v":3.0756218905471955}]
[{"$f":"A143+Sheet2!G$5","v":{"v":1.5432835820895503,"d":"1.54"}},4.381724214747154,{"$f":"(B145-B144)/Sheet2!$G$5","v":3.0975124378109453}]
[{"$f":"A144+Sheet2!G$5","v":{"v":1.554228855721391,"d":"1.55"}},4.415627335957025,{"$f":"(B146-B145)/Sheet2!$G$5","v":3.1194029850745326}]
[{"$f":"A145+Sheet2!G$5","v":{"v":1.5651741293532317,"d":"1.57"}},4.449770055196646,{"$f":"(B147-B146)/Sheet2!$G$5","v":3.1412935323382825}]
[{"$f":"A146+Sheet2!G$5","v":{"v":1.5761194029850725,"d":"1.58"}},4.484152372466021,{"$f":"(B148-B147)/Sheet2!$G$5","v":3.1631840796020323}]
[{"$f":"A147+Sheet2!G$5","v":{"v":1.5870646766169132,"d":"1.59"}},4.518774287765147,{"$f":"(B149-B148)/Sheet2!$G$5","v":3.18507462686562}]
[{"$f":"A148+Sheet2!G$5","v":{"v":1.598009950248754,"d":"1.60"}},4.553635801094025,{"$f":"(B150-B149)/Sheet2!$G$5","v":3.20696517412937}]
[{"$f":"A149+Sheet2!G$5","v":{"v":1.6089552238805946,"d":"1.61"}},4.588736912452655,{"$f":"(B151-B150)/Sheet2!$G$5","v":3.2288557213929576}]
[{"$f":"A150+Sheet2!G$5","v":{"v":1.6199004975124354,"d":"1.62"}},4.624077621841035,{"$f":"(B152-B151)/Sheet2!$G$5","v":3.2507462686567075}]
[{"$f":"A151+Sheet2!G$5","v":{"v":1.630845771144276,"d":"1.63"}},4.659657929259168,{"$f":"(B153-B152)/Sheet2!$G$5","v":3.272636815920376}]
[{"$f":"A152+Sheet2!G$5","v":{"v":1.6417910447761168,"d":"1.64"}},4.695477834707053,{"$f":"(B154-B153)/Sheet2!$G$5","v":3.2945273631840446}]
[{"$f":"A153+Sheet2!G$5","v":{"v":1.6527363184079575,"d":"1.65"}},4.7315373381846895,{"$f":"(B155-B154)/Sheet2!$G$5","v":3.316417910447713}]
[{"$f":"A154+Sheet2!G$5","v":{"v":1.6636815920397983,"d":"1.66"}},4.767836439692077,{"$f":"(B156-B155)/Sheet2!$G$5","v":3.338308457711463}]
[{"$f":"A155+Sheet2!G$5","v":{"v":1.674626865671639,"d":"1.67"}},4.804375139229218,{"$f":"(B157-B156)/Sheet2!$G$5","v":3.3601990049750508}]
[{"$f":"A156+Sheet2!G$5","v":{"v":1.6855721393034797,"d":"1.69"}},4.841153436796109,{"$f":"(B158-B157)/Sheet2!$G$5","v":3.3820895522388006}]
[{"$f":"A157+Sheet2!G$5","v":{"v":1.6965174129353204,"d":"1.70"}},4.8781713323927525,{"$f":"(B159-B158)/Sheet2!$G$5","v":3.403980099502469}]
[{"$f":"A158+Sheet2!G$5","v":{"v":1.7074626865671612,"d":"1.71"}},4.915428826019148,{"$f":"(B160-B159)/Sheet2!$G$5","v":3.4258706467661377}]
[{"$f":"A159+Sheet2!G$5","v":{"v":1.7184079601990019,"d":"1.72"}},4.952925917675294,{"$f":"(B161-B160)/Sheet2!$G$5","v":3.4477611940298067}]
[{"$f":"A160+Sheet2!G$5","v":{"v":1.7293532338308426,"d":"1.73"}},4.990662607361193,{"$f":"(B162-B161)/Sheet2!$G$5","v":3.4696517412935566}]
[{"$f":"A161+Sheet2!G$5","v":{"v":1.7402985074626833,"d":"1.74"}},5.028638895076844,{"$f":"(B163-B162)/Sheet2!$G$5","v":3.491542288557144}]
[{"$f":"A162+Sheet2!G$5","v":{"v":1.751243781094524,"d":"1.75"}},5.066854780822245,{"$f":"(B164-B163)/Sheet2!$G$5","v":3.5134328358208937}]
[{"$f":"A163+Sheet2!G$5","v":{"v":1.7621890547263648,"d":"1.76"}},5.105310264597399,{"$f":"(B165-B164)/Sheet2!$G$5","v":3.5353233830844815}]
[{"$f":"A164+Sheet2!G$5","v":{"v":1.7731343283582055,"d":"1.77"}},5.144005346402304,{"$f":"(B166-B165)/Sheet2!$G$5","v":3.5572139303482313}]
[{"$f":"A165+Sheet2!G$5","v":{"v":1.7840796019900462,"d":"1.78"}},5.182940026236961,{"$f":"(B167-B166)/Sheet2!$G$5","v":3.579104477611981}]
[{"$f":"A166+Sheet2!G$5","v":{"v":1.795024875621887,"d":"1.80"}},5.222114304101371,{"$f":"(B168-B167)/Sheet2!$G$5","v":3.6009950248755684}]
[{"$f":"A167+Sheet2!G$5","v":{"v":1.8059701492537277,"d":"1.81"}},5.261528179995532,{"$f":"(B169-B168)/Sheet2!$G$5","v":3.6228855721392375}]
[{"$f":"A168+Sheet2!G$5","v":{"v":1.8169154228855684,"d":"1.82"}},5.301181653919444,{"$f":"(B170-B169)/Sheet2!$G$5","v":3.6447761194029873}]
[{"$f":"A169+Sheet2!G$5","v":{"v":1.8278606965174091,"d":"1.83"}},5.341074725873108,{"$f":"(B171-B170)/Sheet2!$G$5","v":3.666666666666656}]
[{"$f":"A170+Sheet2!G$5","v":{"v":1.8388059701492498,"d":"1.84"}},5.381207395856524,{"$f":"(B172-B171)/Sheet2!$G$5","v":3.688557213930243}]
[{"$f":"A171+Sheet2!G$5","v":{"v":1.8497512437810906,"d":"1.85"}},5.421579663869691,{"$f":"(B173-B172)/Sheet2!$G$5","v":3.710447761193993}]
[{"$f":"A172+Sheet2!G$5","v":{"v":1.8606965174129313,"d":"1.86"}},5.4621915299126105,{"$f":"(B174-B173)/Sheet2!$G$5","v":3.732338308457743}]
[{"$f":"A173+Sheet2!G$5","v":{"v":1.871641791044772,"d":"1.87"}},5.503042993985282,{"$f":"(B175-B174)/Sheet2!$G$5","v":3.7542288557213306}]
[{"$f":"A174+Sheet2!G$5","v":{"v":1.8825870646766127,"d":"1.88"}},5.544134056087705,{"$f":"(B176-B175)/Sheet2!$G$5","v":3.7761194029850804}]
[{"$f":"A175+Sheet2!G$5","v":{"v":1.8935323383084535,"d":"1.89"}},5.58546471621988,{"$f":"(B177-B176)/Sheet2!$G$5","v":3.7980099502486677}]
[{"$f":"A176+Sheet2!G$5","v":{"v":1.9044776119402942,"d":"1.90"}},5.6270349743818056,{"$f":"(B178-B177)/Sheet2!$G$5","v":3.8199004975124176}]
[{"$f":"A177+Sheet2!G$5","v":{"v":1.915422885572135,"d":"1.92"}},5.668844830573484,{"$f":"(B179-B178)/Sheet2!$G$5","v":3.8417910447760866}]
[{"$f":"A178+Sheet2!G$5","v":{"v":1.9263681592039756,"d":"1.93"}},5.710894284794914,{"$f":"(B180-B179)/Sheet2!$G$5","v":3.863681592039755}]
[{"$f":"A179+Sheet2!G$5","v":{"v":1.9373134328358164,"d":"1.94"}},5.753183337046095,{"$f":"(B181-B180)/Sheet2!$G$5","v":3.8855721393034237}]
[{"$f":"A180+Sheet2!G$5","v":{"v":1.948258706467657,"d":"1.95"}},5.795711987327028,{"$f":"(B182-B181)/Sheet2!$G$5","v":3.9074626865671735}]
[{"$f":"A181+Sheet2!G$5","v":{"v":1.9592039800994978,"d":"1.96"}},5.8384802356377135,{"$f":"(B183-B182)/Sheet2!$G$5","v":3.9293532338307613}]
[{"$f":"A182+Sheet2!G$5","v":{"v":1.9701492537313385,"d":"1.97"}},5.88148808197815,{"$f":"(B184-B183)/Sheet2!$G$5","v":3.9512437810945924}]
[{"$f":"A183+Sheet2!G$5","v":{"v":1.9810945273631793,"d":"1.98"}},5.924735526348339,{"$f":"(B185-B184)/Sheet2!$G$5","v":3.9731343283580984}]
[{"$f":"A184+Sheet2!G$5","v":{"v":1.99203980099502,"d":"1.99"}},5.968222568748279,{"$f":"(B186-B185)/Sheet2!$G$5","v":3.9950248756219295}]
[{"$f":"A185+Sheet2!G$5","v":{"v":2.002985074626861,"d":"2.00"}},6.011949209177971,{"$f":"(B187-B186)/Sheet2!$G$5","v":4.0169154228855986}]
[{"$f":"A186+Sheet2!G$5","v":{"v":2.0139303482587017,"d":"2.01"}},6.055915447637416,{"$f":"(B188-B187)/Sheet2!$G$5","v":4.038805970149186}]
[{"$f":"A187+Sheet2!G$5","v":{"v":2.0248756218905424,"d":"2.02"}},6.100121284126611,{"$f":"(B189-B188)/Sheet2!$G$5","v":4.060696517412855}]
[{"$f":"A188+Sheet2!G$5","v":{"v":2.035820895522383,"d":"2.04"}},6.1445667186455575,{"$f":"(B190-B189)/Sheet2!$G$5","v":4.082587064676605}]
[{"$f":"A189+Sheet2!G$5","v":{"v":2.046766169154224,"d":"2.05"}},6.189251751194257,{"$f":"(B191-B190)/Sheet2!$G$5","v":4.104477611940273}]
[{"$f":"A190+Sheet2!G$5","v":{"v":2.0577114427860645,"d":"2.06"}},6.234176381772707,{"$f":"(B192-B191)/Sheet2!$G$5","v":4.126368159203942}]
[{"$f":"A191+Sheet2!G$5","v":{"v":2.0686567164179053,"d":"2.07"}},6.27934061038091,{"$f":"(B193-B192)/Sheet2!$G$5","v":4.14825870646761}]
[{"$f":"A192+Sheet2!G$5","v":{"v":2.079601990049746,"d":"2.08"}},6.324744437018864,{"$f":"(B194-B193)/Sheet2!$G$5","v":4.17014925373136}]
[{"$f":"A193+Sheet2!G$5","v":{"v":2.0905472636815867,"d":"2.09"}},6.37038786168657,{"$f":"(B195-B194)/Sheet2!$G$5","v":4.192039800994948}]
[{"$f":"A194+Sheet2!G$5","v":{"v":2.1014925373134274,"d":"2.10"}},{"$f":"x^2+2","v":6.416270884384027},{"$f":"(B196-B195)/Sheet2!$G$5","v":4.213930348258698}]
[{"$f":"A195+Sheet2!G$5","v":{"v":2.112437810945268,"d":"2.11"}},6.462393505111237,{"$f":"(B197-B196)/Sheet2!$G$5","v":4.235820895522285}]
[{"$f":"A196+Sheet2!G$5","v":{"v":2.123383084577109,"d":"2.12"}},6.508755723868197,{"$f":"(B198-B197)/Sheet2!$G$5","v":4.257711442786035}]
[{"$f":"A197+Sheet2!G$5","v":{"v":2.1343283582089496,"d":"2.13"}},6.55535754065491,{"$f":"(B199-B198)/Sheet2!$G$5","v":4.279601990049704}]
[{"$f":"A198+Sheet2!G$5","v":{"v":2.1452736318407903,"d":"2.15"}},6.6021989554713745,{"$f":"(B200-B199)/Sheet2!$G$5","v":4.301492537313454}]
[{"$f":"A199+Sheet2!G$5","v":{"v":2.156218905472631,"d":"2.16"}},6.649279968317591,{"$f":"(B201-B200)/Sheet2!$G$5","v":4.323383084577041}]
[{"$f":"A200+Sheet2!G$5","v":{"v":2.167164179104472,"d":"2.17"}},6.696600579193559,{"$f":"(B202-B201)/Sheet2!$G$5","v":4.345273631840791}]
[{"$f":"A201+Sheet2!G$5","v":{"v":2.1781094527363125,"d":"2.18"}},6.744160788099279,{"$f":"(B203-B202)/Sheet2!$G$5","v":4.367164179104378}]
[{"$f":"A202+Sheet2!G$5","v":{"v":2.1890547263681532,"d":"2.19"}},6.79196059503475,{"$f":"(B204-B203)/Sheet2!$G$5","v":4.389054726368128}]
[{"$f":"A203+Sheet2!G$5","v":{"v":2.199999999999994,"d":"2.20"}},6.839999999999973,{"$f":"(B205-B204)/Sheet2!$G$5","v":-442.19999999999754}]
[null,2]
[null,2]
[null,2]
[null,2]
[null,2]
[null,2]
[null,2]
[null,2]
[null,2]
[null,2]
[null,2]
[null,2]
[null,2]
[null,2]
[null,2]
[null,2]
[null,2]
[null,2]
[null,2]
[null,2]
[null,2]
[null,2]
[null,2]
[null,2]
[null,2]
[null,2]
[null,2]
[null,2]
[null,2]
[null,2]
[null,2]
[null,2]
[null,2]
[null,2]
[null,2]
[null,2]
[null,2]
[null,2]
[null,2]
[null,2]
[null,2]
[null,2]
[null,2]
[null,2]
[null,2]
[null,2]
[null,2]
[null,2]
[null,2]
[null,2]
[null,2]
[null,2]
[null,2]
[null,2]
[null,{"$f":"x^2+2","v":2}]
[null,2]
[null,2]
[null,2]
[null,2]
[null,2]
[null,2]
[null,2]
[null,2]
[null,2]
[null,2]
[null,2]
[null,2]
[null,2]
[null,2]
[null,2]
[null,2]
[null,2]
[null,2]
[null,2]
[null,2]
[null,2]
[null,2]
[null,2]
[null,2]
[null,2]
[null,2]
[null,2]
[null,2]
[null,2]
[null,2]
[null,2]
[null,2]
[null,2]
[null,2]
[null,2]
[null,2]
[null,2]
[null,2]
[null,2]
[null,2]
[null,2]
[null,2]
[null,2]
[null,2]
[null,2]
[null,2]
[null,2]
[null,2]
[null,2]
[null,2]
[null,2]
[null,2]
[null,2]
[null,2]
[null,2]
[null,2]
[null,2]
[null,2]
[null,2]
[null,2]
[null,2]
[null,2]
[null,2]
[null,{"$f":"x^2+2","v":2}]
[null,2]
[null,2]
[null,2]
[null,2]
[null,2]
[null,2]
[null,2]
[null,2]
[null,2]
[null,2]
[null,2]
[null,2]
[null,2]
[null,2]
[null,2]
[null,2]
[null,2]
[null,2]
[null,2]
[null,2]
[null,2]
[null,2]
[null,2]
[null,2]
[null,2]
[null,2]
[null,2]
[null,2]
[null,2]
[null,2]
[null,2]
[null,2]
[null,2]
[null,2]
[null,2]
[null,2]
[null,2]
[null,2]
[null,2]
[null,2]
[null,2]
[null,2]
[null,2]
[null,2]
[null,2]
[null,2]
[null,2]
[null,2]
[null,2]
[null,2]
[null,2]
[null,2]
[null,2]
[null,2]
[null,2]
[null,2]
[null,2]
[null,2]
[null,2]
[null,2]
[null,2]
[null,2]
[null,2]
[null,{"$f":"x^2+2","v":2}]
[null,2]
[null,2]
[null,2]
[null,2]
[null,2]
[null,2]
[null,2]
[null,2]
[null,2]
[null,2]
[null,2]
[null,2]
[null,2]
[null,2]
[null,2]
[null,2]
[null,2]
[null,2]
[null,2]
[null,2]
[null,2]
[null,2]
[null,2]
[null,2]
[null,2]
[null,2]
[null,2]
[null,2]
[null,2]
[null,2]
[null,2]
[null,2]
[null,2]
[null,2]
[null,2]
[null,2]
[null,2]
[null,2]
[null,2]
[null,2]
[null,2]
[null,2]
[null,2]
[null,2]
[null,2]
[null,2]
[null,2]
[null,2]
[null,2]
[null,2]
[null,2]
[null,2]
[null,2]
[null,2]
[null,2]
[null,2]
[null,2]
[null,2]
[null,2]
[null,2]
[null,2]
[null,2]
[null,2]
[null,{"$f":"x^2+2","v":2}]
[null,2]
[null,2]
[null,2]
[null,2]
[null,2]
[null,2]
[null,2]
[null,2]
[null,2]
[null,2]
[null,2]
[null,2]
[null,2]
[null,2]
[null,2]
[null,2]
[null,2]
[null,2]
[null,2]
[null,2]
[null,2]
[null,2]
[null,2]
[null,2]
[null,2]
[null,2]
[null,2]
[null,2]
[null,2]
[null,2]
[null,2]
[null,2]
[null,2]
[null,2]
[null,2]
[null,2]
[null,2]
[null,2]
[null,2]
[null,2]
[null,2]
[null,2]
[null,2]
[null,2]
[null,2]
[null,2]
[null,2]
[null,2]
[null,2]
[null,2]
[null,2]
[null,2]
[null,2]
[null,2]
[null,2]
[null,2]
[null,2]
[null,2]
[null,2]
[null,2]
[null,2]
[null,2]
[null,2]
[null,{"$f":"x^2+2","v":2}]
[null,2]
[null,2]
[null,2]
[null,2]
[null,2]
[null,2]
[null,2]
[null,2]
[null,2]
[null,2]
[null,2]
[null,2]
[null,2]
[null,2]
[null,2]
[null,2]
[null,2]
[null,2]
[null,2]
[null,2]
[null,2]
[null,2]
[null,2]
[null,2]
[null,2]
[null,2]
[null,2]
[null,2]
[null,2]
[null,2]
[null,2]
[null,2]
[null,2]
[null,2]
[null,2]
[null,2]
[null,2]
[null,2]
[null,2]
[null,2]
[null,2]
[null,2]
[null,2]
[null,2]
[null,2]
[null,2]
[null,2]
[null,2]
[null,2]
[null,2]
[null,2]
[null,2]
[null,2]
[null,2]
[null,2]
[null,2]
[null,2]
[null,2]
[null,2]
[null,2]
[null,2]
[null,2]
[null,2]
[null,{"$f":"x^2+2","v":2}]
[null,2]
[null,2]
[null,2]
[null,2]
[null,2]
[null,2]
[null,2]
[null,2]
[null,2]
[null,2]
[null,2]
[null,2]
[null,2]
[null,2]
[null,2]
[null,2]
[null,2]
[null,2]
[null,2]
[null,2]
[null,2]
[null,2]
[null,2]
[null,2]
[null,2]
[null,2]
[null,2]
[null,2]
[null,2]
[null,2]
[null,2]
[null,2]
[null,2]
[null,2]
[null,2]
[null,2]
[null,2]
[null,2]
[null,2]
[null,2]
[null,2]
[null,2]
[null,2]
[null,2]
[null,2]
[null,2]
[null,2]
[null,2]
[null,2]
[null,2]
[null,2]
[null,2]
[null,2]
[null,2]
[null,2]
[null,2]
[null,2]
[null,2]
[null,2]
[null,2]
[null,2]
[null,2]
[null,2]
[null,{"$f":"x^2+2","v":2}]
[null,2]
[null,2]
[null,2]
[null,2]
[null,2]
[null,2]
[null,2]
[null,2]
[null,2]
[null,2]
[null,2]
[null,2]
[null,2]
[null,2]
[null,2]
[null,2]
[null,2]
[null,2]
[null,2]
[null,2]
[null,2]
[null,2]
[null,2]
[null,2]
[null,2]
[null,2]
[null,2]
[null,2]
[null,2]
[null,2]
[null,2]
[null,2]
[null,2]
[null,2]
[null,2]
[null,2]
[null,2]
[null,2]
[null,2]
[null,2]
[null,2]
[null,2]
[null,2]
[null,2]
[null,2]
[null,2]
[null,2]
[null,2]
[null,2]
[null,2]
[null,2]
[null,2]
[null,2]
[null,2]
[null,2]
[null,2]
[null,2]
[null,2]
[null,2]
[null,2]
[null,2]
[null,2]
[null,2]
[null,{"$f":"x^2+2","v":2}]
[null,2]
[null,2]
[null,2]
[null,2]
[null,2]
[null,2]
[null,2]
[null,2]
[null,2]
[null,2]
[null,2]
[null,2]
[null,2]
[null,2]
[null,2]
[null,2]
[null,2]
[null,2]
[null,2]
[null,2]
[null,2]
[null,2]
[null,2]
[null,2]
[null,2]
[null,2]
[null,2]
[null,2]
[null,2]
[null,2]
[null,2]
[null,2]
[null,2]
[null,2]
[null,2]
[null,2]
[null,2]
[null,2]
[null,2]
[null,2]
[null,2]
[null,2]
[null,2]
[null,2]
[null,2]
[null,2]
[null,2]
[null,2]
[null,2]
[null,2]
[null,2]
[null,2]
[null,2]
[null,2]
[null,2]
[null,2]
[null,2]
[null,2]
[null,2]
[null,2]
[null,2]
[null,2]
[null,2]
[null,{"$f":"x^2+2","v":2}]
[null,2]
[null,2]
[null,2]
[null,2]
[null,2]
[null,2]
[null,2]
[null,2]
[null,2]
[null,2]
[null,2]
[null,2]
[null,2]
[null,2]
[null,2]
[null,2]
[null,2]
[null,2]
[null,2]
[null,2]
[null,2]
[null,2]
[null,2]
[null,2]
[null,2]
[null,2]
[null,2]
[null,2]
[null,2]
[null,2]
[null,2]
[null,2]
[null,2]
[null,2]
[null,2]
[null,2]
[null,2]
[null,2]
[null,2]
[null,2]
[null,2]
[null,2]
[null,2]
[null,2]
[null,2]
[null,2]
[null,2]
[null,2]
[null,2]
[null,2]
[null,2]
[null,2]
[null,2]
[null,2]
[null,2]
[null,2]
[null,2]
[null,2]
[null,2]
[null,2]
[null,2]
[null,2]
[null,2]
[null,{"$f":"x^2+2","v":2}]
[null,2]
[null,2]
[null,2]
[null,2]
[null,2]
[null,2]
[null,2]
[null,2]
[null,2]
[null,2]
[null,2]
[null,2]
[null,2]
[null,2]
[null,2]
[null,2]
[null,2]
[null,2]
[null,2]
[null,2]
[null,2]
[null,2]
[null,2]
[null,2]
[null,2]
[null,2]
[null,2]
[null,2]
[null,2]
[null,2]
[null,2]
[null,2]
[null,2]
[null,2]
[null,2]
[null,2]
[null,2]
[null,2]
[null,2]
[null,2]
[null,2]
[null,2]
[null,2]
[null,2]
[null,2]
[null,2]
[null,2]
[null,2]
[null,2]
[null,2]
[null,2]
[null,2]
[null,2]
[null,2]
[null,2]
[null,2]
[null,2]
[null,2]
[null,2]
[null,2]
[null,2]
[null,2]
[null,2]
[null,{"$f":"x^2+2","v":2}]
[null,2]
[null,2]
[null,2]
[null,2]
[null,2]
[null,2]
[null,2]
[null,2]
[null,2]
[null,2]
[null,2]
[null,2]
[null,2]
[null,2]
[null,2]
[null,2]
[null,2]
[null,2]
[null,2]
[null,2]
[null,2]
[null,2]
[null,2]
[null,2]
[null,2]
[null,2]
[null,2]
[null,2]
[null,2]
[null,2]
[null,2]
[null,2]
[null,2]
[null,2]
[null,2]
[null,2]
[null,2]
[null,2]
[null,2]
[null,2]
[null,2]
[null,2]
[null,2]
[null,2]
[null,2]
[null,2]
[null,2]
[null,2]
[null,2]
[null,2]
[null,2]
[null,2]
[null,2]
[null,2]
[null,2]
[null,2]
[null,2]
[null,2]
[null,2]
[null,2]
[null,2]
[null,2]
[null,2]
[null,{"$f":"x^2+2","v":2}]
[null,2]
[null,2]
[null,2]
[null,2]
[null,2]
[null,2]
[null,2]
[null,2]
[null,2]
[null,2]
[null,2]
[null,2]
[null,2]
[null,2]
[null,2]
[null,2]
[null,2]
[null,2]
[null,2]
[null,2]
[null,2]
[null,2]
[null,2]
[null,2]
[null,2]
[null,2]
[null,2]
[null,2]
[null,2]
[null,2]
[null,2]
[null,2]
[null,2]
[null,2]
[null,2]
[null,2]
[null,2]
[null,2]
[null,2]
[null,2]
[null,2]

{"sheet":"Sheet3","index":2,"n_rows":1003,"n_cols":2,"rows_kept":1003}
[{"$f":"xMin","v":0},{"$f":"9","v":9}]
[{"$f":"A1+dx","v":0.010945273631840797},{"$f":"9","v":9}]
[0.021890547263681594,{"$f":"9","v":9}]
[0.032835820895522394,{"$f":"9","v":9}]
[0.04378109452736319,{"$f":"9","v":9}]
[0.05472636815920398,{"$f":"9","v":9}]
[0.06567164179104477,{"$f":"9","v":9}]
[0.07661691542288557,{"$f":"9","v":9}]
[0.08756218905472636,{"$f":"9","v":9}]
[0.09850746268656715,{"$f":"9","v":9}]
[0.10945273631840795,{"$f":"9","v":9}]
[0.12039800995024874,{"$f":"9","v":9}]
[0.13134328358208955,{"$f":"9","v":9}]
[0.14228855721393036,{"$f":"9","v":9}]
[0.15323383084577116,{"$f":"9","v":9}]
[0.16417910447761197,{"$f":"9","v":9}]
[0.17512437810945278,{"$f":"9","v":9}]
[0.18606965174129358,{"$f":"9","v":9}]
[0.1970149253731344,{"$f":"9","v":9}]
[0.2079601990049752,{"$f":"9","v":9}]
[0.218905472636816,{"$f":"9","v":9}]
[0.2298507462686568,{"$f":"9","v":9}]
[0.24079601990049762,{"$f":"9","v":9}]
[0.25174129353233843,{"$f":"9","v":9}]
[0.2626865671641792,{"$f":"9","v":9}]
[0.27363184079602,{"$f":"9","v":9}]
[0.28457711442786077,{"$f":"9","v":9}]
[0.29552238805970155,{"$f":"9","v":9}]
[0.3064676616915423,{"$f":"9","v":9}]
[0.3174129353233831,{"$f":"9","v":9}]
[0.3283582089552239,{"$f":"9","v":9}]
[0.33930348258706466,{"$f":"9","v":9}]
[0.35024875621890544,{"$f":"9","v":9}]
[0.3611940298507462,{"$f":"9","v":9}]
[0.372139303482587,{"$f":"9","v":9}]
[0.3830845771144278,{"$f":"9","v":9}]
[0.39402985074626856,{"$f":"9","v":9}]
[0.40497512437810934,{"$f":"9","v":9}]
[0.4159203980099501,{"$f":"9","v":9}]
[0.4268656716417909,{"$f":"9","v":9}]
[0.4378109452736317,{"$f":"9","v":9}]
[0.44875621890547246,{"$f":"9","v":9}]
[0.45970149253731324,{"$f":"9","v":9}]
[0.470646766169154,{"$f":"9","v":9}]
[0.4815920398009948,{"$f":"9","v":9}]
[0.4925373134328356,{"$f":"9","v":9}]
[0.5034825870646764,{"$f":"9","v":9}]
[0.5144278606965172,{"$f":"9","v":9}]
[0.5253731343283581,{"$f":"9","v":9}]
[0.5363184079601989,{"$f":"9","v":9}]
[0.5472636815920398,{"$f":"9","v":9}]
[0.5582089552238806,{"$f":"9","v":9}]
[0.5691542288557214,{"$f":"9","v":9}]
[0.5800995024875623,{"$f":"9","v":9}]
[0.5910447761194031,{"$f":"9","v":9}]
[0.6019900497512439,{"$f":"9","v":9}]
[0.6129353233830848,{"$f":"9","v":9}]
[0.6238805970149256,{"$f":"9","v":9}]
[0.6348258706467664,{"$f":"9","v":9}]
[0.6457711442786073,{"$f":"9","v":9}]
[0.6567164179104481,{"$f":"9","v":9}]
[0.6676616915422889,{"$f":"9","v":9}]
[0.6786069651741298,{"$f":"9","v":9}]
[0.6895522388059706,{"$f":"9","v":9}]
[0.7004975124378114,{"$f":"9","v":9}]
[{"$f":"A65+dx","v":0.7114427860696523},{"$f":"9","v":9}]
[0.7223880597014931,{"$f":"9","v":9}]
[0.733333333333334,{"$f":"9","v":9}]
[0.7442786069651748,{"$f":"9","v":9}]
[0.7552238805970156,{"$f":"9","v":9}]
[0.7661691542288565,{"$f":"9","v":9}]
[0.7771144278606973,{"$f":"9","v":9}]
[0.7880597014925381,{"$f":"9","v":9}]
[0.799004975124379,{"$f":"9","v":9}]
[0.8099502487562198,{"$f":"9","v":9}]
[0.8208955223880606,{"$f":"9","v":9}]
[0.8318407960199015,{"$f":"9","v":9}]
[0.8427860696517423,{"$f":"9","v":9}]
[0.8537313432835831,{"$f":"9","v":9}]
[0.864676616915424,{"$f":"9","v":9}]
[0.8756218905472648,{"$f":"9","v":9}]
[0.8865671641791056,{"$f":"9","v":9}]
[0.8975124378109465,{"$f":"9","v":9}]
[0.9084577114427873,{"$f":"9","v":9}]
[0.9194029850746281,{"$f":"9","v":9}]
[0.930348258706469,{"$f":"9","v":9}]
[0.9412935323383098,{"$f":"9","v":9}]
[0.9522388059701506,{"$f":"9","v":9}]
[0.9631840796019915,{"$f":"9","v":9}]
[0.9741293532338323,{"$f":"9","v":9}]
[0.9850746268656732,{"$f":"9","v":9}]
[0.996019900497514,{"$f":"9","v":9}]
[1.0069651741293548,{"$f":"9","v":9}]
[1.0179104477611955,{"$f":"9","v":9}]
[1.0288557213930363,{"$f":"9","v":9}]
[1.039800995024877,{"$f":"9","v":9}]
[1.0507462686567177,{"$f":"9","v":9}]
[1.0616915422885584,{"$f":"9","v":9}]
[1.0726368159203992,{"$f":"9","v":9}]
[1.08358208955224,{"$f":"9","v":9}]
[1.0945273631840806,{"$f":"9","v":9}]
[1.1054726368159213,{"$f":"9","v":9}]
[1.116417910447762,{"$f":"9","v":9}]
[1.1273631840796028,{"$f":"9","v":9}]
[1.1383084577114435,{"$f":"9","v":9}]
[1.1492537313432842,{"$f":"9","v":9}]
[1.160199004975125,{"$f":"9","v":9}]
[1.1711442786069657,{"$f":"9","v":9}]
[1.1820895522388064,{"$f":"9","v":9}]
[1.1930348258706471,{"$f":"9","v":9}]
[1.2039800995024879,{"$f":"9","v":9}]
[1.2149253731343286,{"$f":"9","v":9}]
[1.2258706467661693,{"$f":"9","v":9}]
[1.23681592039801,{"$f":"9","v":9}]
[1.2477611940298508,{"$f":"9","v":9}]
[1.2587064676616915,{"$f":"9","v":9}]
[1.2696517412935322,{"$f":"9","v":9}]
[1.280597014925373,{"$f":"9","v":9}]
[1.2915422885572136,{"$f":"9","v":9}]
[1.3024875621890544,{"$f":"9","v":9}]
[1.313432835820895,{"$f":"9","v":9}]
[1.3243781094527358,{"$f":"9","v":9}]
[1.3353233830845765,{"$f":"9","v":9}]
[1.3462686567164173,{"$f":"9","v":9}]
[1.357213930348258,{"$f":"9","v":9}]
[1.3681592039800987,{"$f":"9","v":9}]
[1.3791044776119394,{"$f":"9","v":9}]
[1.3900497512437802,{"$f":"9","v":9}]
[1.4009950248756209,{"$f":"9","v":9}]
[{"$f":"A129+dx","v":1.4119402985074616},{"$f":"9","v":9}]
[1.4228855721393023,{"$f":"9","v":9}]
[1.433830845771143,{"$f":"9","v":9}]
[1.4447761194029838,{"$f":"9","v":9}]
[1.4557213930348245,{"$f":"9","v":9}]
[1.4666666666666652,{"$f":"9","v":9}]
[1.477611940298506,{"$f":"9","v":9}]
[1.4885572139303467,{"$f":"9","v":9}]
[1.4995024875621874,{"$f":"9","v":9}]
[1.5104477611940281,{"$f":"9","v":9}]
[1.5213930348258689,{"$f":"9","v":9}]
[1.5323383084577096,{"$f":"9","v":9}]
[1.5432835820895503,{"$f":"9","v":9}]
[1.554228855721391,{"$f":"9","v":9}]
[1.5651741293532317,{"$f":"9","v":9}]
[1.5761194029850725,{"$f":"9","v":9}]
[1.5870646766169132,{"$f":"9","v":9}]
[1.598009950248754,{"$f":"9","v":9}]
[1.6089552238805946,{"$f":"9","v":9}]
[1.6199004975124354,{"$f":"9","v":9}]
[1.630845771144276,{"$f":"9","v":9}]
[1.6417910447761168,{"$f":"9","v":9}]
[1.6527363184079575,{"$f":"9","v":9}]
[1.6636815920397983,{"$f":"9","v":9}]
[1.674626865671639,{"$f":"9","v":9}]
[1.6855721393034797,{"$f":"9","v":9}]
[1.6965174129353204,{"$f":"9","v":9}]
[1.7074626865671612,{"$f":"9","v":9}]
[1.7184079601990019,{"$f":"9","v":9}]
[1.7293532338308426,{"$f":"9","v":9}]
[1.7402985074626833,{"$f":"9","v":9}]
[1.751243781094524,{"$f":"9","v":9}]
[1.7621890547263648,{"$f":"9","v":9}]
[1.7731343283582055,{"$f":"9","v":9}]
[1.7840796019900462,{"$f":"9","v":9}]
[1.795024875621887,{"$f":"9","v":9}]
[1.8059701492537277,{"$f":"9","v":9}]
[1.8169154228855684,{"$f":"9","v":9}]
[1.8278606965174091,{"$f":"9","v":9}]
[1.8388059701492498,{"$f":"9","v":9}]
[1.8497512437810906,{"$f":"9","v":9}]
[1.8606965174129313,{"$f":"9","v":9}]
[1.871641791044772,{"$f":"9","v":9}]
[1.8825870646766127,{"$f":"9","v":9}]
[1.8935323383084535,{"$f":"9","v":9}]
[1.9044776119402942,{"$f":"9","v":9}]
[1.915422885572135,{"$f":"9","v":9}]
[1.9263681592039756,{"$f":"9","v":9}]
[1.9373134328358164,{"$f":"9","v":9}]
[1.948258706467657,{"$f":"9","v":9}]
[1.9592039800994978,{"$f":"9","v":9}]
[1.9701492537313385,{"$f":"9","v":9}]
[1.9810945273631793,{"$f":"9","v":9}]
[1.99203980099502,{"$f":"9","v":9}]
[2.002985074626861,{"$f":"9","v":9}]
[2.0139303482587017,{"$f":"9","v":9}]
[2.0248756218905424,{"$f":"9","v":9}]
[2.035820895522383,{"$f":"9","v":9}]
[2.046766169154224,{"$f":"9","v":9}]
[2.0577114427860645,{"$f":"9","v":9}]
[2.0686567164179053,{"$f":"9","v":9}]
[2.079601990049746,{"$f":"9","v":9}]
[2.0905472636815867,{"$f":"9","v":9}]
[2.1014925373134274,{"$f":"9","v":9}]
[{"$f":"A193+dx","v":2.112437810945268},{"$f":"9","v":9}]
[2.123383084577109,{"$f":"9","v":9}]
[2.1343283582089496,{"$f":"9","v":9}]
[2.1452736318407903,{"$f":"9","v":9}]
[2.156218905472631,{"$f":"9","v":9}]
[2.167164179104472,{"$f":"9","v":9}]
[2.1781094527363125,{"$f":"9","v":9}]
[2.1890547263681532,{"$f":"9","v":9}]
[2.199999999999994,{"$f":"9","v":9}]
[2.2109452736318347,{"$f":"9","v":9}]
[2.2218905472636754,{"$f":"9","v":9}]
[2.232835820895516,{"$f":"9","v":9}]
[2.243781094527357,{"$f":"9","v":9}]
[2.2547263681591976,{"$f":"9","v":9}]
[2.2656716417910383,{"$f":"9","v":9}]
[2.276616915422879,{"$f":"9","v":9}]
[2.2875621890547198,{"$f":"9","v":9}]
[2.2985074626865605,{"$f":"9","v":9}]
[2.309452736318401,{"$f":"9","v":9}]
[2.320398009950242,{"$f":"9","v":9}]
[2.3313432835820826,{"$f":"9","v":9}]
[2.3422885572139234,{"$f":"9","v":9}]
[2.353233830845764,{"$f":"9","v":9}]
[2.364179104477605,{"$f":"9","v":9}]
[2.3751243781094455,{"$f":"9","v":9}]
[2.3860696517412863,{"$f":"9","v":9}]
[2.397014925373127,{"$f":"9","v":9}]
[2.4079601990049677,{"$f":"9","v":9}]
[2.4189054726368084,{"$f":"9","v":9}]
[2.429850746268649,{"$f":"9","v":9}]
[2.44079601990049,{"$f":"9","v":9}]
[2.4517412935323306,{"$f":"9","v":9}]
[2.4626865671641713,{"$f":"9","v":9}]
[2.473631840796012,{"$f":"9","v":9}]
[2.484577114427853,{"$f":"9","v":9}]
[2.4955223880596935,{"$f":"9","v":9}]
[2.5064676616915342,{"$f":"9","v":9}]
[2.517412935323375,{"$f":"9","v":9}]
[2.5283582089552157,{"$f":"9","v":9}]
[2.5393034825870564,{"$f":"9","v":9}]
[2.550248756218897,{"$f":"9","v":9}]
[2.561194029850738,{"$f":"9","v":9}]
[2.5721393034825786,{"$f":"9","v":9}]
[2.5830845771144193,{"$f":"9","v":9}]
[2.59402985074626,{"$f":"9","v":9}]
[2.6049751243781007,{"$f":"9","v":9}]
[2.6159203980099415,{"$f":"9","v":9}]
[2.626865671641782,{"$f":"9","v":9}]
[2.637810945273623,{"$f":"9","v":9}]
[2.6487562189054636,{"$f":"9","v":9}]
[2.6597014925373044,{"$f":"9","v":9}]
[2.670646766169145,{"$f":"9","v":9}]
[2.681592039800986,{"$f":"9","v":9}]
[2.6925373134328265,{"$f":"9","v":9}]
[2.7034825870646673,{"$f":"9","v":9}]
[2.714427860696508,{"$f":"9","v":9}]
[2.7253731343283487,{"$f":"9","v":9}]
[2.7363184079601894,{"$f":"9","v":9}]
[2.74726368159203,{"$f":"9","v":9}]
[2.758208955223871,{"$f":"9","v":9}]
[2.7691542288557116,{"$f":"9","v":9}]
[2.7800995024875523,{"$f":"9","v":9}]
[2.791044776119393,{"$f":"9","v":9}]
[2.801990049751234,{"$f":"9","v":9}]
[{"$f":"A257+dx","v":2.8129353233830745},{"$f":"9","v":9}]
[2.8238805970149152,{"$f":"9","v":9}]
[2.834825870646756,{"$f":"9","v":9}]
[2.8457711442785967,{"$f":"9","v":9}]
[2.8567164179104374,{"$f":"9","v":9}]
[2.867661691542278,{"$f":"9","v":9}]
[2.878606965174119,{"$f":"9","v":9}]
[2.8895522388059596,{"$f":"9","v":9}]
[2.9004975124378003,{"$f":"9","v":9}]
[2.911442786069641,{"$f":"9","v":9}]
[2.9223880597014817,{"$f":"9","v":9}]
[2.9333333333333225,{"$f":"9","v":9}]
[2.944278606965163,{"$f":"9","v":9}]
[2.955223880597004,{"$f":"9","v":9}]
[2.9661691542288446,{"$f":"9","v":9}]
[2.9771144278606854,{"$f":"9","v":9}]
[2.988059701492526,{"$f":"9","v":9}]
[2.999004975124367,{"$f":"9","v":9}]
[3.0099502487562075,{"$f":"9","v":9}]
[3.0208955223880483,{"$f":"9","v":9}]
[3.031840796019889,{"$f":"9","v":9}]
[3.0427860696517297,{"$f":"9","v":9}]
[3.0537313432835704,{"$f":"9","v":9}]
[3.064676616915411,{"$f":"9","v":9}]
[3.075621890547252,{"$f":"9","v":9}]
[3.0865671641790926,{"$f":"9","v":9}]
[3.0975124378109333,{"$f":"9","v":9}]
[3.108457711442774,{"$f":"9","v":9}]
[3.1194029850746148,{"$f":"9","v":9}]
[3.1303482587064555,{"$f":"9","v":9}]
[3.1412935323382962,{"$f":"9","v":9}]
[3.152238805970137,{"$f":"9","v":9}]
[3.1631840796019777,{"$f":"9","v":9}]
[3.1741293532338184,{"$f":"9","v":9}]
[3.185074626865659,{"$f":"9","v":9}]
[3.1960199004975,{"$f":"9","v":9}]
[3.2069651741293406,{"$f":"9","v":9}]
[3.2179104477611813,{"$f":"9","v":9}]
[3.228855721393022,{"$f":"9","v":9}]
[3.2398009950248627,{"$f":"9","v":9}]
[3.2507462686567035,{"$f":"9","v":9}]
[3.261691542288544,{"$f":"9","v":9}]
[3.272636815920385,{"$f":"9","v":9}]
[3.2835820895522256,{"$f":"9","v":9}]
[3.2945273631840664,{"$f":"9","v":9}]
[3.305472636815907,{"$f":"9","v":9}]
[3.316417910447748,{"$f":"9","v":9}]
[3.3273631840795885,{"$f":"9","v":9}]
[3.3383084577114293,{"$f":"9","v":9}]
[3.34925373134327,{"$f":"9","v":9}]
[3.3601990049751107,{"$f":"9","v":9}]
[3.3711442786069514,{"$f":"9","v":9}]
[3.382089552238792,{"$f":"9","v":9}]
[3.393034825870633,{"$f":"9","v":9}]
[3.4039800995024736,{"$f":"9","v":9}]
[3.4149253731343143,{"$f":"9","v":9}]
[3.425870646766155,{"$f":"9","v":9}]
[3.4368159203979958,{"$f":"9","v":9}]
[3.4477611940298365,{"$f":"9","v":9}]
[3.458706467661677,{"$f":"9","v":9}]
[3.469651741293518,{"$f":"9","v":9}]
[3.4805970149253587,{"$f":"9","v":9}]
[3.4915422885571994,{"$f":"9","v":9}]
[3.50248756218904,{"$f":"9","v":9}]
[{"$f":"A321+dx","v":3.513432835820881},{"$f":"9","v":9}]
[3.5243781094527216,{"$f":"9","v":9}]
[3.5353233830845623,{"$f":"9","v":9}]
[3.546268656716403,{"$f":"9","v":9}]
[3.5572139303482437,{"$f":"9","v":9}]
[3.5681592039800845,{"$f":"9","v":9}]
[3.579104477611925,{"$f":"9","v":9}]
[3.590049751243766,{"$f":"9","v":9}]
[3.6009950248756066,{"$f":"9","v":9}]
[3.6119402985074474,{"$f":"9","v":9}]
[3.622885572139288,{"$f":"9","v":9}]
[3.633830845771129,{"$f":"9","v":9}]
[3.6447761194029695,{"$f":"9","v":9}]
[3.6557213930348103,{"$f":"9","v":9}]
[3.666666666666651,{"$f":"9","v":9}]
[3.6776119402984917,{"$f":"9","v":9}]
[3.6885572139303324,{"$f":"9","v":9}]
[3.699502487562173,{"$f":"9","v":9}]
[3.710447761194014,{"$f":"9","v":9}]
[3.7213930348258546,{"$f":"9","v":9}]
[3.7323383084576953,{"$f":"9","v":9}]
[3.743283582089536,{"$f":"9","v":9}]
[3.7542288557213768,{"$f":"9","v":9}]
[3.7651741293532175,{"$f":"9","v":9}]
[3.776119402985058,{"$f":"9","v":9}]
[3.787064676616899,{"$f":"9","v":9}]
[3.7980099502487397,{"$f":"9","v":9}]
[3.8089552238805804,{"$f":"9","v":9}]
[3.819900497512421,{"$f":"9","v":9}]
[3.830845771144262,{"$f":"9","v":9}]
[3.8417910447761026,{"$f":"9","v":9}]
[3.8527363184079433,{"$f":"9","v":9}]
[3.863681592039784,{"$f":"9","v":9}]
[3.8746268656716247,{"$f":"9","v":9}]
[3.8855721393034655,{"$f":"9","v":9}]
[3.896517412935306,{"$f":"9","v":9}]
[3.907462686567147,{"$f":"9","v":9}]
[3.9184079601989876,{"$f":"9","v":9}]
[3.9293532338308284,{"$f":"9","v":9}]
[3.940298507462669,{"$f":"9","v":9}]
[3.95124378109451,{"$f":"9","v":9}]
[3.9621890547263505,{"$f":"9","v":9}]
[3.9731343283581912,{"$f":"9","v":9}]
[3.984079601990032,{"$f":"9","v":9}]
[3.9950248756218727,{"$f":"9","v":9}]
[4.005970149253714,{"$f":"9","v":9}]
[4.016915422885555,{"$f":"9","v":9}]
[4.027860696517396,{"$f":"9","v":9}]
[4.038805970149237,{"$f":"9","v":9}]
[4.0497512437810785,{"$f":"9","v":9}]
[4.06069651741292,{"$f":"9","v":9}]
[4.071641791044761,{"$f":"9","v":9}]
[4.082587064676602,{"$f":"9","v":9}]
[4.093532338308443,{"$f":"9","v":9}]
[4.104477611940284,{"$f":"9","v":9}]
[4.1154228855721255,{"$f":"9","v":9}]
[4.126368159203967,{"$f":"9","v":9}]
[4.137313432835808,{"$f":"9","v":9}]
[4.148258706467649,{"$f":"9","v":9}]
[4.15920398009949,{"$f":"9","v":9}]
[4.170149253731331,{"$f":"9","v":9}]
[4.1810945273631726,{"$f":"9","v":9}]
[4.192039800995014,{"$f":"9","v":9}]
[4.202985074626855,{"$f":"9","v":9}]
[{"$f":"A385+dx","v":4.213930348258696},{"$f":"9","v":9}]
[4.224875621890537,{"$f":"9","v":9}]
[4.235820895522378,{"$f":"9","v":9}]
[4.24676616915422,{"$f":"9","v":9}]
[4.257711442786061,{"$f":"9","v":9}]
[4.268656716417902,{"$f":"9","v":9}]
[4.279601990049743,{"$f":"9","v":9}]
[4.290547263681584,{"$f":"9","v":9}]
[4.301492537313425,{"$f":"9","v":9}]
[4.312437810945267,{"$f":"9","v":9}]
[4.323383084577108,{"$f":"9","v":9}]
[4.334328358208949,{"$f":"9","v":9}]
[4.34527363184079,{"$f":"9","v":9}]
[4.356218905472631,{"$f":"9","v":9}]
[4.367164179104472,{"$f":"9","v":9}]
[4.378109452736314,{"$f":"9","v":9}]
[4.389054726368155,{"$f":"9","v":9}]
[4.399999999999996,{"$f":"9","v":9}]
[4.410945273631837,{"$f":"9","v":9}]
[4.421890547263678,{"$f":"9","v":9}]
[4.432835820895519,{"$f":"9","v":9}]
[4.443781094527361,{"$f":"9","v":9}]
[4.454726368159202,{"$f":"9","v":9}]
[4.465671641791043,{"$f":"9","v":9}]
[4.476616915422884,{"$f":"9","v":9}]
[4.487562189054725,{"$f":"9","v":9}]
[4.498507462686566,{"$f":"9","v":9}]
[4.509452736318408,{"$f":"9","v":9}]
[4.520398009950249,{"$f":"9","v":9}]
[4.53134328358209,{"$f":"9","v":9}]
[4.542288557213931,{"$f":"9","v":9}]
[4.553233830845772,{"$f":"9","v":9}]
[4.564179104477613,{"$f":"9","v":9}]
[4.575124378109455,{"$f":"9","v":9}]
[4.586069651741296,{"$f":"9","v":9}]
[4.597014925373137,{"$f":"9","v":9}]
[4.607960199004978,{"$f":"9","v":9}]
[4.618905472636819,{"$f":"9","v":9}]
[4.6298507462686604,{"$f":"9","v":9}]
[4.640796019900502,{"$f":"9","v":9}]
[4.651741293532343,{"$f":"9","v":9}]
[4.662686567164184,{"$f":"9","v":9}]
[4.673631840796025,{"$f":"9","v":9}]
[4.684577114427866,{"$f":"9","v":9}]
[4.6955223880597075,{"$f":"9","v":9}]
[4.706467661691549,{"$f":"9","v":9}]
[4.71741293532339,{"$f":"9","v":9}]
[4.728358208955231,{"$f":"9","v":9}]
[4.739303482587072,{"$f":"9","v":9}]
[4.750248756218913,{"$f":"9","v":9}]
[4.7611940298507545,{"$f":"9","v":9}]
[4.772139303482596,{"$f":"9","v":9}]
[4.783084577114437,{"$f":"9","v":9}]
[4.794029850746278,{"$f":"9","v":9}]
[4.804975124378119,{"$f":"9","v":9}]
[4.81592039800996,{"$f":"9","v":9}]
[4.8268656716418015,{"$f":"9","v":9}]
[4.837810945273643,{"$f":"9","v":9}]
[4.848756218905484,{"$f":"9","v":9}]
[4.859701492537325,{"$f":"9","v":9}]
[4.870646766169166,{"$f":"9","v":9}]
[4.881592039801007,{"$f":"9","v":9}]
[4.8925373134328485,{"$f":"9","v":9}]
[4.90348258706469,{"$f":"9","v":9}]
[{"$f":"A449+dx","v":4.914427860696531},{"$f":"9","v":9}]
[4.925373134328372,{"$f":"9","v":9}]
[4.936318407960213,{"$f":"9","v":9}]
[4.947263681592054,{"$f":"9","v":9}]
[4.9582089552238955,{"$f":"9","v":9}]
[4.969154228855737,{"$f":"9","v":9}]
[4.980099502487578,{"$f":"9","v":9}]
[4.991044776119419,{"$f":"9","v":9}]
[5.00199004975126,{"$f":"9","v":9}]
[5.012935323383101,{"$f":"9","v":9}]
[5.0238805970149425,{"$f":"9","v":9}]
[5.034825870646784,{"$f":"9","v":9}]
[5.045771144278625,{"$f":"9","v":9}]
[5.056716417910466,{"$f":"9","v":9}]
[5.067661691542307,{"$f":"9","v":9}]
[5.078606965174148,{"$f":"9","v":9}]
[5.0895522388059895,{"$f":"9","v":9}]
[5.100497512437831,{"$f":"9","v":9}]
[5.111442786069672,{"$f":"9","v":9}]
[5.122388059701513,{"$f":"9","v":9}]
[5.133333333333354,{"$f":"9","v":9}]
[5.144278606965195,{"$f":"9","v":9}]
[5.1552238805970365,{"$f":"9","v":9}]
[5.166169154228878,{"$f":"9","v":9}]
[5.177114427860719,{"$f":"9","v":9}]
[5.18805970149256,{"$f":"9","v":9}]
[5.199004975124401,{"$f":"9","v":9}]
[5.209950248756242,{"$f":"9","v":9}]
[5.2208955223880835,{"$f":"9","v":9}]
[5.231840796019925,{"$f":"9","v":9}]
[5.242786069651766,{"$f":"9","v":9}]
[5.253731343283607,{"$f":"9","v":9}]
[5.264676616915448,{"$f":"9","v":9}]
[5.275621890547289,{"$f":"9","v":9}]
[5.2865671641791305,{"$f":"9","v":9}]
[5.297512437810972,{"$f":"9","v":9}]
[5.308457711442813,{"$f":"9","v":9}]
[5.319402985074654,{"$f":"9","v":9}]
[5.330348258706495,{"$f":"9","v":9}]
[5.341293532338336,{"$f":"9","v":9}]
[5.3522388059701775,{"$f":"9","v":9}]
[5.363184079602019,{"$f":"9","v":9}]
[5.37412935323386,{"$f":"9","v":9}]
[5.385074626865701,{"$f":"9","v":9}]
[5.396019900497542,{"$f":"9","v":9}]
[5.406965174129383,{"$f":"9","v":9}]
[5.4179104477612245,{"$f":"9","v":9}]
[5.428855721393066,{"$f":"9","v":9}]
[5.439800995024907,{"$f":"9","v":9}]
[5.450746268656748,{"$f":"9","v":9}]
[5.461691542288589,{"$f":"9","v":9}]
[5.47263681592043,{"$f":"9","v":9}]
[5.4835820895522716,{"$f":"9","v":9}]
[5.494527363184113,{"$f":"9","v":9}]
[5.505472636815954,{"$f":"9","v":9}]
[5.516417910447795,{"$f":"9","v":9}]
[5.527363184079636,{"$f":"9","v":9}]
[5.538308457711477,{"$f":"9","v":9}]
[5.549253731343319,{"$f":"9","v":9}]
[5.56019900497516,{"$f":"9","v":9}]
[5.571144278607001,{"$f":"9","v":9}]
[5.582089552238842,{"$f":"9","v":9}]
[5.593034825870683,{"$f":"9","v":9}]
[5.603980099502524,{"$f":"9","v":9}]
[{"$f":"A513+dx","v":5.614925373134366},{"$f":"9","v":9}]
[5.625870646766207,{"$f":"9","v":9}]
[5.636815920398048,{"$f":"9","v":9}]
[5.647761194029889,{"$f":"9","v":9}]
[5.65870646766173,{"$f":"9","v":9}]
[5.669651741293571,{"$f":"9","v":9}]
[5.680597014925413,{"$f":"9","v":9}]
[5.691542288557254,{"$f":"9","v":9}]
[5.702487562189095,{"$f":"9","v":9}]
[5.713432835820936,{"$f":"9","v":9}]
[5.724378109452777,{"$f":"9","v":9}]
[5.735323383084618,{"$f":"9","v":9}]
[5.74626865671646,{"$f":"9","v":9}]
[5.757213930348301,{"$f":"9","v":9}]
[5.768159203980142,{"$f":"9","v":9}]
[5.779104477611983,{"$f":"9","v":9}]
[5.790049751243824,{"$f":"9","v":9}]
[5.800995024875665,{"$f":"9","v":9}]
[5.811940298507507,{"$f":"9","v":9}]
[5.822885572139348,{"$f":"9","v":9}]
[5.833830845771189,{"$f":"9","v":9}]
[5.84477611940303,{"$f":"9","v":9}]
[5.855721393034871,{"$f":"9","v":9}]
[5.866666666666712,{"$f":"9","v":9}]
[5.877611940298554,{"$f":"9","v":9}]
[5.888557213930395,{"$f":"9","v":9}]
[5.899502487562236,{"$f":"9","v":9}]
[5.910447761194077,{"$f":"9","v":9}]
[5.921393034825918,{"$f":"9","v":9}]
[5.9323383084577594,{"$f":"9","v":9}]
[5.943283582089601,{"$f":"9","v":9}]
[5.954228855721442,{"$f":"9","v":9}]
[5.965174129353283,{"$f":"9","v":9}]
[5.976119402985124,{"$f":"9","v":9}]
[5.987064676616965,{"$f":"9","v":9}]
[5.9980099502488065,{"$f":"9","v":9}]
[6.008955223880648,{"$f":"9","v":9}]
[6.019900497512489,{"$f":"9","v":9}]
[6.03084577114433,{"$f":"9","v":9}]
[6.041791044776171,{"$f":"9","v":9}]
[6.052736318408012,{"$f":"9","v":9}]
[6.0636815920398535,{"$f":"9","v":9}]
[6.074626865671695,{"$f":"9","v":9}]
[6.085572139303536,{"$f":"9","v":9}]
[6.096517412935377,{"$f":"9","v":9}]
[6.107462686567218,{"$f":"9","v":9}]
[6.118407960199059,{"$f":"9","v":9}]
[6.1293532338309005,{"$f":"9","v":9}]
[6.140298507462742,{"$f":"9","v":9}]
[6.151243781094583,{"$f":"9","v":9}]
[6.162189054726424,{"$f":"9","v":9}]
[6.173134328358265,{"$f":"9","v":9}]
[6.184079601990106,{"$f":"9","v":9}]
[6.1950248756219475,{"$f":"9","v":9}]
[6.205970149253789,{"$f":"9","v":9}]
[6.21691542288563,{"$f":"9","v":9}]
[6.227860696517471,{"$f":"9","v":9}]
[6.238805970149312,{"$f":"9","v":9}]
[6.249751243781153,{"$f":"9","v":9}]
[6.2606965174129945,{"$f":"9","v":9}]
[6.271641791044836,{"$f":"9","v":9}]
[6.282587064676677,{"$f":"9","v":9}]
[6.293532338308518,{"$f":"9","v":9}]
[6.304477611940359,{"$f":"9","v":9}]
[{"$f":"A577+dx","v":6.3154228855722},{"$f":"9","v":9}]
[6.3263681592040415,{"$f":"9","v":9}]
[6.337313432835883,{"$f":"9","v":9}]
[6.348258706467724,{"$f":"9","v":9}]
[6.359203980099565,{"$f":"9","v":9}]
[6.370149253731406,{"$f":"9","v":9}]
[6.381094527363247,{"$f":"9","v":9}]
[6.3920398009950885,{"$f":"9","v":9}]
[6.40298507462693,{"$f":"9","v":9}]
[6.413930348258771,{"$f":"9","v":9}]
[6.424875621890612,{"$f":"9","v":9}]
[6.435820895522453,{"$f":"9","v":9}]
[6.446766169154294,{"$f":"9","v":9}]
[6.4577114427861355,{"$f":"9","v":9}]
[6.468656716417977,{"$f":"9","v":9}]
[6.479601990049818,{"$f":"9","v":9}]
[6.490547263681659,{"$f":"9","v":9}]
[6.5014925373135,{"$f":"9","v":9}]
[6.512437810945341,{"$f":"9","v":9}]
[6.5233830845771825,{"$f":"9","v":9}]
[6.534328358209024,{"$f":"9","v":9}]
[6.545273631840865,{"$f":"9","v":9}]
[6.556218905472706,{"$f":"9","v":9}]
[6.567164179104547,{"$f":"9","v":9}]
[6.578109452736388,{"$f":"9","v":9}]
[6.5890547263682295,{"$f":"9","v":9}]
[6.600000000000071,{"$f":"9","v":9}]
[6.610945273631912,{"$f":"9","v":9}]
[6.621890547263753,{"$f":"9","v":9}]
[6.632835820895594,{"$f":"9","v":9}]
[6.643781094527435,{"$f":"9","v":9}]
[6.6547263681592765,{"$f":"9","v":9}]
[6.665671641791118,{"$f":"9","v":9}]
[6.676616915422959,{"$f":"9","v":9}]
[6.6875621890548,{"$f":"9","v":9}]
[6.698507462686641,{"$f":"9","v":9}]
[6.709452736318482,{"$f":"9","v":9}]
[6.7203980099503235,{"$f":"9","v":9}]
[6.731343283582165,{"$f":"9","v":9}]
[6.742288557214006,{"$f":"9","v":9}]
[6.753233830845847,{"$f":"9","v":9}]
[6.764179104477688,{"$f":"9","v":9}]
[6.775124378109529,{"$f":"9","v":9}]
[6.786069651741371,{"$f":"9","v":9}]
[6.797014925373212,{"$f":"9","v":9}]
[6.807960199005053,{"$f":"9","v":9}]
[6.818905472636894,{"$f":"9","v":9}]
[6.829850746268735,{"$f":"9","v":9}]
[6.840796019900576,{"$f":"9","v":9}]
[6.851741293532418,{"$f":"9","v":9}]
[6.862686567164259,{"$f":"9","v":9}]
[6.8736318407961,{"$f":"9","v":9}]
[6.884577114427941,{"$f":"9","v":9}]
[6.895522388059782,{"$f":"9","v":9}]
[6.906467661691623,{"$f":"9","v":9}]
[6.917412935323465,{"$f":"9","v":9}]
[6.928358208955306,{"$f":"9","v":9}]
[6.939303482587147,{"$f":"9","v":9}]
[6.950248756218988,{"$f":"9","v":9}]
[6.961194029850829,{"$f":"9","v":9}]
[6.97213930348267,{"$f":"9","v":9}]
[6.983084577114512,{"$f":"9","v":9}]
[6.994029850746353,{"$f":"9","v":9}]
[7.004975124378194,{"$f":"9","v":9}]
[{"$f":"A641+dx","v":7.015920398010035},{"$f":"9","v":9}]
[7.026865671641876,{"$f":"9","v":9}]
[7.037810945273717,{"$f":"9","v":9}]
[7.048756218905559,{"$f":"9","v":9}]
[7.0597014925374,{"$f":"9","v":9}]
[7.070646766169241,{"$f":"9","v":9}]
[7.081592039801082,{"$f":"9","v":9}]
[7.092537313432923,{"$f":"9","v":9}]
[7.103482587064764,{"$f":"9","v":9}]
[7.114427860696606,{"$f":"9","v":9}]
[7.125373134328447,{"$f":"9","v":9}]
[7.136318407960288,{"$f":"9","v":9}]
[7.147263681592129,{"$f":"9","v":9}]
[7.15820895522397,{"$f":"9","v":9}]
[7.169154228855811,{"$f":"9","v":9}]
[7.180099502487653,{"$f":"9","v":9}]
[7.191044776119494,{"$f":"9","v":9}]
[7.201990049751335,{"$f":"9","v":9}]
[7.212935323383176,{"$f":"9","v":9}]
[7.223880597015017,{"$f":"9","v":9}]
[7.2348258706468584,{"$f":"9","v":9}]
[7.2457711442787,{"$f":"9","v":9}]
[7.256716417910541,{"$f":"9","v":9}]
[7.267661691542382,{"$f":"9","v":9}]
[7.278606965174223,{"$f":"9","v":9}]
[7.289552238806064,{"$f":"9","v":9}]
[7.3004975124379055,{"$f":"9","v":9}]
[7.311442786069747,{"$f":"9","v":9}]
[7.322388059701588,{"$f":"9","v":9}]
[7.333333333333429,{"$f":"9","v":9}]
[7.34427860696527,{"$f":"9","v":9}]
[7.355223880597111,{"$f":"9","v":9}]
[7.3661691542289525,{"$f":"9","v":9}]
[7.377114427860794,{"$f":"9","v":9}]
[7.388059701492635,{"$f":"9","v":9}]
[7.399004975124476,{"$f":"9","v":9}]
[7.409950248756317,{"$f":"9","v":9}]
[7.420895522388158,{"$f":"9","v":9}]
[7.4318407960199995,{"$f":"9","v":9}]
[7.442786069651841,{"$f":"9","v":9}]
[7.453731343283682,{"$f":"9","v":9}]
[7.464676616915523,{"$f":"9","v":9}]
[7.475621890547364,{"$f":"9","v":9}]
[7.486567164179205,{"$f":"9","v":9}]
[7.4975124378110465,{"$f":"9","v":9}]
[7.508457711442888,{"$f":"9","v":9}]
[7.519402985074729,{"$f":"9","v":9}]
[7.53034825870657,{"$f":"9","v":9}]
[7.541293532338411,{"$f":"9","v":9}]
[7.552238805970252,{"$f":"9","v":9}]
[7.5631840796020935,{"$f":"9","v":9}]
[7.574129353233935,{"$f":"9","v":9}]
[7.585074626865776,{"$f":"9","v":9}]
[7.596019900497617,{"$f":"9","v":9}]
[7.606965174129458,{"$f":"9","v":9}]
[7.617910447761299,{"$f":"9","v":9}]
[7.6288557213931405,{"$f":"9","v":9}]
[7.639800995024982,{"$f":"9","v":9}]
[7.650746268656823,{"$f":"9","v":9}]
[7.661691542288664,{"$f":"9","v":9}]
[7.672636815920505,{"$f":"9","v":9}]
[7.683582089552346,{"$f":"9","v":9}]
[7.6945273631841875,{"$f":"9","v":9}]
[7.705472636816029,{"$f":"9","v":9}]
[{"$f":"A705+dx","v":7.71641791044787},{"$f":"9","v":9}]
[7.727363184079711,{"$f":"9","v":9}]
[7.738308457711552,{"$f":"9","v":9}]
[7.749253731343393,{"$f":"9","v":9}]
[7.7601990049752345,{"$f":"9","v":9}]
[7.771144278607076,{"$f":"9","v":9}]
[7.782089552238917,{"$f":"9","v":9}]
[7.793034825870758,{"$f":"9","v":9}]
[7.803980099502599,{"$f":"9","v":9}]
[7.81492537313444,{"$f":"9","v":9}]
[7.8258706467662815,{"$f":"9","v":9}]
[7.836815920398123,{"$f":"9","v":9}]
[7.847761194029964,{"$f":"9","v":9}]
[7.858706467661805,{"$f":"9","v":9}]
[7.869651741293646,{"$f":"9","v":9}]
[7.880597014925487,{"$f":"9","v":9}]
[7.8915422885573285,{"$f":"9","v":9}]
[7.90248756218917,{"$f":"9","v":9}]
[7.913432835821011,{"$f":"9","v":9}]
[7.924378109452852,{"$f":"9","v":9}]
[7.935323383084693,{"$f":"9","v":9}]
[7.946268656716534,{"$f":"9","v":9}]
[7.9572139303483755,{"$f":"9","v":9}]
[7.968159203980217,{"$f":"9","v":9}]
[7.979104477612058,{"$f":"9","v":9}]
[7.990049751243899,{"$f":"9","v":9}]
[8.00099502487574,{"$f":"9","v":9}]
[8.01194029850758,{"$f":"9","v":9}]
[8.02288557213942,{"$f":"9","v":9}]
[8.033830845771261,{"$f":"9","v":9}]
[8.044776119403101,{"$f":"9","v":9}]
[8.055721393034942,{"$f":"9","v":9}]
[8.066666666666782,{"$f":"9","v":9}]
[8.077611940298622,{"$f":"9","v":9}]
[8.088557213930462,{"$f":"9","v":9}]
[8.099502487562303,{"$f":"9","v":9}]
[8.110447761194143,{"$f":"9","v":9}]
[8.121393034825983,{"$f":"9","v":9}]
[8.132338308457824,{"$f":"9","v":9}]
[8.143283582089664,{"$f":"9","v":9}]
[8.154228855721504,{"$f":"9","v":9}]
[8.165174129353344,{"$f":"9","v":9}]
[8.176119402985185,{"$f":"9","v":9}]
[8.187064676617025,{"$f":"9","v":9}]
[8.198009950248865,{"$f":"9","v":9}]
[8.208955223880706,{"$f":"9","v":9}]
[8.219900497512546,{"$f":"9","v":9}]
[8.230845771144386,{"$f":"9","v":9}]
[8.241791044776226,{"$f":"9","v":9}]
[8.252736318408067,{"$f":"9","v":9}]
[8.263681592039907,{"$f":"9","v":9}]
[8.274626865671747,{"$f":"9","v":9}]
[8.285572139303587,{"$f":"9","v":9}]
[8.296517412935428,{"$f":"9","v":9}]
[8.307462686567268,{"$f":"9","v":9}]
[8.318407960199108,{"$f":"9","v":9}]
[8.329353233830949,{"$f":"9","v":9}]
[8.340298507462789,{"$f":"9","v":9}]
[8.35124378109463,{"$f":"9","v":9}]
[8.36218905472647,{"$f":"9","v":9}]
[8.37313432835831,{"$f":"9","v":9}]
[8.38407960199015,{"$f":"9","v":9}]
[8.39502487562199,{"$f":"9","v":9}]
[8.40597014925383,{"$f":"9","v":9}]
[{"$f":"A769+dx","v":8.41691542288567},{"$f":"9","v":9}]
[8.427860696517511,{"$f":"9","v":9}]
[8.438805970149351,{"$f":"9","v":9}]
[8.449751243781192,{"$f":"9","v":9}]
[8.460696517413032,{"$f":"9","v":9}]
[8.471641791044872,{"$f":"9","v":9}]
[8.482587064676713,{"$f":"9","v":9}]
[8.493532338308553,{"$f":"9","v":9}]
[8.504477611940393,{"$f":"9","v":9}]
[8.515422885572233,{"$f":"9","v":9}]
[8.526368159204074,{"$f":"9","v":9}]
[8.537313432835914,{"$f":"9","v":9}]
[8.548258706467754,{"$f":"9","v":9}]
[8.559203980099594,{"$f":"9","v":9}]
[8.570149253731435,{"$f":"9","v":9}]
[8.581094527363275,{"$f":"9","v":9}]
[8.592039800995115,{"$f":"9","v":9}]
[8.602985074626956,{"$f":"9","v":9}]
[8.613930348258796,{"$f":"9","v":9}]
[8.624875621890636,{"$f":"9","v":9}]
[8.635820895522476,{"$f":"9","v":9}]
[8.646766169154317,{"$f":"9","v":9}]
[8.657711442786157,{"$f":"9","v":9}]
[8.668656716417997,{"$f":"9","v":9}]
[8.679601990049838,{"$f":"9","v":9}]
[8.690547263681678,{"$f":"9","v":9}]
[8.701492537313518,{"$f":"9","v":9}]
[8.712437810945358,{"$f":"9","v":9}]
[8.723383084577199,{"$f":"9","v":9}]
[8.734328358209039,{"$f":"9","v":9}]
[8.74527363184088,{"$f":"9","v":9}]
[8.75621890547272,{"$f":"9","v":9}]
[8.76716417910456,{"$f":"9","v":9}]
[8.7781094527364,{"$f":"9","v":9}]
[8.78905472636824,{"$f":"9","v":9}]
[8.80000000000008,{"$f":"9","v":9}]
[8.810945273631921,{"$f":"9","v":9}]
[8.821890547263761,{"$f":"9","v":9}]
[8.832835820895601,{"$f":"9","v":9}]
[8.843781094527442,{"$f":"9","v":9}]
[8.854726368159282,{"$f":"9","v":9}]
[8.865671641791122,{"$f":"9","v":9}]
[8.876616915422963,{"$f":"9","v":9}]
[8.887562189054803,{"$f":"9","v":9}]
[8.898507462686643,{"$f":"9","v":9}]
[8.909452736318483,{"$f":"9","v":9}]
[8.920398009950324,{"$f":"9","v":9}]
[8.931343283582164,{"$f":"9","v":9}]
[8.942288557214004,{"$f":"9","v":9}]
[8.953233830845845,{"$f":"9","v":9}]
[8.964179104477685,{"$f":"9","v":9}]
[8.975124378109525,{"$f":"9","v":9}]
[8.986069651741365,{"$f":"9","v":9}]
[8.997014925373206,{"$f":"9","v":9}]
[9.007960199005046,{"$f":"9","v":9}]
[9.018905472636886,{"$f":"9","v":9}]
[9.029850746268727,{"$f":"9","v":9}]
[9.040796019900567,{"$f":"9","v":9}]
[9.051741293532407,{"$f":"9","v":9}]
[9.062686567164247,{"$f":"9","v":9}]
[9.073631840796088,{"$f":"9","v":9}]
[9.084577114427928,{"$f":"9","v":9}]
[9.095522388059768,{"$f":"9","v":9}]
[9.106467661691608,{"$f":"9","v":9}]
[{"$f":"A833+dx","v":9.117412935323449},{"$f":"9","v":9}]
[9.128358208955289,{"$f":"9","v":9}]
[9.13930348258713,{"$f":"9","v":9}]
[9.15024875621897,{"$f":"9","v":9}]
[9.16119402985081,{"$f":"9","v":9}]
[9.17213930348265,{"$f":"9","v":9}]
[9.18308457711449,{"$f":"9","v":9}]
[9.19402985074633,{"$f":"9","v":9}]
[9.204975124378171,{"$f":"9","v":9}]
[9.215920398010011,{"$f":"9","v":9}]
[9.226865671641852,{"$f":"9","v":9}]
[9.237810945273692,{"$f":"9","v":9}]
[9.248756218905532,{"$f":"9","v":9}]
[9.259701492537372,{"$f":"9","v":9}]
[9.270646766169213,{"$f":"9","v":9}]
[9.281592039801053,{"$f":"9","v":9}]
[9.292537313432893,{"$f":"9","v":9}]
[9.303482587064734,{"$f":"9","v":9}]
[9.314427860696574,{"$f":"9","v":9}]
[9.325373134328414,{"$f":"9","v":9}]
[9.336318407960254,{"$f":"9","v":9}]
[9.347263681592095,{"$f":"9","v":9}]
[9.358208955223935,{"$f":"9","v":9}]
[9.369154228855775,{"$f":"9","v":9}]
[9.380099502487615,{"$f":"9","v":9}]
[9.391044776119456,{"$f":"9","v":9}]
[9.401990049751296,{"$f":"9","v":9}]
[9.412935323383136,{"$f":"9","v":9}]
[9.423880597014977,{"$f":"9","v":9}]
[9.434825870646817,{"$f":"9","v":9}]
[9.445771144278657,{"$f":"9","v":9}]
[9.456716417910497,{"$f":"9","v":9}]
[9.467661691542338,{"$f":"9","v":9}]
[9.478606965174178,{"$f":"9","v":9}]
[9.489552238806018,{"$f":"9","v":9}]
[9.500497512437859,{"$f":"9","v":9}]
[9.511442786069699,{"$f":"9","v":9}]
[9.52238805970154,{"$f":"9","v":9}]
[9.53333333333338,{"$f":"9","v":9}]
[9.54427860696522,{"$f":"9","v":9}]
[9.55522388059706,{"$f":"9","v":9}]
[9.5661691542289,{"$f":"9","v":9}]
[9.57711442786074,{"$f":"9","v":9}]
[9.58805970149258,{"$f":"9","v":9}]
[9.599004975124421,{"$f":"9","v":9}]
[9.609950248756261,{"$f":"9","v":9}]
[9.620895522388102,{"$f":"9","v":9}]
[9.631840796019942,{"$f":"9","v":9}]
[9.642786069651782,{"$f":"9","v":9}]
[9.653731343283622,{"$f":"9","v":9}]
[9.664676616915463,{"$f":"9","v":9}]
[9.675621890547303,{"$f":"9","v":9}]
[9.686567164179143,{"$f":"9","v":9}]
[9.697512437810984,{"$f":"9","v":9}]
[9.708457711442824,{"$f":"9","v":9}]
[9.719402985074664,{"$f":"9","v":9}]
[9.730348258706504,{"$f":"9","v":9}]
[9.741293532338345,{"$f":"9","v":9}]
[9.752238805970185,{"$f":"9","v":9}]
[9.763184079602025,{"$f":"9","v":9}]
[9.774129353233866,{"$f":"9","v":9}]
[9.785074626865706,{"$f":"9","v":9}]
[9.796019900497546,{"$f":"9","v":9}]
[9.806965174129386,{"$f":"9","v":9}]
[{"$f":"A897+dx","v":9.817910447761227},{"$f":"9","v":9}]
[9.828855721393067,{"$f":"9","v":9}]
[9.839800995024907,{"$f":"9","v":9}]
[9.850746268656748,{"$f":"9","v":9}]
[9.861691542288588,{"$f":"9","v":9}]
[9.872636815920428,{"$f":"9","v":9}]
[9.883582089552268,{"$f":"9","v":9}]
[9.894527363184109,{"$f":"9","v":9}]
[9.905472636815949,{"$f":"9","v":9}]
[9.91641791044779,{"$f":"9","v":9}]
[9.92736318407963,{"$f":"9","v":9}]
[9.93830845771147,{"$f":"9","v":9}]
[9.94925373134331,{"$f":"9","v":9}]
[9.96019900497515,{"$f":"9","v":9}]
[9.97114427860699,{"$f":"9","v":9}]
[9.98208955223883,{"$f":"9","v":9}]
[9.993034825870671,{"$f":"9","v":9}]
[10.003980099502511,{"$f":"9","v":9}]
[10.014925373134352,{"$f":"9","v":9}]
[10.025870646766192,{"$f":"9","v":9}]
[10.036815920398032,{"$f":"9","v":9}]
[10.047761194029873,{"$f":"9","v":9}]
[10.058706467661713,{"$f":"9","v":9}]
[10.069651741293553,{"$f":"9","v":9}]
[10.080597014925393,{"$f":"9","v":9}]
[10.091542288557234,{"$f":"9","v":9}]
[10.102487562189074,{"$f":"9","v":9}]
[10.113432835820914,{"$f":"9","v":9}]
[10.124378109452755,{"$f":"9","v":9}]
[10.135323383084595,{"$f":"9","v":9}]
[10.146268656716435,{"$f":"9","v":9}]
[10.157213930348275,{"$f":"9","v":9}]
[10.168159203980116,{"$f":"9","v":9}]
[10.179104477611956,{"$f":"9","v":9}]
[10.190049751243796,{"$f":"9","v":9}]
[10.200995024875636,{"$f":"9","v":9}]
[10.211940298507477,{"$f":"9","v":9}]
[10.222885572139317,{"$f":"9","v":9}]
[10.233830845771157,{"$f":"9","v":9}]
[10.244776119402998,{"$f":"9","v":9}]
[10.255721393034838,{"$f":"9","v":9}]
[10.266666666666678,{"$f":"9","v":9}]
[10.277611940298518,{"$f":"9","v":9}]
[10.288557213930359,{"$f":"9","v":9}]
[10.299502487562199,{"$f":"9","v":9}]
[10.31044776119404,{"$f":"9","v":9}]
[10.32139303482588,{"$f":"9","v":9}]
[10.33233830845772,{"$f":"9","v":9}]
[10.34328358208956,{"$f":"9","v":9}]
[10.3542288557214,{"$f":"9","v":9}]
[10.36517412935324,{"$f":"9","v":9}]
[10.376119402985081,{"$f":"9","v":9}]
[10.387064676616921,{"$f":"9","v":9}]
[10.398009950248762,{"$f":"9","v":9}]
[10.408955223880602,{"$f":"9","v":9}]
[10.419900497512442,{"$f":"9","v":9}]
[10.430845771144282,{"$f":"9","v":9}]
[10.441791044776123,{"$f":"9","v":9}]
[10.452736318407963,{"$f":"9","v":9}]
[10.463681592039803,{"$f":"9","v":9}]
[10.474626865671643,{"$f":"9","v":9}]
[10.485572139303484,{"$f":"9","v":9}]
[10.496517412935324,{"$f":"9","v":9}]
[10.507462686567164,{"$f":"9","v":9}]
[{"$f":"A961+dx","v":10.518407960199005},{"$f":"9","v":9}]
[10.529353233830845,{"$f":"9","v":9}]
[10.540298507462685,{"$f":"9","v":9}]
[10.551243781094525,{"$f":"9","v":9}]
[10.562189054726366,{"$f":"9","v":9}]
[10.573134328358206,{"$f":"9","v":9}]
[10.584079601990046,{"$f":"9","v":9}]
[10.595024875621887,{"$f":"9","v":9}]
[10.605970149253727,{"$f":"9","v":9}]
[10.616915422885567,{"$f":"9","v":9}]
[10.627860696517407,{"$f":"9","v":9}]
[10.638805970149248,{"$f":"9","v":9}]
[10.649751243781088,{"$f":"9","v":9}]
[10.660696517412928,{"$f":"9","v":9}]
[10.671641791044769,{"$f":"9","v":9}]
[10.682587064676609,{"$f":"9","v":9}]
[10.693532338308449,{"$f":"9","v":9}]
[10.70447761194029,{"$f":"9","v":9}]
[10.71542288557213,{"$f":"9","v":9}]
[10.72636815920397,{"$f":"9","v":9}]
[10.73731343283581,{"$f":"9","v":9}]
[10.74825870646765,{"$f":"9","v":9}]
[10.75920398009949,{"$f":"9","v":9}]
[10.770149253731331,{"$f":"9","v":9}]
[10.781094527363171,{"$f":"9","v":9}]
[10.792039800995012,{"$f":"9","v":9}]
[10.802985074626852,{"$f":"9","v":9}]
[10.813930348258692,{"$f":"9","v":9}]
[10.824875621890532,{"$f":"9","v":9}]
[10.835820895522373,{"$f":"9","v":9}]
[10.846766169154213,{"$f":"9","v":9}]
[10.857711442786053,{"$f":"9","v":9}]
[10.868656716417894,{"$f":"9","v":9}]
[10.879601990049734,{"$f":"9","v":9}]
[10.890547263681574,{"$f":"9","v":9}]
[10.901492537313414,{"$f":"9","v":9}]
[10.912437810945255,{"$f":"9","v":9}]
[10.923383084577095,{"$f":"9","v":9}]
[10.934328358208935,{"$f":"9","v":9}]
[10.945273631840776,{"$f":"9","v":9}]
[10.956218905472616,{"$f":"9","v":9}]
[null,{"$f":"9","v":9}]

{"sheet":"Defining Function","index":3,"n_rows":12,"n_cols":1,"rows_kept":12}
["                                                     Defining a Function in Excel"]
[]
["Computers have very specific rules you must follow when defining a function.  If you don't, the program will either not work at all or will work incorrectly."]
[]
["1. The Variable used should be the one named in the instruction, usually x, though sometimes y, t, Q (for an angle theta), "]
[" or even x and y (for a function of two variables). "]
[]
["2.  Order of Operations:  There five arithmetic operations, addition (+), subtraction (-), multiplication (*), division (/), and  exponentiation or power (^).  When computers see any of these operation symbols, they perform the indicated steps in a very particular order.  First, the power is done.  Second, products and quotients of adjacent terms is done.  Third, and last, sums and differences of adjacent terms are done.  So, in 10*x^3 + 5*x – 7, say with x = 2, the first pass only calculates 2^3 and ignores the multiplications and the sums and differences to calculate 2^3 = 8.  The second pass looks at 10*8 + 5*2 – 7 and only does the multiplications, so it produces 80 + 10 -  7.  The third pass looks at the +’s and –‘s to produce 80 + 10 – 7 = 83.  "]
[]
["3.    Parentheses  If you need an operation involving more than two adjacent terms, as in Ö4^3 + 6^2, the computer would take the square root of  4 to produce 2^3 + 6^2;  it would then cube the 2 and square the 6 to produce 8 + 36; and finally it would add the 8 and the 36 to get 44.  If you actually wanted the square root of the entire expression, you would need to use parentheses, as in Ö(4^3 + 6^2) to tell the computer to do all the operations inside the parentheses before taking the square root.  Therefore, it would calculate (4^3 + 6^2) = 64 + 36 = 100 and then take the square root of Ö100  =  10."]
[]
["4.  Built-In Functions  Computer programs have built-in functions for most common algebraic functions.  In Excel, the square root function is denoted by SQRT(…), so SQRT(100) = 10.  Alternatively, you could enter it as 100^.5 or 100^(1/2); notice that parentheses are needed to have the ½ done first.  The common trig functions are SIN (…), COS (…), and TAN (…), where the arguments are automatically interpreted as being in radians, not degrees.  The logarithm to the base 10 is represented by LOG (…) and the logarithm with the base e, known as the natural logarithm, is LN (…). The corresponding exponential function with base e is EXP (x).  If x is the variable, then each of these would be SQRT (x), SIN (x), COS (x), TAN (x), LOG (x) (for log with base 10 ), LN (x) (for log with base e ), and EXP (x)."]