{"text_format":"3","workbook":"xlsx","n_sheets":3,"sheets":["Deriv of Sine","Deriv of Cosine","Sheet3"],"not_rendered":{"charts":4,"images":2,"defined_names":1,"comments":2},"read":"whole","date_system":"1900"}

{"sheet":"Deriv of Sine","index":0,"n_rows":36,"n_cols":9,"rows_kept":36,"merged":[[29,2,29,3]]}
[null,"Derivative of the Sine Function"]
[]
[null,"  This graphing utility lets you investigate "]
[null,"     the derivative of the sine function"]
[null,"  based on the slope of the tangent line"]
[null,"   at any point from x = 0  to x = 2p."]
[]
[]
[]
[null,"   Select the point of tangency x0 =",{"$nulls":3},{"$f":"E12","v":2.1352}]
[]
[{"$nulls":3},34,{"$f":"Sheet3!G1+D12*(Sheet3!G2-Sheet3!G1)/100","v":2.1352}]
[]
[]
[null,"The slope of the tangent line at x0 = ",{"$nulls":3},{"$f":"E12","v":2.1352}]
[null,"    =  the derivative f '( x0) of the function = ",{"$nulls":4},{"$f":"LOOKUP(E12,Sheet3!A3:A1003,Sheet3!C3:C1003)","v":-0.5347408496923944},null,{"$f":"LOOKUP(F15,Sheet3!A3:A631,Sheet3!C3:C631)","v":-0.5347408496923944}]
[]
[]
[]
[]
[]
["Click each item below for suggestions and investigations"]
[null,null,"   Item 1"]
[null,null,"   Item 2"]
[null,null,"   Item 3"]
[]
[]
[]
["To access/download all the DIGMath Apps for Calculus"]
["     Click this link:",null,"DIGMath for Calculus"]
[]
["Created by:  Sheldon P. Gordon   "]
["                      Farmingdale State College    "]
["Development of this module was supported by the "]
["NSF's Division of Undergraduate Education  "]
["under grants DUE-0310123 and DUE-0442160."]

{"sheet":"Deriv of Cosine","index":1,"n_rows":36,"n_cols":7,"rows_kept":36,"merged":[[29,2,29,3]]}
["     Derivative of the Cosine Function"]
[]
[null,"This graphing utility lets you investigate "]
[null,"    the derivative of the cosine function"]
[null,"  based on the slope of the tangent line"]
[null,"   at any point from x = 0  to x = 2p."]
[]
[]
[]
[null,"   Select the point of tangency x0 =",{"$nulls":3},{"$f":"E12","v":2.7632}]
[]
[{"$nulls":3},44,{"$f":"Sheet3!G1+D12*(Sheet3!G2-Sheet3!G1)/100","v":2.7632}]
[]
[]
[null,"The slope of the tangent line at x0 = ",{"$nulls":3},{"$f":"E12","v":2.7632}]
[null,"    =  the derivative f '( x0) of the function = ",{"$nulls":4},{"$f":"-LOOKUP(E12,Sheet3!A3:A631,Sheet3!B3:B631)","v":-0.3723990394250693}]
[]
[]
[]
[]
[]
["Click each item below for suggestions and investigations"]
[null,null,"   Item 1"]
[null,null,"   Item 2"]
[null,null,"   Item 3"]
[]
[]
[]
["To access/download all the DIGMath Apps for Calculus"]
["     Click this link:",null,"DIGMath for Calculus"]
[]
["Created by:  Sheldon P. Gordon   "]
["                      Farmingdale State College    "]
["Development of this module was supported by the "]
["NSF's Division of Undergraduate Education  "]
["under grants DUE-0310123 and DUE-0442160."]

{"sheet":"Sheet3","index":2,"n_rows":632,"n_cols":11,"rows_kept":632}
["x","sine","slope","cosine","slope","xMin =",0,"xl=",{"$f":"IF('Deriv of Sine'!$E$12<Sheet3!G1+80*Sheet3!I5,Sheet3!G1,'Deriv of Sine'!E12-80*Sheet3!I5)","v":1.3352000000000002},{"$f":"LOOKUP('Deriv of Sine'!E12,Sheet3!A3:A631,Sheet3!B3:B631)+LOOKUP('Deriv of Sine'!E12,Sheet3!A3:A631,Sheet3!C3:C631)*(I1-'Deriv of Sine'!E12)","v":1.275470519887486},"\"=yl"]
[{"$nulls":5},"xMax =",6.28,"xr=",{"$f":"IF('Deriv of Sine'!$E$12>Sheet3!G2-80*Sheet3!I5,Sheet3!G2,'Deriv of Sine'!E12+80*Sheet3!I5)","v":2.9352},{"$f":"LOOKUP('Deriv of Sine'!E12,Sheet3!A3:A631,Sheet3!B3:B631)+LOOKUP('Deriv of Sine'!E12,Sheet3!A3:A631,Sheet3!C3:C631)*(I2-'Deriv of Sine'!E12)","v":0.41988516037965506},"\"=yR"]
[{"v":0,"d":"0.00"},{"$f":"SIN(A3)","v":0},{"$f":"(B4-B3)/Sheet3!$I$5","v":0.9999833334166665},{"$f":"COS(A3)","v":1},{"$f":"(D4-D3)/Sheet3!$I$5","v":-0.004999958333473664},null,null,"x0=",{"$f":"'Deriv of Sine'!F15","v":2.1352},"y0=",{"$f":"'Deriv of Sine'!I16","v":-0.5347408496923944}]
[{"$f":"A3+Sheet3!I$5","v":0.01},{"$f":"SIN(A4)","v":0.009999833334166664},{"$f":"(B5-B4)/Sheet3!$I$5","v":0.9998833359166416},{"$f":"COS(A4)","v":0.9999500004166653},{"$f":"(D5-D4)/Sheet3!$I$5","v":-0.014999375008750704}]
[{"$f":"A4+Sheet3!I$5","v":0.02},0.01999866669333308,{"$f":"(B6-B5)/Sheet3!$I$5","v":0.999683350916258},0.9998000066665778,{"$f":"(D6-D5)/Sheet3!$I$5","v":-0.024997291759021323},null,null,"delta x = ",0.01]
[{"$f":"A5+Sheet3!I$5","v":0.03},0.02999550020249566,{"$f":"(B7-B6)/Sheet3!$I$5","v":0.99938339841385},0.9995500337489875,{"$f":"(D7-D6)/Sheet3!$I$5","v":-0.034992708800962724}]
[{"$f":"A6+Sheet3!I$5","v":0.04},0.03998933418663416,{"$f":"(B8-B7)/Sheet3!$I$5","v":0.998983508404417},0.9992001066609779,{"$f":"(D8-D7)/Sheet3!$I$5","v":-0.04498462660116331}]
[{"$f":"A7+Sheet3!I$5","v":0.05},0.04997916927067833,{"$f":"(B9-B8)/Sheet3!$I$5","v":0.9984837208766272},0.9987502603949663,{"$f":"(D9-D8)/Sheet3!$I$5","v":-0.054972045976209305},null,"Derivative of Cosine:"]
[{"$f":"A8+Sheet3!I$5","v":{"v":0.060000000000000005,"d":"0.06"}},0.0599640064794446,{"$f":"(B10-B9)/Sheet3!$I$5","v":0.9978840858088166},0.9982005399352042,{"$f":"(D10-D9)/Sheet3!$I$5","v":-0.06495396819246047},null,null,"xl=",{"$f":"IF('Deriv of Cosine'!$E$12<Sheet3!G1+80*Sheet3!I5,Sheet3!G1,'Deriv of Cosine'!E12-80*Sheet3!I5)","v":1.9631999999999998},{"$f":"LOOKUP('Deriv of Cosine'!E12,Sheet3!A3:A631,Sheet3!D3:D631)+LOOKUP('Deriv of Cosine'!E12,Sheet3!A3:A631,Sheet3!E3:E631)*(I9-'Deriv of Cosine'!E12)","v":-0.6338707038701612},"\"=yl"]
[{"$f":"A9+Sheet3!I$5","v":0.07},0.06994284733753277,{"$f":"(B11-B10)/Sheet3!$I$5","v":0.9971846631639927},0.9975510002532796,{"$f":"(D11-D10)/Sheet3!$I$5","v":-0.07492939506601459},null,null,"xr=",{"$f":"IF('Deriv of Cosine'!$E$12>Sheet3!G2-80*Sheet3!I5,Sheet3!G2,'Deriv of Cosine'!E12+80*Sheet3!I5)","v":3.5632},{"$f":"LOOKUP('Deriv of Cosine'!E12,Sheet3!A3:A631,Sheet3!D3:D631)-LOOKUP('Deriv of Cosine'!E12,Sheet3!A3:A631,Sheet3!B3:B631)*(I10-'Deriv of Cosine'!E12)","v":-1.2259919417493828},"\"=yR"]
[{"$f":"A10+Sheet3!I$5","v":0.08},0.0799146939691727,{"$f":"(B12-B11)/Sheet3!$I$5","v":0.9963855228838344},0.9968017063026194,{"$f":"(D12-D11)/Sheet3!$I$5","v":-0.08489732906251657},null,null,"x0=",{"$f":"'Deriv of Cosine'!$F$15","v":2.7632},"y0=",{"$f":"'Deriv of Cosine'!$G$16","v":-0.3723990394250693}]
[{"$f":"A11+Sheet3!I$5","v":0.09},0.08987854919801104,{"$f":"(B13-B12)/Sheet3!$I$5","v":0.9954867448817101},0.9959527330119943,{"$f":"(D13-D12)/Sheet3!$I$5","v":-0.09485677339684528}]
[{"$f":"A12+Sheet3!I$5","v":{"v":0.09999999999999999,"d":"0.10"}},0.09983341664682814,{"$f":"(B14-B13)/Sheet3!$I$5","v":0.9944884190346656},0.9950041652780258,{"$f":"(D14-D13)/Sheet3!$I$5","v":-0.10480673213290048}]
[{"$f":"A13+Sheet3!I$5","v":{"v":0.10999999999999999,"d":"0.11"}},0.1097783008371748,{"$f":"(B15-B14)/Sheet3!$I$5","v":0.9933906451744551},0.9939560979566968,{"$f":"(D15-D14)/Sheet3!$I$5","v":-0.11474621028305654}]
[{"$f":"A14+Sheet3!I$5","v":{"v":0.11999999999999998,"d":"0.12"}},0.11971220728891935,{"$f":"(B16-B15)/Sheet3!$I$5","v":0.9921935330775483},0.9928086358538663,{"$f":"(D16-D15)/Sheet3!$I$5","v":-0.12467421390781608}]
[{"$f":"A15+Sheet3!I$5","v":{"v":0.12999999999999998,"d":"0.13"}},0.12963414261969483,{"$f":"(B17-B16)/Sheet3!$I$5","v":0.9908972024541635},0.9915618937147881,{"$f":"(D17-D16)/Sheet3!$I$5","v":-0.13458975021508612}]
[{"$f":"A16+Sheet3!I$5","v":{"v":0.13999999999999999,"d":"0.14"}},0.13954311464423647,{"$f":"(B18-B17)/Sheet3!$I$5","v":0.9895017829362751},0.9902159962126372,{"$f":"(D18-D17)/Sheet3!$I$5","v":-0.14449182765949864}]
[{"$f":"A17+Sheet3!I$5","v":0.15},0.14943813247359922,{"$f":"(B19-B18)/Sheet3!$I$5","v":0.9880074140646761},0.9887710779360422,{"$f":"(D19-D18)/Sheet3!$I$5","v":-0.15437945604153125}]
[{"$f":"A18+Sheet3!I$5","v":0.16},0.15931820661424598,{"$f":"(B20-B19)/Sheet3!$I$5","v":0.9864142452750052},0.9872272833756269,{"$f":"(D20-D19)/Sheet3!$I$5","v":-0.16425164660661684}]
[{"$f":"A19+Sheet3!I$5","v":0.17},0.16918234906699603,{"$f":"(B21-B20)/Sheet3!$I$5","v":0.9847224358828177},0.9855847669095608,{"$f":"(D21-D20)/Sheet3!$I$5","v":-0.17410741214393122}]
[{"$f":"A20+Sheet3!I$5","v":{"v":0.18000000000000002,"d":"0.18"}},0.1790295734258242,{"$f":"(B22-B21)/Sheet3!$I$5","v":0.9829321550676395},0.9838436927881214,{"$f":"(D22-D21)/Sheet3!$I$5","v":-0.18394576708511412}]
[{"$f":"A21+Sheet3!I$5","v":{"v":0.19000000000000003,"d":"0.19"}},0.1888588949765006,{"$f":"(B23-B22)/Sheet3!$I$5","v":0.9810435818560642},0.9820042351172703,{"$f":"(D23-D22)/Sheet3!$I$5","v":-0.19376572760286814}]
[{"$f":"A22+Sheet3!I$5","v":{"v":0.20000000000000004,"d":"0.20"}},0.19866933079506124,{"$f":"(B24-B23)/Sheet3!$I$5","v":0.9790569051038367},0.9800665778412416,{"$f":"(D24-D23)/Sheet3!$I$5","v":-0.2035663117093356}]
[{"$f":"A23+Sheet3!I$5","v":{"v":0.21000000000000005,"d":"0.21"}},0.2084598998460996,{"$f":"(B25-B24)/Sheet3!$I$5","v":0.9769723234769767},0.9780309147241483,{"$f":"(D25-D24)/Sheet3!$I$5","v":-0.2133465393542755}]
[{"$f":"A24+Sheet3!I$5","v":{"v":0.22000000000000006,"d":"0.22"}},0.21822962308086938,{"$f":"(B26-B25)/Sheet3!$I$5","v":0.9747900454319086},0.9758974493306055,{"$f":"(D26-D25)/Sheet3!$I$5","v":-0.22310543252307413}]
[{"$f":"A25+Sheet3!I$5","v":{"v":0.23000000000000007,"d":"0.23"}},0.22797752353518846,{"$f":"(B27-B26)/Sheet3!$I$5","v":0.9725102891946197},0.9736663950053748,{"$f":"(D27-D26)/Sheet3!$I$5","v":-0.2328420153345223}]
[{"$f":"A26+Sheet3!I$5","v":{"v":0.24000000000000007,"d":"0.24"}},0.23770262642713466,{"$f":"(B28-B27)/Sheet3!$I$5","v":0.9701332827388331},0.9713379748520296,{"$f":"(D28-D27)/Sheet3!$I$5","v":-0.24255531413848175}]
[{"$f":"A27+Sheet3!I$5","v":{"v":0.25000000000000006,"d":"0.25"}},0.247403959254523,{"$f":"(B29-B28)/Sheet3!$I$5","v":0.9676592637632181},0.9689124217106447,{"$f":"(D29-D28)/Sheet3!$I$5","v":-0.25224435761315167}]
[{"$f":"A28+Sheet3!I$5","v":{"v":0.26000000000000006,"d":"0.26"}},0.2570805518921552,{"$f":"(B30-B29)/Sheet3!$I$5","v":0.9650884796676029},0.9663899781345132,{"$f":"(D30-D29)/Sheet3!$I$5","v":-0.26190817686226886}]
[{"$f":"A29+Sheet3!I$5","v":{"v":0.2700000000000001,"d":"0.27"}},0.2667314366888312,{"$f":"(B31-B30)/Sheet3!$I$5","v":0.9624211875282618},0.9637708963658905,{"$f":"(D31-D30)/Sheet3!$I$5","v":-0.2715458055119635}]
[{"$f":"A30+Sheet3!I$5","v":{"v":0.2800000000000001,"d":"0.28"}},0.2763556485641138,{"$f":"(B32-B31)/Sheet3!$I$5","v":0.9596576540721824},0.9610554383107709,{"$f":"(D32-D31)/Sheet3!$I$5","v":-0.2811562798073708}]
[{"$f":"A31+Sheet3!I$5","v":{"v":0.2900000000000001,"d":"0.29"}},0.28595222510483564,{"$f":"(B33-B32)/Sheet3!$I$5","v":0.9567981556504013},0.9582438755126972,{"$f":"(D33-D32)/Sheet3!$I$5","v":-0.2907386387091204}]
[{"$f":"A32+Sheet3!I$5","v":{"v":0.3000000000000001,"d":"0.30"}},0.29552020666133966,{"$f":"(B34-B33)/Sheet3!$I$5","v":0.9538429782103952},0.955336489125606,{"$f":"(D34-D33)/Sheet3!$I$5","v":-0.30029192398925986}]
[{"$f":"A33+Sheet3!I$5","v":{"v":0.3100000000000001,"d":"0.31"}},0.3050586364434436,{"$f":"(B35-B34)/Sheet3!$I$5","v":0.9507924172674265},0.9523335698857134,{"$f":"(D35-D34)/Sheet3!$I$5","v":-0.3098151803272553}]
[{"$f":"A34+Sheet3!I$5","v":{"v":0.3200000000000001,"d":"0.32"}},0.3145665606161179,{"$f":"(B36-B35)/Sheet3!$I$5","v":0.9476467778750608},0.9492354180824408,{"$f":"(D36-D35)/Sheet3!$I$5","v":-0.3193074554053932}]
[{"$f":"A35+Sheet3!I$5","v":{"v":0.3300000000000001,"d":"0.33"}},0.3240430283948685,{"$f":"(B37-B36)/Sheet3!$I$5","v":0.944406374594603},0.9460423435283869,{"$f":"(D37-D36)/Sheet3!$I$5","v":-0.3287678000040706}]
[{"$f":"A36+Sheet3!I$5","v":{"v":0.34000000000000014,"d":"0.34"}},0.3334870921408145,{"$f":"(B38-B37)/Sheet3!$I$5","v":0.9410715314636997},0.9427546655283462,{"$f":"(D38-D37)/Sheet3!$I$5","v":-0.3381952680967304}]
[{"$f":"A37+Sheet3!I$5","v":{"v":0.35000000000000014,"d":"0.35"}},0.3428978074554515,{"$f":"(B39-B38)/Sheet3!$I$5","v":0.9376425819638601},0.9393727128473789,{"$f":"(D39-D38)/Sheet3!$I$5","v":-0.34758891694440797}]
[{"$f":"A38+Sheet3!I$5","v":{"v":0.36000000000000015,"d":"0.36"}},0.3522742332750901,{"$f":"(B40-B39)/Sheet3!$I$5","v":0.9341198689872043},0.9358968236779348,{"$f":"(D40-D39)/Sheet3!$I$5","v":-0.3569478071900445}]
[{"$f":"A39+Sheet3!I$5","v":{"v":0.37000000000000016,"d":"0.37"}},0.36161543196496215,{"$f":"(B41-B40)/Sheet3!$I$5","v":0.9305037448020692},0.9323273456060344,{"$f":"(D41-D40)/Sheet3!$I$5","v":-0.366271002952423}]
[{"$f":"A40+Sheet3!I$5","v":{"v":0.38000000000000017,"d":"0.38"}},0.37092046941298285,{"$f":"(B42-B41)/Sheet3!$I$5","v":0.9267945710178749},0.9286646355765101,{"$f":"(D42-D41)/Sheet3!$I$5","v":-0.3755575719197157}]
[{"$f":"A41+Sheet3!I$5","v":{"v":0.3900000000000002,"d":"0.39"}},0.3801884151231616,{"$f":"(B43-B42)/Sheet3!$I$5","v":0.9229927185489095},0.924909059857313,{"$f":"(D43-D42)/Sheet3!$I$5","v":-0.38480658544279844}]
[{"$f":"A42+Sheet3!I$5","v":{"v":0.4000000000000002,"d":"0.40"}},0.3894183423086507,{"$f":"(B44-B43)/Sheet3!$I$5","v":0.9190985675772367},0.921060994002885,{"$f":"(D44-D43)/Sheet3!$I$5","v":-0.3940171186279984}]
[{"$f":"A43+Sheet3!I$5","v":{"v":0.4100000000000002,"d":"0.41"}},0.39860932798442306,{"$f":"(B45-B44)/Sheet3!$I$5","v":0.9151125075147315},0.917120822816605,{"$f":"(D45-D44)/Sheet3!$I$5","v":-0.40318825042968687}]
[{"$f":"A44+Sheet3!I$5","v":{"v":0.4200000000000002,"d":"0.42"}},0.40776045305957037,{"$f":"(B46-B45)/Sheet3!$I$5","v":0.9110349369640613},0.9130889403123081,{"$f":"(D46-D45)/Sheet3!$I$5","v":-0.41231906374230576}]
[{"$f":"A45+Sheet3!I$5","v":{"v":0.4300000000000002,"d":"0.43"}},0.416870802429211,{"$f":"(B47-B46)/Sheet3!$I$5","v":0.9068662636788793},0.9089657496748851,{"$f":"(D47-D46)/Sheet3!$I$5","v":-0.4214086454921717}]
[{"$f":"A46+Sheet3!I$5","v":{"v":0.4400000000000002,"d":"0.44"}},0.4259394650659998,{"$f":"(B48-B47)/Sheet3!$I$5","v":0.9026069045230622},0.9047516632199634,{"$f":"(D48-D47)/Sheet3!$I$5","v":-0.43045608672865887}]
[{"$f":"A47+Sheet3!I$5","v":{"v":0.45000000000000023,"d":"0.45"}},0.4349655341112304,{"$f":"(B49-B48)/Sheet3!$I$5","v":0.8982572854289606},0.9004471023526768,{"$f":"(D49-D48)/Sheet3!$I$5","v":-0.43946048271515936}]
[{"$f":"A48+Sheet3!I$5","v":{"v":0.46000000000000024,"d":"0.46"}},0.44394810696552,{"$f":"(B50-B49)/Sheet3!$I$5","v":0.8938178413548492},0.8960524975255252,{"$f":"(D50-D49)/Sheet3!$I$5","v":-0.44842093301963315}]
[{"$f":"A49+Sheet3!I$5","v":{"v":0.47000000000000025,"d":"0.47"}},0.4528862853790685,{"$f":"(B51-B50)/Sheet3!$I$5","v":0.8892890162414624},0.8915682881953289,{"$f":"(D51-D50)/Sheet3!$I$5","v":-0.45733654160448056}]
[{"$f":"A50+Sheet3!I$5","v":{"v":0.48000000000000026,"d":"0.48"}},0.4617791755414831,{"$f":"(B52-B51)/Sheet3!$I$5","v":0.8846712629675124},0.886994922779284,{"$f":"(D52-D51)/Sheet3!$I$5","v":-0.4662064169162705}]
[{"$f":"A51+Sheet3!I$5","v":{"v":0.49000000000000027,"d":"0.49"}},0.47062588817115825,{"$f":"(B53-B52)/Sheet3!$I$5","v":0.8799650433044925},0.8823328586101213,{"$f":"(D53-D52)/Sheet3!$I$5","v":-0.4750296719748692}]
[{"$f":"A52+Sheet3!I$5","v":{"v":0.5000000000000002,"d":"0.50"}},0.47942553860420317,{"$f":"(B54-B53)/Sheet3!$I$5","v":0.8751708278704529},0.8775825618903726,{"$f":"(D54-D53)/Sheet3!$I$5","v":-0.483805424462147}]
[{"$f":"A53+Sheet3!I$5","v":{"v":0.5100000000000002,"d":"0.51"}},0.4881772468829077,{"$f":"(B55-B54)/Sheet3!$I$5","v":0.8702890960829213},0.8727445076457512,{"$f":"(D55-D54)/Sheet3!$I$5","v":-0.49253279681014117}]
[{"$f":"A54+Sheet3!I$5","v":{"v":0.5200000000000002,"d":"0.52"}},0.4968801378437369,{"$f":"(B56-B55)/Sheet3!$I$5","v":0.8653203361110251},0.8678191796776498,{"$f":"(D56-D55)/Sheet3!$I$5","v":-0.5012109162888856}]
[{"$f":"A55+Sheet3!I$5","v":{"v":0.5300000000000002,"d":"0.53"}},0.5055333412048472,{"$f":"(B57-B56)/Sheet3!$I$5","v":0.8602650448266136},0.8628070705147609,{"$f":"(D57-D56)/Sheet3!$I$5","v":-0.5098389150936855}]
[{"$f":"A56+Sheet3!I$5","v":{"v":0.5400000000000003,"d":"0.54"}},0.5141359916531133,{"$f":"(B58-B57)/Sheet3!$I$5","v":0.8551237277546142},0.857708681363824,{"$f":"(D58-D57)/Sheet3!$I$5","v":-0.5184159304318481}]
[{"$f":"A57+Sheet3!I$5","v":{"v":0.5500000000000003,"d":"0.55"}},0.5226872289306594,{"$f":"(B59-B58)/Sheet3!$I$5","v":0.8498968990224176},0.8525245220595056,{"$f":"(D59-D58)/Sheet3!$I$5","v":-0.5269411046089578}]
[{"$f":"A58+Sheet3!I$5","v":{"v":0.5600000000000003,"d":"0.56"}},0.5311861979208836,{"$f":"(B60-B59)/Sheet3!$I$5","v":0.8445850813085909},0.847255111013416,{"$f":"(D60-D59)/Sheet3!$I$5","v":-0.5354135851147412}]
[{"$f":"A59+Sheet3!I$5","v":{"v":0.5700000000000003,"d":"0.57"}},0.5396320487339695,{"$f":"(B61-B60)/Sheet3!$I$5","v":0.8391888057904251},0.8419009751622686,{"$f":"(D61-D60)/Sheet3!$I$5","v":-0.5438325247081766}]
[{"$f":"A60+Sheet3!I$5","v":{"v":0.5800000000000003,"d":"0.58"}},0.5480239367918738,{"$f":"(B62-B61)/Sheet3!$I$5","v":0.833708612091022},0.8364626499151868,{"$f":"(D62-D61)/Sheet3!$I$5","v":-0.552197081502348}]
[{"$f":"A61+Sheet3!I$5","v":{"v":0.5900000000000003,"d":"0.59"}},0.556361022912784,{"$f":"(B63-B62)/Sheet3!$I$5","v":0.8281450482251596},0.8309406791001633,{"$f":"(D63-D62)/Sheet3!$I$5","v":-0.5605064190485232}]
[{"$f":"A62+Sheet3!I$5","v":{"v":0.6000000000000003,"d":"0.60"}},0.5646424733950356,{"$f":"(B64-B63)/Sheet3!$I$5","v":0.8224986705445914},0.8253356149096781,{"$f":"(D64-D63)/Sheet3!$I$5","v":-0.5687597064198746}]
[{"$f":"A63+Sheet3!I$5","v":{"v":0.6100000000000003,"d":"0.61"}},0.5728674601004815,{"$f":"(B65-B64)/Sheet3!$I$5","v":0.8167700436823799},0.8196480178454794,{"$f":"(D65-D64)/Sheet3!$I$5","v":-0.5769561182945582}]
[{"$f":"A64+Sheet3!I$5","v":{"v":0.6200000000000003,"d":"0.62"}},0.5810351605373053,{"$f":"(B66-B65)/Sheet3!$I$5","v":0.810959740496453},0.8138784566625338,{"$f":"(D66-D65)/Sheet3!$I$5","v":-0.5850948350382135}]
[{"$f":"A65+Sheet3!I$5","v":{"v":0.6300000000000003,"d":"0.63"}},0.5891447579422698,{"$f":"(B67-B66)/Sheet3!$I$5","v":0.8050683420122495},0.8080275083121516,{"$f":"(D67-D66)/Sheet3!$I$5","v":-0.5931750427859206}]
[{"$f":"A66+Sheet3!I$5","v":{"v":0.6400000000000003,"d":"0.64"}},0.5971954413623923,{"$f":"(B68-B67)/Sheet3!$I$5","v":0.7990964373647547},0.8020957578842924,{"$f":"(D68-D67)/Sheet3!$I$5","v":-0.6011959335236794}]
[{"$f":"A67+Sheet3!I$5","v":{"v":0.6500000000000004,"d":"0.65"}},{"$f":"SIN(A68)","v":0.6051864057360399},{"$f":"(B69-B68)/Sheet3!$I$5","v":0.7930446237394251},{"$f":"COS(A68)","v":0.7960837985490556},{"$f":"(D69-D68)/Sheet3!$I$5","v":-0.6091567051690783}]
[{"$f":"A68+Sheet3!I$5","v":{"v":0.6600000000000004,"d":"0.66"}},0.6131168519734341,{"$f":"(B70-B69)/Sheet3!$I$5","v":0.786913506312581},0.7899922314973649,{"$f":"(D70-D69)/Sheet3!$I$5","v":-0.6170565616515855}]
[{"$f":"A69+Sheet3!I$5","v":{"v":0.6700000000000004,"d":"0.67"}},0.6209859870365599,{"$f":"(B71-B70)/Sheet3!$I$5","v":0.7807036981908877},0.783821665880849,{"$f":"(D71-D70)/Sheet3!$I$5","v":-0.6248947129921301}]
[{"$f":"A70+Sheet3!I$5","v":{"v":0.6800000000000004,"d":"0.68"}},0.6287930240184688,{"$f":"(B72-B71)/Sheet3!$I$5","v":0.7744158203499385},0.7775727187509277,{"$f":"(D72-D71)/Sheet3!$I$5","v":-0.6326703753821383}]
[{"$f":"A71+Sheet3!I$5","v":{"v":0.6900000000000004,"d":"0.69"}},0.6365371822219682,{"$f":"(B73-B72)/Sheet3!$I$5","v":0.7680505015723149},0.7712460149971063,{"$f":"(D73-D72)/Sheet3!$I$5","v":-0.640382771261816}]
[{"$f":"A72+Sheet3!I$5","v":{"v":0.7000000000000004,"d":"0.70"}},0.6442176872376913,{"$f":"(B74-B73)/Sheet3!$I$5","v":0.7616083783845595},0.7648421872844882,{"$f":"(D74-D73)/Sheet3!$I$5","v":-0.6480311293980301}]
[{"$f":"A73+Sheet3!I$5","v":{"v":0.7100000000000004,"d":"0.71"}},0.651833771021537,{"$f":"(B75-B74)/Sheet3!$I$5","v":0.755090094993649},0.7583618759905079,{"$f":"(D75-D74)/Sheet3!$I$5","v":-0.6556146849613143}]
[{"$f":"A74+Sheet3!I$5","v":{"v":0.7200000000000004,"d":"0.72"}},0.6593846719714734,{"$f":"(B76-B75)/Sheet3!$I$5","v":0.748496303222479},0.7518057291408947,{"$f":"(D76-D75)/Sheet3!$I$5","v":-0.6631326796024628}]
[{"$f":"A75+Sheet3!I$5","v":{"v":0.7300000000000004,"d":"0.73"}},0.6668696350036982,{"$f":"(B77-B76)/Sheet3!$I$5","v":0.7418276624447162},0.7451744023448701,{"$f":"(D77-D76)/Sheet3!$I$5","v":-0.6705843615282481}]
[{"$f":"A76+Sheet3!I$5","v":{"v":0.7400000000000004,"d":"0.74"}},0.6742879116281454,{"$f":"(B78-B77)/Sheet3!$I$5","v":0.7350848395189069},0.7384685587295876,{"$f":"(D78-D77)/Sheet3!$I$5","v":-0.6779689855767046}]
[{"$f":"A77+Sheet3!I$5","v":{"v":0.7500000000000004,"d":"0.75"}},0.6816387600233345,{"$f":"(B79-B78)/Sheet3!$I$5","v":0.7282685087217189},0.7316888688738206,{"$f":"(D79-D78)/Sheet3!$I$5","v":-0.6852858132915696}]
[{"$f":"A78+Sheet3!I$5","v":{"v":0.7600000000000005,"d":"0.76"}},0.6889214451105516,{"$f":"(B80-B79)/Sheet3!$I$5","v":0.72137935168054},0.7248360107409049,{"$f":"(D80-D79)/Sheet3!$I$5","v":-0.6925341129961793}]
[{"$f":"A79+Sheet3!I$5","v":{"v":0.7700000000000005,"d":"0.77"}},0.696135238627357,{"$f":"(B81-B80)/Sheet3!$I$5","v":0.7144180573053438},0.7179106696109431,{"$f":"(D81-D80)/Sheet3!$I$5","v":-0.6997131598665995}]
[{"$f":"A80+Sheet3!I$5","v":{"v":0.7800000000000005,"d":"0.78"}},0.7032794192004105,{"$f":"(B82-B81)/Sheet3!$I$5","v":0.7073853217197668},0.7109135380122771,{"$f":"(D82-D81)/Sheet3!$I$5","v":-0.7068222360041343}]
[{"$f":"A81+Sheet3!I$5","v":{"v":0.7900000000000005,"d":"0.79"}},0.7103532724176082,{"$f":"(B83-B82)/Sheet3!$I$5","v":0.7002818481914974},0.7038453156522357,{"$f":"(D83-D82)/Sheet3!$I$5","v":-0.7138606305070683}]
[{"$f":"A82+Sheet3!I$5","v":{"v":0.8000000000000005,"d":"0.80"}},0.7173560908995231,{"$f":"(B84-B83)/Sheet3!$I$5","v":0.693108347061977},0.696706709347165,{"$f":"(D84-D83)/Sheet3!$I$5","v":-0.7208276395418434}]
[{"$f":"A83+Sheet3!I$5","v":{"v":0.8100000000000005,"d":"0.81"}},0.7242871743701429,{"$f":"(B85-B84)/Sheet3!$I$5","v":0.685865535675334},0.6894984329517466,{"$f":"(D85-D84)/Sheet3!$I$5","v":-0.7277225664133469}]
[{"$f":"A84+Sheet3!I$5","v":{"v":0.8200000000000005,"d":"0.82"}},0.7311458297268962,{"$f":"(B86-B85)/Sheet3!$I$5","v":0.6785541383066862},0.6822212072876132,{"$f":"(D86-D85)/Sheet3!$I$5","v":-0.7345447216346446}]
[{"$f":"A85+Sheet3!I$5","v":{"v":0.8300000000000005,"d":"0.83"}},0.7379313711099631,{"$f":"(B87-B86)/Sheet3!$I$5","v":0.6711748860896538},0.6748757600712667,{"$f":"(D87-D86)/Sheet3!$I$5","v":-0.7412934229958923}]
[{"$f":"A86+Sheet3!I$5","v":{"v":0.8400000000000005,"d":"0.84"}},0.7446431199708596,{"$f":"(B88-B87)/Sheet3!$I$5","v":0.6637285169433405},0.6674628258413078,{"$f":"(D88-D87)/Sheet3!$I$5","v":-0.7479679956326035}]
[{"$f":"A87+Sheet3!I$5","v":{"v":0.8500000000000005,"d":"0.85"}},0.751280405140293,{"$f":"(B89-B88)/Sheet3!$I$5","v":0.6562157754984255},0.6599831458849817,{"$f":"(D89-D88)/Sheet3!$I$5","v":-0.7545677720930288}]
[{"$f":"A88+Sheet3!I$5","v":{"v":0.8600000000000005,"d":"0.86"}},0.7578425628952773,{"$f":"(B90-B89)/Sheet3!$I$5","v":0.6486374130228123},0.6524374681640515,{"$f":"(D90-D89)/Sheet3!$I$5","v":-0.761092092405069}]
[{"$f":"A89+Sheet3!I$5","v":{"v":0.8700000000000006,"d":"0.87"}},0.7643289370255054,{"$f":"(B91-B90)/Sheet3!$I$5","v":0.640994187346422},0.6448265472400008,{"$f":"(D91-D90)/Sheet3!$I$5","v":-0.7675403041421003}]
[{"$f":"A90+Sheet3!I$5","v":{"v":0.8800000000000006,"d":"0.88"}},0.7707388788989696,{"$f":"(B92-B91)/Sheet3!$I$5","v":0.6332868627854538},0.6371511441985798,{"$f":"(D92-D91)/Sheet3!$I$5","v":-0.7739117624883329}]
[{"$f":"A91+Sheet3!I$5","v":{"v":0.8900000000000006,"d":"0.89"}},0.7770717475268242,{"$f":"(B93-B92)/Sheet3!$I$5","v":0.6255162100659573},0.6294120265736964,{"$f":"(D93-D92)/Sheet3!$I$5","v":-0.7802058303032378}]
[{"$f":"A92+Sheet3!I$5","v":{"v":0.9000000000000006,"d":"0.90"}},0.7833269096274837,{"$f":"(B94-B93)/Sheet3!$I$5","v":0.6176830062467054},0.6216099682706641,{"$f":"(D94-D93)/Sheet3!$I$5","v":-0.786421878185295}]
[{"$f":"A93+Sheet3!I$5","v":{"v":0.9100000000000006,"d":"0.91"}},0.7895037396899508,{"$f":"(B95-B94)/Sheet3!$I$5","v":0.6097880346415563},0.6137457494888111,{"$f":"(D95-D94)/Sheet3!$I$5","v":-0.7925592845348772}]
[{"$f":"A94+Sheet3!I$5","v":{"v":0.9200000000000006,"d":"0.92"}},0.7956016200363664,{"$f":"(B96-B95)/Sheet3!$I$5","v":0.6018320847411163},0.6058201566434623,{"$f":"(D96-D95)/Sheet3!$I$5","v":-0.7986174356164555}]
[{"$f":"A95+Sheet3!I$5","v":{"v":0.9300000000000006,"d":"0.93"}},0.8016199408837775,{"$f":"(B97-B96)/Sheet3!$I$5","v":0.5938159521337139},0.5978339822872978,{"$f":"(D97-D96)/Sheet3!$I$5","v":-0.8045957256200054}]
[{"$f":"A96+Sheet3!I$5","v":{"v":0.9400000000000006,"d":"0.94"}},0.8075581004051147,{"$f":"(B98-B97)/Sheet3!$I$5","v":0.5857404384259413},0.5897880250310977,{"$f":"(D98-D97)/Sheet3!$I$5","v":-0.8104935567214699}]
[{"$f":"A97+Sheet3!I$5","v":{"v":0.9500000000000006,"d":"0.95"}},0.8134155047893741,{"$f":"(B99-B98)/Sheet3!$I$5","v":0.5776063511624518},0.581683089463883,{"$f":"(D99-D98)/Sheet3!$I$5","v":-0.8163103391426896}]
[{"$f":"A98+Sheet3!I$5","v":{"v":0.9600000000000006,"d":"0.96"}},0.8191915683009986,{"$f":"(B100-B99)/Sheet3!$I$5","v":0.5694145037451803},0.5735199860724561,{"$f":"(D100-D99)/Sheet3!$I$5","v":-0.8220454912102326}]
[{"$f":"A99+Sheet3!I$5","v":{"v":0.9700000000000006,"d":"0.97"}},0.8248857133384504,{"$f":"(B101-B100)/Sheet3!$I$5","v":0.5611657153520411},0.5652995311603538,{"$f":"(D101-D100)/Sheet3!$I$5","v":-0.8276984394137044}]
[{"$f":"A100+Sheet3!I$5","v":{"v":0.9800000000000006,"d":"0.98"}},0.8304973704919708,{"$f":"(B102-B101)/Sheet3!$I$5","v":0.5528608108550048},0.5570225467662168,{"$f":"(D102-D101)/Sheet3!$I$5","v":-0.833268618462979}]
[{"$f":"A101+Sheet3!I$5","v":{"v":0.9900000000000007,"d":"0.99"}},0.8360259786005209,{"$f":"(B103-B102)/Sheet3!$I$5","v":0.544500620737598},0.548689860581587,{"$f":"(D103-D102)/Sheet3!$I$5","v":-0.8387554713447765}]
[{"$f":"A102+Sheet3!I$5","v":{"v":1.0000000000000007,"d":"1.00"}},0.8414709848078968,{"$f":"(B104-B103)/Sheet3!$I$5","v":0.536085981011869},0.5403023058681392,{"$f":"(D104-D103)/Sheet3!$I$5","v":-0.8441584493784293}]
[{"$f":"A103+Sheet3!I$5","v":{"v":1.0100000000000007,"d":"1.01"}},0.8468318446180155,{"$f":"(B105-B104)/Sheet3!$I$5","v":0.5276177331347776},0.5318607213743549,{"$f":"(D105-D104)/Sheet3!$I$5","v":-0.8494770122705941}]
[{"$f":"A104+Sheet3!I$5","v":{"v":1.0200000000000007,"d":"1.02"}},0.8521080219493633,{"$f":"(B106-B105)/Sheet3!$I$5","v":0.5190967239240396},0.523365951251649,{"$f":"(D106-D105)/Sheet3!$I$5","v":-0.8547106281694195}]
[{"$f":"A105+Sheet3!I$5","v":{"v":1.0300000000000007,"d":"1.03"}},0.8572989891886037,{"$f":"(B107-B106)/Sheet3!$I$5","v":0.5105238054735062},0.5148188449699548,{"$f":"(D107-D106)/Sheet3!$I$5","v":-0.8598587737177033}]
[{"$f":"A106+Sheet3!I$5","v":{"v":1.0400000000000007,"d":"1.04"}},0.8624042272433388,{"$f":"(B108-B107)/Sheet3!$I$5","v":0.5018998350678539},0.5062202572327777,{"$f":"(D108-D107)/Sheet3!$I$5","v":-0.86492093410514}]
[{"$f":"A107+Sheet3!I$5","v":{"v":1.0500000000000007,"d":"1.05"}},0.8674232255940173,{"$f":"(B109-B108)/Sheet3!$I$5","v":0.49322567509693105},0.49757104789172635,{"$f":"(D109-D108)/Sheet3!$I$5","v":-0.8698966031199407}]
[{"$f":"A108+Sheet3!I$5","v":{"v":1.0600000000000007,"d":"1.06"}},0.8723554823449866,{"$f":"(B110-B109)/Sheet3!$I$5","v":0.4845021929695381},0.48887208186052694,{"$f":"(D110-D109)/Sheet3!$I$5","v":-0.8747852831993475}]
[{"$f":"A109+Sheet3!I$5","v":{"v":1.0700000000000007,"d":"1.07"}},0.877200504274682,{"$f":"(B111-B110)/Sheet3!$I$5","v":0.47573026102658567},0.48012422902853347,{"$f":"(D111-D110)/Sheet3!$I$5","v":-0.8795864854794111}]
[{"$f":"A110+Sheet3!I$5","v":{"v":1.0800000000000007,"d":"1.08"}},0.8819578068849478,{"$f":"(B112-B111)/Sheet3!$I$5","v":0.4669107564539754},0.47132836417373936,{"$f":"(D112-D111)/Sheet3!$I$5","v":-0.8842997298439126}]
[{"$f":"A111+Sheet3!I$5","v":{"v":1.0900000000000007,"d":"1.09"}},0.8866269144494876,{"$f":"(B113-B112)/Sheet3!$I$5","v":0.45804456119480363},0.46248536687530023,{"$f":"(D113-D112)/Sheet3!$I$5","v":-0.8889245449723526}]
[{"$f":"A112+Sheet3!I$5","v":{"v":1.1000000000000008,"d":"1.10"}},0.8912073600614356,{"$f":"(B114-B113)/Sheet3!$I$5","v":0.44913256186123185},0.4535961214255767,{"$f":"(D114-D113)/Sheet3!$I$5","v":-0.8934604683870528}]
[{"$f":"A113+Sheet3!I$5","v":{"v":1.1100000000000008,"d":"1.11"}},0.895698685680048,{"$f":"(B115-B114)/Sheet3!$I$5","v":0.4401756496457354},0.4446615167417062,{"$f":"(D115-D114)/Sheet3!$I$5","v":-0.8979070464994687}]
[{"$f":"A114+Sheet3!I$5","v":{"v":1.1200000000000008,"d":"1.12"}},0.9001004421765053,{"$f":"(B116-B115)/Sheet3!$I$5","v":0.431174720232097},0.4356824462767115,{"$f":"(D116-D115)/Sheet3!$I$5","v":-0.9022638346554868}]
[{"$f":"A115+Sheet3!I$5","v":{"v":1.1300000000000008,"d":"1.13"}},0.9044121893788263,{"$f":"(B117-B116)/Sheet3!$I$5","v":0.422130673705734},0.4266598079301566,{"$f":"(D117-D116)/Sheet3!$I$5","v":-0.9065303971799221}]
[{"$f":"A116+Sheet3!I$5","v":{"v":1.1400000000000008,"d":"1.14"}},0.9086334961158836,{"$f":"(B118-B117)/Sheet3!$I$5","v":0.41304441446378126},0.4175945039583574,{"$f":"(D118-D117)/Sheet3!$I$5","v":-0.9107063074200838}]
[{"$f":"A117+Sheet3!I$5","v":{"v":1.1500000000000008,"d":"1.15"}},0.9127639402605214,{"$f":"(B119-B118)/Sheet3!$I$5","v":0.4039168511245861},0.40848744088415656,{"$f":"(D119-D118)/Sheet3!$I$5","v":-0.914791147788413}]
[{"$f":"A118+Sheet3!I$5","v":{"v":1.1600000000000008,"d":"1.16"}},0.9168031087717673,{"$f":"(B120-B119)/Sheet3!$I$5","v":0.3947488964368695},0.39933952940627243,{"$f":"(D120-D119)/Sheet3!$I$5","v":-0.918784509804299}]
[{"$f":"A119+Sheet3!I$5","v":{"v":1.1700000000000008,"d":"1.17"}},0.920750597736136,{"$f":"(B121-B120)/Sheet3!$I$5","v":0.38554146718846605},0.39015168430822944,{"$f":"(D121-D120)/Sheet3!$I$5","v":-0.922685994134842}]
[{"$f":"A120+Sheet3!I$5","v":{"v":1.1800000000000008,"d":"1.18"}},0.9246060124080206,{"$f":"(B122-B121)/Sheet3!$I$5","v":0.37629548411463043},0.380924824366881,{"$f":"(D122-D121)/Sheet3!$I$5","v":-0.9264952106348867}]
[{"$f":"A121+Sheet3!I$5","v":{"v":1.1900000000000008,"d":"1.19"}},0.928368967249167,{"$f":"(B123-B122)/Sheet3!$I$5","v":0.3670118718059667},0.37165987226053215,{"$f":"(D123-D122)/Sheet3!$I$5","v":-0.9302117783859365}]
[{"$f":"A122+Sheet3!I$5","v":{"v":1.2000000000000008,"d":"1.20"}},0.9320390859672266,{"$f":"(B124-B123)/Sheet3!$I$5","v":0.3576915586159579},0.3623577544766728,{"$f":"(D124-D123)/Sheet3!$I$5","v":-0.9338353257343224}]
[{"$f":"A123+Sheet3!I$5","v":{"v":1.2100000000000009,"d":"1.21"}},0.9356160015533862,{"$f":"(B125-B124)/Sheet3!$I$5","v":0.3483354765681623},0.35301940121932956,{"$f":"(D125-D124)/Sheet3!$I$5","v":-0.9373654903283346}]
[{"$f":"A124+Sheet3!I$5","v":{"v":1.2200000000000009,"d":"1.22"}},0.9390993563190678,{"$f":"(B126-B125)/Sheet3!$I$5","v":0.3389445612629993},0.3436457463160462,{"$f":"(D126-D125)/Sheet3!$I$5","v":-0.9408019191544437}]
[{"$f":"A125+Sheet3!I$5","v":{"v":1.2300000000000009,"d":"1.23"}},0.9424888019316978,{"$f":"(B127-B126)/Sheet3!$I$5","v":0.3295197517841464},0.3342377271245018,{"$f":"(D127-D126)/Sheet3!$I$5","v":-0.9441442685726387}]
[{"$f":"A126+Sheet3!I$5","v":{"v":1.2400000000000009,"d":"1.24"}},0.9457839994495393,{"$f":"(B128-B127)/Sheet3!$I$5","v":0.3200619906047253},0.3247962844387754,{"$f":"(D128-D127)/Sheet3!$I$5","v":-0.9473922043507554}]
[{"$f":"A127+Sheet3!I$5","v":{"v":1.2500000000000009,"d":"1.25"}},0.9489846193555865,{"$f":"(B129-B128)/Sheet3!$I$5","v":0.3105722234929553},0.31532236239526784,{"$f":"(D129-D128)/Sheet3!$I$5","v":-0.9505454016979387}]
[{"$f":"A128+Sheet3!I$5","v":{"v":1.260000000000001,"d":"1.26"}},0.9520903415905161,{"$f":"(B130-B129)/Sheet3!$I$5","v":0.30105139941764003},0.30581690837828845,{"$f":"(D130-D129)/Sheet3!$I$5","v":-0.9536035452970604}]
[{"$f":"A129+Sheet3!I$5","v":{"v":1.270000000000001,"d":"1.27"}},0.9551008555846925,{"$f":"(B131-B130)/Sheet3!$I$5","v":0.29150047045327643},0.29628087292531785,{"$f":"(D131-D130)/Sheet3!$I$5","v":-0.9565663293363225}]
[{"$f":"A130+Sheet3!I$5","v":{"v":1.280000000000001,"d":"1.28"}},0.9580158602892253,{"$f":"(B132-B131)/Sheet3!$I$5","v":0.28192039168476457},0.2867152096319546,{"$f":"(D132-D131)/Sheet3!$I$5","v":-0.9594334575397878}]
[{"$f":"A131+Sheet3!I$5","v":{"v":1.290000000000001,"d":"1.29"}},{"$f":"SIN(A132)","v":0.9608350642060729},{"$f":"(B133-B132)/Sheet3!$I$5","v":0.2723121211120283},{"$f":"COS(A132)","v":0.27712087505655675},{"$f":"(D133-D132)/Sheet3!$I$5","v":-0.9622046431970233}]
[{"$f":"A132+Sheet3!I$5","v":{"v":1.300000000000001,"d":"1.30"}},0.9635581854171932,{"$f":"(B134-B133)/Sheet3!$I$5","v":0.26267661955411414},0.2674988286245865,{"$f":"(D134-D133)/Sheet3!$I$5","v":-0.9648796091917766}]
[{"$f":"A133+Sheet3!I$5","v":{"v":1.310000000000001,"d":"1.31"}},0.9661849516127343,{"$f":"(B135-B134)/Sheet3!$I$5","v":0.2530148505531127},0.25785003253266875,{"$f":"(D135-D134)/Sheet3!$I$5","v":-0.9674580880296713}]
[{"$f":"A134+Sheet3!I$5","v":{"v":1.320000000000001,"d":"1.32"}},0.9687151001182654,{"$f":"(B136-B135)/Sheet3!$I$5","v":0.24332778027793545},0.24817545165237204,{"$f":"(D136-D135)/Sheet3!$I$5","v":-0.9699398218649763}]
[{"$f":"A135+Sheet3!I$5","v":{"v":1.330000000000001,"d":"1.33"}},0.9711483779210448,{"$f":"(B137-B136)/Sheet3!$I$5","v":0.23361637742748131},0.23847605343372227,{"$f":"(D137-D136)/Sheet3!$I$5","v":-0.9723245625263749}]
[{"$f":"A136+Sheet3!I$5","v":{"v":1.340000000000001,"d":"1.34"}},0.9734845416953196,{"$f":"(B138-B137)/Sheet3!$I$5","v":0.22388161313396937},0.22875280780845852,{"$f":"(D138-D137)/Sheet3!$I$5","v":-0.9746120715417889}]
[{"$f":"A137+Sheet3!I$5","v":{"v":1.350000000000001,"d":"1.35"}},0.9757233578266593,{"$f":"(B139-B138)/Sheet3!$I$5","v":0.21412446086570558},0.21900668709304064,{"$f":"(D139-D138)/Sheet3!$I$5","v":-0.9768021201622235}]
[{"$f":"A138+Sheet3!I$5","v":{"v":1.360000000000001,"d":"1.36"}},0.9778646024353164,{"$f":"(B140-B139)/Sheet3!$I$5","v":0.20434589632980504},0.2092386658914184,{"$f":"(D140-D139)/Sheet3!$I$5","v":-0.9788944893846407}]
[{"$f":"A139+Sheet3!I$5","v":{"v":1.370000000000001,"d":"1.37"}},0.9799080613986144,{"$f":"(B141-B140)/Sheet3!$I$5","v":0.1945468973745479},0.199449720997572,{"$f":"(D141-D140)/Sheet3!$I$5","v":-0.9808889699738615}]
[{"$f":"A140+Sheet3!I$5","v":{"v":1.380000000000001,"d":"1.38"}},0.9818535303723599,{"$f":"(B142-B141)/Sheet3!$I$5","v":0.18472844389167964},0.18964083129783338,{"$f":"(D142-D141)/Sheet3!$I$5","v":-0.9827853624834904}]
[{"$f":"A141+Sheet3!I$5","v":{"v":1.390000000000001,"d":"1.39"}},0.9837008148112767,{"$f":"(B143-B142)/Sheet3!$I$5","v":0.17489151771836742},0.17981297767299848,{"$f":"(D143-D142)/Sheet3!$I$5","v":-0.9845834772758549}]
[{"$f":"A142+Sheet3!I$5","v":{"v":1.400000000000001,"d":"1.40"}},0.9854497299884604,{"$f":"(B144-B143)/Sheet3!$I$5","v":0.16503710253901183},0.16996714290023993,{"$f":"(D144-D143)/Sheet3!$I$5","v":-0.9862831345409745}]
[{"$f":"A143+Sheet3!I$5","v":{"v":1.410000000000001,"d":"1.41"}},0.9871001010138505,{"$f":"(B145-B144)/Sheet3!$I$5","v":0.1551661837869478},0.16010431155483018,{"$f":"(D145-D144)/Sheet3!$I$5","v":-0.9878841643145425}]
[{"$f":"A144+Sheet3!I$5","v":{"v":1.420000000000001,"d":"1.42"}},0.98865176285172,{"$f":"(B146-B145)/Sheet3!$I$5","v":0.14527974854580128},0.15022546991168476,{"$f":"(D146-D145)/Sheet3!$I$5","v":-0.9893864064949132}]
[{"$f":"A145+Sheet3!I$5","v":{"v":1.430000000000001,"d":"1.43"}},0.990104560337178,{"$f":"(B147-B146)/Sheet3!$I$5","v":0.13537878545086812},0.14033160584673562,{"$f":"(D147-D146)/Sheet3!$I$5","v":-0.990789710859119}]
[{"$f":"A146+Sheet3!I$5","v":{"v":1.440000000000001,"d":"1.44"}},0.9914583481916867,{"$f":"(B148-B147)/Sheet3!$I$5","v":0.1254642845901932},0.13042370873814443,{"$f":"(D148-D147)/Sheet3!$I$5","v":-0.9920939370778925}]
[{"$f":"A147+Sheet3!I$5","v":{"v":1.450000000000001,"d":"1.45"}},0.9927129910375886,{"$f":"(B149-B148)/Sheet3!$I$5","v":0.11553723740563848},0.12050276936736551,{"$f":"(D149-D148)/Sheet3!$I$5","v":-0.993298954729703}]
[{"$f":"A148+Sheet3!I$5","v":{"v":1.460000000000001,"d":"1.46"}},0.993868363411645,{"$f":"(B150-B149)/Sheet3!$I$5","v":0.1055986365936068},0.11056977982006848,{"$f":"(D150-D149)/Sheet3!$I$5","v":-0.9944046433137856}]
[{"$f":"A149+Sheet3!I$5","v":{"v":1.470000000000001,"d":"1.47"}},0.994924349777581,{"$f":"(B151-B150)/Sheet3!$I$5","v":0.09564947600591012},0.10062573338693062,{"$f":"(D151-D150)/Sheet3!$I$5","v":-0.9954108922622051}]
[{"$f":"A150+Sheet3!I$5","v":{"v":1.480000000000001,"d":"1.48"}},0.9958808445376401,{"$f":"(B152-B151)/Sheet3!$I$5","v":0.08569075055033792},0.09067162446430857,{"$f":"(D152-D151)/Sheet3!$I$5","v":-0.996317600950905}]
[{"$f":"A151+Sheet3!I$5","v":{"v":1.490000000000001,"d":"1.49"}},0.9967377520431435,{"$f":"(B153-B152)/Sheet3!$I$5","v":0.07572345609110354},0.08070844845479952,{"$f":"(D153-D152)/Sheet3!$I$5","v":-0.9971246787097723}]
[{"$f":"A152+Sheet3!I$5","v":{"v":1.500000000000001,"d":"1.50"}},0.9974949866040546,{"$f":"(B154-B153)/Sheet3!$I$5","v":0.06574858934936811},0.0707372016677018,{"$f":"(D154-D153)/Sheet3!$I$5","v":-0.9978320448317007}]
[{"$f":"A153+Sheet3!I$5","v":{"v":1.5100000000000011,"d":"1.51"}},0.9981524724975482,{"$f":"(B155-B154)/Sheet3!$I$5","v":0.05576714780348713},0.06075888121938479,{"$f":"(D155-D154)/Sheet3!$I$5","v":-0.9984396285806718}]
[{"$f":"A154+Sheet3!I$5","v":{"v":1.5200000000000011,"d":"1.52"}},0.9987101439755831,{"$f":"(B156-B155)/Sheet3!$I$5","v":0.04578012958929012},0.05077448493357807,{"$f":"(D156-D155)/Sheet3!$I$5","v":-0.9989473691988145}]
[{"$f":"A155+Sheet3!I$5","v":{"v":1.5300000000000011,"d":"1.53"}},0.999167945271476,{"$f":"(B157-B156)/Sheet3!$I$5","v":0.03578853340030497},0.040785011241589925,{"$f":"(D157-D156)/Sheet3!$I$5","v":-0.999355215912491}]
[{"$f":"A156+Sheet3!I$5","v":{"v":1.5400000000000011,"d":"1.54"}},0.9995258306054791,{"$f":"(B158-B157)/Sheet3!$I$5","v":0.025793358387793397},0.030791459082465014,{"$f":"(D158-D157)/Sheet3!$I$5","v":-0.9996631279373693}]
[{"$f":"A157+Sheet3!I$5","v":{"v":1.5500000000000012,"d":"1.55"}},0.999783764189357,{"$f":"(B159-B158)/Sheet3!$I$5","v":0.015795604060930835},0.02079482780309132,{"$f":"(D159-D158)/Sheet3!$I$5","v":-0.9998710744825039}]
[{"$f":"A158+Sheet3!I$5","v":{"v":1.5600000000000012,"d":"1.56"}},0.9999417202299663,{"$f":"(B160-B159)/Sheet3!$I$5","v":0.005796270186830821},0.010796117058266282,{"$f":"(D160-D159)/Sheet3!$I$5","v":-0.9999790347534128}]
[{"$f":"A159+Sheet3!I$5","v":{"v":1.5700000000000012,"d":"1.57"}},0.9999996829318346,{"$f":"(B161-B160)/Sheet3!$I$5","v":-0.004203643309452776},7.9632671073215312E-4,{"$f":"(D161-D160)/Sheet3!$I$5","v":-0.99998699795416}]
[{"$f":"A160+Sheet3!I$5","v":{"v":1.5800000000000012,"d":"1.58"}},0.9999576464987401,{"$f":"(B162-B161)/Sheet3!$I$5","v":-0.014203136444923548},-0.009203543268809447,{"$f":"(D162-D161)/Sheet3!$I$5","v":-0.9998949632884313}]
[{"$f":"A161+Sheet3!I$5","v":{"v":1.5900000000000012,"d":"1.59"}},0.9998156151342908,{"$f":"(B163-B162)/Sheet3!$I$5","v":-0.02420120927857372},-0.01920249290169376,{"$f":"(D163-D162)/Sheet3!$I$5","v":-0.9997029399596166}]
[{"$f":"A162+Sheet3!I$5","v":{"v":1.6000000000000012,"d":"1.60"}},0.9995736030415051,{"$f":"(B164-B163)/Sheet3!$I$5","v":-0.03419686201145966},-0.029199522301289926,{"$f":"(D164-D163)/Sheet3!$I$5","v":-0.9994109471698892}]
[{"$f":"A163+Sheet3!I$5","v":{"v":1.6100000000000012,"d":"1.61"}},0.9992316344213905,{"$f":"(B165-B164)/Sheet3!$I$5","v":-0.04418909508665525},-0.03919363177298882,{"$f":"(D165-D164)/Sheet3!$I$5","v":-0.9990190141182839}]
[{"$f":"A164+Sheet3!I$5","v":{"v":1.6200000000000012,"d":"1.62"}},0.998789743470524,{"$f":"(B166-B165)/Sheet3!$I$5","v":-0.05417690928916086},-0.04918382191417166,{"$f":"(D166-D165)/Sheet3!$I$5","v":-0.998527179997781}]
[{"$f":"A165+Sheet3!I$5","v":{"v":1.6300000000000012,"d":"1.63"}},0.9982479743776324,{"$f":"(B167-B166)/Sheet3!$I$5","v":-0.06415930584587892},-0.05916909371414947,{"$f":"(D167-D166)/Sheet3!$I$5","v":-0.9979354939913809}]
[{"$f":"A166+Sheet3!I$5","v":{"v":1.6400000000000012,"d":"1.64"}},0.9976063813191736,{"$f":"(B168-B167)/Sheet3!$I$5","v":-0.07413528652547852},-0.06914844865406328,{"$f":"(D168-D167)/Sheet3!$I$5","v":-0.9972440152671915}]
[{"$f":"A167+Sheet3!I$5","v":{"v":1.6500000000000012,"d":"1.65"}},0.9968650284539188,{"$f":"(B169-B168)/Sheet3!$I$5","v":-0.0841038537382155},-0.07912088880673519,{"$f":"(D169-D168)/Sheet3!$I$5","v":-0.9964528129725092}]
[{"$f":"A168+Sheet3!I$5","v":{"v":1.6600000000000013,"d":"1.66"}},0.9960239899165366,{"$f":"(B170-B169)/Sheet3!$I$5","v":-0.09406401063565273},-0.08908541693646028,{"$f":"(D170-D169)/Sheet3!$I$5","v":-0.9955619662269057}]
[{"$f":"A169+Sheet3!I$5","v":{"v":1.6700000000000013,"d":"1.67"}},0.9950833498101801,{"$f":"(B171-B170)/Sheet3!$I$5","v":-0.10401476121042474},-0.09904103659872934,{"$f":"(D171-D170)/Sheet3!$I$5","v":-0.994571564114309}]
[{"$f":"A170+Sheet3!I$5","v":{"v":1.6800000000000013,"d":"1.68"}},0.9940432021980758,{"$f":"(B172-B171)/Sheet3!$I$5","v":-0.11395511039574702},-0.10898675223987243,{"$f":"(D172-D171)/Sheet3!$I$5","v":-0.993481705674111}]
[{"$f":"A171+Sheet3!I$5","v":{"v":1.6900000000000013,"d":"1.69"}},0.9929036510941184,{"$f":"(B173-B172)/Sheet3!$I$5","v":-0.12388406416499187},-0.11892156929661354,{"$f":"(D173-D172)/Sheet3!$I$5","v":-0.9922924998912425}]
[{"$f":"A172+Sheet3!I$5","v":{"v":1.7000000000000013,"d":"1.70"}},0.9916648104524685,{"$f":"(B174-B173)/Sheet3!$I$5","v":-0.13380062963105344},-0.12884449429552597,{"$f":"(D174-D173)/Sheet3!$I$5","v":-0.9910040656852914}]
[{"$f":"A173+Sheet3!I$5","v":{"v":1.7100000000000013,"d":"1.71"}},0.9903268041561579,{"$f":"(B175-B174)/Sheet3!$I$5","v":-0.1437038151456682},-0.13875453495237888,{"$f":"(D175-D174)/Sheet3!$I$5","v":-0.9896165318986072}]
[{"$f":"A174+Sheet3!I$5","v":{"v":1.7200000000000013,"d":"1.72"}},0.9888897660047012,{"$f":"(B176-B175)/Sheet3!$I$5","v":-0.15359263039850246},-0.14865070027136496,{"$f":"(D176-D175)/Sheet3!$I$5","v":-0.9881300372834106}]
[{"$f":"A175+Sheet3!I$5","v":{"v":1.7300000000000013,"d":"1.73"}},0.9873538397007162,{"$f":"(B177-B176)/Sheet3!$I$5","v":-0.16346608651629513},-0.15853200064419906,{"$f":"(D177-D176)/Sheet3!$I$5","v":-0.986544730487926}]
[{"$f":"A176+Sheet3!I$5","v":{"v":1.7400000000000013,"d":"1.74"}},0.9857191788355533,{"$f":"(B178-B177)/Sheet3!$I$5","v":-0.1733231961616566},-0.16839744794907832,{"$f":"(D178-D177)/Sheet3!$I$5","v":-0.9848607700415068}]
[{"$f":"A177+Sheet3!I$5","v":{"v":1.7500000000000013,"d":"1.75"}},0.9839859468739367,{"$f":"(B179-B178)/Sheet3!$I$5","v":-0.1831629736318452},-0.1782460556494934,{"$f":"(D179-D178)/Sheet3!$I$5","v":-0.9830783243388042}]
[{"$f":"A178+Sheet3!I$5","v":{"v":1.7600000000000013,"d":"1.76"}},0.9821543171376182,{"$f":"(B180-B179)/Sheet3!$I$5","v":-0.19298443495729956},-0.18807683889288143,{"$f":"(D180-D179)/Sheet3!$I$5","v":-0.9811975716228882}]
[{"$f":"A179+Sheet3!I$5","v":{"v":1.7700000000000014,"d":"1.77"}},0.9802244727880453,{"$f":"(B181-B180)/Sheet3!$I$5","v":-0.20278659800008203},-0.19788881460911031,{"$f":"(D181-D180)/Sheet3!$I$5","v":-0.9792186999674796}]
[{"$f":"A180+Sheet3!I$5","v":{"v":1.7800000000000014,"d":"1.78"}},0.9781966068080444,{"$f":"(B182-B181)/Sheet3!$I$5","v":-0.21256848255205574},-0.2076810016087851,{"$f":"(D182-D181)/Sheet3!$I$5","v":-0.9771419072580834}]
[{"$f":"A181+Sheet3!I$5","v":{"v":1.7900000000000014,"d":"1.79"}},0.9760709219825239,{"$f":"(B183-B182)/Sheet3!$I$5","v":-0.22232911043289505},-0.21745242068136594,{"$f":"(D183-D182)/Sheet3!$I$5","v":-0.9749674011722442}]
[{"$f":"A182+Sheet3!I$5","v":{"v":1.8000000000000014,"d":"1.80"}},0.9738476308781949,{"$f":"(B184-B183)/Sheet3!$I$5","v":-0.23206750558799616},-0.22720209469308839,{"$f":"(D184-D183)/Sheet3!$I$5","v":-0.97269539915876}]
[{"$f":"A183+Sheet3!I$5","v":{"v":1.8100000000000014,"d":"1.81"}},0.971526955822315,{"$f":"(B185-B184)/Sheet3!$I$5","v":-0.24178269418588805},-0.23692904868467599,{"$f":"(D185-D184)/Sheet3!$I$5","v":-0.9703261284159326}]
[{"$f":"A184+Sheet3!I$5","v":{"v":1.8200000000000014,"d":"1.82"}},0.9691091288804561,{"$f":"(B186-B185)/Sheet3!$I$5","v":-0.2514737047158877},-0.2466323099688353,{"$f":"(D186-D185)/Sheet3!$I$5","v":-0.9678598258688692}]
[{"$f":"A185+Sheet3!I$5","v":{"v":1.8300000000000014,"d":"1.83"}},0.9665943918332972,{"$f":"(B187-B186)/Sheet3!$I$5","v":-0.2611395680849449},-0.256310908227524,{"$f":"(D187-D186)/Sheet3!$I$5","v":-0.9652967381457656}]
[{"$f":"A186+Sheet3!I$5","v":{"v":1.8400000000000014,"d":"1.84"}},0.9639829961524478,{"$f":"(B188-B187)/Sheet3!$I$5","v":-0.2707793177148199},-0.26596387560898166,{"$f":"(D188-D187)/Sheet3!$I$5","v":-0.9626371215532559}]
[{"$f":"A187+Sheet3!I$5","v":{"v":1.8500000000000014,"d":"1.85"}},0.9612752029752996,{"$f":"(B189-B188)/Sheet3!$I$5","v":-0.28039198963857315},-0.2755902468245142,{"$f":"(D189-D188)/Sheet3!$I$5","v":-0.9598812420507918}]
[{"$f":"A188+Sheet3!I$5","v":{"v":1.8600000000000014,"d":"1.86"}},0.9584712830789138,{"$f":"(B190-B189)/Sheet3!$I$5","v":-0.2899766225970324},-0.28518905924502214,{"$f":"(D190-D189)/Sheet3!$I$5","v":-0.9570293752240111}]
[{"$f":"A189+Sheet3!I$5","v":{"v":1.8700000000000014,"d":"1.87"}},0.9555715168529435,{"$f":"(B191-B190)/Sheet3!$I$5","v":-0.2995322581348603},-0.29475935299726225,{"$f":"(D191-D190)/Sheet3!$I$5","v":-0.9540818062572454}]
[{"$f":"A190+Sheet3!I$5","v":{"v":1.8800000000000014,"d":"1.88"}},0.9525761942715949,{"$f":"(B192-B191)/Sheet3!$I$5","v":-0.30905794069648884},-0.3043001710598347,{"$f":"(D192-D191)/Sheet3!$I$5","v":-0.9510388299049044}]
[{"$f":"A191+Sheet3!I$5","v":{"v":1.8900000000000015,"d":"1.89"}},0.94948561486463,{"$f":"(B193-B192)/Sheet3!$I$5","v":-0.31855271772159854},-0.31381055935888374,{"$f":"(D193-D192)/Sheet3!$I$5","v":-0.9479007504621051}]
[{"$f":"A192+Sheet3!I$5","v":{"v":1.9000000000000015,"d":"1.90"}},0.946300087687414,{"$f":"(B194-B193)/Sheet3!$I$5","v":-0.3280156397403977},-0.3232895668635048,{"$f":"(D194-D193)/Sheet3!$I$5","v":-0.9446678817341847}]
[{"$f":"A193+Sheet3!I$5","v":{"v":1.9100000000000015,"d":"1.91"}},0.94301993129001,{"$f":"(B195-B194)/Sheet3!$I$5","v":-0.3374457604685688},-0.33273624568084664,{"$f":"(D195-D194)/Sheet3!$I$5","v":-0.9413405470052982}]
[{"$f":"A194+Sheet3!I$5","v":{"v":1.9200000000000015,"d":"1.92"}},0.9396454736853244,{"$f":"(B196-B195)/Sheet3!$I$5","v":-0.3468421369018815},-0.3421496511508996,{"$f":"(D196-D195)/Sheet3!$I$5","v":-0.9379190790061664}]
[{"$f":"A195+Sheet3!I$5","v":{"v":1.9300000000000015,"d":"1.93"}},{"$f":"SIN(A196)","v":0.9361770523163055},{"$f":"(B197-B196)/Sheet3!$I$5","v":-0.35620382941056183},{"$f":"COS(A196)","v":-0.3515288419409613},{"$f":"(D197-D196)/Sheet3!$I$5","v":-0.9344038198807303}]
[{"$f":"A196+Sheet3!I$5","v":{"v":1.9400000000000015,"d":"1.94"}},0.9326150140221999,{"$f":"(B198-B197)/Sheet3!$I$5","v":-0.36552990183311707},-0.3608728801397686,{"$f":"(D198-D197)/Sheet3!$I$5","v":-0.9307951211519727}]
[{"$f":"A197+Sheet3!I$5","v":{"v":1.9500000000000015,"d":"1.95"}},0.9289597150038688,{"$f":"(B199-B198)/Sheet3!$I$5","v":-0.37481942157010506},-0.3701808313512883,{"$f":"(D199-D198)/Sheet3!$I$5","v":-0.9270933436867579}]
[{"$f":"A198+Sheet3!I$5","v":{"v":1.9600000000000015,"d":"1.96"}},0.9252115207881677,{"$f":"(B200-B199)/Sheet3!$I$5","v":-0.38407145967729317},-0.3794517647881559,{"$f":"(D200-D199)/Sheet3!$I$5","v":-0.9232988576597545}]
[{"$f":"A199+Sheet3!I$5","v":{"v":1.9700000000000015,"d":"1.97"}},0.9213708061913948,{"$f":"(B201-B200)/Sheet3!$I$5","v":-0.3932850909585506},-0.38868475336475344,{"$f":"(D201-D200)/Sheet3!$I$5","v":-0.9194120425163932}]
[{"$f":"A200+Sheet3!I$5","v":{"v":1.9800000000000015,"d":"1.98"}},0.9174379552818093,{"$f":"(B202-B201)/Sheet3!$I$5","v":-0.4024593940584742},-0.3978788737899174,{"$f":"(D202-D201)/Sheet3!$I$5","v":-0.915433286934958}]
[{"$f":"A201+Sheet3!I$5","v":{"v":1.9900000000000015,"d":"1.99"}},0.9134133613412245,{"$f":"(B203-B202)/Sheet3!$I$5","v":-0.41159345155433735},-0.40703320665926696,{"$f":"(D203-D202)/Sheet3!$I$5","v":-0.9113629887876618}]
[{"$f":"A202+Sheet3!I$5","v":{"v":2.0000000000000013,"d":"2.00"}},0.9092974268256812,{"$f":"(B204-B203)/Sheet3!$I$5","v":-0.42068635004807176},-0.4161468365471436,{"$f":"(D204-D203)/Sheet3!$I$5","v":-0.9072015551009838}]
[{"$f":"A203+Sheet3!I$5","v":{"v":2.010000000000001,"d":"2.01"}},0.9050905633252004,{"$f":"(B205-B204)/Sheet3!$I$5","v":-0.4297371802573502},-0.4252188520981534,{"$f":"(D205-D204)/Sheet3!$I$5","v":-0.9029494020147855}]
[{"$f":"A204+Sheet3!I$5","v":{"v":2.020000000000001,"d":"2.02"}},0.9007931915226269,{"$f":"(B206-B205)/Sheet3!$I$5","v":-0.43874503710673585},-0.43424834611830126,{"$f":"(D206-D205)/Sheet3!$I$5","v":-0.8986069547408437}]
[{"$f":"A205+Sheet3!I$5","v":{"v":2.0300000000000007,"d":"2.03"}},0.8964057411515596,{"$f":"(B207-B206)/Sheet3!$I$5","v":-0.44770901981802114},-0.4432344156657097,{"$f":"(D207-D206)/Sheet3!$I$5","v":-0.8941746475202683}]
[{"$f":"A206+Sheet3!I$5","v":{"v":2.0400000000000005,"d":"2.04"}},0.8919286509533794,{"$f":"(B208-B207)/Sheet3!$I$5","v":-0.45662823200041114},-0.4521761621409124,{"$f":"(D208-D207)/Sheet3!$I$5","v":-0.8896529235800754}]
[{"$f":"A207+Sheet3!I$5","v":{"v":2.0500000000000003,"d":"2.05"}},0.8873623686333753,{"$f":"(B209-B208)/Sheet3!$I$5","v":-0.4655017817401186},-0.46107269137671314,{"$f":"(D209-D208)/Sheet3!$I$5","v":-0.8850422350889064}]
[{"$f":"A208+Sheet3!I$5","v":2.06},0.8827073508159741,{"$f":"(B210-B209)/Sheet3!$I$5","v":-0.47432878168959247},-0.4699231137276022,{"$f":"(D210-D209)/Sheet3!$I$5","v":-0.8803430431117587}]
[{"$f":"A209+Sheet3!I$5","v":2.07},0.8779640629990781,{"$f":"(B211-B210)/Sheet3!$I$5","v":-0.4831083491561472},-0.4787265441587198,{"$f":"(D211-D210)/Sheet3!$I$5","v":-0.8755558175639222}]
[{"$f":"A210+Sheet3!I$5","v":{"v":2.0799999999999996,"d":"2.08"}},0.8731329795075167,{"$f":"(B212-B211)/Sheet3!$I$5","v":-0.4918396061903807},-0.487482102334359,{"$f":"(D212-D211)/Sheet3!$I$5","v":-0.8706810371639451}]
[{"$f":"A211+Sheet3!I$5","v":{"v":2.0899999999999994,"d":"2.09"}},0.8682145834456129,{"$f":"(B213-B212)/Sheet3!$I$5","v":-0.500521679673871},-0.49618891270599846,{"$f":"(D213-D212)/Sheet3!$I$5","v":-0.8657191893858329}]
[{"$f":"A212+Sheet3!I$5","v":{"v":2.099999999999999,"d":"2.10"}},0.8632093666488742,{"$f":"(B214-B213)/Sheet3!$I$5","v":-0.5091537014064729},-0.5048461045998568,{"$f":"(D214-D213)/Sheet3!$I$5","v":-0.860670770410199}]
[{"$f":"A213+Sheet3!I$5","v":{"v":2.109999999999999,"d":"2.11"}},0.8581178296348094,{"$f":"(B215-B214)/Sheet3!$I$5","v":-0.5177348081932487},-0.5134528123039588,{"$f":"(D215-D214)/Sheet3!$I$5","v":-0.8555362850747428}]
[{"$f":"A214+Sheet3!I$5","v":{"v":2.1199999999999988,"d":"2.12"}},0.8529404815528769,{"$f":"(B216-B215)/Sheet3!$I$5","v":-0.5262641419306435},-0.5220081751547062,{"$f":"(D216-D215)/Sheet3!$I$5","v":-0.8503162468237457}]
[{"$f":"A215+Sheet3!I$5","v":{"v":2.1299999999999986,"d":"2.13"}},0.8476778401335705,{"$f":"(B217-B216)/Sheet3!$I$5","v":-0.5347408496923944},-0.5305113376229437,{"$f":"(D217-D216)/Sheet3!$I$5","v":-0.8450111776566405}]
[{"$f":"A216+Sheet3!I$5","v":{"v":2.1399999999999983,"d":"2.14"}},0.8423304316366466,{"$f":"(B218-B217)/Sheet3!$I$5","v":-0.5431640838147844},-0.5389614493995101,{"$f":"(D218-D217)/Sheet3!$I$5","v":-0.8396216080759467}]
[{"$f":"A217+Sheet3!I$5","v":{"v":2.149999999999998,"d":"2.15"}},0.8368987907984987,{"$f":"(B219-B218)/Sheet3!$I$5","v":-0.5515330019814413},-0.5473576654802695,{"$f":"(D219-D218)/Sheet3!$I$5","v":-0.8341480770341358}]
[{"$f":"A218+Sheet3!I$5","v":{"v":2.159999999999998,"d":"2.16"}},0.8313834607786843,{"$f":"(B220-B219)/Sheet3!$I$5","v":-0.5598467673074925},-0.5556991462506109,{"$f":"(D220-D219)/Sheet3!$I$5","v":-0.8285911318797301}]
[{"$f":"A219+Sheet3!I$5","v":{"v":2.1699999999999977,"d":"2.17"}},0.8257849931056094,{"$f":"(B221-B220)/Sheet3!$I$5","v":-0.568104548423376},-0.5639850575694082,{"$f":"(D221-D220)/Sheet3!$I$5","v":-0.8229513283026457}]
[{"$f":"A220+Sheet3!I$5","v":{"v":2.1799999999999975,"d":"2.18"}},0.8201039476213756,{"$f":"(B222-B221)/Sheet3!$I$5","v":-0.5763055195578071},-0.5722145708524347,{"$f":"(D222-D221)/Sheet3!$I$5","v":-0.8172292302785045}]
[{"$f":"A221+Sheet3!I$5","v":{"v":2.1899999999999973,"d":"2.19"}},0.8143408924257975,{"$f":"(B223-B222)/Sheet3!$I$5","v":-0.5844488606205678},-0.5803868631552197,{"$f":"(D223-D222)/Sheet3!$I$5","v":-0.8114254100123675}]
[{"$f":"A222+Sheet3!I$5","v":{"v":2.199999999999997,"d":"2.20"}},0.8084964038195919,{"$f":"(B224-B223)/Sheet3!$I$5","v":-0.5925337572842748},-0.5885011172553434,{"$f":"(D224-D223)/Sheet3!$I$5","v":-0.8055404478814032}]
[{"$f":"A223+Sheet3!I$5","v":{"v":2.209999999999997,"d":"2.21"}},0.8025710662467491,{"$f":"(B225-B224)/Sheet3!$I$5","v":-0.6005594010660475},-0.5965565217341574,{"$f":"(D225-D224)/Sheet3!$I$5","v":-0.7995749323769452}]
[{"$f":"A224+Sheet3!I$5","v":{"v":2.2199999999999966,"d":"2.22"}},0.7965654722360886,{"$f":"(B226-B225)/Sheet3!$I$5","v":-0.6085249894081657},-0.6045522710579269,{"$f":"(D226-D225)/Sheet3!$I$5","v":-0.79352946004555}]
[{"$f":"A225+Sheet3!I$5","v":{"v":2.2299999999999964,"d":"2.23"}},0.790480222342007,{"$f":"(B227-B226)/Sheet3!$I$5","v":-0.6164297257584606},-0.6124875656583824,{"$f":"(D227-D226)/Sheet3!$I$5","v":-0.787404635429434}]
[{"$f":"A226+Sheet3!I$5","v":{"v":2.239999999999996,"d":"2.24"}},0.7843159250844224,{"$f":"(B228-B227)/Sheet3!$I$5","v":-0.6242728196498626},-0.6203616120126767,{"$f":"(D228-D227)/Sheet3!$I$5","v":-0.7812010710059325}]
[{"$f":"A227+Sheet3!I$5","v":{"v":2.249999999999996,"d":"2.25"}},0.7780731968879238,{"$f":"(B229-B228)/Sheet3!$I$5","v":-0.6320534867795269},-0.628173622722736,{"$f":"(D229-D228)/Sheet3!$I$5","v":-0.7749193871263271}]
[{"$f":"A228+Sheet3!I$5","v":{"v":2.259999999999996,"d":"2.26"}},0.7717526620201285,{"$f":"(B230-B229)/Sheet3!$I$5","v":-0.639770949087215},-0.6359228165939993,{"$f":"(D230-D229)/Sheet3!$I$5","v":-0.7685602119537838}]
[{"$f":"A229+Sheet3!I$5","v":{"v":2.2699999999999956,"d":"2.27"}},0.7653549525292563,{"$f":"(B231-B230)/Sheet3!$I$5","v":-0.6474244348331437},-0.6436084187135371,{"$f":"(D231-D230)/Sheet3!$I$5","v":-0.7621241814005031}]
[{"$f":"A230+Sheet3!I$5","v":{"v":2.2799999999999954,"d":"2.28"}},0.7588807081809249,{"$f":"(B232-B231)/Sheet3!$I$5","v":-0.6550131786751012},-0.6512296605275422,{"$f":"(D232-D231)/Sheet3!$I$5","v":-0.7556119390641935}]
[{"$f":"A231+Sheet3!I$5","v":{"v":2.289999999999995,"d":"2.29"}},0.7523305763941739,{"$f":"(B233-B232)/Sheet3!$I$5","v":-0.6625364217450302},-0.6587857799181841,{"$f":"(D233-D232)/Sheet3!$I$5","v":-0.7490241361636341}]
[{"$f":"A232+Sheet3!I$5","v":{"v":2.299999999999995,"d":"2.30"}},0.7457052121767236,{"$f":"(B234-B233)/Sheet3!$I$5","v":-0.6699934117249118},-0.6662760212798204,{"$f":"(D234-D233)/Sheet3!$I$5","v":-0.7423614314736593}]
[{"$f":"A233+Sheet3!I$5","v":{"v":2.3099999999999947,"d":"2.31"}},0.7390052780594745,{"$f":"(B235-B234)/Sheet3!$I$5","v":-0.6773834029219383},-0.673699635594557,{"$f":"(D235-D234)/Sheet3!$I$5","v":-0.735624491259157}]
[{"$f":"A234+Sheet3!I$5","v":{"v":2.3199999999999945,"d":"2.32"}},0.7322314440302551,{"$f":"(B236-B235)/Sheet3!$I$5","v":-0.6847056563431542},-0.6810558805071486,{"$f":"(D236-D235)/Sheet3!$I$5","v":-0.7288139892085543}]
[{"$f":"A235+Sheet3!I$5","v":{"v":2.3299999999999943,"d":"2.33"}},0.7253843874668235,{"$f":"(B237-B236)/Sheet3!$I$5","v":-0.6919594397693296},-0.6883440203992341,{"$f":"(D237-D236)/Sheet3!$I$5","v":-0.7219306063663722}]
[{"$f":"A236+Sheet3!I$5","v":{"v":2.339999999999994,"d":"2.34"}},0.7184647930691302,{"$f":"(B238-B237)/Sheet3!$I$5","v":-0.6991440278281469},-0.6955633264628979,{"$f":"(D238-D237)/Sheet3!$I$5","v":-0.7149750310651681}]
[{"$f":"A237+Sheet3!I$5","v":{"v":2.349999999999994,"d":"2.35"}},0.7114733527908488,{"$f":"(B239-B238)/Sheet3!$I$5","v":-0.7062587020668198},-0.7027130767735495,{"$f":"(D239-D238)/Sheet3!$I$5","v":-0.7079479588566584}]
[{"$f":"A238+Sheet3!I$5","v":{"v":2.3599999999999937,"d":"2.36"}},0.7044107657701806,{"$f":"(B240-B239)/Sheet3!$I$5","v":-0.7133027510238032},-0.7097925563621161,{"$f":"(D240-D239)/Sheet3!$I$5","v":-0.7008500924422179}]
[{"$f":"A239+Sheet3!I$5","v":{"v":2.3699999999999934,"d":"2.37"}},0.6972777382599425,{"$f":"(B241-B240)/Sheet3!$I$5","v":-0.7202754703001246},-0.7168010572865383,{"$f":"(D241-D240)/Sheet3!$I$5","v":-0.6936821416025696}]
[{"$f":"A240+Sheet3!I$5","v":{"v":2.3799999999999932,"d":"2.38"}},0.6900749835569413,{"$f":"(B242-B241)/Sheet3!$I$5","v":-0.7271761626296391},-0.723737878702564,{"$f":"(D242-D241)/Sheet3!$I$5","v":-0.6864448231268416}]
[{"$f":"A241+Sheet3!I$5","v":{"v":2.389999999999993,"d":"2.39"}},0.6828032219306449,{"$f":"(B243-B242)/Sheet3!$I$5","v":-0.7340041379488627},-0.7306023269338324,{"$f":"(D243-D242)/Sheet3!$I$5","v":-0.6791388607408244}]
[{"$f":"A242+Sheet3!I$5","v":{"v":2.399999999999993,"d":"2.40"}},0.6754631805511563,{"$f":"(B244-B243)/Sheet3!$I$5","v":-0.7407587134659721},-0.7373937155412407,{"$f":"(D244-D243)/Sheet3!$I$5","v":-0.6717649850346841}]
[{"$f":"A243+Sheet3!I$5","v":{"v":2.4099999999999926,"d":"2.41"}},0.6680555934164966,{"$f":"(B245-B244)/Sheet3!$I$5","v":-0.7474392137290176},-0.7441113653915875,{"$f":"(D245-D244)/Sheet3!$I$5","v":-0.6643239333898432}]
[{"$f":"A244+Sheet3!I$5","v":{"v":2.4199999999999924,"d":"2.42"}},0.6605812012792064,{"$f":"(B246-B245)/Sheet3!$I$5","v":-0.754044970693557},-0.7507546047254859,{"$f":"(D246-D245)/Sheet3!$I$5","v":-0.656816449905262}]
[{"$f":"A245+Sheet3!I$5","v":{"v":2.429999999999992,"d":"2.43"}},0.6530407515722708,{"$f":"(B247-B246)/Sheet3!$I$5","v":-0.7605753237894031},-0.7573227692245386,{"$f":"(D247-D246)/Sheet3!$I$5","v":-0.6492432853230312}]
[{"$f":"A246+Sheet3!I$5","v":{"v":2.439999999999992,"d":"2.44"}},0.6454349983343768,{"$f":"(B248-B247)/Sheet3!$I$5","v":-0.76702961998667},-0.7638152020777689,{"$f":"(D248-D247)/Sheet3!$I$5","v":-0.641605196953321}]
[{"$f":"A247+Sheet3!I$5","v":{"v":2.4499999999999917,"d":"2.45"}},0.6377647021345101,{"$f":"(B249-B248)/Sheet3!$I$5","v":-0.7734072138611325},-0.7702312540473021,{"$f":"(D249-D248)/Sheet3!$I$5","v":-0.6339029485985637}]
[{"$f":"A248+Sheet3!I$5","v":{"v":2.4599999999999915,"d":"2.46"}},0.6300306299958988,{"$f":"(B250-B249)/Sheet3!$I$5","v":-0.779707467658719},-0.7765702835332877,{"$f":"(D250-D249)/Sheet3!$I$5","v":-0.626137310477215}]
[{"$f":"A249+Sheet3!I$5","v":{"v":2.4699999999999913,"d":"2.47"}},0.6222335553193116,{"$f":"(B251-B250)/Sheet3!$I$5","v":-0.7859297513592822},-0.7828316566380599,{"$f":"(D251-D250)/Sheet3!$I$5","v":-0.6183090591465823}]
[{"$f":"A250+Sheet3!I$5","v":{"v":2.479999999999991,"d":"2.48"}},0.6143742578057187,{"$f":"(B252-B251)/Sheet3!$I$5","v":-0.7920734427396603},-0.7890147472295257,{"$f":"(D252-D251)/Sheet3!$I$5","v":-0.6104189774252977}]
[{"$f":"A251+Sheet3!I$5","v":{"v":2.489999999999991,"d":"2.49"}},0.6064535233783221,{"$f":"(B253-B252)/Sheet3!$I$5","v":-0.7981379274358158},-0.7951189370037787,{"$f":"(D253-D252)/Sheet3!$I$5","v":-0.6024678543149475}]
[{"$f":"A252+Sheet3!I$5","v":{"v":2.4999999999999907,"d":"2.50"}},0.598472144103964,{"$f":"(B254-B253)/Sheet3!$I$5","v":-0.8041225990043421},-0.8011436155469281,{"$f":"(D254-D253)/Sheet3!$I$5","v":-0.5944564849212242}]
[{"$f":"A253+Sheet3!I$5","v":{"v":2.5099999999999905,"d":"2.51"}},0.5904309181139206,{"$f":"(B255-B254)/Sheet3!$I$5","v":-0.8100268589830706},-0.8070881803961404,{"$f":"(D255-D254)/Sheet3!$I$5","v":-0.5863856703743897}]
[{"$f":"A254+Sheet3!I$5","v":{"v":2.5199999999999902,"d":"2.52"}},0.5823306495240899,{"$f":"(B256-B255)/Sheet3!$I$5","v":-0.8158501169509225},-0.8129520370998843,{"$f":"(D256-D255)/Sheet3!$I$5","v":-0.5782562177491735}]
[{"$f":"A255+Sheet3!I$5","v":{"v":2.52999999999999,"d":"2.53"}},0.5741721483545806,{"$f":"(B257-B256)/Sheet3!$I$5","v":-0.8215917905869397},-0.818734599277376,{"$f":"(D257-D256)/Sheet3!$I$5","v":-0.5700689399840475}]
[{"$f":"A256+Sheet3!I$5","v":{"v":2.53999999999999,"d":"2.54"}},0.5659562304487112,{"$f":"(B258-B257)/Sheet3!$I$5","v":-0.8272513057285713},-0.8244352886772165,{"$f":"(D258-D257)/Sheet3!$I$5","v":-0.5618246557999917}]
[{"$f":"A257+Sheet3!I$5","v":{"v":2.5499999999999896,"d":"2.55"}},0.5576837173914255,{"$f":"(B259-B258)/Sheet3!$I$5","v":-0.8328280964289947},-0.8300535352352164,{"$f":"(D259-D258)/Sheet3!$I$5","v":-0.5535241896185372}]
[{"$f":"A258+Sheet3!I$5","v":{"v":2.5599999999999894,"d":"2.56"}},0.5493554364271356,{"$f":"(B260-B259)/Sheet3!$I$5","v":-0.8383216050138032},-0.8355887771314018,{"$f":"(D260-D259)/Sheet3!$I$5","v":-0.5451683714793876}]
[{"$f":"A259+Sheet3!I$5","v":{"v":2.569999999999989,"d":"2.57"}},{"$f":"SIN(A260)","v":0.5409722203769975},{"$f":"(B261-B260)/Sheet3!$I$5","v":-0.843731282136706},{"$f":"COS(A260)","v":-0.8410404608461957},{"$f":"(D261-D260)/Sheet3!$I$5","v":-0.5367580369573965}]
[{"$f":"A260+Sheet3!I$5","v":{"v":2.579999999999989,"d":"2.58"}},0.5325349075556305,{"$f":"(B262-B261)/Sheet3!$I$5","v":-0.8490565868344957},-0.8464080412157696,{"$f":"(D262-D261)/Sheet3!$I$5","v":-0.5282940270790126}]
[{"$f":"A261+Sheet3!I$5","v":{"v":2.5899999999999888,"d":"2.59"}},0.5240443416872855,{"$f":"(B263-B262)/Sheet3!$I$5","v":-0.8542969865811489},-0.8516909814865598,{"$f":"(D263-D262)/Sheet3!$I$5","v":-0.5197771882381574}]
[{"$f":"A262+Sheet3!I$5","v":{"v":2.5999999999999885,"d":"2.60"}},0.515501371821474,{"$f":"(B264-B263)/Sheet3!$I$5","v":-0.859451957341062},-0.8568887533689413,{"$f":"(D264-D263)/Sheet3!$I$5","v":-0.5112083721116267}]
[{"$f":"A263+Sheet3!I$5","v":{"v":2.6099999999999883,"d":"2.61"}},0.5069068522480634,{"$f":"(B265-B264)/Sheet3!$I$5","v":-0.8645209836214474},-0.8620008370900576,{"$f":"(D265-D264)/Sheet3!$I$5","v":-0.5025884355738919}]
[{"$f":"A264+Sheet3!I$5","v":{"v":2.619999999999988,"d":"2.62"}},0.49826164241184895,{"$f":"(B266-B265)/Sheet3!$I$5","v":-0.8695035585238986},-0.8670267214457965,{"$f":"(D266-D265)/Sheet3!$I$5","v":-0.4939182406114129}]
[{"$f":"A265+Sheet3!I$5","v":{"v":2.629999999999988,"d":"2.63"}},0.48956660682660996,{"$f":"(B267-B266)/Sheet3!$I$5","v":-0.8743991837950826},-0.8719659038519106,{"$f":"(D267-D266)/Sheet3!$I$5","v":-0.485198654236485}]
[{"$f":"A266+Sheet3!I$5","v":{"v":2.6399999999999877,"d":"2.64"}},0.48082261498865914,{"$f":"(B268-B267)/Sheet3!$I$5","v":-0.8792073698765501},-0.8768178903942755,{"$f":"(D268-D267)/Sheet3!$I$5","v":-0.47643054840045274}]
[{"$f":"A267+Sheet3!I$5","v":{"v":2.6499999999999875,"d":"2.65"}},0.47203054128989363,{"$f":"(B269-B268)/Sheet3!$I$5","v":-0.8839276359537074},-0.88158219587828,{"$f":"(D269-D268)/Sheet3!$I$5","v":-0.4676147999066016}]
[{"$f":"A268+Sheet3!I$5","v":{"v":2.6599999999999873,"d":"2.66"}},0.46319126493035656,{"$f":"(B270-B269)/Sheet3!$I$5","v":-0.8885595100038612},-0.886258343877346,{"$f":"(D270-D269)/Sheet3!$I$5","v":-0.4587522903224617}]
[{"$f":"A269+Sheet3!I$5","v":{"v":2.669999999999987,"d":"2.67"}},0.45430566983031795,{"$f":"(B271-B270)/Sheet3!$I$5","v":-0.8931025288434868},-0.8908458667805706,{"$f":"(D271-D270)/Sheet3!$I$5","v":-0.4498439058915449}]
[{"$f":"A270+Sheet3!I$5","v":{"v":2.679999999999987,"d":"2.68"}},0.4453746445418831,{"$f":"(B272-B271)/Sheet3!$I$5","v":-0.8975562381744795},-0.8953443058394861,{"$f":"(D272-D271)/Sheet3!$I$5","v":-0.4408905374449379}]
[{"$f":"A271+Sheet3!I$5","v":{"v":2.6899999999999866,"d":"2.69"}},0.4363990821601383,{"$f":"(B273-B272)/Sheet3!$I$5","v":-0.9019201926296072},-0.8997532112139355,{"$f":"(D273-D272)/Sheet3!$I$5","v":-0.4318930803119847}]
[{"$f":"A272+Sheet3!I$5","v":{"v":2.6999999999999864,"d":"2.70"}},0.4273798802338422,{"$f":"(B274-B273)/Sheet3!$I$5","v":-0.9061939558170751},-0.9040721420170553,{"$f":"(D274-D273)/Sheet3!$I$5","v":-0.4228524342309026}]
[{"$f":"A273+Sheet3!I$5","v":{"v":2.709999999999986,"d":"2.71"}},0.41831794067567146,{"$f":"(B275-B274)/Sheet3!$I$5","v":-0.9103771003641181},-0.9083006663593644,{"$f":"(D275-D274)/Sheet3!$I$5","v":-0.41376950325878736}]
[{"$f":"A274+Sheet3!I$5","v":{"v":2.719999999999986,"d":"2.72"}},0.4092141696720303,{"$f":"(B276-B275)/Sheet3!$I$5","v":-0.9144692079597727},-0.9124383613919522,{"$f":"(D276-D275)/Sheet3!$I$5","v":-0.40464519568114143}]
[{"$f":"A275+Sheet3!I$5","v":{"v":2.7299999999999858,"d":"2.73"}},0.40006947759243255,{"$f":"(B277-B276)/Sheet3!$I$5","v":-0.9184698693966875},-0.9164848133487636,{"$f":"(D277-D276)/Sheet3!$I$5","v":-0.39548042392113514}]
[{"$f":"A276+Sheet3!I$5","v":{"v":2.7399999999999856,"d":"2.74"}},0.3908847788984657,{"$f":"(B278-B277)/Sheet3!$I$5","v":-0.9223786846120408},-0.920439617587975,{"$f":"(D278-D277)/Sheet3!$I$5","v":-0.38627610444829097}]
[{"$f":"A277+Sheet3!I$5","v":{"v":2.7499999999999853,"d":"2.75"}},0.38166099205234527,{"$f":"(B279-B278)/Sheet3!$I$5","v":-0.9261952627275971},-0.9243023786324579,{"$f":"(D279-D278)/Sheet3!$I$5","v":-0.37703315768692347}]
[{"$f":"A278+Sheet3!I$5","v":{"v":2.759999999999985,"d":"2.76"}},0.3723990394250693,{"$f":"(B280-B279)/Sheet3!$I$5","v":-0.9299192220886932},-0.9280727102093271,{"$f":"(D280-D279)/Sheet3!$I$5","v":-0.3677525079239574}]
[{"$f":"A279+Sheet3!I$5","v":{"v":2.769999999999985,"d":"2.77"}},0.36309984720418237,{"$f":"(B281-B280)/Sheet3!$I$5","v":-0.9335501903025123},-0.9317502352885667,{"$f":"(D281-D280)/Sheet3!$I$5","v":-0.3584350832166683}]
[{"$f":"A280+Sheet3!I$5","v":{"v":2.7799999999999847,"d":"2.78"}},0.35376434530115725,{"$f":"(B282-B281)/Sheet3!$I$5","v":-0.9370878042752662},-0.9353345861207334,{"$f":"(D282-D281)/Sheet3!$I$5","v":-0.34908181529974547}]
[{"$f":"A281+Sheet3!I$5","v":{"v":2.7899999999999845,"d":"2.79"}},0.3443934672584046,{"$f":"(B283-B282)/Sheet3!$I$5","v":-0.9405317102484878},-0.9388254042737308,{"$f":"(D283-D282)/Sheet3!$I$5","v":-0.3396936394922001}]
[{"$f":"A282+Sheet3!I$5","v":{"v":2.7999999999999843,"d":"2.80"}},0.3349881501559197,{"$f":"(B284-B283)/Sheet3!$I$5","v":-0.9438815638344589},-0.9422223406686528,{"$f":"(D284-D283)/Sheet3!$I$5","v":-0.33027149460378435}]
[{"$f":"A283+Sheet3!I$5","v":{"v":2.809999999999984,"d":"2.81"}},0.3255493345175751,{"$f":"(B285-B284)/Sheet3!$I$5","v":-0.9471370300506154},-0.9455250556146907,{"$f":"(D285-D284)/Sheet3!$I$5","v":-0.32081632284113315}]
[{"$f":"A284+Sheet3!I$5","v":{"v":2.819999999999984,"d":"2.82"}},0.31607796421706896,{"$f":"(B286-B285)/Sheet3!$I$5","v":-0.9502977833530379},-0.948733218843102,{"$f":"(D286-D285)/Sheet3!$I$5","v":-0.3113290697135285}]
[{"$f":"A285+Sheet3!I$5","v":{"v":2.8299999999999836,"d":"2.83"}},0.3065749863835386,{"$f":"(B287-B286)/Sheet3!$I$5","v":-0.9533635076690472},-0.9518465095402373,{"$f":"(D287-D286)/Sheet3!$I$5","v":-0.30181068393841937}]
[{"$f":"A286+Sheet3!I$5","v":{"v":2.8399999999999834,"d":"2.84"}},0.2970413513068481,{"$f":"(B288-B287)/Sheet3!$I$5","v":-0.9563338964287571},-0.9548646163796215,{"$f":"(D288-D287)/Sheet3!$I$5","v":-0.29226211734639795}]
[{"$f":"A287+Sheet3!I$5","v":{"v":2.849999999999983,"d":"2.85"}},0.28747801234256054,{"$f":"(B289-B288)/Sheet3!$I$5","v":-0.9592086525957555},-0.9577872375530855,{"$f":"(D289-D288)/Sheet3!$I$5","v":-0.28268432478620875}]
[{"$f":"A288+Sheet3!I$5","v":{"v":2.859999999999983,"d":"2.86"}},0.277885925816603,{"$f":"(B290-B289)/Sheet3!$I$5","v":-0.961987488696836},-0.9606140808009476,{"$f":"(D290-D289)/Sheet3!$I$5","v":-0.27307826402910296}]
[{"$f":"A289+Sheet3!I$5","v":{"v":2.869999999999983,"d":"2.87"}},0.2682660509296346,{"$f":"(B291-B290)/Sheet3!$I$5","v":-0.9646701268507085},-0.9633448634412386,{"$f":"(D291-D290)/Sheet3!$I$5","v":-0.26344489567317053}]
[{"$f":"A290+Sheet3!I$5","v":{"v":2.8799999999999826,"d":"2.88"}},0.25861934966112754,{"$f":"(B292-B291)/Sheet3!$I$5","v":-0.9672562987957767},-0.9659793123979703,{"$f":"(D292-D291)/Sheet3!$I$5","v":-0.2537851830471949}]
[{"$f":"A291+Sheet3!I$5","v":{"v":2.8899999999999824,"d":"2.89"}},0.24894678667316977,{"$f":"(B293-B292)/Sheet3!$I$5","v":-0.9697457459170111},-0.9685171642284423,{"$f":"(D293-D292)/Sheet3!$I$5","v":-0.24410009211439654}]
[{"$f":"A292+Sheet3!I$5","v":{"v":2.899999999999982,"d":"2.90"}},0.23924932921399966,{"$f":"(B294-B293)/Sheet3!$I$5","v":-0.9721382192717731},-0.9709581651495862,{"$f":"(D294-D293)/Sheet3!$I$5","v":-0.23439059137582152}]
[{"$f":"A293+Sheet3!I$5","v":{"v":2.909999999999982,"d":"2.91"}},0.22952794702128193,{"$f":"(B295-B294)/Sheet3!$I$5","v":-0.9744334796147225},-0.9733020710633444,{"$f":"(D295-D294)/Sheet3!$I$5","v":-0.2246576517734189}]
[{"$f":"A294+Sheet3!I$5","v":{"v":2.9199999999999817,"d":"2.92"}},0.2197836122251347,{"$f":"(B296-B295)/Sheet3!$I$5","v":-0.9766312974217317},-0.9755486475810786,{"$f":"(D296-D295)/Sheet3!$I$5","v":-0.21490224659306278}]
[{"$f":"A295+Sheet3!I$5","v":{"v":2.9299999999999815,"d":"2.93"}},0.2100172992509174,{"$f":"(B297-B296)/Sheet3!$I$5","v":-0.9787314529128593},-0.9776976700470092,{"$f":"(D297-D296)/Sheet3!$I$5","v":-0.20512535136713028}]
[{"$f":"A296+Sheet3!I$5","v":{"v":2.9399999999999813,"d":"2.94"}},0.2002299847217888,{"$f":"(B298-B297)/Sheet3!$I$5","v":-0.980733736074299},-0.9797489235606806,{"$f":"(D298-D297)/Sheet3!$I$5","v":-0.1953279437769906}]
[{"$f":"A297+Sheet3!I$5","v":{"v":2.949999999999981,"d":"2.95"}},0.1904226473610458,{"$f":"(B299-B298)/Sheet3!$I$5","v":-0.98263794667941},-0.9817022029984505,{"$f":"(D299-D298)/Sheet3!$I$5","v":-0.18551100355524985}]
[{"$f":"A298+Sheet3!I$5","v":{"v":2.959999999999981,"d":"2.96"}},0.1805962678942517,{"$f":"(B300-B299)/Sheet3!$I$5","v":-0.9844438943087119},-0.983557313034003,{"$f":"(D300-D299)/Sheet3!$I$5","v":-0.1756755123877518}]
[{"$f":"A299+Sheet3!I$5","v":{"v":2.9699999999999807,"d":"2.97"}},0.17075182895116459,{"$f":"(B301-B300)/Sheet3!$I$5","v":-0.9861513983689535},-0.9853140681578805,{"$f":"(D301-D300)/Sheet3!$I$5","v":-0.16582245381540073}]
[{"$f":"A300+Sheet3!I$5","v":{"v":2.9799999999999804,"d":"2.98"}},0.16089031496747505,{"$f":"(B302-B301)/Sheet3!$I$5","v":-0.9877602881111447},-0.9869722926960345,{"$f":"(D302-D301)/Sheet3!$I$5","v":-0.1559528131358512}]
[{"$f":"A301+Sheet3!I$5","v":{"v":2.9899999999999802,"d":"2.99"}},0.1510127120863636,{"$f":"(B303-B302)/Sheet3!$I$5","v":-0.9892704026476601},-0.988531820827393,{"$f":"(D303-D302)/Sheet3!$I$5","v":-0.14606757730496467}]
[{"$f":"A302+Sheet3!I$5","v":{"v":2.99999999999998,"d":"3.00"}},0.141120008059887,{"$f":"(B304-B303)/Sheet3!$I$5","v":-0.9906815909682953},-0.9899924966004426,{"$f":"(D304-D303)/Sheet3!$I$5","v":-0.13616773483805522}]
[{"$f":"A303+Sheet3!I$5","v":{"v":3.00999999999998,"d":"3.01"}},0.13121319215020405,{"$f":"(B305-B304)/Sheet3!$I$5","v":-0.9919937119554023},-0.9913541739488232,{"$f":"(D305-D304)/Sheet3!$I$5","v":-0.12625427571114622}]
[{"$f":"A304+Sheet3!I$5","v":{"v":3.0199999999999796,"d":"3.02"}},0.12129325503065003,{"$f":"(B306-B305)/Sheet3!$I$5","v":-0.9932066343979709},-0.9926167167059347,{"$f":"(D306-D305)/Sheet3!$I$5","v":-0.11632819126186078}]
[{"$f":"A305+Sheet3!I$5","v":{"v":3.0299999999999794,"d":"3.03"}},0.11136118868667032,{"$f":"(B307-B306)/Sheet3!$I$5","v":-0.9943202370047685},-0.9937799986185533,{"$f":"(D307-D306)/Sheet3!$I$5","v":-0.10639047409041202}]
[{"$f":"A306+Sheet3!I$5","v":{"v":3.039999999999979,"d":"3.04"}},0.10141798631662263,{"$f":"(B308-B307)/Sheet3!$I$5","v":-0.995334408416465},-0.9948439033594574,{"$f":"(D308-D307)/Sheet3!$I$5","v":-0.09644211796019375}]
[{"$f":"A307+Sheet3!I$5","v":{"v":3.049999999999979,"d":"3.05"}},0.09146464223245798,{"$f":"(B309-B308)/Sheet3!$I$5","v":-0.9962490472167614},-0.9958083245390593,{"$f":"(D309-D308)/Sheet3!$I$5","v":-0.08648411769854869}]
[{"$f":"A308+Sheet3!I$5","v":{"v":3.0599999999999787,"d":"3.06"}},0.08150215176029037,{"$f":"(B310-B309)/Sheet3!$I$5","v":-0.9970640619425403},-0.9966731657160448,{"$f":"(D310-D309)/Sheet3!$I$5","v":-0.0765174690972148}]
[{"$f":"A309+Sheet3!I$5","v":{"v":3.0699999999999785,"d":"3.07"}},0.07153151114086496,{"$f":"(B311-B310)/Sheet3!$I$5","v":-0.9977793710930098},-0.997438340407017,{"$f":"(D311-D310)/Sheet3!$I$5","v":-0.06654316881273825}]
[{"$f":"A310+Sheet3!I$5","v":{"v":3.0799999999999783,"d":"3.08"}},0.061553717429934866,{"$f":"(B312-B311)/Sheet3!$I$5","v":-0.9983949031378503},-0.9981037720951443,{"$f":"(D312-D311)/Sheet3!$I$5","v":-0.05656221426680874}]
[{"$f":"A311+Sheet3!I$5","v":{"v":3.089999999999978,"d":"3.09"}},0.05156976839855636,{"$f":"(B313-B312)/Sheet3!$I$5","v":-0.9989105965243689},-0.9986693942378124,{"$f":"(D313-D312)/Sheet3!$I$5","v":-0.04657560354661694}]
[{"$f":"A312+Sheet3!I$5","v":{"v":3.099999999999978,"d":"3.10"}},0.041580662433312675,{"$f":"(B314-B313)/Sheet3!$I$5","v":-0.9993263996836581},-0.9991351502732786,{"$f":"(D314-D313)/Sheet3!$I$5","v":-0.03658433530485672}]
[{"$f":"A313+Sheet3!I$5","v":{"v":3.1099999999999777,"d":"3.11"}},0.031587398436476094,{"$f":"(B315-B314)/Sheet3!$I$5","v":-0.9996422710357489},-0.9995009936263272,{"$f":"(D315-D314)/Sheet3!$I$5","v":-0.026589408660071534}]
[{"$f":"A314+Sheet3!I$5","v":{"v":3.1199999999999775,"d":"3.12"}},0.021590975726118605,{"$f":"(B316-B315)/Sheet3!$I$5","v":-0.9998581789937682},-0.9997668877129279,{"$f":"(D316-D315)/Sheet3!$I$5","v":-0.016591823096567815}]
[{"$f":"A315+Sheet3!I$5","v":{"v":3.1299999999999772,"d":"3.13"}},0.011592393936180922,{"$f":"(B317-B316)/Sheet3!$I$5","v":-0.9999741019671},-0.9999328059438936,{"$f":"(D317-D316)/Sheet3!$I$5","v":-0.006592578364594814}]
[{"$f":"A316+Sheet3!I$5","v":{"v":3.139999999999977,"d":"3.14"}},1.5926529165099209E-3,{"$f":"(B318-B317)/Sheet3!$I$5","v":-0.9999900283635448},-0.9999987317275395,{"$f":"(D318-D317)/Sheet3!$I$5","v":3.4073256197308943E-3}]
[{"$f":"A317+Sheet3!I$5","v":{"v":3.149999999999977,"d":"3.15"}},-0.008407247367125526,{"$f":"(B319-B318)/Sheet3!$I$5","v":-0.9999059565904749},-0.9999646584713422,{"$f":"(D319-D318)/Sheet3!$I$5","v":0.01340688887434549}]
[{"$f":"A318+Sheet3!I$5","v":{"v":3.1599999999999766,"d":"3.16"}},-0.018406306933030275,{"$f":"(B320-B319)/Sheet3!$I$5","v":-0.9997218950549984},-0.9998305895825987,{"$f":"(D320-D319)/Sheet3!$I$5","v":0.02340511145122459}]
[{"$f":"A319+Sheet3!I$5","v":{"v":3.1699999999999764,"d":"3.17"}},-0.02840352588358026,{"$f":"(B321-B320)/Sheet3!$I$5","v":-0.9994378621631158},-0.9995965384680865,{"$f":"(D321-D320)/Sheet3!$I$5","v":0.03340099353646986}]
[{"$f":"A320+Sheet3!I$5","v":{"v":3.179999999999976,"d":"3.18"}},-0.03839790450521142,{"$f":"(B322-B321)/Sheet3!$I$5","v":-0.9990538863178778},-0.9992625285327218,{"$f":"(D322-D321)/Sheet3!$I$5","v":0.04339353555019576}]
[{"$f":"A321+Sheet3!I$5","v":{"v":3.189999999999976,"d":"3.19"}},-0.0483884433683902,{"$f":"(B323-B322)/Sheet3!$I$5","v":-0.9985700059165505},-0.9988285931772198,{"$f":"(D323-D322)/Sheet3!$I$5","v":0.05338173824653847}]
[{"$f":"A322+Sheet3!I$5","v":{"v":3.1999999999999758,"d":"3.20"}},-0.0583741434275557,{"$f":"(B324-B323)/Sheet3!$I$5","v":-0.9979862693467706},-0.9982947757947545,{"$f":"(D324-D323)/Sheet3!$I$5","v":0.06336460281352041}]
[{"$f":"A323+Sheet3!I$5","v":{"v":3.2099999999999755,"d":"3.21"}},{"$f":"SIN(A324)","v":-0.06835400612102341},{"$f":"(B325-B324)/Sheet3!$I$5","v":-0.9973027349817101},{"$f":"COS(A324)","v":-0.9976611297666192},{"$f":"(D325-D324)/Sheet3!$I$5","v":0.07334113097303696}]
[{"$f":"A324+Sheet3!I$5","v":{"v":3.2199999999999753,"d":"3.22"}},-0.07832703347084051,{"$f":"(B326-B325)/Sheet3!$I$5","v":-0.9965194711742315},-0.9969277184568889,{"$f":"(D326-D325)/Sheet3!$I$5","v":0.08331032508057667}]
[{"$f":"A325+Sheet3!I$5","v":{"v":3.229999999999975,"d":"3.23"}},-0.08829222818258282,{"$f":"(B327-B326)/Sheet3!$I$5","v":-0.9956365562500665},-0.9960946152060831,{"$f":"(D327-D326)/Sheet3!$I$5","v":0.09327118822503033}]
[{"$f":"A326+Sheet3!I$5","v":{"v":3.239999999999975,"d":"3.24"}},-0.09824859374508349,{"$f":"(B328-B327)/Sheet3!$I$5","v":-0.9946540784999721},-0.9951619033238328,{"$f":"(D328-D327)/Sheet3!$I$5","v":0.10322272432838897}]
[{"$f":"A327+Sheet3!I$5","v":{"v":3.2499999999999747,"d":"3.25"}},-0.10819513453008321,{"$f":"(B329-B328)/Sheet3!$I$5","v":-0.9935721361709018},-0.9941296760805489,{"$f":"(D329-D328)/Sheet3!$I$5","v":0.11316393824531978}]
[{"$f":"A328+Sheet3!I$5","v":{"v":3.2599999999999745,"d":"3.26"}},-0.11813085589179223,{"$f":"(B330-B329)/Sheet3!$I$5","v":-0.9923908374561891},-0.9929980366980957,{"$f":"(D330-D329)/Sheet3!$I$5","v":0.12309383586275313}]
[{"$f":"A329+Sheet3!I$5","v":{"v":3.2699999999999743,"d":"3.27"}},-0.12805476426635412,{"$f":"(B331-B330)/Sheet3!$I$5","v":-0.991110300484721},-0.9917670983394682,{"$f":"(D331-D330)/Sheet3!$I$5","v":0.13301142419914758}]
[{"$f":"A330+Sheet3!I$5","v":{"v":3.279999999999974,"d":"3.28"}},-0.13796586727120133,{"$f":"(B332-B331)/Sheet3!$I$5","v":-0.989730653309126},-0.9904369840974767,{"$f":"(D332-D331)/Sheet3!$I$5","v":0.14291571150399918}]
[{"$f":"A331+Sheet3!I$5","v":{"v":3.289999999999974,"d":"3.29"}},-0.1478631738042926,{"$f":"(B333-B332)/Sheet3!$I$5","v":-0.9882520338929751},-0.9890078269824367,{"$f":"(D333-D332)/Sheet3!$I$5","v":0.15280570735676235}]
[{"$f":"A332+Sheet3!I$5","v":{"v":3.2999999999999736,"d":"3.30"}},-0.15774569414322234,{"$f":"(B334-B333)/Sheet3!$I$5","v":-0.9866745900969698},-0.9874797699088691,{"$f":"(D334-D333)/Sheet3!$I$5","v":0.16268042276615935}]
[{"$f":"A333+Sheet3!I$5","v":{"v":3.3099999999999734,"d":"3.31"}},-0.16761244004419204,{"$f":"(B335-B334)/Sheet3!$I$5","v":-0.984998479664187},-0.9858529656812075,{"$f":"(D335-D334)/Sheet3!$I$5","v":0.17253887026882353}]
[{"$f":"A334+Sheet3!I$5","v":{"v":3.319999999999973,"d":"3.32"}},-0.1774624248408339,{"$f":"(B336-B335)/Sheet3!$I$5","v":-0.9832238702042667},-0.9841275769785193,{"$f":"(D336-D335)/Sheet3!$I$5","v":0.18238006402825357}]
[{"$f":"A335+Sheet3!I$5","v":{"v":3.329999999999973,"d":"3.33"}},-0.18729466354287658,{"$f":"(B337-B336)/Sheet3!$I$5","v":-0.9813509391766728},-0.9823037763382367,{"$f":"(D337-D336)/Sheet3!$I$5","v":0.19220301993325695}]
[{"$f":"A336+Sheet3!I$5","v":{"v":3.3399999999999728,"d":"3.34"}},-0.1971081729346433,{"$f":"(B338-B337)/Sheet3!$I$5","v":-0.9793798738729514},-0.9803817461389042,{"$f":"(D338-D337)/Sheet3!$I$5","v":0.20200675569643778}]
[{"$f":"A337+Sheet3!I$5","v":{"v":3.3499999999999726,"d":"3.35"}},-0.20690197167337282,{"$f":"(B339-B338)/Sheet3!$I$5","v":-0.9773108713979933},-0.9783616785819398,{"$f":"(D339-D338)/Sheet3!$I$5","v":0.2117902909523961}]
[{"$f":"A338+Sheet3!I$5","v":{"v":3.3599999999999723,"d":"3.36"}},-0.21667508038735275,{"$f":"(B340-B339)/Sheet3!$I$5","v":-0.9751441386503135},-0.9762437756724158,{"$f":"(D340-D339)/Sheet3!$I$5","v":0.22155264735573832}]
[{"$f":"A339+Sheet3!I$5","v":{"v":3.369999999999972,"d":"3.37"}},-0.2264265217738559,{"$f":"(B341-B340)/Sheet3!$I$5","v":-0.9728798923013926},-0.9740282491988584,{"$f":"(D341-D340)/Sheet3!$I$5","v":0.2312928486789767}]
[{"$f":"A340+Sheet3!I$5","v":{"v":3.379999999999972,"d":"3.38"}},-0.2361553206968698,{"$f":"(B342-B341)/Sheet3!$I$5","v":-0.9705183587739669},-0.9717153207120687,{"$f":"(D342-D341)/Sheet3!$I$5","v":0.24100992091008466}]
[{"$f":"A341+Sheet3!I$5","v":{"v":3.3899999999999717,"d":"3.39"}},-0.24586050428460948,{"$f":"(B343-B342)/Sheet3!$I$5","v":-0.9680597742194263},-0.9693052215029678,{"$f":"(D343-D342)/Sheet3!$I$5","v":0.25070289234995213}]
[{"$f":"A342+Sheet3!I$5","v":{"v":3.3999999999999715,"d":"3.40"}},-0.25554110202680375,{"$f":"(B344-B343)/Sheet3!$I$5","v":-0.9655043844941813},-0.9667981925794683,{"$f":"(D344-D343)/Sheet3!$I$5","v":0.2603707937094968}]
[{"$f":"A343+Sheet3!I$5","v":{"v":3.4099999999999713,"d":"3.41"}},-0.26519614587174556,{"$f":"(B345-B344)/Sheet3!$I$5","v":-0.9628524451350706},-0.9641944846423733,{"$f":"(D345-D344)/Sheet3!$I$5","v":0.2700126582066531}]
[{"$f":"A344+Sheet3!I$5","v":{"v":3.419999999999971,"d":"3.42"}},-0.27482467032309627,{"$f":"(B346-B345)/Sheet3!$I$5","v":-0.9601042213338185},-0.9614943580603068,{"$f":"(D346-D345)/Sheet3!$I$5","v":0.2796275216629951}]
[{"$f":"A345+Sheet3!I$5","v":{"v":3.429999999999971,"d":"3.43"}},-0.28442571253643445,{"$f":"(B347-B346)/Sheet3!$I$5","v":-0.9572599879105137},-0.9586980828436769,{"$f":"(D347-D346)/Sheet3!$I$5","v":0.2892144226001814}]
[{"$f":"A346+Sheet3!I$5","v":{"v":3.4399999999999706,"d":"3.44"}},-0.2939983124155396,{"$f":"(B348-B347)/Sheet3!$I$5","v":-0.9543200292861376},-0.955805938617675,{"$f":"(D348-D347)/Sheet3!$I$5","v":0.2987724023361338}]
[{"$f":"A347+Sheet3!I$5","v":{"v":3.4499999999999704,"d":"3.45"}},-0.30354151270840096,{"$f":"(B349-B348)/Sheet3!$I$5","v":-0.9512846394540975},-0.9528182145943137,{"$f":"(D349-D348)/Sheet3!$I$5","v":0.3083005050808274}]
[{"$f":"A348+Sheet3!I$5","v":{"v":3.45999999999997,"d":"3.46"}},-0.31305435910294194,{"$f":"(B350-B349)/Sheet3!$I$5","v":-0.9481541219508449},-0.9497352095435054,{"$f":"(D350-D349)/Sheet3!$I$5","v":0.3177977780319141}]
[{"$f":"A349+Sheet3!I$5","v":{"v":3.46999999999997,"d":"3.47"}},-0.3225359003224504,{"$f":"(B351-B350)/Sheet3!$I$5","v":-0.9449287898255221},-0.9465572317631863,{"$f":"(D351-D350)/Sheet3!$I$5","v":0.3272632714700463}]
[{"$f":"A350+Sheet3!I$5","v":{"v":3.47999999999997,"d":"3.48"}},-0.3319851882207056,{"$f":"(B352-B351)/Sheet3!$I$5","v":-0.9416089656086535},-0.9432845990484858,{"$f":"(D352-D351)/Sheet3!$I$5","v":0.33669603885374544}]
[{"$f":"A351+Sheet3!I$5","v":{"v":3.4899999999999696,"d":"3.49"}},-0.34140127787679214,{"$f":"(B353-B352)/Sheet3!$I$5","v":-0.9381949812798995},-0.9399176386599484,{"$f":"(D353-D352)/Sheet3!$I$5","v":0.3460951369141263}]
[{"$f":"A352+Sheet3!I$5","v":{"v":3.4999999999999694,"d":"3.50"}},-0.35078322768959114,{"$f":"(B354-B353)/Sheet3!$I$5","v":-0.9346871782348443},-0.9364566872908071,{"$f":"(D354-D353)/Sheet3!$I$5","v":0.3554596257492437}]
[{"$f":"A353+Sheet3!I$5","v":{"v":3.509999999999969,"d":"3.51"}},-0.3601300994719396,{"$f":"(B355-B354)/Sheet3!$I$5","v":-0.9310859072508615},-0.9329020910333147,{"$f":"(D355-D354)/Sheet3!$I$5","v":0.36478856891799527}]
[{"$f":"A354+Sheet3!I$5","v":{"v":3.519999999999969,"d":"3.52"}},-0.3694409585444482,{"$f":"(B356-B355)/Sheet3!$I$5","v":-0.9273915284520651},-0.9292542053441347,{"$f":"(D356-D355)/Sheet3!$I$5","v":0.37408103353384625}]
[{"$f":"A355+Sheet3!I$5","v":{"v":3.5299999999999687,"d":"3.53"}},-0.37871487382896885,{"$f":"(B357-B356)/Sheet3!$I$5","v":-0.9236044112732433},-0.9255133950087963,{"$f":"(D357-D356)/Sheet3!$I$5","v":0.38333609035806626}]
[{"$f":"A356+Sheet3!I$5","v":{"v":3.5399999999999685,"d":"3.54"}},-0.3879509179417013,{"$f":"(B358-B357)/Sheet3!$I$5","v":-0.9197249344229552},-0.9216800341052156,{"$f":"(D358-D357)/Sheet3!$I$5","v":0.39255281389271035}]
[{"$f":"A357+Sheet3!I$5","v":{"v":3.5499999999999683,"d":"3.55"}},-0.39714816728593083,{"$f":"(B359-B358)/Sheet3!$I$5","v":-0.9157534858456717},-0.9177545059662885,{"$f":"(D359-D358)/Sheet3!$I$5","v":0.4017302824730784}]
[{"$f":"A358+Sheet3!I$5","v":{"v":3.559999999999968,"d":"3.56"}},-0.40630570214438755,{"$f":"(B360-B359)/Sheet3!$I$5","v":-0.9116904626829236},-0.9137372031415577,{"$f":"(D360-D359)/Sheet3!$I$5","v":0.4108675783599858}]
[{"$f":"A359+Sheet3!I$5","v":{"v":3.569999999999968,"d":"3.57"}},-0.4154226067712168,{"$f":"(B361-B360)/Sheet3!$I$5","v":-0.9075362712336443},-0.9096285273579579,{"$f":"(D361-D360)/Sheet3!$I$5","v":0.4199637878314455}]
[{"$f":"A360+Sheet3!I$5","v":{"v":3.5799999999999677,"d":"3.58"}},-0.42449796948355323,{"$f":"(B362-B361)/Sheet3!$I$5","v":-0.9032913269135245},-0.9054288894796434,{"$f":"(D362-D361)/Sheet3!$I$5","v":0.42901800127408407}]
[{"$f":"A361+Sheet3!I$5","v":{"v":3.5899999999999674,"d":"3.59"}},-0.4335308827526885,{"$f":"(B363-B362)/Sheet3!$I$5","v":-0.8989560542134512},-0.9011387094669026,{"$f":"(D363-D362)/Sheet3!$I$5","v":0.438029313274102}]
[{"$f":"A362+Sheet3!I$5","v":{"v":3.5999999999999672,"d":"3.60"}},-0.442520443294823,{"$f":"(B364-B363)/Sheet3!$I$5","v":-0.8945308866570856},-0.8967584163341615,{"$f":"(D364-D363)/Sheet3!$I$5","v":0.4469968227078347}]
[{"$f":"A363+Sheet3!I$5","v":{"v":3.609999999999967,"d":"3.61"}},-0.45146575216139384,{"$f":"(B365-B364)/Sheet3!$I$5","v":-0.8900162667574874},-0.8922884481070832,{"$f":"(D365-D364)/Sheet3!$I$5","v":0.4559196328317805}]
[{"$f":"A364+Sheet3!I$5","v":{"v":3.619999999999967,"d":"3.62"}},-0.4603659148289687,{"$f":"(B366-B365)/Sheet3!$I$5","v":-0.8854126459728995},-0.8877292517787654,{"$f":"(D366-D365)/Sheet3!$I$5","v":0.46479685137237325}]
[{"$f":"A365+Sheet3!I$5","v":{"v":3.6299999999999666,"d":"3.63"}},-0.4692200412886977,{"$f":"(B367-B366)/Sheet3!$I$5","v":-0.8807204846615513},-0.8830812832650416,{"$f":"(D367-D366)/Sheet3!$I$5","v":0.47362759061515547}]
[{"$f":"A366+Sheet3!I$5","v":{"v":3.6399999999999664,"d":"3.64"}},-0.4780272461353132,{"$f":"(B368-B367)/Sheet3!$I$5","v":-0.8759402520356674},-0.8783450073588901,{"$f":"(D368-D367)/Sheet3!$I$5","v":0.48241096749357393}]
[{"$f":"A367+Sheet3!I$5","v":{"v":3.649999999999966,"d":"3.65"}},-0.4867866486556699,{"$f":"(B369-B368)/Sheet3!$I$5","v":-0.8710724261145331},-0.8735208976839544,{"$f":"(D369-D368)/Sheet3!$I$5","v":0.49114610367725353}]
[{"$f":"A368+Sheet3!I$5","v":{"v":3.659999999999966,"d":"3.66"}},-0.4954973729168152,{"$f":"(B370-B369)/Sheet3!$I$5","v":-0.8661174936766713},-0.8686094366471818,{"$f":"(D370-D369)/Sheet3!$I$5","v":0.49983212565984925}]
[{"$f":"A369+Sheet3!I$5","v":{"v":3.6699999999999657,"d":"3.67"}},-0.5041585478535819,{"$f":"(B371-B370)/Sheet3!$I$5","v":-0.8610759502112098},-0.8636111153905833,{"$f":"(D371-D370)/Sheet3!$I$5","v":0.5084681648463985}]
[{"$f":"A370+Sheet3!I$5","v":{"v":3.6799999999999655,"d":"3.68"}},-0.512769307355694,{"$f":"(B372-B371)/Sheet3!$I$5","v":-0.8559482998682921},-0.8585264337421193,{"$f":"(D372-D371)/Sheet3!$I$5","v":0.5170533576401848}]
[{"$f":"A371+Sheet3!I$5","v":{"v":3.6899999999999653,"d":"3.69"}},-0.521328790354377,{"$f":"(B373-B372)/Sheet3!$I$5","v":-0.850735055408669},-0.8533559001657175,{"$f":"(D373-D372)/Sheet3!$I$5","v":0.5255868455290802}]
[{"$f":"A372+Sheet3!I$5","v":{"v":3.699999999999965,"d":"3.70"}},-0.5298361409084636,{"$f":"(B374-B373)/Sheet3!$I$5","v":-0.8454367381524386},-0.8481000317104267,{"$f":"(D374-D373)/Sheet3!$I$5","v":0.5340677751714318}]
[{"$f":"A373+Sheet3!I$5","v":{"v":3.709999999999965,"d":"3.71"}},-0.538290508289988,{"$f":"(B375-B374)/Sheet3!$I$5","v":-0.8400538779269384},-0.8427593539587124,{"$f":"(D375-D374)/Sheet3!$I$5","v":0.5424952984812936}]
[{"$f":"A374+Sheet3!I$5","v":{"v":3.7199999999999647,"d":"3.72"}},-0.5466910470692574,{"$f":"(B376-B375)/Sheet3!$I$5","v":-0.8345870130136879},-0.8373344009738994,{"$f":"(D376-D375)/Sheet3!$I$5","v":0.5508685727134033}]
[{"$f":"A375+Sheet3!I$5","v":{"v":3.7299999999999645,"d":"3.73"}},-0.5550369171993943,{"$f":"(B377-B376)/Sheet3!$I$5","v":-0.8290366900946089},-0.8318257152467654,{"$f":"(D377-D376)/Sheet3!$I$5","v":0.5591867605473033}]
[{"$f":"A376+Sheet3!I$5","v":{"v":3.7399999999999642,"d":"3.74"}},-0.5633272841003404,{"$f":"(B378-B377)/Sheet3!$I$5","v":-0.823403464197392},-0.8262338476412924,{"$f":"(D378-D377)/Sheet3!$I$5","v":0.5674490301711077}]
[{"$f":"A377+Sheet3!I$5","v":{"v":3.749999999999964,"d":"3.75"}},-0.5715613187423143,{"$f":"(B379-B378)/Sheet3!$I$5","v":-0.8176878986399183},-0.8205593573395813,{"$f":"(D379-D378)/Sheet3!$I$5","v":0.5756545553647907}]
[{"$f":"A378+Sheet3!I$5","v":{"v":3.759999999999964,"d":"3.76"}},-0.5797381977287135,{"$f":"(B380-B379)/Sheet3!$I$5","v":-0.8118905649739827},-0.8148028117859334,{"$f":"(D380-D379)/Sheet3!$I$5","v":0.5838025155826432}]
[{"$f":"A379+Sheet3!I$5","v":{"v":3.7699999999999636,"d":"3.77"}},-0.5878571033784533,{"$f":"(B381-B380)/Sheet3!$I$5","v":-0.8060120429281281},-0.808964786630107,{"$f":"(D381-D380)/Sheet3!$I$5","v":0.5918920960354401}]
[{"$f":"A380+Sheet3!I$5","v":{"v":3.7799999999999634,"d":"3.78"}},-0.5959172238077346,{"$f":"(B382-B381)/Sheet3!$I$5","v":-0.8000529203496587},-0.8030458656697526,{"$f":"(D382-D381)/Sheet3!$I$5","v":0.5999224877718645}]
[{"$f":"A381+Sheet3!I$5","v":{"v":3.789999999999963,"d":"3.79"}},-0.6039177530112312,{"$f":"(B383-B382)/Sheet3!$I$5","v":-0.7940137931458646},-0.7970466407920339,{"$f":"(D383-D382)/Sheet3!$I$5","v":0.6078928877594536}]
[{"$f":"A382+Sheet3!I$5","v":{"v":3.799999999999963,"d":"3.80"}},-0.6118578909426898,{"$f":"(B384-B383)/Sheet3!$I$5","v":-0.7878952652244142},-0.7909677119144394,{"$f":"(D384-D383)/Sheet3!$I$5","v":0.6158024989648458}]
[{"$f":"A383+Sheet3!I$5","v":{"v":3.8099999999999627,"d":"3.81"}},-0.619736843594934,{"$f":"(B385-B384)/Sheet3!$I$5","v":-0.7816979484330355},-0.7848096869247909,{"$f":"(D385-D384)/Sheet3!$I$5","v":0.6236505304334949}]
[{"$f":"A384+Sheet3!I$5","v":{"v":3.8199999999999625,"d":"3.82"}},-0.6275538230792643,{"$f":"(B386-B385)/Sheet3!$I$5","v":-0.7754224624982209},-0.778573181620456,{"$f":"(D386-D385)/Sheet3!$I$5","v":0.6314361973688287}]
[{"$f":"A385+Sheet3!I$5","v":{"v":3.8299999999999623,"d":"3.83"}},-0.6353080477042465,{"$f":"(B387-B386)/Sheet3!$I$5","v":-0.769069434963332},-0.7722588196467677,{"$f":"(D387-D386)/Sheet3!$I$5","v":0.6391587212105976}]
[{"$f":"A386+Sheet3!I$5","v":{"v":3.839999999999962,"d":"3.84"}},-0.6429987420538799,{"$f":"(B388-B387)/Sheet3!$I$5","v":-0.7626395011258502},-0.7658672324346617,{"$f":"(D388-D387)/Sheet3!$I$5","v":0.646817329712901}]
[{"$f":"A387+Sheet3!I$5","v":{"v":3.849999999999962,"d":"3.85"}},{"$f":"SIN(A388)","v":-0.6506251370651384},{"$f":"(B389-B388)/Sheet3!$I$5","v":-0.7561333039737828},{"$f":"COS(A388)","v":-0.7593990591375327},{"$f":"(D389-D388)/Sheet3!$I$5","v":0.6544112570212257}]
[{"$f":"A388+Sheet3!I$5","v":{"v":3.8599999999999617,"d":"3.86"}},-0.6581864701048762,{"$f":"(B390-B389)/Sheet3!$I$5","v":-0.7495514941214143},-0.7528549465673204,{"$f":"(D390-D389)/Sheet3!$I$5","v":0.6619397437491847}]
[{"$f":"A389+Sheet3!I$5","v":{"v":3.8699999999999615,"d":"3.87"}},-0.6656819850460903,{"$f":"(B391-B390)/Sheet3!$I$5","v":-0.7428947297442701},-0.7462355491298286,{"$f":"(D391-D390)/Sheet3!$I$5","v":0.6694020370544118}]
[{"$f":"A390+Sheet3!I$5","v":{"v":3.8799999999999613,"d":"3.88"}},-0.673110932343533,{"$f":"(B392-B391)/Sheet3!$I$5","v":-0.7361636765132351},-0.7395415287592845,{"$f":"(D392-D391)/Sheet3!$I$5","v":0.6767973907137348}]
[{"$f":"A391+Sheet3!I$5","v":{"v":3.889999999999961,"d":"3.89"}},-0.6804725691086654,{"$f":"(B393-B392)/Sheet3!$I$5","v":-0.7293590075279965},-0.7327735548521471,{"$f":"(D393-D392)/Sheet3!$I$5","v":0.6841250651980046}]
[{"$f":"A392+Sheet3!I$5","v":{"v":3.899999999999961,"d":"3.90"}},-0.6877661591839453,{"$f":"(B394-B393)/Sheet3!$I$5","v":-0.7224814032498195},-0.7259323042001671,{"$f":"(D394-D393)/Sheet3!$I$5","v":0.6913843277458476}]
[{"$f":"A393+Sheet3!I$5","v":{"v":3.9099999999999606,"d":"3.91"}},-0.6949909732164435,{"$f":"(B395-B394)/Sheet3!$I$5","v":-0.7155315514333793},-0.7190184609227086,{"$f":"(D395-D394)/Sheet3!$I$5","v":0.698574452437073}]
[{"$f":"A394+Sheet3!I$5","v":{"v":3.9199999999999604,"d":"3.92"}},-0.7021462887307773,{"$f":"(B396-B395)/Sheet3!$I$5","v":-0.7085101470580613},-0.7120327163983379,{"$f":"(D396-D395)/Sheet3!$I$5","v":0.705694720265182}]
[{"$f":"A395+Sheet3!I$5","v":{"v":3.92999999999996,"d":"3.93"}},-0.709231390201358,{"$f":"(B397-B396)/Sheet3!$I$5","v":-0.7014178922584713},-0.704975769195686,{"$f":"(D397-D396)/Sheet3!$I$5","v":0.7127444192093657}]
[{"$f":"A396+Sheet3!I$5","v":{"v":3.93999999999996,"d":"3.94"}},-0.7162455691239427,{"$f":"(B398-B397)/Sheet3!$I$5","v":-0.6942554962541592},-0.6978483250035924,{"$f":"(D398-D397)/Sheet3!$I$5","v":0.7197228443055592}]
[{"$f":"A397+Sheet3!I$5","v":{"v":3.9499999999999598,"d":"3.95"}},-0.7231881240864843,{"$f":"(B399-B398)/Sheet3!$I$5","v":-0.6870236752787751},-0.6906510965605368,{"$f":"(D399-D398)/Sheet3!$I$5","v":0.7266292977171074}]
[{"$f":"A398+Sheet3!I$5","v":{"v":3.9599999999999596,"d":"3.96"}},-0.730058360839272,{"$f":"(B400-B399)/Sheet3!$I$5","v":-0.6797231525083713},-0.6833848035833657,{"$f":"(D400-D399)/Sheet3!$I$5","v":0.7334630888043869}]
[{"$f":"A399+Sheet3!I$5","v":{"v":3.9699999999999593,"d":"3.97"}},-0.7368555923643557,{"$f":"(B401-B400)/Sheet3!$I$5","v":-0.6723546579891604},-0.6760501726953219,{"$f":"(D401-D400)/Sheet3!$I$5","v":0.7402235341940178}]
[{"$f":"A400+Sheet3!I$5","v":{"v":3.979999999999959,"d":"3.98"}},-0.7435791389442473,{"$f":"(B402-B401)/Sheet3!$I$5","v":-0.6649189285644397},-0.6686479373533817,{"$f":"(D402-D401)/Sheet3!$I$5","v":0.746909957847075}]
[{"$f":"A401+Sheet3!I$5","v":{"v":3.989999999999959,"d":"3.99"}},-0.7502283282298917,{"$f":"(B403-B402)/Sheet3!$I$5","v":-0.6574167078009507},-0.6611788377749109,{"$f":"(D403-D402)/Sheet3!$I$5","v":0.7535216911267795}]
[{"$f":"A402+Sheet3!I$5","v":{"v":3.9999999999999587,"d":"4.00"}},-0.7568024953079012,{"$f":"(B404-B403)/Sheet3!$I$5","v":-0.6498487459145719},-0.6536436208636431,{"$f":"(D404-D403)/Sheet3!$I$5","v":0.7600580728653217}]
[{"$f":"A403+Sheet3!I$5","v":{"v":4.009999999999959,"d":"4.01"}},-0.7633009827670469,{"$f":"(B405-B404)/Sheet3!$I$5","v":-0.6422157996950784},-0.6460430401349899,{"$f":"(D405-D404)/Sheet3!$I$5","v":0.7665184494298982}]
[{"$f":"A404+Sheet3!I$5","v":{"v":4.019999999999959,"d":"4.02"}},-0.7697231407639977,{"$f":"(B406-B405)/Sheet3!$I$5","v":-0.634518632430825},-0.6383778556406909,{"$f":"(D406-D405)/Sheet3!$I$5","v":0.7729021747883258}]
[{"$f":"A405+Sheet3!I$5","v":{"v":4.0299999999999585,"d":"4.03"}},-0.776068327088306,{"$f":"(B407-B406)/Sheet3!$I$5","v":-0.6267580138320739},-0.6306488338928077,{"$f":"(D407-D406)/Sheet3!$I$5","v":0.7792086105733564}]
[{"$f":"A406+Sheet3!I$5","v":{"v":4.039999999999958,"d":"4.04"}},-0.7823359072266267,{"$f":"(B408-B407)/Sheet3!$I$5","v":-0.6189347199542561},-0.6228567477870741,{"$f":"(D408-D407)/Sheet3!$I$5","v":0.7854371261466708}]
[{"$f":"A407+Sheet3!I$5","v":{"v":4.049999999999958,"d":"4.05"}},-0.7885252544261693,{"$f":"(B409-B408)/Sheet3!$I$5","v":-0.6110495331202226},-0.6150023765256074,{"$f":"(D409-D408)/Sheet3!$I$5","v":0.7915870986619056}]
[{"$f":"A408+Sheet3!I$5","v":{"v":4.059999999999958,"d":"4.06"}},-0.7946357497573715,{"$f":"(B410-B409)/Sheet3!$I$5","v":-0.6031032418420623},-0.6070865055389884,{"$f":"(D410-D409)/Sheet3!$I$5","v":0.7976579131269257}]
[{"$f":"A409+Sheet3!I$5","v":{"v":4.069999999999958,"d":"4.07"}},-0.8006667821757921,{"$f":"(B411-B410)/Sheet3!$I$5","v":-0.5950966407423208},-0.5991099264077191,{"$f":"(D411-D410)/Sheet3!$I$5","v":0.8036489624653309}]
[{"$f":"A410+Sheet3!I$5","v":{"v":4.079999999999957,"d":"4.08"}},-0.8066177485832153,{"$f":"(B412-B411)/Sheet3!$I$5","v":-0.5870305304744083},-0.5910734367830658,{"$f":"(D412-D411)/Sheet3!$I$5","v":0.8095596475772071}]
[{"$f":"A411+Sheet3!I$5","v":{"v":4.089999999999957,"d":"4.09"}},-0.8124880538879594,{"$f":"(B413-B412)/Sheet3!$I$5","v":-0.5789057176426415},-0.5829778403072937,{"$f":"(D413-D412)/Sheet3!$I$5","v":0.8153893773989673}]
[{"$f":"A412+Sheet3!I$5","v":{"v":4.099999999999957,"d":"4.10"}},-0.8182771110643858,{"$f":"(B414-B413)/Sheet3!$I$5","v":-0.5707230147215303},-0.574823946533304,{"$f":"(D414-D413)/Sheet3!$I$5","v":0.8211375689624489}]
[{"$f":"A413+Sheet3!I$5","v":{"v":4.109999999999957,"d":"4.11"}},-0.8239843412116011,{"$f":"(B415-B414)/Sheet3!$I$5","v":-0.5624832399745427},-0.5666125708436796,{"$f":"(D415-D414)/Sheet3!$I$5","v":0.8268036474533336}]
[{"$f":"A414+Sheet3!I$5","v":{"v":4.119999999999957,"d":"4.12"}},-0.8296091736113466,{"$f":"(B416-B415)/Sheet3!$I$5","v":-0.5541872173723039},-0.5583445343691462,{"$f":"(D416-D415)/Sheet3!$I$5","v":0.832387046268479}]
[{"$f":"A415+Sheet3!I$5","v":{"v":4.129999999999956,"d":"4.13"}},-0.8351510457850696,{"$f":"(B417-B416)/Sheet3!$I$5","v":-0.5458357765101285},-0.5500206639064614,{"$f":"(D417-D416)/Sheet3!$I$5","v":0.8378872070726295}]
[{"$f":"A416+Sheet3!I$5","v":{"v":4.139999999999956,"d":"4.14"}},-0.8406094035501709,{"$f":"(B418-B417)/Sheet3!$I$5","v":-0.5374297525251981},-0.5416417918357351,{"$f":"(D418-D417)/Sheet3!$I$5","v":0.8433035798543154}]
[{"$f":"A417+Sheet3!I$5","v":{"v":4.149999999999956,"d":"4.15"}},-0.8459837010754229,{"$f":"(B419-B418)/Sheet3!$I$5","v":-0.5289699860128394},-0.533208756037192,{"$f":"(D419-D418)/Sheet3!$I$5","v":0.8486356229807868}]
[{"$f":"A418+Sheet3!I$5","v":{"v":4.159999999999956,"d":"4.16"}},-0.8512734009355513,{"$f":"(B420-B419)/Sheet3!$I$5","v":-0.5204573229426912},-0.5247223998073841,{"$f":"(D420-D419)/Sheet3!$I$5","v":0.8538828032521373}]
[{"$f":"A419+Sheet3!I$5","v":{"v":4.1699999999999555,"d":"4.17"}},-0.8564779741649782,{"$f":"(B421-B420)/Sheet3!$I$5","v":-0.5118926145739833},-0.5161835717748627,{"$f":"(D421-D420)/Sheet3!$I$5","v":0.8590445959547166}]
[{"$f":"A420+Sheet3!I$5","v":{"v":4.179999999999955,"d":"4.18"}},-0.861596900310718,{"$f":"(B422-B421)/Sheet3!$I$5","v":-0.5032767173703712},-0.5075931258153156,{"$f":"(D422-D421)/Sheet3!$I$5","v":0.8641204849135997}]
[{"$f":"A421+Sheet3!I$5","v":{"v":4.189999999999955,"d":"4.19"}},-0.8666296674844217,{"$f":"(B423-B422)/Sheet3!$I$5","v":-0.4946104929144268},-0.4989519209661796,{"$f":"(D423-D422)/Sheet3!$I$5","v":0.8691099625440679}]
[{"$f":"A422+Sheet3!I$5","v":{"v":4.199999999999955,"d":"4.20"}},-0.871575772413566,{"$f":"(B424-B423)/Sheet3!$I$5","v":-0.4858948078213632},-0.4902608213407389,{"$f":"(D424-D423)/Sheet3!$I$5","v":0.8740125299025403}]
[{"$f":"A423+Sheet3!I$5","v":{"v":4.209999999999955,"d":"4.21"}},-0.8764347204917796,{"$f":"(B425-B424)/Sheet3!$I$5","v":-0.47713053365242564},-0.4815206960417135,{"$f":"(D425-D424)/Sheet3!$I$5","v":0.8788276967363673}]
[{"$f":"A424+Sheet3!I$5","v":{"v":4.2199999999999545,"d":"4.22"}},-0.8812060258283039,{"$f":"(B426-B425)/Sheet3!$I$5","v":-0.46831854682773955},-0.4727324190743498,{"$f":"(D426-D425)/Sheet3!$I$5","v":0.8835549815328747}]
[{"$f":"A425+Sheet3!I$5","v":{"v":4.229999999999954,"d":"4.23"}},-0.8858892112965813,{"$f":"(B427-B426)/Sheet3!$I$5","v":-0.4594597285386248},-0.46389686925902107,{"$f":"(D427-D426)/Sheet3!$I$5","v":0.8881939115675253}]
[{"$f":"A426+Sheet3!I$5","v":{"v":4.239999999999954,"d":"4.24"}},-0.8904838085819675,{"$f":"(B428-B427)/Sheet3!$I$5","v":-0.45055496465954414},-0.4550149301433458,{"$f":"(D428-D427)/Sheet3!$I$5","v":0.8927440229511696}]
[{"$f":"A427+Sheet3!I$5","v":{"v":4.249999999999954,"d":"4.25"}},-0.894989358228563,{"$f":"(B429-B428)/Sheet3!$I$5","v":-0.44160514565945164},-0.4460874899138341,{"$f":"(D429-D428)/Sheet3!$I$5","v":0.897204860676476}]
[{"$f":"A428+Sheet3!I$5","v":{"v":4.259999999999954,"d":"4.26"}},-0.8994054096851575,{"$f":"(B430-B429)/Sheet3!$I$5","v":-0.4326111665128085},-0.43711544130706936,{"$f":"(D430-D429)/Sheet3!$I$5","v":0.901575978663377}]
[{"$f":"A429+Sheet3!I$5","v":{"v":4.269999999999953,"d":"4.27"}},-0.9037315213502856,{"$f":"(B431-B430)/Sheet3!$I$5","v":-0.42357392661001025},-0.4280996815204356,{"$f":"(D431-D430)/Sheet3!$I$5","v":0.9058569398037286}]
[{"$f":"A430+Sheet3!I$5","v":{"v":4.279999999999953,"d":"4.28"}},-0.9079672606163857,{"$f":"(B432-B431)/Sheet3!$I$5","v":-0.4144943296675363},-0.4190411121223983,{"$f":"(D432-D431)/Sheet3!$I$5","v":0.9100473160049805}]
[{"$f":"A431+Sheet3!I$5","v":{"v":4.289999999999953,"d":"4.29"}},-0.912112203913061,{"$f":"(B433-B432)/Sheet3!$I$5","v":-0.40537328363750014},-0.4099406389623485,{"$f":"(D433-D432)/Sheet3!$I$5","v":0.9141466882329918}]
[{"$f":"A432+Sheet3!I$5","v":{"v":4.299999999999953,"d":"4.30"}},-0.916165936749436,{"$f":"(B434-B433)/Sheet3!$I$5","v":-0.3962117006169219},-0.4007991720800186,{"$f":"(D434-D433)/Sheet3!$I$5","v":0.9181546465539758}]
[{"$f":"A433+Sheet3!I$5","v":{"v":4.3099999999999525,"d":"4.31"}},-0.9201280537556052,{"$f":"(B435-B434)/Sheet3!$I$5","v":-0.38701049675643473},-0.3916176256144788,{"$f":"(D435-D434)/Sheet3!$I$5","v":0.9220707901754222}]
[{"$f":"A434+Sheet3!I$5","v":{"v":4.319999999999952,"d":"4.32"}},-0.9239981587231696,{"$f":"(B436-B435)/Sheet3!$I$5","v":-0.3777705921688024},-0.3823969177127246,{"$f":"(D436-D435)/Sheet3!$I$5","v":0.9258947274862539}]
[{"$f":"A435+Sheet3!I$5","v":{"v":4.329999999999952,"d":"4.33"}},-0.9277758646448576,{"$f":"(B437-B436)/Sheet3!$I$5","v":-0.3684929108367485},-0.37313797043786207,{"$f":"(D437-D436)/Sheet3!$I$5","v":0.9296260760958963}]
[{"$f":"A436+Sheet3!I$5","v":{"v":4.339999999999952,"d":"4.34"}},-0.9314607937532251,{"$f":"(B438-B437)/Sheet3!$I$5","v":-0.35917838052069717},-0.3638417096769031,{"$f":"(D438-D437)/Sheet3!$I$5","v":0.9332644628726294}]
[{"$f":"A437+Sheet3!I$5","v":{"v":4.349999999999952,"d":"4.35"}},-0.9350525775584321,{"$f":"(B439-B438)/Sheet3!$I$5","v":-0.3498279326658915},-0.3545090650481768,{"$f":"(D439-D438)/Sheet3!$I$5","v":0.9368095239807861}]
[{"$f":"A438+Sheet3!I$5","v":{"v":4.3599999999999515,"d":"4.36"}},-0.938550856885091,{"$f":"(B440-B439)/Sheet3!$I$5","v":-0.34044250230935713},-0.34514096980836895,{"$f":"(D440-D439)/Sheet3!$I$5","v":0.9402609049172173}]
[{"$f":"A439+Sheet3!I$5","v":{"v":4.369999999999951,"d":"4.37"}},-0.9419552819081846,{"$f":"(B441-B440)/Sheet3!$I$5","v":-0.331023027986288},-0.3357383607591968,{"$f":"(D441-D440)/Sheet3!$I$5","v":0.943618260546708}]
[{"$f":"A440+Sheet3!I$5","v":{"v":4.379999999999951,"d":"4.38"}},-0.9452655121880474,{"$f":"(B442-B441)/Sheet3!$I$5","v":-0.3215704516362661},-0.3263021781537297,{"$f":"(D442-D441)/Sheet3!$I$5","v":0.9468812551364836}]
[{"$f":"A441+Sheet3!I$5","v":{"v":4.389999999999951,"d":"4.39"}},-0.9484812167044101,{"$f":"(B443-B442)/Sheet3!$I$5","v":-0.31208571850906974},-0.31683336560236486,{"$f":"(D443-D442)/Sheet3!$I$5","v":0.9500495623898209}]
[{"$f":"A442+Sheet3!I$5","v":{"v":4.399999999999951,"d":"4.40"}},-0.9516020738895008,{"$f":"(B444-B443)/Sheet3!$I$5","v":-0.30256977707007193},-0.30733286997846665,{"$f":"(D444-D443)/Sheet3!$I$5","v":0.9531228654786117}]
[{"$f":"A443+Sheet3!I$5","v":{"v":4.40999999999995,"d":"4.41"}},-0.9546277716602015,{"$f":"(B445-B444)/Sheet3!$I$5","v":-0.2930235789055269},-0.29780164132368053,{"$f":"(D445-D444)/Sheet3!$I$5","v":0.9561008570751317}]
[{"$f":"A444+Sheet3!I$5","v":{"v":4.41999999999995,"d":"4.42"}},-0.9575580074492568,{"$f":"(B446-B445)/Sheet3!$I$5","v":-0.2834480786272686},-0.2882406327529292,{"$f":"(D446-D445)/Sheet3!$I$5","v":0.958983239382688}]
[{"$f":"A445+Sheet3!I$5","v":{"v":4.42999999999995,"d":"4.43"}},-0.9603924882355295,{"$f":"(B447-B446)/Sheet3!$I$5","v":-0.2738442337773539},-0.27865080035910234,{"$f":"(D447-D446)/Sheet3!$I$5","v":0.961769724165451}]
[{"$f":"A446+Sheet3!I$5","v":{"v":4.43999999999995,"d":"4.44"}},-0.963130930573303,{"$f":"(B448-B447)/Sheet3!$I$5","v":-0.26421300473227216},-0.2690331031174478,{"$f":"(D448-D447)/Sheet3!$I$5","v":0.9644600327772812}]
[{"$f":"A447+Sheet3!I$5","v":{"v":4.4499999999999496,"d":"4.45"}},-0.9657730606206257,{"$f":"(B449-B448)/Sheet3!$I$5","v":-0.25455535460687795},-0.259388502789675,{"$f":"(D449-D448)/Sheet3!$I$5","v":0.9670538961895375}]
[{"$f":"A448+Sheet3!I$5","v":{"v":4.459999999999949,"d":"4.46"}},-0.9683186141666945,{"$f":"(B450-B449)/Sheet3!$I$5","v":-0.24487224915815675},-0.24971796382777964,{"$f":"(D450-D449)/Sheet3!$I$5","v":0.9695510550180558}]
[{"$f":"A449+Sheet3!I$5","v":{"v":4.469999999999949,"d":"4.47"}},-0.9707673366582761,{"$f":"(B451-B450)/Sheet3!$I$5","v":-0.2351646566885912},-0.24002245327759908,{"$f":"(D451-D450)/Sheet3!$I$5","v":0.9719512595490282}]
[{"$f":"A450+Sheet3!I$5","v":{"v":4.479999999999949,"d":"4.48"}},-0.973118983225162,{"$f":"(B452-B451)/Sheet3!$I$5","v":-0.22543354794931636},-0.2303029406821088,{"$f":"(D452-D451)/Sheet3!$I$5","v":0.9742542697639994}]
[{"$f":"A451+Sheet3!I$5","v":{"v":4.489999999999949,"d":"4.49"}},{"$f":"SIN(A452)","v":-0.9753733187046552},{"$f":"(B453-B452)/Sheet3!$I$5","v":-0.21567989604310833},{"$f":"COS(A452)","v":-0.2205603979844688},{"$f":"(D453-D452)/Sheet3!$I$5","v":0.9764598553638731}]
[{"$f":"A452+Sheet3!I$5","v":{"v":4.4999999999999485,"d":"4.50"}},-0.9775301176650862,{"$f":"(B454-B453)/Sheet3!$I$5","v":-0.2059046763270289},-0.21079579943083007,{"$f":"(D454-D453)/Sheet3!$I$5","v":0.9785677957919237}]
[{"$f":"A453+Sheet3!I$5","v":{"v":4.509999999999948,"d":"4.51"}},-0.9795891644283565,{"$f":"(B455-B454)/Sheet3!$I$5","v":-0.19610886631490354},-0.20101012147291084,{"$f":"(D455-D454)/Sheet3!$I$5","v":0.9805778802558646}]
[{"$f":"A454+Sheet3!I$5","v":{"v":4.519999999999948,"d":"4.52"}},-0.9815502530915056,{"$f":"(B456-B455)/Sheet3!$I$5","v":-0.18629344557956617},-0.1912043426703522,{"$f":"(D456-D455)/Sheet3!$I$5","v":0.9824899077489263}]
[{"$f":"A455+Sheet3!I$5","v":{"v":4.529999999999948,"d":"4.53"}},-0.9834131875473012,{"$f":"(B457-B456)/Sheet3!$I$5","v":-0.17645939565492652},-0.18137944359286293,{"$f":"(D457-D456)/Sheet3!$I$5","v":0.9843036870699512}]
[{"$f":"A456+Sheet3!I$5","v":{"v":4.539999999999948,"d":"4.54"}},-0.9851777815038505,{"$f":"(B458-B457)/Sheet3!$I$5","v":-0.1666076999377597},-0.17153640672216341,{"$f":"(D458-D457)/Sheet3!$I$5","v":0.9860190368425198}]
[{"$f":"A457+Sheet3!I$5","v":{"v":4.549999999999947,"d":"4.55"}},-0.9868438585032281,{"$f":"(B459-B458)/Sheet3!$I$5","v":-0.15673934358944042},-0.16167621635373822,{"$f":"(D459-D458)/Sheet3!$I$5","v":0.9876357855330864}]
[{"$f":"A458+Sheet3!I$5","v":{"v":4.559999999999947,"d":"4.56"}},-0.9884112519391225,{"$f":"(B460-B459)/Sheet3!$I$5","v":-0.14685531343738845},-0.15179985849840735,{"$f":"(D460-D459)/Sheet3!$I$5","v":0.9891537714681209}]
[{"$f":"A459+Sheet3!I$5","v":{"v":4.569999999999947,"d":"4.57"}},-0.9898798050734964,{"$f":"(B461-B460)/Sheet3!$I$5","v":-0.13695659787634762},-0.14190832078372614,{"$f":"(D461-D460)/Sheet3!$I$5","v":0.9905728428503041}]
[{"$f":"A460+Sheet3!I$5","v":{"v":4.579999999999947,"d":"4.58"}},-0.9912493710522599,{"$f":"(B462-B461)/Sheet3!$I$5","v":-0.12704418676967588},-0.1320025923552231,{"$f":"(D462-D461)/Sheet3!$I$5","v":0.9918928577736796}]
[{"$f":"A461+Sheet3!I$5","v":{"v":4.589999999999947,"d":"4.59"}},-0.9925198129199566,{"$f":"(B463-B462)/Sheet3!$I$5","v":-0.11711907135018018},-0.1220836637774863,{"$f":"(D463-D462)/Sheet3!$I$5","v":0.993113684237848}]
[{"$f":"A462+Sheet3!I$5","v":{"v":4.599999999999946,"d":"4.60"}},-0.9936910036334584,{"$f":"(B464-B463)/Sheet3!$I$5","v":-0.10718224412116228},-0.11215252693510783,{"$f":"(D464-D463)/Sheet3!$I$5","v":0.9942352001611865}]
[{"$f":"A463+Sheet3!I$5","v":{"v":4.609999999999946,"d":"4.61"}},-0.99476282607467,{"$f":"(B465-B464)/Sheet3!$I$5","v":-0.09723469875703161},-0.10221017493349596,{"$f":"(D465-D464)/Sheet3!$I$5","v":0.9952572933930356}]
[{"$f":"A464+Sheet3!I$5","v":{"v":4.619999999999946,"d":"4.62"}},-0.9957351730622404,{"$f":"(B466-B465)/Sheet3!$I$5","v":-0.08727743000407351},-0.0922576019995656,{"$f":"(D466-D465)/Sheet3!$I$5","v":0.9961798617249231}]
[{"$f":"A465+Sheet3!I$5","v":{"v":4.629999999999946,"d":"4.63"}},-0.9966079473622811,{"$f":"(B467-B466)/Sheet3!$I$5","v":-0.07731143358082893},-0.08229580338231637,{"$f":"(D467-D466)/Sheet3!$I$5","v":0.9970028129007852}]
[{"$f":"A466+Sheet3!I$5","v":{"v":4.6399999999999455,"d":"4.64"}},-0.9973810616980894,{"$f":"(B468-B467)/Sheet3!$I$5","v":-0.06733770607866285},-0.07232577525330852,{"$f":"(D468-D467)/Sheet3!$I$5","v":0.9977260646261906}]
[{"$f":"A467+Sheet3!I$5","v":{"v":4.649999999999945,"d":"4.65"}},-0.998054438758876,{"$f":"(B469-B468)/Sheet3!$I$5","v":-0.05735724486199967},-0.062348514607046615,{"$f":"(D469-D468)/Sheet3!$I$5","v":0.998349544576569}]
[{"$f":"A468+Sheet3!I$5","v":{"v":4.659999999999945,"d":"4.66"}},-0.998628011207496,{"$f":"(B470-B469)/Sheet3!$I$5","v":-0.04737104796864733},-0.052365019161280925,{"$f":"(D470-D469)/Sheet3!$I$5","v":0.9988731904044444}]
[{"$f":"A469+Sheet3!I$5","v":{"v":4.669999999999945,"d":"4.67"}},-0.9991017216871825,{"$f":"(B471-B470)/Sheet3!$I$5","v":-0.037380114009977206},-0.04237628725723648,{"$f":"(D471-D470)/Sheet3!$I$5","v":0.9992969497456712}]
[{"$f":"A470+Sheet3!I$5","v":{"v":4.679999999999945,"d":"4.68"}},-0.9994755228272822,{"$f":"(B472-B471)/Sheet3!$I$5","v":-0.027385442071048427},-0.03238331775977977,{"$f":"(D472-D471)/Sheet3!$I$5","v":0.9996207802246682}]
[{"$f":"A471+Sheet3!I$5","v":{"v":4.689999999999944,"d":"4.69"}},-0.9997493772479927,{"$f":"(B473-B472)/Sheet3!$I$5","v":-0.017388031610743315},-0.022387109957533086,{"$f":"(D473-D472)/Sheet3!$I$5","v":0.9998446494586576}]
[{"$f":"A472+Sheet3!I$5","v":{"v":4.699999999999944,"d":"4.70"}},-0.9999232575641002,{"$f":"(B474-B473)/Sheet3!$I$5","v":-0.0073888823617696},-0.01238866346294651,{"$f":"(D474-D473)/Sheet3!$I$5","v":0.9999685350609017}]
[{"$f":"A473+Sheet3!I$5","v":{"v":4.709999999999944,"d":"4.71"}},-0.9999971463877179,{"$f":"(B475-B474)/Sheet3!$I$5","v":2.6110057692929622E-3},-0.002388978112337494,{"$f":"(D475-D474)/Sheet3!$I$5","v":0.9999924246429442}]
[{"$f":"A474+Sheet3!I$5","v":{"v":4.719999999999944,"d":"4.72"}},-0.9999710363300249,{"$f":"(B476-B475)/Sheet3!$I$5","v":0.012610632801957067},0.007610946134091949,{"$f":"(D476-D475)/Sheet3!$I$5","v":0.9999163158158467}]
[{"$f":"A475+Sheet3!I$5","v":{"v":4.729999999999944,"d":"4.73"}},-0.9998449300020054,{"$f":"(B477-B476)/Sheet3!$I$5","v":0.022608998781836753},0.017610109292250417,{"$f":"(D477-D476)/Sheet3!$I$5","v":0.9997402161904284}]
[{"$f":"A476+Sheet3!I$5","v":{"v":4.739999999999943,"d":"4.74"}},-0.999618840014187,{"$f":"(B478-B477)/Sheet3!$I$5","v":0.0326051038806896},0.0276075114541547,{"$f":"(D478-D477)/Sheet3!$I$5","v":0.999464143376505}]
[{"$f":"A477+Sheet3!I$5","v":{"v":4.749999999999943,"d":"4.75"}},-0.9992927889753801,{"$f":"(B479-B478)/Sheet3!$I$5","v":0.0425979484963257},0.03760215288791975,{"$f":"(D479-D478)/Sheet3!$I$5","v":0.9990881249811283}]
[{"$f":"A478+Sheet3!I$5","v":{"v":4.759999999999943,"d":"4.76"}},-0.9988668094904168,{"$f":"(B480-B479)/Sheet3!$I$5","v":0.052586533352594333},0.047593034137731034,{"$f":"(D480-D479)/Sheet3!$I$5","v":0.9986121986058243}]
[{"$f":"A479+Sheet3!I$5","v":{"v":4.769999999999943,"d":"4.77"}},-0.9983409441568909,{"$f":"(B481-B480)/Sheet3!$I$5","v":0.06256985959937067},0.05757915612378928,{"$f":"(D481-D480)/Sheet3!$I$5","v":0.9980364118428328}]
[{"$f":"A480+Sheet3!I$5","v":{"v":4.7799999999999425,"d":"4.78"}},-0.9977152455608972,{"$f":"(B482-B481)/Sheet3!$I$5","v":0.0725469289123204},0.0675595202422176,{"$f":"(D482-D481)/Sheet3!$I$5","v":0.9973608222703517}]
[{"$f":"A481+Sheet3!I$5","v":{"v":4.789999999999942,"d":"4.79"}},-0.996989776271774,{"$f":"(B483-B482)/Sheet3!$I$5","v":0.0825167435928198},0.07753312846492112,{"$f":"(D483-D482)/Sheet3!$I$5","v":0.9965854974467766}]
[{"$f":"A482+Sheet3!I$5","v":{"v":4.799999999999942,"d":"4.80"}},-0.9961646088358458,{"$f":"(B484-B483)/Sheet3!$I$5","v":0.0924783066677537},0.08749898343938889,{"$f":"(D484-D483)/Sheet3!$I$5","v":0.9957105149039386}]
[{"$f":"A483+Sheet3!I$5","v":{"v":4.809999999999942,"d":"4.81"}},-0.9952398257691683,{"$f":"(B485-B484)/Sheet3!$I$5","v":0.10243062198905806},0.09745608858842827,{"$f":"(D485-D484)/Sheet3!$I$5","v":0.9947359621393689}]
[{"$f":"A484+Sheet3!I$5","v":{"v":4.819999999999942,"d":"4.82"}},-0.9942155195492777,{"$f":"(B486-B485)/Sheet3!$I$5","v":0.11237269433354014},0.10740344820982196,{"$f":"(D486-D485)/Sheet3!$I$5","v":0.9936619366075274}]
[{"$f":"A485+Sheet3!I$5","v":{"v":4.8299999999999415,"d":"4.83"}},-0.9930917926059423,{"$f":"(B487-B486)/Sheet3!$I$5","v":0.12230352950222123},0.11734006757589724,{"$f":"(D487-D486)/Sheet3!$I$5","v":0.9924885457100768}]
[{"$f":"A486+Sheet3!I$5","v":{"v":4.839999999999941,"d":"4.84"}},-0.9918687573109201,{"$f":"(B488-B487)/Sheet3!$I$5","v":0.1322221344198793},0.127264953032998,{"$f":"(D488-D487)/Sheet3!$I$5","v":0.9912159067851228}]
[{"$f":"A487+Sheet3!I$5","v":{"v":4.849999999999941,"d":"4.85"}},-0.9905465359667213,{"$f":"(B489-B488)/Sheet3!$I$5","v":0.14212751723426953},0.13717711210084924,{"$f":"(D489-D488)/Sheet3!$I$5","v":0.9898441470955005}]
[{"$f":"A488+Sheet3!I$5","v":{"v":4.859999999999941,"d":"4.86"}},-0.9891252607943786,{"$f":"(B490-B489)/Sheet3!$I$5","v":0.1520186874153895},0.14707555357180424,{"$f":"(D490-D489)/Sheet3!$I$5","v":0.9883734038160397}]
[{"$f":"A489+Sheet3!I$5","v":{"v":4.869999999999941,"d":"4.87"}},-0.9876050739202247,{"$f":"(B491-B490)/Sheet3!$I$5","v":0.1618946558544443},0.15695928760996464,{"$f":"(D491-D490)/Sheet3!$I$5","v":0.9868038240198385}]
[{"$f":"A490+Sheet3!I$5","v":{"v":4.87999999999994,"d":"4.88"}},-0.9859861273616802,{"$f":"(B492-B491)/Sheet3!$I$5","v":0.17175443496282305},0.16682732585016302,{"$f":"(D492-D491)/Sheet3!$I$5","v":0.9851355646635668}]
[{"$f":"A491+Sheet3!I$5","v":{"v":4.88999999999994,"d":"4.89"}},-0.984268583012052,{"$f":"(B493-B492)/Sheet3!$I$5","v":0.181597038770831},0.1766786814967987,{"$f":"(D493-D492)/Sheet3!$I$5","v":0.9833687925717732}]
[{"$f":"A492+Sheet3!I$5","v":{"v":4.89999999999994,"d":"4.90"}},-0.9824526126243437,{"$f":"(B494-B493)/Sheet3!$I$5","v":0.19142148302629947},0.18651236942251642,{"$f":"(D494-D493)/Sheet3!$I$5","v":0.981503684420193}]
[{"$f":"A493+Sheet3!I$5","v":{"v":4.90999999999994,"d":"4.91"}},-0.9805383977940807,{"$f":"(B495-B494)/Sheet3!$I$5","v":0.2012267852929739},0.19632740626671835,{"$f":"(D495-D494)/Sheet3!$I$5","v":0.9795404267180896}]
[{"$f":"A494+Sheet3!I$5","v":{"v":4.9199999999999395,"d":"4.92"}},-0.978526129941151,{"$f":"(B496-B495)/Sheet3!$I$5","v":0.21101196504881292},0.20612281053389925,{"$f":"(D496-D495)/Sheet3!$I$5","v":0.9774792157895923}]
[{"$f":"A495+Sheet3!I$5","v":{"v":4.929999999999939,"d":"4.93"}},-0.9764160102906628,{"$f":"(B497-B496)/Sheet3!$I$5","v":0.22077604378398785},0.21589760269179517,{"$f":"(D497-D496)/Sheet3!$I$5","v":0.9753202577540837}]
[{"$f":"A496+Sheet3!I$5","v":{"v":4.939999999999939,"d":"4.94"}},-0.974208249852823,{"$f":"(B498-B497)/Sheet3!$I$5","v":0.23051804509877094},0.225650805269336,{"$f":"(D498-D497)/Sheet3!$I$5","v":0.973063768505561}]
[{"$f":"A497+Sheet3!I$5","v":{"v":4.949999999999939,"d":"4.95"}},-0.9719030694018352,{"$f":"(B499-B498)/Sheet3!$I$5","v":0.24023699480113514},0.23538144295439162,{"$f":"(D499-D498)/Sheet3!$I$5","v":0.9707099736910724}]
[{"$f":"A498+Sheet3!I$5","v":{"v":4.959999999999939,"d":"4.96"}},-0.9695006994538239,{"$f":"(B500-B499)/Sheet3!$I$5","v":0.24993192100422057},0.24508854269130234,{"$f":"(D500-D499)/Sheet3!$I$5","v":0.9682591086881326}]
[{"$f":"A499+Sheet3!I$5","v":{"v":4.9699999999999385,"d":"4.97"}},-0.9670013802437817,{"$f":"(B501-B500)/Sheet3!$I$5","v":0.25960185422347903},0.25477113377818367,{"$f":"(D501-D500)/Sheet3!$I$5","v":0.965711418581211}]
[{"$f":"A500+Sheet3!I$5","v":{"v":4.979999999999938,"d":"4.98"}},-0.9644053617015469,{"$f":"(B502-B501)/Sheet3!$I$5","v":0.2692458274736409},0.2644282479639958,{"$f":"(D502-D501)/Sheet3!$I$5","v":0.9630671581371875}]
[{"$f":"A501+Sheet3!I$5","v":{"v":4.989999999999938,"d":"4.99"}},-0.9617129034268105,{"$f":"(B503-B502)/Sheet3!$I$5","v":0.2788628763654377},0.27405891954536765,{"$f":"(D503-D502)/Sheet3!$I$5","v":0.9603265917798975}]
[{"$f":"A502+Sheet3!I$5","v":{"v":4.999999999999938,"d":"5.00"}},-0.9589242746631561,{"$f":"(B504-B503)/Sheet3!$I$5","v":0.2884520392019807},0.2836621854631666,{"$f":"(D504-D503)/Sheet3!$I$5","v":0.9574899935637038}]
[{"$f":"A503+Sheet3!I$5","v":{"v":5.009999999999938,"d":"5.01"}},-0.9560397542711363,{"$f":"(B505-B504)/Sheet3!$I$5","v":0.29801235707497264},0.29323708539880367,{"$f":"(D505-D504)/Sheet3!$I$5","v":0.9545576471460593}]
[{"$f":"A504+Sheet3!I$5","v":{"v":5.019999999999937,"d":"5.02"}},-0.9530596307003866,{"$f":"(B506-B505)/Sheet3!$I$5","v":0.307542873960609},0.30278266187026426,{"$f":"(D506-D505)/Sheet3!$I$5","v":0.9515298457591637}]
[{"$f":"A505+Sheet3!I$5","v":{"v":5.029999999999937,"d":"5.03"}},-0.9499842019607805,{"$f":"(B507-B506)/Sheet3!$I$5","v":0.31704263681513467},0.3122979603278559,{"$f":"(D507-D506)/Sheet3!$I$5","v":0.9484068921806255}]
[{"$f":"A506+Sheet3!I$5","v":{"v":5.039999999999937,"d":"5.04"}},-0.9468137755926291,{"$f":"(B508-B507)/Sheet3!$I$5","v":0.326510695670168},0.32178202924966215,{"$f":"(D508-D507)/Sheet3!$I$5","v":0.9451890987032086}]
[{"$f":"A507+Sheet3!I$5","v":{"v":5.049999999999937,"d":"5.05"}},-0.9435486686359275,{"$f":"(B509-B508)/Sheet3!$I$5","v":0.3359461037277356},0.33123392023669423,{"$f":"(D509-D508)/Sheet3!$I$5","v":0.9418767871035738}]
[{"$f":"A508+Sheet3!I$5","v":{"v":5.0599999999999365,"d":"5.06"}},-0.9401892075986501,{"$f":"(B510-B509)/Sheet3!$I$5","v":0.3453479174548746},0.34065268810773,{"$f":"(D510-D509)/Sheet3!$I$5","v":0.938470288610127}]
[{"$f":"A509+Sheet3!I$5","v":{"v":5.069999999999936,"d":"5.07"}},-0.9367357284241014,{"$f":"(B511-B510)/Sheet3!$I$5","v":0.35471519667807927},0.35003739099383124,{"$f":"(D511-D510)/Sheet3!$I$5","v":0.9349699438698789}]
[{"$f":"A510+Sheet3!I$5","v":{"v":5.079999999999936,"d":"5.08"}},-0.9331885764573206,{"$f":"(B512-B511)/Sheet3!$I$5","v":0.36404700467718154},0.35938709043253003,{"$f":"(D512-D511)/Sheet3!$I$5","v":0.9313761029143719}]
[{"$f":"A511+Sheet3!I$5","v":{"v":5.089999999999936,"d":"5.09"}},-0.9295481064105487,{"$f":"(B513-B512)/Sheet3!$I$5","v":0.37334240827920917},0.36870085146167375,{"$f":"(D513-D512)/Sheet3!$I$5","v":0.9276891251247255}]
[{"$f":"A512+Sheet3!I$5","v":{"v":5.099999999999936,"d":"5.10"}},-0.9258146823277567,{"$f":"(B514-B513)/Sheet3!$I$5","v":0.3826004779515224},0.377977742712921,{"$f":"(D514-D513)/Sheet3!$I$5","v":0.9239093791956421}]
[{"$f":"A513+Sheet3!I$5","v":{"v":5.1099999999999355,"d":"5.11"}},-0.9219886775482414,{"$f":"(B515-B514)/Sheet3!$I$5","v":0.3918202878948729},0.3872168365048774,{"$f":"(D515-D514)/Sheet3!$I$5","v":0.9200372430985482}]
[{"$f":"A514+Sheet3!I$5","v":{"v":5.119999999999935,"d":"5.12"}},-0.9180704746692927,{"$f":"(B516-B515)/Sheet3!$I$5","v":0.4010009161359407},0.3964172089358629,{"$f":"(D516-D515)/Sheet3!$I$5","v":0.9160731040438519}]
[{"$f":"A515+Sheet3!I$5","v":{"v":5.129999999999935,"d":"5.13"}},{"$f":"SIN(A516)","v":-0.9140604655079333},{"$f":"(B517-B516)/Sheet3!$I$5","v":0.4101414446195717},{"$f":"COS(A516)","v":0.4055779399763014},{"$f":"(D517-D516)/Sheet3!$I$5","v":0.9120173584421354}]
[{"$f":"A516+Sheet3!I$5","v":{"v":5.139999999999935,"d":"5.14"}},-0.9099590510617376,{"$f":"(B518-B517)/Sheet3!$I$5","v":0.4192409593005264},0.4146981135607228,{"$f":"(D518-D517)/Sheet3!$I$5","v":0.9078704118645919}]
[{"$f":"A517+Sheet3!I$5","v":{"v":5.149999999999935,"d":"5.15"}},-0.9057666414687323,{"$f":"(B519-B518)/Sheet3!$I$5","v":0.4282985502349068},0.4237768176793687,{"$f":"(D519-D518)/Sheet3!$I$5","v":0.9036326790024141}]
[{"$f":"A518+Sheet3!I$5","v":{"v":5.159999999999934,"d":"5.16"}},-0.9014836559663832,{"$f":"(B520-B519)/Sheet3!$I$5","v":0.4373133116711836},0.43281314446939284,{"$f":"(D520-D519)/Sheet3!$I$5","v":0.8993045836253599}]
[{"$f":"A519+Sheet3!I$5","v":{"v":5.169999999999934,"d":"5.17"}},-0.8971105228496714,{"$f":"(B521-B520)/Sheet3!$I$5","v":0.44628434214071255},0.44180619030564644,{"$f":"(D521-D520)/Sheet3!$I$5","v":0.894886558539365}]
[{"$f":"A520+Sheet3!I$5","v":{"v":5.179999999999934,"d":"5.18"}},-0.8926476794282643,{"$f":"(B522-B521)/Sheet3!$I$5","v":0.4552107445479403},0.4507550558910401,{"$f":"(D522-D521)/Sheet3!$I$5","v":0.8903790455432548}]
[{"$f":"A521+Sheet3!I$5","v":{"v":5.189999999999934,"d":"5.19"}},-0.8880955719827849,{"$f":"(B523-B522)/Sheet3!$I$5","v":0.46409162626004363},0.45965884634647264,{"$f":"(D523-D522)/Sheet3!$I$5","v":0.8857824953845628}]
[{"$f":"A522+Sheet3!I$5","v":{"v":5.199999999999934,"d":"5.20"}},-0.8834546557201844,{"$f":"(B524-B523)/Sheet3!$I$5","v":0.47292609919628026},0.46851667130031827,{"$f":"(D524-D523)/Sheet3!$I$5","v":0.881097367714484}]
[{"$f":"A523+Sheet3!I$5","v":{"v":5.209999999999933,"d":"5.21"}},-0.8787253947282216,{"$f":"(B525-B524)/Sheet3!$I$5","v":0.48171327991668456},0.4773276449774631,{"$f":"(D525-D524)/Sheet3!$I$5","v":0.8763241310418834}]
[{"$f":"A524+Sheet3!I$5","v":{"v":5.219999999999933,"d":"5.22"}},-0.8739082619290548,{"$f":"(B526-B525)/Sheet3!$I$5","v":0.4904522897105301},0.48609088628788194,{"$f":"(D526-D525)/Sheet3!$I$5","v":0.8714632626864449}]
[{"$f":"A525+Sheet3!I$5","v":{"v":5.229999999999933,"d":"5.23"}},-0.8690037390319495,{"$f":"(B527-B526)/Sheet3!$I$5","v":0.4991422546841151},0.4948055189147464,{"$f":"(D527-D526)/Sheet3!$I$5","v":0.8665152487309535}]
[{"$f":"A526+Sheet3!I$5","v":{"v":5.239999999999933,"d":"5.24"}},-0.8640123164851083,{"$f":"(B528-B527)/Sheet3!$I$5","v":0.5077823058481701},0.5034706714020559,{"$f":"(D528-D527)/Sheet3!$I$5","v":0.8614805839726736}]
[{"$f":"A527+Sheet3!I$5","v":{"v":5.2499999999999325,"d":"5.25"}},-0.8589344934266266,{"$f":"(B529-B528)/Sheet3!$I$5","v":0.5163715792048107},0.5120854772417827,{"$f":"(D529-D528)/Sheet3!$I$5","v":0.8563597718739158}]
[{"$f":"A528+Sheet3!I$5","v":{"v":5.259999999999932,"d":"5.26"}},-0.8537707776345785,{"$f":"(B530-B529)/Sheet3!$I$5","v":0.5249092158338242},0.5206490749605218,{"$f":"(D530-D529)/Sheet3!$I$5","v":0.8511533245115777}]
[{"$f":"A529+Sheet3!I$5","v":{"v":5.269999999999932,"d":"5.27"}},-0.8485216854762403,{"$f":"(B531-B530)/Sheet3!$I$5","v":0.5333943619786785},0.5291606082056376,{"$f":"(D531-D530)/Sheet3!$I$5","v":0.8458617625261011}]
[{"$f":"A530+Sheet3!I$5","v":{"v":5.279999999999932,"d":"5.28"}},-0.8431877418564535,{"$f":"(B532-B531)/Sheet3!$I$5","v":0.5418261691318427},0.5376192258308986,{"$f":"(D532-D531)/Sheet3!$I$5","v":0.8404856150692419}]
[{"$f":"A531+Sheet3!I$5","v":{"v":5.289999999999932,"d":"5.29"}},-0.8377694801651351,{"$f":"(B533-B532)/Sheet3!$I$5","v":0.5502037941195859},0.546024081981591,{"$f":"(D533-D532)/Sheet3!$I$5","v":0.8350254197512785}]
[{"$f":"A532+Sheet3!I$5","v":{"v":5.299999999999931,"d":"5.30"}},-0.8322674422239392,{"$f":"(B534-B533)/Sheet3!$I$5","v":0.5585263991864542},0.5543743361791038,{"$f":"(D534-D533)/Sheet3!$I$5","v":0.8294817225871998}]
[{"$f":"A533+Sheet3!I$5","v":{"v":5.309999999999931,"d":"5.31"}},-0.8266821782320747,{"$f":"(B535-B534)/Sheet3!$I$5","v":0.566793152078815},0.5626691534049758,{"$f":"(D535-D534)/Sheet3!$I$5","v":0.8238550779420928}]
[{"$f":"A534+Sheet3!I$5","v":{"v":5.319999999999931,"d":"5.32"}},-0.8210142467112865,{"$f":"(B536-B535)/Sheet3!$I$5","v":0.57500322612829},0.5709077041843967,{"$f":"(D536-D535)/Sheet3!$I$5","v":0.8181460484757319}]
[{"$f":"A535+Sheet3!I$5","v":{"v":5.329999999999931,"d":"5.33"}},-0.8152642144500036,{"$f":"(B537-B536)/Sheet3!$I$5","v":0.5831558003343451},0.579089164669154,{"$f":"(D537-D536)/Sheet3!$I$5","v":0.8123552050863014}]
[{"$f":"A536+Sheet3!I$5","v":{"v":5.339999999999931,"d":"5.34"}},-0.8094326564466602,{"$f":"(B538-B537)/Sheet3!$I$5","v":0.5912500594463133},0.5872127167200171,{"$f":"(D538-D537)/Sheet3!$I$5","v":0.8064831268533412}]
[{"$f":"A537+Sheet3!I$5","v":{"v":5.34999999999993,"d":"5.35"}},-0.803520155852197,{"$f":"(B539-B538)/Sheet3!$I$5","v":0.5992851940450405},0.5952775479885505,{"$f":"(D539-D538)/Sheet3!$I$5","v":0.8005304009797487}]
[{"$f":"A538+Sheet3!I$5","v":{"v":5.35999999999993,"d":"5.36"}},-0.7975273039117466,{"$f":"(B540-B539)/Sheet3!$I$5","v":0.607260400623777},0.603282851998348,{"$f":"(D540-D539)/Sheet3!$I$5","v":0.794497622733159}]
[{"$f":"A539+Sheet3!I$5","v":{"v":5.36999999999993,"d":"5.37"}},-0.7914546999055089,{"$f":"(B541-B540)/Sheet3!$I$5","v":0.6151748816684899},0.6112278282256796,{"$f":"(D541-D540)/Sheet3!$I$5","v":0.788385395386404}]
[{"$f":"A540+Sheet3!I$5","v":{"v":5.37999999999993,"d":"5.38"}},-0.785302951088824,{"$f":"(B542-B541)/Sheet3!$I$5","v":0.6230278457376781},0.6191116821795436,{"$f":"(D542-D541)/Sheet3!$I$5","v":0.78219433015706}]
[{"$f":"A541+Sheet3!I$5","v":{"v":5.3899999999999295,"d":"5.39"}},-0.7790726726314472,{"$f":"(B543-B542)/Sheet3!$I$5","v":0.6308185075414974},0.6269336254811142,{"$f":"(D543-D542)/Sheet3!$I$5","v":0.7759250461465528}]
[{"$f":"A542+Sheet3!I$5","v":{"v":5.399999999999929,"d":"5.40"}},-0.7727644875560322,{"$f":"(B544-B543)/Sheet3!$I$5","v":0.6385460880202198},0.6346928759425797,{"$f":"(D544-D543)/Sheet3!$I$5","v":0.769578170278018}]
[{"$f":"A543+Sheet3!I$5","v":{"v":5.409999999999929,"d":"5.41"}},-0.76637902667583,{"$f":"(B545-B544)/Sheet3!$I$5","v":0.6462098144222828},0.6423886576453599,{"$f":"(D545-D544)/Sheet3!$I$5","v":0.7631543372337846}]
[{"$f":"A544+Sheet3!I$5","v":{"v":5.419999999999929,"d":"5.42"}},-0.7599169285316072,{"$f":"(B546-B545)/Sheet3!$I$5","v":0.6538089203813935},0.6500202010176978,{"$f":"(D546-D545)/Sheet3!$I$5","v":0.75665418939177}]
[{"$f":"A545+Sheet3!I$5","v":{"v":5.429999999999929,"d":"5.43"}},-0.7533788393277933,{"$f":"(B547-B546)/Sheet3!$I$5","v":0.6613426459933125},0.6575867429116155,{"$f":"(D547-D546)/Sheet3!$I$5","v":0.750078376761365}]
[{"$f":"A546+Sheet3!I$5","v":{"v":5.4399999999999284,"d":"5.44"}},-0.7467654128678601,{"$f":"(B548-B547)/Sheet3!$I$5","v":0.6688102378917371},0.6650875266792291,{"$f":"(D548-D547)/Sheet3!$I$5","v":0.7434275569183524}]
[{"$f":"A547+Sheet3!I$5","v":{"v":5.449999999999928,"d":"5.45"}},-0.7400773104889428,{"$f":"(B549-B548)/Sheet3!$I$5","v":0.67621094932373},0.6725218022484126,{"$f":"(D549-D548)/Sheet3!$I$5","v":0.7367023949391704}]
[{"$f":"A548+Sheet3!I$5","v":{"v":5.459999999999928,"d":"5.46"}},-0.7333152009957055,{"$f":"(B550-B549)/Sheet3!$I$5","v":0.6835440402242932},0.6798888261978043,{"$f":"(D550-D549)/Sheet3!$I$5","v":0.7299035633343998}]
[{"$f":"A549+Sheet3!I$5","v":{"v":5.469999999999928,"d":"5.47"}},-0.7264797605934625,{"$f":"(B551-B550)/Sheet3!$I$5","v":0.6908087772904525},0.6871878618311483,{"$f":"(D551-D550)/Sheet3!$I$5","v":0.7230317419815502}]
[{"$f":"A550+Sheet3!I$5","v":{"v":5.479999999999928,"d":"5.48"}},-0.719571672820558,{"$f":"(B552-B551)/Sheet3!$I$5","v":0.6980044340545444},0.6944181792509638,{"$f":"(D552-D551)/Sheet3!$I$5","v":0.7160876180570375}]
[{"$f":"A551+Sheet3!I$5","v":{"v":5.489999999999927,"d":"5.49"}},-0.7125916284800126,{"$f":"(B553-B552)/Sheet3!$I$5","v":0.7051302909569013},0.7015790554315342,{"$f":"(D553-D552)/Sheet3!$I$5","v":0.7090718859674383}]
[{"$f":"A552+Sheet3!I$5","v":{"v":5.499999999999927,"d":"5.50"}},-0.7055403255704435,{"$f":"(B554-B553)/Sheet3!$I$5","v":0.7121856354177836},0.7086697742912086,{"$f":"(D554-D553)/Sheet3!$I$5","v":0.7019852472801569}]
[{"$f":"A553+Sheet3!I$5","v":{"v":5.509999999999927,"d":"5.51"}},-0.6984184692162657,{"$f":"(B555-B554)/Sheet3!$I$5","v":0.7191697619086002},0.7156896267640102,{"$f":"(D555-D554)/Sheet3!$I$5","v":0.6948284106531144}]
[{"$f":"A554+Sheet3!I$5","v":{"v":5.519999999999927,"d":"5.52"}},-0.6912267715971797,{"$f":"(B556-B555)/Sheet3!$I$5","v":0.7260819720225298},0.7226379108705413,{"$f":"(D556-D555)/Sheet3!$I$5","v":0.687602091764028}]
[{"$f":"A555+Sheet3!I$5","v":{"v":5.5299999999999265,"d":"5.53"}},-0.6839659518769544,{"$f":"(B557-B556)/Sheet3!$I$5","v":0.7329215745443318},0.7295139317881816,{"$f":"(D557-D556)/Sheet3!$I$5","v":0.680307013238779}]
[{"$f":"A556+Sheet3!I$5","v":{"v":5.539999999999926,"d":"5.54"}},-0.6766367361315111,{"$f":"(B558-B557)/Sheet3!$I$5","v":0.7396878855194244},0.7363170019205694,{"$f":"(D558-D557)/Sheet3!$I$5","v":0.6729439045791152}]
[{"$f":"A557+Sheet3!I$5","v":{"v":5.549999999999926,"d":"5.55"}},-0.6692398572763169,{"$f":"(B559-B558)/Sheet3!$I$5","v":0.7463802283223964},0.7430464409663605,{"$f":"(D559-D558)/Sheet3!$I$5","v":0.6655135020897873}]
[{"$f":"A558+Sheet3!I$5","v":{"v":5.559999999999926,"d":"5.56"}},-0.6617760549930929,{"$f":"(B560-B559)/Sheet3!$I$5","v":0.7529979337245085},0.7497015759872584,{"$f":"(D560-D559)/Sheet3!$I$5","v":0.6580165488048295}]
[{"$f":"A559+Sheet3!I$5","v":{"v":5.569999999999926,"d":"5.57"}},-0.6542460756558478,{"$f":"(B561-B560)/Sheet3!$I$5","v":0.7595403399607403},0.7562817414753067,{"$f":"(D561-D560)/Sheet3!$I$5","v":0.6504537944133526}]
[{"$f":"A560+Sheet3!I$5","v":{"v":5.5799999999999255,"d":"5.58"}},-0.6466506722562404,{"$f":"(B562-B561)/Sheet3!$I$5","v":0.7660067927959258},0.7627862794194402,{"$f":"(D562-D561)/Sheet3!$I$5","v":0.6428259951844706}]
[{"$f":"A561+Sheet3!I$5","v":{"v":5.589999999999925,"d":"5.59"}},-0.6389906043282811,{"$f":"(B563-B562)/Sheet3!$I$5","v":0.7723966455901676},0.7692145393712849,{"$f":"(D563-D562)/Sheet3!$I$5","v":0.63513391389175}]
[{"$f":"A562+Sheet3!I$5","v":{"v":5.599999999999925,"d":"5.60"}},-0.6312666378723795,{"$f":"(B564-B563)/Sheet3!$I$5","v":0.7787092593635192},0.7755658785102024,{"$f":"(D564-D563)/Sheet3!$I$5","v":0.6273783197369265}]
[{"$f":"A563+Sheet3!I$5","v":{"v":5.609999999999925,"d":"5.61"}},-0.6234795452787443,{"$f":"(B565-B564)/Sheet3!$I$5","v":0.7849440028598442},0.7818396617075717,{"$f":"(D565-D564)/Sheet3!$I$5","v":0.6195599882729441}]
[{"$f":"A564+Sheet3!I$5","v":{"v":5.619999999999925,"d":"5.62"}},-0.6156301052501458,{"$f":"(B566-B565)/Sheet3!$I$5","v":0.7911002526100108},0.7880352615903011,{"$f":"(D566-D565)/Sheet3!$I$5","v":0.6116797013264286}]
[{"$f":"A565+Sheet3!I$5","v":{"v":5.629999999999924,"d":"5.63"}},-0.6077191027240457,{"$f":"(B567-B566)/Sheet3!$I$5","v":0.7971773929941528},0.7941520586035654,{"$f":"(D567-D566)/Sheet3!$I$5","v":0.6037382469195052}]
[{"$f":"A566+Sheet3!I$5","v":{"v":5.639999999999924,"d":"5.64"}},-0.5997473287941042,{"$f":"(B568-B567)/Sheet3!$I$5","v":0.8031748163033203},0.8001894410727605,{"$f":"(D568-D567)/Sheet3!$I$5","v":0.5957364191910064}]
[{"$f":"A567+Sheet3!I$5","v":{"v":5.649999999999924,"d":"5.65"}},-0.591715580631071,{"$f":"(B569-B568)/Sheet3!$I$5","v":0.8090919228001758},0.8061468052646705,{"$f":"(D569-D568)/Sheet3!$I$5","v":0.5876750183170354}]
[{"$f":"A568+Sheet3!I$5","v":{"v":5.659999999999924,"d":"5.66"}},-0.5836246614030692,{"$f":"(B570-B569)/Sheet3!$I$5","v":0.8149281207789683},0.8120235554478409,{"$f":"(D570-D569)/Sheet3!$I$5","v":0.5795548504309633}]
[{"$f":"A569+Sheet3!I$5","v":{"v":5.6699999999999235,"d":"5.67"}},-0.5754753801952796,{"$f":"(B571-B570)/Sheet3!$I$5","v":0.8206828266247967},0.8178191039521505,{"$f":"(D571-D570)/Sheet3!$I$5","v":0.5713767275428161}]
[{"$f":"A570+Sheet3!I$5","v":{"v":5.679999999999923,"d":"5.68"}},-0.5672685519290316,{"$f":"(B572-B571)/Sheet3!$I$5","v":0.8263554648718752},0.8235328712275787,{"$f":"(D572-D571)/Sheet3!$I$5","v":0.5631414674580393}]
[{"$f":"A571+Sheet3!I$5","v":{"v":5.689999999999923,"d":"5.69"}},-0.5590049972803128,{"$f":"(B573-B572)/Sheet3!$I$5","v":0.831945468261075},0.8291642859021591,{"$f":"(D573-D572)/Sheet3!$I$5","v":0.554849893695819}]
[{"$f":"A572+Sheet3!I$5","v":{"v":5.699999999999923,"d":"5.70"}},-0.5506855425977021,{"$f":"(B574-B573)/Sheet3!$I$5","v":0.8374522777967464},0.8347127848391173,{"$f":"(D574-D573)/Sheet3!$I$5","v":0.5465028354065926}]
[{"$f":"A573+Sheet3!I$5","v":{"v":5.709999999999923,"d":"5.71"}},-0.5423110198197346,{"$f":"(B575-B574)/Sheet3!$I$5","v":0.8428753428025071},0.8401778131931832,{"$f":"(D575-D574)/Sheet3!$I$5","v":0.5381011272892366}]
[{"$f":"A574+Sheet3!I$5","v":{"v":5.7199999999999225,"d":"5.72"}},-0.5338822663917095,{"$f":"(B576-B575)/Sheet3!$I$5","v":0.848214120976376},0.8455588244660756,{"$f":"(D576-D575)/Sheet3!$I$5","v":0.5296456095075897}]
[{"$f":"A575+Sheet3!I$5","v":{"v":5.729999999999922,"d":"5.73"}},-0.5254001251819458,{"$f":"(B577-B576)/Sheet3!$I$5","v":0.8534680784450077},0.8508552805611515,{"$f":"(D577-D576)/Sheet3!$I$5","v":0.5211371276063415}]
[{"$f":"A576+Sheet3!I$5","v":{"v":5.739999999999922,"d":"5.74"}},-0.5168654443974957,{"$f":"(B578-B577)/Sheet3!$I$5","v":0.858636689817005},0.8560666518372149,{"$f":"(D578-D577)/Sheet3!$I$5","v":0.5125765324266229}]
[{"$f":"A577+Sheet3!I$5","v":{"v":5.749999999999922,"d":"5.75"}},-0.5082790774993257,{"$f":"(B579-B578)/Sheet3!$I$5","v":0.8637194382355495},0.8611924171614811,{"$f":"(D579-D578)/Sheet3!$I$5","v":0.5039646800208075}]
[{"$f":"A578+Sheet3!I$5","v":{"v":5.759999999999922,"d":"5.76"}},-0.49964188311697016,{"$f":"(B580-B579)/Sheet3!$I$5","v":0.8687158154300323},0.8662320639616892,{"$f":"(D580-D579)/Sheet3!$I$5","v":0.4953024315669463}]
[{"$f":"A579+Sheet3!I$5","v":{"v":5.769999999999921,"d":"5.77"}},{"$f":"SIN(A580)","v":-0.49095472496266984},{"$f":"(B581-B580)/Sheet3!$I$5","v":0.8736253217669021},{"$f":"COS(A580)","v":0.8711850882773586},{"$f":"(D581-D580)/Sheet3!$I$5","v":0.48659065328269246}]
[{"$f":"A580+Sheet3!I$5","v":{"v":5.779999999999921,"d":"5.78"}},-0.4822184717450008,{"$f":"(B582-B581)/Sheet3!$I$5","v":0.8784474662996145},0.8760509948101856,{"$f":"(D582-D581)/Sheet3!$I$5","v":0.4778302163386039}]
[{"$f":"A581+Sheet3!I$5","v":{"v":5.789999999999921,"d":"5.79"}},-0.4734339970820047,{"$f":"(B583-B582)/Sheet3!$I$5","v":0.8831817668177311},0.8808292969735716,{"$f":"(D583-D582)/Sheet3!$I$5","v":0.4690219967710574}]
[{"$f":"A582+Sheet3!I$5","v":{"v":5.799999999999921,"d":"5.80"}},-0.46460217941382737,{"$f":"(B584-B583)/Sheet3!$I$5","v":0.8878277498951481},0.8855195169412822,{"$f":"(D584-D583)/Sheet3!$I$5","v":0.46016687539469636}]
[{"$f":"A583+Sheet3!I$5","v":{"v":5.809999999999921,"d":"5.81"}},-0.4557239019148759,{"$f":"(B585-B584)/Sheet3!$I$5","v":0.892384950937436},0.8901211856952291,{"$f":"(D585-D584)/Sheet3!$I$5","v":0.45126573771425704}]
[{"$f":"A584+Sheet3!I$5","v":{"v":5.81999999999992,"d":"5.82"}},-0.4468000524055015,{"$f":"(B586-B585)/Sheet3!$I$5","v":0.8968529142282744},0.8946338430723717,{"$f":"(D586-D585)/Sheet3!$I$5","v":0.4423194738361169}]
[{"$f":"A585+Sheet3!I$5","v":{"v":5.82999999999992,"d":"5.83"}},-0.4378315232632188,{"$f":"(B587-B586)/Sheet3!$I$5","v":0.901231192975066},0.8990570378107329,{"$f":"(D587-D586)/Sheet3!$I$5","v":0.43332897837916606}]
[{"$f":"A586+Sheet3!I$5","v":{"v":5.83999999999992,"d":"5.84"}},-0.4288192113334681,{"$f":"(B588-B587)/Sheet3!$I$5","v":0.9055193493535896},0.9033903275945245,{"$f":"(D588-D587)/Sheet3!$I$5","v":0.4242951503855119}]
[{"$f":"A587+Sheet3!I$5","v":{"v":5.84999999999992,"d":"5.85"}},-0.4197640178399322,{"$f":"(B589-B588)/Sheet3!$I$5","v":0.9097169545517703},0.9076332790983797,{"$f":"(D589-D588)/Sheet3!$I$5","v":0.41521889323037353}]
[{"$f":"A588+Sheet3!I$5","v":{"v":5.8599999999999195,"d":"5.86"}},-0.4106668482944145,{"$f":"(B590-B589)/Sheet3!$I$5","v":0.9138235888125845},0.9117854680306834,{"$f":"(D590-D589)/Sheet3!$I$5","v":0.40610111453193154}]
[{"$f":"A589+Sheet3!I$5","v":{"v":5.869999999999919,"d":"5.87"}},-0.4015286124062887,{"$f":"(B591-B590)/Sheet3!$I$5","v":0.9178388414760486},0.9158464791760027,{"$f":"(D591-D590)/Sheet3!$I$5","v":0.39694272606046743}]
[{"$f":"A590+Sheet3!I$5","v":{"v":5.879999999999919,"d":"5.88"}},-0.3923502239915282,{"$f":"(B592-B591)/Sheet3!$I$5","v":0.9217623110202189},0.9198159064366074,{"$f":"(D592-D591)/Sheet3!$I$5","v":0.3877446436471699}]
[{"$f":"A591+Sheet3!I$5","v":{"v":5.889999999999919,"d":"5.89"}},-0.383132600881326,{"$f":"(B593-B592)/Sheet3!$I$5","v":0.9255936051014158},0.9236933528730791,{"$f":"(D593-D592)/Sheet3!$I$5","v":0.3785077870926301}]
[{"$f":"A592+Sheet3!I$5","v":{"v":5.899999999999919,"d":"5.90"}},-0.37387666483031184,{"$f":"(B594-B593)/Sheet3!$I$5","v":0.9293323405934417},0.9274784307440054,{"$f":"(D594-D593)/Sheet3!$I$5","v":0.3692330800747934}]
[{"$f":"A593+Sheet3!I$5","v":{"v":5.909999999999918,"d":"5.91"}},-0.3645833414243774,{"$f":"(B595-B594)/Sheet3!$I$5","v":0.93297814362584},0.9311707615447533,{"$f":"(D595-D594)/Sheet3!$I$5","v":0.359921450056655}]
[{"$f":"A594+Sheet3!I$5","v":{"v":5.919999999999918,"d":"5.92"}},-0.355253559988119,{"$f":"(B596-B595)/Sheet3!$I$5","v":0.9365306496213532},0.9347699760453199,{"$f":"(D596-D595)/Sheet3!$I$5","v":0.3505738281934456}]
[{"$f":"A595+Sheet3!I$5","v":{"v":5.929999999999918,"d":"5.93"}},-0.3458882534919055,{"$f":"(B597-B596)/Sheet3!$I$5","v":0.9399895033323502},0.9382757143272543,{"$f":"(D597-D596)/Sheet3!$I$5","v":0.3411911492395503}]
[{"$f":"A596+Sheet3!I$5","v":{"v":5.939999999999918,"d":"5.94"}},-0.336488358458582,{"$f":"(B598-B597)/Sheet3!$I$5","v":0.9433543588763305},0.9416876258196498,{"$f":"(D598-D597)/Sheet3!$I$5","v":0.33177435145506085}]
[{"$f":"A597+Sheet3!I$5","v":{"v":5.949999999999918,"d":"5.95"}},-0.3270548148698187,{"$f":"(B599-B598)/Sheet3!$I$5","v":0.9466248797705523},0.9450053693342004,{"$f":"(D599-D598)/Sheet3!$I$5","v":0.3223243765119066}]
[{"$f":"A598+Sheet3!I$5","v":{"v":5.959999999999917,"d":"5.96"}},-0.31758856607211317,{"$f":"(B600-B599)/Sheet3!$I$5","v":0.9498007389656449},0.9482286130993195,{"$f":"(D600-D599)/Sheet3!$I$5","v":0.31284216939970744}]
[{"$f":"A599+Sheet3!I$5","v":{"v":5.969999999999917,"d":"5.97"}},-0.3080905586824567,{"$f":"(B601-B600)/Sheet3!$I$5","v":0.9528816188783429},0.9513570347933166,{"$f":"(D601-D600)/Sheet3!$I$5","v":0.30332867833124944}]
[{"$f":"A600+Sheet3!I$5","v":{"v":5.979999999999917,"d":"5.98"}},-0.2985617424936733,{"$f":"(B602-B601)/Sheet3!$I$5","v":0.9558672114232225},0.9543903215766291,{"$f":"(D602-D601)/Sheet3!$I$5","v":0.2937848546477606}]
[{"$f":"A601+Sheet3!I$5","v":{"v":5.989999999999917,"d":"5.99"}},-0.28900307037944106,{"$f":"(B603-B602)/Sheet3!$I$5","v":0.9587572180435044},0.9573281701231067,{"$f":"(D603-D602)/Sheet3!$I$5","v":0.2842116527235983}]
[{"$f":"A602+Sheet3!I$5","v":{"v":5.9999999999999165,"d":"6.00"}},-0.279415498199006,{"$f":"(B604-B603)/Sheet3!$I$5","v":0.9615513497409467},0.9601702866503427,{"$f":"(D604-D603)/Sheet3!$I$5","v":0.27461002987102523}]
[{"$f":"A603+Sheet3!I$5","v":{"v":6.009999999999916,"d":"6.01"}},-0.26979998470159655,{"$f":"(B605-B604)/Sheet3!$I$5","v":0.9642493271047048},0.9629163869490529,{"$f":"(D605-D604)/Sheet3!$I$5","v":0.2649809462443087}]
[{"$f":"A604+Sheet3!I$5","v":{"v":6.019999999999916,"d":"6.02"}},-0.2601574914305495,{"$f":"(B606-B605)/Sheet3!$I$5","v":0.9668508803392928},0.965566196411496,{"$f":"(D606-D605)/Sheet3!$I$5","v":0.25532536474376366}]
[{"$f":"A605+Sheet3!I$5","v":{"v":6.029999999999916,"d":"6.03"}},-0.2504889826271566,{"$f":"(B607-B606)/Sheet3!$I$5","v":0.9693557492915506},0.9681194500589336,{"$f":"(D607-D606)/Sheet3!$I$5","v":0.24564425091953002}]
[{"$f":"A606+Sheet3!I$5","v":{"v":6.039999999999916,"d":"6.04"}},-0.24079542513424107,{"$f":"(B608-B607)/Sheet3!$I$5","v":0.971763683476673},0.9705758925681289,{"$f":"(D608-D607)/Sheet3!$I$5","v":0.23593857287490527}]
[{"$f":"A607+Sheet3!I$5","v":{"v":6.0499999999999154,"d":"6.05"}},-0.23107778829947434,{"$f":"(B609-B608)/Sheet3!$I$5","v":0.9740744421032538},0.972935278296878,{"$f":"(D609-D608)/Sheet3!$I$5","v":0.2262093011695998}]
[{"$f":"A608+Sheet3!I$5","v":{"v":6.059999999999915,"d":"6.06"}},-0.2213370438784418,{"$f":"(B610-B609)/Sheet3!$I$5","v":0.9762877940973441},0.975197371308574,{"$f":"(D610-D609)/Sheet3!$I$5","v":0.21645740872269226}]
[{"$f":"A609+Sheet3!I$5","v":{"v":6.069999999999915,"d":"6.07"}},-0.21157416593746836,{"$f":"(B611-B610)/Sheet3!$I$5","v":0.9784035181255951},0.9773619453958009,{"$f":"(D611-D610)/Sheet3!$I$5","v":0.20668387071529626}]
[{"$f":"A610+Sheet3!I$5","v":{"v":6.079999999999915,"d":"6.08"}},-0.2017901307562124,{"$f":"(B612-B611)/Sheet3!$I$5","v":0.9804214026173708},0.9794287841029539,{"$f":"(D612-D611)/Sheet3!$I$5","v":0.19688966449306067}]
[{"$f":"A611+Sheet3!I$5","v":{"v":6.089999999999915,"d":"6.09"}},-0.1919859167300387,{"$f":"(B613-B612)/Sheet3!$I$5","v":0.9823412457858977},0.9813976807478845,{"$f":"(D613-D612)/Sheet3!$I$5","v":0.18707576946844773}]
[{"$f":"A612+Sheet3!I$5","v":{"v":6.099999999999914,"d":"6.10"}},-0.18216250427217973,{"$f":"(B614-B613)/Sheet3!$I$5","v":0.98416285564846},0.983268438442569,{"$f":"(D614-D613)/Sheet3!$I$5","v":0.1772431670227892}]
[{"$f":"A613+Sheet3!I$5","v":{"v":6.109999999999914,"d":"6.11"}},-0.17232087571569513,{"$f":"(B615-B614)/Sheet3!$I$5","v":0.9858860500455952},0.9850408701127968,{"$f":"(D615-D614)/Sheet3!$I$5","v":0.16739284040813152}]
[{"$f":"A614+Sheet3!I$5","v":{"v":6.119999999999914,"d":"6.12"}},-0.16246201521523917,{"$f":"(B616-B615)/Sheet3!$I$5","v":0.9875106566592878},0.9867147985168782,{"$f":"(D616-D615)/Sheet3!$I$5","v":0.15752577464891448}]
[{"$f":"A615+Sheet3!I$5","v":{"v":6.129999999999914,"d":"6.13"}},-0.1525869086486463,{"$f":"(B617-B616)/Sheet3!$I$5","v":0.989036513030242},0.9882900562633673,{"$f":"(D617-D616)/Sheet3!$I$5","v":0.14764295644351666}]
[{"$f":"A616+Sheet3!I$5","v":{"v":6.1399999999999135,"d":"6.14"}},-0.14269654351834388,{"$f":"(B618-B617)/Sheet3!$I$5","v":0.9904634665740875},0.9897664858278025,{"$f":"(D618-D617)/Sheet3!$I$5","v":0.13774537406548992}]
[{"$f":"A617+Sheet3!I$5","v":{"v":6.149999999999913,"d":"6.15"}},-0.132791908852603,{"$f":"(B619-B618)/Sheet3!$I$5","v":0.9917913745966567},0.9911439395684574,{"$f":"(D619-D618)/Sheet3!$I$5","v":0.12783401726487176}]
[{"$f":"A618+Sheet3!I$5","v":{"v":6.159999999999913,"d":"6.16"}},-0.12287399510663644,{"$f":"(B620-B619)/Sheet3!$I$5","v":0.9930201043082593},0.9924222797411061,{"$f":"(D620-D619)/Sheet3!$I$5","v":0.11790987716904233}]
[{"$f":"A619+Sheet3!I$5","v":{"v":6.169999999999913,"d":"6.17"}},-0.11294379406355384,{"$f":"(B621-B620)/Sheet3!$I$5","v":0.994149532836941},0.9936013785127965,{"$f":"(D621-D620)/Sheet3!$I$5","v":0.10797394618374812}]
[{"$f":"A620+Sheet3!I$5","v":{"v":6.179999999999913,"d":"6.18"}},-0.10300229873518443,{"$f":"(B622-B621)/Sheet3!$I$5","v":0.9951795472407987},0.994681117974634,{"$f":"(D622-D621)/Sheet3!$I$5","v":0.09802721789382574}]
[{"$f":"A621+Sheet3!I$5","v":{"v":6.1899999999999125,"d":"6.19"}},-0.09305050326277645,{"$f":"(B623-B622)/Sheet3!$I$5","v":0.9961100445192425},0.9956613901535722,{"$f":"(D623-D622)/Sheet3!$I$5","v":0.08807068696379261}]
[{"$f":"A622+Sheet3!I$5","v":{"v":6.199999999999912,"d":"6.20"}},-0.08308940281758402,{"$f":"(B624-B623)/Sheet3!$I$5","v":0.9969409316233246},0.9965420970232102,{"$f":"(D624-D623)/Sheet3!$I$5","v":0.07810534903845978}]
[{"$f":"A623+Sheet3!I$5","v":{"v":6.209999999999912,"d":"6.21"}},-0.07311999350135077,{"$f":"(B625-B624)/Sheet3!$I$5","v":0.9976721254650253},0.9973231505135948,{"$f":"(D625-D624)/Sheet3!$I$5","v":0.0681322006433116}]
[{"$f":"A624+Sheet3!I$5","v":{"v":6.219999999999912,"d":"6.22"}},-0.06314327224670052,{"$f":"(B626-B625)/Sheet3!$I$5","v":0.9983035529255703},0.9980044725200279,{"$f":"(D626-D625)/Sheet3!$I$5","v":0.058152239084874324}]
[{"$f":"A625+Sheet3!I$5","v":{"v":6.229999999999912,"d":"6.23"}},-0.05316023671744482,{"$f":"(B627-B626)/Sheet3!$I$5","v":0.9988351508627403},0.9985859949108766,{"$f":"(D627-D626)/Sheet3!$I$5","v":0.04816646235098476}]
[{"$f":"A626+Sheet3!I$5","v":{"v":6.239999999999911,"d":"6.24"}},-0.043171885208817415,{"$f":"(B628-B627)/Sheet3!$I$5","v":0.9992668661171829},0.9990676595343865,{"$f":"(D628-D627)/Sheet3!$I$5","v":0.03817586901100345}]
[{"$f":"A627+Sheet3!I$5","v":{"v":6.249999999999911,"d":"6.25"}},-0.033179216547645586,{"$f":"(B629-B628)/Sheet3!$I$5","v":0.999598655517734},0.9994494182244965,{"$f":"(D629-D628)/Sheet3!$I$5","v":0.02818145811592787}]
[{"$f":"A628+Sheet3!I$5","v":{"v":6.259999999999911,"d":"6.26"}},-0.023183229992468246,{"$f":"(B630-B629)/Sheet3!$I$5","v":0.9998304858857295},0.9997312328056558,{"$f":"(D630-D629)/Sheet3!$I$5","v":0.018184229098539006}]
[{"$f":"A629+Sheet3!I$5","v":{"v":6.269999999999911,"d":"6.27"}},-0.01318492513361095,{"$f":"(B631-B630)/Sheet3!$I$5","v":0.9999623340383256},0.9999130750966412,{"$f":"(D631-D630)/Sheet3!$I$5","v":0.008185181673370234}]
[{"$f":"A630+Sheet3!I$5","v":{"v":6.2799999999999105,"d":"6.28"}},-3.185301793227696E-3,{"$f":"(B632-B631)/Sheet3!$I$5","v":0.9999941867908168},0.9999949269133749,{"$f":"(D632-D631)/Sheet3!$I$5","v":-1.8146842631128202E-3}]
[{"$f":"A631+Sheet3!I$5","v":{"v":6.28999999999991,"d":"6.29"}},0.006814640074680472,null,0.9999767800707438]