{"text_format":"3","workbook":"xlsx","n_sheets":4,"sheets":["Sheet1","Sheet2","Sheet3","Defining Function"],"not_rendered":{"charts":1,"images":2,"macros":1,"defined_names":7,"comments":1},"read":"whole","date_system":"1900"}

{"sheet":"Sheet1","index":0,"n_rows":38,"n_cols":17,"rows_kept":38,"merged":[[31,2,31,3]]}
[null,"   Newton Difference Quotients"]
[]
[null,"       This graphing utility lets you investigate "]
[null,"            the Newton Difference Quotients "]
[null,"     and how they converge to the tangent line"]
[null,null,"   for any desired function"]
[{"$nulls":3},"y = f(x)"]
[null,"       on any interval from x = a  to x = b."]
[]
[]
["  Enter the function in terms of x:     f(x) = ",{"$nulls":3},"x^3-7*x+4"]
[]
[]
["Now enter the interval for x:  "]
[{"$nulls":3},"xMin =  ",-4]
[{"$nulls":3},"xMax =  ",4]
[]
[]
[]
["What is the step-size h = Dx (0.01 to 0.50)?",{"$nulls":3},{"$f":"D21/100","v":0.32},{"$nulls":7},"The graph of the function y =",null,null,{"$f":"E11","v":"x^3-7*x+4"}]
[{"$nulls":3},32]
[]
[{"$nulls":12},"         Select a point on the curve:  a =",{"$nulls":3},{"$f":"P25","v":-3.12}]
["Click each item below for suggestions and investigations"]
[{"$nulls":3},"   Item 1",{"$nulls":10},11,{"$f":"E15+O25*(E16-E15)/100","v":-3.12}]
[{"$nulls":3},"   Item 2"]
[{"$nulls":3},"   Item 3"]
[{"$nulls":12},"        The difference quotient at x = a =",{"$nulls":3},{"$f":"P25","v":-3.12}]
[{"$nulls":14},"              is equal to ",null,{"$f":"DiffQuot","v":{"v":19.310399999999994,"d":"19.31"}}]
[]
["To access/download all the DIGMath Apps for Calculus",{"$nulls":11},"The slope of the tangent line at x = a = ",{"$nulls":3},{"$f":"P25","v":-3.12}]
["     Click this link:",null,"DIGMath for Calculus",{"$nulls":9},"                    =  the derivative f '( a)  = ",{"$nulls":3},{"$f":"LOOKUP(x0,Sheet2!A3:A1003,Sheet2!C3:C1003)","v":22.144897060980984}]
[]
["Created by:  Sheldon P. Gordon   "]
["                      Farmingdale State College    "]
["Development of this module was supported by the "]
["NSF's Division of Undergraduate Education  "]
["under grants DUE-0310123 and DUE-0442160."]

{"sheet":"Sheet2","index":1,"n_rows":1005,"n_cols":9,"rows_kept":1005}
["x","f(x)","slope",null,null,"xl=",{"$f":"IF(Sheet1!$P$25<Sheet1!E15+80*Sheet2!G5,Sheet1!E15,Sheet1!P25-80*Sheet2!G5)","v":-3.7593606393606396},{"$f":"LOOKUP(Sheet1!P25,Sheet2!A3:A1002,Sheet2!B3:B1002)+LOOKUP(Sheet1!P25,Sheet2!A3:A1002,Sheet2!C3:C1002)*(G1-Sheet1!P25)","v":-18.709430074775604},"\"=yl"]
[{"$nulls":5},"xr=",{"$f":"IF(Sheet1!$P$25>Sheet1!E16-80*Sheet2!G5,Sheet1!E16,Sheet1!P25+80*Sheet2!G5)","v":-2.4806393606393606},{"$f":"LOOKUP(Sheet1!P25,Sheet2!A3:A1003,Sheet2!B3:B1003)+LOOKUP(Sheet1!P25,Sheet2!A3:A1003,Sheet2!C3:C1003)*(G2-Sheet1!P25)","v":9.607721012193094},"\"=yR"]
[{"$f":"xMin","v":{"v":-4,"d":"-4.00"}},{"$f":"x^3-7*x+4","v":-32},{"$f":"(B4-B3)/Sheet2!$G$5","v":40.904159776289276}]
[{"$f":"A3+Sheet2!G$5","v":{"v":-3.992007992007992,"d":"-3.99"}},-31.673093628161524,{"$f":"(B5-B4)/Sheet2!$G$5","v":40.712734817629766}]
[{"$f":"A4+Sheet2!G$5","v":{"v":-3.9840159840159837,"d":"-3.98"}},-31.347717126122525,{"$f":"(B6-B5)/Sheet2!$G$5","v":40.521693092124025},null,null,"delta x = ",{"$f":"(Sheet1!E16-Sheet1!E15)/1001","v":7.992007992007992E-3}]
[{"$f":"A5+Sheet2!G$5","v":{"v":-3.9760239760239755,"d":"-3.98"}},-31.023867431080575,{"$f":"(B7-B6)/Sheet2!$G$5","v":40.33103459976672}]
[{"$f":"A6+Sheet2!G$5","v":{"v":-3.9680319680319673,"d":"-3.97"}},-30.70154148023329,{"$f":"(B8-B7)/Sheet2!$G$5","v":40.14075934055961}]
[{"$f":"A7+Sheet2!G$5","v":{"v":-3.960039960039959,"d":"-3.96"}},-30.380736210778267,{"$f":"(B9-B8)/Sheet2!$G$5","v":39.95086731450538},null,null,"Difference Quotient"]
[{"$f":"A8+Sheet2!G$5","v":{"v":-3.952047952047951,"d":"-3.95"}},-30.06144855991309,{"$f":"(B10-B9)/Sheet2!$G$5","v":39.76135852159869},null,null,"xl=",{"$f":"x0","v":-3.12},{"$f":"LOOKUP(x0,Sheet2!A3:A1003,Sheet2!B3:B1003)","v":-4.550854531291254},"\"=yl"]
[{"$f":"A9+Sheet2!G$5","v":{"v":-3.944055944055943,"d":"-3.94"}},-29.743675464835377,{"$f":"(B11-B10)/Sheet2!$G$5","v":39.57223296184309},null,null,"xr=",{"$f":"x0+h","v":-2.8000000000000003},{"$f":"B1004+DiffQuot*h","v":1.6479999999999961},"\"=yR"]
[{"$f":"A10+Sheet2!G$5","v":{"v":-3.9360639360639347,"d":"-3.94"}},-29.427413862742725,{"$f":"(B12-B11)/Sheet2!$G$5","v":39.38349063524126},{"$nulls":3},{"$f":"G10","v":-2.8000000000000003},{"$f":"H9","v":-4.550854531291254}]
[{"$f":"A11+Sheet2!G$5","v":{"v":-3.9280719280719265,"d":"-3.93"}},-29.112660690832705,{"$f":"(B13-B12)/Sheet2!$G$5","v":39.195131541786076},{"$nulls":3},{"$f":"G9","v":-3.12},{"$f":"H11","v":-4.550854531291254}]
[{"$f":"A12+Sheet2!G$5","v":{"v":-3.9200799200799183,"d":"-3.92"}},-28.799412886302946,{"$f":"(B14-B13)/Sheet2!$G$5","v":39.00715568148199}]
[{"$f":"A13+Sheet2!G$5","v":{"v":-3.91208791208791,"d":"-3.91"}},-28.487667386351042,{"$f":"(B15-B14)/Sheet2!$G$5","v":38.819563054328114}]
[{"$f":"A14+Sheet2!G$5","v":{"v":-3.904095904095902,"d":"-3.90"}},-28.177421128174593,{"$f":"(B16-B15)/Sheet2!$G$5","v":38.632353660326665}]
[{"$f":"A15+Sheet2!G$5","v":{"v":-3.896103896103894,"d":"-3.90"}},-27.868671048971184,{"$f":"(B17-B16)/Sheet2!$G$5","v":38.44552749947498}]
[{"$f":"A16+Sheet2!G$5","v":{"v":-3.8881118881118857,"d":"-3.89"}},-27.561414085938416,{"$f":"(B18-B17)/Sheet2!$G$5","v":38.25908457177261}]
[{"$f":"A17+Sheet2!G$5","v":{"v":-3.8801198801198775,"d":"-3.88"}},-27.2556471762739,{"$f":"(B19-B18)/Sheet2!$G$5","v":38.073024877221336}]
[{"$f":"A18+Sheet2!G$5","v":{"v":-3.8721278721278694,"d":"-3.87"}},-26.951367257175228,{"$f":"(B20-B19)/Sheet2!$G$5","v":37.88734841582027}]
[{"$f":"A19+Sheet2!G$5","v":{"v":-3.864135864135861,"d":"-3.86"}},-26.64857126584,{"$f":"(B21-B20)/Sheet2!$G$5","v":37.70205518757119}]
[{"$f":"A20+Sheet2!G$5","v":{"v":-3.856143856143853,"d":"-3.86"}},-26.347256139465806,{"$f":"(B22-B21)/Sheet2!$G$5","v":37.51714519247054}]
[{"$f":"A21+Sheet2!G$5","v":{"v":-3.848151848151845,"d":"-3.85"}},-26.047418815250257,{"$f":"(B23-B22)/Sheet2!$G$5","v":37.33261843052098}]
[{"$f":"A22+Sheet2!G$5","v":{"v":-3.8401598401598367,"d":"-3.84"}},-25.74905623039095,{"$f":"(B24-B23)/Sheet2!$G$5","v":37.14847490172208}]
[{"$f":"A23+Sheet2!G$5","v":{"v":-3.8321678321678285,"d":"-3.83"}},-25.452165322085477,{"$f":"(B25-B24)/Sheet2!$G$5","v":36.96471460607338}]
[{"$f":"A24+Sheet2!G$5","v":{"v":-3.8241758241758204,"d":"-3.82"}},-25.156743027531444,{"$f":"(B26-B25)/Sheet2!$G$5","v":36.78133754357622}]
[{"$f":"A25+Sheet2!G$5","v":{"v":-3.816183816183812,"d":"-3.82"}},-24.86278628392644,{"$f":"(B27-B26)/Sheet2!$G$5","v":36.59834371422927}]
[{"$f":"A26+Sheet2!G$5","v":{"v":-3.808191808191804,"d":"-3.81"}},-24.570292028468064,{"$f":"(B28-B27)/Sheet2!$G$5","v":36.41573311803075}]
[{"$f":"A27+Sheet2!G$5","v":{"v":-3.800199800199796,"d":"-3.80"}},-24.279257198353932,{"$f":"(B29-B28)/Sheet2!$G$5","v":36.233505754986}]
[{"$f":"A28+Sheet2!G$5","v":{"v":-3.7922077922077877,"d":"-3.79"}},-23.989678730781616,{"$f":"(B30-B29)/Sheet2!$G$5","v":36.05166162508878}]
[{"$f":"A29+Sheet2!G$5","v":{"v":-3.7842157842157795,"d":"-3.78"}},-23.70155356294874,{"$f":"(B31-B30)/Sheet2!$G$5","v":35.87020072834221}]
[{"$f":"A30+Sheet2!G$5","v":{"v":-3.7762237762237714,"d":"-3.78"}},-23.414878632052897,{"$f":"(B32-B31)/Sheet2!$G$5","v":35.689123064748514}]
[{"$f":"A31+Sheet2!G$5","v":{"v":-3.768231768231763,"d":"-3.77"}},-23.12965087529167,{"$f":"(B33-B32)/Sheet2!$G$5","v":35.5084286343037}]
[{"$f":"A32+Sheet2!G$5","v":{"v":-3.760239760239755,"d":"-3.76"}},-22.84586722986267,{"$f":"(B34-B33)/Sheet2!$G$5","v":35.328117437009084}]
[{"$f":"A33+Sheet2!G$5","v":{"v":-3.752247752247747,"d":"-3.75"}},-22.563524632963496,{"$f":"(B35-B34)/Sheet2!$G$5","v":35.14818947286468}]
[{"$f":"A34+Sheet2!G$5","v":{"v":-3.7442557442557387,"d":"-3.74"}},-22.28262002179175,{"$f":"(B36-B35)/Sheet2!$G$5","v":34.96864474187226}]
[{"$f":"A35+Sheet2!G$5","v":{"v":-3.7362637362637305,"d":"-3.74"}},-22.00315033354502,{"$f":"(B37-B36)/Sheet2!$G$5","v":34.789483244030045}]
[{"$f":"A36+Sheet2!G$5","v":{"v":-3.7282717282717224,"d":"-3.73"}},-21.725112505420903,{"$f":"(B38-B37)/Sheet2!$G$5","v":34.61070497933715}]
[{"$f":"A37+Sheet2!G$5","v":{"v":-3.720279720279714,"d":"-3.72"}},-21.44850347461701,{"$f":"(B39-B38)/Sheet2!$G$5","v":34.43230994779535}]
[{"$f":"A38+Sheet2!G$5","v":{"v":-3.712287712287706,"d":"-3.71"}},-21.173320178330933,{"$f":"(B40-B39)/Sheet2!$G$5","v":34.25429814940242}]
[{"$f":"A39+Sheet2!G$5","v":{"v":-3.704295704295698,"d":"-3.70"}},-20.899559553760284,{"$f":"(B41-B40)/Sheet2!$G$5","v":34.07666958416326}]
[{"$f":"A40+Sheet2!G$5","v":{"v":-3.6963036963036897,"d":"-3.70"}},-20.627218538102635,{"$f":"(B42-B41)/Sheet2!$G$5","v":33.89942425207209}]
[{"$f":"A41+Sheet2!G$5","v":{"v":-3.6883116883116815,"d":"-3.69"}},-20.356294068555606,{"$f":"(B43-B42)/Sheet2!$G$5","v":33.72256215313289}]
[{"$f":"A42+Sheet2!G$5","v":{"v":-3.6803196803196734,"d":"-3.68"}},-20.08678308231678,{"$f":"(B44-B43)/Sheet2!$G$5","v":33.54608328734213}]
[{"$f":"A43+Sheet2!G$5","v":{"v":-3.672327672327665,"d":"-3.67"}},-19.818682516583777,{"$f":"(B45-B44)/Sheet2!$G$5","v":33.36998765470423}]
[{"$f":"A44+Sheet2!G$5","v":{"v":-3.664335664335657,"d":"-3.66"}},-19.551989308554173,{"$f":"(B46-B45)/Sheet2!$G$5","v":33.19427525521388}]
[{"$f":"A45+Sheet2!G$5","v":{"v":-3.656343656343649,"d":"-3.66"}},-19.28670039542559,{"$f":"(B47-B46)/Sheet2!$G$5","v":33.01894608887685}]
[{"$f":"A46+Sheet2!G$5","v":{"v":-3.6483516483516407,"d":"-3.65"}},-19.022812714395606,{"$f":"(B48-B47)/Sheet2!$G$5","v":32.84400015568914}]
[{"$f":"A47+Sheet2!G$5","v":{"v":-3.6403596403596326,"d":"-3.64"}},-18.760323202661827,{"$f":"(B49-B48)/Sheet2!$G$5","v":32.66943745565207}]
[{"$f":"A48+Sheet2!G$5","v":{"v":-3.6323676323676244,"d":"-3.63"}},-18.49922879742185,{"$f":"(B50-B49)/Sheet2!$G$5","v":32.49525798876433}]
[{"$f":"A49+Sheet2!G$5","v":{"v":-3.6243756243756162,"d":"-3.62"}},-18.239526435873284,{"$f":"(B51-B50)/Sheet2!$G$5","v":32.32146175502946}]
[{"$f":"A50+Sheet2!G$5","v":{"v":-3.616383616383608,"d":"-3.62"}},-17.981213055213708,{"$f":"(B52-B51)/Sheet2!$G$5","v":32.14804875444213}]
[{"$f":"A51+Sheet2!G$5","v":{"v":-3.6083916083916,"d":"-3.61"}},-17.724285592640744,{"$f":"(B53-B52)/Sheet2!$G$5","v":31.97501898700856}]
[{"$f":"A52+Sheet2!G$5","v":{"v":-3.6003996003995917,"d":"-3.60"}},-17.468740985351964,{"$f":"(B54-B53)/Sheet2!$G$5","v":31.802372452722533}]
[{"$f":"A53+Sheet2!G$5","v":{"v":-3.5924075924075836,"d":"-3.59"}},-17.21457617054499,{"$f":"(B55-B54)/Sheet2!$G$5","v":31.6301091515876}]
[{"$f":"A54+Sheet2!G$5","v":{"v":-3.5844155844155754,"d":"-3.58"}},-16.961788085417417,{"$f":"(B56-B55)/Sheet2!$G$5","v":31.45822908360421}]
[{"$f":"A55+Sheet2!G$5","v":{"v":-3.5764235764235672,"d":"-3.58"}},-16.710373667166834,{"$f":"(B57-B56)/Sheet2!$G$5","v":31.286732248770136}]
[{"$f":"A56+Sheet2!G$5","v":{"v":-3.568431568431559,"d":"-3.57"}},-16.46032985299085,{"$f":"(B58-B57)/Sheet2!$G$5","v":31.1156186470876}]
[{"$f":"A57+Sheet2!G$5","v":{"v":-3.560439560439551,"d":"-3.56"}},-16.211653580087052,{"$f":"(B59-B58)/Sheet2!$G$5","v":30.944888278556164}]
[{"$f":"A58+Sheet2!G$5","v":{"v":-3.5524475524475427,"d":"-3.55"}},-15.964341785653037,{"$f":"(B60-B59)/Sheet2!$G$5","v":30.774541143172268}]
[{"$f":"A59+Sheet2!G$5","v":{"v":-3.5444555444555346,"d":"-3.54"}},-15.718391406886425,{"$f":"(B61-B60)/Sheet2!$G$5","v":30.604577240941243}]
[{"$f":"A60+Sheet2!G$5","v":{"v":-3.5364635364635264,"d":"-3.54"}},-15.473799380984797,{"$f":"(B62-B61)/Sheet2!$G$5","v":30.434996571860427}]
[{"$f":"A61+Sheet2!G$5","v":{"v":-3.5284715284715182,"d":"-3.53"}},-15.230562645145753,{"$f":"(B63-B62)/Sheet2!$G$5","v":30.265799135929374}]
[{"$f":"A62+Sheet2!G$5","v":{"v":-3.52047952047951,"d":"-3.52"}},-14.988678136566897,{"$f":"(B64-B63)/Sheet2!$G$5","v":30.096984933148526}]
[{"$f":"A63+Sheet2!G$5","v":{"v":-3.512487512487502,"d":"-3.51"}},-14.74814279244583,{"$f":"(B65-B64)/Sheet2!$G$5","v":29.92855396352011}]
[{"$f":"A64+Sheet2!G$5","v":{"v":-3.5044955044954937,"d":"-3.50"}},-14.508953549980134,{"$f":"(B66-B65)/Sheet2!$G$5","v":29.76050622704012}]
[{"$f":"A65+Sheet2!G$5","v":{"v":-3.4965034965034856,"d":"-3.50"}},-14.271107346367426,{"$f":"(B67-B66)/Sheet2!$G$5","v":29.592841723711228}]
[{"$f":"A66+Sheet2!G$5","v":{"v":-3.4885114885114774,"d":"-3.49"}},{"$f":"x^3-7*x+4","v":-14.034601118805298},{"$f":"(B68-B67)/Sheet2!$G$5","v":29.42556045353254}]
[{"$f":"A67+Sheet2!G$5","v":{"v":-3.4805194805194692,"d":"-3.48"}},-13.799431804491352,{"$f":"(B69-B68)/Sheet2!$G$5","v":29.258662416505842}]
[{"$f":"A68+Sheet2!G$5","v":{"v":-3.472527472527461,"d":"-3.47"}},-13.565596340623173,{"$f":"(B70-B69)/Sheet2!$G$5","v":29.09214761262757}]
[{"$f":"A69+Sheet2!G$5","v":{"v":-3.464535464535453,"d":"-3.46"}},-13.333091664398378,{"$f":"(B71-B70)/Sheet2!$G$5","v":28.926016041900393}]
[{"$f":"A70+Sheet2!G$5","v":{"v":-3.4565434565434447,"d":"-3.46"}},-13.101914713014558,{"$f":"(B72-B71)/Sheet2!$G$5","v":28.76026770432387}]
[{"$f":"A71+Sheet2!G$5","v":{"v":-3.4485514485514366,"d":"-3.45"}},-12.872062423669313,{"$f":"(B73-B72)/Sheet2!$G$5","v":28.59490259989755}]
[{"$f":"A72+Sheet2!G$5","v":{"v":-3.4405594405594284,"d":"-3.44"}},-12.643531733560241,{"$f":"(B74-B73)/Sheet2!$G$5","v":28.429920728621887}]
[{"$f":"A73+Sheet2!G$5","v":{"v":-3.4325674325674203,"d":"-3.43"}},-12.416319579884942,{"$f":"(B75-B74)/Sheet2!$G$5","v":28.265322090497317}]
[{"$f":"A74+Sheet2!G$5","v":{"v":-3.424575424575412,"d":"-3.42"}},-12.190422899841007,{"$f":"(B76-B75)/Sheet2!$G$5","v":28.101106685523842}]
[{"$f":"A75+Sheet2!G$5","v":{"v":-3.416583416583404,"d":"-3.42"}},-11.965838630626031,{"$f":"(B77-B76)/Sheet2!$G$5","v":27.937274513698796}]
[{"$f":"A76+Sheet2!G$5","v":{"v":-3.4085914085913958,"d":"-3.41"}},-11.74256370943763,{"$f":"(B78-B77)/Sheet2!$G$5","v":27.77382557502396}]
[{"$f":"A77+Sheet2!G$5","v":{"v":-3.4005994005993876,"d":"-3.40"}},-11.520595073473402,{"$f":"(B79-B78)/Sheet2!$G$5","v":27.61075986950066}]
[{"$f":"A78+Sheet2!G$5","v":{"v":-3.3926073926073794,"d":"-3.39"}},-11.299929659930939,{"$f":"(B80-B79)/Sheet2!$G$5","v":27.44807739712935}]
[{"$f":"A79+Sheet2!G$5","v":{"v":-3.3846153846153713,"d":"-3.38"}},-11.080564406007827,{"$f":"(B81-B80)/Sheet2!$G$5","v":27.28577815790602}]
[{"$f":"A80+Sheet2!G$5","v":{"v":-3.376623376623363,"d":"-3.38"}},-10.862496248901685,{"$f":"(B82-B81)/Sheet2!$G$5","v":27.12386215183468}]
[{"$f":"A81+Sheet2!G$5","v":{"v":-3.368631368631355,"d":"-3.37"}},-10.6457221258101,{"$f":"(B83-B82)/Sheet2!$G$5","v":26.962329378912653}]
[{"$f":"A82+Sheet2!G$5","v":{"v":-3.3606393606393468,"d":"-3.36"}},-10.430238973930678,{"$f":"(B84-B83)/Sheet2!$G$5","v":26.8011798391435}]
[{"$f":"A83+Sheet2!G$5","v":{"v":-3.3526473526473386,"d":"-3.35"}},-10.216043730461,{"$f":"(B85-B84)/Sheet2!$G$5","v":26.640413532521002}]
[{"$f":"A84+Sheet2!G$5","v":{"v":-3.3446553446553304,"d":"-3.34"}},-10.003133332598694,{"$f":"(B86-B85)/Sheet2!$G$5","v":26.480030459052262}]
[{"$f":"A85+Sheet2!G$5","v":{"v":-3.3366633366633223,"d":"-3.34"}},-9.791504717541333,{"$f":"(B87-B86)/Sheet2!$G$5","v":26.320030618731955}]
[{"$f":"A86+Sheet2!G$5","v":{"v":-3.328671328671314,"d":"-3.33"}},-9.581154822486532,{"$f":"(B88-B87)/Sheet2!$G$5","v":26.1604140115623}]
[{"$f":"A87+Sheet2!G$5","v":{"v":-3.320679320679306,"d":"-3.32"}},-9.372080584631888,{"$f":"(B89-B88)/Sheet2!$G$5","v":26.001180637544625}]
[{"$f":"A88+Sheet2!G$5","v":{"v":-3.3126873126872978,"d":"-3.31"}},-9.164278941174988,{"$f":"(B90-B89)/Sheet2!$G$5","v":25.842330496676716}]
[{"$f":"A89+Sheet2!G$5","v":{"v":-3.3046953046952896,"d":"-3.30"}},-8.957746829313436,{"$f":"(B91-B90)/Sheet2!$G$5","v":25.683863588959014}]
[{"$f":"A90+Sheet2!G$5","v":{"v":-3.2967032967032814,"d":"-3.30"}},-8.752481186244832,{"$f":"(B92-B91)/Sheet2!$G$5","v":25.525779914391517}]
[{"$f":"A91+Sheet2!G$5","v":{"v":-3.2887112887112733,"d":"-3.29"}},-8.548478949166778,{"$f":"(B93-B92)/Sheet2!$G$5","v":25.36807947297423}]
[{"$f":"A92+Sheet2!G$5","v":{"v":-3.280719280719265,"d":"-3.28"}},-8.345737055276874,{"$f":"(B94-B93)/Sheet2!$G$5","v":25.210762264708926}]
[{"$f":"A93+Sheet2!G$5","v":{"v":-3.272727272727257,"d":"-3.27"}},-8.144252441772707,{"$f":"(B95-B94)/Sheet2!$G$5","v":25.053828289592495}]
[{"$f":"A94+Sheet2!G$5","v":{"v":-3.2647352647352488,"d":"-3.26"}},-7.944022045851888,{"$f":"(B96-B95)/Sheet2!$G$5","v":24.89727754762805}]
[{"$f":"A95+Sheet2!G$5","v":{"v":-3.2567432567432406,"d":"-3.26"}},-7.7450428047120035,{"$f":"(B97-B96)/Sheet2!$G$5","v":24.74111003881159}]
[{"$f":"A96+Sheet2!G$5","v":{"v":-3.2487512487512324,"d":"-3.25"}},-7.547311655550672,{"$f":"(B98-B97)/Sheet2!$G$5","v":24.58532576314889}]
[{"$f":"A97+Sheet2!G$5","v":{"v":-3.2407592407592243,"d":"-3.24"}},-7.350825535565466,{"$f":"(B99-B98)/Sheet2!$G$5","v":24.429924720634624}]
[{"$f":"A98+Sheet2!G$5","v":{"v":-3.232767232767216,"d":"-3.23"}},-7.155581381954001,{"$f":"(B100-B99)/Sheet2!$G$5","v":24.274906911270563}]
[{"$f":"A99+Sheet2!G$5","v":{"v":-3.224775224775208,"d":"-3.22"}},-6.961576131913876,{"$f":"(B101-B100)/Sheet2!$G$5","v":24.120272335057596}]
[{"$f":"A100+Sheet2!G$5","v":{"v":-3.2167832167832,"d":"-3.22"}},-6.768806722642687,{"$f":"(B102-B101)/Sheet2!$G$5","v":23.966020991994835}]
[{"$f":"A101+Sheet2!G$5","v":{"v":-3.2087912087911916,"d":"-3.21"}},-6.577270091338033,{"$f":"(B103-B102)/Sheet2!$G$5","v":23.812152882084064}]
[{"$f":"A102+Sheet2!G$5","v":{"v":-3.2007992007991835,"d":"-3.20"}},-6.386963175197501,{"$f":"(B104-B103)/Sheet2!$G$5","v":23.658668005320383}]
[{"$f":"A103+Sheet2!G$5","v":{"v":-3.1928071928071753,"d":"-3.19"}},-6.197882911418716,{"$f":"(B105-B104)/Sheet2!$G$5","v":23.505566361710468}]
[{"$f":"A104+Sheet2!G$5","v":{"v":-3.184815184815167,"d":"-3.18"}},-6.010026237199252,{"$f":"(B106-B105)/Sheet2!$G$5","v":23.352847951250315}]
[{"$f":"A105+Sheet2!G$5","v":{"v":-3.176823176823159,"d":"-3.18"}},-5.823390089736712,{"$f":"(B107-B106)/Sheet2!$G$5","v":23.200512773939035}]
[{"$f":"A106+Sheet2!G$5","v":{"v":-3.168831168831151,"d":"-3.17"}},-5.637971406228708,{"$f":"(B108-B107)/Sheet2!$G$5","v":23.048560829780186}]
[{"$f":"A107+Sheet2!G$5","v":{"v":-3.1608391608391426,"d":"-3.16"}},-5.453767123872822,{"$f":"(B109-B108)/Sheet2!$G$5","v":22.896992118770207}]
[{"$f":"A108+Sheet2!G$5","v":{"v":-3.1528471528471345,"d":"-3.15"}},-5.270774179866667,{"$f":"(B110-B109)/Sheet2!$G$5","v":22.745806640911773}]
[{"$f":"A109+Sheet2!G$5","v":{"v":-3.1448551448551263,"d":"-3.14"}},-5.088989511407831,{"$f":"(B111-B110)/Sheet2!$G$5","v":22.595004396203098}]
[{"$f":"A110+Sheet2!G$5","v":{"v":-3.136863136863118,"d":"-3.14"}},-4.9084100556939205,{"$f":"(B112-B111)/Sheet2!$G$5","v":22.44458538464552}]
[{"$f":"A111+Sheet2!G$5","v":{"v":-3.12887112887111,"d":"-3.13"}},-4.729032749922528,{"$f":"(B113-B112)/Sheet2!$G$5","v":22.29454960623815}]
[{"$f":"A112+Sheet2!G$5","v":{"v":-3.120879120879102,"d":"-3.12"}},-4.550854531291254,{"$f":"(B114-B113)/Sheet2!$G$5","v":22.144897060980984}]
[{"$f":"A113+Sheet2!G$5","v":{"v":-3.1128871128870936,"d":"-3.11"}},-4.3738723369976995,{"$f":"(B115-B114)/Sheet2!$G$5","v":21.995627748874917}]
[{"$f":"A114+Sheet2!G$5","v":{"v":-3.1048951048950855,"d":"-3.10"}},-4.198083104239458,{"$f":"(B116-B115)/Sheet2!$G$5","v":21.846741669918167}]
[{"$f":"A115+Sheet2!G$5","v":{"v":-3.0969030969030773,"d":"-3.10"}},-4.023483770214138,{"$f":"(B117-B116)/Sheet2!$G$5","v":21.698238824113403}]
[{"$f":"A116+Sheet2!G$5","v":{"v":-3.088911088911069,"d":"-3.09"}},-3.850071272119326,{"$f":"(B118-B117)/Sheet2!$G$5","v":21.5501192114584}]
[{"$f":"A117+Sheet2!G$5","v":{"v":-3.080919080919061,"d":"-3.08"}},-3.6778425471526255,{"$f":"(B119-B118)/Sheet2!$G$5","v":21.402382831953158}]
[{"$f":"A118+Sheet2!G$5","v":{"v":-3.072927072927053,"d":"-3.07"}},-3.506794532511641,{"$f":"(B120-B119)/Sheet2!$G$5","v":21.255029685599016}]
[{"$f":"A119+Sheet2!G$5","v":{"v":-3.0649350649350446,"d":"-3.06"}},-3.3369241653939667,{"$f":"(B121-B120)/Sheet2!$G$5","v":21.108059772395524}]
[{"$f":"A120+Sheet2!G$5","v":{"v":-3.0569430569430365,"d":"-3.06"}},-3.1682283829971993,{"$f":"(B122-B121)/Sheet2!$G$5","v":20.961473092342683}]
[{"$f":"A121+Sheet2!G$5","v":{"v":-3.0489510489510283,"d":"-3.05"}},-3.000704122518936,{"$f":"(B123-B122)/Sheet2!$G$5","v":20.81526964543916}]
[{"$f":"A122+Sheet2!G$5","v":{"v":-3.04095904095902,"d":"-3.04"}},-2.834348321156785,{"$f":"(B124-B123)/Sheet2!$G$5","v":20.66944943168762}]
[{"$f":"A123+Sheet2!G$5","v":{"v":-3.032967032967012,"d":"-3.03"}},-2.6691579161083325,{"$f":"(B125-B124)/Sheet2!$G$5","v":20.5240124510854}]
[{"$f":"A124+Sheet2!G$5","v":{"v":-3.024975024975004,"d":"-3.02"}},-2.5051298445711865,{"$f":"(B126-B125)/Sheet2!$G$5","v":20.378958703634275}]
[{"$f":"A125+Sheet2!G$5","v":{"v":-3.0169830169829956,"d":"-3.02"}},-2.3422610437429405,{"$f":"(B127-B126)/Sheet2!$G$5","v":20.234288189332467}]
[{"$f":"A126+Sheet2!G$5","v":{"v":-3.0089910089909875,"d":"-3.01"}},-2.1805484508212025,{"$f":"(B128-B127)/Sheet2!$G$5","v":20.090000908182645}]
[{"$f":"A127+Sheet2!G$5","v":{"v":-3.0009990009989793,"d":"-3.00"}},-2.019989003003559,{"$f":"(B129-B128)/Sheet2!$G$5","v":19.946096860183033}]
[{"$f":"A128+Sheet2!G$5","v":{"v":-2.993006993006971,"d":"-2.99"}},-1.8605796374876107,{"$f":"(B130-B129)/Sheet2!$G$5","v":19.80257604533318}]
[{"$f":"A129+Sheet2!G$5","v":{"v":-2.985014985014963,"d":"-2.99"}},-1.702317291470962,{"$f":"(B131-B130)/Sheet2!$G$5","v":19.659438463634423}]
[{"$f":"A130+Sheet2!G$5","v":{"v":-2.977022977022955,"d":"-2.98"}},{"$f":"x^3-7*x+4","v":-1.5451989021512063},{"$f":"(B132-B131)/Sheet2!$G$5","v":19.516684115085877}]
[{"$f":"A131+Sheet2!G$5","v":{"v":-2.9690309690309467,"d":"-2.97"}},-1.3892214067259445,{"$f":"(B133-B132)/Sheet2!$G$5","v":19.374312999687977}]
[{"$f":"A132+Sheet2!G$5","v":{"v":-2.9610389610389385,"d":"-2.96"}},-1.2343817423927739,{"$f":"(B134-B133)/Sheet2!$G$5","v":19.232325117440286}]
[{"$f":"A133+Sheet2!G$5","v":{"v":-2.9530469530469303,"d":"-2.95"}},-1.080676846349295,{"$f":"(B135-B134)/Sheet2!$G$5","v":19.090720468342802}]
[{"$f":"A134+Sheet2!G$5","v":{"v":-2.945054945054922,"d":"-2.95"}},-0.9281036557931088,{"$f":"(B136-B135)/Sheet2!$G$5","v":18.949499052395527}]
[{"$f":"A135+Sheet2!G$5","v":{"v":-2.937062937062914,"d":"-2.94"}},-0.7766591079218159,{"$f":"(B137-B136)/Sheet2!$G$5","v":18.808660869600235}]
[{"$f":"A136+Sheet2!G$5","v":{"v":-2.929070929070906,"d":"-2.93"}},-0.6263401399330029,{"$f":"(B138-B137)/Sheet2!$G$5","v":18.66820591995426}]
[{"$f":"A137+Sheet2!G$5","v":{"v":-2.9210789210788977,"d":"-2.92"}},-0.4771436890242775,{"$f":"(B139-B138)/Sheet2!$G$5","v":18.528134203458936}]
[{"$f":"A138+Sheet2!G$5","v":{"v":-2.9130869130868895,"d":"-2.91"}},-0.32906669239323705,{"$f":"(B140-B139)/Sheet2!$G$5","v":18.388445720113822}]
[{"$f":"A139+Sheet2!G$5","v":{"v":-2.9050949050948813,"d":"-2.91"}},-0.18210608723748223,{"$f":"(B141-B140)/Sheet2!$G$5","v":18.2491404699198}]
[{"$f":"A140+Sheet2!G$5","v":{"v":-2.897102897102873,"d":"-2.90"}},-0.036258810754606685,{"$f":"(B142-B141)/Sheet2!$G$5","v":18.110218452875547}]
[{"$f":"A141+Sheet2!G$5","v":{"v":-2.889110889110865,"d":"-2.89"}},0.10847819985778528,{"$f":"(B143-B142)/Sheet2!$G$5","v":17.97167966898194}]
[{"$f":"A142+Sheet2!G$5","v":{"v":-2.881118881118857,"d":"-2.88"}},0.2521080074020965,{"$f":"(B144-B143)/Sheet2!$G$5","v":17.833524118239875}]
[{"$f":"A143+Sheet2!G$5","v":{"v":-2.8731268731268487,"d":"-2.87"}},0.39463367468073685,{"$f":"(B145-B144)/Sheet2!$G$5","v":17.695751800646683}]
[{"$f":"A144+Sheet2!G$5","v":{"v":-2.8651348651348405,"d":"-2.87"}},0.536058264496095,{"$f":"(B146-B145)/Sheet2!$G$5","v":17.558362716205032}]
[{"$f":"A145+Sheet2!G$5","v":{"v":-2.8571428571428323,"d":"-2.86"}},0.6763848396505807,{"$f":"(B147-B146)/Sheet2!$G$5","v":17.421356864913143}]
[{"$f":"A146+Sheet2!G$5","v":{"v":-2.849150849150824,"d":"-2.85"}},0.8156164629465898,{"$f":"(B148-B147)/Sheet2!$G$5","v":17.28473424677235}]
[{"$f":"A147+Sheet2!G$5","v":{"v":-2.841158841158816,"d":"-2.84"}},0.9537561971865287,{"$f":"(B149-B148)/Sheet2!$G$5","v":17.14849486178132}]
[{"$f":"A148+Sheet2!G$5","v":{"v":-2.833166833166808,"d":"-2.83"}},1.090807105172793,{"$f":"(B150-B149)/Sheet2!$G$5","v":17.012638709941385}]
[{"$f":"A149+Sheet2!G$5","v":{"v":-2.8251748251747997,"d":"-2.83"}},1.226772249707789,{"$f":"(B151-B150)/Sheet2!$G$5","v":16.87716579125166}]
[{"$f":"A150+Sheet2!G$5","v":{"v":-2.8171828171827915,"d":"-2.82"}},1.3616546935939162,{"$f":"(B152-B151)/Sheet2!$G$5","v":16.742076105712137}]
[{"$f":"A151+Sheet2!G$5","v":{"v":-2.8091908091907833,"d":"-2.81"}},1.4954574996335737,{"$f":"(B153-B152)/Sheet2!$G$5","v":16.607369653323712}]
[{"$f":"A152+Sheet2!G$5","v":{"v":-2.801198801198775,"d":"-2.80"}},1.6281837306291678,{"$f":"(B154-B153)/Sheet2!$G$5","v":16.473046434085052}]
[{"$f":"A153+Sheet2!G$5","v":{"v":-2.793206793206767,"d":"-2.79"}},1.7598364493830942,{"$f":"(B155-B154)/Sheet2!$G$5","v":16.339106447997928}]
[{"$f":"A154+Sheet2!G$5","v":{"v":-2.785214785214759,"d":"-2.79"}},1.890418718697763,{"$f":"(B156-B155)/Sheet2!$G$5","v":16.205549695060125}]
[{"$f":"A155+Sheet2!G$5","v":{"v":-2.7772227772227507,"d":"-2.78"}},2.019933601375566,{"$f":"(B157-B156)/Sheet2!$G$5","v":16.07237617527342}]
[{"$f":"A156+Sheet2!G$5","v":{"v":-2.7692307692307425,"d":"-2.77"}},2.14838416021891,{"$f":"(B158-B157)/Sheet2!$G$5","v":15.939585888636472}]
[{"$f":"A157+Sheet2!G$5","v":{"v":-2.7612387612387344,"d":"-2.76"}},2.2757734580301907,{"$f":"(B159-B158)/Sheet2!$G$5","v":15.807178835150179}]
[{"$f":"A158+Sheet2!G$5","v":{"v":-2.753246753246726,"d":"-2.75"}},2.4021045576118105,{"$f":"(B160-B159)/Sheet2!$G$5","v":15.675155014815426}]
[{"$f":"A159+Sheet2!G$5","v":{"v":-2.745254745254718,"d":"-2.75"}},2.5273805217661796,{"$f":"(B161-B160)/Sheet2!$G$5","v":15.543514427630434}]
[{"$f":"A160+Sheet2!G$5","v":{"v":-2.73726273726271,"d":"-2.74"}},2.6516044132956935,{"$f":"(B162-B161)/Sheet2!$G$5","v":15.41225707359565}]
[{"$f":"A161+Sheet2!G$5","v":{"v":-2.7292707292707017,"d":"-2.73"}},2.7747792950027517,{"$f":"(B163-B162)/Sheet2!$G$5","v":15.28138295271152}]
[{"$f":"A162+Sheet2!G$5","v":{"v":-2.7212787212786935,"d":"-2.72"}},2.896908229689757,{"$f":"(B164-B163)/Sheet2!$G$5","v":15.150892064978038}]
[{"$f":"A163+Sheet2!G$5","v":{"v":-2.7132867132866854,"d":"-2.71"}},3.0179942801591118,{"$f":"(B165-B164)/Sheet2!$G$5","v":15.020784410394764}]
[{"$f":"A164+Sheet2!G$5","v":{"v":-2.705294705294677,"d":"-2.71"}},3.1380405092132158,{"$f":"(B166-B165)/Sheet2!$G$5","v":14.891059988961697}]
[{"$f":"A165+Sheet2!G$5","v":{"v":-2.697302697302669,"d":"-2.70"}},3.257049979654468,{"$f":"(B167-B166)/Sheet2!$G$5","v":14.761718800679725}]
[{"$f":"A166+Sheet2!G$5","v":{"v":-2.689310689310661,"d":"-2.69"}},3.375025754285275,{"$f":"(B168-B167)/Sheet2!$G$5","v":14.632760845547518}]
[{"$f":"A167+Sheet2!G$5","v":{"v":-2.6813186813186527,"d":"-2.68"}},3.4919708959080324,{"$f":"(B169-B168)/Sheet2!$G$5","v":14.504186123566848}]
[{"$f":"A168+Sheet2!G$5","v":{"v":-2.6733266733266445,"d":"-2.67"}},3.60788846732515,{"$f":"(B170-B169)/Sheet2!$G$5","v":14.375994634735942}]
[{"$f":"A169+Sheet2!G$5","v":{"v":-2.6653346653346364,"d":"-2.67"}},3.722781531339024,{"$f":"(B171-B170)/Sheet2!$G$5","v":14.248186379055245}]
[{"$f":"A170+Sheet2!G$5","v":{"v":-2.657342657342628,"d":"-2.66"}},3.8366531507520527,{"$f":"(B172-B171)/Sheet2!$G$5","v":14.120761356525641}]
[{"$f":"A171+Sheet2!G$5","v":{"v":-2.64935064935062,"d":"-2.65"}},3.9495063883666433,{"$f":"(B173-B172)/Sheet2!$G$5","v":13.993719567146245}]
[{"$f":"A172+Sheet2!G$5","v":{"v":-2.641358641358612,"d":"-2.64"}},4.061344306985195,{"$f":"(B174-B173)/Sheet2!$G$5","v":13.867061010916613}]
[{"$f":"A173+Sheet2!G$5","v":{"v":-2.6333666333666037,"d":"-2.63"}},4.172169969410103,{"$f":"(B175-B174)/Sheet2!$G$5","v":13.740785687838075}]
[{"$f":"A174+Sheet2!G$5","v":{"v":-2.6253746253745955,"d":"-2.63"}},4.281986438443774,{"$f":"(B176-B175)/Sheet2!$G$5","v":13.614893597910633}]
[{"$f":"A175+Sheet2!G$5","v":{"v":-2.6173826173825874,"d":"-2.62"}},4.390796776888614,{"$f":"(B177-B176)/Sheet2!$G$5","v":13.48938474113251}]
[{"$f":"A176+Sheet2!G$5","v":{"v":-2.609390609390579,"d":"-2.61"}},4.4986040475470155,{"$f":"(B178-B177)/Sheet2!$G$5","v":13.364259117505927}]
[{"$f":"A177+Sheet2!G$5","v":{"v":-2.601398601398571,"d":"-2.60"}},4.6054113132213885,{"$f":"(B179-B178)/Sheet2!$G$5","v":13.239516727029107}]
[{"$f":"A178+Sheet2!G$5","v":{"v":-2.593406593406563,"d":"-2.59"}},4.711221636714129,{"$f":"(B180-B179)/Sheet2!$G$5","v":13.115157569702937}]
[{"$f":"A179+Sheet2!G$5","v":{"v":-2.5854145854145547,"d":"-2.59"}},4.816038080827639,{"$f":"(B181-B180)/Sheet2!$G$5","v":12.99118164552742}]
[{"$f":"A180+Sheet2!G$5","v":{"v":-2.5774225774225465,"d":"-2.58"}},4.919863708364321,{"$f":"(B182-B181)/Sheet2!$G$5","v":12.867588954501665}]
[{"$f":"A181+Sheet2!G$5","v":{"v":-2.5694305694305384,"d":"-2.57"}},5.022701582126572,{"$f":"(B183-B182)/Sheet2!$G$5","v":12.744379496627005}]
[{"$f":"A182+Sheet2!G$5","v":{"v":-2.56143856143853,"d":"-2.56"}},5.124554764916798,{"$f":"(B184-B183)/Sheet2!$G$5","v":12.621553271902552}]
[{"$f":"A183+Sheet2!G$5","v":{"v":-2.553446553446522,"d":"-2.55"}},5.225426319537398,{"$f":"(B185-B184)/Sheet2!$G$5","v":12.499110280328752}]
[{"$f":"A184+Sheet2!G$5","v":{"v":-2.545454545454514,"d":"-2.55"}},5.325319308790775,{"$f":"(B186-B185)/Sheet2!$G$5","v":12.377050521905604}]
[{"$f":"A185+Sheet2!G$5","v":{"v":-2.5374625374625057,"d":"-2.54"}},5.424236795479331,{"$f":"(B187-B186)/Sheet2!$G$5","v":12.255373996632215}]
[{"$f":"A186+Sheet2!G$5","v":{"v":-2.5294705294704976,"d":"-2.53"}},5.5221818424054625,{"$f":"(B188-B187)/Sheet2!$G$5","v":12.13408070451037}]
[{"$f":"A187+Sheet2!G$5","v":{"v":-2.5214785214784894,"d":"-2.52"}},5.619157512371579,{"$f":"(B189-B188)/Sheet2!$G$5","v":12.013170645538063}]
[{"$f":"A188+Sheet2!G$5","v":{"v":-2.513486513486481,"d":"-2.51"}},5.715166868180075,{"$f":"(B190-B189)/Sheet2!$G$5","v":11.89264381971663}]
[{"$f":"A189+Sheet2!G$5","v":{"v":-2.505494505494473,"d":"-2.51"}},5.810212972633355,{"$f":"(B191-B190)/Sheet2!$G$5","v":11.772500227044961}]
[{"$f":"A190+Sheet2!G$5","v":{"v":-2.497502497502465,"d":"-2.50"}},5.904298888533814,{"$f":"(B192-B191)/Sheet2!$G$5","v":11.652739867525053}]
[{"$f":"A191+Sheet2!G$5","v":{"v":-2.4895104895104567,"d":"-2.49"}},5.997427678683865,{"$f":"(B193-B192)/Sheet2!$G$5","v":11.533362741154908}]
[{"$f":"A192+Sheet2!G$5","v":{"v":-2.4815184815184486,"d":"-2.48"}},6.089602405885902,{"$f":"(B194-B193)/Sheet2!$G$5","v":11.414368847934972}]
[{"$f":"A193+Sheet2!G$5","v":{"v":-2.4735264735264404,"d":"-2.47"}},6.180826132942325,{"$f":"(B195-B194)/Sheet2!$G$5","v":11.295758187865907}]
[{"$f":"A194+Sheet2!G$5","v":{"v":-2.4655344655344322,"d":"-2.47"}},{"$f":"x^3-7*x+4","v":6.271101922655539},{"$f":"(B196-B195)/Sheet2!$G$5","v":11.177530760947272}]
[{"$f":"A195+Sheet2!G$5","v":{"v":-2.457542457542424,"d":"-2.46"}},6.360432837827945,{"$f":"(B197-B196)/Sheet2!$G$5","v":11.059686567178622}]
[{"$f":"A196+Sheet2!G$5","v":{"v":-2.449550449550416,"d":"-2.45"}},6.44882194126194,{"$f":"(B198-B197)/Sheet2!$G$5","v":10.942225606561289}]
[{"$f":"A197+Sheet2!G$5","v":{"v":-2.4415584415584077,"d":"-2.44"}},6.536272295759932,{"$f":"(B199-B198)/Sheet2!$G$5","v":10.82514787909372}]
[{"$f":"A198+Sheet2!G$5","v":{"v":-2.4335664335663996,"d":"-2.43"}},6.622786964124318,{"$f":"(B200-B199)/Sheet2!$G$5","v":10.708453384776135}]
[{"$f":"A199+Sheet2!G$5","v":{"v":-2.4255744255743914,"d":"-2.43"}},6.708369009157494,{"$f":"(B201-B200)/Sheet2!$G$5","v":10.592142123610758}]
[{"$f":"A200+Sheet2!G$5","v":{"v":-2.4175824175823832,"d":"-2.42"}},6.793021493661875,{"$f":"(B202-B201)/Sheet2!$G$5","v":10.476214095594253}]
[{"$f":"A201+Sheet2!G$5","v":{"v":-2.409590409590375,"d":"-2.41"}},6.876747480439851,{"$f":"(B203-B202)/Sheet2!$G$5","v":10.360669300729066}]
[{"$f":"A202+Sheet2!G$5","v":{"v":-2.401598401598367,"d":"-2.40"}},6.95955003229383,{"$f":"(B204-B203)/Sheet2!$G$5","v":10.245507739014087}]
[{"$f":"A203+Sheet2!G$5","v":{"v":-2.3936063936063587,"d":"-2.39"}},7.04143221202621,{"$f":"(B205-B204)/Sheet2!$G$5","v":10.130729410449538}]
[{"$f":"A204+Sheet2!G$5","v":{"v":-2.3856143856143506,"d":"-2.39"}},7.122397082439393,{"$f":"(B206-B205)/Sheet2!$G$5","v":10.016334315035195}]
[{"$f":"A205+Sheet2!G$5","v":{"v":-2.3776223776223424,"d":"-2.38"}},7.202447706335779,{"$f":"(B207-B206)/Sheet2!$G$5","v":9.902322452771282}]
[{"$f":"A206+Sheet2!G$5","v":{"v":-2.3696303696303342,"d":"-2.37"}},7.281587146517767,{"$f":"(B208-B207)/Sheet2!$G$5","v":9.788693823658686}]
[{"$f":"A207+Sheet2!G$5","v":{"v":-2.361638361638326,"d":"-2.36"}},7.359818465787766,{"$f":"(B209-B208)/Sheet2!$G$5","v":9.675448427695853}]
[{"$f":"A208+Sheet2!G$5","v":{"v":-2.353646353646318,"d":"-2.35"}},7.437144726948173,{"$f":"(B210-B209)/Sheet2!$G$5","v":9.562586264883894}]
[{"$f":"A209+Sheet2!G$5","v":{"v":-2.3456543456543097,"d":"-2.35"}},7.513568992801391,{"$f":"(B211-B210)/Sheet2!$G$5","v":9.450107335221919}]
[{"$f":"A210+Sheet2!G$5","v":{"v":-2.3376623376623016,"d":"-2.34"}},7.589094326149818,{"$f":"(B212-B211)/Sheet2!$G$5","v":9.33801163871082}]
[{"$f":"A211+Sheet2!G$5","v":{"v":-2.3296703296702934,"d":"-2.33"}},7.663723789795858,{"$f":"(B213-B212)/Sheet2!$G$5","v":9.226299175349702}]
[{"$f":"A212+Sheet2!G$5","v":{"v":-2.3216783216782853,"d":"-2.32"}},7.73746044654191,{"$f":"(B214-B213)/Sheet2!$G$5","v":9.11496994513946}]
[{"$f":"A213+Sheet2!G$5","v":{"v":-2.313686313686277,"d":"-2.31"}},7.810307359190377,{"$f":"(B215-B214)/Sheet2!$G$5","v":9.004023948079647}]
[{"$f":"A214+Sheet2!G$5","v":{"v":-2.305694305694269,"d":"-2.31"}},7.882267590543661,{"$f":"(B216-B215)/Sheet2!$G$5","v":8.893461184169817}]
[{"$f":"A215+Sheet2!G$5","v":{"v":-2.2977022977022608,"d":"-2.30"}},7.953344203404159,{"$f":"(B217-B216)/Sheet2!$G$5","v":8.783281653411308}]
[{"$f":"A216+Sheet2!G$5","v":{"v":-2.2897102897102526,"d":"-2.29"}},8.02354026057428,{"$f":"(B218-B217)/Sheet2!$G$5","v":8.673485355802782}]
[{"$f":"A217+Sheet2!G$5","v":{"v":-2.2817182817182444,"d":"-2.28"}},8.09285882485642,{"$f":"(B219-B218)/Sheet2!$G$5","v":8.564072291344687}]
[{"$f":"A218+Sheet2!G$5","v":{"v":-2.2737262737262363,"d":"-2.27"}},8.16130295905298,{"$f":"(B220-B219)/Sheet2!$G$5","v":8.455042460037241}]
[{"$f":"A219+Sheet2!G$5","v":{"v":-2.265734265734228,"d":"-2.27"}},8.228875725966365,{"$f":"(B221-B220)/Sheet2!$G$5","v":8.346395861880225}]
[{"$f":"A220+Sheet2!G$5","v":{"v":-2.25774225774222,"d":"-2.26"}},8.295580188398974,{"$f":"(B222-B221)/Sheet2!$G$5","v":8.238132496873193}]
[{"$f":"A221+Sheet2!G$5","v":{"v":-2.2497502497502118,"d":"-2.25"}},8.361419409153205,{"$f":"(B223-B222)/Sheet2!$G$5","v":8.13025236501726}]
[{"$f":"A222+Sheet2!G$5","v":{"v":-2.2417582417582036,"d":"-2.24"}},8.426396451031465,{"$f":"(B224-B223)/Sheet2!$G$5","v":8.022755466311754}]
[{"$f":"A223+Sheet2!G$5","v":{"v":-2.2337662337661954,"d":"-2.23"}},8.490514376836154,{"$f":"(B225-B224)/Sheet2!$G$5","v":7.91564180075601}]
[{"$f":"A224+Sheet2!G$5","v":{"v":-2.2257742257741873,"d":"-2.23"}},8.553776249369669,{"$f":"(B226-B225)/Sheet2!$G$5","v":7.808911368351585}]
[{"$f":"A225+Sheet2!G$5","v":{"v":-2.217782217782179,"d":"-2.22"}},8.616185131434417,{"$f":"(B227-B226)/Sheet2!$G$5","v":7.702564169097366}]
[{"$f":"A226+Sheet2!G$5","v":{"v":-2.209790209790171,"d":"-2.21"}},8.677744085832797,{"$f":"(B228-B227)/Sheet2!$G$5","v":7.596600202993577}]
[{"$f":"A227+Sheet2!G$5","v":{"v":-2.2017982017981628,"d":"-2.20"}},8.738456175367212,{"$f":"(B229-B228)/Sheet2!$G$5","v":7.491019470040218}]
[{"$f":"A228+Sheet2!G$5","v":{"v":-2.1938061938061546,"d":"-2.19"}},8.79832446284006,{"$f":"(B230-B229)/Sheet2!$G$5","v":7.385821970237065}]
[{"$f":"A229+Sheet2!G$5","v":{"v":-2.1858141858141464,"d":"-2.19"}},8.857352011053743,{"$f":"(B231-B230)/Sheet2!$G$5","v":7.281007703584786}]
[{"$f":"A230+Sheet2!G$5","v":{"v":-2.1778221778221383,"d":"-2.18"}},8.915541882810665,{"$f":"(B232-B231)/Sheet2!$G$5","v":7.176576670082714}]
[{"$f":"A231+Sheet2!G$5","v":{"v":-2.16983016983013,"d":"-2.17"}},8.972897140913224,{"$f":"(B233-B232)/Sheet2!$G$5","v":7.0725288697312925}]
[{"$f":"A232+Sheet2!G$5","v":{"v":-2.161838161838122,"d":"-2.16"}},9.029420848163824,{"$f":"(B234-B233)/Sheet2!$G$5","v":6.968864302530301}]
[{"$f":"A233+Sheet2!G$5","v":{"v":-2.1538461538461138,"d":"-2.15"}},9.085116067364865,{"$f":"(B235-B234)/Sheet2!$G$5","v":6.865582968479739}]
[{"$f":"A234+Sheet2!G$5","v":{"v":-2.1458541458541056,"d":"-2.15"}},9.139985861318749,{"$f":"(B236-B235)/Sheet2!$G$5","v":6.762684867579606}]
[{"$f":"A235+Sheet2!G$5","v":{"v":-2.1378621378620974,"d":"-2.14"}},9.194033292827877,{"$f":"(B237-B236)/Sheet2!$G$5","v":6.660169999829902}]
[{"$f":"A236+Sheet2!G$5","v":{"v":-2.1298701298700893,"d":"-2.13"}},9.24726142469465,{"$f":"(B238-B237)/Sheet2!$G$5","v":6.55803836523085}]
[{"$f":"A237+Sheet2!G$5","v":{"v":-2.121878121878081,"d":"-2.12"}},9.29967331972147,{"$f":"(B239-B238)/Sheet2!$G$5","v":6.456289963782226}]
[{"$f":"A238+Sheet2!G$5","v":{"v":-2.113886113886073,"d":"-2.11"}},9.351272040710738,{"$f":"(B240-B239)/Sheet2!$G$5","v":6.35492479548381}]
[{"$f":"A239+Sheet2!G$5","v":{"v":-2.105894105894065,"d":"-2.11"}},9.402060650464854,{"$f":"(B241-B240)/Sheet2!$G$5","v":6.253942860336045}]
[{"$f":"A240+Sheet2!G$5","v":{"v":-2.0979020979020566,"d":"-2.10"}},9.452042211786221,{"$f":"(B242-B241)/Sheet2!$G$5","v":6.15334415833871}]
[{"$f":"A241+Sheet2!G$5","v":{"v":-2.0899100899100485,"d":"-2.09"}},9.50121978747724,{"$f":"(B243-B242)/Sheet2!$G$5","v":6.053128689492026}]
[{"$f":"A242+Sheet2!G$5","v":{"v":-2.0819180819180403,"d":"-2.08"}},9.549596440340313,{"$f":"(B244-B243)/Sheet2!$G$5","v":5.953296453795549}]
[{"$f":"A243+Sheet2!G$5","v":{"v":-2.073926073926032,"d":"-2.07"}},9.59717523317784,{"$f":"(B245-B244)/Sheet2!$G$5","v":5.853847451249723}]
[{"$f":"A244+Sheet2!G$5","v":{"v":-2.065934065934024,"d":"-2.07"}},9.643959228792223,{"$f":"(B246-B245)/Sheet2!$G$5","v":5.754781681853882}]
[{"$f":"A245+Sheet2!G$5","v":{"v":-2.057942057942016,"d":"-2.06"}},9.68995148998586,{"$f":"(B247-B246)/Sheet2!$G$5","v":5.6560991456093594}]
[{"$f":"A246+Sheet2!G$5","v":{"v":-2.0499500499500076,"d":"-2.05"}},9.73515507956116,{"$f":"(B248-B247)/Sheet2!$G$5","v":5.557799842514822}]
[{"$f":"A247+Sheet2!G$5","v":{"v":-2.0419580419579995,"d":"-2.04"}},9.77957306032052,{"$f":"(B249-B248)/Sheet2!$G$5","v":5.459883772570713}]
[{"$f":"A248+Sheet2!G$5","v":{"v":-2.0339660339659913,"d":"-2.03"}},9.82320849506634,{"$f":"(B250-B249)/Sheet2!$G$5","v":5.362350935777033}]
[{"$f":"A249+Sheet2!G$5","v":{"v":-2.025974025973983,"d":"-2.03"}},9.86606444660102,{"$f":"(B251-B250)/Sheet2!$G$5","v":5.265201332134005}]
[{"$f":"A250+Sheet2!G$5","v":{"v":-2.017982017981975,"d":"-2.02"}},9.908143977726967,{"$f":"(B252-B251)/Sheet2!$G$5","v":5.168434961641406}]
[{"$f":"A251+Sheet2!G$5","v":{"v":-2.009990009989967,"d":"-2.01"}},9.949450151246578,{"$f":"(B253-B252)/Sheet2!$G$5","v":5.072051824299236}]
[{"$f":"A252+Sheet2!G$5","v":{"v":-2.0019980019979586,"d":"-2.00"}},9.989986029962257,{"$f":"(B254-B253)/Sheet2!$G$5","v":4.976051920107273}]
[{"$f":"A253+Sheet2!G$5","v":{"v":-1.9940059940059507,"d":"-1.99"}},10.0297546766764,{"$f":"(B255-B254)/Sheet2!$G$5","v":4.880435249066184}]
[{"$f":"A254+Sheet2!G$5","v":{"v":-1.9860139860139427,"d":"-1.99"}},10.068759154191415,{"$f":"(B256-B255)/Sheet2!$G$5","v":4.785201811174858}]
[{"$f":"A255+Sheet2!G$5","v":{"v":-1.9780219780219348,"d":"-1.98"}},10.107002525309696,{"$f":"(B257-B256)/Sheet2!$G$5","v":4.690351606435294}]
[{"$f":"A256+Sheet2!G$5","v":{"v":-1.9700299700299269,"d":"-1.97"}},10.144487852833654,{"$f":"(B258-B257)/Sheet2!$G$5","v":4.5958846348452695}]
[{"$f":"A257+Sheet2!G$5","v":{"v":-1.962037962037919,"d":"-1.96"}},10.181218199565684,{"$f":"(B259-B258)/Sheet2!$G$5","v":4.501800896405675}]
[{"$f":"A258+Sheet2!G$5","v":{"v":-1.954045954045911,"d":"-1.95"}},{"$f":"x^3-7*x+4","v":10.217196628308187},{"$f":"(B260-B259)/Sheet2!$G$5","v":4.408100391116732}]
[{"$f":"A259+Sheet2!G$5","v":{"v":-1.946053946053903,"d":"-1.95"}},10.252426201863566,{"$f":"(B261-B260)/Sheet2!$G$5","v":4.314783118978219}]
[{"$f":"A260+Sheet2!G$5","v":{"v":-1.938061938061895,"d":"-1.94"}},10.28690998303422,{"$f":"(B262-B261)/Sheet2!$G$5","v":4.221849079990578}]
[{"$f":"A261+Sheet2!G$5","v":{"v":-1.9300699300698871,"d":"-1.93"}},10.320651034622557,{"$f":"(B263-B262)/Sheet2!$G$5","v":4.129298274152923}]
[{"$f":"A262+Sheet2!G$5","v":{"v":-1.9220779220778792,"d":"-1.92"}},10.353652419430972,{"$f":"(B264-B263)/Sheet2!$G$5","v":4.0371307014656965}]
[{"$f":"A263+Sheet2!G$5","v":{"v":-1.9140859140858713,"d":"-1.91"}},10.385917200261867,{"$f":"(B265-B264)/Sheet2!$G$5","v":3.9453463619293445}]
[{"$f":"A264+Sheet2!G$5","v":{"v":-1.9060939060938633,"d":"-1.91"}},10.417448439917646,{"$f":"(B266-B265)/Sheet2!$G$5","v":3.853945255543421}]
[{"$f":"A265+Sheet2!G$5","v":{"v":-1.8981018981018554,"d":"-1.90"}},10.44824920120071,{"$f":"(B267-B266)/Sheet2!$G$5","v":3.762927382307038}]
[{"$f":"A266+Sheet2!G$5","v":{"v":-1.8901098901098474,"d":"-1.89"}},10.478322546913454,{"$f":"(B268-B267)/Sheet2!$G$5","v":3.67229274222264}]
[{"$f":"A267+Sheet2!G$5","v":{"v":-1.8821178821178395,"d":"-1.88"}},10.50767153985829,{"$f":"(B269-B268)/Sheet2!$G$5","v":3.5820413352875597}]
[{"$f":"A268+Sheet2!G$5","v":{"v":-1.8741258741258315,"d":"-1.87"}},10.536299242837611,{"$f":"(B270-B269)/Sheet2!$G$5","v":3.492173161503131}]
[{"$f":"A269+Sheet2!G$5","v":{"v":-1.8661338661338236,"d":"-1.87"}},10.56420871865382,{"$f":"(B271-B270)/Sheet2!$G$5","v":3.4026882208697984}]
[{"$f":"A270+Sheet2!G$5","v":{"v":-1.8581418581418156,"d":"-1.86"}},10.591403030109323,{"$f":"(B272-B271)/Sheet2!$G$5","v":3.313586513386006}]
[{"$f":"A271+Sheet2!G$5","v":{"v":-1.8501498501498077,"d":"-1.85"}},10.617885240006514,{"$f":"(B273-B272)/Sheet2!$G$5","v":3.224868039053532}]
[{"$f":"A272+Sheet2!G$5","v":{"v":-1.8421578421577998,"d":"-1.84"}},10.6436584111478,{"$f":"(B274-B273)/Sheet2!$G$5","v":3.136532797871042}]
[{"$f":"A273+Sheet2!G$5","v":{"v":-1.8341658341657918,"d":"-1.83"}},10.668725606335581,{"$f":"(B275-B274)/Sheet2!$G$5","v":3.0485807898389816}]
[{"$f":"A274+Sheet2!G$5","v":{"v":-1.8261738261737839,"d":"-1.83"}},10.693089888372256,{"$f":"(B276-B275)/Sheet2!$G$5","v":2.9610120149575727}]
[{"$f":"A275+Sheet2!G$5","v":{"v":-1.818181818181776,"d":"-1.82"}},10.716754320060229,{"$f":"(B277-B276)/Sheet2!$G$5","v":2.8738264732263707}]
[{"$f":"A276+Sheet2!G$5","v":{"v":-1.810189810189768,"d":"-1.81"}},10.739721964201898,{"$f":"(B278-B277)/Sheet2!$G$5","v":2.787024164646265}]
[{"$f":"A277+Sheet2!G$5","v":{"v":-1.80219780219776,"d":"-1.80"}},10.76199588359967,{"$f":"(B279-B278)/Sheet2!$G$5","v":2.7006050892159212}]
[{"$f":"A278+Sheet2!G$5","v":{"v":-1.794205794205752,"d":"-1.79"}},10.783579141055942,{"$f":"(B280-B279)/Sheet2!$G$5","v":2.6145692469364517}]
[{"$f":"A279+Sheet2!G$5","v":{"v":-1.7862137862137442,"d":"-1.79"}},10.804474799373116,{"$f":"(B281-B280)/Sheet2!$G$5","v":2.528916637807411}]
[{"$f":"A280+Sheet2!G$5","v":{"v":-1.7782217782217362,"d":"-1.78"}},10.824685921353595,{"$f":"(B282-B281)/Sheet2!$G$5","v":2.4436472618285774}]
[{"$f":"A281+Sheet2!G$5","v":{"v":-1.7702297702297283,"d":"-1.77"}},10.844215569799777,{"$f":"(B283-B282)/Sheet2!$G$5","v":2.358761119000395}]
[{"$f":"A282+Sheet2!G$5","v":{"v":-1.7622377622377203,"d":"-1.76"}},10.863066807514066,{"$f":"(B284-B283)/Sheet2!$G$5","v":2.274258209322642}]
[{"$f":"A283+Sheet2!G$5","v":{"v":-1.7542457542457124,"d":"-1.75"}},10.881242697298863,{"$f":"(B285-B284)/Sheet2!$G$5","v":2.1901385327955407}]
[{"$f":"A284+Sheet2!G$5","v":{"v":-1.7462537462537044,"d":"-1.75"}},10.89874630195657,{"$f":"(B286-B285)/Sheet2!$G$5","v":2.106402089418424}]
[{"$f":"A285+Sheet2!G$5","v":{"v":-1.7382617382616965,"d":"-1.74"}},10.915580684289584,{"$f":"(B287-B286)/Sheet2!$G$5","v":2.023048879192403}]
[{"$f":"A286+Sheet2!G$5","v":{"v":-1.7302697302696886,"d":"-1.73"}},10.931748907100312,{"$f":"(B288-B287)/Sheet2!$G$5","v":1.9400789021163667}]
[{"$f":"A287+Sheet2!G$5","v":{"v":-1.7222777222776806,"d":"-1.72"}},10.947254033191152,{"$f":"(B289-B288)/Sheet2!$G$5","v":1.857492158190982}]
[{"$f":"A288+Sheet2!G$5","v":{"v":-1.7142857142856727,"d":"-1.71"}},10.962099125364507,{"$f":"(B290-B289)/Sheet2!$G$5","v":1.7752886474162488}]
[{"$f":"A289+Sheet2!G$5","v":{"v":-1.7062937062936647,"d":"-1.71"}},10.976287246422778,{"$f":"(B291-B290)/Sheet2!$G$5","v":1.6934683697915003}]
[{"$f":"A290+Sheet2!G$5","v":{"v":-1.6983016983016568,"d":"-1.70"}},10.989821459168365,{"$f":"(B292-B291)/Sheet2!$G$5","v":1.6120313253176255}]
[{"$f":"A291+Sheet2!G$5","v":{"v":-1.6903096903096488,"d":"-1.69"}},11.00270482640367,{"$f":"(B293-B292)/Sheet2!$G$5","v":1.5309775139939577}]
[{"$f":"A292+Sheet2!G$5","v":{"v":-1.682317682317641,"d":"-1.68"}},11.014940410931095,{"$f":"(B294-B293)/Sheet2!$G$5","v":1.4503069358209413}]
[{"$f":"A293+Sheet2!G$5","v":{"v":-1.674325674325633,"d":"-1.67"}},11.02653127555304,{"$f":"(B295-B294)/Sheet2!$G$5","v":1.3700195907985764}]
[{"$f":"A294+Sheet2!G$5","v":{"v":-1.666333666333625,"d":"-1.67"}},11.03748048307191,{"$f":"(B296-B295)/Sheet2!$G$5","v":1.2901154789261962}]
[{"$f":"A295+Sheet2!G$5","v":{"v":-1.658341658341617,"d":"-1.66"}},11.047791096290101,{"$f":"(B297-B296)/Sheet2!$G$5","v":1.2105946002044674}]
[{"$f":"A296+Sheet2!G$5","v":{"v":-1.6503496503496091,"d":"-1.65"}},11.057466178010017,{"$f":"(B298-B297)/Sheet2!$G$5","v":1.1314569546333901}]
[{"$f":"A297+Sheet2!G$5","v":{"v":-1.6423576423576012,"d":"-1.64"}},11.06650879103406,{"$f":"(B299-B298)/Sheet2!$G$5","v":1.052702542212742}]
[{"$f":"A298+Sheet2!G$5","v":{"v":-1.6343656343655932,"d":"-1.63"}},11.074921998164632,{"$f":"(B300-B299)/Sheet2!$G$5","v":0.9743313629423009}]
[{"$f":"A299+Sheet2!G$5","v":{"v":-1.6263736263735853,"d":"-1.63"}},11.08270886220413,{"$f":"(B301-B300)/Sheet2!$G$5","v":0.8963434168225113}]
[{"$f":"A300+Sheet2!G$5","v":{"v":-1.6183816183815773,"d":"-1.62"}},11.08987244595496,{"$f":"(B302-B301)/Sheet2!$G$5","v":0.8187387038531508}]
[{"$f":"A301+Sheet2!G$5","v":{"v":-1.6103896103895694,"d":"-1.61"}},11.09641581221952,{"$f":"(B303-B302)/Sheet2!$G$5","v":0.7415172240344419}]
[{"$f":"A302+Sheet2!G$5","v":{"v":-1.6023976023975615,"d":"-1.60"}},11.102342023800215,{"$f":"(B304-B303)/Sheet2!$G$5","v":0.6646789773657176}]
[{"$f":"A303+Sheet2!G$5","v":{"v":-1.5944055944055535,"d":"-1.59"}},11.107654143499442,{"$f":"(B305-B304)/Sheet2!$G$5","v":0.5882239638480893}]
[{"$f":"A304+Sheet2!G$5","v":{"v":-1.5864135864135456,"d":"-1.59"}},11.112355234119606,{"$f":"(B306-B305)/Sheet2!$G$5","v":0.5121521834804457}]
[{"$f":"A305+Sheet2!G$5","v":{"v":-1.5784215784215376,"d":"-1.58"}},11.116448358463106,{"$f":"(B307-B306)/Sheet2!$G$5","v":0.4364636362634535}]
[{"$f":"A306+Sheet2!G$5","v":{"v":-1.5704295704295297,"d":"-1.57"}},11.119936579332345,{"$f":"(B308-B307)/Sheet2!$G$5","v":0.3611583221968906}]
[{"$f":"A307+Sheet2!G$5","v":{"v":-1.5624375624375217,"d":"-1.56"}},11.122822959529723,{"$f":"(B309-B308)/Sheet2!$G$5","v":0.28623624128075686}]
[{"$f":"A308+Sheet2!G$5","v":{"v":-1.5544455544455138,"d":"-1.55"}},11.12511056185764,{"$f":"(B310-B309)/Sheet2!$G$5","v":0.21169739351505235}]
[{"$f":"A309+Sheet2!G$5","v":{"v":-1.5464535464535059,"d":"-1.55"}},11.1268024491185,{"$f":"(B311-B310)/Sheet2!$G$5","v":0.13754177890022157}]
[{"$f":"A310+Sheet2!G$5","v":{"v":-1.538461538461498,"d":"-1.54"}},11.127901684114706,{"$f":"(B312-B311)/Sheet2!$G$5","v":0.06376939743537546}]
[{"$f":"A311+Sheet2!G$5","v":{"v":-1.53046953046949,"d":"-1.53"}},11.128411329648655,{"$f":"(B313-B312)/Sheet2!$G$5","v":-0.009619750878819167}]
[{"$f":"A312+Sheet2!G$5","v":{"v":-1.522477522477482,"d":"-1.52"}},11.12833444852275,{"$f":"(B314-B313)/Sheet2!$G$5","v":-0.08262566604258459}]
[{"$f":"A313+Sheet2!G$5","v":{"v":-1.514485514485474,"d":"-1.51"}},11.127674103539393,{"$f":"(B315-B314)/Sheet2!$G$5","v":-0.15524834805614307}]
[{"$f":"A314+Sheet2!G$5","v":{"v":-1.5064935064934661,"d":"-1.51"}},11.126433357500982,{"$f":"(B316-B315)/Sheet2!$G$5","v":-0.22748779691860554}]
[{"$f":"A315+Sheet2!G$5","v":{"v":-1.4985014985014582,"d":"-1.50"}},11.124615273209924,{"$f":"(B317-B316)/Sheet2!$G$5","v":-0.2993440126308611}]
[{"$f":"A316+Sheet2!G$5","v":{"v":-1.4905094905094503,"d":"-1.49"}},11.122222913468619,{"$f":"(B318-B317)/Sheet2!$G$5","v":-0.37081699519313194}]
[{"$f":"A317+Sheet2!G$5","v":{"v":-1.4825174825174423,"d":"-1.48"}},11.119259341079463,{"$f":"(B319-B318)/Sheet2!$G$5","v":-0.44190674460452906}]
[{"$f":"A318+Sheet2!G$5","v":{"v":-1.4745254745254344,"d":"-1.47"}},11.115727618844861,{"$f":"(B320-B319)/Sheet2!$G$5","v":-0.5126132608652747}]
[{"$f":"A319+Sheet2!G$5","v":{"v":-1.4665334665334264,"d":"-1.47"}},11.111630809567217,{"$f":"(B321-B320)/Sheet2!$G$5","v":-0.5829365439758134}]
[{"$f":"A320+Sheet2!G$5","v":{"v":-1.4585414585414185,"d":"-1.46"}},11.106971976048928,{"$f":"(B322-B321)/Sheet2!$G$5","v":-0.6528765939357006}]
[{"$f":"A321+Sheet2!G$5","v":{"v":-1.4505494505494105,"d":"-1.45"}},11.1017541810924,{"$f":"(B323-B322)/Sheet2!$G$5","v":-0.7224334107458255}]
[{"$f":"A322+Sheet2!G$5","v":{"v":-1.4425574425574026,"d":"-1.44"}},{"$f":"x^3-7*x+4","v":11.095980487500025},{"$f":"(B324-B323)/Sheet2!$G$5","v":-0.7916069944044097}]
[{"$f":"A323+Sheet2!G$5","v":{"v":-1.4345654345653946,"d":"-1.43"}},11.089653958074216,{"$f":"(B325-B324)/Sheet2!$G$5","v":-0.8603973449132316}]
[{"$f":"A324+Sheet2!G$5","v":{"v":-1.4265734265733867,"d":"-1.43"}},11.082777655617367,{"$f":"(B326-B325)/Sheet2!$G$5","v":-0.928804462271402}]
[{"$f":"A325+Sheet2!G$5","v":{"v":-1.4185814185813788,"d":"-1.42"}},11.075354642931881,{"$f":"(B327-B326)/Sheet2!$G$5","v":-0.9968283464786987}]
[{"$f":"A326+Sheet2!G$5","v":{"v":-1.4105894105893708,"d":"-1.41"}},11.067387982820163,{"$f":"(B328-B327)/Sheet2!$G$5","v":-1.0644689975364552}]
[{"$f":"A327+Sheet2!G$5","v":{"v":-1.4025974025973629,"d":"-1.40"}},11.058880738084607,{"$f":"(B329-B328)/Sheet2!$G$5","v":-1.1317264154428934}]
[{"$f":"A328+Sheet2!G$5","v":{"v":-1.394605394605355,"d":"-1.39"}},11.04983597152762,{"$f":"(B330-B329)/Sheet2!$G$5","v":-1.198600600199347}]
[{"$f":"A329+Sheet2!G$5","v":{"v":-1.386613386613347,"d":"-1.39"}},11.040256745951602,{"$f":"(B331-B330)/Sheet2!$G$5","v":-1.265091551805149}]
[{"$f":"A330+Sheet2!G$5","v":{"v":-1.378621378621339,"d":"-1.38"}},11.030146124158954,{"$f":"(B332-B331)/Sheet2!$G$5","v":-1.331199270260522}]
[{"$f":"A331+Sheet2!G$5","v":{"v":-1.370629370629331,"d":"-1.37"}},11.019507168952076,{"$f":"(B333-B332)/Sheet2!$G$5","v":-1.3969237555654657}]
[{"$f":"A332+Sheet2!G$5","v":{"v":-1.3626373626373232,"d":"-1.36"}},11.008342943133371,{"$f":"(B334-B333)/Sheet2!$G$5","v":-1.4622650077199801}]
[{"$f":"A333+Sheet2!G$5","v":{"v":-1.3546453546453152,"d":"-1.35"}},10.99665650950524,{"$f":"(B335-B334)/Sheet2!$G$5","v":-1.5272230267236209}]
[{"$f":"A334+Sheet2!G$5","v":{"v":-1.3466533466533073,"d":"-1.35"}},10.984450930870086,{"$f":"(B336-B335)/Sheet2!$G$5","v":-1.5917978125774992}]
[{"$f":"A335+Sheet2!G$5","v":{"v":-1.3386613386612993,"d":"-1.34"}},10.971729270030306,{"$f":"(B337-B336)/Sheet2!$G$5","v":-1.6559893652802815}]
[{"$f":"A336+Sheet2!G$5","v":{"v":-1.3306693306692914,"d":"-1.33"}},10.958494589788305,{"$f":"(B338-B337)/Sheet2!$G$5","v":-1.7197976848328569}]
[{"$f":"A337+Sheet2!G$5","v":{"v":-1.3226773226772834,"d":"-1.32"}},10.944749952946484,{"$f":"(B339-B338)/Sheet2!$G$5","v":-1.7832227712352253}]
[{"$f":"A338+Sheet2!G$5","v":{"v":-1.3146853146852755,"d":"-1.31"}},10.930498422307242,{"$f":"(B340-B339)/Sheet2!$G$5","v":-1.84626462448672}]
[{"$f":"A339+Sheet2!G$5","v":{"v":-1.3066933066932676,"d":"-1.31"}},10.915743060672982,{"$f":"(B341-B340)/Sheet2!$G$5","v":-1.9089232445880078}]
[{"$f":"A340+Sheet2!G$5","v":{"v":-1.2987012987012596,"d":"-1.30"}},10.900486930846105,{"$f":"(B342-B341)/Sheet2!$G$5","v":-1.9711986315384218}]
[{"$f":"A341+Sheet2!G$5","v":{"v":-1.2907092907092517,"d":"-1.29"}},10.884733095629015,{"$f":"(B343-B342)/Sheet2!$G$5","v":-2.0330907853388513}]
[{"$f":"A342+Sheet2!G$5","v":{"v":-1.2827172827172437,"d":"-1.28"}},10.868484617824109,{"$f":"(B344-B343)/Sheet2!$G$5","v":-2.094599705988629}]
[{"$f":"A343+Sheet2!G$5","v":{"v":-1.2747252747252358,"d":"-1.27"}},10.85174456023379,{"$f":"(B345-B344)/Sheet2!$G$5","v":-2.1557253934879776}]
[{"$f":"A344+Sheet2!G$5","v":{"v":-1.2667332667332278,"d":"-1.27"}},10.83451598566046,{"$f":"(B346-B345)/Sheet2!$G$5","v":-2.216467847836675}]
[{"$f":"A345+Sheet2!G$5","v":{"v":-1.25874125874122,"d":"-1.26"}},10.81680195690652,{"$f":"(B347-B346)/Sheet2!$G$5","v":-2.276827069035165}]
[{"$f":"A346+Sheet2!G$5","v":{"v":-1.250749250749212,"d":"-1.25"}},10.798605536774371,{"$f":"(B348-B347)/Sheet2!$G$5","v":-2.336803057083004}]
[{"$f":"A347+Sheet2!G$5","v":{"v":-1.242757242757204,"d":"-1.24"}},10.779929788066415,{"$f":"(B349-B348)/Sheet2!$G$5","v":-2.3963958119804136}]
[{"$f":"A348+Sheet2!G$5","v":{"v":-1.234765234765196,"d":"-1.23"}},10.760777773585053,{"$f":"(B350-B349)/Sheet2!$G$5","v":-2.455605333727616}]
[{"$f":"A349+Sheet2!G$5","v":{"v":-1.2267732267731881,"d":"-1.23"}},10.741152556132684,{"$f":"(B351-B350)/Sheet2!$G$5","v":-2.514431622323945}]
[{"$f":"A350+Sheet2!G$5","v":{"v":-1.2187812187811802,"d":"-1.22"}},10.721057198511714,{"$f":"(B352-B351)/Sheet2!$G$5","v":-2.5728746777702893}]
[{"$f":"A351+Sheet2!G$5","v":{"v":-1.2107892107891722,"d":"-1.21"}},10.700494763524539,{"$f":"(B353-B352)/Sheet2!$G$5","v":-2.6309345000655373}]
[{"$f":"A352+Sheet2!G$5","v":{"v":-1.2027972027971643,"d":"-1.20"}},10.679468313973565,{"$f":"(B354-B353)/Sheet2!$G$5","v":-2.688611089210579}]
[{"$f":"A353+Sheet2!G$5","v":{"v":-1.1948051948051563,"d":"-1.19"}},10.657980912661193,{"$f":"(B355-B354)/Sheet2!$G$5","v":-2.7459044452056354}]
[{"$f":"A354+Sheet2!G$5","v":{"v":-1.1868131868131484,"d":"-1.19"}},10.63603562238982,{"$f":"(B356-B355)/Sheet2!$G$5","v":-2.8028145680493735}]
[{"$f":"A355+Sheet2!G$5","v":{"v":-1.1788211788211405,"d":"-1.18"}},10.613635505961852,{"$f":"(B357-B356)/Sheet2!$G$5","v":-2.8593414577435716}]
[{"$f":"A356+Sheet2!G$5","v":{"v":-1.1708291708291325,"d":"-1.17"}},10.590783626179686,{"$f":"(B358-B357)/Sheet2!$G$5","v":-2.9154851142862293}]
[{"$f":"A357+Sheet2!G$5","v":{"v":-1.1628371628371246,"d":"-1.16"}},10.56748304584573,{"$f":"(B359-B358)/Sheet2!$G$5","v":-2.971245537679347}]
[{"$f":"A358+Sheet2!G$5","v":{"v":-1.1548451548451166,"d":"-1.15"}},10.543736827762379,{"$f":"(B360-B359)/Sheet2!$G$5","v":-3.0266227279218127}]
[{"$f":"A359+Sheet2!G$5","v":{"v":-1.1468531468531087,"d":"-1.15"}},10.519548034732034,{"$f":"(B361-B360)/Sheet2!$G$5","v":-3.0816166850136275}]
[{"$f":"A360+Sheet2!G$5","v":{"v":-1.1388611388611007,"d":"-1.14"}},10.4949197295571,{"$f":"(B362-B361)/Sheet2!$G$5","v":-3.1362274089547904}]
[{"$f":"A361+Sheet2!G$5","v":{"v":-1.1308691308690928,"d":"-1.13"}},10.46985497503998,{"$f":"(B363-B362)/Sheet2!$G$5","v":-3.1904548997459687}]
[{"$f":"A362+Sheet2!G$5","v":{"v":-1.1228771228770849,"d":"-1.12"}},10.444356833983068,{"$f":"(B364-B363)/Sheet2!$G$5","v":-3.244299157386051}]
[{"$f":"A363+Sheet2!G$5","v":{"v":-1.114885114885077,"d":"-1.11"}},10.418428369188774,{"$f":"(B365-B364)/Sheet2!$G$5","v":-3.297760181876371}]
[{"$f":"A364+Sheet2!G$5","v":{"v":-1.106893106893069,"d":"-1.11"}},10.392072643459493,{"$f":"(B366-B365)/Sheet2!$G$5","v":-3.3508379732160396}]
[{"$f":"A365+Sheet2!G$5","v":{"v":-1.098901098901061,"d":"-1.10"}},10.365292719597626,{"$f":"(B367-B366)/Sheet2!$G$5","v":-3.403532531404612}]
[{"$f":"A366+Sheet2!G$5","v":{"v":-1.090909090909053,"d":"-1.09"}},10.338091660405581,{"$f":"(B368-B367)/Sheet2!$G$5","v":-3.455843856443422}]
[{"$f":"A367+Sheet2!G$5","v":{"v":-1.0829170829170451,"d":"-1.08"}},10.310472528685754,{"$f":"(B369-B368)/Sheet2!$G$5","v":-3.5077719483318033}]
[{"$f":"A368+Sheet2!G$5","v":{"v":-1.0749250749250372,"d":"-1.07"}},10.282438387240544,{"$f":"(B370-B369)/Sheet2!$G$5","v":-3.5593168070693104}]
[{"$f":"A369+Sheet2!G$5","v":{"v":-1.0669330669330293,"d":"-1.07"}},10.253992298872358,{"$f":"(B371-B370)/Sheet2!$G$5","v":-3.610478432656388}]
[{"$f":"A370+Sheet2!G$5","v":{"v":-1.0589410589410213,"d":"-1.06"}},10.225137326383596,{"$f":"(B372-B371)/Sheet2!$G$5","v":-3.6612568250932593}]
[{"$f":"A371+Sheet2!G$5","v":{"v":-1.0509490509490134,"d":"-1.05"}},10.195876532576657,{"$f":"(B373-B372)/Sheet2!$G$5","v":-3.7116519843794786}]
[{"$f":"A372+Sheet2!G$5","v":{"v":-1.0429570429570054,"d":"-1.04"}},10.166212980253944,{"$f":"(B374-B373)/Sheet2!$G$5","v":-3.761663910515269}]
[{"$f":"A373+Sheet2!G$5","v":{"v":-1.0349650349649975,"d":"-1.03"}},10.136149732217858,{"$f":"(B375-B374)/Sheet2!$G$5","v":-3.8112926035006303}]
[{"$f":"A374+Sheet2!G$5","v":{"v":-1.0269730269729895,"d":"-1.03"}},10.1056898512708,{"$f":"(B376-B375)/Sheet2!$G$5","v":-3.8605380633353397}]
[{"$f":"A375+Sheet2!G$5","v":{"v":-1.0189810189809816,"d":"-1.02"}},10.074836400215172,{"$f":"(B377-B376)/Sheet2!$G$5","v":-3.9094002900200646}]
[{"$f":"A376+Sheet2!G$5","v":{"v":-1.0109890109889736,"d":"-1.01"}},10.043592441853374,{"$f":"(B378-B377)/Sheet2!$G$5","v":-3.9578792835536936}]
[{"$f":"A377+Sheet2!G$5","v":{"v":-1.0029970029969657,"d":"-1.00"}},10.01196103898781,{"$f":"(B379-B378)/Sheet2!$G$5","v":-4.005975043937338}]
[{"$f":"A378+Sheet2!G$5","v":{"v":-0.9950049950049578,"d":"-1.00"}},9.979945254420878,{"$f":"(B380-B379)/Sheet2!$G$5","v":-4.053687571170109}]
[{"$f":"A379+Sheet2!G$5","v":{"v":-0.9870129870129498,"d":"-0.99"}},9.947548150954983,{"$f":"(B381-B380)/Sheet2!$G$5","v":-4.101016865252895}]
[{"$f":"A380+Sheet2!G$5","v":{"v":-0.9790209790209419,"d":"-0.98"}},9.914772791392522,{"$f":"(B382-B381)/Sheet2!$G$5","v":-4.147962926185029}]
[{"$f":"A381+Sheet2!G$5","v":{"v":-0.9710289710289339,"d":"-0.97"}},9.881622238535899,{"$f":"(B383-B382)/Sheet2!$G$5","v":-4.194525753966289}]
[{"$f":"A382+Sheet2!G$5","v":{"v":-0.963036963036926,"d":"-0.96"}},9.848099555187517,{"$f":"(B384-B383)/Sheet2!$G$5","v":-4.240705348597787}]
[{"$f":"A383+Sheet2!G$5","v":{"v":-0.955044955044918,"d":"-0.96"}},9.814207804149772,{"$f":"(B385-B384)/Sheet2!$G$5","v":-4.2865017100781895}]
[{"$f":"A384+Sheet2!G$5","v":{"v":-0.9470529470529101,"d":"-0.95"}},9.779950048225071,{"$f":"(B386-B385)/Sheet2!$G$5","v":-4.331914838408608}]
[{"$f":"A385+Sheet2!G$5","v":{"v":-0.9390609390609022,"d":"-0.94"}},9.745329350215812,{"$f":"(B387-B386)/Sheet2!$G$5","v":-4.376944733588373}]
[{"$f":"A386+Sheet2!G$5","v":{"v":-0.9310689310688942,"d":"-0.93"}},{"$f":"x^3-7*x+4","v":9.710348772924396},{"$f":"(B388-B387)/Sheet2!$G$5","v":-4.421591395617488}]
[{"$f":"A387+Sheet2!G$5","v":{"v":-0.9230769230768863,"d":"-0.92"}},9.675011379153228,{"$f":"(B389-B388)/Sheet2!$G$5","v":-4.465854824496396}]
[{"$f":"A388+Sheet2!G$5","v":{"v":-0.9150849150848783,"d":"-0.92"}},9.639320231704705,{"$f":"(B390-B389)/Sheet2!$G$5","v":-4.509735020224652}]
[{"$f":"A389+Sheet2!G$5","v":{"v":-0.9070929070928704,"d":"-0.91"}},9.603278393381231,{"$f":"(B391-B390)/Sheet2!$G$5","v":-4.553231982802479}]
[{"$f":"A390+Sheet2!G$5","v":{"v":-0.8991008991008624,"d":"-0.90"}},9.566888926985207,{"$f":"(B392-B391)/Sheet2!$G$5","v":-4.596345712230099}]
[{"$f":"A391+Sheet2!G$5","v":{"v":-0.8911088911088545,"d":"-0.89"}},9.530154895319033,{"$f":"(B393-B392)/Sheet2!$G$5","v":-4.639076208507068}]
[{"$f":"A392+Sheet2!G$5","v":{"v":-0.8831168831168466,"d":"-0.88"}},9.49307936118511,{"$f":"(B394-B393)/Sheet2!$G$5","v":-4.6814234716333845}]
[{"$f":"A393+Sheet2!G$5","v":{"v":-0.8751248751248386,"d":"-0.88"}},9.455665387385842,{"$f":"(B395-B394)/Sheet2!$G$5","v":-4.723387501609495}]
[{"$f":"A394+Sheet2!G$5","v":{"v":-0.8671328671328307,"d":"-0.87"}},9.417916036723629,{"$f":"(B396-B395)/Sheet2!$G$5","v":-4.764968298434954}]
[{"$f":"A395+Sheet2!G$5","v":{"v":-0.8591408591408227,"d":"-0.86"}},9.379834372000872,{"$f":"(B397-B396)/Sheet2!$G$5","v":-4.8061658621099825}]
[{"$f":"A396+Sheet2!G$5","v":{"v":-0.8511488511488148,"d":"-0.85"}},9.341423456019973,{"$f":"(B398-B397)/Sheet2!$G$5","v":-4.846980192634805}]
[{"$f":"A397+Sheet2!G$5","v":{"v":-0.8431568431568068,"d":"-0.84"}},9.302686351583331,{"$f":"(B399-B398)/Sheet2!$G$5","v":-4.887411290008754}]
[{"$f":"A398+Sheet2!G$5","v":{"v":-0.8351648351647989,"d":"-0.84"}},9.26362612149335,{"$f":"(B400-B399)/Sheet2!$G$5","v":-4.927459154232496}]
[{"$f":"A399+Sheet2!G$5","v":{"v":-0.827172827172791,"d":"-0.83"}},9.224245828552432,{"$f":"(B401-B400)/Sheet2!$G$5","v":-4.967123785305809}]
[{"$f":"A400+Sheet2!G$5","v":{"v":-0.819180819180783,"d":"-0.82"}},9.184548535562975,{"$f":"(B402-B401)/Sheet2!$G$5","v":-5.00640518322847}]
[{"$f":"A401+Sheet2!G$5","v":{"v":-0.8111888111887751,"d":"-0.81"}},9.144537305327383,{"$f":"(B403-B402)/Sheet2!$G$5","v":-5.045303348000924}]
[{"$f":"A402+Sheet2!G$5","v":{"v":-0.8031968031967671,"d":"-0.80"}},9.104215200648055,{"$f":"(B404-B403)/Sheet2!$G$5","v":-5.083818279622505}]
[{"$f":"A403+Sheet2!G$5","v":{"v":-0.7952047952047592,"d":"-0.80"}},9.063585284327395,{"$f":"(B405-B404)/Sheet2!$G$5","v":-5.121949978094101}]
[{"$f":"A404+Sheet2!G$5","v":{"v":-0.7872127872127512,"d":"-0.79"}},9.022650619167802,{"$f":"(B406-B405)/Sheet2!$G$5","v":-5.159698443414823}]
[{"$f":"A405+Sheet2!G$5","v":{"v":-0.7792207792207433,"d":"-0.78"}},8.98141426797168,{"$f":"(B407-B406)/Sheet2!$G$5","v":-5.197063675585115}]
[{"$f":"A406+Sheet2!G$5","v":{"v":-0.7712287712287353,"d":"-0.77"}},8.939879293541429,{"$f":"(B408-B407)/Sheet2!$G$5","v":-5.234045674605423}]
[{"$f":"A407+Sheet2!G$5","v":{"v":-0.7632367632367274,"d":"-0.76"}},8.898048758679447,{"$f":"(B409-B408)/Sheet2!$G$5","v":-5.270644440474635}]
[{"$f":"A408+Sheet2!G$5","v":{"v":-0.7552447552447195,"d":"-0.76"}},8.855925726188142,{"$f":"(B410-B409)/Sheet2!$G$5","v":-5.3068599731938635}]
[{"$f":"A409+Sheet2!G$5","v":{"v":-0.7472527472527115,"d":"-0.75"}},8.813513258869909,{"$f":"(B411-B410)/Sheet2!$G$5","v":-5.342692272762439}]
[{"$f":"A410+Sheet2!G$5","v":{"v":-0.7392607392607036,"d":"-0.74"}},8.770814419527152,{"$f":"(B412-B411)/Sheet2!$G$5","v":-5.378141339180364}]
[{"$f":"A411+Sheet2!G$5","v":{"v":-0.7312687312686956,"d":"-0.73"}},8.727832270962274,{"$f":"(B413-B412)/Sheet2!$G$5","v":-5.413207172447859}]
[{"$f":"A412+Sheet2!G$5","v":{"v":-0.7232767232766877,"d":"-0.72"}},8.684569875977676,{"$f":"(B414-B413)/Sheet2!$G$5","v":-5.44788977256537}]
[{"$f":"A413+Sheet2!G$5","v":{"v":-0.7152847152846797,"d":"-0.72"}},8.641030297375755,{"$f":"(B415-B414)/Sheet2!$G$5","v":-5.482189139531784}]
[{"$f":"A414+Sheet2!G$5","v":{"v":-0.7072927072926718,"d":"-0.71"}},8.597216597958917,{"$f":"(B416-B415)/Sheet2!$G$5","v":-5.516105273348215}]
[{"$f":"A415+Sheet2!G$5","v":{"v":-0.6993006993006639,"d":"-0.70"}},8.553131840529561,{"$f":"(B417-B416)/Sheet2!$G$5","v":-5.54963817401377}]
[{"$f":"A416+Sheet2!G$5","v":{"v":-0.6913086913086559,"d":"-0.69"}},8.50877908789009,{"$f":"(B418-B417)/Sheet2!$G$5","v":-5.582787841529342}]
[{"$f":"A417+Sheet2!G$5","v":{"v":-0.683316683316648,"d":"-0.68"}},8.464161402842903,{"$f":"(B419-B418)/Sheet2!$G$5","v":-5.6155542758942625}]
[{"$f":"A418+Sheet2!G$5","v":{"v":-0.67532467532464,"d":"-0.68"}},8.419281848190401,{"$f":"(B420-B419)/Sheet2!$G$5","v":-5.647937477108309}]
[{"$f":"A419+Sheet2!G$5","v":{"v":-0.6673326673326321,"d":"-0.67"}},8.37414348673499,{"$f":"(B421-B420)/Sheet2!$G$5","v":-5.679937445172371}]
[{"$f":"A420+Sheet2!G$5","v":{"v":-0.6593406593406241,"d":"-0.66"}},8.328749381279067,{"$f":"(B422-B421)/Sheet2!$G$5","v":-5.7115541800857805}]
[{"$f":"A421+Sheet2!G$5","v":{"v":-0.6513486513486162,"d":"-0.65"}},8.283102594625035,{"$f":"(B423-B422)/Sheet2!$G$5","v":-5.742787681848539}]
[{"$f":"A422+Sheet2!G$5","v":{"v":-0.6433566433566082,"d":"-0.64"}},8.237206189575296,{"$f":"(B424-B423)/Sheet2!$G$5","v":-5.773637950461091}]
[{"$f":"A423+Sheet2!G$5","v":{"v":-0.6353646353646003,"d":"-0.64"}},8.19106322893225,{"$f":"(B425-B424)/Sheet2!$G$5","v":-5.804104985923436}]
[{"$f":"A424+Sheet2!G$5","v":{"v":-0.6273726273725924,"d":"-0.63"}},8.144676775498297,{"$f":"(B426-B425)/Sheet2!$G$5","v":-5.834188788234685}]
[{"$f":"A425+Sheet2!G$5","v":{"v":-0.6193806193805844,"d":"-0.62"}},8.098049892075842,{"$f":"(B427-B426)/Sheet2!$G$5","v":-5.863889357396172}]
[{"$f":"A426+Sheet2!G$5","v":{"v":-0.6113886113885765,"d":"-0.61"}},8.051185641467281,{"$f":"(B428-B427)/Sheet2!$G$5","v":-5.893206693406562}]
[{"$f":"A427+Sheet2!G$5","v":{"v":-0.6033966033965685,"d":"-0.60"}},8.004087086475021,{"$f":"(B429-B428)/Sheet2!$G$5","v":-5.922140796266746}]
[{"$f":"A428+Sheet2!G$5","v":{"v":-0.5954045954045606,"d":"-0.60"}},7.956757289901461,{"$f":"(B430-B429)/Sheet2!$G$5","v":-5.9506916659765}]
[{"$f":"A429+Sheet2!G$5","v":{"v":-0.5874125874125526,"d":"-0.59"}},7.909199314549001,{"$f":"(B431-B430)/Sheet2!$G$5","v":-5.978859302535603}]
[{"$f":"A430+Sheet2!G$5","v":{"v":-0.5794205794205447,"d":"-0.58"}},7.861416223220045,{"$f":"(B432-B431)/Sheet2!$G$5","v":-6.006643705944498}]
[{"$f":"A431+Sheet2!G$5","v":{"v":-0.5714285714285368,"d":"-0.57"}},7.813411078716992,{"$f":"(B433-B432)/Sheet2!$G$5","v":-6.034044876202743}]
[{"$f":"A432+Sheet2!G$5","v":{"v":-0.5634365634365288,"d":"-0.56"}},7.765186943842245,{"$f":"(B434-B433)/Sheet2!$G$5","v":-6.06106281331078}]
[{"$f":"A433+Sheet2!G$5","v":{"v":-0.5554445554445209,"d":"-0.56"}},7.716746881398203,{"$f":"(B435-B434)/Sheet2!$G$5","v":-6.0876975172679435}]
[{"$f":"A434+Sheet2!G$5","v":{"v":-0.5474525474525129,"d":"-0.55"}},7.66809395418727,{"$f":"(B436-B435)/Sheet2!$G$5","v":-6.113948988074901}]
[{"$f":"A435+Sheet2!G$5","v":{"v":-0.539460539460505,"d":"-0.54"}},7.619231225011847,{"$f":"(B437-B436)/Sheet2!$G$5","v":-6.139817225731428}]
[{"$f":"A436+Sheet2!G$5","v":{"v":-0.531468531468497,"d":"-0.53"}},7.570161756674333,{"$f":"(B438-B437)/Sheet2!$G$5","v":-6.165302230237304}]
[{"$f":"A437+Sheet2!G$5","v":{"v":-0.5234765234764891,"d":"-0.52"}},7.520888611977131,{"$f":"(B439-B438)/Sheet2!$G$5","v":-6.190404001592974}]
[{"$f":"A438+Sheet2!G$5","v":{"v":-0.5154845154844812,"d":"-0.52"}},7.471414853722642,{"$f":"(B440-B439)/Sheet2!$G$5","v":-6.21512253979788}]
[{"$f":"A439+Sheet2!G$5","v":{"v":-0.5074925074924732,"d":"-0.51"}},7.4217435447132685,{"$f":"(B441-B440)/Sheet2!$G$5","v":-6.23945784485258}]
[{"$f":"A440+Sheet2!G$5","v":{"v":-0.4995004995004652,"d":"-0.50"}},7.37187774775141,{"$f":"(B442-B441)/Sheet2!$G$5","v":-6.263409916756627}]
[{"$f":"A441+Sheet2!G$5","v":{"v":-0.4915084915084572,"d":"-0.49"}},7.321820525639469,{"$f":"(B443-B442)/Sheet2!$G$5","v":-6.286978755510469}]
[{"$f":"A442+Sheet2!G$5","v":{"v":-0.4835164835164492,"d":"-0.48"}},7.2715749411798445,{"$f":"(B444-B443)/Sheet2!$G$5","v":-6.310164361113436}]
[{"$f":"A443+Sheet2!G$5","v":{"v":-0.4755244755244412,"d":"-0.48"}},7.221144057174942,{"$f":"(B445-B444)/Sheet2!$G$5","v":-6.332966733566197}]
[{"$f":"A444+Sheet2!G$5","v":{"v":-0.4675324675324332,"d":"-0.47"}},7.17053093642716,{"$f":"(B446-B445)/Sheet2!$G$5","v":-6.355385872868528}]
[{"$f":"A445+Sheet2!G$5","v":{"v":-0.4595404595404252,"d":"-0.46"}},7.1197386417389,{"$f":"(B447-B446)/Sheet2!$G$5","v":-6.377421779020208}]
[{"$f":"A446+Sheet2!G$5","v":{"v":-0.4515484515484172,"d":"-0.45"}},7.068770235912565,{"$f":"(B448-B447)/Sheet2!$G$5","v":-6.399074452021681}]
[{"$f":"A447+Sheet2!G$5","v":{"v":-0.4435564435564092,"d":"-0.44"}},7.017628781750553,{"$f":"(B449-B448)/Sheet2!$G$5","v":-6.420343891872391}]
[{"$f":"A448+Sheet2!G$5","v":{"v":-0.4355644355644012,"d":"-0.44"}},6.9663173420552695,{"$f":"(B450-B449)/Sheet2!$G$5","v":-6.441230098572895}]
[{"$f":"A449+Sheet2!G$5","v":{"v":-0.4275724275723932,"d":"-0.43"}},6.9148389796291125,{"$f":"(B451-B450)/Sheet2!$G$5","v":-6.461733072122747}]
[{"$f":"A450+Sheet2!G$5","v":{"v":-0.4195804195803852,"d":"-0.42"}},{"$f":"x^3-7*x+4","v":6.863196757274485},{"$f":"(B452-B451)/Sheet2!$G$5","v":-6.4818528125222805}]
[{"$f":"A451+Sheet2!G$5","v":{"v":-0.4115884115883772,"d":"-0.41"}},6.811393737793788,{"$f":"(B453-B452)/Sheet2!$G$5","v":-6.5015893197712735}]
[{"$f":"A452+Sheet2!G$5","v":{"v":-0.4035964035963692,"d":"-0.40"}},6.759432983989422,{"$f":"(B454-B453)/Sheet2!$G$5","v":-6.5209425938697265}]
[{"$f":"A453+Sheet2!G$5","v":{"v":-0.3956043956043612,"d":"-0.40"}},6.70731755866379,{"$f":"(B455-B454)/Sheet2!$G$5","v":-6.5399126348177505}]
[{"$f":"A454+Sheet2!G$5","v":{"v":-0.3876123876123532,"d":"-0.39"}},6.655050524619292,{"$f":"(B456-B455)/Sheet2!$G$5","v":-6.558499442615346}]
[{"$f":"A455+Sheet2!G$5","v":{"v":-0.3796203796203452,"d":"-0.38"}},6.60263494465833,{"$f":"(B457-B456)/Sheet2!$G$5","v":-6.576703017262622}]
[{"$f":"A456+Sheet2!G$5","v":{"v":-0.37162837162833723,"d":"-0.37"}},6.550073881583304,{"$f":"(B458-B457)/Sheet2!$G$5","v":-6.594523358759247}]
[{"$f":"A457+Sheet2!G$5","v":{"v":-0.36363636363632923,"d":"-0.36"}},6.497370398196617,{"$f":"(B459-B458)/Sheet2!$G$5","v":-6.611960467105332}]
[{"$f":"A458+Sheet2!G$5","v":{"v":-0.35564435564432123,"d":"-0.36"}},6.44452755730067,{"$f":"(B460-B459)/Sheet2!$G$5","v":-6.629014342301209}]
[{"$f":"A459+Sheet2!G$5","v":{"v":-0.34765234765231323,"d":"-0.35"}},6.3915484216978635,{"$f":"(B461-B460)/Sheet2!$G$5","v":-6.645684984346325}]
[{"$f":"A460+Sheet2!G$5","v":{"v":-0.33966033966030523,"d":"-0.34"}},6.3384360541906,{"$f":"(B462-B461)/Sheet2!$G$5","v":-6.661972393241233}]
[{"$f":"A461+Sheet2!G$5","v":{"v":-0.33166833166829723,"d":"-0.33"}},6.28519351758128,{"$f":"(B463-B462)/Sheet2!$G$5","v":-6.67787656898549}]
[{"$f":"A462+Sheet2!G$5","v":{"v":-0.32367632367628923,"d":"-0.32"}},6.231823874672305,{"$f":"(B464-B463)/Sheet2!$G$5","v":-6.693397511579429}]
[{"$f":"A463+Sheet2!G$5","v":{"v":-0.31568431568428124,"d":"-0.32"}},6.1783301882660755,{"$f":"(B465-B464)/Sheet2!$G$5","v":-6.708535221022827}]
[{"$f":"A464+Sheet2!G$5","v":{"v":-0.30769230769227324,"d":"-0.31"}},6.124715521164994,{"$f":"(B466-B465)/Sheet2!$G$5","v":-6.7232896973157965}]
[{"$f":"A465+Sheet2!G$5","v":{"v":-0.29970029970026524,"d":"-0.30"}},6.070982936171461,{"$f":"(B467-B466)/Sheet2!$G$5","v":-6.737660940458114}]
[{"$f":"A466+Sheet2!G$5","v":{"v":-0.29170829170825724,"d":"-0.29"}},6.01713549608788,{"$f":"(B468-B467)/Sheet2!$G$5","v":-6.7516489504502255}]
[{"$f":"A467+Sheet2!G$5","v":{"v":-0.28371628371624924,"d":"-0.28"}},5.963176263716649,{"$f":"(B469-B468)/Sheet2!$G$5","v":-6.765253727291795}]
[{"$f":"A468+Sheet2!G$5","v":{"v":-0.27572427572424124,"d":"-0.28"}},5.909108301860171,{"$f":"(B470-B469)/Sheet2!$G$5","v":-6.778475270982826}]
[{"$f":"A469+Sheet2!G$5","v":{"v":-0.26773226773223324,"d":"-0.27"}},5.854934673320848,{"$f":"(B471-B470)/Sheet2!$G$5","v":-6.7913135815234265}]
[{"$f":"A470+Sheet2!G$5","v":{"v":-0.25974025974022524,"d":"-0.26"}},5.80065844090108,{"$f":"(B472-B471)/Sheet2!$G$5","v":-6.803768658913598}]
[{"$f":"A471+Sheet2!G$5","v":{"v":-0.25174825174821724,"d":"-0.25"}},5.746282667403269,{"$f":"(B473-B472)/Sheet2!$G$5","v":-6.81584050315323}]
[{"$f":"A472+Sheet2!G$5","v":{"v":-0.24375624375620925,"d":"-0.24"}},5.691810415629817,{"$f":"(B474-B473)/Sheet2!$G$5","v":-6.827529114242432}]
[{"$f":"A473+Sheet2!G$5","v":{"v":-0.23576423576420125,"d":"-0.24"}},5.637244748383124,{"$f":"(B475-B474)/Sheet2!$G$5","v":-6.8388344921812045}]
[{"$f":"A474+Sheet2!G$5","v":{"v":-0.22777222777219325,"d":"-0.23"}},5.582588728465592,{"$f":"(B476-B475)/Sheet2!$G$5","v":-6.849756636969548}]
[{"$f":"A475+Sheet2!G$5","v":{"v":-0.21978021978018525,"d":"-0.22"}},5.527845418679622,{"$f":"(B477-B476)/Sheet2!$G$5","v":-6.860295548607241}]
[{"$f":"A476+Sheet2!G$5","v":{"v":-0.21178821178817725,"d":"-0.21"}},5.473017881827616,{"$f":"(B478-B477)/Sheet2!$G$5","v":-6.870451227094615}]
[{"$f":"A477+Sheet2!G$5","v":{"v":-0.20379620379616925,"d":"-0.20"}},5.418109180711975,{"$f":"(B479-B478)/Sheet2!$G$5","v":-6.88022367243156}]
[{"$f":"A478+Sheet2!G$5","v":{"v":-0.19580419580416125,"d":"-0.20"}},5.363122378135099,{"$f":"(B480-B479)/Sheet2!$G$5","v":-6.889612884617853}]
[{"$f":"A479+Sheet2!G$5","v":{"v":-0.18781218781215325,"d":"-0.19"}},5.308060536899392,{"$f":"(B481-B480)/Sheet2!$G$5","v":-6.89861886365394}]
[{"$f":"A480+Sheet2!G$5","v":{"v":-0.17982017982014525,"d":"-0.18"}},5.2529267198072525,{"$f":"(B482-B481)/Sheet2!$G$5","v":-6.907241609539264}]
[{"$f":"A481+Sheet2!G$5","v":{"v":-0.17182817182813725,"d":"-0.17"}},5.1977239896610845,{"$f":"(B483-B482)/Sheet2!$G$5","v":-6.9154811222743815}]
[{"$f":"A482+Sheet2!G$5","v":{"v":-0.16383616383612926,"d":"-0.16"}},5.142455409263287,{"$f":"(B484-B483)/Sheet2!$G$5","v":-6.923337401858958}]
[{"$f":"A483+Sheet2!G$5","v":{"v":-0.15584415584412126,"d":"-0.16"}},5.087124041416263,{"$f":"(B485-B484)/Sheet2!$G$5","v":-6.930810448292994}]
[{"$f":"A484+Sheet2!G$5","v":{"v":-0.14785214785211326,"d":"-0.15"}},5.0317329489224125,{"$f":"(B486-B485)/Sheet2!$G$5","v":-6.937900261576601}]
[{"$f":"A485+Sheet2!G$5","v":{"v":-0.13986013986010526,"d":"-0.14"}},4.976285194584138,{"$f":"(B487-B486)/Sheet2!$G$5","v":-6.9446068417097795}]
[{"$f":"A486+Sheet2!G$5","v":{"v":-0.13186813186809726,"d":"-0.13"}},4.92078384120384,{"$f":"(B488-B487)/Sheet2!$G$5","v":-6.950930188692528}]
[{"$f":"A487+Sheet2!G$5","v":{"v":-0.12387612387608926,"d":"-0.12"}},4.86523195158392,{"$f":"(B489-B488)/Sheet2!$G$5","v":-6.956870302524625}]
[{"$f":"A488+Sheet2!G$5","v":{"v":-0.11588411588408126,"d":"-0.12"}},4.80963258852678,{"$f":"(B490-B489)/Sheet2!$G$5","v":-6.962427183206405}]
[{"$f":"A489+Sheet2!G$5","v":{"v":-0.10789210789207326,"d":"-0.11"}},4.753988814834821,{"$f":"(B491-B490)/Sheet2!$G$5","v":-6.967600830737754}]
[{"$f":"A490+Sheet2!G$5","v":{"v":-0.09990009990006526,"d":"-0.10"}},4.698303693310443,{"$f":"(B492-B491)/Sheet2!$G$5","v":-6.972391245118564}]
[{"$f":"A491+Sheet2!G$5","v":{"v":-0.09190809190805727,"d":"-0.09"}},4.642580286756049,{"$f":"(B493-B492)/Sheet2!$G$5","v":-6.976798426348833}]
[{"$f":"A492+Sheet2!G$5","v":{"v":-0.08391608391604927,"d":"-0.08"}},4.58682165797404,{"$f":"(B494-B493)/Sheet2!$G$5","v":-6.980822374428896}]
[{"$f":"A493+Sheet2!G$5","v":{"v":-0.07592407592404127,"d":"-0.08"}},4.531030869766816,{"$f":"(B495-B494)/Sheet2!$G$5","v":-6.984463089358195}]
[{"$f":"A494+Sheet2!G$5","v":{"v":-0.06793206793203327,"d":"-0.07"}},4.475210984936781,{"$f":"(B496-B495)/Sheet2!$G$5","v":-6.987720571137177}]
[{"$f":"A495+Sheet2!G$5","v":{"v":-0.05994005994002528,"d":"-0.06"}},4.419365066286334,{"$f":"(B497-B496)/Sheet2!$G$5","v":-6.990594819765619}]
[{"$f":"A496+Sheet2!G$5","v":{"v":-0.051948051948017285,"d":"-0.05"}},4.363496176617877,{"$f":"(B498-B497)/Sheet2!$G$5","v":-6.9930858352437415}]
[{"$f":"A497+Sheet2!G$5","v":{"v":-0.04395604395600929,"d":"-0.04"}},4.307607378733811,{"$f":"(B499-B498)/Sheet2!$G$5","v":-6.995193617571213}]
[{"$f":"A498+Sheet2!G$5","v":{"v":-0.0359640359640013,"d":"-0.04"}},4.251701735436539,{"$f":"(B500-B499)/Sheet2!$G$5","v":-6.996918166748367}]
[{"$f":"A499+Sheet2!G$5","v":{"v":-0.02797202797199331,"d":"-0.03"}},4.19578230952846,{"$f":"(B501-B500)/Sheet2!$G$5","v":-6.99825948277498}]
[{"$f":"A500+Sheet2!G$5","v":{"v":-0.019980019979985317,"d":"-0.02"}},4.139852163811977,{"$f":"(B502-B501)/Sheet2!$G$5","v":-6.999217565651054}]
[{"$f":"A501+Sheet2!G$5","v":{"v":-0.011988011987977325,"d":"-0.01"}},4.083914361089491,{"$f":"(B503-B502)/Sheet2!$G$5","v":-6.99979241537692}]
[{"$f":"A502+Sheet2!G$5","v":{"v":-0.003996003995969333,"d":"-0.00"}},4.0279719641634015,{"$f":"(B504-B503)/Sheet2!$G$5","v":-6.999984031952023}]
[{"$f":"A503+Sheet2!G$5","v":{"v":0.003996003996038659,"d":"0.00"}},3.9720280358361126,{"$f":"(B505-B504)/Sheet2!$G$5","v":-6.999792415376809}]
[{"$f":"A504+Sheet2!G$5","v":{"v":0.011988011988046651,"d":"0.01"}},3.9160856389100243,{"$f":"(B506-B505)/Sheet2!$G$5","v":-6.999217565651165}]
[{"$f":"A505+Sheet2!G$5","v":{"v":0.019980019980054643,"d":"0.02"}},3.8601478361875374,{"$f":"(B507-B506)/Sheet2!$G$5","v":-6.998259482774925}]
[{"$f":"A506+Sheet2!G$5","v":{"v":0.027972027972062635,"d":"0.03"}},3.8042176904710545,{"$f":"(B508-B507)/Sheet2!$G$5","v":-6.996918166748311}]
[{"$f":"A507+Sheet2!G$5","v":{"v":0.03596403596407063,"d":"0.04"}},3.748298264562976,{"$f":"(B509-B508)/Sheet2!$G$5","v":-6.995193617571269}]
[{"$f":"A508+Sheet2!G$5","v":{"v":0.04395604395607862,"d":"0.04"}},3.6923926212657032,{"$f":"(B510-B509)/Sheet2!$G$5","v":-6.9930858352436855}]
[{"$f":"A509+Sheet2!G$5","v":{"v":0.05194805194808661,"d":"0.05"}},3.636503823381638,{"$f":"(B511-B510)/Sheet2!$G$5","v":-6.990594819765619}]
[{"$f":"A510+Sheet2!G$5","v":{"v":0.0599400599400946,"d":"0.06"}},3.5806349337131813,{"$f":"(B512-B511)/Sheet2!$G$5","v":-6.987720571137121}]
[{"$f":"A511+Sheet2!G$5","v":{"v":0.0679320679321026,"d":"0.07"}},3.524789015062735,{"$f":"(B513-B512)/Sheet2!$G$5","v":-6.984463089358195}]
[{"$f":"A512+Sheet2!G$5","v":{"v":0.0759240759241106,"d":"0.08"}},3.4689691302326993,{"$f":"(B514-B513)/Sheet2!$G$5","v":-6.980822374428785}]
[{"$f":"A513+Sheet2!G$5","v":{"v":0.0839160839161186,"d":"0.08"}},3.413178342025476,{"$f":"(B515-B514)/Sheet2!$G$5","v":-6.976798426348833}]
[{"$f":"A514+Sheet2!G$5","v":{"v":0.0919080919081266,"d":"0.09"}},{"$f":"x^3-7*x+4","v":3.3574197132434676},{"$f":"(B516-B515)/Sheet2!$G$5","v":-6.972391245118509}]
[{"$f":"A515+Sheet2!G$5","v":{"v":0.0999000999001346,"d":"0.10"}},3.301696306689074,{"$f":"(B517-B516)/Sheet2!$G$5","v":-6.967600830737643}]
[{"$f":"A516+Sheet2!G$5","v":{"v":0.1078921078921426,"d":"0.11"}},3.246011185164697,{"$f":"(B518-B517)/Sheet2!$G$5","v":-6.962427183206405}]
[{"$f":"A517+Sheet2!G$5","v":{"v":0.1158841158841506,"d":"0.12"}},3.190367411472738,{"$f":"(B519-B518)/Sheet2!$G$5","v":-6.956870302524625}]
[{"$f":"A518+Sheet2!G$5","v":{"v":0.1238761238761586,"d":"0.12"}},3.134768048415598,{"$f":"(B520-B519)/Sheet2!$G$5","v":-6.950930188692417}]
[{"$f":"A519+Sheet2!G$5","v":{"v":0.1318681318681666,"d":"0.13"}},3.0792161587956786,{"$f":"(B521-B520)/Sheet2!$G$5","v":-6.9446068417097235}]
[{"$f":"A520+Sheet2!G$5","v":{"v":0.1398601398601746,"d":"0.14"}},3.023714805415381,{"$f":"(B522-B521)/Sheet2!$G$5","v":-6.937900261576545}]
[{"$f":"A521+Sheet2!G$5","v":{"v":0.1478521478521826,"d":"0.15"}},2.968267051077107,{"$f":"(B523-B522)/Sheet2!$G$5","v":-6.930810448292994}]
[{"$f":"A522+Sheet2!G$5","v":{"v":0.1558441558441906,"d":"0.16"}},2.912875958583257,{"$f":"(B524-B523)/Sheet2!$G$5","v":-6.923337401858847}]
[{"$f":"A523+Sheet2!G$5","v":{"v":0.1638361638361986,"d":"0.16"}},2.857544590736233,{"$f":"(B525-B524)/Sheet2!$G$5","v":-6.91548112227427}]
[{"$f":"A524+Sheet2!G$5","v":{"v":0.1718281718282066,"d":"0.17"}},2.8022760103384368,{"$f":"(B526-B525)/Sheet2!$G$5","v":-6.907241609539264}]
[{"$f":"A525+Sheet2!G$5","v":{"v":0.1798201798202146,"d":"0.18"}},2.747073280192269,{"$f":"(B527-B526)/Sheet2!$G$5","v":-6.898618863653829}]
[{"$f":"A526+Sheet2!G$5","v":{"v":0.1878121878122226,"d":"0.19"}},2.6919394631001303,{"$f":"(B528-B527)/Sheet2!$G$5","v":-6.889612884617853}]
[{"$f":"A527+Sheet2!G$5","v":{"v":0.19580419580423059,"d":"0.20"}},2.636877621864423,{"$f":"(B529-B528)/Sheet2!$G$5","v":-6.880223672431393}]
[{"$f":"A528+Sheet2!G$5","v":{"v":0.20379620379623858,"d":"0.20"}},2.581890819287549,{"$f":"(B530-B529)/Sheet2!$G$5","v":-6.870451227094559}]
[{"$f":"A529+Sheet2!G$5","v":{"v":0.21178821178824658,"d":"0.21"}},2.526982118171908,{"$f":"(B531-B530)/Sheet2!$G$5","v":-6.860295548607241}]
[{"$f":"A530+Sheet2!G$5","v":{"v":0.21978021978025458,"d":"0.22"}},2.472154581319902,{"$f":"(B532-B531)/Sheet2!$G$5","v":-6.849756636969326}]
[{"$f":"A531+Sheet2!G$5","v":{"v":0.22777222777226258,"d":"0.23"}},2.4174112715339335,{"$f":"(B533-B532)/Sheet2!$G$5","v":-6.8388344921810935}]
[{"$f":"A532+Sheet2!G$5","v":{"v":0.23576423576427058,"d":"0.24"}},2.3627552516164023,{"$f":"(B534-B533)/Sheet2!$G$5","v":-6.827529114242377}]
[{"$f":"A533+Sheet2!G$5","v":{"v":0.24375624375627858,"d":"0.24"}},2.30818958436971,{"$f":"(B535-B534)/Sheet2!$G$5","v":-6.815840503153174}]
[{"$f":"A534+Sheet2!G$5","v":{"v":0.2517482517482866,"d":"0.25"}},2.253717332596258,{"$f":"(B536-B535)/Sheet2!$G$5","v":-6.803768658913487}]
[{"$f":"A535+Sheet2!G$5","v":{"v":0.2597402597402946,"d":"0.26"}},2.199341559098448,{"$f":"(B537-B536)/Sheet2!$G$5","v":-6.791313581523315}]
[{"$f":"A536+Sheet2!G$5","v":{"v":0.2677322677323026,"d":"0.27"}},2.145065326678681,{"$f":"(B538-B537)/Sheet2!$G$5","v":-6.778475270982715}]
[{"$f":"A537+Sheet2!G$5","v":{"v":0.2757242757243106,"d":"0.28"}},2.090891698139359,{"$f":"(B539-B538)/Sheet2!$G$5","v":-6.765253727291573}]
[{"$f":"A538+Sheet2!G$5","v":{"v":0.2837162837163186,"d":"0.28"}},2.0368237362828827,{"$f":"(B540-B539)/Sheet2!$G$5","v":-6.751648950450114}]
[{"$f":"A539+Sheet2!G$5","v":{"v":0.2917082917083266,"d":"0.29"}},1.982864503911653,{"$f":"(B541-B540)/Sheet2!$G$5","v":-6.737660940458114}]
[{"$f":"A540+Sheet2!G$5","v":{"v":0.29970029970033457,"d":"0.30"}},1.9290170638280717,{"$f":"(B542-B541)/Sheet2!$G$5","v":-6.7232896973155745}]
[{"$f":"A541+Sheet2!G$5","v":{"v":0.30769230769234257,"d":"0.31"}},1.8752844788345406,{"$f":"(B543-B542)/Sheet2!$G$5","v":-6.708535221022661}]
[{"$f":"A542+Sheet2!G$5","v":{"v":0.31568431568435057,"d":"0.32"}},1.8216698117334604,{"$f":"(B544-B543)/Sheet2!$G$5","v":-6.693397511579318}]
[{"$f":"A543+Sheet2!G$5","v":{"v":0.32367632367635857,"d":"0.32"}},1.7681761253272321,{"$f":"(B545-B544)/Sheet2!$G$5","v":-6.677876568985379}]
[{"$f":"A544+Sheet2!G$5","v":{"v":0.33166833166836657,"d":"0.33"}},1.714806482418258,{"$f":"(B546-B545)/Sheet2!$G$5","v":-6.661972393241011}]
[{"$f":"A545+Sheet2!G$5","v":{"v":0.33966033966037457,"d":"0.34"}},1.6615639458089393,{"$f":"(B547-B546)/Sheet2!$G$5","v":-6.645684984346325}]
[{"$f":"A546+Sheet2!G$5","v":{"v":0.34765234765238257,"d":"0.35"}},1.608451578301676,{"$f":"(B548-B547)/Sheet2!$G$5","v":-6.629014342300987}]
[{"$f":"A547+Sheet2!G$5","v":{"v":0.35564435564439056,"d":"0.36"}},1.5554724426988709,{"$f":"(B549-B548)/Sheet2!$G$5","v":-6.611960467105276}]
[{"$f":"A548+Sheet2!G$5","v":{"v":0.36363636363639856,"d":"0.36"}},1.5026296018029246,{"$f":"(B550-B549)/Sheet2!$G$5","v":-6.594523358759025}]
[{"$f":"A549+Sheet2!G$5","v":{"v":0.37162837162840656,"d":"0.37"}},1.449926118416239,{"$f":"(B551-B550)/Sheet2!$G$5","v":-6.576703017262344}]
[{"$f":"A550+Sheet2!G$5","v":{"v":0.37962037962041456,"d":"0.38"}},1.3973650553412154,{"$f":"(B552-B551)/Sheet2!$G$5","v":-6.55849944261529}]
[{"$f":"A551+Sheet2!G$5","v":{"v":0.38761238761242256,"d":"0.39"}},1.344949475380254,{"$f":"(B553-B552)/Sheet2!$G$5","v":-6.5399126348176395}]
[{"$f":"A552+Sheet2!G$5","v":{"v":0.39560439560443056,"d":"0.40"}},1.2926824413357574,{"$f":"(B554-B553)/Sheet2!$G$5","v":-6.5209425938696155}]
[{"$f":"A553+Sheet2!G$5","v":{"v":0.40359640359643856,"d":"0.40"}},1.240567016010126,{"$f":"(B555-B554)/Sheet2!$G$5","v":-6.5015893197710515}]
[{"$f":"A554+Sheet2!G$5","v":{"v":0.41158841158844656,"d":"0.41"}},1.188606262205762,{"$f":"(B556-B555)/Sheet2!$G$5","v":-6.481852812522058}]
[{"$f":"A555+Sheet2!G$5","v":{"v":0.41958041958045456,"d":"0.42"}},1.1368032427250663,{"$f":"(B557-B556)/Sheet2!$G$5","v":-6.461733072122636}]
[{"$f":"A556+Sheet2!G$5","v":{"v":0.42757242757246255,"d":"0.43"}},1.0851610203704398,{"$f":"(B558-B557)/Sheet2!$G$5","v":-6.441230098572617}]
[{"$f":"A557+Sheet2!G$5","v":{"v":0.43556443556447055,"d":"0.44"}},1.033682657944285,{"$f":"(B559-B558)/Sheet2!$G$5","v":-6.42034389187228}]
[{"$f":"A558+Sheet2!G$5","v":{"v":0.44355644355647855,"d":"0.44"}},0.9823712182490021,{"$f":"(B560-B559)/Sheet2!$G$5","v":-6.399074452021458}]
[{"$f":"A559+Sheet2!G$5","v":{"v":0.45154845154848655,"d":"0.45"}},0.9312297640869924,{"$f":"(B561-B560)/Sheet2!$G$5","v":-6.377421779020041}]
[{"$f":"A560+Sheet2!G$5","v":{"v":0.45954045954049455,"d":"0.46"}},0.8802613582606584,{"$f":"(B562-B561)/Sheet2!$G$5","v":-6.355385872868306}]
[{"$f":"A561+Sheet2!G$5","v":{"v":0.46753246753250255,"d":"0.47"}},0.8294690635724002,{"$f":"(B563-B562)/Sheet2!$G$5","v":-6.33296673356603}]
[{"$f":"A562+Sheet2!G$5","v":{"v":0.47552447552451055,"d":"0.48"}},0.7788559428246198,{"$f":"(B564-B563)/Sheet2!$G$5","v":-6.310164361113325}]
[{"$f":"A563+Sheet2!G$5","v":{"v":0.48351648351651855,"d":"0.48"}},0.7284250588197181,{"$f":"(B565-B564)/Sheet2!$G$5","v":-6.286978755510136}]
[{"$f":"A564+Sheet2!G$5","v":{"v":0.49150849150852655,"d":"0.49"}},0.6781794743600966,{"$f":"(B566-B565)/Sheet2!$G$5","v":-6.263409916756461}]
[{"$f":"A565+Sheet2!G$5","v":{"v":0.49950049950053454,"d":"0.50"}},0.6281222522481569,{"$f":"(B567-B566)/Sheet2!$G$5","v":-6.239457844852358}]
[{"$f":"A566+Sheet2!G$5","v":{"v":0.5074925074925425,"d":"0.51"}},0.5782564552862999,{"$f":"(B568-B567)/Sheet2!$G$5","v":-6.215122539797657}]
[{"$f":"A567+Sheet2!G$5","v":{"v":0.5154845154845504,"d":"0.52"}},0.528585146276928,{"$f":"(B569-B568)/Sheet2!$G$5","v":-6.19040400159264}]
[{"$f":"A568+Sheet2!G$5","v":{"v":0.5234765234765584,"d":"0.52"}},0.47911138802244135,{"$f":"(B570-B569)/Sheet2!$G$5","v":-6.165302230237193}]
[{"$f":"A569+Sheet2!G$5","v":{"v":0.5314685314685663,"d":"0.53"}},0.429838243325241,{"$f":"(B571-B570)/Sheet2!$G$5","v":-6.139817225731206}]
[{"$f":"A570+Sheet2!G$5","v":{"v":0.5394605394605743,"d":"0.54"}},0.3807687749877289,{"$f":"(B572-B571)/Sheet2!$G$5","v":-6.113948988074679}]
[{"$f":"A571+Sheet2!G$5","v":{"v":0.5474525474525822,"d":"0.55"}},0.33190604581230687,{"$f":"(B573-B572)/Sheet2!$G$5","v":-6.087697517267777}]
[{"$f":"A572+Sheet2!G$5","v":{"v":0.5554445554445901,"d":"0.56"}},0.2832531186013756,{"$f":"(B574-B573)/Sheet2!$G$5","v":-6.061062813310446}]
[{"$f":"A573+Sheet2!G$5","v":{"v":0.5634365634365981,"d":"0.56"}},0.23481305615733605,{"$f":"(B575-B574)/Sheet2!$G$5","v":-6.034044876202576}]
[{"$f":"A574+Sheet2!G$5","v":{"v":0.571428571428606,"d":"0.57"}},0.1865889212825902,{"$f":"(B576-B575)/Sheet2!$G$5","v":-6.006643705944276}]
[{"$f":"A575+Sheet2!G$5","v":{"v":0.579420579420614,"d":"0.58"}},0.13858377677953904,{"$f":"(B577-B576)/Sheet2!$G$5","v":-5.97885930253538}]
[{"$f":"A576+Sheet2!G$5","v":{"v":0.5874125874126219,"d":"0.59"}},0.09080068545058495,{"$f":"(B578-B577)/Sheet2!$G$5","v":-5.950691665976222}]
[{"$f":"A577+Sheet2!G$5","v":{"v":0.5954045954046299,"d":"0.60"}},0.043242710098127635,{"$f":"(B579-B578)/Sheet2!$G$5","v":-5.922140796266579}]
[{"$f":"A578+Sheet2!G$5","v":{"v":0.6033966033966378,"d":"0.60"}},{"$f":"x^3-7*x+4","v":-4.087086475431434E-3},{"$f":"(B580-B579)/Sheet2!$G$5","v":-5.893206693406229}]
[{"$f":"A579+Sheet2!G$5","v":{"v":0.6113886113886458,"d":"0.61"}},-0.051185641467689,{"$f":"(B581-B580)/Sheet2!$G$5","v":-5.863889357395727}]
[{"$f":"A580+Sheet2!G$5","v":{"v":0.6193806193806537,"d":"0.62"}},-0.09804989207624626,{"$f":"(B582-B581)/Sheet2!$G$5","v":-5.834188788234574}]
[{"$f":"A581+Sheet2!G$5","v":{"v":0.6273726273726616,"d":"0.63"}},-0.1446767754987004,{"$f":"(B583-B582)/Sheet2!$G$5","v":-5.804104985923103}]
[{"$f":"A582+Sheet2!G$5","v":{"v":0.6353646353646696,"d":"0.64"}},-0.19106322893265126,{"$f":"(B584-B583)/Sheet2!$G$5","v":-5.77363795046098}]
[{"$f":"A583+Sheet2!G$5","v":{"v":0.6433566433566775,"d":"0.64"}},-0.23720618957569606,{"$f":"(B585-B584)/Sheet2!$G$5","v":-5.742787681848317}]
[{"$f":"A584+Sheet2!G$5","v":{"v":0.6513486513486855,"d":"0.65"}},-0.28310259462543286,{"$f":"(B586-B585)/Sheet2!$G$5","v":-5.7115541800855585}]
[{"$f":"A585+Sheet2!G$5","v":{"v":0.6593406593406934,"d":"0.66"}},-0.3287493812794633,{"$f":"(B587-B586)/Sheet2!$G$5","v":-5.679937445172037}]
[{"$f":"A586+Sheet2!G$5","v":{"v":0.6673326673327014,"d":"0.67"}},-0.37414348673538367,{"$f":"(B588-B587)/Sheet2!$G$5","v":-5.647937477108086}]
[{"$f":"A587+Sheet2!G$5","v":{"v":0.6753246753247093,"d":"0.68"}},-0.41928184819079295,{"$f":"(B589-B588)/Sheet2!$G$5","v":-5.6155542758937065}]
[{"$f":"A588+Sheet2!G$5","v":{"v":0.6833166833167172,"d":"0.68"}},-0.4641614028432901,{"$f":"(B590-B589)/Sheet2!$G$5","v":-5.582787841529009}]
[{"$f":"A589+Sheet2!G$5","v":{"v":0.6913086913087252,"d":"0.69"}},-0.508779087890475,{"$f":"(B591-B590)/Sheet2!$G$5","v":-5.549638174013659}]
[{"$f":"A590+Sheet2!G$5","v":{"v":0.6993006993007331,"d":"0.70"}},-0.5531318405299448,{"$f":"(B592-B591)/Sheet2!$G$5","v":-5.516105273347881}]
[{"$f":"A591+Sheet2!G$5","v":{"v":0.7072927072927411,"d":"0.71"}},-0.5972165979592985,{"$f":"(B593-B592)/Sheet2!$G$5","v":-5.482189139531562}]
[{"$f":"A592+Sheet2!G$5","v":{"v":0.715284715284749,"d":"0.72"}},-0.6410302973761342,{"$f":"(B594-B593)/Sheet2!$G$5","v":-5.447889772564925}]
[{"$f":"A593+Sheet2!G$5","v":{"v":0.723276723276757,"d":"0.72"}},-0.6845698759780516,{"$f":"(B595-B594)/Sheet2!$G$5","v":-5.4132071724477475}]
[{"$f":"A594+Sheet2!G$5","v":{"v":0.7312687312687649,"d":"0.73"}},-0.727832270962649,{"$f":"(B596-B595)/Sheet2!$G$5","v":-5.37814133918003}]
[{"$f":"A595+Sheet2!G$5","v":{"v":0.7392607392607728,"d":"0.74"}},-0.7708144195275244,{"$f":"(B597-B596)/Sheet2!$G$5","v":-5.342692272762106}]
[{"$f":"A596+Sheet2!G$5","v":{"v":0.7472527472527808,"d":"0.75"}},-0.8135132588702785,{"$f":"(B598-B597)/Sheet2!$G$5","v":-5.3068599731934185}]
[{"$f":"A597+Sheet2!G$5","v":{"v":0.7552447552447887,"d":"0.76"}},-0.8559257261885076,{"$f":"(B599-B598)/Sheet2!$G$5","v":-5.270644440474524}]
[{"$f":"A598+Sheet2!G$5","v":{"v":0.7632367632367967,"d":"0.76"}},-0.8980487586798125,{"$f":"(B600-B599)/Sheet2!$G$5","v":-5.234045674604868}]
[{"$f":"A599+Sheet2!G$5","v":{"v":0.7712287712288046,"d":"0.77"}},-0.9398792935417895,{"$f":"(B601-B600)/Sheet2!$G$5","v":-5.197063675584893}]
[{"$f":"A600+Sheet2!G$5","v":{"v":0.7792207792208126,"d":"0.78"}},-0.9814142679720383,{"$f":"(B602-B601)/Sheet2!$G$5","v":-5.1596984434146}]
[{"$f":"A601+Sheet2!G$5","v":{"v":0.7872127872128205,"d":"0.79"}},-1.022650619168159,{"$f":"(B603-B602)/Sheet2!$G$5","v":-5.121949978093656}]
[{"$f":"A602+Sheet2!G$5","v":{"v":0.7952047952048285,"d":"0.80"}},-1.0635852843277487,{"$f":"(B604-B603)/Sheet2!$G$5","v":-5.083818279622283}]
[{"$f":"A603+Sheet2!G$5","v":{"v":0.8031968031968364,"d":"0.80"}},-1.1042152006484063,{"$f":"(B605-B604)/Sheet2!$G$5","v":-5.04530334800048}]
[{"$f":"A604+Sheet2!G$5","v":{"v":0.8111888111888443,"d":"0.81"}},-1.1445373053277308,{"$f":"(B606-B605)/Sheet2!$G$5","v":-5.006405183228137}]
[{"$f":"A605+Sheet2!G$5","v":{"v":0.8191808191808523,"d":"0.82"}},-1.1845485355633203,{"$f":"(B607-B606)/Sheet2!$G$5","v":-4.967123785305475}]
[{"$f":"A606+Sheet2!G$5","v":{"v":0.8271728271728602,"d":"0.83"}},-1.2242458285527746,{"$f":"(B608-B607)/Sheet2!$G$5","v":-4.927459154232163}]
[{"$f":"A607+Sheet2!G$5","v":{"v":0.8351648351648682,"d":"0.84"}},-1.263626121493691,{"$f":"(B609-B608)/Sheet2!$G$5","v":-4.887411290008421}]
[{"$f":"A608+Sheet2!G$5","v":{"v":0.8431568431568761,"d":"0.84"}},-1.3026863515836684,{"$f":"(B610-B609)/Sheet2!$G$5","v":-4.846980192634361}]
[{"$f":"A609+Sheet2!G$5","v":{"v":0.8511488511488841,"d":"0.85"}},-1.3414234560203067,{"$f":"(B611-B610)/Sheet2!$G$5","v":-4.8061658621097605}]
[{"$f":"A610+Sheet2!G$5","v":{"v":0.859140859140892,"d":"0.86"}},-1.3798343720012038,{"$f":"(B612-B611)/Sheet2!$G$5","v":-4.764968298434509}]
[{"$f":"A611+Sheet2!G$5","v":{"v":0.8671328671328999,"d":"0.87"}},-1.4179160367239572,{"$f":"(B613-B612)/Sheet2!$G$5","v":-4.723387501609161}]
[{"$f":"A612+Sheet2!G$5","v":{"v":0.8751248751249079,"d":"0.88"}},-1.4556653873861682,{"$f":"(B614-B613)/Sheet2!$G$5","v":-4.681423471633051}]
[{"$f":"A613+Sheet2!G$5","v":{"v":0.8831168831169158,"d":"0.88"}},-1.4930793611854334,{"$f":"(B615-B614)/Sheet2!$G$5","v":-4.639076208506623}]
[{"$f":"A614+Sheet2!G$5","v":{"v":0.8911088911089238,"d":"0.89"}},-1.5301548953193524,{"$f":"(B616-B615)/Sheet2!$G$5","v":-4.596345712229654}]
[{"$f":"A615+Sheet2!G$5","v":{"v":0.8991008991009317,"d":"0.90"}},-1.5668889269855235,{"$f":"(B617-B616)/Sheet2!$G$5","v":-4.553231982802146}]
[{"$f":"A616+Sheet2!G$5","v":{"v":0.9070929070929397,"d":"0.91"}},-1.6032783933815447,{"$f":"(B618-B617)/Sheet2!$G$5","v":-4.509735020224318}]
[{"$f":"A617+Sheet2!G$5","v":{"v":0.9150849150849476,"d":"0.92"}},-1.6393202317050157,{"$f":"(B619-B618)/Sheet2!$G$5","v":-4.465854824496062}]
[{"$f":"A618+Sheet2!G$5","v":{"v":0.9230769230769555,"d":"0.92"}},-1.6750113791535357,{"$f":"(B620-B619)/Sheet2!$G$5","v":-4.421591395617043}]
[{"$f":"A619+Sheet2!G$5","v":{"v":0.9310689310689635,"d":"0.93"}},-1.7103487729247009,{"$f":"(B621-B620)/Sheet2!$G$5","v":-4.376944733587929}]
[{"$f":"A620+Sheet2!G$5","v":{"v":0.9390609390609714,"d":"0.94"}},-1.745329350216113,{"$f":"(B622-B621)/Sheet2!$G$5","v":-4.331914838408163}]
[{"$f":"A621+Sheet2!G$5","v":{"v":0.9470529470529794,"d":"0.95"}},-1.779950048225369,{"$f":"(B623-B622)/Sheet2!$G$5","v":-4.286501710077967}]
[{"$f":"A622+Sheet2!G$5","v":{"v":0.9550449550449873,"d":"0.96"}},-1.814207804150068,{"$f":"(B624-B623)/Sheet2!$G$5","v":-4.240705348597232}]
[{"$f":"A623+Sheet2!G$5","v":{"v":0.9630369630369953,"d":"0.96"}},-1.848099555187808,{"$f":"(B625-B624)/Sheet2!$G$5","v":-4.194525753966067}]
[{"$f":"A624+Sheet2!G$5","v":{"v":0.9710289710290032,"d":"0.97"}},-1.8816222385361883,{"$f":"(B626-B625)/Sheet2!$G$5","v":-4.147962926184473}]
[{"$f":"A625+Sheet2!G$5","v":{"v":0.9790209790210112,"d":"0.98"}},-1.9147727913928074,{"$f":"(B627-B626)/Sheet2!$G$5","v":-4.10101686525245}]
[{"$f":"A626+Sheet2!G$5","v":{"v":0.9870129870130191,"d":"0.99"}},-1.9475481509552646,{"$f":"(B628-B627)/Sheet2!$G$5","v":-4.053687571169775}]
[{"$f":"A627+Sheet2!G$5","v":{"v":0.995004995005027,"d":"1.00"}},-1.9799452544211569,{"$f":"(B629-B628)/Sheet2!$G$5","v":-4.0059750439368935}]
[{"$f":"A628+Sheet2!G$5","v":{"v":1.002997002997035,"d":"1.00"}},-2.011961038988085,{"$f":"(B630-B629)/Sheet2!$G$5","v":-3.9578792835534715}]
[{"$f":"A629+Sheet2!G$5","v":{"v":1.010989010989043,"d":"1.01"}},-2.0435924418536473,{"$f":"(B631-B630)/Sheet2!$G$5","v":-3.909400290019398}]
[{"$f":"A630+Sheet2!G$5","v":{"v":1.0189810189810509,"d":"1.02"}},-2.0748364002154407,{"$f":"(B632-B631)/Sheet2!$G$5","v":-3.8605380633351176}]
[{"$f":"A631+Sheet2!G$5","v":{"v":1.0269730269730588,"d":"1.03"}},-2.105689851271066,{"$f":"(B633-B632)/Sheet2!$G$5","v":-3.8112926035000743}]
[{"$f":"A632+Sheet2!G$5","v":{"v":1.0349650349650668,"d":"1.03"}},-2.1361497322181195,{"$f":"(B634-B633)/Sheet2!$G$5","v":-3.7616639105149354}]
[{"$f":"A633+Sheet2!G$5","v":{"v":1.0429570429570747,"d":"1.04"}},-2.166212980254203,{"$f":"(B635-B634)/Sheet2!$G$5","v":-3.711651984379034}]
[{"$f":"A634+Sheet2!G$5","v":{"v":1.0509490509490826,"d":"1.05"}},-2.1958765325769125,{"$f":"(B636-B635)/Sheet2!$G$5","v":-3.6612568250927033}]
[{"$f":"A635+Sheet2!G$5","v":{"v":1.0589410589410906,"d":"1.06"}},-2.225137326383847,{"$f":"(B637-B636)/Sheet2!$G$5","v":-3.6104784326560546}]
[{"$f":"A636+Sheet2!G$5","v":{"v":1.0669330669330985,"d":"1.07"}},-2.253992298872607,{"$f":"(B638-B637)/Sheet2!$G$5","v":-3.559316807068866}]
[{"$f":"A637+Sheet2!G$5","v":{"v":1.0749250749251065,"d":"1.07"}},-2.2824383872407896,{"$f":"(B639-B638)/Sheet2!$G$5","v":-3.5077719483311363}]
[{"$f":"A638+Sheet2!G$5","v":{"v":1.0829170829171144,"d":"1.08"}},-2.3104725286859935,{"$f":"(B640-B639)/Sheet2!$G$5","v":-3.4558438564430887}]
[{"$f":"A639+Sheet2!G$5","v":{"v":1.0909090909091224,"d":"1.09"}},-2.3380916604058184,{"$f":"(B641-B640)/Sheet2!$G$5","v":-3.4035325314042786}]
[{"$f":"A640+Sheet2!G$5","v":{"v":1.0989010989011303,"d":"1.10"}},-2.3652927195978606,{"$f":"(B642-B641)/Sheet2!$G$5","v":-3.350837973215373}]
[{"$f":"A641+Sheet2!G$5","v":{"v":1.1068931068931382,"d":"1.11"}},-2.3920726434597217,{"$f":"(B643-B642)/Sheet2!$G$5","v":-3.2977601818759266}]
[{"$f":"A642+Sheet2!G$5","v":{"v":1.1148851148851462,"d":"1.11"}},{"$f":"x^3-7*x+4","v":-2.418428369189},{"$f":"(B644-B643)/Sheet2!$G$5","v":-3.244299157385829}]
[{"$f":"A643+Sheet2!G$5","v":{"v":1.1228771228771541,"d":"1.12"}},-2.444356833983292,{"$f":"(B645-B644)/Sheet2!$G$5","v":-3.190454899745302}]
[{"$f":"A644+Sheet2!G$5","v":{"v":1.130869130869162,"d":"1.13"}},-2.4698549750401977,{"$f":"(B646-B645)/Sheet2!$G$5","v":-3.1362274089545683}]
[{"$f":"A645+Sheet2!G$5","v":{"v":1.13886113886117,"d":"1.14"}},-2.494919729557317,{"$f":"(B647-B646)/Sheet2!$G$5","v":-3.0816166850129605}]
[{"$f":"A646+Sheet2!G$5","v":{"v":1.146853146853178,"d":"1.15"}},-2.519548034732246,{"$f":"(B648-B647)/Sheet2!$G$5","v":-3.026622727921368}]
[{"$f":"A647+Sheet2!G$5","v":{"v":1.154845154845186,"d":"1.15"}},-2.5437368277625865,{"$f":"(B649-B648)/Sheet2!$G$5","v":-2.97124553767868}]
[{"$f":"A648+Sheet2!G$5","v":{"v":1.1628371628371938,"d":"1.16"}},-2.5674830458459326,{"$f":"(B650-B649)/Sheet2!$G$5","v":-2.9154851142862293}]
[{"$f":"A649+Sheet2!G$5","v":{"v":1.1708291708292018,"d":"1.17"}},-2.5907836261798884,{"$f":"(B651-B650)/Sheet2!$G$5","v":-2.8593414577427936}]
[{"$f":"A650+Sheet2!G$5","v":{"v":1.1788211788212097,"d":"1.18"}},-2.6136355059620486,{"$f":"(B652-B651)/Sheet2!$G$5","v":-2.80281456804904}]
[{"$f":"A651+Sheet2!G$5","v":{"v":1.1868131868132177,"d":"1.19"}},-2.636035622390013,{"$f":"(B653-B652)/Sheet2!$G$5","v":-2.7459044452049683}]
[{"$f":"A652+Sheet2!G$5","v":{"v":1.1948051948052256,"d":"1.19"}},-2.6579809126613814,{"$f":"(B654-B653)/Sheet2!$G$5","v":-2.6886110892101343}]
[{"$f":"A653+Sheet2!G$5","v":{"v":1.2027972027972336,"d":"1.20"}},-2.67946831397375,{"$f":"(B655-B654)/Sheet2!$G$5","v":-2.6309345000650928}]
[{"$f":"A654+Sheet2!G$5","v":{"v":1.2107892107892415,"d":"1.21"}},-2.70049476352472,{"$f":"(B656-B655)/Sheet2!$G$5","v":-2.5728746777697333}]
[{"$f":"A655+Sheet2!G$5","v":{"v":1.2187812187812495,"d":"1.22"}},-2.7210571985118905,{"$f":"(B657-B656)/Sheet2!$G$5","v":-2.5144316223233893}]
[{"$f":"A656+Sheet2!G$5","v":{"v":1.2267732267732574,"d":"1.23"}},-2.7411525561328567,{"$f":"(B658-B657)/Sheet2!$G$5","v":-2.4556053337269494}]
[{"$f":"A657+Sheet2!G$5","v":{"v":1.2347652347652653,"d":"1.23"}},-2.76077777358522,{"$f":"(B659-B658)/Sheet2!$G$5","v":-2.39639581198008}]
[{"$f":"A658+Sheet2!G$5","v":{"v":1.2427572427572733,"d":"1.24"}},-2.779929788066579,{"$f":"(B660-B659)/Sheet2!$G$5","v":-2.3368030570824483}]
[{"$f":"A659+Sheet2!G$5","v":{"v":1.2507492507492812,"d":"1.25"}},-2.798605536774531,{"$f":"(B661-B660)/Sheet2!$G$5","v":-2.2768270690347205}]
[{"$f":"A660+Sheet2!G$5","v":{"v":1.2587412587412892,"d":"1.26"}},-2.8168019569066765,{"$f":"(B662-B661)/Sheet2!$G$5","v":-2.2164678478362303}]
[{"$f":"A661+Sheet2!G$5","v":{"v":1.2667332667332971,"d":"1.27"}},-2.8345159856606124,{"$f":"(B663-B662)/Sheet2!$G$5","v":-2.155725393487311}]
[{"$f":"A662+Sheet2!G$5","v":{"v":1.274725274725305,"d":"1.27"}},-2.8517445602339375,{"$f":"(B664-B663)/Sheet2!$G$5","v":-2.0945997059881845}]
[{"$f":"A663+Sheet2!G$5","v":{"v":1.282717282717313,"d":"1.28"}},-2.8684846178242527,{"$f":"(B665-B664)/Sheet2!$G$5","v":-2.0330907853381843}]
[{"$f":"A664+Sheet2!G$5","v":{"v":1.290709290709321,"d":"1.29"}},-2.8847330956291533,{"$f":"(B666-B665)/Sheet2!$G$5","v":-1.9711986315381995}]
[{"$f":"A665+Sheet2!G$5","v":{"v":1.2987012987013289,"d":"1.30"}},-2.9004869308462418,{"$f":"(B667-B666)/Sheet2!$G$5","v":-1.9089232445871187}]
[{"$f":"A666+Sheet2!G$5","v":{"v":1.3066933066933368,"d":"1.31"}},-2.915743060673112,{"$f":"(B668-B667)/Sheet2!$G$5","v":-1.8462646244861645}]
[{"$f":"A667+Sheet2!G$5","v":{"v":1.3146853146853448,"d":"1.31"}},-2.930498422307367,{"$f":"(B669-B668)/Sheet2!$G$5","v":-1.7832227712346698}]
[{"$f":"A668+Sheet2!G$5","v":{"v":1.3226773226773527,"d":"1.32"}},-2.944749952946605,{"$f":"(B670-B669)/Sheet2!$G$5","v":-1.7197976848323013}]
[{"$f":"A669+Sheet2!G$5","v":{"v":1.3306693306693607,"d":"1.33"}},-2.9584945897884216,{"$f":"(B671-B670)/Sheet2!$G$5","v":-1.655989365279726}]
[{"$f":"A670+Sheet2!G$5","v":{"v":1.3386613386613686,"d":"1.34"}},-2.9717292700304174,{"$f":"(B672-B671)/Sheet2!$G$5","v":-1.5917978125769436}]
[{"$f":"A671+Sheet2!G$5","v":{"v":1.3466533466533765,"d":"1.35"}},-2.984450930870193,{"$f":"(B673-B672)/Sheet2!$G$5","v":-1.5272230267231763}]
[{"$f":"A672+Sheet2!G$5","v":{"v":1.3546453546453845,"d":"1.35"}},-2.9966565095053435,{"$f":"(B674-B673)/Sheet2!$G$5","v":-1.4622650077192023}]
[{"$f":"A673+Sheet2!G$5","v":{"v":1.3626373626373924,"d":"1.36"}},-3.008342943133469,{"$f":"(B675-B674)/Sheet2!$G$5","v":-1.3969237555650211}]
[{"$f":"A674+Sheet2!G$5","v":{"v":1.3706293706294004,"d":"1.37"}},-3.0195071689521704,{"$f":"(B676-B675)/Sheet2!$G$5","v":-1.3311992702598552}]
[{"$f":"A675+Sheet2!G$5","v":{"v":1.3786213786214083,"d":"1.38"}},-3.0301461241590424,{"$f":"(B677-B676)/Sheet2!$G$5","v":-1.2650915518047046}]
[{"$f":"A676+Sheet2!G$5","v":{"v":1.3866133866134163,"d":"1.39"}},-3.0402567459516874,{"$f":"(B678-B677)/Sheet2!$G$5","v":-1.1986006001986802}]
[{"$f":"A677+Sheet2!G$5","v":{"v":1.3946053946054242,"d":"1.39"}},-3.049835971527701,{"$f":"(B679-B678)/Sheet2!$G$5","v":-1.131726415442449}]
[{"$f":"A678+Sheet2!G$5","v":{"v":1.4025974025974322,"d":"1.40"}},-3.0588807380846834,{"$f":"(B680-B679)/Sheet2!$G$5","v":-1.0644689975357884}]
[{"$f":"A679+Sheet2!G$5","v":{"v":1.41058941058944,"d":"1.41"}},-3.067387982820234,{"$f":"(B681-B680)/Sheet2!$G$5","v":-0.9968283464782541}]
[{"$f":"A680+Sheet2!G$5","v":{"v":1.418581418581448,"d":"1.42"}},-3.0753546429319485,{"$f":"(B682-B681)/Sheet2!$G$5","v":-0.9288044622709575}]
[{"$f":"A681+Sheet2!G$5","v":{"v":1.426573426573456,"d":"1.43"}},-3.0827776556174307,{"$f":"(B683-B682)/Sheet2!$G$5","v":-0.8603973449125648}]
[{"$f":"A682+Sheet2!G$5","v":{"v":1.434565434565464,"d":"1.43"}},-3.0896539580742743,{"$f":"(B684-B683)/Sheet2!$G$5","v":-0.7916069944037429}]
[{"$f":"A683+Sheet2!G$5","v":{"v":1.4425574425574719,"d":"1.44"}},-3.0959804875000785,{"$f":"(B685-B684)/Sheet2!$G$5","v":-0.7224334107450475}]
[{"$f":"A684+Sheet2!G$5","v":{"v":1.4505494505494798,"d":"1.45"}},-3.1017541810924465,{"$f":"(B686-B685)/Sheet2!$G$5","v":-0.652876593935145}]
[{"$f":"A685+Sheet2!G$5","v":{"v":1.4585414585414878,"d":"1.46"}},-3.106971976048971,{"$f":"(B687-B686)/Sheet2!$G$5","v":-0.5829365439751466}]
[{"$f":"A686+Sheet2!G$5","v":{"v":1.4665334665334957,"d":"1.47"}},-3.111630809567254,{"$f":"(B688-B687)/Sheet2!$G$5","v":-0.5126132608648302}]
[{"$f":"A687+Sheet2!G$5","v":{"v":1.4745254745255036,"d":"1.47"}},-3.115727618844895,{"$f":"(B689-B688)/Sheet2!$G$5","v":-0.4419067446037511}]
[{"$f":"A688+Sheet2!G$5","v":{"v":1.4825174825175116,"d":"1.48"}},-3.1192593410794904,{"$f":"(B690-B689)/Sheet2!$G$5","v":-0.370816995192354}]
[{"$f":"A689+Sheet2!G$5","v":{"v":1.4905094905095195,"d":"1.49"}},-3.12222291346864,{"$f":"(B691-B690)/Sheet2!$G$5","v":-0.2993440126306388}]
[{"$f":"A690+Sheet2!G$5","v":{"v":1.4985014985015275,"d":"1.50"}},-3.124615273209944,{"$f":"(B692-B691)/Sheet2!$G$5","v":-0.22748779691793874}]
[{"$f":"A691+Sheet2!G$5","v":{"v":1.5064935064935354,"d":"1.51"}},-3.1264333575009964,{"$f":"(B693-B692)/Sheet2!$G$5","v":-0.15524834805547627}]
[{"$f":"A692+Sheet2!G$5","v":{"v":1.5144855144855434,"d":"1.51"}},-3.127674103539402,{"$f":"(B694-B693)/Sheet2!$G$5","v":-0.08262566604191779}]
[{"$f":"A693+Sheet2!G$5","v":{"v":1.5224775224775513,"d":"1.52"}},-3.1283344485227538,{"$f":"(B695-B694)/Sheet2!$G$5","v":-0.009619750878041233}]
[{"$f":"A694+Sheet2!G$5","v":{"v":1.5304695304695592,"d":"1.53"}},-3.128411329648652,{"$f":"(B696-B695)/Sheet2!$G$5","v":0.06376939743593113}]
[{"$f":"A695+Sheet2!G$5","v":{"v":1.5384615384615672,"d":"1.54"}},-3.1279016841146987,{"$f":"(B697-B696)/Sheet2!$G$5","v":0.1375417789006661}]
[{"$f":"A696+Sheet2!G$5","v":{"v":1.5464535464535751,"d":"1.55"}},-3.1268024491184896,{"$f":"(B698-B697)/Sheet2!$G$5","v":0.21169739351571915}]
[{"$f":"A697+Sheet2!G$5","v":{"v":1.554445554445583,"d":"1.55"}},-3.1251105618576247,{"$f":"(B699-B698)/Sheet2!$G$5","v":0.28623624128164593}]
[{"$f":"A698+Sheet2!G$5","v":{"v":1.562437562437591,"d":"1.56"}},-3.1228229595296995,{"$f":"(B700-B699)/Sheet2!$G$5","v":0.3611583221975574}]
[{"$f":"A699+Sheet2!G$5","v":{"v":1.570429570429599,"d":"1.57"}},-3.1199365793323164,{"$f":"(B701-B700)/Sheet2!$G$5","v":0.43646363626389806}]
[{"$f":"A700+Sheet2!G$5","v":{"v":1.578421578421607,"d":"1.58"}},-3.1164483584630744,{"$f":"(B702-B701)/Sheet2!$G$5","v":0.5121521834812236}]
[{"$f":"A701+Sheet2!G$5","v":{"v":1.5864135864136149,"d":"1.59"}},-3.112355234119568,{"$f":"(B703-B702)/Sheet2!$G$5","v":0.5882239638487561}]
[{"$f":"A702+Sheet2!G$5","v":{"v":1.5944055944056228,"d":"1.59"}},-3.1076541434993983,{"$f":"(B704-B703)/Sheet2!$G$5","v":0.6646789773663844}]
[{"$f":"A703+Sheet2!G$5","v":{"v":1.6023976023976307,"d":"1.60"}},-3.1023420238001664,{"$f":"(B705-B704)/Sheet2!$G$5","v":0.7415172240349975}]
[{"$f":"A704+Sheet2!G$5","v":{"v":1.6103896103896387,"d":"1.61"}},-3.096415812219467,{"$f":"(B706-B705)/Sheet2!$G$5","v":0.8187387038540399}]
[{"$f":"A705+Sheet2!G$5","v":{"v":1.6183816183816466,"d":"1.62"}},-3.0898724459548994,{"$f":"(B707-B706)/Sheet2!$G$5","v":0.8963434168229558}]
[{"$f":"A706+Sheet2!G$5","v":{"v":1.6263736263736546,"d":"1.63"}},{"$f":"x^3-7*x+4","v":-3.0827088622040666},{"$f":"(B708-B707)/Sheet2!$G$5","v":0.97433136294319}]
[{"$f":"A707+Sheet2!G$5","v":{"v":1.6343656343656625,"d":"1.63"}},-3.0749219981645606,{"$f":"(B709-B708)/Sheet2!$G$5","v":1.0527025422130756}]
[{"$f":"A708+Sheet2!G$5","v":{"v":1.6423576423576705,"d":"1.64"}},-3.0665087910339865,{"$f":"(B710-B709)/Sheet2!$G$5","v":1.1314569546341682}]
[{"$f":"A709+Sheet2!G$5","v":{"v":1.6503496503496784,"d":"1.65"}},-3.0574661780099373,{"$f":"(B711-B710)/Sheet2!$G$5","v":1.2105946002053565}]
[{"$f":"A710+Sheet2!G$5","v":{"v":1.6583416583416863,"d":"1.66"}},-3.0477910962900143,{"$f":"(B712-B711)/Sheet2!$G$5","v":1.290115478926863}]
[{"$f":"A711+Sheet2!G$5","v":{"v":1.6663336663336943,"d":"1.67"}},-3.0374804830718176,{"$f":"(B713-B712)/Sheet2!$G$5","v":1.3700195907991322}]
[{"$f":"A712+Sheet2!G$5","v":{"v":1.6743256743257022,"d":"1.67"}},-3.0265312755529434,{"$f":"(B714-B713)/Sheet2!$G$5","v":1.450306935821497}]
[{"$f":"A713+Sheet2!G$5","v":{"v":1.6823176823177102,"d":"1.68"}},-3.0149404109309934,{"$f":"(B715-B714)/Sheet2!$G$5","v":1.5309775139948467}]
[{"$f":"A714+Sheet2!G$5","v":{"v":1.6903096903097181,"d":"1.69"}},-3.002704826403562,{"$f":"(B716-B715)/Sheet2!$G$5","v":1.6120313253185146}]
[{"$f":"A715+Sheet2!G$5","v":{"v":1.698301698301726,"d":"1.70"}},-2.9898214591682493,{"$f":"(B717-B716)/Sheet2!$G$5","v":1.693468369792167}]
[{"$f":"A716+Sheet2!G$5","v":{"v":1.706293706293734,"d":"1.71"}},-2.9762872464226575,{"$f":"(B718-B717)/Sheet2!$G$5","v":1.7752886474168046}]
[{"$f":"A717+Sheet2!G$5","v":{"v":1.714285714285742,"d":"1.71"}},-2.9620991253643814,{"$f":"(B719-B718)/Sheet2!$G$5","v":1.857492158191871}]
[{"$f":"A718+Sheet2!G$5","v":{"v":1.72227772227775,"d":"1.72"}},-2.9472540331910198,{"$f":"(B720-B719)/Sheet2!$G$5","v":1.9400789021169225}]
[{"$f":"A719+Sheet2!G$5","v":{"v":1.7302697302697578,"d":"1.73"}},-2.931748907100175,{"$f":"(B721-B720)/Sheet2!$G$5","v":2.0230488791930696}]
[{"$f":"A720+Sheet2!G$5","v":{"v":1.7382617382617658,"d":"1.74"}},-2.9155806842894414,{"$f":"(B722-B721)/Sheet2!$G$5","v":2.106402089419535}]
[{"$f":"A721+Sheet2!G$5","v":{"v":1.7462537462537737,"d":"1.75"}},-2.898746301956418,{"$f":"(B723-B722)/Sheet2!$G$5","v":2.1901385327959852}]
[{"$f":"A722+Sheet2!G$5","v":{"v":1.7542457542457817,"d":"1.75"}},-2.881242697298708,{"$f":"(B724-B723)/Sheet2!$G$5","v":2.27425820932342}]
[{"$f":"A723+Sheet2!G$5","v":{"v":1.7622377622377896,"d":"1.76"}},-2.8630668075139054,{"$f":"(B725-B724)/Sheet2!$G$5","v":2.358761119001062}]
[{"$f":"A724+Sheet2!G$5","v":{"v":1.7702297702297976,"d":"1.77"}},-2.844215569799611,{"$f":"(B726-B725)/Sheet2!$G$5","v":2.4436472618294665}]
[{"$f":"A725+Sheet2!G$5","v":{"v":1.7782217782218055,"d":"1.78"}},-2.8246859213534217,{"$f":"(B727-B726)/Sheet2!$G$5","v":2.5289166378080776}]
[{"$f":"A726+Sheet2!G$5","v":{"v":1.7862137862138134,"d":"1.79"}},-2.8044747993729375,{"$f":"(B728-B727)/Sheet2!$G$5","v":2.614569246937007}]
[{"$f":"A727+Sheet2!G$5","v":{"v":1.7942057942058214,"d":"1.79"}},-2.7835791410557587,{"$f":"(B729-B728)/Sheet2!$G$5","v":2.7006050892168103}]
[{"$f":"A728+Sheet2!G$5","v":{"v":1.8021978021978293,"d":"1.80"}},-2.7619958835994805,{"$f":"(B730-B729)/Sheet2!$G$5","v":2.7870241646467093}]
[{"$f":"A729+Sheet2!G$5","v":{"v":1.8101898101898373,"d":"1.81"}},-2.7397219642017046,{"$f":"(B731-B730)/Sheet2!$G$5","v":2.8738264732274823}]
[{"$f":"A730+Sheet2!G$5","v":{"v":1.8181818181818452,"d":"1.82"}},-2.7167543200600264,{"$f":"(B732-B731)/Sheet2!$G$5","v":2.9610120149583508}]
[{"$f":"A731+Sheet2!G$5","v":{"v":1.8261738261738532,"d":"1.83"}},-2.6930898883720475,{"$f":"(B733-B732)/Sheet2!$G$5","v":3.0485807898396486}]
[{"$f":"A732+Sheet2!G$5","v":{"v":1.834165834165861,"d":"1.83"}},-2.668725606335367,{"$f":"(B734-B733)/Sheet2!$G$5","v":3.13653279787182}]
[{"$f":"A733+Sheet2!G$5","v":{"v":1.842157842157869,"d":"1.84"}},-2.6436584111475803,{"$f":"(B735-B734)/Sheet2!$G$5","v":3.2248680390543094}]
[{"$f":"A734+Sheet2!G$5","v":{"v":1.850149850149877,"d":"1.85"}},-2.617885240006287,{"$f":"(B736-B735)/Sheet2!$G$5","v":3.313586513386895}]
[{"$f":"A735+Sheet2!G$5","v":{"v":1.858141858141885,"d":"1.86"}},-2.591403030109089,{"$f":"(B737-B736)/Sheet2!$G$5","v":3.402688220870354}]
[{"$f":"A736+Sheet2!G$5","v":{"v":1.8661338661338929,"d":"1.87"}},-2.564208718653582,{"$f":"(B738-B737)/Sheet2!$G$5","v":3.492173161504131}]
[{"$f":"A737+Sheet2!G$5","v":{"v":1.8741258741259008,"d":"1.87"}},-2.536299242837365,{"$f":"(B739-B738)/Sheet2!$G$5","v":3.582041335288338}]
[{"$f":"A738+Sheet2!G$5","v":{"v":1.8821178821179088,"d":"1.88"}},-2.5076715398580376,{"$f":"(B740-B739)/Sheet2!$G$5","v":3.6722927422230844}]
[{"$f":"A739+Sheet2!G$5","v":{"v":1.8901098901099167,"d":"1.89"}},-2.4783225469131978,{"$f":"(B741-B740)/Sheet2!$G$5","v":3.7629273823081495}]
[{"$f":"A740+Sheet2!G$5","v":{"v":1.8981018981019246,"d":"1.90"}},-2.4482492012004453,{"$f":"(B742-B741)/Sheet2!$G$5","v":3.8539452555439766}]
[{"$f":"A741+Sheet2!G$5","v":{"v":1.9060939060939326,"d":"1.91"}},-2.4174484399173766,{"$f":"(B743-B742)/Sheet2!$G$5","v":3.9453463619302336}]
[{"$f":"A742+Sheet2!G$5","v":{"v":1.9140859140859405,"d":"1.91"}},-2.3859172002615905,{"$f":"(B744-B743)/Sheet2!$G$5","v":4.037130701466475}]
[{"$f":"A743+Sheet2!G$5","v":{"v":1.9220779220779485,"d":"1.92"}},-2.3536524194306896,{"$f":"(B745-B744)/Sheet2!$G$5","v":4.129298274153701}]
[{"$f":"A744+Sheet2!G$5","v":{"v":1.9300699300699564,"d":"1.93"}},-2.3206510346222684,{"$f":"(B746-B745)/Sheet2!$G$5","v":4.221849079991134}]
[{"$f":"A745+Sheet2!G$5","v":{"v":1.9380619380619644,"d":"1.94"}},-2.2869099830339277,{"$f":"(B747-B746)/Sheet2!$G$5","v":4.31478311897933}]
[{"$f":"A746+Sheet2!G$5","v":{"v":1.9460539460539723,"d":"1.95"}},-2.2524262018632637,{"$f":"(B748-B747)/Sheet2!$G$5","v":4.408100391117732}]
[{"$f":"A747+Sheet2!G$5","v":{"v":1.9540459540459802,"d":"1.95"}},-2.2171966283078772,{"$f":"(B749-B748)/Sheet2!$G$5","v":4.501800896406453}]
[{"$f":"A748+Sheet2!G$5","v":{"v":1.9620379620379882,"d":"1.96"}},-2.181218199565368,{"$f":"(B750-B749)/Sheet2!$G$5","v":4.595884634846048}]
[{"$f":"A749+Sheet2!G$5","v":{"v":1.9700299700299961,"d":"1.97"}},-2.1444878528333318,{"$f":"(B751-B750)/Sheet2!$G$5","v":4.690351606435849}]
[{"$f":"A750+Sheet2!G$5","v":{"v":1.978021978022004,"d":"1.98"}},-2.107002525309369,{"$f":"(B752-B751)/Sheet2!$G$5","v":4.785201811175969}]
[{"$f":"A751+Sheet2!G$5","v":{"v":1.986013986014012,"d":"1.99"}},-2.0687591541910795,{"$f":"(B753-B752)/Sheet2!$G$5","v":4.880435249066962}]
[{"$f":"A752+Sheet2!G$5","v":{"v":1.99400599400602,"d":"1.99"}},-2.029754676676059,{"$f":"(B754-B753)/Sheet2!$G$5","v":4.976051920108273}]
[{"$f":"A753+Sheet2!G$5","v":{"v":2.001998001998028,"d":"2.00"}},-1.9899860299619068,{"$f":"(B755-B754)/Sheet2!$G$5","v":5.072051824299903}]
[{"$f":"A754+Sheet2!G$5","v":{"v":2.009990009990036,"d":"2.01"}},-1.9494501512462232,{"$f":"(B756-B755)/Sheet2!$G$5","v":5.168434961642295}]
[{"$f":"A755+Sheet2!G$5","v":{"v":2.0179820179820442,"d":"2.02"}},-1.9081439777266045,{"$f":"(B757-B756)/Sheet2!$G$5","v":5.265201332134671}]
[{"$f":"A756+Sheet2!G$5","v":{"v":2.0259740259740524,"d":"2.03"}},-1.866064446600653,{"$f":"(B758-B757)/Sheet2!$G$5","v":5.362350935777922}]
[{"$f":"A757+Sheet2!G$5","v":{"v":2.0339660339660606,"d":"2.03"}},-1.8232084950659644,{"$f":"(B759-B758)/Sheet2!$G$5","v":5.459883772571379}]
[{"$f":"A758+Sheet2!G$5","v":{"v":2.0419580419580687,"d":"2.04"}},-1.7795730603201392,{"$f":"(B760-B759)/Sheet2!$G$5","v":5.557799842515933}]
[{"$f":"A759+Sheet2!G$5","v":{"v":2.049950049950077,"d":"2.05"}},-1.735155079560771,{"$f":"(B761-B760)/Sheet2!$G$5","v":5.6560991456100265}]
[{"$f":"A760+Sheet2!G$5","v":{"v":2.057942057942085,"d":"2.06"}},-1.6899514899854662,{"$f":"(B762-B761)/Sheet2!$G$5","v":5.754781681855215}]
[{"$f":"A761+Sheet2!G$5","v":{"v":2.0659340659340932,"d":"2.07"}},-1.643959228791818,{"$f":"(B763-B762)/Sheet2!$G$5","v":5.853847451250168}]
[{"$f":"A762+Sheet2!G$5","v":{"v":2.0739260739261014,"d":"2.07"}},-1.5971752331774312,{"$f":"(B764-B763)/Sheet2!$G$5","v":5.953296453796438}]
[{"$f":"A763+Sheet2!G$5","v":{"v":2.0819180819181096,"d":"2.08"}},-1.5495964403398972,{"$f":"(B765-B764)/Sheet2!$G$5","v":6.053128689492915}]
[{"$f":"A764+Sheet2!G$5","v":{"v":2.0899100899101177,"d":"2.09"}},-1.501219787476817,{"$f":"(B766-B765)/Sheet2!$G$5","v":6.153344158339599}]
[{"$f":"A765+Sheet2!G$5","v":{"v":2.097902097902126,"d":"2.10"}},-1.4520422117857912,{"$f":"(B767-B766)/Sheet2!$G$5","v":6.2539428603369345}]
[{"$f":"A766+Sheet2!G$5","v":{"v":2.105894105894134,"d":"2.11"}},-1.402060650464417,{"$f":"(B768-B767)/Sheet2!$G$5","v":6.354924795484699}]
[{"$f":"A767+Sheet2!G$5","v":{"v":2.1138861138861422,"d":"2.11"}},-1.3512720407102936,{"$f":"(B769-B768)/Sheet2!$G$5","v":6.4562899637831155}]
[{"$f":"A768+Sheet2!G$5","v":{"v":2.1218781218781504,"d":"2.12"}},-1.299673319721018,{"$f":"(B770-B769)/Sheet2!$G$5","v":6.558038365231739}]
[{"$f":"A769+Sheet2!G$5","v":{"v":2.1298701298701586,"d":"2.13"}},-1.2472614246941909,{"$f":"(B771-B770)/Sheet2!$G$5","v":6.660169999830569}]
[{"$f":"A770+Sheet2!G$5","v":{"v":2.1378621378621667,"d":"2.14"}},{"$f":"x^3-7*x+4","v":-1.194033292827413},{"$f":"(B772-B771)/Sheet2!$G$5","v":6.762684867580718}]
[{"$f":"A771+Sheet2!G$5","v":{"v":2.145854145854175,"d":"2.15"}},-1.1399858613182765,{"$f":"(B773-B772)/Sheet2!$G$5","v":6.865582968480628}]
[{"$f":"A772+Sheet2!G$5","v":{"v":2.153846153846183,"d":"2.15"}},-1.0851160673643854,{"$f":"(B774-B773)/Sheet2!$G$5","v":6.968864302530968}]
[{"$f":"A773+Sheet2!G$5","v":{"v":2.161838161838191,"d":"2.16"}},-1.0294208481633387,{"$f":"(B775-B774)/Sheet2!$G$5","v":7.0725288697321815}]
[{"$f":"A774+Sheet2!G$5","v":{"v":2.1698301698301994,"d":"2.17"}},-0.9728971409127318,{"$f":"(B776-B775)/Sheet2!$G$5","v":7.176576670083825}]
[{"$f":"A775+Sheet2!G$5","v":{"v":2.1778221778222075,"d":"2.18"}},-0.9155418828101638,{"$f":"(B777-B776)/Sheet2!$G$5","v":7.281007703585675}]
[{"$f":"A776+Sheet2!G$5","v":{"v":2.1858141858142157,"d":"2.19"}},-0.8573520110532353,{"$f":"(B778-B777)/Sheet2!$G$5","v":7.385821970238176}]
[{"$f":"A777+Sheet2!G$5","v":{"v":2.193806193806224,"d":"2.19"}},-0.7983244628395436,{"$f":"(B779-B778)/Sheet2!$G$5","v":7.491019470041107}]
[{"$f":"A778+Sheet2!G$5","v":{"v":2.201798201798232,"d":"2.20"}},-0.7384561753666876,{"$f":"(B780-B779)/Sheet2!$G$5","v":7.596600202994022}]
[{"$f":"A779+Sheet2!G$5","v":{"v":2.20979020979024,"d":"2.21"}},-0.6777440858322699,{"$f":"(B781-B780)/Sheet2!$G$5","v":7.702564169098478}]
[{"$f":"A780+Sheet2!G$5","v":{"v":2.2177822177822484,"d":"2.22"}},-0.6161851314338804,{"$f":"(B782-B781)/Sheet2!$G$5","v":7.808911368352251}]
[{"$f":"A781+Sheet2!G$5","v":{"v":2.2257742257742565,"d":"2.23"}},-0.5537762493691272,{"$f":"(B783-B782)/Sheet2!$G$5","v":7.915641800757566}]
[{"$f":"A782+Sheet2!G$5","v":{"v":2.2337662337662647,"d":"2.23"}},-0.4905143768356002,{"$f":"(B784-B783)/Sheet2!$G$5","v":8.02275546631242}]
[{"$f":"A783+Sheet2!G$5","v":{"v":2.241758241758273,"d":"2.24"}},-0.4263964510309055,{"$f":"(B785-B784)/Sheet2!$G$5","v":8.130252365018148}]
[{"$f":"A784+Sheet2!G$5","v":{"v":2.249750249750281,"d":"2.25"}},-0.3614194091526386,{"$f":"(B786-B785)/Sheet2!$G$5","v":8.238132496874305}]
[{"$f":"A785+Sheet2!G$5","v":{"v":2.257742257742289,"d":"2.26"}},-0.2955801883983984,{"$f":"(B787-B786)/Sheet2!$G$5","v":8.346395861880891}]
[{"$f":"A786+Sheet2!G$5","v":{"v":2.2657342657342974,"d":"2.27"}},-0.22887572596578387,{"$f":"(B788-B787)/Sheet2!$G$5","v":8.455042460038129}]
[{"$f":"A787+Sheet2!G$5","v":{"v":2.2737262737263055,"d":"2.27"}},-0.16130295905239223,{"$f":"(B789-B788)/Sheet2!$G$5","v":8.564072291345797}]
[{"$f":"A788+Sheet2!G$5","v":{"v":2.2817182817183137,"d":"2.28"}},-0.09285882485582242,{"$f":"(B790-B789)/Sheet2!$G$5","v":8.673485355803448}]
[{"$f":"A789+Sheet2!G$5","v":{"v":2.289710289710322,"d":"2.29"}},-0.023540260573676974,{"$f":"(B791-B790)/Sheet2!$G$5","v":8.783281653412196}]
[{"$f":"A790+Sheet2!G$5","v":{"v":2.29770229770233,"d":"2.30"}},0.04665579659645047,{"$f":"(B792-B791)/Sheet2!$G$5","v":8.893461184171374}]
[{"$f":"A791+Sheet2!G$5","v":{"v":2.305694305694338,"d":"2.31"}},0.11773240945696095,{"$f":"(B793-B792)/Sheet2!$G$5","v":9.004023948080313}]
[{"$f":"A792+Sheet2!G$5","v":{"v":2.3136863136863464,"d":"2.31"}},0.18969264081025017,{"$f":"(B794-B793)/Sheet2!$G$5","v":9.114969945140793}]
[{"$f":"A793+Sheet2!G$5","v":{"v":2.3216783216783545,"d":"2.32"}},0.26253955345872804,{"$f":"(B795-B794)/Sheet2!$G$5","v":9.226299175350814}]
[{"$f":"A794+Sheet2!G$5","v":{"v":2.3296703296703627,"d":"2.33"}},0.3362762102047885,{"$f":"(B796-B795)/Sheet2!$G$5","v":9.338011638711485}]
[{"$f":"A795+Sheet2!G$5","v":{"v":2.337662337662371,"d":"2.34"}},0.4109056738508343,{"$f":"(B797-B796)/Sheet2!$G$5","v":9.450107335222587}]
[{"$f":"A796+Sheet2!G$5","v":{"v":2.345654345654379,"d":"2.35"}},0.4864310071992666,{"$f":"(B798-B797)/Sheet2!$G$5","v":9.562586264884782}]
[{"$f":"A797+Sheet2!G$5","v":{"v":2.353646353646387,"d":"2.35"}},0.5628552730524916,{"$f":"(B799-B798)/Sheet2!$G$5","v":9.675448427696741}]
[{"$f":"A798+Sheet2!G$5","v":{"v":2.3616383616383954,"d":"2.36"}},0.6401815342129051,{"$f":"(B800-B799)/Sheet2!$G$5","v":9.788693823659797}]
[{"$f":"A799+Sheet2!G$5","v":{"v":2.3696303696304035,"d":"2.37"}},0.7184128534829135,{"$f":"(B801-B800)/Sheet2!$G$5","v":9.902322452772616}]
[{"$f":"A800+Sheet2!G$5","v":{"v":2.3776223776224117,"d":"2.38"}},0.7975522936649124,{"$f":"(B802-B801)/Sheet2!$G$5","v":10.016334315036307}]
[{"$f":"A801+Sheet2!G$5","v":{"v":2.38561438561442,"d":"2.39"}},0.8776029175613065,{"$f":"(B803-B802)/Sheet2!$G$5","v":10.13072941045065}]
[{"$f":"A802+Sheet2!G$5","v":{"v":2.393606393606428,"d":"2.39"}},0.9585677879744985,{"$f":"(B804-B803)/Sheet2!$G$5","v":10.245507739014311}]
[{"$f":"A803+Sheet2!G$5","v":{"v":2.401598401598436,"d":"2.40"}},1.0404499677068806,{"$f":"(B805-B804)/Sheet2!$G$5","v":10.360669300730178}]
[{"$f":"A804+Sheet2!G$5","v":{"v":2.4095904095904443,"d":"2.41"}},1.123252519560868,{"$f":"(B806-B805)/Sheet2!$G$5","v":10.476214095595587}]
[{"$f":"A805+Sheet2!G$5","v":{"v":2.4175824175824525,"d":"2.42"}},1.2069785063388547,{"$f":"(B807-B806)/Sheet2!$G$5","v":10.592142123611424}]
[{"$f":"A806+Sheet2!G$5","v":{"v":2.4255744255744607,"d":"2.43"}},1.2916309908432417,{"$f":"(B808-B807)/Sheet2!$G$5","v":10.708453384777913}]
[{"$f":"A807+Sheet2!G$5","v":{"v":2.433566433566469,"d":"2.43"}},1.3772130358764318,{"$f":"(B809-B808)/Sheet2!$G$5","v":10.825147879094608}]
[{"$f":"A808+Sheet2!G$5","v":{"v":2.441558441558477,"d":"2.44"}},1.4637277042408243,{"$f":"(B810-B809)/Sheet2!$G$5","v":10.942225606561957}]
[{"$f":"A809+Sheet2!G$5","v":{"v":2.449550449550485,"d":"2.45"}},1.551178058738822,{"$f":"(B811-B810)/Sheet2!$G$5","v":11.059686567180178}]
[{"$f":"A810+Sheet2!G$5","v":{"v":2.4575424575424933,"d":"2.46"}},1.6395671621728294,{"$f":"(B812-B811)/Sheet2!$G$5","v":11.17753076094816}]
[{"$f":"A811+Sheet2!G$5","v":{"v":2.4655344655345015,"d":"2.47"}},1.7288980773452423,{"$f":"(B813-B812)/Sheet2!$G$5","v":11.295758187866351}]
[{"$f":"A812+Sheet2!G$5","v":{"v":2.4735264735265097,"d":"2.47"}},1.8191738670584598,{"$f":"(B814-B813)/Sheet2!$G$5","v":11.414368847936082}]
[{"$f":"A813+Sheet2!G$5","v":{"v":2.481518481518518,"d":"2.48"}},1.910397594114892,{"$f":"(B815-B814)/Sheet2!$G$5","v":11.533362741155798}]
[{"$f":"A814+Sheet2!G$5","v":{"v":2.489510489510526,"d":"2.49"}},2.0025723213169364,{"$f":"(B816-B815)/Sheet2!$G$5","v":11.652739867525943}]
[{"$f":"A815+Sheet2!G$5","v":{"v":2.497502497502534,"d":"2.50"}},2.095701111466994,{"$f":"(B817-B816)/Sheet2!$G$5","v":11.772500227046518}]
[{"$f":"A816+Sheet2!G$5","v":{"v":2.5054945054945423,"d":"2.51"}},2.1897870273674656,{"$f":"(B818-B817)/Sheet2!$G$5","v":11.892643819717742}]
[{"$f":"A817+Sheet2!G$5","v":{"v":2.5134865134865505,"d":"2.51"}},2.284833131820754,{"$f":"(B819-B818)/Sheet2!$G$5","v":12.013170645539175}]
[{"$f":"A818+Sheet2!G$5","v":{"v":2.5214785214785587,"d":"2.52"}},2.380842487629259,{"$f":"(B820-B819)/Sheet2!$G$5","v":12.13408070451037}]
[{"$f":"A819+Sheet2!G$5","v":{"v":2.529470529470567,"d":"2.53"}},2.477818157595376,{"$f":"(B821-B820)/Sheet2!$G$5","v":12.255373996633994}]
[{"$f":"A820+Sheet2!G$5","v":{"v":2.537462537462575,"d":"2.54"}},2.5757632045215217,{"$f":"(B822-B821)/Sheet2!$G$5","v":12.377050521906492}]
[{"$f":"A821+Sheet2!G$5","v":{"v":2.545454545454583,"d":"2.55"}},2.674680691210085,{"$f":"(B823-B822)/Sheet2!$G$5","v":12.499110280329642}]
[{"$f":"A822+Sheet2!G$5","v":{"v":2.5534465534465913,"d":"2.55"}},2.774573680463469,{"$f":"(B824-B823)/Sheet2!$G$5","v":12.62155327190433}]
[{"$f":"A823+Sheet2!G$5","v":{"v":2.5614385614385995,"d":"2.56"}},2.875445235084083,{"$f":"(B825-B824)/Sheet2!$G$5","v":12.744379496627895}]
[{"$f":"A824+Sheet2!G$5","v":{"v":2.5694305694306077,"d":"2.57"}},2.977298417874316,{"$f":"(B826-B825)/Sheet2!$G$5","v":12.867588954502999}]
[{"$f":"A825+Sheet2!G$5","v":{"v":2.577422577422616,"d":"2.58"}},3.0801362916365775,{"$f":"(B827-B826)/Sheet2!$G$5","v":12.99118164552831}]
[{"$f":"A826+Sheet2!G$5","v":{"v":2.585414585414624,"d":"2.59"}},3.1839619191732673,{"$f":"(B828-B827)/Sheet2!$G$5","v":13.115157569703827}]
[{"$f":"A827+Sheet2!G$5","v":{"v":2.593406593406632,"d":"2.59"}},3.2887783632867844,{"$f":"(B829-B828)/Sheet2!$G$5","v":13.239516727029995}]
[{"$f":"A828+Sheet2!G$5","v":{"v":2.6013986013986403,"d":"2.60"}},3.3945886867795316,{"$f":"(B830-B829)/Sheet2!$G$5","v":13.364259117506815}]
[{"$f":"A829+Sheet2!G$5","v":{"v":2.6093906093906485,"d":"2.61"}},3.5013959524539118,{"$f":"(B831-B830)/Sheet2!$G$5","v":13.489384741133843}]
[{"$f":"A830+Sheet2!G$5","v":{"v":2.6173826173826567,"d":"2.62"}},3.609203223112324,{"$f":"(B832-B831)/Sheet2!$G$5","v":13.614893597911523}]
[{"$f":"A831+Sheet2!G$5","v":{"v":2.625374625374665,"d":"2.63"}},3.7180135615571714,{"$f":"(B833-B832)/Sheet2!$G$5","v":13.740785687839853}]
[{"$f":"A832+Sheet2!G$5","v":{"v":2.633366633366673,"d":"2.63"}},3.8278300305908566,{"$f":"(B834-B833)/Sheet2!$G$5","v":13.867061010917945}]
[{"$f":"A833+Sheet2!G$5","v":{"v":2.641358641358681,"d":"2.64"}},3.9386556930157752,{"$f":"(B835-B834)/Sheet2!$G$5","v":13.993719567147135}]
[{"$f":"A834+Sheet2!G$5","v":{"v":2.6493506493506893,"d":"2.65"}},{"$f":"x^3-7*x+4","v":4.050493611634334},{"$f":"(B836-B835)/Sheet2!$G$5","v":14.120761356526087}]
[{"$f":"A835+Sheet2!G$5","v":{"v":2.6573426573426975,"d":"2.66"}},4.163346849248928,{"$f":"(B837-B836)/Sheet2!$G$5","v":14.248186379056579}]
[{"$f":"A836+Sheet2!G$5","v":{"v":2.6653346653347056,"d":"2.67"}},4.277218468661967,{"$f":"(B838-B837)/Sheet2!$G$5","v":14.375994634736832}]
[{"$f":"A837+Sheet2!G$5","v":{"v":2.673326673326714,"d":"2.67"}},4.392111532675848,{"$f":"(B839-B838)/Sheet2!$G$5","v":14.504186123567738}]
[{"$f":"A838+Sheet2!G$5","v":{"v":2.681318681318722,"d":"2.68"}},4.508029104092973,{"$f":"(B840-B839)/Sheet2!$G$5","v":14.63276084554885}]
[{"$f":"A839+Sheet2!G$5","v":{"v":2.68931068931073,"d":"2.69"}},4.624974245715741,{"$f":"(B841-B840)/Sheet2!$G$5","v":14.76171880068106}]
[{"$f":"A840+Sheet2!G$5","v":{"v":2.6973026973027383,"d":"2.70"}},4.742950020346559,{"$f":"(B842-B841)/Sheet2!$G$5","v":14.891059988963475}]
[{"$f":"A841+Sheet2!G$5","v":{"v":2.7052947052947465,"d":"2.71"}},4.861959490787825,{"$f":"(B843-B842)/Sheet2!$G$5","v":15.020784410395652}]
[{"$f":"A842+Sheet2!G$5","v":{"v":2.7132867132867546,"d":"2.71"}},4.982005719841936,{"$f":"(B844-B843)/Sheet2!$G$5","v":15.150892064978926}]
[{"$f":"A843+Sheet2!G$5","v":{"v":2.721278721278763,"d":"2.72"}},5.103091770311298,{"$f":"(B845-B844)/Sheet2!$G$5","v":15.281382952712407}]
[{"$f":"A844+Sheet2!G$5","v":{"v":2.729270729270771,"d":"2.73"}},5.225220704998311,{"$f":"(B846-B845)/Sheet2!$G$5","v":15.41225707359654}]
[{"$f":"A845+Sheet2!G$5","v":{"v":2.737262737262779,"d":"2.74"}},5.348395586705376,{"$f":"(B847-B846)/Sheet2!$G$5","v":15.543514427631768}]
[{"$f":"A846+Sheet2!G$5","v":{"v":2.7452547452547873,"d":"2.75"}},5.4726194782349005,{"$f":"(B848-B847)/Sheet2!$G$5","v":15.675155014816315}]
[{"$f":"A847+Sheet2!G$5","v":{"v":2.7532467532467955,"d":"2.75"}},5.597895442389277,{"$f":"(B849-B848)/Sheet2!$G$5","v":15.807178835151957}]
[{"$f":"A848+Sheet2!G$5","v":{"v":2.7612387612388036,"d":"2.76"}},5.724226541970911,{"$f":"(B850-B849)/Sheet2!$G$5","v":15.939585888637806}]
[{"$f":"A849+Sheet2!G$5","v":{"v":2.769230769230812,"d":"2.77"}},5.851615839782202,{"$f":"(B851-B850)/Sheet2!$G$5","v":16.072376175274307}]
[{"$f":"A850+Sheet2!G$5","v":{"v":2.77722277722282,"d":"2.78"}},5.980066398625553,{"$f":"(B852-B851)/Sheet2!$G$5","v":16.205549695061016}]
[{"$f":"A851+Sheet2!G$5","v":{"v":2.785214785214828,"d":"2.79"}},6.109581281303363,{"$f":"(B853-B852)/Sheet2!$G$5","v":16.339106447998375}]
[{"$f":"A852+Sheet2!G$5","v":{"v":2.7932067932068363,"d":"2.79"}},6.2401635506180355,{"$f":"(B854-B853)/Sheet2!$G$5","v":16.47304643408683}]
[{"$f":"A853+Sheet2!G$5","v":{"v":2.8011988011988445,"d":"2.80"}},6.371816269371976,{"$f":"(B855-B854)/Sheet2!$G$5","v":16.607369653325048}]
[{"$f":"A854+Sheet2!G$5","v":{"v":2.8091908091908526,"d":"2.81"}},6.504542500367581,{"$f":"(B856-B855)/Sheet2!$G$5","v":16.742076105713473}]
[{"$f":"A855+Sheet2!G$5","v":{"v":2.817182817182861,"d":"2.82"}},6.638345306407249,{"$f":"(B857-B856)/Sheet2!$G$5","v":16.877165791252548}]
[{"$f":"A856+Sheet2!G$5","v":{"v":2.825174825174869,"d":"2.83"}},6.773227750293383,{"$f":"(B858-B857)/Sheet2!$G$5","v":17.01263870994272}]
[{"$f":"A857+Sheet2!G$5","v":{"v":2.833166833166877,"d":"2.83"}},6.90919289482839,{"$f":"(B859-B858)/Sheet2!$G$5","v":17.1484948617831}]
[{"$f":"A858+Sheet2!G$5","v":{"v":2.8411588411588853,"d":"2.84"}},7.0462438028146686,{"$f":"(B860-B859)/Sheet2!$G$5","v":17.284734246772796}]
[{"$f":"A859+Sheet2!G$5","v":{"v":2.8491508491508934,"d":"2.85"}},7.184383537054611,{"$f":"(B861-B860)/Sheet2!$G$5","v":17.421356864914475}]
[{"$f":"A860+Sheet2!G$5","v":{"v":2.8571428571429016,"d":"2.86"}},7.323615160350631,{"$f":"(B862-B861)/Sheet2!$G$5","v":17.55836271620592}]
[{"$f":"A861+Sheet2!G$5","v":{"v":2.86513486513491,"d":"2.87"}},7.463941735505124,{"$f":"(B863-B862)/Sheet2!$G$5","v":17.695751800648015}]
[{"$f":"A862+Sheet2!G$5","v":{"v":2.873126873126918,"d":"2.87"}},7.605366325320492,{"$f":"(B864-B863)/Sheet2!$G$5","v":17.833524118240764}]
[{"$f":"A863+Sheet2!G$5","v":{"v":2.881118881118926,"d":"2.88"}},7.74789199259914,{"$f":"(B865-B864)/Sheet2!$G$5","v":17.971679668983718}]
[{"$f":"A864+Sheet2!G$5","v":{"v":2.8891108891109343,"d":"2.89"}},7.891521800143465,{"$f":"(B866-B865)/Sheet2!$G$5","v":18.11021845287688}]
[{"$f":"A865+Sheet2!G$5","v":{"v":2.8971028971029424,"d":"2.90"}},8.036258810755868,{"$f":"(B867-B866)/Sheet2!$G$5","v":18.249140469921137}]
[{"$f":"A866+Sheet2!G$5","v":{"v":2.9050949050949506,"d":"2.91"}},8.182106087238754,{"$f":"(B868-B867)/Sheet2!$G$5","v":18.388445720115154}]
[{"$f":"A867+Sheet2!G$5","v":{"v":2.9130869130869588,"d":"2.91"}},8.32906669239452,{"$f":"(B869-B868)/Sheet2!$G$5","v":18.52813420345938}]
[{"$f":"A868+Sheet2!G$5","v":{"v":2.921078921078967,"d":"2.92"}},8.477143689025564,{"$f":"(B870-B869)/Sheet2!$G$5","v":18.668205919956037}]
[{"$f":"A869+Sheet2!G$5","v":{"v":2.929070929070975,"d":"2.93"}},8.626340139934303,{"$f":"(B871-B870)/Sheet2!$G$5","v":18.808660869601123}]
[{"$f":"A870+Sheet2!G$5","v":{"v":2.9370629370629833,"d":"2.94"}},8.776659107923123,{"$f":"(B872-B871)/Sheet2!$G$5","v":18.949499052397304}]
[{"$f":"A871+Sheet2!G$5","v":{"v":2.9450549450549914,"d":"2.95"}},8.92810365579443,{"$f":"(B873-B872)/Sheet2!$G$5","v":19.090720468344138}]
[{"$f":"A872+Sheet2!G$5","v":{"v":2.9530469530469996,"d":"2.95"}},9.080676846350627,{"$f":"(B874-B873)/Sheet2!$G$5","v":19.232325117441174}]
[{"$f":"A873+Sheet2!G$5","v":{"v":2.9610389610390078,"d":"2.96"}},9.234381742394113,{"$f":"(B875-B874)/Sheet2!$G$5","v":19.374312999689312}]
[{"$f":"A874+Sheet2!G$5","v":{"v":2.969030969031016,"d":"2.97"}},9.389221406727295,{"$f":"(B876-B875)/Sheet2!$G$5","v":19.516684115086765}]
[{"$f":"A875+Sheet2!G$5","v":{"v":2.977022977023024,"d":"2.98"}},9.545198902152563,{"$f":"(B877-B876)/Sheet2!$G$5","v":19.659438463635315}]
[{"$f":"A876+Sheet2!G$5","v":{"v":2.9850149850150323,"d":"2.99"}},9.702317291472326,{"$f":"(B878-B877)/Sheet2!$G$5","v":19.802576045334515}]
[{"$f":"A877+Sheet2!G$5","v":{"v":2.9930069930070404,"d":"2.99"}},9.860579637488986,{"$f":"(B879-B878)/Sheet2!$G$5","v":19.946096860184365}]
[{"$f":"A878+Sheet2!G$5","v":{"v":3.0009990009990486,"d":"3.00"}},10.019989003004945,{"$f":"(B880-B879)/Sheet2!$G$5","v":20.09000090818398}]
[{"$f":"A879+Sheet2!G$5","v":{"v":3.0089910089910568,"d":"3.01"}},10.180548450822599,{"$f":"(B881-B880)/Sheet2!$G$5","v":20.23428818933469}]
[{"$f":"A880+Sheet2!G$5","v":{"v":3.016983016983065,"d":"3.02"}},10.342261043744355,{"$f":"(B882-B881)/Sheet2!$G$5","v":20.37895870363472}]
[{"$f":"A881+Sheet2!G$5","v":{"v":3.024975024975073,"d":"3.02"}},10.505129844572604,{"$f":"(B883-B882)/Sheet2!$G$5","v":20.524012451087177}]
[{"$f":"A882+Sheet2!G$5","v":{"v":3.0329670329670813,"d":"3.03"}},10.669157916109764,{"$f":"(B884-B883)/Sheet2!$G$5","v":20.669449431688065}]
[{"$f":"A883+Sheet2!G$5","v":{"v":3.0409590409590894,"d":"3.04"}},10.83434832115822,{"$f":"(B885-B884)/Sheet2!$G$5","v":20.815269645440935}]
[{"$f":"A884+Sheet2!G$5","v":{"v":3.0489510489510976,"d":"3.05"}},11.000704122520386,{"$f":"(B886-B885)/Sheet2!$G$5","v":20.96147309234357}]
[{"$f":"A885+Sheet2!G$5","v":{"v":3.0569430569431058,"d":"3.06"}},11.168228382998656,{"$f":"(B887-B886)/Sheet2!$G$5","v":21.108059772396413}]
[{"$f":"A886+Sheet2!G$5","v":{"v":3.064935064935114,"d":"3.06"}},11.33692416539543,{"$f":"(B888-B887)/Sheet2!$G$5","v":21.255029685601237}]
[{"$f":"A887+Sheet2!G$5","v":{"v":3.072927072927122,"d":"3.07"}},11.506794532513123,{"$f":"(B889-B888)/Sheet2!$G$5","v":21.402382831954494}]
[{"$f":"A888+Sheet2!G$5","v":{"v":3.0809190809191302,"d":"3.08"}},11.677842547154118,{"$f":"(B890-B889)/Sheet2!$G$5","v":21.55011921145929}]
[{"$f":"A889+Sheet2!G$5","v":{"v":3.0889110889111384,"d":"3.09"}},11.850071272120825,{"$f":"(B891-B890)/Sheet2!$G$5","v":21.69823882411429}]
[{"$f":"A890+Sheet2!G$5","v":{"v":3.0969030969031466,"d":"3.10"}},12.023483770215645,{"$f":"(B892-B891)/Sheet2!$G$5","v":21.84674166992039}]
[{"$f":"A891+Sheet2!G$5","v":{"v":3.1048951048951547,"d":"3.10"}},12.198083104240983,{"$f":"(B893-B892)/Sheet2!$G$5","v":21.99562774887536}]
[{"$f":"A892+Sheet2!G$5","v":{"v":3.112887112887163,"d":"3.11"}},12.373872336999227,{"$f":"(B894-B893)/Sheet2!$G$5","v":22.14489706098232}]
[{"$f":"A893+Sheet2!G$5","v":{"v":3.120879120879171,"d":"3.12"}},12.550854531292792,{"$f":"(B895-B894)/Sheet2!$G$5","v":22.294549606239038}]
[{"$f":"A894+Sheet2!G$5","v":{"v":3.1288711288711792,"d":"3.13"}},12.729032749924073,{"$f":"(B896-B895)/Sheet2!$G$5","v":22.444585384647297}]
[{"$f":"A895+Sheet2!G$5","v":{"v":3.1368631368631874,"d":"3.14"}},12.90841005569548,{"$f":"(B897-B896)/Sheet2!$G$5","v":22.59500439620443}]
[{"$f":"A896+Sheet2!G$5","v":{"v":3.1448551448551956,"d":"3.14"}},13.088989511409402,{"$f":"(B898-B897)/Sheet2!$G$5","v":22.745806640913106}]
[{"$f":"A897+Sheet2!G$5","v":{"v":3.1528471528472037,"d":"3.15"}},13.270774179868248,{"$f":"(B899-B898)/Sheet2!$G$5","v":22.896992118771987}]
[{"$f":"A898+Sheet2!G$5","v":{"v":3.160839160839212,"d":"3.16"}},{"$f":"x^3-7*x+4","v":13.453767123874417},{"$f":"(B900-B899)/Sheet2!$G$5","v":23.04856082978063}]
[{"$f":"A899+Sheet2!G$5","v":{"v":3.16883116883122,"d":"3.17"}},13.637971406230307,{"$f":"(B901-B900)/Sheet2!$G$5","v":23.200512773940368}]
[{"$f":"A900+Sheet2!G$5","v":{"v":3.1768231768232282,"d":"3.18"}},13.823390089738322,{"$f":"(B902-B901)/Sheet2!$G$5","v":23.352847951251203}]
[{"$f":"A901+Sheet2!G$5","v":{"v":3.1848151848152364,"d":"3.18"}},14.010026237200869,{"$f":"(B903-B902)/Sheet2!$G$5","v":23.505566361712248}]
[{"$f":"A902+Sheet2!G$5","v":{"v":3.1928071928072446,"d":"3.19"}},14.197882911420347,{"$f":"(B904-B903)/Sheet2!$G$5","v":23.658668005322607}]
[{"$f":"A903+Sheet2!G$5","v":{"v":3.2007992007992527,"d":"3.20"}},14.38696317519915,{"$f":"(B905-B904)/Sheet2!$G$5","v":23.812152882084952}]
[{"$f":"A904+Sheet2!G$5","v":{"v":3.208791208791261,"d":"3.21"}},14.577270091339688,{"$f":"(B906-B905)/Sheet2!$G$5","v":23.966020991996615}]
[{"$f":"A905+Sheet2!G$5","v":{"v":3.216783216783269,"d":"3.22"}},14.768806722644356,{"$f":"(B907-B906)/Sheet2!$G$5","v":24.120272335058484}]
[{"$f":"A906+Sheet2!G$5","v":{"v":3.2247752247752772,"d":"3.22"}},14.961576131915553,{"$f":"(B908-B907)/Sheet2!$G$5","v":24.274906911273227}]
[{"$f":"A907+Sheet2!G$5","v":{"v":3.2327672327672854,"d":"3.23"}},15.155581381955699,{"$f":"(B909-B908)/Sheet2!$G$5","v":24.42992472063418}]
[{"$f":"A908+Sheet2!G$5","v":{"v":3.2407592407592936,"d":"3.24"}},15.35082553556716,{"$f":"(B910-B909)/Sheet2!$G$5","v":24.585325763149783}]
[{"$f":"A909+Sheet2!G$5","v":{"v":3.2487512487513017,"d":"3.25"}},15.547311655552374,{"$f":"(B911-B910)/Sheet2!$G$5","v":24.741110038814256}]
[{"$f":"A910+Sheet2!G$5","v":{"v":3.25674325674331,"d":"3.26"}},15.745042804713727,{"$f":"(B912-B911)/Sheet2!$G$5","v":24.89727754762894}]
[{"$f":"A911+Sheet2!G$5","v":{"v":3.264735264735318,"d":"3.26"}},15.944022045853618,{"$f":"(B913-B912)/Sheet2!$G$5","v":25.05382828959383}]
[{"$f":"A912+Sheet2!G$5","v":{"v":3.272727272727326,"d":"3.27"}},16.144252441774448,{"$f":"(B914-B913)/Sheet2!$G$5","v":25.210762264709814}]
[{"$f":"A913+Sheet2!G$5","v":{"v":3.2807192807193344,"d":"3.28"}},16.345737055278622,{"$f":"(B915-B914)/Sheet2!$G$5","v":25.368079472976007}]
[{"$f":"A914+Sheet2!G$5","v":{"v":3.2887112887113426,"d":"3.29"}},16.54847894916854,{"$f":"(B916-B915)/Sheet2!$G$5","v":25.525779914392853}]
[{"$f":"A915+Sheet2!G$5","v":{"v":3.2967032967033507,"d":"3.30"}},16.752481186246605,{"$f":"(B917-B916)/Sheet2!$G$5","v":25.683863588960794}]
[{"$f":"A916+Sheet2!G$5","v":{"v":3.304695304695359,"d":"3.30"}},16.957746829315223,{"$f":"(B918-B917)/Sheet2!$G$5","v":25.842330496677604}]
[{"$f":"A917+Sheet2!G$5","v":{"v":3.312687312687367,"d":"3.31"}},17.164278941176782,{"$f":"(B919-B918)/Sheet2!$G$5","v":26.001180637545517}]
[{"$f":"A918+Sheet2!G$5","v":{"v":3.320679320679375,"d":"3.32"}},17.37208058463369,{"$f":"(B920-B919)/Sheet2!$G$5","v":26.16041401156452}]
[{"$f":"A919+Sheet2!G$5","v":{"v":3.3286713286713834,"d":"3.33"}},17.58115482248835,{"$f":"(B921-B920)/Sheet2!$G$5","v":26.320030618733732}]
[{"$f":"A920+Sheet2!G$5","v":{"v":3.3366633366633915,"d":"3.34"}},17.791504717543166,{"$f":"(B922-B921)/Sheet2!$G$5","v":26.480030459053154}]
[{"$f":"A921+Sheet2!G$5","v":{"v":3.3446553446553997,"d":"3.34"}},18.003133332600534,{"$f":"(B923-B922)/Sheet2!$G$5","v":26.640413532523667}]
[{"$f":"A922+Sheet2!G$5","v":{"v":3.352647352647408,"d":"3.35"}},18.21604373046286,{"$f":"(B924-B923)/Sheet2!$G$5","v":26.8011798391435}]
[{"$f":"A923+Sheet2!G$5","v":{"v":3.360639360639416,"d":"3.36"}},18.43023897393254,{"$f":"(B925-B924)/Sheet2!$G$5","v":26.962329378913985}]
[{"$f":"A924+Sheet2!G$5","v":{"v":3.368631368631424,"d":"3.37"}},18.64572212581197,{"$f":"(B926-B925)/Sheet2!$G$5","v":27.123862151835567}]
[{"$f":"A925+Sheet2!G$5","v":{"v":3.3766233766234324,"d":"3.38"}},18.862496248903565,{"$f":"(B927-B926)/Sheet2!$G$5","v":27.2857781579078}]
[{"$f":"A926+Sheet2!G$5","v":{"v":3.3846153846154405,"d":"3.38"}},19.08056440600972,{"$f":"(B928-B927)/Sheet2!$G$5","v":27.448077397130238}]
[{"$f":"A927+Sheet2!G$5","v":{"v":3.3926073926074487,"d":"3.39"}},19.29992965993284,{"$f":"(B929-B928)/Sheet2!$G$5","v":27.610759869502886}]
[{"$f":"A928+Sheet2!G$5","v":{"v":3.400599400599457,"d":"3.40"}},19.52059507347532,{"$f":"(B930-B929)/Sheet2!$G$5","v":27.773825575025736}]
[{"$f":"A929+Sheet2!G$5","v":{"v":3.408591408591465,"d":"3.41"}},19.742563709439562,{"$f":"(B931-B930)/Sheet2!$G$5","v":27.937274513700576}]
[{"$f":"A930+Sheet2!G$5","v":{"v":3.416583416583473,"d":"3.42"}},19.965838630627978,{"$f":"(B932-B931)/Sheet2!$G$5","v":28.101106685524286}]
[{"$f":"A931+Sheet2!G$5","v":{"v":3.4245754245754814,"d":"3.42"}},20.190422899842957,{"$f":"(B933-B932)/Sheet2!$G$5","v":28.265322090498206}]
[{"$f":"A932+Sheet2!G$5","v":{"v":3.4325674325674895,"d":"3.43"}},20.4163195798869,{"$f":"(B934-B933)/Sheet2!$G$5","v":28.429920728623664}]
[{"$f":"A933+Sheet2!G$5","v":{"v":3.4405594405594977,"d":"3.44"}},20.643531733562213,{"$f":"(B935-B934)/Sheet2!$G$5","v":28.59490259989933}]
[{"$f":"A934+Sheet2!G$5","v":{"v":3.448551448551506,"d":"3.45"}},20.8720624236713,{"$f":"(B936-B935)/Sheet2!$G$5","v":28.7602677043252}]
[{"$f":"A935+Sheet2!G$5","v":{"v":3.456543456543514,"d":"3.46"}},21.101914713016555,{"$f":"(B937-B936)/Sheet2!$G$5","v":28.926016041902173}]
[{"$f":"A936+Sheet2!G$5","v":{"v":3.464535464535522,"d":"3.46"}},21.33309166440039,{"$f":"(B938-B937)/Sheet2!$G$5","v":29.092147612629347}]
[{"$f":"A937+Sheet2!G$5","v":{"v":3.4725274725275304,"d":"3.47"}},21.5655963406252,{"$f":"(B939-B938)/Sheet2!$G$5","v":29.25866241650673}]
[{"$f":"A938+Sheet2!G$5","v":{"v":3.4805194805195385,"d":"3.48"}},21.799431804493384,{"$f":"(B940-B939)/Sheet2!$G$5","v":29.42556045353432}]
[{"$f":"A939+Sheet2!G$5","v":{"v":3.4885114885115467,"d":"3.49"}},22.034601118807345,{"$f":"(B941-B940)/Sheet2!$G$5","v":29.592841723711672}]
[{"$f":"A940+Sheet2!G$5","v":{"v":3.496503496503555,"d":"3.50"}},22.271107346369476,{"$f":"(B942-B941)/Sheet2!$G$5","v":29.760506227041898}]
[{"$f":"A941+Sheet2!G$5","v":{"v":3.504495504495563,"d":"3.50"}},22.5089535499822,{"$f":"(B943-B942)/Sheet2!$G$5","v":29.928553963521885}]
[{"$f":"A942+Sheet2!G$5","v":{"v":3.512487512487571,"d":"3.51"}},22.748142792447908,{"$f":"(B944-B943)/Sheet2!$G$5","v":30.096984933150303}]
[{"$f":"A943+Sheet2!G$5","v":{"v":3.5204795204795793,"d":"3.52"}},22.98867813656899,{"$f":"(B945-B944)/Sheet2!$G$5","v":30.265799135930706}]
[{"$f":"A944+Sheet2!G$5","v":{"v":3.5284715284715875,"d":"3.53"}},23.230562645147856,{"$f":"(B946-B945)/Sheet2!$G$5","v":30.434996571862204}]
[{"$f":"A945+Sheet2!G$5","v":{"v":3.5364635364635957,"d":"3.54"}},23.473799380986915,{"$f":"(B947-B946)/Sheet2!$G$5","v":30.60457724094213}]
[{"$f":"A946+Sheet2!G$5","v":{"v":3.544455544455604,"d":"3.54"}},23.71839140688855,{"$f":"(B948-B947)/Sheet2!$G$5","v":30.7745411431736}]
[{"$f":"A947+Sheet2!G$5","v":{"v":3.552447552447612,"d":"3.55"}},23.964341785655172,{"$f":"(B949-B948)/Sheet2!$G$5","v":30.944888278557052}]
[{"$f":"A948+Sheet2!G$5","v":{"v":3.56043956043962,"d":"3.56"}},24.211653580089195,{"$f":"(B950-B949)/Sheet2!$G$5","v":31.11561864708938}]
[{"$f":"A949+Sheet2!G$5","v":{"v":3.5684315684316283,"d":"3.57"}},24.460329852993006,{"$f":"(B951-B950)/Sheet2!$G$5","v":31.286732248771912}]
[{"$f":"A950+Sheet2!G$5","v":{"v":3.5764235764236365,"d":"3.58"}},24.710373667169005,{"$f":"(B952-B951)/Sheet2!$G$5","v":31.45822908360554}]
[{"$f":"A951+Sheet2!G$5","v":{"v":3.5844155844156447,"d":"3.58"}},24.9617880854196,{"$f":"(B953-B952)/Sheet2!$G$5","v":31.63010915159027}]
[{"$f":"A952+Sheet2!G$5","v":{"v":3.592407592407653,"d":"3.59"}},25.214576170547193,{"$f":"(B954-B953)/Sheet2!$G$5","v":31.80237245272431}]
[{"$f":"A953+Sheet2!G$5","v":{"v":3.600399600399661,"d":"3.60"}},25.46874098535418,{"$f":"(B955-B954)/Sheet2!$G$5","v":31.97501898700856}]
[{"$f":"A954+Sheet2!G$5","v":{"v":3.608391608391669,"d":"3.61"}},25.72428559264296,{"$f":"(B956-B955)/Sheet2!$G$5","v":32.148048754444794}]
[{"$f":"A955+Sheet2!G$5","v":{"v":3.6163836163836773,"d":"3.62"}},25.981213055215946,{"$f":"(B957-B956)/Sheet2!$G$5","v":32.3214617550299}]
[{"$f":"A956+Sheet2!G$5","v":{"v":3.6243756243756855,"d":"3.62"}},26.239526435875526,{"$f":"(B958-B957)/Sheet2!$G$5","v":32.495257988766994}]
[{"$f":"A957+Sheet2!G$5","v":{"v":3.6323676323676937,"d":"3.63"}},26.499228797424113,{"$f":"(B959-B958)/Sheet2!$G$5","v":32.66943745565296}]
[{"$f":"A958+Sheet2!G$5","v":{"v":3.640359640359702,"d":"3.64"}},26.760323202664097,{"$f":"(B960-B959)/Sheet2!$G$5","v":32.844000155690914}]
[{"$f":"A959+Sheet2!G$5","v":{"v":3.64835164835171,"d":"3.65"}},27.02281271439789,{"$f":"(B961-B960)/Sheet2!$G$5","v":33.01894608887819}]
[{"$f":"A960+Sheet2!G$5","v":{"v":3.656343656343718,"d":"3.66"}},27.286700395427886,{"$f":"(B962-B961)/Sheet2!$G$5","v":33.194275255215665}]
[{"$f":"A961+Sheet2!G$5","v":{"v":3.6643356643357263,"d":"3.66"}},27.551989308556482,{"$f":"(B963-B962)/Sheet2!$G$5","v":33.369987654706016}]
[{"$f":"A962+Sheet2!G$5","v":{"v":3.6723276723277345,"d":"3.67"}},{"$f":"x^3-7*x+4","v":27.8186825165861},{"$f":"(B964-B963)/Sheet2!$G$5","v":33.54608328734346}]
[{"$f":"A963+Sheet2!G$5","v":{"v":3.6803196803197427,"d":"3.68"}},28.086783082319116,{"$f":"(B965-B964)/Sheet2!$G$5","v":33.72256215313378}]
[{"$f":"A964+Sheet2!G$5","v":{"v":3.688311688311751,"d":"3.69"}},28.356294068557947,{"$f":"(B966-B965)/Sheet2!$G$5","v":33.899424252073864}]
[{"$f":"A965+Sheet2!G$5","v":{"v":3.696303696303759,"d":"3.70"}},28.62721853810499,{"$f":"(B967-B966)/Sheet2!$G$5","v":34.07666958416415}]
[{"$f":"A966+Sheet2!G$5","v":{"v":3.704295704295767,"d":"3.70"}},28.899559553762646,{"$f":"(B968-B967)/Sheet2!$G$5","v":34.25429814940465}]
[{"$f":"A967+Sheet2!G$5","v":{"v":3.7122877122877753,"d":"3.71"}},29.173320178333313,{"$f":"(B969-B968)/Sheet2!$G$5","v":34.43230994779713}]
[{"$f":"A968+Sheet2!G$5","v":{"v":3.7202797202797835,"d":"3.72"}},29.448503474619404,{"$f":"(B970-B969)/Sheet2!$G$5","v":34.61070497933893}]
[{"$f":"A969+Sheet2!G$5","v":{"v":3.7282717282717917,"d":"3.73"}},29.72511250542331,{"$f":"(B971-B970)/Sheet2!$G$5","v":34.78948324403093}]
[{"$f":"A970+Sheet2!G$5","v":{"v":3.7362637362638,"d":"3.74"}},30.003150333547435,{"$f":"(B972-B971)/Sheet2!$G$5","v":34.96864474187404}]
[{"$f":"A971+Sheet2!G$5","v":{"v":3.744255744255808,"d":"3.74"}},30.28262002179418,{"$f":"(B973-B972)/Sheet2!$G$5","v":35.148189472866015}]
[{"$f":"A972+Sheet2!G$5","v":{"v":3.752247752247816,"d":"3.75"}},30.563524632965937,{"$f":"(B974-B973)/Sheet2!$G$5","v":35.32811743700997}]
[{"$f":"A973+Sheet2!G$5","v":{"v":3.7602397602398243,"d":"3.76"}},30.845867229865117,{"$f":"(B975-B974)/Sheet2!$G$5","v":35.508428634305474}]
[{"$f":"A974+Sheet2!G$5","v":{"v":3.7682317682318325,"d":"3.77"}},31.129650875294132,{"$f":"(B976-B975)/Sheet2!$G$5","v":35.6891230647503}]
[{"$f":"A975+Sheet2!G$5","v":{"v":3.7762237762238406,"d":"3.78"}},31.414878632055373,{"$f":"(B977-B976)/Sheet2!$G$5","v":35.870200728345324}]
[{"$f":"A976+Sheet2!G$5","v":{"v":3.784215784215849,"d":"3.78"}},31.70155356295124,{"$f":"(B978-B977)/Sheet2!$G$5","v":36.051661625089665}]
[{"$f":"A977+Sheet2!G$5","v":{"v":3.792207792207857,"d":"3.79"}},31.989678730784124,{"$f":"(B979-B978)/Sheet2!$G$5","v":36.233505754986886}]
[{"$f":"A978+Sheet2!G$5","v":{"v":3.800199800199865,"d":"3.80"}},32.27925719835645,{"$f":"(B980-B979)/Sheet2!$G$5","v":36.415733118032975}]
[{"$f":"A979+Sheet2!G$5","v":{"v":3.8081918081918733,"d":"3.81"}},32.5702920284706,{"$f":"(B981-B980)/Sheet2!$G$5","v":36.59834371422883}]
[{"$f":"A980+Sheet2!G$5","v":{"v":3.8161838161838815,"d":"3.82"}},32.86278628392897,{"$f":"(B982-B981)/Sheet2!$G$5","v":36.781337543578445}]
[{"$f":"A981+Sheet2!G$5","v":{"v":3.8241758241758896,"d":"3.82"}},33.15674302753399,{"$f":"(B983-B982)/Sheet2!$G$5","v":36.96471460607649}]
[{"$f":"A982+Sheet2!G$5","v":{"v":3.832167832167898,"d":"3.83"}},33.45216532208805,{"$f":"(B984-B983)/Sheet2!$G$5","v":37.14847490172297}]
[{"$f":"A983+Sheet2!G$5","v":{"v":3.840159840159906,"d":"3.84"}},33.74905623039353,{"$f":"(B985-B984)/Sheet2!$G$5","v":37.332618430523205}]
[{"$f":"A984+Sheet2!G$5","v":{"v":3.848151848151914,"d":"3.85"}},34.047418815252854,{"$f":"(B986-B985)/Sheet2!$G$5","v":37.51714519247187}]
[{"$f":"A985+Sheet2!G$5","v":{"v":3.8561438561439223,"d":"3.86"}},34.34725613946841,{"$f":"(B987-B986)/Sheet2!$G$5","v":37.702055187572526}]
[{"$f":"A986+Sheet2!G$5","v":{"v":3.8641358641359305,"d":"3.86"}},34.64857126584262,{"$f":"(B988-B987)/Sheet2!$G$5","v":37.887348415822494}]
[{"$f":"A987+Sheet2!G$5","v":{"v":3.8721278721279386,"d":"3.87"}},34.951367257177864,{"$f":"(B989-B988)/Sheet2!$G$5","v":38.07302487722267}]
[{"$f":"A988+Sheet2!G$5","v":{"v":3.880119880119947,"d":"3.88"}},35.25564717627655,{"$f":"(B990-B989)/Sheet2!$G$5","v":38.25908457177305}]
[{"$f":"A989+Sheet2!G$5","v":{"v":3.888111888111955,"d":"3.89"}},35.56141408594107,{"$f":"(B991-B990)/Sheet2!$G$5","v":38.4455274994772}]
[{"$f":"A990+Sheet2!G$5","v":{"v":3.896103896103963,"d":"3.90"}},35.86867104897385,{"$f":"(B992-B991)/Sheet2!$G$5","v":38.632353660328}]
[{"$f":"A991+Sheet2!G$5","v":{"v":3.9040959040959713,"d":"3.90"}},36.17742112817727,{"$f":"(B993-B992)/Sheet2!$G$5","v":38.81956305433078}]
[{"$f":"A992+Sheet2!G$5","v":{"v":3.9120879120879795,"d":"3.91"}},36.48766738635374,{"$f":"(B994-B993)/Sheet2!$G$5","v":39.00715568148377}]
[{"$f":"A993+Sheet2!G$5","v":{"v":3.9200799200799876,"d":"3.92"}},36.79941288630566,{"$f":"(B995-B994)/Sheet2!$G$5","v":39.19513154178697}]
[{"$f":"A994+Sheet2!G$5","v":{"v":3.928071928071996,"d":"3.93"}},37.112660690835426,{"$f":"(B996-B995)/Sheet2!$G$5","v":39.38349063524215}]
[{"$f":"A995+Sheet2!G$5","v":{"v":3.936063936064004,"d":"3.94"}},37.42741386274545,{"$f":"(B997-B996)/Sheet2!$G$5","v":39.57223296184487}]
[{"$f":"A996+Sheet2!G$5","v":{"v":3.944055944056012,"d":"3.94"}},37.74367546483812,{"$f":"(B998-B997)/Sheet2!$G$5","v":39.76135852160135}]
[{"$f":"A997+Sheet2!G$5","v":{"v":3.9520479520480203,"d":"3.95"}},38.06144855991585,{"$f":"(B999-B998)/Sheet2!$G$5","v":39.95086731450627}]
[{"$f":"A998+Sheet2!G$5","v":{"v":3.9600399600400285,"d":"3.96"}},38.38073621078104,{"$f":"(B1000-B999)/Sheet2!$G$5","v":40.140759340562276}]
[{"$f":"A999+Sheet2!G$5","v":{"v":3.9680319680320366,"d":"3.97"}},38.70154148023608,{"$f":"(B1001-B1000)/Sheet2!$G$5","v":40.331034599767605}]
[{"$f":"A1000+Sheet2!G$5","v":{"v":3.976023976024045,"d":"3.98"}},39.023867431083374,{"$f":"(B1002-B1001)/Sheet2!$G$5","v":40.52169309212581}]
[{"$f":"A1001+Sheet2!G$5","v":{"v":3.984015984016053,"d":"3.98"}},39.34771712612534,{"$f":"(B1003-B1002)/Sheet2!$G$5","v":40.712734817633326}]
[{"$f":"A1002+Sheet2!G$5","v":{"v":3.992007992008061,"d":"3.99"}},39.67309362816437,{"$f":"(B1004-B1003)/Sheet2!$G$5","v":-5531.0782562240665}]
[{"$f":"x0","v":-3.12},-4.531328000000002]
[{"$f":"x0+h","v":-2.8000000000000003},1.6479999999999961,null,{"$f":"(B1005-B1004)/h","v":19.310399999999994}]

{"sheet":"Sheet3","index":2,"n_rows":1003,"n_cols":2,"rows_kept":1003}
[{"$f":"xMin","v":-4},{"$f":"9","v":9}]
[{"$f":"A1+dx","v":-3.992007992007992},{"$f":"9","v":9}]
[-3.9840159840159837,{"$f":"9","v":9}]
[-3.9760239760239755,{"$f":"9","v":9}]
[-3.9680319680319673,{"$f":"9","v":9}]
[-3.960039960039959,{"$f":"9","v":9}]
[-3.952047952047951,{"$f":"9","v":9}]
[-3.944055944055943,{"$f":"9","v":9}]
[-3.9360639360639347,{"$f":"9","v":9}]
[-3.9280719280719265,{"$f":"9","v":9}]
[-3.9200799200799183,{"$f":"9","v":9}]
[-3.91208791208791,{"$f":"9","v":9}]
[-3.904095904095902,{"$f":"9","v":9}]
[-3.896103896103894,{"$f":"9","v":9}]
[-3.8881118881118857,{"$f":"9","v":9}]
[-3.8801198801198775,{"$f":"9","v":9}]
[-3.8721278721278694,{"$f":"9","v":9}]
[-3.864135864135861,{"$f":"9","v":9}]
[-3.856143856143853,{"$f":"9","v":9}]
[-3.848151848151845,{"$f":"9","v":9}]
[-3.8401598401598367,{"$f":"9","v":9}]
[-3.8321678321678285,{"$f":"9","v":9}]
[-3.8241758241758204,{"$f":"9","v":9}]
[-3.816183816183812,{"$f":"9","v":9}]
[-3.808191808191804,{"$f":"9","v":9}]
[-3.800199800199796,{"$f":"9","v":9}]
[-3.7922077922077877,{"$f":"9","v":9}]
[-3.7842157842157795,{"$f":"9","v":9}]
[-3.7762237762237714,{"$f":"9","v":9}]
[-3.768231768231763,{"$f":"9","v":9}]
[-3.760239760239755,{"$f":"9","v":9}]
[-3.752247752247747,{"$f":"9","v":9}]
[-3.7442557442557387,{"$f":"9","v":9}]
[-3.7362637362637305,{"$f":"9","v":9}]
[-3.7282717282717224,{"$f":"9","v":9}]
[-3.720279720279714,{"$f":"9","v":9}]
[-3.712287712287706,{"$f":"9","v":9}]
[-3.704295704295698,{"$f":"9","v":9}]
[-3.6963036963036897,{"$f":"9","v":9}]
[-3.6883116883116815,{"$f":"9","v":9}]
[-3.6803196803196734,{"$f":"9","v":9}]
[-3.672327672327665,{"$f":"9","v":9}]
[-3.664335664335657,{"$f":"9","v":9}]
[-3.656343656343649,{"$f":"9","v":9}]
[-3.6483516483516407,{"$f":"9","v":9}]
[-3.6403596403596326,{"$f":"9","v":9}]
[-3.6323676323676244,{"$f":"9","v":9}]
[-3.6243756243756162,{"$f":"9","v":9}]
[-3.616383616383608,{"$f":"9","v":9}]
[-3.6083916083916,{"$f":"9","v":9}]
[-3.6003996003995917,{"$f":"9","v":9}]
[-3.5924075924075836,{"$f":"9","v":9}]
[-3.5844155844155754,{"$f":"9","v":9}]
[-3.5764235764235672,{"$f":"9","v":9}]
[-3.568431568431559,{"$f":"9","v":9}]
[-3.560439560439551,{"$f":"9","v":9}]
[-3.5524475524475427,{"$f":"9","v":9}]
[-3.5444555444555346,{"$f":"9","v":9}]
[-3.5364635364635264,{"$f":"9","v":9}]
[-3.5284715284715182,{"$f":"9","v":9}]
[-3.52047952047951,{"$f":"9","v":9}]
[-3.512487512487502,{"$f":"9","v":9}]
[-3.5044955044954937,{"$f":"9","v":9}]
[-3.4965034965034856,{"$f":"9","v":9}]
[-3.4885114885114774,{"$f":"9","v":9}]
[{"$f":"A65+dx","v":-3.4805194805194692},{"$f":"9","v":9}]
[-3.472527472527461,{"$f":"9","v":9}]
[-3.464535464535453,{"$f":"9","v":9}]
[-3.4565434565434447,{"$f":"9","v":9}]
[-3.4485514485514366,{"$f":"9","v":9}]
[-3.4405594405594284,{"$f":"9","v":9}]
[-3.4325674325674203,{"$f":"9","v":9}]
[-3.424575424575412,{"$f":"9","v":9}]
[-3.416583416583404,{"$f":"9","v":9}]
[-3.4085914085913958,{"$f":"9","v":9}]
[-3.4005994005993876,{"$f":"9","v":9}]
[-3.3926073926073794,{"$f":"9","v":9}]
[-3.3846153846153713,{"$f":"9","v":9}]
[-3.376623376623363,{"$f":"9","v":9}]
[-3.368631368631355,{"$f":"9","v":9}]
[-3.3606393606393468,{"$f":"9","v":9}]
[-3.3526473526473386,{"$f":"9","v":9}]
[-3.3446553446553304,{"$f":"9","v":9}]
[-3.3366633366633223,{"$f":"9","v":9}]
[-3.328671328671314,{"$f":"9","v":9}]
[-3.320679320679306,{"$f":"9","v":9}]
[-3.3126873126872978,{"$f":"9","v":9}]
[-3.3046953046952896,{"$f":"9","v":9}]
[-3.2967032967032814,{"$f":"9","v":9}]
[-3.2887112887112733,{"$f":"9","v":9}]
[-3.280719280719265,{"$f":"9","v":9}]
[-3.272727272727257,{"$f":"9","v":9}]
[-3.2647352647352488,{"$f":"9","v":9}]
[-3.2567432567432406,{"$f":"9","v":9}]
[-3.2487512487512324,{"$f":"9","v":9}]
[-3.2407592407592243,{"$f":"9","v":9}]
[-3.232767232767216,{"$f":"9","v":9}]
[-3.224775224775208,{"$f":"9","v":9}]
[-3.2167832167832,{"$f":"9","v":9}]
[-3.2087912087911916,{"$f":"9","v":9}]
[-3.2007992007991835,{"$f":"9","v":9}]
[-3.1928071928071753,{"$f":"9","v":9}]
[-3.184815184815167,{"$f":"9","v":9}]
[-3.176823176823159,{"$f":"9","v":9}]
[-3.168831168831151,{"$f":"9","v":9}]
[-3.1608391608391426,{"$f":"9","v":9}]
[-3.1528471528471345,{"$f":"9","v":9}]
[-3.1448551448551263,{"$f":"9","v":9}]
[-3.136863136863118,{"$f":"9","v":9}]
[-3.12887112887111,{"$f":"9","v":9}]
[-3.120879120879102,{"$f":"9","v":9}]
[-3.1128871128870936,{"$f":"9","v":9}]
[-3.1048951048950855,{"$f":"9","v":9}]
[-3.0969030969030773,{"$f":"9","v":9}]
[-3.088911088911069,{"$f":"9","v":9}]
[-3.080919080919061,{"$f":"9","v":9}]
[-3.072927072927053,{"$f":"9","v":9}]
[-3.0649350649350446,{"$f":"9","v":9}]
[-3.0569430569430365,{"$f":"9","v":9}]
[-3.0489510489510283,{"$f":"9","v":9}]
[-3.04095904095902,{"$f":"9","v":9}]
[-3.032967032967012,{"$f":"9","v":9}]
[-3.024975024975004,{"$f":"9","v":9}]
[-3.0169830169829956,{"$f":"9","v":9}]
[-3.0089910089909875,{"$f":"9","v":9}]
[-3.0009990009989793,{"$f":"9","v":9}]
[-2.993006993006971,{"$f":"9","v":9}]
[-2.985014985014963,{"$f":"9","v":9}]
[-2.977022977022955,{"$f":"9","v":9}]
[{"$f":"A129+dx","v":-2.9690309690309467},{"$f":"9","v":9}]
[-2.9610389610389385,{"$f":"9","v":9}]
[-2.9530469530469303,{"$f":"9","v":9}]
[-2.945054945054922,{"$f":"9","v":9}]
[-2.937062937062914,{"$f":"9","v":9}]
[-2.929070929070906,{"$f":"9","v":9}]
[-2.9210789210788977,{"$f":"9","v":9}]
[-2.9130869130868895,{"$f":"9","v":9}]
[-2.9050949050948813,{"$f":"9","v":9}]
[-2.897102897102873,{"$f":"9","v":9}]
[-2.889110889110865,{"$f":"9","v":9}]
[-2.881118881118857,{"$f":"9","v":9}]
[-2.8731268731268487,{"$f":"9","v":9}]
[-2.8651348651348405,{"$f":"9","v":9}]
[-2.8571428571428323,{"$f":"9","v":9}]
[-2.849150849150824,{"$f":"9","v":9}]
[-2.841158841158816,{"$f":"9","v":9}]
[-2.833166833166808,{"$f":"9","v":9}]
[-2.8251748251747997,{"$f":"9","v":9}]
[-2.8171828171827915,{"$f":"9","v":9}]
[-2.8091908091907833,{"$f":"9","v":9}]
[-2.801198801198775,{"$f":"9","v":9}]
[-2.793206793206767,{"$f":"9","v":9}]
[-2.785214785214759,{"$f":"9","v":9}]
[-2.7772227772227507,{"$f":"9","v":9}]
[-2.7692307692307425,{"$f":"9","v":9}]
[-2.7612387612387344,{"$f":"9","v":9}]
[-2.753246753246726,{"$f":"9","v":9}]
[-2.745254745254718,{"$f":"9","v":9}]
[-2.73726273726271,{"$f":"9","v":9}]
[-2.7292707292707017,{"$f":"9","v":9}]
[-2.7212787212786935,{"$f":"9","v":9}]
[-2.7132867132866854,{"$f":"9","v":9}]
[-2.705294705294677,{"$f":"9","v":9}]
[-2.697302697302669,{"$f":"9","v":9}]
[-2.689310689310661,{"$f":"9","v":9}]
[-2.6813186813186527,{"$f":"9","v":9}]
[-2.6733266733266445,{"$f":"9","v":9}]
[-2.6653346653346364,{"$f":"9","v":9}]
[-2.657342657342628,{"$f":"9","v":9}]
[-2.64935064935062,{"$f":"9","v":9}]
[-2.641358641358612,{"$f":"9","v":9}]
[-2.6333666333666037,{"$f":"9","v":9}]
[-2.6253746253745955,{"$f":"9","v":9}]
[-2.6173826173825874,{"$f":"9","v":9}]
[-2.609390609390579,{"$f":"9","v":9}]
[-2.601398601398571,{"$f":"9","v":9}]
[-2.593406593406563,{"$f":"9","v":9}]
[-2.5854145854145547,{"$f":"9","v":9}]
[-2.5774225774225465,{"$f":"9","v":9}]
[-2.5694305694305384,{"$f":"9","v":9}]
[-2.56143856143853,{"$f":"9","v":9}]
[-2.553446553446522,{"$f":"9","v":9}]
[-2.545454545454514,{"$f":"9","v":9}]
[-2.5374625374625057,{"$f":"9","v":9}]
[-2.5294705294704976,{"$f":"9","v":9}]
[-2.5214785214784894,{"$f":"9","v":9}]
[-2.513486513486481,{"$f":"9","v":9}]
[-2.505494505494473,{"$f":"9","v":9}]
[-2.497502497502465,{"$f":"9","v":9}]
[-2.4895104895104567,{"$f":"9","v":9}]
[-2.4815184815184486,{"$f":"9","v":9}]
[-2.4735264735264404,{"$f":"9","v":9}]
[-2.4655344655344322,{"$f":"9","v":9}]
[{"$f":"A193+dx","v":-2.457542457542424},{"$f":"9","v":9}]
[-2.449550449550416,{"$f":"9","v":9}]
[-2.4415584415584077,{"$f":"9","v":9}]
[-2.4335664335663996,{"$f":"9","v":9}]
[-2.4255744255743914,{"$f":"9","v":9}]
[-2.4175824175823832,{"$f":"9","v":9}]
[-2.409590409590375,{"$f":"9","v":9}]
[-2.401598401598367,{"$f":"9","v":9}]
[-2.3936063936063587,{"$f":"9","v":9}]
[-2.3856143856143506,{"$f":"9","v":9}]
[-2.3776223776223424,{"$f":"9","v":9}]
[-2.3696303696303342,{"$f":"9","v":9}]
[-2.361638361638326,{"$f":"9","v":9}]
[-2.353646353646318,{"$f":"9","v":9}]
[-2.3456543456543097,{"$f":"9","v":9}]
[-2.3376623376623016,{"$f":"9","v":9}]
[-2.3296703296702934,{"$f":"9","v":9}]
[-2.3216783216782853,{"$f":"9","v":9}]
[-2.313686313686277,{"$f":"9","v":9}]
[-2.305694305694269,{"$f":"9","v":9}]
[-2.2977022977022608,{"$f":"9","v":9}]
[-2.2897102897102526,{"$f":"9","v":9}]
[-2.2817182817182444,{"$f":"9","v":9}]
[-2.2737262737262363,{"$f":"9","v":9}]
[-2.265734265734228,{"$f":"9","v":9}]
[-2.25774225774222,{"$f":"9","v":9}]
[-2.2497502497502118,{"$f":"9","v":9}]
[-2.2417582417582036,{"$f":"9","v":9}]
[-2.2337662337661954,{"$f":"9","v":9}]
[-2.2257742257741873,{"$f":"9","v":9}]
[-2.217782217782179,{"$f":"9","v":9}]
[-2.209790209790171,{"$f":"9","v":9}]
[-2.2017982017981628,{"$f":"9","v":9}]
[-2.1938061938061546,{"$f":"9","v":9}]
[-2.1858141858141464,{"$f":"9","v":9}]
[-2.1778221778221383,{"$f":"9","v":9}]
[-2.16983016983013,{"$f":"9","v":9}]
[-2.161838161838122,{"$f":"9","v":9}]
[-2.1538461538461138,{"$f":"9","v":9}]
[-2.1458541458541056,{"$f":"9","v":9}]
[-2.1378621378620974,{"$f":"9","v":9}]
[-2.1298701298700893,{"$f":"9","v":9}]
[-2.121878121878081,{"$f":"9","v":9}]
[-2.113886113886073,{"$f":"9","v":9}]
[-2.105894105894065,{"$f":"9","v":9}]
[-2.0979020979020566,{"$f":"9","v":9}]
[-2.0899100899100485,{"$f":"9","v":9}]
[-2.0819180819180403,{"$f":"9","v":9}]
[-2.073926073926032,{"$f":"9","v":9}]
[-2.065934065934024,{"$f":"9","v":9}]
[-2.057942057942016,{"$f":"9","v":9}]
[-2.0499500499500076,{"$f":"9","v":9}]
[-2.0419580419579995,{"$f":"9","v":9}]
[-2.0339660339659913,{"$f":"9","v":9}]
[-2.025974025973983,{"$f":"9","v":9}]
[-2.017982017981975,{"$f":"9","v":9}]
[-2.009990009989967,{"$f":"9","v":9}]
[-2.0019980019979586,{"$f":"9","v":9}]
[-1.9940059940059507,{"$f":"9","v":9}]
[-1.9860139860139427,{"$f":"9","v":9}]
[-1.9780219780219348,{"$f":"9","v":9}]
[-1.9700299700299269,{"$f":"9","v":9}]
[-1.962037962037919,{"$f":"9","v":9}]
[-1.954045954045911,{"$f":"9","v":9}]
[{"$f":"A257+dx","v":-1.946053946053903},{"$f":"9","v":9}]
[-1.938061938061895,{"$f":"9","v":9}]
[-1.9300699300698871,{"$f":"9","v":9}]
[-1.9220779220778792,{"$f":"9","v":9}]
[-1.9140859140858713,{"$f":"9","v":9}]
[-1.9060939060938633,{"$f":"9","v":9}]
[-1.8981018981018554,{"$f":"9","v":9}]
[-1.8901098901098474,{"$f":"9","v":9}]
[-1.8821178821178395,{"$f":"9","v":9}]
[-1.8741258741258315,{"$f":"9","v":9}]
[-1.8661338661338236,{"$f":"9","v":9}]
[-1.8581418581418156,{"$f":"9","v":9}]
[-1.8501498501498077,{"$f":"9","v":9}]
[-1.8421578421577998,{"$f":"9","v":9}]
[-1.8341658341657918,{"$f":"9","v":9}]
[-1.8261738261737839,{"$f":"9","v":9}]
[-1.818181818181776,{"$f":"9","v":9}]
[-1.810189810189768,{"$f":"9","v":9}]
[-1.80219780219776,{"$f":"9","v":9}]
[-1.794205794205752,{"$f":"9","v":9}]
[-1.7862137862137442,{"$f":"9","v":9}]
[-1.7782217782217362,{"$f":"9","v":9}]
[-1.7702297702297283,{"$f":"9","v":9}]
[-1.7622377622377203,{"$f":"9","v":9}]
[-1.7542457542457124,{"$f":"9","v":9}]
[-1.7462537462537044,{"$f":"9","v":9}]
[-1.7382617382616965,{"$f":"9","v":9}]
[-1.7302697302696886,{"$f":"9","v":9}]
[-1.7222777222776806,{"$f":"9","v":9}]
[-1.7142857142856727,{"$f":"9","v":9}]
[-1.7062937062936647,{"$f":"9","v":9}]
[-1.6983016983016568,{"$f":"9","v":9}]
[-1.6903096903096488,{"$f":"9","v":9}]
[-1.682317682317641,{"$f":"9","v":9}]
[-1.674325674325633,{"$f":"9","v":9}]
[-1.666333666333625,{"$f":"9","v":9}]
[-1.658341658341617,{"$f":"9","v":9}]
[-1.6503496503496091,{"$f":"9","v":9}]
[-1.6423576423576012,{"$f":"9","v":9}]
[-1.6343656343655932,{"$f":"9","v":9}]
[-1.6263736263735853,{"$f":"9","v":9}]
[-1.6183816183815773,{"$f":"9","v":9}]
[-1.6103896103895694,{"$f":"9","v":9}]
[-1.6023976023975615,{"$f":"9","v":9}]
[-1.5944055944055535,{"$f":"9","v":9}]
[-1.5864135864135456,{"$f":"9","v":9}]
[-1.5784215784215376,{"$f":"9","v":9}]
[-1.5704295704295297,{"$f":"9","v":9}]
[-1.5624375624375217,{"$f":"9","v":9}]
[-1.5544455544455138,{"$f":"9","v":9}]
[-1.5464535464535059,{"$f":"9","v":9}]
[-1.538461538461498,{"$f":"9","v":9}]
[-1.53046953046949,{"$f":"9","v":9}]
[-1.522477522477482,{"$f":"9","v":9}]
[-1.514485514485474,{"$f":"9","v":9}]
[-1.5064935064934661,{"$f":"9","v":9}]
[-1.4985014985014582,{"$f":"9","v":9}]
[-1.4905094905094503,{"$f":"9","v":9}]
[-1.4825174825174423,{"$f":"9","v":9}]
[-1.4745254745254344,{"$f":"9","v":9}]
[-1.4665334665334264,{"$f":"9","v":9}]
[-1.4585414585414185,{"$f":"9","v":9}]
[-1.4505494505494105,{"$f":"9","v":9}]
[-1.4425574425574026,{"$f":"9","v":9}]
[{"$f":"A321+dx","v":-1.4345654345653946},{"$f":"9","v":9}]
[-1.4265734265733867,{"$f":"9","v":9}]
[-1.4185814185813788,{"$f":"9","v":9}]
[-1.4105894105893708,{"$f":"9","v":9}]
[-1.4025974025973629,{"$f":"9","v":9}]
[-1.394605394605355,{"$f":"9","v":9}]
[-1.386613386613347,{"$f":"9","v":9}]
[-1.378621378621339,{"$f":"9","v":9}]
[-1.370629370629331,{"$f":"9","v":9}]
[-1.3626373626373232,{"$f":"9","v":9}]
[-1.3546453546453152,{"$f":"9","v":9}]
[-1.3466533466533073,{"$f":"9","v":9}]
[-1.3386613386612993,{"$f":"9","v":9}]
[-1.3306693306692914,{"$f":"9","v":9}]
[-1.3226773226772834,{"$f":"9","v":9}]
[-1.3146853146852755,{"$f":"9","v":9}]
[-1.3066933066932676,{"$f":"9","v":9}]
[-1.2987012987012596,{"$f":"9","v":9}]
[-1.2907092907092517,{"$f":"9","v":9}]
[-1.2827172827172437,{"$f":"9","v":9}]
[-1.2747252747252358,{"$f":"9","v":9}]
[-1.2667332667332278,{"$f":"9","v":9}]
[-1.25874125874122,{"$f":"9","v":9}]
[-1.250749250749212,{"$f":"9","v":9}]
[-1.242757242757204,{"$f":"9","v":9}]
[-1.234765234765196,{"$f":"9","v":9}]
[-1.2267732267731881,{"$f":"9","v":9}]
[-1.2187812187811802,{"$f":"9","v":9}]
[-1.2107892107891722,{"$f":"9","v":9}]
[-1.2027972027971643,{"$f":"9","v":9}]
[-1.1948051948051563,{"$f":"9","v":9}]
[-1.1868131868131484,{"$f":"9","v":9}]
[-1.1788211788211405,{"$f":"9","v":9}]
[-1.1708291708291325,{"$f":"9","v":9}]
[-1.1628371628371246,{"$f":"9","v":9}]
[-1.1548451548451166,{"$f":"9","v":9}]
[-1.1468531468531087,{"$f":"9","v":9}]
[-1.1388611388611007,{"$f":"9","v":9}]
[-1.1308691308690928,{"$f":"9","v":9}]
[-1.1228771228770849,{"$f":"9","v":9}]
[-1.114885114885077,{"$f":"9","v":9}]
[-1.106893106893069,{"$f":"9","v":9}]
[-1.098901098901061,{"$f":"9","v":9}]
[-1.090909090909053,{"$f":"9","v":9}]
[-1.0829170829170451,{"$f":"9","v":9}]
[-1.0749250749250372,{"$f":"9","v":9}]
[-1.0669330669330293,{"$f":"9","v":9}]
[-1.0589410589410213,{"$f":"9","v":9}]
[-1.0509490509490134,{"$f":"9","v":9}]
[-1.0429570429570054,{"$f":"9","v":9}]
[-1.0349650349649975,{"$f":"9","v":9}]
[-1.0269730269729895,{"$f":"9","v":9}]
[-1.0189810189809816,{"$f":"9","v":9}]
[-1.0109890109889736,{"$f":"9","v":9}]
[-1.0029970029969657,{"$f":"9","v":9}]
[-0.9950049950049578,{"$f":"9","v":9}]
[-0.9870129870129498,{"$f":"9","v":9}]
[-0.9790209790209419,{"$f":"9","v":9}]
[-0.9710289710289339,{"$f":"9","v":9}]
[-0.963036963036926,{"$f":"9","v":9}]
[-0.955044955044918,{"$f":"9","v":9}]
[-0.9470529470529101,{"$f":"9","v":9}]
[-0.9390609390609022,{"$f":"9","v":9}]
[-0.9310689310688942,{"$f":"9","v":9}]
[{"$f":"A385+dx","v":-0.9230769230768863},{"$f":"9","v":9}]
[-0.9150849150848783,{"$f":"9","v":9}]
[-0.9070929070928704,{"$f":"9","v":9}]
[-0.8991008991008624,{"$f":"9","v":9}]
[-0.8911088911088545,{"$f":"9","v":9}]
[-0.8831168831168466,{"$f":"9","v":9}]
[-0.8751248751248386,{"$f":"9","v":9}]
[-0.8671328671328307,{"$f":"9","v":9}]
[-0.8591408591408227,{"$f":"9","v":9}]
[-0.8511488511488148,{"$f":"9","v":9}]
[-0.8431568431568068,{"$f":"9","v":9}]
[-0.8351648351647989,{"$f":"9","v":9}]
[-0.827172827172791,{"$f":"9","v":9}]
[-0.819180819180783,{"$f":"9","v":9}]
[-0.8111888111887751,{"$f":"9","v":9}]
[-0.8031968031967671,{"$f":"9","v":9}]
[-0.7952047952047592,{"$f":"9","v":9}]
[-0.7872127872127512,{"$f":"9","v":9}]
[-0.7792207792207433,{"$f":"9","v":9}]
[-0.7712287712287353,{"$f":"9","v":9}]
[-0.7632367632367274,{"$f":"9","v":9}]
[-0.7552447552447195,{"$f":"9","v":9}]
[-0.7472527472527115,{"$f":"9","v":9}]
[-0.7392607392607036,{"$f":"9","v":9}]
[-0.7312687312686956,{"$f":"9","v":9}]
[-0.7232767232766877,{"$f":"9","v":9}]
[-0.7152847152846797,{"$f":"9","v":9}]
[-0.7072927072926718,{"$f":"9","v":9}]
[-0.6993006993006639,{"$f":"9","v":9}]
[-0.6913086913086559,{"$f":"9","v":9}]
[-0.683316683316648,{"$f":"9","v":9}]
[-0.67532467532464,{"$f":"9","v":9}]
[-0.6673326673326321,{"$f":"9","v":9}]
[-0.6593406593406241,{"$f":"9","v":9}]
[-0.6513486513486162,{"$f":"9","v":9}]
[-0.6433566433566082,{"$f":"9","v":9}]
[-0.6353646353646003,{"$f":"9","v":9}]
[-0.6273726273725924,{"$f":"9","v":9}]
[-0.6193806193805844,{"$f":"9","v":9}]
[-0.6113886113885765,{"$f":"9","v":9}]
[-0.6033966033965685,{"$f":"9","v":9}]
[-0.5954045954045606,{"$f":"9","v":9}]
[-0.5874125874125526,{"$f":"9","v":9}]
[-0.5794205794205447,{"$f":"9","v":9}]
[-0.5714285714285368,{"$f":"9","v":9}]
[-0.5634365634365288,{"$f":"9","v":9}]
[-0.5554445554445209,{"$f":"9","v":9}]
[-0.5474525474525129,{"$f":"9","v":9}]
[-0.539460539460505,{"$f":"9","v":9}]
[-0.531468531468497,{"$f":"9","v":9}]
[-0.5234765234764891,{"$f":"9","v":9}]
[-0.5154845154844812,{"$f":"9","v":9}]
[-0.5074925074924732,{"$f":"9","v":9}]
[-0.4995004995004652,{"$f":"9","v":9}]
[-0.4915084915084572,{"$f":"9","v":9}]
[-0.4835164835164492,{"$f":"9","v":9}]
[-0.4755244755244412,{"$f":"9","v":9}]
[-0.4675324675324332,{"$f":"9","v":9}]
[-0.4595404595404252,{"$f":"9","v":9}]
[-0.4515484515484172,{"$f":"9","v":9}]
[-0.4435564435564092,{"$f":"9","v":9}]
[-0.4355644355644012,{"$f":"9","v":9}]
[-0.4275724275723932,{"$f":"9","v":9}]
[-0.4195804195803852,{"$f":"9","v":9}]
[{"$f":"A449+dx","v":-0.4115884115883772},{"$f":"9","v":9}]
[-0.4035964035963692,{"$f":"9","v":9}]
[-0.3956043956043612,{"$f":"9","v":9}]
[-0.3876123876123532,{"$f":"9","v":9}]
[-0.3796203796203452,{"$f":"9","v":9}]
[-0.37162837162833723,{"$f":"9","v":9}]
[-0.36363636363632923,{"$f":"9","v":9}]
[-0.35564435564432123,{"$f":"9","v":9}]
[-0.34765234765231323,{"$f":"9","v":9}]
[-0.33966033966030523,{"$f":"9","v":9}]
[-0.33166833166829723,{"$f":"9","v":9}]
[-0.32367632367628923,{"$f":"9","v":9}]
[-0.31568431568428124,{"$f":"9","v":9}]
[-0.30769230769227324,{"$f":"9","v":9}]
[-0.29970029970026524,{"$f":"9","v":9}]
[-0.29170829170825724,{"$f":"9","v":9}]
[-0.28371628371624924,{"$f":"9","v":9}]
[-0.27572427572424124,{"$f":"9","v":9}]
[-0.26773226773223324,{"$f":"9","v":9}]
[-0.25974025974022524,{"$f":"9","v":9}]
[-0.25174825174821724,{"$f":"9","v":9}]
[-0.24375624375620925,{"$f":"9","v":9}]
[-0.23576423576420125,{"$f":"9","v":9}]
[-0.22777222777219325,{"$f":"9","v":9}]
[-0.21978021978018525,{"$f":"9","v":9}]
[-0.21178821178817725,{"$f":"9","v":9}]
[-0.20379620379616925,{"$f":"9","v":9}]
[-0.19580419580416125,{"$f":"9","v":9}]
[-0.18781218781215325,{"$f":"9","v":9}]
[-0.17982017982014525,{"$f":"9","v":9}]
[-0.17182817182813725,{"$f":"9","v":9}]
[-0.16383616383612926,{"$f":"9","v":9}]
[-0.15584415584412126,{"$f":"9","v":9}]
[-0.14785214785211326,{"$f":"9","v":9}]
[-0.13986013986010526,{"$f":"9","v":9}]
[-0.13186813186809726,{"$f":"9","v":9}]
[-0.12387612387608926,{"$f":"9","v":9}]
[-0.11588411588408126,{"$f":"9","v":9}]
[-0.10789210789207326,{"$f":"9","v":9}]
[-0.09990009990006526,{"$f":"9","v":9}]
[-0.09190809190805727,{"$f":"9","v":9}]
[-0.08391608391604927,{"$f":"9","v":9}]
[-0.07592407592404127,{"$f":"9","v":9}]
[-0.06793206793203327,{"$f":"9","v":9}]
[-0.05994005994002528,{"$f":"9","v":9}]
[-0.051948051948017285,{"$f":"9","v":9}]
[-0.04395604395600929,{"$f":"9","v":9}]
[-0.0359640359640013,{"$f":"9","v":9}]
[-0.02797202797199331,{"$f":"9","v":9}]
[-0.019980019979985317,{"$f":"9","v":9}]
[-0.011988011987977325,{"$f":"9","v":9}]
[-0.003996003995969333,{"$f":"9","v":9}]
[0.003996003996038659,{"$f":"9","v":9}]
[0.011988011988046651,{"$f":"9","v":9}]
[0.019980019980054643,{"$f":"9","v":9}]
[0.027972027972062635,{"$f":"9","v":9}]
[0.03596403596407063,{"$f":"9","v":9}]
[0.04395604395607862,{"$f":"9","v":9}]
[0.05194805194808661,{"$f":"9","v":9}]
[0.0599400599400946,{"$f":"9","v":9}]
[0.0679320679321026,{"$f":"9","v":9}]
[0.0759240759241106,{"$f":"9","v":9}]
[0.0839160839161186,{"$f":"9","v":9}]
[0.0919080919081266,{"$f":"9","v":9}]
[{"$f":"A513+dx","v":0.0999000999001346},{"$f":"9","v":9}]
[0.1078921078921426,{"$f":"9","v":9}]
[0.1158841158841506,{"$f":"9","v":9}]
[0.1238761238761586,{"$f":"9","v":9}]
[0.1318681318681666,{"$f":"9","v":9}]
[0.1398601398601746,{"$f":"9","v":9}]
[0.1478521478521826,{"$f":"9","v":9}]
[0.1558441558441906,{"$f":"9","v":9}]
[0.1638361638361986,{"$f":"9","v":9}]
[0.1718281718282066,{"$f":"9","v":9}]
[0.1798201798202146,{"$f":"9","v":9}]
[0.1878121878122226,{"$f":"9","v":9}]
[0.19580419580423059,{"$f":"9","v":9}]
[0.20379620379623858,{"$f":"9","v":9}]
[0.21178821178824658,{"$f":"9","v":9}]
[0.21978021978025458,{"$f":"9","v":9}]
[0.22777222777226258,{"$f":"9","v":9}]
[0.23576423576427058,{"$f":"9","v":9}]
[0.24375624375627858,{"$f":"9","v":9}]
[0.2517482517482866,{"$f":"9","v":9}]
[0.2597402597402946,{"$f":"9","v":9}]
[0.2677322677323026,{"$f":"9","v":9}]
[0.2757242757243106,{"$f":"9","v":9}]
[0.2837162837163186,{"$f":"9","v":9}]
[0.2917082917083266,{"$f":"9","v":9}]
[0.29970029970033457,{"$f":"9","v":9}]
[0.30769230769234257,{"$f":"9","v":9}]
[0.31568431568435057,{"$f":"9","v":9}]
[0.32367632367635857,{"$f":"9","v":9}]
[0.33166833166836657,{"$f":"9","v":9}]
[0.33966033966037457,{"$f":"9","v":9}]
[0.34765234765238257,{"$f":"9","v":9}]
[0.35564435564439056,{"$f":"9","v":9}]
[0.36363636363639856,{"$f":"9","v":9}]
[0.37162837162840656,{"$f":"9","v":9}]
[0.37962037962041456,{"$f":"9","v":9}]
[0.38761238761242256,{"$f":"9","v":9}]
[0.39560439560443056,{"$f":"9","v":9}]
[0.40359640359643856,{"$f":"9","v":9}]
[0.41158841158844656,{"$f":"9","v":9}]
[0.41958041958045456,{"$f":"9","v":9}]
[0.42757242757246255,{"$f":"9","v":9}]
[0.43556443556447055,{"$f":"9","v":9}]
[0.44355644355647855,{"$f":"9","v":9}]
[0.45154845154848655,{"$f":"9","v":9}]
[0.45954045954049455,{"$f":"9","v":9}]
[0.46753246753250255,{"$f":"9","v":9}]
[0.47552447552451055,{"$f":"9","v":9}]
[0.48351648351651855,{"$f":"9","v":9}]
[0.49150849150852655,{"$f":"9","v":9}]
[0.49950049950053454,{"$f":"9","v":9}]
[0.5074925074925425,{"$f":"9","v":9}]
[0.5154845154845504,{"$f":"9","v":9}]
[0.5234765234765584,{"$f":"9","v":9}]
[0.5314685314685663,{"$f":"9","v":9}]
[0.5394605394605743,{"$f":"9","v":9}]
[0.5474525474525822,{"$f":"9","v":9}]
[0.5554445554445901,{"$f":"9","v":9}]
[0.5634365634365981,{"$f":"9","v":9}]
[0.571428571428606,{"$f":"9","v":9}]
[0.579420579420614,{"$f":"9","v":9}]
[0.5874125874126219,{"$f":"9","v":9}]
[0.5954045954046299,{"$f":"9","v":9}]
[0.6033966033966378,{"$f":"9","v":9}]
[{"$f":"A577+dx","v":0.6113886113886458},{"$f":"9","v":9}]
[0.6193806193806537,{"$f":"9","v":9}]
[0.6273726273726616,{"$f":"9","v":9}]
[0.6353646353646696,{"$f":"9","v":9}]
[0.6433566433566775,{"$f":"9","v":9}]
[0.6513486513486855,{"$f":"9","v":9}]
[0.6593406593406934,{"$f":"9","v":9}]
[0.6673326673327014,{"$f":"9","v":9}]
[0.6753246753247093,{"$f":"9","v":9}]
[0.6833166833167172,{"$f":"9","v":9}]
[0.6913086913087252,{"$f":"9","v":9}]
[0.6993006993007331,{"$f":"9","v":9}]
[0.7072927072927411,{"$f":"9","v":9}]
[0.715284715284749,{"$f":"9","v":9}]
[0.723276723276757,{"$f":"9","v":9}]
[0.7312687312687649,{"$f":"9","v":9}]
[0.7392607392607728,{"$f":"9","v":9}]
[0.7472527472527808,{"$f":"9","v":9}]
[0.7552447552447887,{"$f":"9","v":9}]
[0.7632367632367967,{"$f":"9","v":9}]
[0.7712287712288046,{"$f":"9","v":9}]
[0.7792207792208126,{"$f":"9","v":9}]
[0.7872127872128205,{"$f":"9","v":9}]
[0.7952047952048285,{"$f":"9","v":9}]
[0.8031968031968364,{"$f":"9","v":9}]
[0.8111888111888443,{"$f":"9","v":9}]
[0.8191808191808523,{"$f":"9","v":9}]
[0.8271728271728602,{"$f":"9","v":9}]
[0.8351648351648682,{"$f":"9","v":9}]
[0.8431568431568761,{"$f":"9","v":9}]
[0.8511488511488841,{"$f":"9","v":9}]
[0.859140859140892,{"$f":"9","v":9}]
[0.8671328671328999,{"$f":"9","v":9}]
[0.8751248751249079,{"$f":"9","v":9}]
[0.8831168831169158,{"$f":"9","v":9}]
[0.8911088911089238,{"$f":"9","v":9}]
[0.8991008991009317,{"$f":"9","v":9}]
[0.9070929070929397,{"$f":"9","v":9}]
[0.9150849150849476,{"$f":"9","v":9}]
[0.9230769230769555,{"$f":"9","v":9}]
[0.9310689310689635,{"$f":"9","v":9}]
[0.9390609390609714,{"$f":"9","v":9}]
[0.9470529470529794,{"$f":"9","v":9}]
[0.9550449550449873,{"$f":"9","v":9}]
[0.9630369630369953,{"$f":"9","v":9}]
[0.9710289710290032,{"$f":"9","v":9}]
[0.9790209790210112,{"$f":"9","v":9}]
[0.9870129870130191,{"$f":"9","v":9}]
[0.995004995005027,{"$f":"9","v":9}]
[1.002997002997035,{"$f":"9","v":9}]
[1.010989010989043,{"$f":"9","v":9}]
[1.0189810189810509,{"$f":"9","v":9}]
[1.0269730269730588,{"$f":"9","v":9}]
[1.0349650349650668,{"$f":"9","v":9}]
[1.0429570429570747,{"$f":"9","v":9}]
[1.0509490509490826,{"$f":"9","v":9}]
[1.0589410589410906,{"$f":"9","v":9}]
[1.0669330669330985,{"$f":"9","v":9}]
[1.0749250749251065,{"$f":"9","v":9}]
[1.0829170829171144,{"$f":"9","v":9}]
[1.0909090909091224,{"$f":"9","v":9}]
[1.0989010989011303,{"$f":"9","v":9}]
[1.1068931068931382,{"$f":"9","v":9}]
[1.1148851148851462,{"$f":"9","v":9}]
[{"$f":"A641+dx","v":1.1228771228771541},{"$f":"9","v":9}]
[1.130869130869162,{"$f":"9","v":9}]
[1.13886113886117,{"$f":"9","v":9}]
[1.146853146853178,{"$f":"9","v":9}]
[1.154845154845186,{"$f":"9","v":9}]
[1.1628371628371938,{"$f":"9","v":9}]
[1.1708291708292018,{"$f":"9","v":9}]
[1.1788211788212097,{"$f":"9","v":9}]
[1.1868131868132177,{"$f":"9","v":9}]
[1.1948051948052256,{"$f":"9","v":9}]
[1.2027972027972336,{"$f":"9","v":9}]
[1.2107892107892415,{"$f":"9","v":9}]
[1.2187812187812495,{"$f":"9","v":9}]
[1.2267732267732574,{"$f":"9","v":9}]
[1.2347652347652653,{"$f":"9","v":9}]
[1.2427572427572733,{"$f":"9","v":9}]
[1.2507492507492812,{"$f":"9","v":9}]
[1.2587412587412892,{"$f":"9","v":9}]
[1.2667332667332971,{"$f":"9","v":9}]
[1.274725274725305,{"$f":"9","v":9}]
[1.282717282717313,{"$f":"9","v":9}]
[1.290709290709321,{"$f":"9","v":9}]
[1.2987012987013289,{"$f":"9","v":9}]
[1.3066933066933368,{"$f":"9","v":9}]
[1.3146853146853448,{"$f":"9","v":9}]
[1.3226773226773527,{"$f":"9","v":9}]
[1.3306693306693607,{"$f":"9","v":9}]
[1.3386613386613686,{"$f":"9","v":9}]
[1.3466533466533765,{"$f":"9","v":9}]
[1.3546453546453845,{"$f":"9","v":9}]
[1.3626373626373924,{"$f":"9","v":9}]
[1.3706293706294004,{"$f":"9","v":9}]
[1.3786213786214083,{"$f":"9","v":9}]
[1.3866133866134163,{"$f":"9","v":9}]
[1.3946053946054242,{"$f":"9","v":9}]
[1.4025974025974322,{"$f":"9","v":9}]
[1.41058941058944,{"$f":"9","v":9}]
[1.418581418581448,{"$f":"9","v":9}]
[1.426573426573456,{"$f":"9","v":9}]
[1.434565434565464,{"$f":"9","v":9}]
[1.4425574425574719,{"$f":"9","v":9}]
[1.4505494505494798,{"$f":"9","v":9}]
[1.4585414585414878,{"$f":"9","v":9}]
[1.4665334665334957,{"$f":"9","v":9}]
[1.4745254745255036,{"$f":"9","v":9}]
[1.4825174825175116,{"$f":"9","v":9}]
[1.4905094905095195,{"$f":"9","v":9}]
[1.4985014985015275,{"$f":"9","v":9}]
[1.5064935064935354,{"$f":"9","v":9}]
[1.5144855144855434,{"$f":"9","v":9}]
[1.5224775224775513,{"$f":"9","v":9}]
[1.5304695304695592,{"$f":"9","v":9}]
[1.5384615384615672,{"$f":"9","v":9}]
[1.5464535464535751,{"$f":"9","v":9}]
[1.554445554445583,{"$f":"9","v":9}]
[1.562437562437591,{"$f":"9","v":9}]
[1.570429570429599,{"$f":"9","v":9}]
[1.578421578421607,{"$f":"9","v":9}]
[1.5864135864136149,{"$f":"9","v":9}]
[1.5944055944056228,{"$f":"9","v":9}]
[1.6023976023976307,{"$f":"9","v":9}]
[1.6103896103896387,{"$f":"9","v":9}]
[1.6183816183816466,{"$f":"9","v":9}]
[1.6263736263736546,{"$f":"9","v":9}]
[{"$f":"A705+dx","v":1.6343656343656625},{"$f":"9","v":9}]
[1.6423576423576705,{"$f":"9","v":9}]
[1.6503496503496784,{"$f":"9","v":9}]
[1.6583416583416863,{"$f":"9","v":9}]
[1.6663336663336943,{"$f":"9","v":9}]
[1.6743256743257022,{"$f":"9","v":9}]
[1.6823176823177102,{"$f":"9","v":9}]
[1.6903096903097181,{"$f":"9","v":9}]
[1.698301698301726,{"$f":"9","v":9}]
[1.706293706293734,{"$f":"9","v":9}]
[1.714285714285742,{"$f":"9","v":9}]
[1.72227772227775,{"$f":"9","v":9}]
[1.7302697302697578,{"$f":"9","v":9}]
[1.7382617382617658,{"$f":"9","v":9}]
[1.7462537462537737,{"$f":"9","v":9}]
[1.7542457542457817,{"$f":"9","v":9}]
[1.7622377622377896,{"$f":"9","v":9}]
[1.7702297702297976,{"$f":"9","v":9}]
[1.7782217782218055,{"$f":"9","v":9}]
[1.7862137862138134,{"$f":"9","v":9}]
[1.7942057942058214,{"$f":"9","v":9}]
[1.8021978021978293,{"$f":"9","v":9}]
[1.8101898101898373,{"$f":"9","v":9}]
[1.8181818181818452,{"$f":"9","v":9}]
[1.8261738261738532,{"$f":"9","v":9}]
[1.834165834165861,{"$f":"9","v":9}]
[1.842157842157869,{"$f":"9","v":9}]
[1.850149850149877,{"$f":"9","v":9}]
[1.858141858141885,{"$f":"9","v":9}]
[1.8661338661338929,{"$f":"9","v":9}]
[1.8741258741259008,{"$f":"9","v":9}]
[1.8821178821179088,{"$f":"9","v":9}]
[1.8901098901099167,{"$f":"9","v":9}]
[1.8981018981019246,{"$f":"9","v":9}]
[1.9060939060939326,{"$f":"9","v":9}]
[1.9140859140859405,{"$f":"9","v":9}]
[1.9220779220779485,{"$f":"9","v":9}]
[1.9300699300699564,{"$f":"9","v":9}]
[1.9380619380619644,{"$f":"9","v":9}]
[1.9460539460539723,{"$f":"9","v":9}]
[1.9540459540459802,{"$f":"9","v":9}]
[1.9620379620379882,{"$f":"9","v":9}]
[1.9700299700299961,{"$f":"9","v":9}]
[1.978021978022004,{"$f":"9","v":9}]
[1.986013986014012,{"$f":"9","v":9}]
[1.99400599400602,{"$f":"9","v":9}]
[2.001998001998028,{"$f":"9","v":9}]
[2.009990009990036,{"$f":"9","v":9}]
[2.0179820179820442,{"$f":"9","v":9}]
[2.0259740259740524,{"$f":"9","v":9}]
[2.0339660339660606,{"$f":"9","v":9}]
[2.0419580419580687,{"$f":"9","v":9}]
[2.049950049950077,{"$f":"9","v":9}]
[2.057942057942085,{"$f":"9","v":9}]
[2.0659340659340932,{"$f":"9","v":9}]
[2.0739260739261014,{"$f":"9","v":9}]
[2.0819180819181096,{"$f":"9","v":9}]
[2.0899100899101177,{"$f":"9","v":9}]
[2.097902097902126,{"$f":"9","v":9}]
[2.105894105894134,{"$f":"9","v":9}]
[2.1138861138861422,{"$f":"9","v":9}]
[2.1218781218781504,{"$f":"9","v":9}]
[2.1298701298701586,{"$f":"9","v":9}]
[2.1378621378621667,{"$f":"9","v":9}]
[{"$f":"A769+dx","v":2.145854145854175},{"$f":"9","v":9}]
[2.153846153846183,{"$f":"9","v":9}]
[2.161838161838191,{"$f":"9","v":9}]
[2.1698301698301994,{"$f":"9","v":9}]
[2.1778221778222075,{"$f":"9","v":9}]
[2.1858141858142157,{"$f":"9","v":9}]
[2.193806193806224,{"$f":"9","v":9}]
[2.201798201798232,{"$f":"9","v":9}]
[2.20979020979024,{"$f":"9","v":9}]
[2.2177822177822484,{"$f":"9","v":9}]
[2.2257742257742565,{"$f":"9","v":9}]
[2.2337662337662647,{"$f":"9","v":9}]
[2.241758241758273,{"$f":"9","v":9}]
[2.249750249750281,{"$f":"9","v":9}]
[2.257742257742289,{"$f":"9","v":9}]
[2.2657342657342974,{"$f":"9","v":9}]
[2.2737262737263055,{"$f":"9","v":9}]
[2.2817182817183137,{"$f":"9","v":9}]
[2.289710289710322,{"$f":"9","v":9}]
[2.29770229770233,{"$f":"9","v":9}]
[2.305694305694338,{"$f":"9","v":9}]
[2.3136863136863464,{"$f":"9","v":9}]
[2.3216783216783545,{"$f":"9","v":9}]
[2.3296703296703627,{"$f":"9","v":9}]
[2.337662337662371,{"$f":"9","v":9}]
[2.345654345654379,{"$f":"9","v":9}]
[2.353646353646387,{"$f":"9","v":9}]
[2.3616383616383954,{"$f":"9","v":9}]
[2.3696303696304035,{"$f":"9","v":9}]
[2.3776223776224117,{"$f":"9","v":9}]
[2.38561438561442,{"$f":"9","v":9}]
[2.393606393606428,{"$f":"9","v":9}]
[2.401598401598436,{"$f":"9","v":9}]
[2.4095904095904443,{"$f":"9","v":9}]
[2.4175824175824525,{"$f":"9","v":9}]
[2.4255744255744607,{"$f":"9","v":9}]
[2.433566433566469,{"$f":"9","v":9}]
[2.441558441558477,{"$f":"9","v":9}]
[2.449550449550485,{"$f":"9","v":9}]
[2.4575424575424933,{"$f":"9","v":9}]
[2.4655344655345015,{"$f":"9","v":9}]
[2.4735264735265097,{"$f":"9","v":9}]
[2.481518481518518,{"$f":"9","v":9}]
[2.489510489510526,{"$f":"9","v":9}]
[2.497502497502534,{"$f":"9","v":9}]
[2.5054945054945423,{"$f":"9","v":9}]
[2.5134865134865505,{"$f":"9","v":9}]
[2.5214785214785587,{"$f":"9","v":9}]
[2.529470529470567,{"$f":"9","v":9}]
[2.537462537462575,{"$f":"9","v":9}]
[2.545454545454583,{"$f":"9","v":9}]
[2.5534465534465913,{"$f":"9","v":9}]
[2.5614385614385995,{"$f":"9","v":9}]
[2.5694305694306077,{"$f":"9","v":9}]
[2.577422577422616,{"$f":"9","v":9}]
[2.585414585414624,{"$f":"9","v":9}]
[2.593406593406632,{"$f":"9","v":9}]
[2.6013986013986403,{"$f":"9","v":9}]
[2.6093906093906485,{"$f":"9","v":9}]
[2.6173826173826567,{"$f":"9","v":9}]
[2.625374625374665,{"$f":"9","v":9}]
[2.633366633366673,{"$f":"9","v":9}]
[2.641358641358681,{"$f":"9","v":9}]
[2.6493506493506893,{"$f":"9","v":9}]
[{"$f":"A833+dx","v":2.6573426573426975},{"$f":"9","v":9}]
[2.6653346653347056,{"$f":"9","v":9}]
[2.673326673326714,{"$f":"9","v":9}]
[2.681318681318722,{"$f":"9","v":9}]
[2.68931068931073,{"$f":"9","v":9}]
[2.6973026973027383,{"$f":"9","v":9}]
[2.7052947052947465,{"$f":"9","v":9}]
[2.7132867132867546,{"$f":"9","v":9}]
[2.721278721278763,{"$f":"9","v":9}]
[2.729270729270771,{"$f":"9","v":9}]
[2.737262737262779,{"$f":"9","v":9}]
[2.7452547452547873,{"$f":"9","v":9}]
[2.7532467532467955,{"$f":"9","v":9}]
[2.7612387612388036,{"$f":"9","v":9}]
[2.769230769230812,{"$f":"9","v":9}]
[2.77722277722282,{"$f":"9","v":9}]
[2.785214785214828,{"$f":"9","v":9}]
[2.7932067932068363,{"$f":"9","v":9}]
[2.8011988011988445,{"$f":"9","v":9}]
[2.8091908091908526,{"$f":"9","v":9}]
[2.817182817182861,{"$f":"9","v":9}]
[2.825174825174869,{"$f":"9","v":9}]
[2.833166833166877,{"$f":"9","v":9}]
[2.8411588411588853,{"$f":"9","v":9}]
[2.8491508491508934,{"$f":"9","v":9}]
[2.8571428571429016,{"$f":"9","v":9}]
[2.86513486513491,{"$f":"9","v":9}]
[2.873126873126918,{"$f":"9","v":9}]
[2.881118881118926,{"$f":"9","v":9}]
[2.8891108891109343,{"$f":"9","v":9}]
[2.8971028971029424,{"$f":"9","v":9}]
[2.9050949050949506,{"$f":"9","v":9}]
[2.9130869130869588,{"$f":"9","v":9}]
[2.921078921078967,{"$f":"9","v":9}]
[2.929070929070975,{"$f":"9","v":9}]
[2.9370629370629833,{"$f":"9","v":9}]
[2.9450549450549914,{"$f":"9","v":9}]
[2.9530469530469996,{"$f":"9","v":9}]
[2.9610389610390078,{"$f":"9","v":9}]
[2.969030969031016,{"$f":"9","v":9}]
[2.977022977023024,{"$f":"9","v":9}]
[2.9850149850150323,{"$f":"9","v":9}]
[2.9930069930070404,{"$f":"9","v":9}]
[3.0009990009990486,{"$f":"9","v":9}]
[3.0089910089910568,{"$f":"9","v":9}]
[3.016983016983065,{"$f":"9","v":9}]
[3.024975024975073,{"$f":"9","v":9}]
[3.0329670329670813,{"$f":"9","v":9}]
[3.0409590409590894,{"$f":"9","v":9}]
[3.0489510489510976,{"$f":"9","v":9}]
[3.0569430569431058,{"$f":"9","v":9}]
[3.064935064935114,{"$f":"9","v":9}]
[3.072927072927122,{"$f":"9","v":9}]
[3.0809190809191302,{"$f":"9","v":9}]
[3.0889110889111384,{"$f":"9","v":9}]
[3.0969030969031466,{"$f":"9","v":9}]
[3.1048951048951547,{"$f":"9","v":9}]
[3.112887112887163,{"$f":"9","v":9}]
[3.120879120879171,{"$f":"9","v":9}]
[3.1288711288711792,{"$f":"9","v":9}]
[3.1368631368631874,{"$f":"9","v":9}]
[3.1448551448551956,{"$f":"9","v":9}]
[3.1528471528472037,{"$f":"9","v":9}]
[3.160839160839212,{"$f":"9","v":9}]
[{"$f":"A897+dx","v":3.16883116883122},{"$f":"9","v":9}]
[3.1768231768232282,{"$f":"9","v":9}]
[3.1848151848152364,{"$f":"9","v":9}]
[3.1928071928072446,{"$f":"9","v":9}]
[3.2007992007992527,{"$f":"9","v":9}]
[3.208791208791261,{"$f":"9","v":9}]
[3.216783216783269,{"$f":"9","v":9}]
[3.2247752247752772,{"$f":"9","v":9}]
[3.2327672327672854,{"$f":"9","v":9}]
[3.2407592407592936,{"$f":"9","v":9}]
[3.2487512487513017,{"$f":"9","v":9}]
[3.25674325674331,{"$f":"9","v":9}]
[3.264735264735318,{"$f":"9","v":9}]
[3.272727272727326,{"$f":"9","v":9}]
[3.2807192807193344,{"$f":"9","v":9}]
[3.2887112887113426,{"$f":"9","v":9}]
[3.2967032967033507,{"$f":"9","v":9}]
[3.304695304695359,{"$f":"9","v":9}]
[3.312687312687367,{"$f":"9","v":9}]
[3.320679320679375,{"$f":"9","v":9}]
[3.3286713286713834,{"$f":"9","v":9}]
[3.3366633366633915,{"$f":"9","v":9}]
[3.3446553446553997,{"$f":"9","v":9}]
[3.352647352647408,{"$f":"9","v":9}]
[3.360639360639416,{"$f":"9","v":9}]
[3.368631368631424,{"$f":"9","v":9}]
[3.3766233766234324,{"$f":"9","v":9}]
[3.3846153846154405,{"$f":"9","v":9}]
[3.3926073926074487,{"$f":"9","v":9}]
[3.400599400599457,{"$f":"9","v":9}]
[3.408591408591465,{"$f":"9","v":9}]
[3.416583416583473,{"$f":"9","v":9}]
[3.4245754245754814,{"$f":"9","v":9}]
[3.4325674325674895,{"$f":"9","v":9}]
[3.4405594405594977,{"$f":"9","v":9}]
[3.448551448551506,{"$f":"9","v":9}]
[3.456543456543514,{"$f":"9","v":9}]
[3.464535464535522,{"$f":"9","v":9}]
[3.4725274725275304,{"$f":"9","v":9}]
[3.4805194805195385,{"$f":"9","v":9}]
[3.4885114885115467,{"$f":"9","v":9}]
[3.496503496503555,{"$f":"9","v":9}]
[3.504495504495563,{"$f":"9","v":9}]
[3.512487512487571,{"$f":"9","v":9}]
[3.5204795204795793,{"$f":"9","v":9}]
[3.5284715284715875,{"$f":"9","v":9}]
[3.5364635364635957,{"$f":"9","v":9}]
[3.544455544455604,{"$f":"9","v":9}]
[3.552447552447612,{"$f":"9","v":9}]
[3.56043956043962,{"$f":"9","v":9}]
[3.5684315684316283,{"$f":"9","v":9}]
[3.5764235764236365,{"$f":"9","v":9}]
[3.5844155844156447,{"$f":"9","v":9}]
[3.592407592407653,{"$f":"9","v":9}]
[3.600399600399661,{"$f":"9","v":9}]
[3.608391608391669,{"$f":"9","v":9}]
[3.6163836163836773,{"$f":"9","v":9}]
[3.6243756243756855,{"$f":"9","v":9}]
[3.6323676323676937,{"$f":"9","v":9}]
[3.640359640359702,{"$f":"9","v":9}]
[3.64835164835171,{"$f":"9","v":9}]
[3.656343656343718,{"$f":"9","v":9}]
[3.6643356643357263,{"$f":"9","v":9}]
[3.6723276723277345,{"$f":"9","v":9}]
[{"$f":"A961+dx","v":3.6803196803197427},{"$f":"9","v":9}]
[3.688311688311751,{"$f":"9","v":9}]
[3.696303696303759,{"$f":"9","v":9}]
[3.704295704295767,{"$f":"9","v":9}]
[3.7122877122877753,{"$f":"9","v":9}]
[3.7202797202797835,{"$f":"9","v":9}]
[3.7282717282717917,{"$f":"9","v":9}]
[3.7362637362638,{"$f":"9","v":9}]
[3.744255744255808,{"$f":"9","v":9}]
[3.752247752247816,{"$f":"9","v":9}]
[3.7602397602398243,{"$f":"9","v":9}]
[3.7682317682318325,{"$f":"9","v":9}]
[3.7762237762238406,{"$f":"9","v":9}]
[3.784215784215849,{"$f":"9","v":9}]
[3.792207792207857,{"$f":"9","v":9}]
[3.800199800199865,{"$f":"9","v":9}]
[3.8081918081918733,{"$f":"9","v":9}]
[3.8161838161838815,{"$f":"9","v":9}]
[3.8241758241758896,{"$f":"9","v":9}]
[3.832167832167898,{"$f":"9","v":9}]
[3.840159840159906,{"$f":"9","v":9}]
[3.848151848151914,{"$f":"9","v":9}]
[3.8561438561439223,{"$f":"9","v":9}]
[3.8641358641359305,{"$f":"9","v":9}]
[3.8721278721279386,{"$f":"9","v":9}]
[3.880119880119947,{"$f":"9","v":9}]
[3.888111888111955,{"$f":"9","v":9}]
[3.896103896103963,{"$f":"9","v":9}]
[3.9040959040959713,{"$f":"9","v":9}]
[3.9120879120879795,{"$f":"9","v":9}]
[3.9200799200799876,{"$f":"9","v":9}]
[3.928071928071996,{"$f":"9","v":9}]
[3.936063936064004,{"$f":"9","v":9}]
[3.944055944056012,{"$f":"9","v":9}]
[3.9520479520480203,{"$f":"9","v":9}]
[3.9600399600400285,{"$f":"9","v":9}]
[3.9680319680320366,{"$f":"9","v":9}]
[3.976023976024045,{"$f":"9","v":9}]
[3.984015984016053,{"$f":"9","v":9}]
[3.992007992008061,{"$f":"9","v":9}]
[4.000000000000069,{"$f":"9","v":9}]
[null,{"$f":"9","v":9}]

{"sheet":"Defining Function","index":3,"n_rows":12,"n_cols":1,"rows_kept":12}
["                                                     Defining a Function in Excel"]
[]
["Computers have very specific rules you must follow when defining a function.  If you don't, the program will either not work at all or will work incorrectly."]
[]
["1. The Variable used should be the one named in the instruction, usually x, though sometimes y, t, Q (for an angle theta), "]
[" or even x and y (for a function of two variables). "]
[]
["2.  Order of Operations:  There five arithmetic operations, addition (+), subtraction (-), multiplication (*), division (/), and  exponentiation or power (^).  When computers see any of these operation symbols, they perform the indicated steps in a very particular order.  First, the power is done.  Second, products and quotients of adjacent terms is done.  Third, and last, sums and differences of adjacent terms are done.  So, in 10*x^3 + 5*x – 7, say with x = 2, the first pass only calculates 2^3 and ignores the multiplications and the sums and differences to calculate 2^3 = 8.  The second pass looks at 10*8 + 5*2 – 7 and only does the multiplications, so it produces 80 + 10 -  7.  The third pass looks at the +’s and –‘s to produce 80 + 10 – 7 = 83.  "]
[]
["3.    Parentheses  If you need an operation involving more than two adjacent terms, as in Ö4^3 + 6^2, the computer would take the square root of  4 to produce 2^3 + 6^2;  it would then cube the 2 and square the 6 to produce 8 + 36; and finally it would add the 8 and the 36 to get 44.  If you actually wanted the square root of the entire expression, you would need to use parentheses, as in Ö(4^3 + 6^2) to tell the computer to do all the operations inside the parentheses before taking the square root.  Therefore, it would calculate (4^3 + 6^2) = 64 + 36 = 100 and then take the square root of Ö100  =  10."]
[]
["4.  Built-In Functions  Computer programs have built-in functions for most common algebraic functions.  In Excel, the square root function is denoted by SQRT(…), so SQRT(100) = 10.  Alternatively, you could enter it as 100^.5 or 100^(1/2); notice that parentheses are needed to have the ½ done first.  The common trig functions are SIN (…), COS (…), and TAN (…), where the arguments are automatically interpreted as being in radians, not degrees.  The logarithm to the base 10 is represented by LOG (…) and the logarithm with the base e, known as the natural logarithm, is LN (…). The corresponding exponential function with base e is EXP (x).  If x is the variable, then each of these would be SQRT (x), SIN (x), COS (x), TAN (x), LOG (x) (for log with base 10 ), LN (x) (for log with base e ), and EXP (x)."]