{"text_format":"3","workbook":"xlsx","n_sheets":4,"sheets":["Sheet1","Sheet2","Sheet3","Defining Function"],"not_rendered":{"charts":1,"images":1,"macros":1,"defined_names":6,"comments":1},"read":"whole","date_system":"1900"}

{"sheet":"Sheet1","index":0,"n_rows":35,"n_cols":19,"rows_kept":35,"merged":[[28,2,28,3]]}
[null,null,"The Differential"]
[]
[null,"    This graphing utility lets you compare"]
[null,null,"the differential dy based on"]
[null,null,"the tangent line to the curve"]
[null,null,"   to the actual change Dy"]
[null,null,"           for any Dx"]
[null,null,"     at any desired point."]
[]
[]
["  Enter the function in terms of x:     f(x) = ",{"$nulls":4},"x^3-7*x+4"]
[]
[]
["Now enter the interval for x:  "]
[null,null,"xMin =",1]
[null,null,"xMax =",5]
[]
[]
[{"$nulls":12},"The graph of the function y =",null,null,{"$f":"F11","v":"x^3-7*x+4"}]
[]
["Click each item below for suggestions and investigations"]
[null,null,"   Item 1",{"$nulls":9},"             Select the point of tangency x0 =",{"$nulls":3},{"$f":"P24","v":3.64}]
[null,null,"   Item 2"]
[null,null,"   Item 3",{"$nulls":11},66,{"$f":"D15+O24*(D16-D15)/100","v":3.64}]
[]
[{"$nulls":12},"Enter the change Dx in x -- it must be smaller than ",{"$nulls":5},{"$f":"xMax-x0","v":1.3599999999999999}]
[{"$nulls":14},"Dx = ",0.6]
["To access/download all the DIGMath Apps for Calculus"]
["      Click this link:",null,"DIGMath for Calculus",{"$nulls":9},{"$f":"IF(OR(dxx>S26,dxx<0),\"It must be between 0 and \"&TEXT(S26,\"0.00\"),\"\")","v":""}]
[{"$nulls":12},"       The actual change Dy in the function  = ",{"$nulls":4},{"$f":"Sheet2!H2-Sheet2!H1","v":23.730997391103323}]
["Created by:  Sheldon P. Gordon   "]
["                      Farmingdale State College    ",{"$nulls":12}," The value of the differential dy = ",{"$nulls":3},{"$f":"Sheet2!H6-Sheet2!H5","v":19.640904949196837}]
["Development of this module was supported by the "]
["NSF's Division of Undergraduate Education  "]
["under grants DUE-0310123 and DUE-0442160."]

{"sheet":"Sheet2","index":1,"n_rows":1004,"n_cols":10,"rows_kept":1004}
["x","f(x)","slope",null,null,"xl=",{"$f":"x0","v":3.64},{"$f":"LOOKUP(x0,Sheet2!A3:A1002,Sheet2!B3:B1002)","v":26.66224947615973},"\"=yl"]
[{"$nulls":5},"xr=",{"$f":"x0+dxx","v":4.24},{"$f":"LOOKUP(G2,Sheet2!A3:A1003,Sheet2!B3:B1003)","v":50.39324686726305},"\"=yR","secant line"]
[{"$f":"Sheet1!D15","v":{"v":1,"d":"1.00"}},{"$f":"x^3-7*x+4","v":-2},{"$f":"(B4-B3)/Sheet2!$G$18","v":-3.987996019964129}]
[{"$f":"A3+Sheet2!G$18","v":{"v":1.003996003996004,"d":"1.00"}},-2.0159360480318247,{"$f":"(B5-B4)/Sheet2!$G$18","v":-3.9639241877003633}]
[{"$f":"A4+Sheet2!G$18","v":{"v":1.0079920079920082,"d":"1.01"}},-2.0317759049257322,{"$f":"(B6-B5)/Sheet2!$G$18","v":-3.93975654714949},null,null,"xL =",{"$f":"x0","v":3.64},{"$f":"H1","v":26.66224947615973},"\"=yl"]
[{"$f":"A5+Sheet2!G$18","v":{"v":1.0119880119880122,"d":"1.01"}},-2.0475191878314245,{"$f":"(B7-B6)/Sheet2!$G$18","v":-3.9154930983101766},null,null,"xR =",{"$f":"x0+dxx","v":4.24},{"$f":"H1+dxx*LOOKUP(x0,A3:A1002,C3:C1002)","v":46.30315442535657},"\"=yR","tangent line"]
[{"$f":"A6+Sheet2!G$18","v":{"v":1.0159840159840163,"d":"1.02"}},-2.063165513898598,{"$f":"(B8-B7)/Sheet2!$G$18","v":-3.891133841183978}]
[{"$f":"A7+Sheet2!G$18","v":{"v":1.0199800199800204,"d":"1.02"}},-2.0787145002769556,{"$f":"(B9-B8)/Sheet2!$G$18","v":-3.8666787757697834}]
[{"$f":"A8+Sheet2!G$18","v":{"v":1.0239760239760245,"d":"1.02"}},-2.0941657641161955,{"$f":"(B10-B9)/Sheet2!$G$18","v":-3.842127902068037},null,null,"Vertical lines"]
[{"$f":"A9+Sheet2!G$18","v":{"v":1.0279720279720286,"d":"1.03"}},-2.109518922566018,{"$f":"(B11-B10)/Sheet2!$G$18","v":-3.8174812200787382},null,null,"x =",{"$f":"G$2","v":4.24},0,"\"= y"]
[{"$f":"A10+Sheet2!G$18","v":{"v":1.0319680319680327,"d":"1.03"}},-2.1247735927761227,{"$f":"(B12-B11)/Sheet2!$G$18","v":-3.792738729801666},null,null,"x =",{"$f":"G$2","v":4.24},{"$f":"H2","v":50.39324686726305},"\"= y"]
[{"$f":"A11+Sheet2!G$18","v":{"v":1.0359640359640367,"d":"1.04"}},-2.1399293918962092,{"$f":"(B13-B12)/Sheet2!$G$18","v":-3.767900431237042}]
[{"$f":"A12+Sheet2!G$18","v":{"v":1.0399600399600408,"d":"1.04"}},-2.1549859370759776,{"$f":"(B14-B13)/Sheet2!$G$18","v":-3.7429663243850886},null,null,"x =",{"$f":"G$2","v":4.24},0,"\"= y"]
[{"$f":"A13+Sheet2!G$18","v":{"v":1.043956043956045,"d":"1.04"}},-2.169942845465129,{"$f":"(B15-B14)/Sheet2!$G$18","v":-3.717936409245361},null,null,"x =",{"$f":"G$2","v":4.24},{"$f":"H6","v":46.30315442535657},"\"= y"]
[{"$f":"A14+Sheet2!G$18","v":{"v":1.047952047952049,"d":"1.05"}},-2.184799734213362,{"$f":"(B16-B15)/Sheet2!$G$18","v":-3.692810685817637}]
[{"$f":"A15+Sheet2!G$18","v":{"v":1.051948051948053,"d":"1.05"}},-2.1995562204703756,{"$f":"(B17-B16)/Sheet2!$G$18","v":-3.667589154102806}]
[{"$f":"A16+Sheet2!G$18","v":{"v":1.0559440559440572,"d":"1.06"}},-2.2142119213858713,{"$f":"(B18-B17)/Sheet2!$G$18","v":-3.642271814099979}]
[{"$f":"A17+Sheet2!G$18","v":{"v":1.0599400599400612,"d":"1.06"}},-2.2287664541095475,{"$f":"(B19-B18)/Sheet2!$G$18","v":-3.616858665809822},null,null,"delta x = ",{"$f":"(Sheet1!D16-Sheet1!D15)/1001","v":3.996003996003996E-3}]
[{"$f":"A18+Sheet2!G$18","v":{"v":1.0639360639360653,"d":"1.06"}},-2.2432194357911053,{"$f":"(B20-B19)/Sheet2!$G$18","v":-3.591349709231669}]
[{"$f":"A19+Sheet2!G$18","v":{"v":1.0679320679320694,"d":"1.07"}},-2.257570483580243,{"$f":"(B21-B20)/Sheet2!$G$18","v":-3.565744944366409}]
[{"$f":"A20+Sheet2!G$18","v":{"v":1.0719280719280735,"d":"1.07"}},-2.271819214626662,{"$f":"(B22-B21)/Sheet2!$G$18","v":-3.5400443712133747}]
[{"$f":"A21+Sheet2!G$18","v":{"v":1.0759240759240776,"d":"1.08"}},-2.285965246080062,{"$f":"(B23-B22)/Sheet2!$G$18","v":-3.5142479897725667}]
[{"$f":"A22+Sheet2!G$18","v":{"v":1.0799200799200817,"d":"1.08"}},-2.3000081950901423,{"$f":"(B24-B23)/Sheet2!$G$18","v":-3.4883558000442068}]
[{"$f":"A23+Sheet2!G$18","v":{"v":1.0839160839160857,"d":"1.08"}},-2.3139476788066027,{"$f":"(B25-B24)/Sheet2!$G$18","v":-3.462367802028295}]
[{"$f":"A24+Sheet2!G$18","v":{"v":1.0879120879120898,"d":"1.09"}},-2.3277833143791433,{"$f":"(B26-B25)/Sheet2!$G$18","v":-3.436283995724387}]
[{"$f":"A25+Sheet2!G$18","v":{"v":1.091908091908094,"d":"1.09"}},-2.3415147189574625,{"$f":"(B27-B26)/Sheet2!$G$18","v":-3.410104381133594}]
[{"$f":"A26+Sheet2!G$18","v":{"v":1.095904095904098,"d":"1.10"}},-2.355141509691263,{"$f":"(B28-B27)/Sheet2!$G$18","v":-3.3838289582545826}]
[{"$f":"A27+Sheet2!G$18","v":{"v":1.099900099900102,"d":"1.10"}},-2.3686633037302425,{"$f":"(B29-B28)/Sheet2!$G$18","v":-3.3574577270880197}]
[{"$f":"A28+Sheet2!G$18","v":{"v":1.1038961038961062,"d":"1.10"}},-2.3820797182241007,{"$f":"(B30-B29)/Sheet2!$G$18","v":-3.330990687634127}]
[{"$f":"A29+Sheet2!G$18","v":{"v":1.1078921078921102,"d":"1.11"}},-2.3953903703225388,{"$f":"(B31-B30)/Sheet2!$G$18","v":-3.3044278398924605}]
[{"$f":"A30+Sheet2!G$18","v":{"v":1.1118881118881143,"d":"1.11"}},-2.408594877175256,{"$f":"(B32-B31)/Sheet2!$G$18","v":-3.2777691838630196}]
[{"$f":"A31+Sheet2!G$18","v":{"v":1.1158841158841184,"d":"1.12"}},-2.4216928559319513,{"$f":"(B33-B32)/Sheet2!$G$18","v":-3.251014719546472}]
[{"$f":"A32+Sheet2!G$18","v":{"v":1.1198801198801225,"d":"1.12"}},-2.434683923742327,{"$f":"(B34-B33)/Sheet2!$G$18","v":-3.2241644469417055}]
[{"$f":"A33+Sheet2!G$18","v":{"v":1.1238761238761266,"d":"1.12"}},-2.44756769775608,{"$f":"(B35-B34)/Sheet2!$G$18","v":-3.1972183660496096}]
[{"$f":"A34+Sheet2!G$18","v":{"v":1.1278721278721306,"d":"1.13"}},-2.4603437951229115,{"$f":"(B36-B35)/Sheet2!$G$18","v":-3.17017647686974}]
[{"$f":"A35+Sheet2!G$18","v":{"v":1.1318681318681347,"d":"1.13"}},-2.473011832992521,{"$f":"(B37-B36)/Sheet2!$G$18","v":-3.1430387794023185}]
[{"$f":"A36+Sheet2!G$18","v":{"v":1.1358641358641388,"d":"1.14"}},-2.485571428514608,{"$f":"(B38-B37)/Sheet2!$G$18","v":-3.1158052736477897}]
[{"$f":"A37+Sheet2!G$18","v":{"v":1.139860139860143,"d":"1.14"}},-2.498022198838875,{"$f":"(B39-B38)/Sheet2!$G$18","v":-3.0884759596043754}]
[{"$f":"A38+Sheet2!G$18","v":{"v":1.143856143856147,"d":"1.14"}},-2.5103637611150162,{"$f":"(B40-B39)/Sheet2!$G$18","v":-3.0610508372751877}]
[{"$f":"A39+Sheet2!G$18","v":{"v":1.147852147852151,"d":"1.15"}},-2.5225957324927393,{"$f":"(B41-B40)/Sheet2!$G$18","v":-3.0335299066566703}]
[{"$f":"A40+Sheet2!G$18","v":{"v":1.1518481518481551,"d":"1.15"}},-2.534717730121737,{"$f":"(B42-B41)/Sheet2!$G$18","v":-3.00591316775149}]
[{"$f":"A41+Sheet2!G$18","v":{"v":1.1558441558441592,"d":"1.16"}},-2.546729371151713,{"$f":"(B43-B42)/Sheet2!$G$18","v":-2.9782006205580913}]
[{"$f":"A42+Sheet2!G$18","v":{"v":1.1598401598401633,"d":"1.16"}},-2.5586302727323647,{"$f":"(B44-B43)/Sheet2!$G$18","v":-2.950392265077585}]
[{"$f":"A43+Sheet2!G$18","v":{"v":1.1638361638361674,"d":"1.16"}},-2.570420052013394,{"$f":"(B45-B44)/Sheet2!$G$18","v":-2.9224881013093054}]
[{"$f":"A44+Sheet2!G$18","v":{"v":1.1678321678321715,"d":"1.17"}},-2.5820983261445,{"$f":"(B46-B45)/Sheet2!$G$18","v":-2.894488129253251}]
[{"$f":"A45+Sheet2!G$18","v":{"v":1.1718281718281756,"d":"1.17"}},-2.593664712275382,{"$f":"(B47-B46)/Sheet2!$G$18","v":-2.8663923489103125}]
[{"$f":"A46+Sheet2!G$18","v":{"v":1.1758241758241796,"d":"1.18"}},-2.605118827555743,{"$f":"(B48-B47)/Sheet2!$G$18","v":-2.8382007602787103}]
[{"$f":"A47+Sheet2!G$18","v":{"v":1.1798201798201837,"d":"1.18"}},-2.6164602891352784,{"$f":"(B49-B48)/Sheet2!$G$18","v":-2.809913363359779}]
[{"$f":"A48+Sheet2!G$18","v":{"v":1.1838161838161878,"d":"1.18"}},-2.627688714163689,{"$f":"(B50-B49)/Sheet2!$G$18","v":-2.781530158153518}]
[{"$f":"A49+Sheet2!G$18","v":{"v":1.1878121878121919,"d":"1.19"}},-2.638803719790676,{"$f":"(B51-B50)/Sheet2!$G$18","v":-2.753051144659483}]
[{"$f":"A50+Sheet2!G$18","v":{"v":1.191808191808196,"d":"1.19"}},-2.649804923165939,{"$f":"(B52-B51)/Sheet2!$G$18","v":-2.7244763228778965}]
[{"$f":"A51+Sheet2!G$18","v":{"v":1.1958041958042,"d":"1.20"}},-2.660691941439177,{"$f":"(B53-B52)/Sheet2!$G$18","v":-2.695805692808758}]
[{"$f":"A52+Sheet2!G$18","v":{"v":1.1998001998002041,"d":"1.20"}},-2.6714643917600913,{"$f":"(B54-B53)/Sheet2!$G$18","v":-2.6670392544518458}]
[{"$f":"A53+Sheet2!G$18","v":{"v":1.2037962037962082,"d":"1.20"}},-2.6821218912783804,{"$f":"(B55-B54)/Sheet2!$G$18","v":-2.6381770078073816}]
[{"$f":"A54+Sheet2!G$18","v":{"v":1.2077922077922123,"d":"1.21"}},-2.6926640571437446,{"$f":"(B56-B55)/Sheet2!$G$18","v":-2.609218952875588}]
[{"$f":"A55+Sheet2!G$18","v":{"v":1.2117882117882164,"d":"1.21"}},-2.703090506505885,{"$f":"(B57-B56)/Sheet2!$G$18","v":-2.580165089655576}]
[{"$f":"A56+Sheet2!G$18","v":{"v":1.2157842157842205,"d":"1.22"}},-2.7134008565144985,{"$f":"(B58-B57)/Sheet2!$G$18","v":-2.5510154181482343}]
[{"$f":"A57+Sheet2!G$18","v":{"v":1.2197802197802246,"d":"1.22"}},-2.7235947243192866,{"$f":"(B59-B58)/Sheet2!$G$18","v":-2.5217699383533407}]
[{"$f":"A58+Sheet2!G$18","v":{"v":1.2237762237762286,"d":"1.22"}},-2.7336717270699493,{"$f":"(B60-B59)/Sheet2!$G$18","v":-2.4924286502708957}]
[{"$f":"A59+Sheet2!G$18","v":{"v":1.2277722277722327,"d":"1.23"}},-2.7436314819161867,{"$f":"(B61-B60)/Sheet2!$G$18","v":-2.4629915539004545}]
[{"$f":"A60+Sheet2!G$18","v":{"v":1.2317682317682368,"d":"1.23"}},-2.753473606007697,{"$f":"(B62-B61)/Sheet2!$G$18","v":-2.433458649242906}]
[{"$f":"A61+Sheet2!G$18","v":{"v":1.2357642357642409,"d":"1.24"}},-2.763197716494182,{"$f":"(B63-B62)/Sheet2!$G$18","v":-2.4038299362978055}]
[{"$f":"A62+Sheet2!G$18","v":{"v":1.239760239760245,"d":"1.24"}},-2.772803430525342,{"$f":"(B64-B63)/Sheet2!$G$18","v":-2.374105415064487}]
[{"$f":"A63+Sheet2!G$18","v":{"v":1.243756243756249,"d":"1.24"}},-2.7822903652508746,{"$f":"(B65-B64)/Sheet2!$G$18","v":-2.3442850855438384}]
[{"$f":"A64+Sheet2!G$18","v":{"v":1.2477522477522531,"d":"1.25"}},-2.7916581378204803,{"$f":"(B66-B65)/Sheet2!$G$18","v":-2.3143689477354163}]
[{"$f":"A65+Sheet2!G$18","v":{"v":1.2517482517482572,"d":"1.25"}},-2.8009063653838586,{"$f":"(B67-B66)/Sheet2!$G$18","v":-2.2843570016396644}]
[{"$f":"A66+Sheet2!G$18","v":{"v":1.2557442557442613,"d":"1.26"}},{"$f":"x^3-7*x+4","v":-2.8100346650907104},{"$f":"(B68-B67)/Sheet2!$G$18","v":-2.254249247256139}]
[{"$f":"A67+Sheet2!G$18","v":{"v":1.2597402597402654,"d":"1.26"}},-2.819042654090735,{"$f":"(B69-B68)/Sheet2!$G$18","v":-2.2240456845852834}]
[{"$f":"A68+Sheet2!G$18","v":{"v":1.2637362637362695,"d":"1.26"}},-2.827929949533633,{"$f":"(B70-B69)/Sheet2!$G$18","v":-2.193746313626432}]
[{"$f":"A69+Sheet2!G$18","v":{"v":1.2677322677322735,"d":"1.27"}},-2.8366961685691034,{"$f":"(B71-B70)/Sheet2!$G$18","v":-2.1633511343798064}]
[{"$f":"A70+Sheet2!G$18","v":{"v":1.2717282717282776,"d":"1.27"}},-2.845340928346845,{"$f":"(B72-B71)/Sheet2!$G$18","v":-2.1328601468467405}]
[{"$f":"A71+Sheet2!G$18","v":{"v":1.2757242757242817,"d":"1.28"}},-2.853863846016562,{"$f":"(B73-B72)/Sheet2!$G$18","v":-2.102273351024567}]
[{"$f":"A72+Sheet2!G$18","v":{"v":1.2797202797202858,"d":"1.28"}},-2.862264538727949,{"$f":"(B74-B73)/Sheet2!$G$18","v":-2.0715907469152866}]
[{"$f":"A73+Sheet2!G$18","v":{"v":1.2837162837162899,"d":"1.28"}},-2.8705426236307074,{"$f":"(B75-B74)/Sheet2!$G$18","v":-2.040812334518454}]
[{"$f":"A74+Sheet2!G$18","v":{"v":1.287712287712294,"d":"1.29"}},-2.8786977178745374,{"$f":"(B76-B75)/Sheet2!$G$18","v":-2.009938113834292}]
[{"$f":"A75+Sheet2!G$18","v":{"v":1.291708291708298,"d":"1.29"}},-2.88672943860914,{"$f":"(B77-B76)/Sheet2!$G$18","v":-1.9789680848619116}]
[{"$f":"A76+Sheet2!G$18","v":{"v":1.2957042957043021,"d":"1.30"}},-2.8946374029842126,{"$f":"(B78-B77)/Sheet2!$G$18","v":-1.9479022476026462}]
[{"$f":"A77+Sheet2!G$18","v":{"v":1.2997002997003062,"d":"1.30"}},-2.902421228149458,{"$f":"(B79-B78)/Sheet2!$G$18","v":-1.9167406020556068}]
[{"$f":"A78+Sheet2!G$18","v":{"v":1.3036963036963103,"d":"1.30"}},-2.910080531254575,{"$f":"(B80-B79)/Sheet2!$G$18","v":-1.8854831482205712}]
[{"$f":"A79+Sheet2!G$18","v":{"v":1.3076923076923144,"d":"1.31"}},-2.917614929449263,{"$f":"(B81-B80)/Sheet2!$G$18","v":-1.8541298860975393}]
[{"$f":"A80+Sheet2!G$18","v":{"v":1.3116883116883185,"d":"1.31"}},-2.925024039883219,{"$f":"(B82-B81)/Sheet2!$G$18","v":-1.8226808156878447}]
[{"$f":"A81+Sheet2!G$18","v":{"v":1.3156843156843225,"d":"1.32"}},-2.9323074797061475,{"$f":"(B83-B82)/Sheet2!$G$18","v":-1.7911359369901538}]
[{"$f":"A82+Sheet2!G$18","v":{"v":1.3196803196803266,"d":"1.32"}},-2.9394648660677465,{"$f":"(B84-B83)/Sheet2!$G$18","v":-1.7594952500044667}]
[{"$f":"A83+Sheet2!G$18","v":{"v":1.3236763236763307,"d":"1.32"}},-2.9464958161177144,{"$f":"(B85-B84)/Sheet2!$G$18","v":-1.7277587547316724}]
[{"$f":"A84+Sheet2!G$18","v":{"v":1.3276723276723348,"d":"1.33"}},-2.953399947005753,{"$f":"(B86-B85)/Sheet2!$G$18","v":-1.6959264511713263}]
[{"$f":"A85+Sheet2!G$18","v":{"v":1.3316683316683389,"d":"1.33"}},-2.9601768758815625,{"$f":"(B87-B86)/Sheet2!$G$18","v":-1.663998339322984}]
[{"$f":"A86+Sheet2!G$18","v":{"v":1.335664335664343,"d":"1.34"}},-2.966826219894841,{"$f":"(B88-B87)/Sheet2!$G$18","v":-1.6319744191875345}]
[{"$f":"A87+Sheet2!G$18","v":{"v":1.339660339660347,"d":"1.34"}},-2.973347596195291,{"$f":"(B89-B88)/Sheet2!$G$18","v":-1.5998546907636442}]
[{"$f":"A88+Sheet2!G$18","v":{"v":1.3436563436563511,"d":"1.34"}},-2.979740621932608,{"$f":"(B90-B89)/Sheet2!$G$18","v":-1.5676391540526466}]
[{"$f":"A89+Sheet2!G$18","v":{"v":1.3476523476523552,"d":"1.35"}},-2.986004914256495,{"$f":"(B91-B90)/Sheet2!$G$18","v":-1.5353278090540974}]
[{"$f":"A90+Sheet2!G$18","v":{"v":1.3516483516483593,"d":"1.35"}},-2.992140090316651,{"$f":"(B92-B91)/Sheet2!$G$18","v":-1.5029206557675518}]
[{"$f":"A91+Sheet2!G$18","v":{"v":1.3556443556443634,"d":"1.36"}},-2.998145767262775,{"$f":"(B93-B92)/Sheet2!$G$18","v":-1.4704176941938991}]
[{"$f":"A92+Sheet2!G$18","v":{"v":1.3596403596403674,"d":"1.36"}},-3.004021562244569,{"$f":"(B94-B93)/Sheet2!$G$18","v":-1.4378189243322501}]
[{"$f":"A93+Sheet2!G$18","v":{"v":1.3636363636363715,"d":"1.36"}},-3.009767092411731,{"$f":"(B95-B94)/Sheet2!$G$18","v":-1.4051243461837162}]
[{"$f":"A94+Sheet2!G$18","v":{"v":1.3676323676323756,"d":"1.37"}},-3.0153819749139634,{"$f":"(B96-B95)/Sheet2!$G$18","v":-1.3723339597465192}]
[{"$f":"A95+Sheet2!G$18","v":{"v":1.3716283716283797,"d":"1.37"}},-3.0208658269009625,{"$f":"(B97-B96)/Sheet2!$G$18","v":-1.3394477650219927}]
[{"$f":"A96+Sheet2!G$18","v":{"v":1.3756243756243838,"d":"1.38"}},-3.026218265522429,{"$f":"(B98-B97)/Sheet2!$G$18","v":-1.3064657620101368}]
[{"$f":"A97+Sheet2!G$18","v":{"v":1.3796203796203879,"d":"1.38"}},-3.031438907928064,{"$f":"(B99-B98)/Sheet2!$G$18","v":-1.2733879507105068}]
[{"$f":"A98+Sheet2!G$18","v":{"v":1.383616383616392,"d":"1.38"}},-3.0365273712675664,{"$f":"(B100-B99)/Sheet2!$G$18","v":-1.2402143311233251}]
[{"$f":"A99+Sheet2!G$18","v":{"v":1.387612387612396,"d":"1.39"}},-3.0414832726906367,{"$f":"(B101-B100)/Sheet2!$G$18","v":-1.2069449032485917}]
[{"$f":"A100+Sheet2!G$18","v":{"v":1.3916083916084,"d":"1.39"}},-3.0463062293469747,{"$f":"(B102-B101)/Sheet2!$G$18","v":-1.1735796670860843}]
[{"$f":"A101+Sheet2!G$18","v":{"v":1.3956043956044042,"d":"1.40"}},-3.0509958583862797,{"$f":"(B103-B102)/Sheet2!$G$18","v":-1.1401186226360251}]
[{"$f":"A102+Sheet2!G$18","v":{"v":1.3996003996004083,"d":"1.40"}},-3.055551776958252,{"$f":"(B104-B103)/Sheet2!$G$18","v":-1.1065617698986365}]
[{"$f":"A103+Sheet2!G$18","v":{"v":1.4035964035964124,"d":"1.40"}},-3.059973602212592,{"$f":"(B105-B104)/Sheet2!$G$18","v":-1.0729091088730294}]
[{"$f":"A104+Sheet2!G$18","v":{"v":1.4075924075924164,"d":"1.41"}},-3.064260951298998,{"$f":"(B106-B105)/Sheet2!$G$18","v":-1.0391606395600927}]
[{"$f":"A105+Sheet2!G$18","v":{"v":1.4115884115884205,"d":"1.41"}},-3.06841344136717,{"$f":"(B107-B106)/Sheet2!$G$18","v":-1.0053163619598267}]
[{"$f":"A106+Sheet2!G$18","v":{"v":1.4155844155844246,"d":"1.42"}},-3.0724306895668096,{"$f":"(B108-B107)/Sheet2!$G$18","v":-0.971376276071342}]
[{"$f":"A107+Sheet2!G$18","v":{"v":1.4195804195804287,"d":"1.42"}},-3.076312313047614,{"$f":"(B109-B108)/Sheet2!$G$18","v":-0.9373403818955279}]
[{"$f":"A108+Sheet2!G$18","v":{"v":1.4235764235764328,"d":"1.42"}},-3.0800579289592847,{"$f":"(B110-B109)/Sheet2!$G$18","v":-0.9032086794323844}]
[{"$f":"A109+Sheet2!G$18","v":{"v":1.4275724275724369,"d":"1.43"}},-3.083667154451522,{"$f":"(B111-B110)/Sheet2!$G$18","v":-0.8689811686819113}]
[{"$f":"A110+Sheet2!G$18","v":{"v":1.431568431568441,"d":"1.43"}},-3.087139606674027,{"$f":"(B112-B111)/Sheet2!$G$18","v":-0.8346578496427752}]
[{"$f":"A111+Sheet2!G$18","v":{"v":1.435564435564445,"d":"1.44"}},-3.0904749027764957,{"$f":"(B113-B112)/Sheet2!$G$18","v":-0.8002387223165319}]
[{"$f":"A112+Sheet2!G$18","v":{"v":1.439560439560449,"d":"1.44"}},-3.0936726599086297,{"$f":"(B114-B113)/Sheet2!$G$18","v":-0.7657237867027369}]
[{"$f":"A113+Sheet2!G$18","v":{"v":1.4435564435564532,"d":"1.44"}},-3.096732495220129,{"$f":"(B115-B114)/Sheet2!$G$18","v":-0.7311130428011678}]
[{"$f":"A114+Sheet2!G$18","v":{"v":1.4475524475524573,"d":"1.45"}},-3.0996540258606933,{"$f":"(B116-B115)/Sheet2!$G$18","v":-0.6964064906120471}]
[{"$f":"A115+Sheet2!G$18","v":{"v":1.4515484515484613,"d":"1.45"}},-3.102436868980022,{"$f":"(B117-B116)/Sheet2!$G$18","v":-0.6616041301355968}]
[{"$f":"A116+Sheet2!G$18","v":{"v":1.4555444555444654,"d":"1.46"}},-3.1050806417278167,{"$f":"(B118-B117)/Sheet2!$G$18","v":-0.6267059613713726}]
[{"$f":"A117+Sheet2!G$18","v":{"v":1.4595404595404695,"d":"1.46"}},-3.1075849612537763,{"$f":"(B119-B118)/Sheet2!$G$18","v":-0.5917119843191521}]
[{"$f":"A118+Sheet2!G$18","v":{"v":1.4635364635364736,"d":"1.46"}},-3.109949444707599,{"$f":"(B120-B119)/Sheet2!$G$18","v":-0.5566221989800466}]
[{"$f":"A119+Sheet2!G$18","v":{"v":1.4675324675324777,"d":"1.47"}},-3.112173709238988,{"$f":"(B121-B120)/Sheet2!$G$18","v":-0.5214366053527226}]
[{"$f":"A120+Sheet2!G$18","v":{"v":1.4715284715284818,"d":"1.47"}},-3.11425737199764,{"$f":"(B122-B121)/Sheet2!$G$18","v":-0.48615520343762464}]
[{"$f":"A121+Sheet2!G$18","v":{"v":1.4755244755244858,"d":"1.48"}},-3.116200050133255,{"$f":"(B123-B122)/Sheet2!$G$18","v":-0.4507779932351972}]
[{"$f":"A122+Sheet2!G$18","v":{"v":1.47952047952049,"d":"1.48"}},-3.1180013607955335,{"$f":"(B124-B123)/Sheet2!$G$18","v":-0.4153049747456625}]
[{"$f":"A123+Sheet2!G$18","v":{"v":1.483516483516494,"d":"1.48"}},-3.1196609211341775,{"$f":"(B125-B124)/Sheet2!$G$18","v":-0.37973614796768707}]
[{"$f":"A124+Sheet2!G$18","v":{"v":1.487512487512498,"d":"1.49"}},-3.1211783482988835,{"$f":"(B126-B125)/Sheet2!$G$18","v":-0.3440715129026044}]
[{"$f":"A125+Sheet2!G$18","v":{"v":1.4915084915085022,"d":"1.49"}},-3.1225532594393535,{"$f":"(B127-B126)/Sheet2!$G$18","v":-0.30831106954997}]
[{"$f":"A126+Sheet2!G$18","v":{"v":1.4955044955045063,"d":"1.50"}},-3.1237852717052874,{"$f":"(B128-B127)/Sheet2!$G$18","v":-0.2724548179091171}]
[{"$f":"A127+Sheet2!G$18","v":{"v":1.4995004995005103,"d":"1.50"}},-3.124874002246383,{"$f":"(B129-B128)/Sheet2!$G$18","v":-0.2365027579813792}]
[{"$f":"A128+Sheet2!G$18","v":{"v":1.5034965034965144,"d":"1.50"}},-3.1258190682123423,{"$f":"(B130-B129)/Sheet2!$G$18","v":-0.2004548897654228}]
[{"$f":"A129+Sheet2!G$18","v":{"v":1.5074925074925185,"d":"1.51"}},-3.1266200867528635,{"$f":"(B131-B130)/Sheet2!$G$18","v":-0.16431121326213693}]
[{"$f":"A130+Sheet2!G$18","v":{"v":1.5114885114885226,"d":"1.51"}},{"$f":"x^3-7*x+4","v":-3.1272766750176473},{"$f":"(B132-B131)/Sheet2!$G$18","v":-0.12807172847107706}]
[{"$f":"A131+Sheet2!G$18","v":{"v":1.5154845154845267,"d":"1.52"}},-3.127788450156393,{"$f":"(B133-B132)/Sheet2!$G$18","v":-0.09173643539268772}]
[{"$f":"A132+Sheet2!G$18","v":{"v":1.5194805194805308,"d":"1.52"}},-3.128155029318801,{"$f":"(B134-B133)/Sheet2!$G$18","v":-0.05530533402652438}]
[{"$f":"A133+Sheet2!G$18","v":{"v":1.5234765234765348,"d":"1.52"}},-3.1283760296545715,{"$f":"(B135-B134)/Sheet2!$G$18","v":-0.018778424372587033}]
[{"$f":"A134+Sheet2!G$18","v":{"v":1.527472527472539,"d":"1.53"}},-3.128451068313403,{"$f":"(B136-B135)/Sheet2!$G$18","v":0.017844293568235248}]
[{"$f":"A135+Sheet2!G$18","v":{"v":1.531468531468543,"d":"1.53"}},-3.1283797624449985,{"$f":"(B137-B136)/Sheet2!$G$18","v":0.054562819797720596}]
[{"$f":"A136+Sheet2!G$18","v":{"v":1.535464535464547,"d":"1.54"}},-3.1281617291990536,{"$f":"(B138-B137)/Sheet2!$G$18","v":0.09137715431453541}]
[{"$f":"A137+Sheet2!G$18","v":{"v":1.5394605394605512,"d":"1.54"}},-3.127796585725269,{"$f":"(B139-B138)/Sheet2!$G$18","v":0.1282872971186797}]
[{"$f":"A138+Sheet2!G$18","v":{"v":1.5434565434565553,"d":"1.54"}},-3.1272839491733464,{"$f":"(B140-B139)/Sheet2!$G$18","v":0.16529324821037572}]
[{"$f":"A139+Sheet2!G$18","v":{"v":1.5474525474525593,"d":"1.55"}},-3.1266234366929853,{"$f":"(B141-B140)/Sheet2!$G$18","v":0.202395007590068}]
[{"$f":"A140+Sheet2!G$18","v":{"v":1.5514485514485634,"d":"1.55"}},-3.125814665433884,{"$f":"(B142-B141)/Sheet2!$G$18","v":0.23959257525708977}]
[{"$f":"A141+Sheet2!G$18","v":{"v":1.5554445554445675,"d":"1.56"}},-3.124857252545744,{"$f":"(B143-B142)/Sheet2!$G$18","v":0.276885951211441}]
[{"$f":"A142+Sheet2!G$18","v":{"v":1.5594405594405716,"d":"1.56"}},-3.1237508151782656,{"$f":"(B144-B143)/Sheet2!$G$18","v":0.3142751354537885}]
[{"$f":"A143+Sheet2!G$18","v":{"v":1.5634365634365757,"d":"1.56"}},-3.1224949704811475,{"$f":"(B145-B144)/Sheet2!$G$18","v":0.3517601279843545}]
[{"$f":"A144+Sheet2!G$18","v":{"v":1.5674325674325797,"d":"1.57"}},-3.121089335604087,{"$f":"(B146-B145)/Sheet2!$G$18","v":0.3893409288015832}]
[{"$f":"A145+Sheet2!G$18","v":{"v":1.5714285714285838,"d":"1.57"}},-3.119533527696788,{"$f":"(B147-B146)/Sheet2!$G$18","v":0.4270175379068082}]
[{"$f":"A146+Sheet2!G$18","v":{"v":1.575424575424588,"d":"1.58"}},-3.1178271639089488,{"$f":"(B148-B147)/Sheet2!$G$18","v":0.4647899552995849}]
[{"$f":"A147+Sheet2!G$18","v":{"v":1.579420579420592,"d":"1.58"}},-3.115969861390269,{"$f":"(B149-B148)/Sheet2!$G$18","v":0.5026581809801356}]
[{"$f":"A148+Sheet2!G$18","v":{"v":1.583416583416596,"d":"1.58"}},-3.1139612372904484,{"$f":"(B150-B149)/Sheet2!$G$18","v":0.5406222149480158}]
[{"$f":"A149+Sheet2!G$18","v":{"v":1.5874125874126002,"d":"1.59"}},-3.1118009087591876,{"$f":"(B151-B150)/Sheet2!$G$18","v":0.5786820572036699}]
[{"$f":"A150+Sheet2!G$18","v":{"v":1.5914085914086042,"d":"1.59"}},-3.109488492946186,{"$f":"(B152-B151)/Sheet2!$G$18","v":0.6168377077466536}]
[{"$f":"A151+Sheet2!G$18","v":{"v":1.5954045954046083,"d":"1.60"}},-3.1070236070011443,{"$f":"(B153-B152)/Sheet2!$G$18","v":0.6550891665778558}]
[{"$f":"A152+Sheet2!G$18","v":{"v":1.5994005994006124,"d":"1.60"}},-3.1044058680737603,{"$f":"(B154-B153)/Sheet2!$G$18","v":0.6934364336963874}]
[{"$f":"A153+Sheet2!G$18","v":{"v":1.6033966033966165,"d":"1.60"}},-3.1016348933137348,{"$f":"(B155-B154)/Sheet2!$G$18","v":0.7318795091024708}]
[{"$f":"A154+Sheet2!G$18","v":{"v":1.6073926073926206,"d":"1.61"}},-3.098710299870768,{"$f":"(B156-B155)/Sheet2!$G$18","v":0.7704183927963282}]
[{"$f":"A155+Sheet2!G$18","v":{"v":1.6113886113886247,"d":"1.61"}},-3.0956317048945587,{"$f":"(B157-B156)/Sheet2!$G$18","v":0.809053084777515}]
[{"$f":"A156+Sheet2!G$18","v":{"v":1.6153846153846287,"d":"1.62"}},-3.0923987255348084,{"$f":"(B158-B157)/Sheet2!$G$18","v":0.8477835850464759}]
[{"$f":"A157+Sheet2!G$18","v":{"v":1.6193806193806328,"d":"1.62"}},-3.089010978941216,{"$f":"(B159-B158)/Sheet2!$G$18","v":0.8866098936025439}]
[{"$f":"A158+Sheet2!G$18","v":{"v":1.623376623376637,"d":"1.62"}},-3.0854680822634837,{"$f":"(B160-B159)/Sheet2!$G$18","v":0.9255320104472751}]
[{"$f":"A159+Sheet2!G$18","v":{"v":1.627372627372641,"d":"1.63"}},-3.0817696526513068,{"$f":"(B161-B160)/Sheet2!$G$18","v":0.9645499355791134}]
[{"$f":"A160+Sheet2!G$18","v":{"v":1.631368631368645,"d":"1.63"}},-3.0779153072543872,{"$f":"(B162-B161)/Sheet2!$G$18","v":1.0036636689987257}]
[{"$f":"A161+Sheet2!G$18","v":{"v":1.6353646353646492,"d":"1.64"}},-3.0739046632224243,{"$f":"(B163-B162)/Sheet2!$G$18","v":1.0428732107054453}]
[{"$f":"A162+Sheet2!G$18","v":{"v":1.6393606393606532,"d":"1.64"}},-3.06973733770512,{"$f":"(B164-B163)/Sheet2!$G$18","v":1.0821785607003833}]
[{"$f":"A163+Sheet2!G$18","v":{"v":1.6433566433566573,"d":"1.64"}},-3.065412947852171,{"$f":"(B165-B164)/Sheet2!$G$18","v":1.1215797189824286}]
[{"$f":"A164+Sheet2!G$18","v":{"v":1.6473526473526614,"d":"1.65"}},-3.0609311108132804,{"$f":"(B166-B165)/Sheet2!$G$18","v":1.1610766855524701}]
[{"$f":"A165+Sheet2!G$18","v":{"v":1.6513486513486655,"d":"1.65"}},-3.0562914437381457,{"$f":"(B167-B166)/Sheet2!$G$18","v":1.2006694604100634}]
[{"$f":"A166+Sheet2!G$18","v":{"v":1.6553446553446696,"d":"1.66"}},-3.051493563776467,{"$f":"(B168-B167)/Sheet2!$G$18","v":1.2403580435545416}]
[{"$f":"A167+Sheet2!G$18","v":{"v":1.6593406593406737,"d":"1.66"}},-3.0465370880779474,{"$f":"(B169-B168)/Sheet2!$G$18","v":1.2801424349879051}]
[{"$f":"A168+Sheet2!G$18","v":{"v":1.6633366633366777,"d":"1.66"}},-3.0414216337922815,{"$f":"(B170-B169)/Sheet2!$G$18","v":1.3200226347081536}]
[{"$f":"A169+Sheet2!G$18","v":{"v":1.6673326673326818,"d":"1.67"}},-3.036146818069172,{"$f":"(B171-B170)/Sheet2!$G$18","v":1.359998642716176}]
[{"$f":"A170+Sheet2!G$18","v":{"v":1.671328671328686,"d":"1.67"}},-3.030712258058318,{"$f":"(B172-B171)/Sheet2!$G$18","v":1.400070459011528}]
[{"$f":"A171+Sheet2!G$18","v":{"v":1.67532467532469,"d":"1.68"}},-3.025117570909421,{"$f":"(B173-B172)/Sheet2!$G$18","v":1.4402380835950985}]
[{"$f":"A172+Sheet2!G$18","v":{"v":1.679320679320694,"d":"1.68"}},-3.0193623737721778,{"$f":"(B174-B173)/Sheet2!$G$18","v":1.4805015164657762}]
[{"$f":"A173+Sheet2!G$18","v":{"v":1.6833166833166981,"d":"1.68"}},-3.0134462837962905,{"$f":"(B175-B174)/Sheet2!$G$18","v":1.5208607576237834}]
[{"$f":"A174+Sheet2!G$18","v":{"v":1.6873126873127022,"d":"1.69"}},-3.0073689181314602,{"$f":"(B176-B175)/Sheet2!$G$18","v":1.5613158070704536}]
[{"$f":"A175+Sheet2!G$18","v":{"v":1.6913086913087063,"d":"1.69"}},-3.0011298939273825,{"$f":"(B177-B176)/Sheet2!$G$18","v":1.6018666648037865}]
[{"$f":"A176+Sheet2!G$18","v":{"v":1.6953046953047104,"d":"1.70"}},-2.994728828333761,{"$f":"(B178-B177)/Sheet2!$G$18","v":1.642513330825338}]
[{"$f":"A177+Sheet2!G$18","v":{"v":1.6993006993007145,"d":"1.70"}},-2.988165338500293,{"$f":"(B179-B178)/Sheet2!$G$18","v":1.6832558051342188}]
[{"$f":"A178+Sheet2!G$18","v":{"v":1.7032967032967186,"d":"1.70"}},-2.98143904157668,{"$f":"(B180-B179)/Sheet2!$G$18","v":1.7240940877306514}]
[{"$f":"A179+Sheet2!G$18","v":{"v":1.7072927072927226,"d":"1.71"}},-2.9745495547126213,{"$f":"(B181-B180)/Sheet2!$G$18","v":1.765028178614858}]
[{"$f":"A180+Sheet2!G$18","v":{"v":1.7112887112887267,"d":"1.71"}},-2.9674964950578167,{"$f":"(B182-B181)/Sheet2!$G$18","v":1.8060580777863942}]
[{"$f":"A181+Sheet2!G$18","v":{"v":1.7152847152847308,"d":"1.72"}},-2.960279479761967,{"$f":"(B183-B182)/Sheet2!$G$18","v":1.8471837852461488}]
[{"$f":"A182+Sheet2!G$18","v":{"v":1.719280719280735,"d":"1.72"}},-2.9528981259747695,{"$f":"(B184-B183)/Sheet2!$G$18","v":1.8884053009923438}]
[{"$f":"A183+Sheet2!G$18","v":{"v":1.723276723276739,"d":"1.72"}},-2.945352050845929,{"$f":"(B185-B184)/Sheet2!$G$18","v":1.9297226250278687}]
[{"$f":"A184+Sheet2!G$18","v":{"v":1.727272727272743,"d":"1.73"}},-2.9376408715251383,{"$f":"(B186-B185)/Sheet2!$G$18","v":1.971135757349834}]
[{"$f":"A185+Sheet2!G$18","v":{"v":1.7312687312687471,"d":"1.73"}},-2.929764205162102,{"$f":"(B187-B186)/Sheet2!$G$18","v":2.012644697959351}]
[{"$f":"A186+Sheet2!G$18","v":{"v":1.7352647352647512,"d":"1.74"}},-2.92172166890652,{"$f":"(B188-B187)/Sheet2!$G$18","v":2.054249446857309}]
[{"$f":"A187+Sheet2!G$18","v":{"v":1.7392607392607553,"d":"1.74"}},-2.9135128799080894,{"$f":"(B189-B188)/Sheet2!$G$18","v":2.0959500040421517}]
[{"$f":"A188+Sheet2!G$18","v":{"v":1.7432567432567594,"d":"1.74"}},-2.9051374553165124,{"$f":"(B190-B189)/Sheet2!$G$18","v":2.1377463695147685}]
[{"$f":"A189+Sheet2!G$18","v":{"v":1.7472527472527635,"d":"1.75"}},-2.8965950122814883,{"$f":"(B191-B190)/Sheet2!$G$18","v":2.1796385432749372}]
[{"$f":"A190+Sheet2!G$18","v":{"v":1.7512487512487676,"d":"1.75"}},-2.8878851679527173,{"$f":"(B192-B191)/Sheet2!$G$18","v":2.2216265253228795}]
[{"$f":"A191+Sheet2!G$18","v":{"v":1.7552447552447716,"d":"1.76"}},-2.8790075394798986,{"$f":"(B193-B192)/Sheet2!$G$18","v":2.2637103156588183}]
[{"$f":"A192+Sheet2!G$18","v":{"v":1.7592407592407757,"d":"1.76"}},-2.8699617440127305,{"$f":"(B194-B193)/Sheet2!$G$18","v":2.3058899142818645}]
[{"$f":"A193+Sheet2!G$18","v":{"v":1.7632367632367798,"d":"1.76"}},-2.860747398700915,{"$f":"(B195-B194)/Sheet2!$G$18","v":2.3481653211924622}]
[{"$f":"A194+Sheet2!G$18","v":{"v":1.7672327672327839,"d":"1.77"}},{"$f":"x^3-7*x+4","v":-2.851364120694152},{"$f":"(B196-B195)/Sheet2!$G$18","v":2.390536536390834}]
[{"$f":"A195+Sheet2!G$18","v":{"v":1.771228771228788,"d":"1.77"}},-2.8418115271421405,{"$f":"(B197-B196)/Sheet2!$G$18","v":2.4330035598772017}]
[{"$f":"A196+Sheet2!G$18","v":{"v":1.775224775224792,"d":"1.78"}},-2.8320892351945792,{"$f":"(B198-B197)/Sheet2!$G$18","v":2.475566391650677}]
[{"$f":"A197+Sheet2!G$18","v":{"v":1.7792207792207961,"d":"1.78"}},-2.82219686200117,{"$f":"(B199-B198)/Sheet2!$G$18","v":2.518225031711704}]
[{"$f":"A198+Sheet2!G$18","v":{"v":1.7832167832168002,"d":"1.78"}},-2.8121340247116127,{"$f":"(B200-B199)/Sheet2!$G$18","v":2.5609794800600603}]
[{"$f":"A199+Sheet2!G$18","v":{"v":1.7872127872128043,"d":"1.79"}},-2.8019003404756084,{"$f":"(B201-B200)/Sheet2!$G$18","v":2.603829736697302}]
[{"$f":"A200+Sheet2!G$18","v":{"v":1.7912087912088084,"d":"1.79"}},-2.791495426442852,{"$f":"(B202-B201)/Sheet2!$G$18","v":2.6467758016212066}]
[{"$f":"A201+Sheet2!G$18","v":{"v":1.7952047952048125,"d":"1.80"}},-2.780918899763047,{"$f":"(B203-B202)/Sheet2!$G$18","v":2.6898176748331073}]
[{"$f":"A202+Sheet2!G$18","v":{"v":1.7992007992008165,"d":"1.80"}},-2.7701703775858917,{"$f":"(B204-B203)/Sheet2!$G$18","v":2.7329553563323374}]
[{"$f":"A203+Sheet2!G$18","v":{"v":1.8031968031968206,"d":"1.80"}},-2.759249477061087,{"$f":"(B205-B204)/Sheet2!$G$18","v":2.776188846119119}]
[{"$f":"A204+Sheet2!G$18","v":{"v":1.8071928071928247,"d":"1.81"}},-2.7481558153383334,{"$f":"(B206-B205)/Sheet2!$G$18","v":2.819518144193675}]
[{"$f":"A205+Sheet2!G$18","v":{"v":1.8111888111888288,"d":"1.81"}},-2.7368890095673297,{"$f":"(B207-B206)/Sheet2!$G$18","v":2.8629432505555603}]
[{"$f":"A206+Sheet2!G$18","v":{"v":1.8151848151848329,"d":"1.82"}},-2.725448676897777,{"$f":"(B208-B207)/Sheet2!$G$18","v":2.9064641652056644}]
[{"$f":"A207+Sheet2!G$18","v":{"v":1.819180819180837,"d":"1.82"}},-2.713834434479373,{"$f":"(B209-B208)/Sheet2!$G$18","v":2.95008088814332}]
[{"$f":"A208+Sheet2!G$18","v":{"v":1.823176823176841,"d":"1.82"}},-2.702045899461817,{"$f":"(B210-B209)/Sheet2!$G$18","v":2.9937934193680826}]
[{"$f":"A209+Sheet2!G$18","v":{"v":1.8271728271728451,"d":"1.83"}},-2.6900826889948117,{"$f":"(B211-B210)/Sheet2!$G$18","v":3.0376017588806197}]
[{"$f":"A210+Sheet2!G$18","v":{"v":1.8311688311688492,"d":"1.83"}},-2.677944420228056,{"$f":"(B212-B211)/Sheet2!$G$18","v":3.0815059066811528}]
[{"$f":"A211+Sheet2!G$18","v":{"v":1.8351648351648533,"d":"1.84"}},-2.665630710311248,{"$f":"(B213-B212)/Sheet2!$G$18","v":3.1255058627690153}]
[{"$f":"A212+Sheet2!G$18","v":{"v":1.8391608391608574,"d":"1.84"}},-2.6531411763940893,{"$f":"(B214-B213)/Sheet2!$G$18","v":3.1696016271444294}]
[{"$f":"A213+Sheet2!G$18","v":{"v":1.8431568431568615,"d":"1.84"}},-2.6404754356262794,{"$f":"(B215-B214)/Sheet2!$G$18","v":3.2137931998073954}]
[{"$f":"A214+Sheet2!G$18","v":{"v":1.8471528471528655,"d":"1.85"}},-2.6276331051575186,{"$f":"(B216-B215)/Sheet2!$G$18","v":3.258080580757691}]
[{"$f":"A215+Sheet2!G$18","v":{"v":1.8511488511488696,"d":"1.85"}},-2.614613802137508,{"$f":"(B217-B216)/Sheet2!$G$18","v":3.3024637699966495}]
[{"$f":"A216+Sheet2!G$18","v":{"v":1.8551448551448737,"d":"1.86"}},-2.601417143715943,{"$f":"(B218-B217)/Sheet2!$G$18","v":3.3469427675227155}]
[{"$f":"A217+Sheet2!G$18","v":{"v":1.8591408591408778,"d":"1.86"}},-2.5880427470425253,{"$f":"(B219-B218)/Sheet2!$G$18","v":3.3915175733361105}]
[{"$f":"A218+Sheet2!G$18","v":{"v":1.8631368631368819,"d":"1.86"}},-2.5744902292669565,{"$f":"(B220-B219)/Sheet2!$G$18","v":3.43618818743728}]
[{"$f":"A219+Sheet2!G$18","v":{"v":1.867132867132886,"d":"1.87"}},-2.5607592075389354,{"$f":"(B221-B220)/Sheet2!$G$18","v":3.480954609826001}]
[{"$f":"A220+Sheet2!G$18","v":{"v":1.87112887112889,"d":"1.87"}},-2.546849299008162,{"$f":"(B222-B221)/Sheet2!$G$18","v":3.525816840502496}]
[{"$f":"A221+Sheet2!G$18","v":{"v":1.8751248751248941,"d":"1.88"}},-2.532760120824336,{"$f":"(B223-B222)/Sheet2!$G$18","v":3.570774879465876}]
[{"$f":"A222+Sheet2!G$18","v":{"v":1.8791208791208982,"d":"1.88"}},-2.5184912901371597,{"$f":"(B224-B223)/Sheet2!$G$18","v":3.6158287267183633}]
[{"$f":"A223+Sheet2!G$18","v":{"v":1.8831168831169023,"d":"1.88"}},-2.504042424096327,{"$f":"(B225-B224)/Sheet2!$G$18","v":3.660978382257291}]
[{"$f":"A224+Sheet2!G$18","v":{"v":1.8871128871129064,"d":"1.89"}},-2.4894131398515427,{"$f":"(B226-B225)/Sheet2!$G$18","v":3.7062238460844377}]
[{"$f":"A225+Sheet2!G$18","v":{"v":1.8911088911089105,"d":"1.89"}},-2.474603054552504,{"$f":"(B227-B226)/Sheet2!$G$18","v":3.7515651181989136}]
[{"$f":"A226+Sheet2!G$18","v":{"v":1.8951048951049145,"d":"1.90"}},-2.459611785348912,{"$f":"(B228-B227)/Sheet2!$G$18","v":3.7970021986011635}]
[{"$f":"A227+Sheet2!G$18","v":{"v":1.8991008991009186,"d":"1.90"}},-2.4444389493904657,{"$f":"(B229-B228)/Sheet2!$G$18","v":3.8425350872902984}]
[{"$f":"A228+Sheet2!G$18","v":{"v":1.9030969030969227,"d":"1.90"}},-2.429084163826868,{"$f":"(B230-B229)/Sheet2!$G$18","v":3.8881637842683183}]
[{"$f":"A229+Sheet2!G$18","v":{"v":1.9070929070929268,"d":"1.91"}},-2.413547045807814,{"$f":"(B231-B230)/Sheet2!$G$18","v":3.933888289533001}]
[{"$f":"A230+Sheet2!G$18","v":{"v":1.9110889110889309,"d":"1.91"}},-2.3978272124830067,{"$f":"(B232-B231)/Sheet2!$G$18","v":3.979708603085236}]
[{"$f":"A231+Sheet2!G$18","v":{"v":1.915084915084935,"d":"1.92"}},-2.3819242810021466,{"$f":"(B233-B232)/Sheet2!$G$18","v":4.025624724925689}]
[{"$f":"A232+Sheet2!G$18","v":{"v":1.919080919080939,"d":"1.92"}},-2.365837868514931,{"$f":"(B234-B233)/Sheet2!$G$18","v":4.071636655053472}]
[{"$f":"A233+Sheet2!G$18","v":{"v":1.9230769230769431,"d":"1.92"}},-2.349567592171061,{"$f":"(B235-B234)/Sheet2!$G$18","v":4.11774439346925}]
[{"$f":"A234+Sheet2!G$18","v":{"v":1.9270729270729472,"d":"1.93"}},-2.333113069120235,{"$f":"(B236-B235)/Sheet2!$G$18","v":4.163947940171914}]
[{"$f":"A235+Sheet2!G$18","v":{"v":1.9310689310689513,"d":"1.93"}},-2.3164739165121553,{"$f":"(B237-B236)/Sheet2!$G$18","v":4.210247295162796}]
[{"$f":"A236+Sheet2!G$18","v":{"v":1.9350649350649554,"d":"1.94"}},-2.2996497514965197,{"$f":"(B238-B237)/Sheet2!$G$18","v":4.256642458441008}]
[{"$f":"A237+Sheet2!G$18","v":{"v":1.9390609390609594,"d":"1.94"}},-2.282640191223029,{"$f":"(B239-B238)/Sheet2!$G$18","v":4.303133430006549}]
[{"$f":"A238+Sheet2!G$18","v":{"v":1.9430569430569635,"d":"1.94"}},-2.2654448528413846,{"$f":"(B240-B239)/Sheet2!$G$18","v":4.349720209860532}]
[{"$f":"A239+Sheet2!G$18","v":{"v":1.9470529470529676,"d":"1.95"}},-2.2480633535012826,{"$f":"(B241-B240)/Sheet2!$G$18","v":4.396402798001398}]
[{"$f":"A240+Sheet2!G$18","v":{"v":1.9510489510489717,"d":"1.95"}},-2.230495310352426,{"$f":"(B242-B241)/Sheet2!$G$18","v":4.443181194430484}]
[{"$f":"A241+Sheet2!G$18","v":{"v":1.9550449550449758,"d":"1.96"}},-2.212740340544512,{"$f":"(B243-B242)/Sheet2!$G$18","v":4.490055399146677}]
[{"$f":"A242+Sheet2!G$18","v":{"v":1.9590409590409799,"d":"1.96"}},-2.1947980612272424,{"$f":"(B244-B243)/Sheet2!$G$18","v":4.537025412150644}]
[{"$f":"A243+Sheet2!G$18","v":{"v":1.963036963036984,"d":"1.96"}},-2.1766680895503168,{"$f":"(B245-B244)/Sheet2!$G$18","v":4.5840912334423844}]
[{"$f":"A244+Sheet2!G$18","v":{"v":1.967032967032988,"d":"1.97"}},-2.158350042663434,{"$f":"(B246-B245)/Sheet2!$G$18","v":4.631252863021455}]
[{"$f":"A245+Sheet2!G$18","v":{"v":1.971028971028992,"d":"1.97"}},-2.1398435377162954,{"$f":"(B247-B246)/Sheet2!$G$18","v":4.678510300888299}]
[{"$f":"A246+Sheet2!G$18","v":{"v":1.9750249750249962,"d":"1.98"}},-2.1211481918586,{"$f":"(B248-B247)/Sheet2!$G$18","v":4.72586354704225}]
[{"$f":"A247+Sheet2!G$18","v":{"v":1.9790209790210003,"d":"1.98"}},-2.1022636222400495,{"$f":"(B249-B248)/Sheet2!$G$18","v":4.773312601485087}]
[{"$f":"A248+Sheet2!G$18","v":{"v":1.9830169830170044,"d":"1.98"}},-2.083189446010339,{"$f":"(B250-B249)/Sheet2!$G$18","v":4.820857464214364}]
[{"$f":"A249+Sheet2!G$18","v":{"v":1.9870129870130084,"d":"1.99"}},-2.0639252803191726,{"$f":"(B251-B250)/Sheet2!$G$18","v":4.86849813523186}]
[{"$f":"A250+Sheet2!G$18","v":{"v":1.9910089910090125,"d":"1.99"}},-2.044470742316248,{"$f":"(B252-B251)/Sheet2!$G$18","v":4.916234614536685}]
[{"$f":"A251+Sheet2!G$18","v":{"v":1.9950049950050166,"d":"2.00"}},-2.0248254491512663,{"$f":"(B253-B252)/Sheet2!$G$18","v":4.964066902129284}]
[{"$f":"A252+Sheet2!G$18","v":{"v":1.9990009990010207,"d":"2.00"}},-2.0049890179739265,{"$f":"(B254-B253)/Sheet2!$G$18","v":5.0119949980085465}]
[{"$f":"A253+Sheet2!G$18","v":{"v":2.0029970029970245,"d":"2.00"}},-1.9849610659339323,{"$f":"(B255-B254)/Sheet2!$G$18","v":5.060018902177138}]
[{"$f":"A254+Sheet2!G$18","v":{"v":2.0069930069930284,"d":"2.01"}},-1.9647412101809767,{"$f":"(B256-B255)/Sheet2!$G$18","v":5.10813861463217}]
[{"$f":"A255+Sheet2!G$18","v":{"v":2.0109890109890323,"d":"2.01"}},-1.9443290678647642,{"$f":"(B257-B256)/Sheet2!$G$18","v":5.1563541353758655}]
[{"$f":"A256+Sheet2!G$18","v":{"v":2.014985014985036,"d":"2.01"}},-1.9237242561349905,{"$f":"(B258-B257)/Sheet2!$G$18","v":5.204665464405556}]
[{"$f":"A257+Sheet2!G$18","v":{"v":2.01898101898104,"d":"2.02"}},-1.902926392141362,{"$f":"(B259-B258)/Sheet2!$G$18","v":5.253072601723466}]
[{"$f":"A258+Sheet2!G$18","v":{"v":2.022977022977044,"d":"2.02"}},{"$f":"x^3-7*x+4","v":-1.8819350930335759},{"$f":"(B260-B259)/Sheet2!$G$18","v":5.301575547330039}]
[{"$f":"A259+Sheet2!G$18","v":{"v":2.0269730269730477,"d":"2.03"}},-1.860749975961328,{"$f":"(B261-B260)/Sheet2!$G$18","v":5.350174301223496}]
[{"$f":"A260+Sheet2!G$18","v":{"v":2.0309690309690516,"d":"2.03"}},-1.839370658074321,{"$f":"(B262-B261)/Sheet2!$G$18","v":5.398868863403838}]
[{"$f":"A261+Sheet2!G$18","v":{"v":2.0349650349650554,"d":"2.03"}},-1.8177967565222577,{"$f":"(B263-B262)/Sheet2!$G$18","v":5.4476592338737335}]
[{"$f":"A262+Sheet2!G$18","v":{"v":2.0389610389610593,"d":"2.04"}},-1.7960278884548302,{"$f":"(B264-B263)/Sheet2!$G$18","v":5.496545412629179}]
[{"$f":"A263+Sheet2!G$18","v":{"v":2.042957042957063,"d":"2.04"}},-1.7740636710217466,{"$f":"(B265-B264)/Sheet2!$G$18","v":5.545527399673733}]
[{"$f":"A264+Sheet2!G$18","v":{"v":2.046953046953067,"d":"2.05"}},-1.7519037213727007,{"$f":"(B266-B265)/Sheet2!$G$18","v":5.594605195004727}]
[{"$f":"A265+Sheet2!G$18","v":{"v":2.050949050949071,"d":"2.05"}},-1.729547656657397,{"$f":"(B267-B266)/Sheet2!$G$18","v":5.643778798623495}]
[{"$f":"A266+Sheet2!G$18","v":{"v":2.0549450549450747,"d":"2.05"}},-1.706995094025535,{"$f":"(B268-B267)/Sheet2!$G$18","v":5.69304821053137}]
[{"$f":"A267+Sheet2!G$18","v":{"v":2.0589410589410786,"d":"2.06"}},-1.6842456506268082,{"$f":"(B269-B268)/Sheet2!$G$18","v":5.742413430724797}]
[{"$f":"A268+Sheet2!G$18","v":{"v":2.0629370629370825,"d":"2.06"}},-1.661298943610925,{"$f":"(B270-B269)/Sheet2!$G$18","v":5.791874459206888}]
[{"$f":"A269+Sheet2!G$18","v":{"v":2.0669330669330863,"d":"2.07"}},-1.6381545901275807,{"$f":"(B271-B270)/Sheet2!$G$18","v":5.841431295977196}]
[{"$f":"A270+Sheet2!G$18","v":{"v":2.07092907092909,"d":"2.07"}},-1.614812207326473,{"$f":"(B272-B271)/Sheet2!$G$18","v":5.891083941033945}]
[{"$f":"A271+Sheet2!G$18","v":{"v":2.074925074925094,"d":"2.07"}},-1.5912714123573064,{"$f":"(B273-B272)/Sheet2!$G$18","v":5.940832394378912}]
[{"$f":"A272+Sheet2!G$18","v":{"v":2.078921078921098,"d":"2.08"}},-1.5675318223697783,{"$f":"(B274-B273)/Sheet2!$G$18","v":5.9906766560116536}]
[{"$f":"A273+Sheet2!G$18","v":{"v":2.0829170829171018,"d":"2.08"}},-1.5435930545135879,{"$f":"(B275-B274)/Sheet2!$G$18","v":6.04061672593128}]
[{"$f":"A274+Sheet2!G$18","v":{"v":2.0869130869131056,"d":"2.09"}},-1.519454725938438,{"$f":"(B276-B275)/Sheet2!$G$18","v":6.090652604139125}]
[{"$f":"A275+Sheet2!G$18","v":{"v":2.0909090909091095,"d":"2.09"}},-1.4951164537940258,{"$f":"(B277-B276)/Sheet2!$G$18","v":6.140784290634744}]
[{"$f":"A276+Sheet2!G$18","v":{"v":2.0949050949051133,"d":"2.09"}},-1.4705778552300508,{"$f":"(B278-B277)/Sheet2!$G$18","v":6.191011785416803}]
[{"$f":"A277+Sheet2!G$18","v":{"v":2.098901098901117,"d":"2.10"}},-1.4458385473962174,{"$f":"(B279-B278)/Sheet2!$G$18","v":6.241335088488415}]
[{"$f":"A278+Sheet2!G$18","v":{"v":2.102897102897121,"d":"2.10"}},-1.4208981474422178,{"$f":"(B280-B279)/Sheet2!$G$18","v":6.2917541998455775}]
[{"$f":"A279+Sheet2!G$18","v":{"v":2.106893106893125,"d":"2.11"}},-1.39575627251776,{"$f":"(B281-B280)/Sheet2!$G$18","v":6.342269119492292}]
[{"$f":"A280+Sheet2!G$18","v":{"v":2.110889110889129,"d":"2.11"}},-1.370412539772536,{"$f":"(B282-B281)/Sheet2!$G$18","v":6.392879847425448}]
[{"$f":"A281+Sheet2!G$18","v":{"v":2.1148851148851326,"d":"2.11"}},-1.3448665663562505,{"$f":"(B283-B282)/Sheet2!$G$18","v":6.443586383645933}]
[{"$f":"A282+Sheet2!G$18","v":{"v":2.1188811188811365,"d":"2.12"}},-1.3191179694186044,{"$f":"(B284-B283)/Sheet2!$G$18","v":6.494388728155081}]
[{"$f":"A283+Sheet2!G$18","v":{"v":2.1228771228771404,"d":"2.12"}},-1.2931663661092934,{"$f":"(B285-B284)/Sheet2!$G$18","v":6.545286880951558}]
[{"$f":"A284+Sheet2!G$18","v":{"v":2.1268731268731442,"d":"2.13"}},-1.2670113735780184,{"$f":"(B286-B285)/Sheet2!$G$18","v":6.596280842034476}]
[{"$f":"A285+Sheet2!G$18","v":{"v":2.130869130869148,"d":"2.13"}},-1.240652608974484,{"$f":"(B287-B286)/Sheet2!$G$18","v":6.647370611406501}]
[{"$f":"A286+Sheet2!G$18","v":{"v":2.134865134865152,"d":"2.13"}},-1.2140896894483841,{"$f":"(B288-B287)/Sheet2!$G$18","v":6.698556189065856}]
[{"$f":"A287+Sheet2!G$18","v":{"v":2.138861138861156,"d":"2.14"}},-1.1873222321494197,{"$f":"(B289-B288)/Sheet2!$G$18","v":6.749837575012985}]
[{"$f":"A288+Sheet2!G$18","v":{"v":2.1428571428571597,"d":"2.14"}},-1.1603498542272899,{"$f":"(B290-B289)/Sheet2!$G$18","v":6.801214769246554}]
[{"$f":"A289+Sheet2!G$18","v":{"v":2.1468531468531635,"d":"2.15"}},-1.1331721728316992,{"$f":"(B291-B290)/Sheet2!$G$18","v":6.852687771768342}]
[{"$f":"A290+Sheet2!G$18","v":{"v":2.1508491508491674,"d":"2.15"}},-1.1057888051123452,{"$f":"(B292-B291)/Sheet2!$G$18","v":6.904256582578348}]
[{"$f":"A291+Sheet2!G$18","v":{"v":2.1548451548451713,"d":"2.15"}},-1.0781993682189253,{"$f":"(B293-B292)/Sheet2!$G$18","v":6.955921201675684}]
[{"$f":"A292+Sheet2!G$18","v":{"v":2.158841158841175,"d":"2.16"}},-1.0504034793011403,{"$f":"(B294-B293)/Sheet2!$G$18","v":7.007681629059904}]
[{"$f":"A293+Sheet2!G$18","v":{"v":2.162837162837179,"d":"2.16"}},-1.0224007555086931,{"$f":"(B295-B294)/Sheet2!$G$18","v":7.059537864732788}]
[{"$f":"A294+Sheet2!G$18","v":{"v":2.166833166833183,"d":"2.17"}},-0.9941908139912794,{"$f":"(B296-B295)/Sheet2!$G$18","v":7.111489908692557}]
[{"$f":"A295+Sheet2!G$18","v":{"v":2.1708291708291867,"d":"2.17"}},-0.9657732718986018,{"$f":"(B297-B296)/Sheet2!$G$18","v":7.163537760940544}]
[{"$f":"A296+Sheet2!G$18","v":{"v":2.1748251748251906,"d":"2.17"}},-0.9371477463803579,{"$f":"(B298-B297)/Sheet2!$G$18","v":7.215681421475861}]
[{"$f":"A297+Sheet2!G$18","v":{"v":2.1788211788211944,"d":"2.18"}},-0.9083138545862486,{"$f":"(B299-B298)/Sheet2!$G$18","v":7.267920890298063}]
[{"$f":"A298+Sheet2!G$18","v":{"v":2.1828171828171983,"d":"2.18"}},-0.8792712136659766,{"$f":"(B300-B299)/Sheet2!$G$18","v":7.320256167408927}]
[{"$f":"A299+Sheet2!G$18","v":{"v":2.186813186813202,"d":"2.19"}},-0.8500194407692376,{"$f":"(B301-B300)/Sheet2!$G$18","v":7.372687252807122}]
[{"$f":"A300+Sheet2!G$18","v":{"v":2.190809190809206,"d":"2.19"}},-0.8205581530457327,{"$f":"(B302-B301)/Sheet2!$G$18","v":7.425214146492201}]
[{"$f":"A301+Sheet2!G$18","v":{"v":2.19480519480521,"d":"2.19"}},-0.7908869676451644,{"$f":"(B303-B302)/Sheet2!$G$18","v":7.477836848466832}]
[{"$f":"A302+Sheet2!G$18","v":{"v":2.1988011988012137,"d":"2.20"}},-0.761005501717225,{"$f":"(B304-B303)/Sheet2!$G$18","v":7.530555358727015}]
[{"$f":"A303+Sheet2!G$18","v":{"v":2.2027972027972176,"d":"2.20"}},-0.7309133724116226,{"$f":"(B305-B304)/Sheet2!$G$18","v":7.5833696772758605}]
[{"$f":"A304+Sheet2!G$18","v":{"v":2.2067932067932214,"d":"2.21"}},-0.7006101968780527,{"$f":"(B306-B305)/Sheet2!$G$18","v":7.636279804112036}]
[{"$f":"A305+Sheet2!G$18","v":{"v":2.2107892107892253,"d":"2.21"}},-0.6700955922662164,{"$f":"(B307-B306)/Sheet2!$G$18","v":7.689285739235095}]
[{"$f":"A306+Sheet2!G$18","v":{"v":2.214785214785229,"d":"2.21"}},-0.6393691757258164,{"$f":"(B308-B307)/Sheet2!$G$18","v":7.7423874826477075}]
[{"$f":"A307+Sheet2!G$18","v":{"v":2.218781218781233,"d":"2.22"}},-0.6084305644065449,{"$f":"(B309-B308)/Sheet2!$G$18","v":7.795585034346316}]
[{"$f":"A308+Sheet2!G$18","v":{"v":2.222777222777237,"d":"2.22"}},-0.577279375458108,{"$f":"(B310-B309)/Sheet2!$G$18","v":7.848878394332253}]
[{"$f":"A309+Sheet2!G$18","v":{"v":2.2267732267732407,"d":"2.23"}},-0.5459152260302069,{"$f":"(B311-B310)/Sheet2!$G$18","v":7.902267562607299}]
[{"$f":"A310+Sheet2!G$18","v":{"v":2.2307692307692446,"d":"2.23"}},-0.5143377332725354,{"$f":"(B312-B311)/Sheet2!$G$18","v":7.955752539169229}]
[{"$f":"A311+Sheet2!G$18","v":{"v":2.2347652347652485,"d":"2.23"}},-0.48254651433479623,{"$f":"(B313-B312)/Sheet2!$G$18","v":8.009333324018488}]
[{"$f":"A312+Sheet2!G$18","v":{"v":2.2387612387612523,"d":"2.24"}},-0.4505411863666904,{"$f":"(B314-B313)/Sheet2!$G$18","v":8.063009917155966}]
[{"$f":"A313+Sheet2!G$18","v":{"v":2.242757242757256,"d":"2.24"}},-0.4183213665179153,{"$f":"(B315-B314)/Sheet2!$G$18","v":8.116782318579885}]
[{"$f":"A314+Sheet2!G$18","v":{"v":2.24675324675326,"d":"2.25"}},-0.3858866719381755,{"$f":"(B316-B315)/Sheet2!$G$18","v":8.170650528293356}]
[{"$f":"A315+Sheet2!G$18","v":{"v":2.250749250749264,"d":"2.25"}},-0.3532367197771631,{"$f":"(B317-B316)/Sheet2!$G$18","v":8.224614546292822}]
[{"$f":"A316+Sheet2!G$18","v":{"v":2.2547452547452678,"d":"2.25"}},-0.3203711271845844,{"$f":"(B318-B317)/Sheet2!$G$18","v":8.278674372579617}]
[{"$f":"A317+Sheet2!G$18","v":{"v":2.2587412587412716,"d":"2.26"}},-0.28728951131014036,{"$f":"(B319-B318)/Sheet2!$G$18","v":8.332830007155966}]
[{"$f":"A318+Sheet2!G$18","v":{"v":2.2627372627372755,"d":"2.26"}},-0.2539914893035231,{"$f":"(B320-B319)/Sheet2!$G$18","v":8.387081450018755}]
[{"$f":"A319+Sheet2!G$18","v":{"v":2.2667332667332794,"d":"2.27"}},-0.22047667831443718,{"$f":"(B321-B320)/Sheet2!$G$18","v":8.441428701168428}]
[{"$f":"A320+Sheet2!G$18","v":{"v":2.270729270729283,"d":"2.27"}},-0.18674469549258532,{"$f":"(B322-B321)/Sheet2!$G$18","v":8.495871760607209}]
[{"$f":"A321+Sheet2!G$18","v":{"v":2.274725274725287,"d":"2.27"}},-0.1527951579876614,{"$f":"(B323-B322)/Sheet2!$G$18","v":8.550410628331985}]
[{"$f":"A322+Sheet2!G$18","v":{"v":2.278721278721291,"d":"2.28"}},{"$f":"x^3-7*x+4","v":-0.11862768294937176},{"$f":"(B324-B323)/Sheet2!$G$18","v":8.605045304346314}]
[{"$f":"A323+Sheet2!G$18","v":{"v":2.282717282717295,"d":"2.28"}},-0.08424188752740847,{"$f":"(B325-B324)/Sheet2!$G$18","v":8.65977578864664}]
[{"$f":"A324+Sheet2!G$18","v":{"v":2.2867132867132987,"d":"2.29"}},-0.04963738887147784,{"$f":"(B326-B325)/Sheet2!$G$18","v":8.714602081235183}]
[{"$f":"A325+Sheet2!G$18","v":{"v":2.2907092907093025,"d":"2.29"}},-0.014813804131277308,{"$f":"(B327-B326)/Sheet2!$G$18","v":8.7695241821115}]
[{"$f":"A326+Sheet2!G$18","v":{"v":2.2947052947053064,"d":"2.29"}},0.02022924954349392,{"$f":"(B328-B327)/Sheet2!$G$18","v":8.824542091275593}]
[{"$f":"A327+Sheet2!G$18","v":{"v":2.2987012987013102,"d":"2.30"}},0.055492155003136645,{"$f":"(B329-B328)/Sheet2!$G$18","v":8.879655808726124}]
[{"$f":"A328+Sheet2!G$18","v":{"v":2.302697302697314,"d":"2.30"}},0.09097529509794633,{"$f":"(B330-B329)/Sheet2!$G$18","v":8.934865334465764}]
[{"$f":"A329+Sheet2!G$18","v":{"v":2.306693306693318,"d":"2.31"}},0.1266790526782291,{"$f":"(B331-B330)/Sheet2!$G$18","v":8.990170668492732}]
[{"$f":"A330+Sheet2!G$18","v":{"v":2.310689310689322,"d":"2.31"}},0.16260381059428397,{"$f":"(B332-B331)/Sheet2!$G$18","v":9.045571810806141}]
[{"$f":"A331+Sheet2!G$18","v":{"v":2.3146853146853257,"d":"2.31"}},0.1987499516964064,{"$f":"(B333-B332)/Sheet2!$G$18","v":9.101068761407769}]
[{"$f":"A332+Sheet2!G$18","v":{"v":2.3186813186813295,"d":"2.32"}},0.235117858834899,{"$f":"(B334-B333)/Sheet2!$G$18","v":9.15666152029806}]
[{"$f":"A333+Sheet2!G$18","v":{"v":2.3226773226773334,"d":"2.32"}},0.27170791486006607,{"$f":"(B335-B334)/Sheet2!$G$18","v":9.212350087474347}]
[{"$f":"A334+Sheet2!G$18","v":{"v":2.3266733266733373,"d":"2.33"}},0.3085205026222013,{"$f":"(B336-B335)/Sheet2!$G$18","v":9.268134462940186}]
[{"$f":"A335+Sheet2!G$18","v":{"v":2.330669330669341,"d":"2.33"}},0.34555600497161265,{"$f":"(B337-B336)/Sheet2!$G$18","v":9.324014646691577}]
[{"$f":"A336+Sheet2!G$18","v":{"v":2.334665334665345,"d":"2.33"}},0.382814804758592,{"$f":"(B338-B337)/Sheet2!$G$18","v":9.379990638732075}]
[{"$f":"A337+Sheet2!G$18","v":{"v":2.338661338661349,"d":"2.34"}},0.4202972848334454,{"$f":"(B339-B338)/Sheet2!$G$18","v":9.436062439059013}]
[{"$f":"A338+Sheet2!G$18","v":{"v":2.3426573426573527,"d":"2.34"}},0.45800382804646844,{"$f":"(B340-B339)/Sheet2!$G$18","v":9.492230047673724}]
[{"$f":"A339+Sheet2!G$18","v":{"v":2.3466533466533566,"d":"2.35"}},0.49593481724796185,{"$f":"(B341-B340)/Sheet2!$G$18","v":9.548493464577545}]
[{"$f":"A340+Sheet2!G$18","v":{"v":2.3506493506493604,"d":"2.35"}},0.5340906352882318,{"$f":"(B342-B341)/Sheet2!$G$18","v":9.60485268976736}]
[{"$f":"A341+Sheet2!G$18","v":{"v":2.3546453546453643,"d":"2.35"}},0.5724716650175719,{"$f":"(B343-B342)/Sheet2!$G$18","v":9.661307723245839}]
[{"$f":"A342+Sheet2!G$18","v":{"v":2.358641358641368,"d":"2.36"}},0.6110782892862865,{"$f":"(B344-B343)/Sheet2!$G$18","v":9.717858565011202}]
[{"$f":"A343+Sheet2!G$18","v":{"v":2.362637362637372,"d":"2.36"}},0.6499108909446729,{"$f":"(B345-B344)/Sheet2!$G$18","v":9.774505215064785}]
[{"$f":"A344+Sheet2!G$18","v":{"v":2.366633366633376,"d":"2.37"}},0.6889698528430337,{"$f":"(B346-B345)/Sheet2!$G$18","v":9.831247673405253}]
[{"$f":"A345+Sheet2!G$18","v":{"v":2.3706293706293797,"d":"2.37"}},0.7282555578316661,{"$f":"(B347-B346)/Sheet2!$G$18","v":9.888085940033937}]
[{"$f":"A346+Sheet2!G$18","v":{"v":2.3746253746253836,"d":"2.37"}},0.7677683887608726,{"$f":"(B348-B347)/Sheet2!$G$18","v":9.945020014949954}]
[{"$f":"A347+Sheet2!G$18","v":{"v":2.3786213786213874,"d":"2.38"}},0.8075087284809523,{"$f":"(B349-B348)/Sheet2!$G$18","v":10.002049898152853}]
[{"$f":"A348+Sheet2!G$18","v":{"v":2.3826173826173913,"d":"2.38"}},0.8474769598422025,{"$f":"(B350-B349)/Sheet2!$G$18","v":10.059175589645305}]
[{"$f":"A349+Sheet2!G$18","v":{"v":2.386613386613395,"d":"2.39"}},0.887673465694931,{"$f":"(B351-B350)/Sheet2!$G$18","v":10.116397089423753}]
[{"$f":"A350+Sheet2!G$18","v":{"v":2.390609390609399,"d":"2.39"}},0.9280986288894315,{"$f":"(B352-B351)/Sheet2!$G$18","v":10.173714397490865}]
[{"$f":"A351+Sheet2!G$18","v":{"v":2.394605394605403,"d":"2.39"}},0.9687528322760084,{"$f":"(B353-B352)/Sheet2!$G$18","v":10.231127513844417}]
[{"$f":"A352+Sheet2!G$18","v":{"v":2.3986013986014068,"d":"2.40"}},1.009636458704957,{"$f":"(B354-B353)/Sheet2!$G$18","v":10.288636438486186}]
[{"$f":"A353+Sheet2!G$18","v":{"v":2.4025974025974106,"d":"2.40"}},1.0507498910265802,{"$f":"(B355-B354)/Sheet2!$G$18","v":10.346241171416175}]
[{"$f":"A354+Sheet2!G$18","v":{"v":2.4065934065934145,"d":"2.41"}},1.0920935120911803,{"$f":"(B356-B355)/Sheet2!$G$18","v":10.403941712631715}]
[{"$f":"A355+Sheet2!G$18","v":{"v":2.4105894105894183,"d":"2.41"}},1.1336677047490493,{"$f":"(B357-B356)/Sheet2!$G$18","v":10.461738062137696}]
[{"$f":"A356+Sheet2!G$18","v":{"v":2.414585414585422,"d":"2.41"}},1.1754728518504987,{"$f":"(B358-B357)/Sheet2!$G$18","v":10.519630219930118}]
[{"$f":"A357+Sheet2!G$18","v":{"v":2.418581418581426,"d":"2.42"}},1.2175093362458238,{"$f":"(B359-B358)/Sheet2!$G$18","v":10.577618186009424}]
[{"$f":"A358+Sheet2!G$18","v":{"v":2.42257742257743,"d":"2.42"}},1.259777540785322,{"$f":"(B360-B359)/Sheet2!$G$18","v":10.63570196037695}]
[{"$f":"A359+Sheet2!G$18","v":{"v":2.426573426573434,"d":"2.43"}},1.3022778483192958,{"$f":"(B361-B360)/Sheet2!$G$18","v":10.693881543032694}]
[{"$f":"A360+Sheet2!G$18","v":{"v":2.4305694305694376,"d":"2.43"}},1.3450106416980478,{"$f":"(B362-B361)/Sheet2!$G$18","v":10.752156933974877}]
[{"$f":"A361+Sheet2!G$18","v":{"v":2.4345654345654415,"d":"2.43"}},1.3879763037718735,{"$f":"(B363-B362)/Sheet2!$G$18","v":10.810528133204835}]
[{"$f":"A362+Sheet2!G$18","v":{"v":2.4385614385614454,"d":"2.44"}},1.4311752173910737,{"$f":"(B364-B363)/Sheet2!$G$18","v":10.868995140723456}]
[{"$f":"A363+Sheet2!G$18","v":{"v":2.442557442557449,"d":"2.44"}},1.4746077654059526,{"$f":"(B365-B364)/Sheet2!$G$18","v":10.927557956528073}]
[{"$f":"A364+Sheet2!G$18","v":{"v":2.446553446553453,"d":"2.45"}},1.518274330666804,{"$f":"(B366-B365)/Sheet2!$G$18","v":10.986216580622242}]
[{"$f":"A365+Sheet2!G$18","v":{"v":2.450549450549457,"d":"2.45"}},1.562175296023936,{"$f":"(B367-B366)/Sheet2!$G$18","v":11.044971013002408}]
[{"$f":"A366+Sheet2!G$18","v":{"v":2.454545454545461,"d":"2.45"}},1.6063110443276418,{"$f":"(B368-B367)/Sheet2!$G$18","v":11.103821253671235}]
[{"$f":"A367+Sheet2!G$18","v":{"v":2.4585414585414647,"d":"2.46"}},1.6506819584282262,{"$f":"(B369-B368)/Sheet2!$G$18","v":11.162767302626948}]
[{"$f":"A368+Sheet2!G$18","v":{"v":2.4625374625374685,"d":"2.46"}},1.6952884211759862,{"$f":"(B370-B369)/Sheet2!$G$18","v":11.22180915987088}]
[{"$f":"A369+Sheet2!G$18","v":{"v":2.4665334665334724,"d":"2.47"}},1.7401308154212245,{"$f":"(B371-B370)/Sheet2!$G$18","v":11.280946825402586}]
[{"$f":"A370+Sheet2!G$18","v":{"v":2.4705294705294762,"d":"2.47"}},1.7852095240142418,{"$f":"(B372-B371)/Sheet2!$G$18","v":11.340180299220288}]
[{"$f":"A371+Sheet2!G$18","v":{"v":2.47452547452548,"d":"2.47"}},1.8305249298053319,{"$f":"(B373-B372)/Sheet2!$G$18","v":11.39950958132754}]
[{"$f":"A372+Sheet2!G$18","v":{"v":2.478521478521484,"d":"2.48"}},1.8760774156448026,{"$f":"(B374-B373)/Sheet2!$G$18","v":11.458934671721234}]
[{"$f":"A373+Sheet2!G$18","v":{"v":2.482517482517488,"d":"2.48"}},1.9218673643829494,{"$f":"(B375-B374)/Sheet2!$G$18","v":11.518455570403592}]
[{"$f":"A374+Sheet2!G$18","v":{"v":2.4865134865134917,"d":"2.49"}},1.9678951588700766,{"$f":"(B376-B375)/Sheet2!$G$18","v":11.578072277373279}]
[{"$f":"A375+Sheet2!G$18","v":{"v":2.4905094905094955,"d":"2.49"}},2.0141611819564833,{"$f":"(B377-B376)/Sheet2!$G$18","v":11.637784792629406}]
[{"$f":"A376+Sheet2!G$18","v":{"v":2.4945054945054994,"d":"2.49"}},2.060665816492465,{"$f":"(B378-B377)/Sheet2!$G$18","v":11.69759311617464}]
[{"$f":"A377+Sheet2!G$18","v":{"v":2.4985014985015033,"d":"2.50"}},2.1074094453283276,{"$f":"(B379-B378)/Sheet2!$G$18","v":11.757497248006315}]
[{"$f":"A378+Sheet2!G$18","v":{"v":2.502497502497507,"d":"2.50"}},2.154392451314367,{"$f":"(B380-B379)/Sheet2!$G$18","v":11.817497188126207}]
[{"$f":"A379+Sheet2!G$18","v":{"v":2.506493506493511,"d":"2.51"}},2.201615217300885,{"$f":"(B381-B380)/Sheet2!$G$18","v":11.877592936532986}]
[{"$f":"A380+Sheet2!G$18","v":{"v":2.510489510489515,"d":"2.51"}},2.24907812613818,{"$f":"(B382-B381)/Sheet2!$G$18","v":11.937784493228872}]
[{"$f":"A381+Sheet2!G$18","v":{"v":2.5144855144855187,"d":"2.51"}},2.296781560676557,{"$f":"(B383-B382)/Sheet2!$G$18","v":11.998071858211643}]
[{"$f":"A382+Sheet2!G$18","v":{"v":2.5184815184815226,"d":"2.52"}},2.3447259037663137,{"$f":"(B384-B383)/Sheet2!$G$18","v":12.058455031481744}]
[{"$f":"A383+Sheet2!G$18","v":{"v":2.5224775224775264,"d":"2.52"}},2.3929115382577493,{"$f":"(B385-B384)/Sheet2!$G$18","v":12.118934013039173}]
[{"$f":"A384+Sheet2!G$18","v":{"v":2.5264735264735303,"d":"2.53"}},2.4413388470011625,{"$f":"(B386-B385)/Sheet2!$G$18","v":12.17950880288571}]
[{"$f":"A385+Sheet2!G$18","v":{"v":2.530469530469534,"d":"2.53"}},2.4900082128468597,{"$f":"(B387-B386)/Sheet2!$G$18","v":12.2401794010178}]
[{"$f":"A386+Sheet2!G$18","v":{"v":2.534465534465538,"d":"2.53"}},{"$f":"x^3-7*x+4","v":2.5389200186451326},{"$f":"(B388-B387)/Sheet2!$G$18","v":12.300945807438106}]
[{"$f":"A387+Sheet2!G$18","v":{"v":2.538461538461542,"d":"2.54"}},2.588074647246284,{"$f":"(B389-B388)/Sheet2!$G$18","v":12.361808022147521}]
[{"$f":"A388+Sheet2!G$18","v":{"v":2.5424575424575457,"d":"2.54"}},2.6374724815006196,{"$f":"(B390-B389)/Sheet2!$G$18","v":12.422766045143376}]
[{"$f":"A389+Sheet2!G$18","v":{"v":2.5464535464535496,"d":"2.55"}},2.6871139042584353,{"$f":"(B391-B390)/Sheet2!$G$18","v":12.48381987642745}]
[{"$f":"A390+Sheet2!G$18","v":{"v":2.5504495504495535,"d":"2.55"}},2.7369992983700335,{"$f":"(B392-B391)/Sheet2!$G$18","v":12.544969515997964}]
[{"$f":"A391+Sheet2!G$18","v":{"v":2.5544455544455573,"d":"2.55"}},2.7871290466857097,{"$f":"(B393-B392)/Sheet2!$G$18","v":12.606214963856697}]
[{"$f":"A392+Sheet2!G$18","v":{"v":2.558441558441561,"d":"2.56"}},2.8375035320557664,{"$f":"(B394-B393)/Sheet2!$G$18","v":12.667556220003648}]
[{"$f":"A393+Sheet2!G$18","v":{"v":2.562437562437565,"d":"2.56"}},2.8881231373305063,{"$f":"(B395-B394)/Sheet2!$G$18","v":12.72899328443793}]
[{"$f":"A394+Sheet2!G$18","v":{"v":2.566433566433569,"d":"2.57"}},2.9389882453602283,{"$f":"(B396-B395)/Sheet2!$G$18","v":12.79052615715954}]
[{"$f":"A395+Sheet2!G$18","v":{"v":2.5704295704295728,"d":"2.57"}},2.9900992389952314,{"$f":"(B397-B396)/Sheet2!$G$18","v":12.852154838166701}]
[{"$f":"A396+Sheet2!G$18","v":{"v":2.5744255744255766,"d":"2.57"}},3.0414565010858077,{"$f":"(B398-B397)/Sheet2!$G$18","v":12.913879327465638}]
[{"$f":"A397+Sheet2!G$18","v":{"v":2.5784215784215805,"d":"2.58"}},3.0930604144822738,{"$f":"(B399-B398)/Sheet2!$G$18","v":12.975699625050126}]
[{"$f":"A398+Sheet2!G$18","v":{"v":2.5824175824175843,"d":"2.58"}},3.1449113620349216,{"$f":"(B400-B399)/Sheet2!$G$18","v":13.037615730921942}]
[{"$f":"A399+Sheet2!G$18","v":{"v":2.586413586413588,"d":"2.59"}},3.1970097265940502,{"$f":"(B401-B400)/Sheet2!$G$18","v":13.099627645081979}]
[{"$f":"A400+Sheet2!G$18","v":{"v":2.590409590409592,"d":"2.59"}},3.2493558910099622,{"$f":"(B402-B401)/Sheet2!$G$18","v":13.161735367529344}]
[{"$f":"A401+Sheet2!G$18","v":{"v":2.594405594405596,"d":"2.59"}},3.3019502381329566,{"$f":"(B403-B402)/Sheet2!$G$18","v":13.223938898264928}]
[{"$f":"A402+Sheet2!G$18","v":{"v":2.5984015984016,"d":"2.60"}},3.354793150813336,{"$f":"(B404-B403)/Sheet2!$G$18","v":13.286238237285174}]
[{"$f":"A403+Sheet2!G$18","v":{"v":2.6023976023976036,"d":"2.60"}},3.4078850119013886,{"$f":"(B405-B404)/Sheet2!$G$18","v":13.348633384597195}]
[{"$f":"A404+Sheet2!G$18","v":{"v":2.6063936063936075,"d":"2.61"}},3.4612262042474313,{"$f":"(B406-B405)/Sheet2!$G$18","v":13.411124340195656}]
[{"$f":"A405+Sheet2!G$18","v":{"v":2.6103896103896114,"d":"2.61"}},3.5148171107017596,{"$f":"(B407-B406)/Sheet2!$G$18","v":13.473711104079667}]
[{"$f":"A406+Sheet2!G$18","v":{"v":2.6143856143856152,"d":"2.61"}},3.5686581141146654,{"$f":"(B408-B407)/Sheet2!$G$18","v":13.536393676253677}]
[{"$f":"A407+Sheet2!G$18","v":{"v":2.618381618381619,"d":"2.62"}},3.6227495973364583,{"$f":"(B409-B408)/Sheet2!$G$18","v":13.599172056714126}]
[{"$f":"A408+Sheet2!G$18","v":{"v":2.622377622377623,"d":"2.62"}},3.677091943217434,{"$f":"(B410-B409)/Sheet2!$G$18","v":13.662046245462795}]
[{"$f":"A409+Sheet2!G$18","v":{"v":2.626373626373627,"d":"2.63"}},3.7316855346078945,{"$f":"(B411-B410)/Sheet2!$G$18","v":13.725016242497903}]
[{"$f":"A410+Sheet2!G$18","v":{"v":2.6303696303696307,"d":"2.63"}},3.786530754358136,{"$f":"(B412-B411)/Sheet2!$G$18","v":13.788082047822119}]
[{"$f":"A411+Sheet2!G$18","v":{"v":2.6343656343656345,"d":"2.63"}},3.841627985318464,{"$f":"(B413-B412)/Sheet2!$G$18","v":13.851243661432775}]
[{"$f":"A412+Sheet2!G$18","v":{"v":2.6383616383616384,"d":"2.64"}},3.8969776103391744,{"$f":"(B414-B413)/Sheet2!$G$18","v":13.91450108333165}]
[{"$f":"A413+Sheet2!G$18","v":{"v":2.6423576423576423,"d":"2.64"}},3.9525800122705697,{"$f":"(B415-B414)/Sheet2!$G$18","v":13.977854313517856}]
[{"$f":"A414+Sheet2!G$18","v":{"v":2.646353646353646,"d":"2.65"}},4.008435573962949,{"$f":"(B416-B415)/Sheet2!$G$18","v":14.041303351992278}]
[{"$f":"A415+Sheet2!G$18","v":{"v":2.65034965034965,"d":"2.65"}},4.064544678266614,{"$f":"(B417-B416)/Sheet2!$G$18","v":14.10484819875403}]
[{"$f":"A416+Sheet2!G$18","v":{"v":2.654345654345654,"d":"2.65"}},4.120907708031865,{"$f":"(B418-B417)/Sheet2!$G$18","v":14.168488853803114}]
[{"$f":"A417+Sheet2!G$18","v":{"v":2.6583416583416577,"d":"2.66"}},4.177525046109,{"$f":"(B419-B418)/Sheet2!$G$18","v":14.232225317140413}]
[{"$f":"A418+Sheet2!G$18","v":{"v":2.6623376623376616,"d":"2.66"}},4.234397075348323,{"$f":"(B420-B419)/Sheet2!$G$18","v":14.296057588763265}]
[{"$f":"A419+Sheet2!G$18","v":{"v":2.6663336663336654,"d":"2.67"}},4.291524178600124,{"$f":"(B421-B420)/Sheet2!$G$18","v":14.359985668677004}]
[{"$f":"A420+Sheet2!G$18","v":{"v":2.6703296703296693,"d":"2.67"}},4.348906738714717,{"$f":"(B422-B421)/Sheet2!$G$18","v":14.424009556876292}]
[{"$f":"A421+Sheet2!G$18","v":{"v":2.674325674325673,"d":"2.67"}},4.406545138542395,{"$f":"(B423-B422)/Sheet2!$G$18","v":14.4881292533638}]
[{"$f":"A422+Sheet2!G$18","v":{"v":2.678321678321677,"d":"2.68"}},4.464439760933459,{"$f":"(B424-B423)/Sheet2!$G$18","v":14.552344758138636}]
[{"$f":"A423+Sheet2!G$18","v":{"v":2.682317682317681,"d":"2.68"}},4.522590988738209,{"$f":"(B425-B424)/Sheet2!$G$18","v":14.616656071200802}]
[{"$f":"A424+Sheet2!G$18","v":{"v":2.6863136863136847,"d":"2.69"}},4.580999204806943,{"$f":"(B426-B425)/Sheet2!$G$18","v":14.681063192551187}]
[{"$f":"A425+Sheet2!G$18","v":{"v":2.6903096903096886,"d":"2.69"}},4.639664791989965,{"$f":"(B427-B426)/Sheet2!$G$18","v":14.745566122188903}]
[{"$f":"A426+Sheet2!G$18","v":{"v":2.6943056943056924,"d":"2.69"}},4.698588133137573,{"$f":"(B428-B427)/Sheet2!$G$18","v":14.810164860114835}]
[{"$f":"A427+Sheet2!G$18","v":{"v":2.6983016983016963,"d":"2.70"}},4.75776961110007,{"$f":"(B429-B428)/Sheet2!$G$18","v":14.874859406326319}]
[{"$f":"A428+Sheet2!G$18","v":{"v":2.7022977022977,"d":"2.70"}},4.817209608727747,{"$f":"(B430-B429)/Sheet2!$G$18","v":14.93964976082869}]
[{"$f":"A429+Sheet2!G$18","v":{"v":2.706293706293704,"d":"2.71"}},4.876908508870919,{"$f":"(B431-B430)/Sheet2!$G$18","v":15.004535923615721}]
[{"$f":"A430+Sheet2!G$18","v":{"v":2.710289710289708,"d":"2.71"}},4.936866694379873,{"$f":"(B432-B431)/Sheet2!$G$18","v":15.069517894692751}]
[{"$f":"A431+Sheet2!G$18","v":{"v":2.7142857142857117,"d":"2.71"}},4.997084548104919,{"$f":"(B433-B432)/Sheet2!$G$18","v":15.134595674055332}]
[{"$f":"A432+Sheet2!G$18","v":{"v":2.7182817182817156,"d":"2.72"}},5.057562452896349,{"$f":"(B434-B433)/Sheet2!$G$18","v":15.199769261707019}]
[{"$f":"A433+Sheet2!G$18","v":{"v":2.7222777222777195,"d":"2.72"}},5.118300791604469,{"$f":"(B435-B434)/Sheet2!$G$18","v":15.265038657646036}]
[{"$f":"A434+Sheet2!G$18","v":{"v":2.7262737262737233,"d":"2.73"}},5.179299947079578,{"$f":"(B436-B435)/Sheet2!$G$18","v":15.330403861870606}]
[{"$f":"A435+Sheet2!G$18","v":{"v":2.730269730269727,"d":"2.73"}},5.240560302171968,{"$f":"(B437-B436)/Sheet2!$G$18","v":15.39586487438606}]
[{"$f":"A436+Sheet2!G$18","v":{"v":2.734265734265731,"d":"2.73"}},5.302082239731952,{"$f":"(B438-B437)/Sheet2!$G$18","v":15.461421695187065}]
[{"$f":"A437+Sheet2!G$18","v":{"v":2.738261738261735,"d":"2.74"}},5.363866142609822,{"$f":"(B439-B438)/Sheet2!$G$18","v":15.527074324277178}]
[{"$f":"A438+Sheet2!G$18","v":{"v":2.7422577422577388,"d":"2.74"}},5.425912393655885,{"$f":"(B440-B439)/Sheet2!$G$18","v":15.592822761653732}]
[{"$f":"A439+Sheet2!G$18","v":{"v":2.7462537462537426,"d":"2.75"}},5.4882213757204354,{"$f":"(B441-B440)/Sheet2!$G$18","v":15.658667007317616}]
[{"$f":"A440+Sheet2!G$18","v":{"v":2.7502497502497465,"d":"2.75"}},5.550793471653773,{"$f":"(B442-B441)/Sheet2!$G$18","v":15.724607061269717}]
[{"$f":"A441+Sheet2!G$18","v":{"v":2.7542457542457504,"d":"2.75"}},5.613629064306199,{"$f":"(B443-B442)/Sheet2!$G$18","v":15.790642923510038}]
[{"$f":"A442+Sheet2!G$18","v":{"v":2.758241758241754,"d":"2.76"}},5.676728536528017,{"$f":"(B444-B443)/Sheet2!$G$18","v":15.85677459403591}]
[{"$f":"A443+Sheet2!G$18","v":{"v":2.762237762237758,"d":"2.76"}},5.7400922711695195,{"$f":"(B445-B444)/Sheet2!$G$18","v":15.923002072851778}]
[{"$f":"A444+Sheet2!G$18","v":{"v":2.766233766233762,"d":"2.77"}},5.803720651081015,{"$f":"(B446-B445)/Sheet2!$G$18","v":15.989325359953197}]
[{"$f":"A445+Sheet2!G$18","v":{"v":2.770229770229766,"d":"2.77"}},5.867614059112796,{"$f":"(B447-B446)/Sheet2!$G$18","v":16.055744455345504}]
[{"$f":"A446+Sheet2!G$18","v":{"v":2.7742257742257697,"d":"2.77"}},5.931772878115176,{"$f":"(B448-B447)/Sheet2!$G$18","v":16.12225935902158}]
[{"$f":"A447+Sheet2!G$18","v":{"v":2.7782217782217735,"d":"2.78"}},5.996197490938439,{"$f":"(B449-B448)/Sheet2!$G$18","v":16.188870070986766}]
[{"$f":"A448+Sheet2!G$18","v":{"v":2.7822177822177774,"d":"2.78"}},6.060888280432891,{"$f":"(B450-B449)/Sheet2!$G$18","v":16.255576591241063}]
[{"$f":"A449+Sheet2!G$18","v":{"v":2.7862137862137812,"d":"2.79"}},6.12584562944884,{"$f":"(B451-B450)/Sheet2!$G$18","v":16.322378919780906}]
[{"$f":"A450+Sheet2!G$18","v":{"v":2.790209790209785,"d":"2.79"}},{"$f":"x^3-7*x+4","v":6.191069920836576},{"$f":"(B452-B451)/Sheet2!$G$18","v":16.38927705660808}]
[{"$f":"A451+Sheet2!G$18","v":{"v":2.794205794205789,"d":"2.79"}},6.256561537446398,{"$f":"(B453-B452)/Sheet2!$G$18","v":16.456271001725252}]
[{"$f":"A452+Sheet2!G$18","v":{"v":2.798201798201793,"d":"2.80"}},6.322320862128617,{"$f":"(B454-B453)/Sheet2!$G$18","v":16.523360755127975}]
[{"$f":"A453+Sheet2!G$18","v":{"v":2.8021978021977967,"d":"2.80"}},6.388348277733524,{"$f":"(B455-B454)/Sheet2!$G$18","v":16.590546316819804}]
[{"$f":"A454+Sheet2!G$18","v":{"v":2.8061938061938005,"d":"2.81"}},6.454644167111425,{"$f":"(B456-B455)/Sheet2!$G$18","v":16.657827686798075}]
[{"$f":"A455+Sheet2!G$18","v":{"v":2.8101898101898044,"d":"2.81"}},6.521208913112616,{"$f":"(B457-B456)/Sheet2!$G$18","v":16.725204865064565}]
[{"$f":"A456+Sheet2!G$18","v":{"v":2.8141858141858083,"d":"2.81"}},6.5880428985874,{"$f":"(B458-B457)/Sheet2!$G$18","v":16.792677851618382}]
[{"$f":"A457+Sheet2!G$18","v":{"v":2.818181818181812,"d":"2.82"}},6.655146506386075,{"$f":"(B459-B458)/Sheet2!$G$18","v":16.860246646459533}]
[{"$f":"A458+Sheet2!G$18","v":{"v":2.822177822177816,"d":"2.82"}},6.72252011935894,{"$f":"(B460-B459)/Sheet2!$G$18","v":16.927911249589787}]
[{"$f":"A459+Sheet2!G$18","v":{"v":2.82617382617382,"d":"2.83"}},6.790164120356302,{"$f":"(B461-B460)/Sheet2!$G$18","v":16.995671661004707}]
[{"$f":"A460+Sheet2!G$18","v":{"v":2.8301698301698237,"d":"2.83"}},6.858078892228448,{"$f":"(B462-B461)/Sheet2!$G$18","v":17.06352788071051}]
[{"$f":"A461+Sheet2!G$18","v":{"v":2.8341658341658276,"d":"2.83"}},6.926264817825693,{"$f":"(B463-B462)/Sheet2!$G$18","v":17.131479908701863}]
[{"$f":"A462+Sheet2!G$18","v":{"v":2.8381618381618314,"d":"2.84"}},6.994722279998328,{"$f":"(B464-B463)/Sheet2!$G$18","v":17.199527744981438}]
[{"$f":"A463+Sheet2!G$18","v":{"v":2.8421578421578353,"d":"2.84"}},7.063451661596655,{"$f":"(B465-B464)/Sheet2!$G$18","v":17.26767138954834}]
[{"$f":"A464+Sheet2!G$18","v":{"v":2.846153846153839,"d":"2.85"}},7.132453345470974,{"$f":"(B466-B465)/Sheet2!$G$18","v":17.33591084240346}]
[{"$f":"A465+Sheet2!G$18","v":{"v":2.850149850149843,"d":"2.85"}},7.201727714471588,{"$f":"(B467-B466)/Sheet2!$G$18","v":17.404246103546804}]
[{"$f":"A466+Sheet2!G$18","v":{"v":2.854145854145847,"d":"2.85"}},7.271275151448798,{"$f":"(B468-B467)/Sheet2!$G$18","v":17.472677172975693}]
[{"$f":"A467+Sheet2!G$18","v":{"v":2.8581418581418507,"d":"2.86"}},7.341096039252896,{"$f":"(B469-B468)/Sheet2!$G$18","v":17.541204050693693}]
[{"$f":"A468+Sheet2!G$18","v":{"v":2.8621378621378546,"d":"2.86"}},7.41119076073419,{"$f":"(B470-B469)/Sheet2!$G$18","v":17.60982673669902}]
[{"$f":"A469+Sheet2!G$18","v":{"v":2.8661338661338585,"d":"2.87"}},7.481559698742977,{"$f":"(B471-B470)/Sheet2!$G$18","v":17.67854523099257}]
[{"$f":"A470+Sheet2!G$18","v":{"v":2.8701298701298623,"d":"2.87"}},7.552203236129561,{"$f":"(B472-B471)/Sheet2!$G$18","v":17.747359533572556}]
[{"$f":"A471+Sheet2!G$18","v":{"v":2.874125874125866,"d":"2.87"}},7.623121755744236,{"$f":"(B473-B472)/Sheet2!$G$18","v":17.816269644440762}]
[{"$f":"A472+Sheet2!G$18","v":{"v":2.87812187812187,"d":"2.88"}},7.694315640437306,{"$f":"(B474-B473)/Sheet2!$G$18","v":17.8852755635963}]
[{"$f":"A473+Sheet2!G$18","v":{"v":2.882117882117874,"d":"2.88"}},7.76578527305907,{"$f":"(B475-B474)/Sheet2!$G$18","v":17.95437729104094}]
[{"$f":"A474+Sheet2!G$18","v":{"v":2.8861138861138778,"d":"2.89"}},7.837531036459833,{"$f":"(B476-B475)/Sheet2!$G$18","v":18.023574826771135}]
[{"$f":"A475+Sheet2!G$18","v":{"v":2.8901098901098816,"d":"2.89"}},7.909553313489887,{"$f":"(B477-B476)/Sheet2!$G$18","v":18.09286817078866}]
[{"$f":"A476+Sheet2!G$18","v":{"v":2.8941058941058855,"d":"2.89"}},7.981852486999532,{"$f":"(B478-B477)/Sheet2!$G$18","v":18.16225732309529}]
[{"$f":"A477+Sheet2!G$18","v":{"v":2.8981018981018893,"d":"2.90"}},8.054428939839074,{"$f":"(B479-B478)/Sheet2!$G$18","v":18.23174228368925}]
[{"$f":"A478+Sheet2!G$18","v":{"v":2.902097902097893,"d":"2.90"}},8.127283054858811,{"$f":"(B480-B479)/Sheet2!$G$18","v":18.30132305257143}]
[{"$f":"A479+Sheet2!G$18","v":{"v":2.906093906093897,"d":"2.91"}},8.200415214909047,{"$f":"(B481-B480)/Sheet2!$G$18","v":18.37099962974094}]
[{"$f":"A480+Sheet2!G$18","v":{"v":2.910089910089901,"d":"2.91"}},8.27382580284008,{"$f":"(B482-B481)/Sheet2!$G$18","v":18.440772015196}]
[{"$f":"A481+Sheet2!G$18","v":{"v":2.914085914085905,"d":"2.91"}},8.347515201502201,{"$f":"(B483-B482)/Sheet2!$G$18","v":18.510640208941947}]
[{"$f":"A482+Sheet2!G$18","v":{"v":2.9180819180819086,"d":"2.92"}},8.421483793745725,{"$f":"(B484-B483)/Sheet2!$G$18","v":18.580604210972552}]
[{"$f":"A483+Sheet2!G$18","v":{"v":2.9220779220779125,"d":"2.92"}},8.49573196242094,{"$f":"(B485-B484)/Sheet2!$G$18","v":18.65066402129227}]
[{"$f":"A484+Sheet2!G$18","v":{"v":2.9260739260739164,"d":"2.93"}},8.570260090378152,{"$f":"(B486-B485)/Sheet2!$G$18","v":18.720819639899315}]
[{"$f":"A485+Sheet2!G$18","v":{"v":2.9300699300699202,"d":"2.93"}},8.64506856046766,{"$f":"(B487-B486)/Sheet2!$G$18","v":18.791071066795467}]
[{"$f":"A486+Sheet2!G$18","v":{"v":2.934065934065924,"d":"2.93"}},8.72015775553977,{"$f":"(B488-B487)/Sheet2!$G$18","v":18.861418301976283}]
[{"$f":"A487+Sheet2!G$18","v":{"v":2.938061938061928,"d":"2.94"}},8.79552805844477,{"$f":"(B489-B488)/Sheet2!$G$18","v":18.931861345447096}]
[{"$f":"A488+Sheet2!G$18","v":{"v":2.942057942057932,"d":"2.94"}},8.87117985203297,{"$f":"(B490-B489)/Sheet2!$G$18","v":19.002400197205237}]
[{"$f":"A489+Sheet2!G$18","v":{"v":2.9460539460539357,"d":"2.95"}},8.94711351915467,{"$f":"(B491-B490)/Sheet2!$G$18","v":19.073034857248928}]
[{"$f":"A490+Sheet2!G$18","v":{"v":2.9500499500499395,"d":"2.95"}},9.02332944266016,{"$f":"(B492-B491)/Sheet2!$G$18","v":19.14376532558351}]
[{"$f":"A491+Sheet2!G$18","v":{"v":2.9540459540459434,"d":"2.95"}},9.099828005399754,{"$f":"(B493-B492)/Sheet2!$G$18","v":19.21459160220186}]
[{"$f":"A492+Sheet2!G$18","v":{"v":2.9580419580419473,"d":"2.96"}},9.176609590223737,{"$f":"(B494-B493)/Sheet2!$G$18","v":19.285513687111987}]
[{"$f":"A493+Sheet2!G$18","v":{"v":2.962037962037951,"d":"2.96"}},9.253674579982427,{"$f":"(B495-B494)/Sheet2!$G$18","v":19.356531580306775}]
[{"$f":"A494+Sheet2!G$18","v":{"v":2.966033966033955,"d":"2.97"}},9.33102335752611,{"$f":"(B496-B495)/Sheet2!$G$18","v":19.427645281789783}]
[{"$f":"A495+Sheet2!G$18","v":{"v":2.970029970029959,"d":"2.97"}},9.40865630570509,{"$f":"(B497-B496)/Sheet2!$G$18","v":19.498854791561897}]
[{"$f":"A496+Sheet2!G$18","v":{"v":2.9740259740259627,"d":"2.97"}},9.486573807369673,{"$f":"(B498-B497)/Sheet2!$G$18","v":19.57016010961956}]
[{"$f":"A497+Sheet2!G$18","v":{"v":2.9780219780219666,"d":"2.98"}},9.564776245370151,{"$f":"(B499-B498)/Sheet2!$G$18","v":19.641561235966336}]
[{"$f":"A498+Sheet2!G$18","v":{"v":2.9820179820179704,"d":"2.98"}},9.64326400255683,{"$f":"(B500-B499)/Sheet2!$G$18","v":19.71305817059955}]
[{"$f":"A499+Sheet2!G$18","v":{"v":2.9860139860139743,"d":"2.99"}},9.722037461780005,{"$f":"(B501-B500)/Sheet2!$G$18","v":19.784650913520984}]
[{"$f":"A500+Sheet2!G$18","v":{"v":2.990009990009978,"d":"2.99"}},9.801097005889979,{"$f":"(B502-B501)/Sheet2!$G$18","v":19.856339464729746}]
[{"$f":"A501+Sheet2!G$18","v":{"v":2.994005994005982,"d":"2.99"}},9.88044301773705,{"$f":"(B503-B502)/Sheet2!$G$18","v":19.928123824227615}]
[{"$f":"A502+Sheet2!G$18","v":{"v":2.998001998001986,"d":"3.00"}},9.960075880171527,{"$f":"(B504-B503)/Sheet2!$G$18","v":20.000003992010146}]
[{"$f":"A503+Sheet2!G$18","v":{"v":3.0019980019979897,"d":"3.00"}},10.039995976043695,{"$f":"(B505-B504)/Sheet2!$G$18","v":20.071979968084452}]
[{"$f":"A504+Sheet2!G$18","v":{"v":3.0059940059939936,"d":"3.01"}},10.120203688203873,{"$f":"(B506-B505)/Sheet2!$G$18","v":20.144051752441644}]
[{"$f":"A505+Sheet2!G$18","v":{"v":3.0099900099899974,"d":"3.01"}},10.20069939950234,{"$f":"(B507-B506)/Sheet2!$G$18","v":20.216219345089723}]
[{"$f":"A506+Sheet2!G$18","v":{"v":3.0139860139860013,"d":"3.01"}},10.281483492789413,{"$f":"(B508-B507)/Sheet2!$G$18","v":20.28848274602424}]
[{"$f":"A507+Sheet2!G$18","v":{"v":3.017982017982005,"d":"3.02"}},10.362556350915384,{"$f":"(B509-B508)/Sheet2!$G$18","v":20.360841955246084}]
[{"$f":"A508+Sheet2!G$18","v":{"v":3.021978021978009,"d":"3.02"}},10.443918356730553,{"$f":"(B510-B509)/Sheet2!$G$18","v":20.433296972757038}]
[{"$f":"A509+Sheet2!G$18","v":{"v":3.025974025974013,"d":"3.03"}},10.525569893085226,{"$f":"(B511-B510)/Sheet2!$G$18","v":20.505847798554434}]
[{"$f":"A510+Sheet2!G$18","v":{"v":3.0299700299700167,"d":"3.03"}},10.6075113428297,{"$f":"(B512-B511)/Sheet2!$G$18","v":20.578494432639157}]
[{"$f":"A511+Sheet2!G$18","v":{"v":3.0339660339660206,"d":"3.03"}},10.689743088814271,{"$f":"(B513-B512)/Sheet2!$G$18","v":20.65123687501121}]
[{"$f":"A512+Sheet2!G$18","v":{"v":3.0379620379620245,"d":"3.04"}},10.772265513889241,{"$f":"(B514-B513)/Sheet2!$G$18","v":20.72407512567415}]
[{"$f":"A513+Sheet2!G$18","v":{"v":3.0419580419580283,"d":"3.04"}},10.855079000904922,{"$f":"(B515-B514)/Sheet2!$G$18","v":20.797009184620862}]
[{"$f":"A514+Sheet2!G$18","v":{"v":3.045954045954032,"d":"3.05"}},{"$f":"x^3-7*x+4","v":10.938183932711599},{"$f":"(B516-B515)/Sheet2!$G$18","v":20.870039051855795}]
[{"$f":"A515+Sheet2!G$18","v":{"v":3.049950049950036,"d":"3.05"}},11.021580692159574,{"$f":"(B517-B516)/Sheet2!$G$18","v":20.943164727378942}]
[{"$f":"A516+Sheet2!G$18","v":{"v":3.05394605394604,"d":"3.05"}},11.10526966209915,{"$f":"(B518-B517)/Sheet2!$G$18","v":21.016386211190312}]
[{"$f":"A517+Sheet2!G$18","v":{"v":3.0579420579420438,"d":"3.06"}},11.18925122538063,{"$f":"(B519-B518)/Sheet2!$G$18","v":21.08970350328901}]
[{"$f":"A518+Sheet2!G$18","v":{"v":3.0619380619380476,"d":"3.06"}},11.273525764854313,{"$f":"(B520-B519)/Sheet2!$G$18","v":21.163116603675036}]
[{"$f":"A519+Sheet2!G$18","v":{"v":3.0659340659340515,"d":"3.07"}},11.358093663370497,{"$f":"(B521-B520)/Sheet2!$G$18","v":21.23662551235017}]
[{"$f":"A520+Sheet2!G$18","v":{"v":3.0699300699300553,"d":"3.07"}},11.442955303779488,{"$f":"(B522-B521)/Sheet2!$G$18","v":21.310230229309077}]
[{"$f":"A521+Sheet2!G$18","v":{"v":3.073926073926059,"d":"3.07"}},11.528111068931572,{"$f":"(B523-B522)/Sheet2!$G$18","v":21.38393075455976}]
[{"$f":"A522+Sheet2!G$18","v":{"v":3.077922077922063,"d":"3.08"}},11.613561341677066,{"$f":"(B524-B523)/Sheet2!$G$18","v":21.457727088095105}]
[{"$f":"A523+Sheet2!G$18","v":{"v":3.081918081918067,"d":"3.08"}},11.699306504866257,{"$f":"(B525-B524)/Sheet2!$G$18","v":21.53161922991956}]
[{"$f":"A524+Sheet2!G$18","v":{"v":3.085914085914071,"d":"3.09"}},11.785346941349452,{"$f":"(B526-B525)/Sheet2!$G$18","v":21.60560718003223}]
[{"$f":"A525+Sheet2!G$18","v":{"v":3.0899100899100747,"d":"3.09"}},11.871683033976954,{"$f":"(B527-B526)/Sheet2!$G$18","v":21.67969093843045}]
[{"$f":"A526+Sheet2!G$18","v":{"v":3.0939060939060785,"d":"3.09"}},11.958315165599053,{"$f":"(B528-B527)/Sheet2!$G$18","v":21.75387050511867}]
[{"$f":"A527+Sheet2!G$18","v":{"v":3.0979020979020824,"d":"3.10"}},12.045243719066061,{"$f":"(B529-B528)/Sheet2!$G$18","v":21.82814588009333}]
[{"$f":"A528+Sheet2!G$18","v":{"v":3.1018981018980862,"d":"3.10"}},12.132469077228272,{"$f":"(B530-B529)/Sheet2!$G$18","v":21.90251706335532}]
[{"$f":"A529+Sheet2!G$18","v":{"v":3.10589410589409,"d":"3.11"}},12.219991622935986,{"$f":"(B531-B530)/Sheet2!$G$18","v":21.976984054904637}]
[{"$f":"A530+Sheet2!G$18","v":{"v":3.109890109890094,"d":"3.11"}},12.3078117390395,{"$f":"(B532-B531)/Sheet2!$G$18","v":22.051546854742174}]
[{"$f":"A531+Sheet2!G$18","v":{"v":3.113886113886098,"d":"3.11"}},12.39592980838912,{"$f":"(B533-B532)/Sheet2!$G$18","v":22.12620546286704}]
[{"$f":"A532+Sheet2!G$18","v":{"v":3.1178821178821017,"d":"3.12"}},12.484346213835142,{"$f":"(B534-B533)/Sheet2!$G$18","v":22.200959879281015}]
[{"$f":"A533+Sheet2!G$18","v":{"v":3.1218781218781055,"d":"3.12"}},12.573061338227873,{"$f":"(B535-B534)/Sheet2!$G$18","v":22.27581010398054}]
[{"$f":"A534+Sheet2!G$18","v":{"v":3.1258741258741094,"d":"3.13"}},12.662075564417606,{"$f":"(B536-B535)/Sheet2!$G$18","v":22.350756136970062}]
[{"$f":"A535+Sheet2!G$18","v":{"v":3.1298701298701133,"d":"3.13"}},12.751389275254649,{"$f":"(B537-B536)/Sheet2!$G$18","v":22.425797978244248}]
[{"$f":"A536+Sheet2!G$18","v":{"v":3.133866133866117,"d":"3.13"}},12.841002853589291,{"$f":"(B538-B537)/Sheet2!$G$18","v":22.50093562780754}]
[{"$f":"A537+Sheet2!G$18","v":{"v":3.137862137862121,"d":"3.14"}},12.930916682271839,{"$f":"(B539-B538)/Sheet2!$G$18","v":22.576169085659938}]
[{"$f":"A538+Sheet2!G$18","v":{"v":3.141858141858125,"d":"3.14"}},13.021131144152598,{"$f":"(B540-B539)/Sheet2!$G$18","v":22.65149835179611}]
[{"$f":"A539+Sheet2!G$18","v":{"v":3.1458541458541287,"d":"3.15"}},13.111646622081853,{"$f":"(B541-B540)/Sheet2!$G$18","v":22.726923426222278}]
[{"$f":"A540+Sheet2!G$18","v":{"v":3.1498501498501326,"d":"3.15"}},13.202463498909914,{"$f":"(B542-B541)/Sheet2!$G$18","v":22.80244430893578}]
[{"$f":"A541+Sheet2!G$18","v":{"v":3.1538461538461364,"d":"3.15"}},13.29358215748708,{"$f":"(B543-B542)/Sheet2!$G$18","v":22.878060999939272}]
[{"$f":"A542+Sheet2!G$18","v":{"v":3.1578421578421403,"d":"3.16"}},13.38500298066366,{"$f":"(B544-B543)/Sheet2!$G$18","v":22.95377349922743}]
[{"$f":"A543+Sheet2!G$18","v":{"v":3.161838161838144,"d":"3.16"}},13.476726351289944,{"$f":"(B545-B544)/Sheet2!$G$18","v":23.029581806803808}]
[{"$f":"A544+Sheet2!G$18","v":{"v":3.165834165834148,"d":"3.17"}},13.568752652216233,{"$f":"(B546-B545)/Sheet2!$G$18","v":23.105485922667512}]
[{"$f":"A545+Sheet2!G$18","v":{"v":3.169830169830152,"d":"3.17"}},13.661082266292826,{"$f":"(B547-B546)/Sheet2!$G$18","v":23.18148584681855}]
[{"$f":"A546+Sheet2!G$18","v":{"v":3.1738261738261557,"d":"3.17"}},13.753715576370023,{"$f":"(B548-B547)/Sheet2!$G$18","v":23.257581579257803}]
[{"$f":"A547+Sheet2!G$18","v":{"v":3.1778221778221596,"d":"3.18"}},13.846652965298127,{"$f":"(B549-B548)/Sheet2!$G$18","v":23.333773119985274}]
[{"$f":"A548+Sheet2!G$18","v":{"v":3.1818181818181634,"d":"3.18"}},13.939894815927438,{"$f":"(B550-B549)/Sheet2!$G$18","v":23.410060469001856}]
[{"$f":"A549+Sheet2!G$18","v":{"v":3.1858141858141673,"d":"3.19"}},14.033441511108265,{"$f":"(B551-B550)/Sheet2!$G$18","v":23.48644362630132}]
[{"$f":"A550+Sheet2!G$18","v":{"v":3.189810189810171,"d":"3.19"}},14.127293433690888,{"$f":"(B552-B551)/Sheet2!$G$18","v":23.562922591894335}]
[{"$f":"A551+Sheet2!G$18","v":{"v":3.193806193806175,"d":"3.19"}},14.22145096652563,{"$f":"(B553-B552)/Sheet2!$G$18","v":23.639497365770236}]
[{"$f":"A552+Sheet2!G$18","v":{"v":3.197802197802179,"d":"3.20"}},14.315914492462774,{"$f":"(B554-B553)/Sheet2!$G$18","v":23.716167947934355}]
[{"$f":"A553+Sheet2!G$18","v":{"v":3.2017982017981828,"d":"3.20"}},14.410684394352621,{"$f":"(B555-B554)/Sheet2!$G$18","v":23.792934338388473}]
[{"$f":"A554+Sheet2!G$18","v":{"v":3.2057942057941866,"d":"3.21"}},14.505761055045483,{"$f":"(B556-B555)/Sheet2!$G$18","v":23.86979653712725}]
[{"$f":"A555+Sheet2!G$18","v":{"v":3.2097902097901905,"d":"3.21"}},14.601144857391645,{"$f":"(B557-B556)/Sheet2!$G$18","v":23.946754544155137}]
[{"$f":"A556+Sheet2!G$18","v":{"v":3.2137862137861943,"d":"3.21"}},14.696836184241416,{"$f":"(B558-B557)/Sheet2!$G$18","v":24.02380835947302}]
[{"$f":"A557+Sheet2!G$18","v":{"v":3.217782217782198,"d":"3.22"}},14.792835418445105,{"$f":"(B559-B558)/Sheet2!$G$18","v":24.1009579830729}]
[{"$f":"A558+Sheet2!G$18","v":{"v":3.221778221778202,"d":"3.22"}},14.889142942852988,{"$f":"(B560-B559)/Sheet2!$G$18","v":24.17820341496633}]
[{"$f":"A559+Sheet2!G$18","v":{"v":3.225774225774206,"d":"3.23"}},14.985759140315391,{"$f":"(B561-B560)/Sheet2!$G$18","v":24.255544655144423}]
[{"$f":"A560+Sheet2!G$18","v":{"v":3.2297702297702098,"d":"3.23"}},15.082684393682602,{"$f":"(B562-B561)/Sheet2!$G$18","v":24.332981703608954}]
[{"$f":"A561+Sheet2!G$18","v":{"v":3.2337662337662136,"d":"3.23"}},15.179919085804915,{"$f":"(B563-B562)/Sheet2!$G$18","v":24.410514560363485}]
[{"$f":"A562+Sheet2!G$18","v":{"v":3.2377622377622175,"d":"3.24"}},15.277463599532641,{"$f":"(B564-B563)/Sheet2!$G$18","v":24.488143225403565}]
[{"$f":"A563+Sheet2!G$18","v":{"v":3.2417582417582214,"d":"3.24"}},15.375318317716072,{"$f":"(B565-B564)/Sheet2!$G$18","v":24.565867698735424}]
[{"$f":"A564+Sheet2!G$18","v":{"v":3.245754245754225,"d":"3.25"}},15.473483623205524,{"$f":"(B566-B565)/Sheet2!$G$18","v":24.643687980349274}]
[{"$f":"A565+Sheet2!G$18","v":{"v":3.249750249750229,"d":"3.25"}},15.571959898851276,{"$f":"(B567-B566)/Sheet2!$G$18","v":24.7216040702549}]
[{"$f":"A566+Sheet2!G$18","v":{"v":3.253746253746233,"d":"3.25"}},15.670747527503643,{"$f":"(B568-B567)/Sheet2!$G$18","v":24.79961596844519}]
[{"$f":"A567+Sheet2!G$18","v":{"v":3.257742257742237,"d":"3.26"}},15.769846892012914,{"$f":"(B569-B568)/Sheet2!$G$18","v":24.877723674925473}]
[{"$f":"A568+Sheet2!G$18","v":{"v":3.2617382617382407,"d":"3.26"}},15.8692583752294,{"$f":"(B570-B569)/Sheet2!$G$18","v":24.9559271896922}]
[{"$f":"A569+Sheet2!G$18","v":{"v":3.2657342657342445,"d":"3.27"}},15.968982360003395,{"$f":"(B571-B570)/Sheet2!$G$18","v":25.034226512747143}]
[{"$f":"A570+Sheet2!G$18","v":{"v":3.2697302697302484,"d":"3.27"}},16.0690192291852,{"$f":"(B572-B571)/Sheet2!$G$18","v":25.112621644090307}]
[{"$f":"A571+Sheet2!G$18","v":{"v":3.2737262737262522,"d":"3.27"}},16.169369365625123,{"$f":"(B573-B572)/Sheet2!$G$18","v":25.191112583717242}]
[{"$f":"A572+Sheet2!G$18","v":{"v":3.277722277722256,"d":"3.28"}},16.270033152173443,{"$f":"(B574-B573)/Sheet2!$G$18","v":25.26969933163595}]
[{"$f":"A573+Sheet2!G$18","v":{"v":3.28171828171826,"d":"3.28"}},16.37101097168048,{"$f":"(B575-B574)/Sheet2!$G$18","v":25.34838188784199}]
[{"$f":"A574+Sheet2!G$18","v":{"v":3.285714285714264,"d":"3.29"}},16.472303206996532,{"$f":"(B576-B575)/Sheet2!$G$18","v":25.427160252332694}]
[{"$f":"A575+Sheet2!G$18","v":{"v":3.2897102897102677,"d":"3.29"}},16.573910240971887,{"$f":"(B577-B576)/Sheet2!$G$18","v":25.50603442511517}]
[{"$f":"A576+Sheet2!G$18","v":{"v":3.2937062937062715,"d":"3.29"}},16.675832456456863,{"$f":"(B578-B577)/Sheet2!$G$18","v":25.585004406180534}]
[{"$f":"A577+Sheet2!G$18","v":{"v":3.2977022977022754,"d":"3.30"}},16.77807023630174,{"$f":"(B579-B578)/Sheet2!$G$18","v":25.66407019553767}]
[{"$f":"A578+Sheet2!G$18","v":{"v":3.3016983016982793,"d":"3.30"}},{"$f":"x^3-7*x+4","v":16.880623963356836},{"$f":"(B580-B579)/Sheet2!$G$18","v":25.743231793180357}]
[{"$f":"A579+Sheet2!G$18","v":{"v":3.305694305694283,"d":"3.31"}},16.983494020472442,{"$f":"(B581-B580)/Sheet2!$G$18","v":25.822489199111264}]
[{"$f":"A580+Sheet2!G$18","v":{"v":3.309690309690287,"d":"3.31"}},17.08668079049886,{"$f":"(B582-B581)/Sheet2!$G$18","v":25.901842413329497}]
[{"$f":"A581+Sheet2!G$18","v":{"v":3.313686313686291,"d":"3.31"}},17.19018465628639,{"$f":"(B583-B582)/Sheet2!$G$18","v":25.981291435835953}]
[{"$f":"A582+Sheet2!G$18","v":{"v":3.3176823176822947,"d":"3.32"}},17.294006000685336,{"$f":"(B584-B583)/Sheet2!$G$18","v":26.060836266630623}]
[{"$f":"A583+Sheet2!G$18","v":{"v":3.3216783216782986,"d":"3.32"}},17.398145206545998,{"$f":"(B585-B584)/Sheet2!$G$18","v":26.14047690570996}]
[{"$f":"A584+Sheet2!G$18","v":{"v":3.3256743256743024,"d":"3.33"}},17.502602656718665,{"$f":"(B586-B585)/Sheet2!$G$18","v":26.22021335307929}]
[{"$f":"A585+Sheet2!G$18","v":{"v":3.3296703296703063,"d":"3.33"}},17.607378734053647,{"$f":"(B587-B586)/Sheet2!$G$18","v":26.30004560873506}]
[{"$f":"A586+Sheet2!G$18","v":{"v":3.33366633366631,"d":"3.33"}},17.71247382140124,{"$f":"(B588-B587)/Sheet2!$G$18","v":26.379973672679053}]
[{"$f":"A587+Sheet2!G$18","v":{"v":3.337662337662314,"d":"3.34"}},17.817888301611745,{"$f":"(B589-B588)/Sheet2!$G$18","v":26.459997544910372}]
[{"$f":"A588+Sheet2!G$18","v":{"v":3.341658341658318,"d":"3.34"}},17.923622557535463,{"$f":"(B590-B589)/Sheet2!$G$18","v":26.54011722543169}]
[{"$f":"A589+Sheet2!G$18","v":{"v":3.3456543456543217,"d":"3.35"}},18.029676972022703,{"$f":"(B591-B590)/Sheet2!$G$18","v":26.620332714236778}]
[{"$f":"A590+Sheet2!G$18","v":{"v":3.3496503496503256,"d":"3.35"}},18.13605192792375,{"$f":"(B592-B591)/Sheet2!$G$18","v":26.700644011331864}]
[{"$f":"A591+Sheet2!G$18","v":{"v":3.3536463536463295,"d":"3.35"}},18.24274780808891,{"$f":"(B593-B592)/Sheet2!$G$18","v":26.781051116713392}]
[{"$f":"A592+Sheet2!G$18","v":{"v":3.3576423576423333,"d":"3.36"}},18.349764995368485,{"$f":"(B594-B593)/Sheet2!$G$18","v":26.861554030384916}]
[{"$f":"A593+Sheet2!G$18","v":{"v":3.361638361638337,"d":"3.36"}},18.45710387261278,{"$f":"(B595-B594)/Sheet2!$G$18","v":26.9421527523411}]
[{"$f":"A594+Sheet2!G$18","v":{"v":3.365634365634341,"d":"3.37"}},18.564764822672085,{"$f":"(B596-B595)/Sheet2!$G$18","v":27.022847282586394}]
[{"$f":"A595+Sheet2!G$18","v":{"v":3.369630369630345,"d":"3.37"}},18.672748228396706,{"$f":"(B597-B596)/Sheet2!$G$18","v":27.10363762111813}]
[{"$f":"A596+Sheet2!G$18","v":{"v":3.3736263736263488,"d":"3.37"}},18.78105447263694,{"$f":"(B598-B597)/Sheet2!$G$18","v":27.18452376793897}]
[{"$f":"A597+Sheet2!G$18","v":{"v":3.3776223776223526,"d":"3.38"}},18.88968393824309,{"$f":"(B599-B598)/Sheet2!$G$18","v":27.26550572304803}]
[{"$f":"A598+Sheet2!G$18","v":{"v":3.3816183816183565,"d":"3.38"}},18.998637008065458,{"$f":"(B600-B599)/Sheet2!$G$18","v":27.34658348643997}]
[{"$f":"A599+Sheet2!G$18","v":{"v":3.3856143856143603,"d":"3.39"}},19.10791406495433,{"$f":"(B601-B600)/Sheet2!$G$18","v":27.42775705812725}]
[{"$f":"A600+Sheet2!G$18","v":{"v":3.389610389610364,"d":"3.39"}},19.217515491760032,{"$f":"(B602-B601)/Sheet2!$G$18","v":27.509026438095628}]
[{"$f":"A601+Sheet2!G$18","v":{"v":3.393606393606368,"d":"3.39"}},19.327441671332842,{"$f":"(B603-B602)/Sheet2!$G$18","v":27.590391626354005}]
[{"$f":"A602+Sheet2!G$18","v":{"v":3.397602397602372,"d":"3.40"}},19.437692986523068,{"$f":"(B604-B603)/Sheet2!$G$18","v":27.6718526229006}]
[{"$f":"A603+Sheet2!G$18","v":{"v":3.401598401598376,"d":"3.40"}},19.548269820181012,{"$f":"(B605-B604)/Sheet2!$G$18","v":27.75340942773275}]
[{"$f":"A604+Sheet2!G$18","v":{"v":3.4055944055943796,"d":"3.41"}},19.659172555156967,{"$f":"(B606-B605)/Sheet2!$G$18","v":27.835062040854893}]
[{"$f":"A605+Sheet2!G$18","v":{"v":3.4095904095903835,"d":"3.41"}},19.770401574301243,{"$f":"(B607-B606)/Sheet2!$G$18","v":27.91681046226259}]
[{"$f":"A606+Sheet2!G$18","v":{"v":3.4135864135863874,"d":"3.41"}},19.88195726046413,{"$f":"(B608-B607)/Sheet2!$G$18","v":27.998654691960283}]
[{"$f":"A607+Sheet2!G$18","v":{"v":3.4175824175823912,"d":"3.42"}},19.99383999649594,{"$f":"(B609-B608)/Sheet2!$G$18","v":28.080594729944416}]
[{"$f":"A608+Sheet2!G$18","v":{"v":3.421578421578395,"d":"3.42"}},20.106050165246966,{"$f":"(B610-B609)/Sheet2!$G$18","v":28.162630576214987}]
[{"$f":"A609+Sheet2!G$18","v":{"v":3.425574425574399,"d":"3.43"}},20.218588149567505,{"$f":"(B611-B610)/Sheet2!$G$18","v":28.244762230775557}]
[{"$f":"A610+Sheet2!G$18","v":{"v":3.429570429570403,"d":"3.43"}},20.331454332307867,{"$f":"(B612-B611)/Sheet2!$G$18","v":28.3269896936199}]
[{"$f":"A611+Sheet2!G$18","v":{"v":3.4335664335664067,"d":"3.43"}},20.444649096318336,{"$f":"(B613-B612)/Sheet2!$G$18","v":28.409312964757795}]
[{"$f":"A612+Sheet2!G$18","v":{"v":3.4375624375624105,"d":"3.44"}},20.558172824449237,{"$f":"(B614-B613)/Sheet2!$G$18","v":28.491732044177688}]
[{"$f":"A613+Sheet2!G$18","v":{"v":3.4415584415584144,"d":"3.44"}},20.672025899550846,{"$f":"(B615-B614)/Sheet2!$G$18","v":28.574246931887576}]
[{"$f":"A614+Sheet2!G$18","v":{"v":3.4455544455544183,"d":"3.45"}},20.786208704473474,{"$f":"(B616-B615)/Sheet2!$G$18","v":28.65685762788568}]
[{"$f":"A615+Sheet2!G$18","v":{"v":3.449550449550422,"d":"3.45"}},20.900721622067422,{"$f":"(B617-B616)/Sheet2!$G$18","v":28.739564132170226}]
[{"$f":"A616+Sheet2!G$18","v":{"v":3.453546453546426,"d":"3.45"}},21.015565035182988,{"$f":"(B618-B617)/Sheet2!$G$18","v":28.822366444741213}]
[{"$f":"A617+Sheet2!G$18","v":{"v":3.45754245754243,"d":"3.46"}},21.130739326670465,{"$f":"(B619-B618)/Sheet2!$G$18","v":28.905264565603975}]
[{"$f":"A618+Sheet2!G$18","v":{"v":3.4615384615384337,"d":"3.46"}},21.24624487938017,{"$f":"(B620-B619)/Sheet2!$G$18","v":28.988258494749623}]
[{"$f":"A619+Sheet2!G$18","v":{"v":3.4655344655344376,"d":"3.47"}},21.362082076162388,{"$f":"(B621-B620)/Sheet2!$G$18","v":29.071348232186153}]
[{"$f":"A620+Sheet2!G$18","v":{"v":3.4695304695304414,"d":"3.47"}},21.478251299867427,{"$f":"(B622-B621)/Sheet2!$G$18","v":29.154533777907346}]
[{"$f":"A621+Sheet2!G$18","v":{"v":3.4735264735264453,"d":"3.47"}},21.59475293334558,{"$f":"(B623-B622)/Sheet2!$G$18","v":29.237815131921206}]
[{"$f":"A622+Sheet2!G$18","v":{"v":3.477522477522449,"d":"3.48"}},21.71158735944716,{"$f":"(B624-B623)/Sheet2!$G$18","v":29.321192294216168}]
[{"$f":"A623+Sheet2!G$18","v":{"v":3.481518481518453,"d":"3.48"}},21.82875496102245,{"$f":"(B625-B624)/Sheet2!$G$18","v":29.404665264804684}]
[{"$f":"A624+Sheet2!G$18","v":{"v":3.485514485514457,"d":"3.49"}},21.94625612092177,{"$f":"(B626-B625)/Sheet2!$G$18","v":29.488234043677863}]
[{"$f":"A625+Sheet2!G$18","v":{"v":3.4895104895104607,"d":"3.49"}},22.064091221995408,{"$f":"(B627-B626)/Sheet2!$G$18","v":29.571898630837484}]
[{"$f":"A626+Sheet2!G$18","v":{"v":3.4935064935064646,"d":"3.49"}},22.18226064709366,{"$f":"(B628-B627)/Sheet2!$G$18","v":29.65565902628621}]
[{"$f":"A627+Sheet2!G$18","v":{"v":3.4975024975024684,"d":"3.50"}},22.30076477906683,{"$f":"(B629-B628)/Sheet2!$G$18","v":29.73951523002138}]
[{"$f":"A628+Sheet2!G$18","v":{"v":3.5014985014984723,"d":"3.50"}},22.41960400076522,{"$f":"(B630-B629)/Sheet2!$G$18","v":29.823467242049208}]
[{"$f":"A629+Sheet2!G$18","v":{"v":3.505494505494476,"d":"3.51"}},22.53877869503914,{"$f":"(B631-B630)/Sheet2!$G$18","v":29.907515062358147}]
[{"$f":"A630+Sheet2!G$18","v":{"v":3.50949050949048,"d":"3.51"}},22.658289244738874,{"$f":"(B632-B631)/Sheet2!$G$18","v":29.991658690958857}]
[{"$f":"A631+Sheet2!G$18","v":{"v":3.513486513486484,"d":"3.51"}},22.778136032714734,{"$f":"(B633-B632)/Sheet2!$G$18","v":30.075898127844233}]
[{"$f":"A632+Sheet2!G$18","v":{"v":3.5174825174824877,"d":"3.52"}},22.89831944181701,{"$f":"(B634-B633)/Sheet2!$G$18","v":30.160233373017824}]
[{"$f":"A633+Sheet2!G$18","v":{"v":3.5214785214784916,"d":"3.52"}},23.018839854896,{"$f":"(B635-B634)/Sheet2!$G$18","v":30.244664426481414}]
[{"$f":"A634+Sheet2!G$18","v":{"v":3.5254745254744955,"d":"3.53"}},23.13969765480202,{"$f":"(B636-B635)/Sheet2!$G$18","v":30.329191288229666}]
[{"$f":"A635+Sheet2!G$18","v":{"v":3.5294705294704993,"d":"3.53"}},23.260893224385356,{"$f":"(B637-B636)/Sheet2!$G$18","v":30.413813958268804}]
[{"$f":"A636+Sheet2!G$18","v":{"v":3.533466533466503,"d":"3.53"}},23.38242694649632,{"$f":"(B638-B637)/Sheet2!$G$18","v":30.498532436592605}]
[{"$f":"A637+Sheet2!G$18","v":{"v":3.537462537462507,"d":"3.54"}},23.5042992039852,{"$f":"(B639-B638)/Sheet2!$G$18","v":30.583346723205512}]
[{"$f":"A638+Sheet2!G$18","v":{"v":3.541458541458511,"d":"3.54"}},23.626510379702307,{"$f":"(B640-B639)/Sheet2!$G$18","v":30.668256818104858}]
[{"$f":"A639+Sheet2!G$18","v":{"v":3.5454545454545148,"d":"3.55"}},23.74906085649793,{"$f":"(B641-B640)/Sheet2!$G$18","v":30.753262721292426}]
[{"$f":"A640+Sheet2!G$18","v":{"v":3.5494505494505186,"d":"3.55"}},23.871951017222376,{"$f":"(B642-B641)/Sheet2!$G$18","v":30.83836443276999}]
[{"$f":"A641+Sheet2!G$18","v":{"v":3.5534465534465225,"d":"3.55"}},23.995181244725952,{"$f":"(B643-B642)/Sheet2!$G$18","v":30.923561952530434}]
[{"$f":"A642+Sheet2!G$18","v":{"v":3.5574425574425264,"d":"3.56"}},{"$f":"x^3-7*x+4","v":24.11875192185894},{"$f":"(B644-B643)/Sheet2!$G$18","v":31.008855280581766}]
[{"$f":"A643+Sheet2!G$18","v":{"v":3.56143856143853,"d":"3.56"}},24.242663431471655,{"$f":"(B645-B644)/Sheet2!$G$18","v":31.09424441691954}]
[{"$f":"A644+Sheet2!G$18","v":{"v":3.565434565434534,"d":"3.57"}},24.36691615641439,{"$f":"(B646-B645)/Sheet2!$G$18","v":31.17972936154642}]
[{"$f":"A645+Sheet2!G$18","v":{"v":3.569430569430538,"d":"3.57"}},24.491510479537453,{"$f":"(B647-B646)/Sheet2!$G$18","v":31.265310114457964}]
[{"$f":"A646+Sheet2!G$18","v":{"v":3.573426573426542,"d":"3.57"}},24.61644678369113,{"$f":"(B648-B647)/Sheet2!$G$18","v":31.350986675661282}]
[{"$f":"A647+Sheet2!G$18","v":{"v":3.5774225774225457,"d":"3.58"}},24.741725451725742,{"$f":"(B649-B648)/Sheet2!$G$18","v":31.436759045147486}]
[{"$f":"A648+Sheet2!G$18","v":{"v":3.5814185814185495,"d":"3.58"}},24.867346866491566,{"$f":"(B650-B649)/Sheet2!$G$18","v":31.52262722292724}]
[{"$f":"A649+Sheet2!G$18","v":{"v":3.5854145854145534,"d":"3.59"}},24.993311410838928,{"$f":"(B651-B650)/Sheet2!$G$18","v":31.608591208988102}]
[{"$f":"A650+Sheet2!G$18","v":{"v":3.5894105894105572,"d":"3.59"}},25.1196194676181,{"$f":"(B652-B651)/Sheet2!$G$18","v":31.694651003340738}]
[{"$f":"A651+Sheet2!G$18","v":{"v":3.593406593406561,"d":"3.59"}},25.246271419679402,{"$f":"(B653-B652)/Sheet2!$G$18","v":31.780806605978924}]
[{"$f":"A652+Sheet2!G$18","v":{"v":3.597402597402565,"d":"3.60"}},25.373267649873124,{"$f":"(B654-B653)/Sheet2!$G$18","v":31.86705801690711}]
[{"$f":"A653+Sheet2!G$18","v":{"v":3.601398601398569,"d":"3.60"}},25.500608541049576,{"$f":"(B655-B654)/Sheet2!$G$18","v":31.953405236120844}]
[{"$f":"A654+Sheet2!G$18","v":{"v":3.6053946053945727,"d":"3.61"}},25.62829447605905,{"$f":"(B656-B655)/Sheet2!$G$18","v":32.039848263622794}]
[{"$f":"A655+Sheet2!G$18","v":{"v":3.6093906093905765,"d":"3.61"}},25.75632583775185,{"$f":"(B657-B656)/Sheet2!$G$18","v":32.126387099412966}]
[{"$f":"A656+Sheet2!G$18","v":{"v":3.6133866133865804,"d":"3.61"}},25.884703008978274,{"$f":"(B658-B657)/Sheet2!$G$18","v":32.213021743489584}]
[{"$f":"A657+Sheet2!G$18","v":{"v":3.6173826173825843,"d":"3.62"}},26.013426372588622,{"$f":"(B659-B658)/Sheet2!$G$18","v":32.29975219585441}]
[{"$f":"A658+Sheet2!G$18","v":{"v":3.621378621378588,"d":"3.62"}},26.142496311433195,{"$f":"(B660-B659)/Sheet2!$G$18","v":32.38657845650479}]
[{"$f":"A659+Sheet2!G$18","v":{"v":3.625374625374592,"d":"3.63"}},26.271913208362285,{"$f":"(B661-B660)/Sheet2!$G$18","v":32.47350052544695}]
[{"$f":"A660+Sheet2!G$18","v":{"v":3.629370629370596,"d":"3.63"}},26.40167744622621,{"$f":"(B662-B661)/Sheet2!$G$18","v":32.56051840267466}]
[{"$f":"A661+Sheet2!G$18","v":{"v":3.6333666333665997,"d":"3.63"}},26.53178940787526,{"$f":"(B663-B662)/Sheet2!$G$18","v":32.64763208818881}]
[{"$f":"A662+Sheet2!G$18","v":{"v":3.6373626373626036,"d":"3.64"}},26.66224947615973,{"$f":"(B664-B663)/Sheet2!$G$18","v":32.734841581994736}]
[{"$f":"A663+Sheet2!G$18","v":{"v":3.6413586413586074,"d":"3.64"}},26.79305803392994,{"$f":"(B665-B664)/Sheet2!$G$18","v":32.82214688408176}]
[{"$f":"A664+Sheet2!G$18","v":{"v":3.6453546453546113,"d":"3.65"}},26.92421546403616,{"$f":"(B666-B665)/Sheet2!$G$18","v":32.90954799446234}]
[{"$f":"A665+Sheet2!G$18","v":{"v":3.649350649350615,"d":"3.65"}},27.055722149328716,{"$f":"(B667-B666)/Sheet2!$G$18","v":32.99704491312759}]
[{"$f":"A666+Sheet2!G$18","v":{"v":3.653346653346619,"d":"3.65"}},27.187578472657897,{"$f":"(B668-B667)/Sheet2!$G$18","v":33.08463764007928}]
[{"$f":"A667+Sheet2!G$18","v":{"v":3.657342657342623,"d":"3.66"}},27.319784816873998,{"$f":"(B669-B668)/Sheet2!$G$18","v":33.172326175320066}]
[{"$f":"A668+Sheet2!G$18","v":{"v":3.6613386613386267,"d":"3.66"}},27.452341564827325,{"$f":"(B670-B669)/Sheet2!$G$18","v":33.26011051885086}]
[{"$f":"A669+Sheet2!G$18","v":{"v":3.6653346653346306,"d":"3.67"}},27.585249099368188,{"$f":"(B671-B670)/Sheet2!$G$18","v":33.347990670665425}]
[{"$f":"A670+Sheet2!G$18","v":{"v":3.6693306693306345,"d":"3.67"}},27.71850780334687,{"$f":"(B672-B671)/Sheet2!$G$18","v":33.43596663076998}]
[{"$f":"A671+Sheet2!G$18","v":{"v":3.6733266733266383,"d":"3.67"}},27.852118059613684,{"$f":"(B673-B672)/Sheet2!$G$18","v":33.52403839916098}]
[{"$f":"A672+Sheet2!G$18","v":{"v":3.677322677322642,"d":"3.68"}},27.986080251018922,{"$f":"(B674-B673)/Sheet2!$G$18","v":33.61220597584198}]
[{"$f":"A673+Sheet2!G$18","v":{"v":3.681318681318646,"d":"3.68"}},28.120394760412896,{"$f":"(B675-B674)/Sheet2!$G$18","v":33.70046936080586}]
[{"$f":"A674+Sheet2!G$18","v":{"v":3.68531468531465,"d":"3.69"}},28.255061970645887,{"$f":"(B676-B675)/Sheet2!$G$18","v":33.78882855406062}]
[{"$f":"A675+Sheet2!G$18","v":{"v":3.6893106893106538,"d":"3.69"}},28.390082264568207,{"$f":"(B677-B676)/Sheet2!$G$18","v":33.87728355560361}]
[{"$f":"A676+Sheet2!G$18","v":{"v":3.6933066933066576,"d":"3.69"}},28.52545602503016,{"$f":"(B678-B677)/Sheet2!$G$18","v":33.96583436543393}]
[{"$f":"A677+Sheet2!G$18","v":{"v":3.6973026973026615,"d":"3.70"}},28.661183634882043,{"$f":"(B679-B678)/Sheet2!$G$18","v":34.05448098355068}]
[{"$f":"A678+Sheet2!G$18","v":{"v":3.7012987012986653,"d":"3.70"}},28.797265476974154,{"$f":"(B680-B679)/Sheet2!$G$18","v":34.14322340995565}]
[{"$f":"A679+Sheet2!G$18","v":{"v":3.705294705294669,"d":"3.71"}},28.933701934156794,{"$f":"(B681-B680)/Sheet2!$G$18","v":34.23206164464529}]
[{"$f":"A680+Sheet2!G$18","v":{"v":3.709290709290673,"d":"3.71"}},29.07049338928025,{"$f":"(B682-B681)/Sheet2!$G$18","v":34.3209956876267}]
[{"$f":"A681+Sheet2!G$18","v":{"v":3.713286713286677,"d":"3.71"}},29.207640225194844,{"$f":"(B683-B682)/Sheet2!$G$18","v":34.41002553889455}]
[{"$f":"A682+Sheet2!G$18","v":{"v":3.717282717282681,"d":"3.72"}},29.345142824750866,{"$f":"(B684-B683)/Sheet2!$G$18","v":34.49915119845062}]
[{"$f":"A683+Sheet2!G$18","v":{"v":3.7212787212786846,"d":"3.72"}},29.48300157079862,{"$f":"(B685-B684)/Sheet2!$G$18","v":34.58837266629224}]
[{"$f":"A684+Sheet2!G$18","v":{"v":3.7252747252746885,"d":"3.73"}},29.6212168461884,{"$f":"(B686-B685)/Sheet2!$G$18","v":34.67768994242386}]
[{"$f":"A685+Sheet2!G$18","v":{"v":3.7292707292706924,"d":"3.73"}},29.759789033770513,{"$f":"(B687-B686)/Sheet2!$G$18","v":34.76710302684103}]
[{"$f":"A686+Sheet2!G$18","v":{"v":3.7332667332666962,"d":"3.73"}},29.898718516395252,{"$f":"(B688-B687)/Sheet2!$G$18","v":34.85661191954642}]
[{"$f":"A687+Sheet2!G$18","v":{"v":3.7372627372627,"d":"3.74"}},30.03800567691292,{"$f":"(B689-B688)/Sheet2!$G$18","v":34.9462166205418}]
[{"$f":"A688+Sheet2!G$18","v":{"v":3.741258741258704,"d":"3.74"}},30.177650898173827,{"$f":"(B690-B689)/Sheet2!$G$18","v":35.03591712982185}]
[{"$f":"A689+Sheet2!G$18","v":{"v":3.745254745254708,"d":"3.75"}},30.31765456302826,{"$f":"(B691-B690)/Sheet2!$G$18","v":35.12571344738833}]
[{"$f":"A690+Sheet2!G$18","v":{"v":3.7492507492507117,"d":"3.75"}},30.458017054326515,{"$f":"(B692-B691)/Sheet2!$G$18","v":35.2156055732457}]
[{"$f":"A691+Sheet2!G$18","v":{"v":3.7532467532467155,"d":"3.75"}},30.598738754918905,{"$f":"(B693-B692)/Sheet2!$G$18","v":35.30559350738952}]
[{"$f":"A692+Sheet2!G$18","v":{"v":3.7572427572427194,"d":"3.76"}},30.739820047655726,{"$f":"(B694-B693)/Sheet2!$G$18","v":35.395677249822434}]
[{"$f":"A693+Sheet2!G$18","v":{"v":3.7612387612387232,"d":"3.76"}},30.881261315387285,{"$f":"(B695-B694)/Sheet2!$G$18","v":35.48585680054002}]
[{"$f":"A694+Sheet2!G$18","v":{"v":3.765234765234727,"d":"3.77"}},31.023062940963868,{"$f":"(B696-B695)/Sheet2!$G$18","v":35.57613215954582}]
[{"$f":"A695+Sheet2!G$18","v":{"v":3.769230769230731,"d":"3.77"}},31.16522530723578,{"$f":"(B697-B696)/Sheet2!$G$18","v":35.66650332683984}]
[{"$f":"A696+Sheet2!G$18","v":{"v":3.773226773226735,"d":"3.77"}},31.30774879705332,{"$f":"(B698-B697)/Sheet2!$G$18","v":35.75697030242386}]
[{"$f":"A697+Sheet2!G$18","v":{"v":3.7772227772227387,"d":"3.78"}},31.450633793266803,{"$f":"(B699-B698)/Sheet2!$G$18","v":35.847533086292536}]
[{"$f":"A698+Sheet2!G$18","v":{"v":3.7812187812187426,"d":"3.78"}},31.593880678726514,{"$f":"(B700-B699)/Sheet2!$G$18","v":35.938191678449435}]
[{"$f":"A699+Sheet2!G$18","v":{"v":3.7852147852147464,"d":"3.79"}},31.737489836282755,{"$f":"(B701-B700)/Sheet2!$G$18","v":36.02894607889188}]
[{"$f":"A700+Sheet2!G$18","v":{"v":3.7892107892107503,"d":"3.79"}},31.88146164878582,{"$f":"(B702-B701)/Sheet2!$G$18","v":36.11979628762699}]
[{"$f":"A701+Sheet2!G$18","v":{"v":3.793206793206754,"d":"3.79"}},32.02579649908603,{"$f":"(B703-B702)/Sheet2!$G$18","v":36.21074230464766}]
[{"$f":"A702+Sheet2!G$18","v":{"v":3.797202797202758,"d":"3.80"}},32.17049477003367,{"$f":"(B704-B703)/Sheet2!$G$18","v":36.3017841299521}]
[{"$f":"A703+Sheet2!G$18","v":{"v":3.801198801198762,"d":"3.80"}},32.31555684447903,{"$f":"(B705-B704)/Sheet2!$G$18","v":36.39292176355186}]
[{"$f":"A704+Sheet2!G$18","v":{"v":3.8051948051947657,"d":"3.81"}},32.46098310527245,{"$f":"(B706-B705)/Sheet2!$G$18","v":36.48415520542918}]
[{"$f":"A705+Sheet2!G$18","v":{"v":3.8091908091907696,"d":"3.81"}},32.60677393526417,{"$f":"(B707-B706)/Sheet2!$G$18","v":36.575484455605384}]
[{"$f":"A706+Sheet2!G$18","v":{"v":3.8131868131867734,"d":"3.81"}},{"$f":"x^3-7*x+4","v":32.75292971730455},{"$f":"(B708-B707)/Sheet2!$G$18","v":36.66690951405736}]
[{"$f":"A707+Sheet2!G$18","v":{"v":3.8171828171827773,"d":"3.82"}},32.899450834243844,{"$f":"(B709-B708)/Sheet2!$G$18","v":36.758430380806445}]
[{"$f":"A708+Sheet2!G$18","v":{"v":3.821178821178781,"d":"3.82"}},33.04633766893238,{"$f":"(B710-B709)/Sheet2!$G$18","v":36.85004705583842}]
[{"$f":"A709+Sheet2!G$18","v":{"v":3.825174825174785,"d":"3.83"}},33.19359060422045,{"$f":"(B711-B710)/Sheet2!$G$18","v":36.94175953916039}]
[{"$f":"A710+Sheet2!G$18","v":{"v":3.829170829170789,"d":"3.83"}},33.34121002295835,{"$f":"(B712-B711)/Sheet2!$G$18","v":37.03356783076879}]
[{"$f":"A711+Sheet2!G$18","v":{"v":3.8331668331667927,"d":"3.83"}},33.48919630799639,{"$f":"(B713-B712)/Sheet2!$G$18","v":37.12547193066542}]
[{"$f":"A712+Sheet2!G$18","v":{"v":3.8371628371627966,"d":"3.84"}},33.63754984218486,{"$f":"(B714-B713)/Sheet2!$G$18","v":37.217471838846706}]
[{"$f":"A713+Sheet2!G$18","v":{"v":3.8411588411588005,"d":"3.84"}},33.78627100837406,{"$f":"(B715-B714)/Sheet2!$G$18","v":37.30956755531977}]
[{"$f":"A714+Sheet2!G$18","v":{"v":3.8451548451548043,"d":"3.85"}},33.9353601894143,{"$f":"(B716-B715)/Sheet2!$G$18","v":37.40175908007927}]
[{"$f":"A715+Sheet2!G$18","v":{"v":3.849150849150808,"d":"3.85"}},34.08481776815587,{"$f":"(B717-B716)/Sheet2!$G$18","v":37.494046413123435}]
[{"$f":"A716+Sheet2!G$18","v":{"v":3.853146853146812,"d":"3.85"}},34.23464412744907,{"$f":"(B718-B717)/Sheet2!$G$18","v":37.58642955445938}]
[{"$f":"A717+Sheet2!G$18","v":{"v":3.857142857142816,"d":"3.86"}},34.384839650144215,{"$f":"(B719-B718)/Sheet2!$G$18","v":37.67890850408354}]
[{"$f":"A718+Sheet2!G$18","v":{"v":3.8611388611388198,"d":"3.86"}},34.5354047190916,{"$f":"(B720-B719)/Sheet2!$G$18","v":37.7714832619888}]
[{"$f":"A719+Sheet2!G$18","v":{"v":3.8651348651348236,"d":"3.87"}},34.68633971714151,{"$f":"(B721-B720)/Sheet2!$G$18","v":37.864153828189394}]
[{"$f":"A720+Sheet2!G$18","v":{"v":3.8691308691308275,"d":"3.87"}},34.83764502714426,{"$f":"(B722-B721)/Sheet2!$G$18","v":37.9569202026711}]
[{"$f":"A721+Sheet2!G$18","v":{"v":3.8731268731268313,"d":"3.87"}},34.98932103195014,{"$f":"(B723-B722)/Sheet2!$G$18","v":38.04978238544457}]
[{"$f":"A722+Sheet2!G$18","v":{"v":3.877122877122835,"d":"3.88"}},35.14136811440946,{"$f":"(B724-B723)/Sheet2!$G$18","v":38.14274037650449}]
[{"$f":"A723+Sheet2!G$18","v":{"v":3.881118881118839,"d":"3.88"}},35.293786657372515,{"$f":"(B725-B724)/Sheet2!$G$18","v":38.23579417585085}]
[{"$f":"A724+Sheet2!G$18","v":{"v":3.885114885114843,"d":"3.89"}},35.4465770436896,{"$f":"(B726-B725)/Sheet2!$G$18","v":38.328943783487205}]
[{"$f":"A725+Sheet2!G$18","v":{"v":3.889110889110847,"d":"3.89"}},35.59973965621103,{"$f":"(B727-B726)/Sheet2!$G$18","v":38.42218919941}]
[{"$f":"A726+Sheet2!G$18","v":{"v":3.8931068931068507,"d":"3.89"}},35.75327487778709,{"$f":"(B728-B727)/Sheet2!$G$18","v":38.51553042362101}]
[{"$f":"A727+Sheet2!G$18","v":{"v":3.8971028971028545,"d":"3.90"}},35.907183091268095,{"$f":"(B729-B728)/Sheet2!$G$18","v":38.60896745611669}]
[{"$f":"A728+Sheet2!G$18","v":{"v":3.9010989010988584,"d":"3.90"}},36.061464679504326,{"$f":"(B730-B729)/Sheet2!$G$18","v":38.702500296904134}]
[{"$f":"A729+Sheet2!G$18","v":{"v":3.9050949050948622,"d":"3.91"}},36.2161200253461,{"$f":"(B731-B730)/Sheet2!$G$18","v":38.796128945978026}]
[{"$f":"A730+Sheet2!G$18","v":{"v":3.909090909090866,"d":"3.91"}},36.371149511643715,{"$f":"(B732-B731)/Sheet2!$G$18","v":38.88985340333658}]
[{"$f":"A731+Sheet2!G$18","v":{"v":3.91308691308687,"d":"3.91"}},36.52655352124746,{"$f":"(B733-B732)/Sheet2!$G$18","v":38.9836736689869}]
[{"$f":"A732+Sheet2!G$18","v":{"v":3.917082917082874,"d":"3.92"}},36.682332437007645,{"$f":"(B734-B733)/Sheet2!$G$18","v":39.077589742921894}]
[{"$f":"A733+Sheet2!G$18","v":{"v":3.9210789210788777,"d":"3.92"}},36.838486641774566,{"$f":"(B735-B734)/Sheet2!$G$18","v":39.171601625143325}]
[{"$f":"A734+Sheet2!G$18","v":{"v":3.9250749250748815,"d":"3.93"}},36.995016518398515,{"$f":"(B736-B735)/Sheet2!$G$18","v":39.26570931566009}]
[{"$f":"A735+Sheet2!G$18","v":{"v":3.9290709290708854,"d":"3.93"}},37.151922449729824,{"$f":"(B737-B736)/Sheet2!$G$18","v":39.3599128144544}]
[{"$f":"A736+Sheet2!G$18","v":{"v":3.9330669330668893,"d":"3.93"}},37.30920481861875,{"$f":"(B738-B737)/Sheet2!$G$18","v":39.45421212154404}]
[{"$f":"A737+Sheet2!G$18","v":{"v":3.937062937062893,"d":"3.94"}},37.46686400791563,{"$f":"(B739-B738)/Sheet2!$G$18","v":39.54860723691479}]
[{"$f":"A738+Sheet2!G$18","v":{"v":3.941058941058897,"d":"3.94"}},37.624900400470736,{"$f":"(B740-B739)/Sheet2!$G$18","v":39.643098160579086}]
[{"$f":"A739+Sheet2!G$18","v":{"v":3.945054945054901,"d":"3.95"}},37.78331437913439,{"$f":"(B741-B740)/Sheet2!$G$18","v":39.73768489252805}]
[{"$f":"A740+Sheet2!G$18","v":{"v":3.9490509490509047,"d":"3.95"}},37.94210632675688,{"$f":"(B742-B741)/Sheet2!$G$18","v":39.832367432763455}]
[{"$f":"A741+Sheet2!G$18","v":{"v":3.9530469530469086,"d":"3.95"}},38.1012766261885,{"$f":"(B743-B742)/Sheet2!$G$18","v":39.92714578128886}]
[{"$f":"A742+Sheet2!G$18","v":{"v":3.9570429570429124,"d":"3.96"}},38.260825660279565,{"$f":"(B744-B743)/Sheet2!$G$18","v":40.0220199381007}]
[{"$f":"A743+Sheet2!G$18","v":{"v":3.9610389610389163,"d":"3.96"}},38.42075381188037,{"$f":"(B745-B744)/Sheet2!$G$18","v":40.11698990320254}]
[{"$f":"A744+Sheet2!G$18","v":{"v":3.96503496503492,"d":"3.97"}},38.581061463841216,{"$f":"(B746-B745)/Sheet2!$G$18","v":40.212055676587255}]
[{"$f":"A745+Sheet2!G$18","v":{"v":3.969030969030924,"d":"3.97"}},38.741748999012394,{"$f":"(B747-B746)/Sheet2!$G$18","v":40.307217258263755}]
[{"$f":"A746+Sheet2!G$18","v":{"v":3.973026973026928,"d":"3.97"}},38.90281680024422,{"$f":"(B748-B747)/Sheet2!$G$18","v":40.40247464822847}]
[{"$f":"A747+Sheet2!G$18","v":{"v":3.9770229770229317,"d":"3.98"}},39.06426525038699,{"$f":"(B749-B748)/Sheet2!$G$18","v":40.49782784647606}]
[{"$f":"A748+Sheet2!G$18","v":{"v":3.9810189810189356,"d":"3.98"}},39.22609473229099,{"$f":"(B750-B749)/Sheet2!$G$18","v":40.59327685301544}]
[{"$f":"A749+Sheet2!G$18","v":{"v":3.9850149850149394,"d":"3.99"}},39.388305628806535,{"$f":"(B751-B750)/Sheet2!$G$18","v":40.68882166784125}]
[{"$f":"A750+Sheet2!G$18","v":{"v":3.9890109890109433,"d":"3.99"}},39.55089832278392,{"$f":"(B752-B751)/Sheet2!$G$18","v":40.78446229095173}]
[{"$f":"A751+Sheet2!G$18","v":{"v":3.993006993006947,"d":"3.99"}},39.71387319707344,{"$f":"(B753-B752)/Sheet2!$G$18","v":40.88019872235398}]
[{"$f":"A752+Sheet2!G$18","v":{"v":3.997002997002951,"d":"4.00"}},39.877230634525404,{"$f":"(B754-B753)/Sheet2!$G$18","v":40.976030962040895}]
[{"$f":"A753+Sheet2!G$18","v":{"v":4.000999000998955,"d":"4.00"}},40.0409710179901,{"$f":"(B755-B754)/Sheet2!$G$18","v":41.07195901002314}]
[{"$f":"A754+Sheet2!G$18","v":{"v":4.004995004994959,"d":"4.00"}},40.20509473031787,{"$f":"(B756-B755)/Sheet2!$G$18","v":41.16798286628649}]
[{"$f":"A755+Sheet2!G$18","v":{"v":4.0089910089909635,"d":"4.01"}},40.36960215435897,{"$f":"(B757-B756)/Sheet2!$G$18","v":41.26410253083628}]
[{"$f":"A756+Sheet2!G$18","v":{"v":4.012987012986968,"d":"4.01"}},40.53449367296371,{"$f":"(B758-B757)/Sheet2!$G$18","v":41.36031800367962}]
[{"$f":"A757+Sheet2!G$18","v":{"v":4.016983016982972,"d":"4.02"}},40.69976966898241,{"$f":"(B759-B758)/Sheet2!$G$18","v":41.4566292848023}]
[{"$f":"A758+Sheet2!G$18","v":{"v":4.020979020978976,"d":"4.02"}},40.86543052526534,{"$f":"(B760-B759)/Sheet2!$G$18","v":41.55303637421852}]
[{"$f":"A759+Sheet2!G$18","v":{"v":4.024975024974981,"d":"4.02"}},41.031476624662815,{"$f":"(B761-B760)/Sheet2!$G$18","v":41.649539271921185}]
[{"$f":"A760+Sheet2!G$18","v":{"v":4.028971028970985,"d":"4.03"}},41.19790835002514,{"$f":"(B762-B761)/Sheet2!$G$18","v":41.746137977906734}]
[{"$f":"A761+Sheet2!G$18","v":{"v":4.032967032966989,"d":"4.03"}},41.36472608420259,{"$f":"(B763-B762)/Sheet2!$G$18","v":41.84283249218584}]
[{"$f":"A762+Sheet2!G$18","v":{"v":4.036963036962994,"d":"4.04"}},41.53193021004549,{"$f":"(B764-B763)/Sheet2!$G$18","v":41.93962281475138}]
[{"$f":"A763+Sheet2!G$18","v":{"v":4.040959040958998,"d":"4.04"}},41.699521110404135,{"$f":"(B765-B764)/Sheet2!$G$18","v":42.036508945599806}]
[{"$f":"A764+Sheet2!G$18","v":{"v":4.044955044955002,"d":"4.04"}},41.86749916812881,{"$f":"(B766-B765)/Sheet2!$G$18","v":42.13349088473823}]
[{"$f":"A765+Sheet2!G$18","v":{"v":4.0489510489510065,"d":"4.05"}},42.03586476606982,{"$f":"(B767-B766)/Sheet2!$G$18","v":42.230568632173764}]
[{"$f":"A766+Sheet2!G$18","v":{"v":4.052947052947011,"d":"4.05"}},42.20461828707751,{"$f":"(B768-B767)/Sheet2!$G$18","v":42.32774218788507}]
[{"$f":"A767+Sheet2!G$18","v":{"v":4.056943056943015,"d":"4.06"}},42.373760114002124,{"$f":"(B769-B768)/Sheet2!$G$18","v":42.42501155188281}]
[{"$f":"A768+Sheet2!G$18","v":{"v":4.0609390609390195,"d":"4.06"}},42.54329062969396,{"$f":"(B770-B769)/Sheet2!$G$18","v":42.52237672417767}]
[{"$f":"A769+Sheet2!G$18","v":{"v":4.064935064935024,"d":"4.06"}},42.713210217003365,{"$f":"(B771-B770)/Sheet2!$G$18","v":42.619837704755405}]
[{"$f":"A770+Sheet2!G$18","v":{"v":4.068931068931028,"d":"4.07"}},{"$f":"x^3-7*x+4","v":42.88351925878061},{"$f":"(B772-B771)/Sheet2!$G$18","v":42.71739449362314}]
[{"$f":"A771+Sheet2!G$18","v":{"v":4.072927072927032,"d":"4.07"}},43.054218137876006,{"$f":"(B773-B772)/Sheet2!$G$18","v":42.8150470907702}]
[{"$f":"A772+Sheet2!G$18","v":{"v":4.076923076923037,"d":"4.08"}},43.22530723713982,{"$f":"(B774-B773)/Sheet2!$G$18","v":42.91279549621793}]
[{"$f":"A773+Sheet2!G$18","v":{"v":4.080919080919041,"d":"4.08"}},43.39678693942241,{"$f":"(B775-B774)/Sheet2!$G$18","v":43.01063970994143}]
[{"$f":"A774+Sheet2!G$18","v":{"v":4.084915084915045,"d":"4.08"}},43.56865762757403,{"$f":"(B776-B775)/Sheet2!$G$18","v":43.10857973196204}]
[{"$f":"A775+Sheet2!G$18","v":{"v":4.08891108891105,"d":"4.09"}},43.740919684445004,{"$f":"(B777-B776)/Sheet2!$G$18","v":43.20661556225842}]
[{"$f":"A776+Sheet2!G$18","v":{"v":4.092907092907054,"d":"4.09"}},43.9135734928856,{"$f":"(B778-B777)/Sheet2!$G$18","v":43.304747200855466}]
[{"$f":"A777+Sheet2!G$18","v":{"v":4.096903096903058,"d":"4.10"}},44.08661943574616,{"$f":"(B779-B778)/Sheet2!$G$18","v":43.40297464773184}]
[{"$f":"A778+Sheet2!G$18","v":{"v":4.1008991008990625,"d":"4.10"}},44.260057895876955,{"$f":"(B780-B779)/Sheet2!$G$18","v":43.50129790290177}]
[{"$f":"A779+Sheet2!G$18","v":{"v":4.104895104895067,"d":"4.10"}},44.43388925612831,{"$f":"(B781-B780)/Sheet2!$G$18","v":43.59971696635102}]
[{"$f":"A780+Sheet2!G$18","v":{"v":4.108891108891071,"d":"4.11"}},44.60811389935049,{"$f":"(B782-B781)/Sheet2!$G$18","v":43.69823183809027}]
[{"$f":"A781+Sheet2!G$18","v":{"v":4.112887112887075,"d":"4.11"}},44.78273220839381,{"$f":"(B783-B782)/Sheet2!$G$18","v":43.79684251812663}]
[{"$f":"A782+Sheet2!G$18","v":{"v":4.11688311688308,"d":"4.12"}},44.9577445661086,{"$f":"(B784-B783)/Sheet2!$G$18","v":43.89554900644232}]
[{"$f":"A783+Sheet2!G$18","v":{"v":4.120879120879084,"d":"4.12"}},45.133151355345134,{"$f":"(B785-B784)/Sheet2!$G$18","v":43.994351303044446}]
[{"$f":"A784+Sheet2!G$18","v":{"v":4.124875124875088,"d":"4.12"}},45.308952958953704,{"$f":"(B786-B785)/Sheet2!$G$18","v":44.093249407933016}]
[{"$f":"A785+Sheet2!G$18","v":{"v":4.128871128871093,"d":"4.13"}},45.485149759784605,{"$f":"(B787-B786)/Sheet2!$G$18","v":44.192243321118696}]
[{"$f":"A786+Sheet2!G$18","v":{"v":4.132867132867097,"d":"4.13"}},45.661742140688176,{"$f":"(B788-B787)/Sheet2!$G$18","v":44.29133304258726}]
[{"$f":"A787+Sheet2!G$18","v":{"v":4.136863136863101,"d":"4.14"}},45.8387304845147,{"$f":"(B789-B788)/Sheet2!$G$18","v":44.390518572338706}]
[{"$f":"A788+Sheet2!G$18","v":{"v":4.140859140859106,"d":"4.14"}},46.016115174114454,{"$f":"(B790-B789)/Sheet2!$G$18","v":44.48979991038015}]
[{"$f":"A789+Sheet2!G$18","v":{"v":4.14485514485511,"d":"4.14"}},46.19389659233775,{"$f":"(B791-B790)/Sheet2!$G$18","v":44.58917705671159}]
[{"$f":"A790+Sheet2!G$18","v":{"v":4.148851148851114,"d":"4.15"}},46.3720751220349,{"$f":"(B792-B791)/Sheet2!$G$18","v":44.68865001132947}]
[{"$f":"A791+Sheet2!G$18","v":{"v":4.1528471528471185,"d":"4.15"}},46.5506511460562,{"$f":"(B793-B792)/Sheet2!$G$18","v":44.78821877423734}]
[{"$f":"A792+Sheet2!G$18","v":{"v":4.156843156843123,"d":"4.16"}},46.72962504725195,{"$f":"(B794-B793)/Sheet2!$G$18","v":44.88788334542811}]
[{"$f":"A793+Sheet2!G$18","v":{"v":4.160839160839127,"d":"4.16"}},46.90899720847244,{"$f":"(B795-B794)/Sheet2!$G$18","v":44.987643724908864}]
[{"$f":"A794+Sheet2!G$18","v":{"v":4.164835164835131,"d":"4.16"}},47.08876801256798,{"$f":"(B796-B795)/Sheet2!$G$18","v":45.08749991267962}]
[{"$f":"A795+Sheet2!G$18","v":{"v":4.168831168831136,"d":"4.17"}},47.26893784238888,{"$f":"(B797-B796)/Sheet2!$G$18","v":45.1874519087297}]
[{"$f":"A796+Sheet2!G$18","v":{"v":4.17282717282714,"d":"4.17"}},47.4495070807854,{"$f":"(B798-B797)/Sheet2!$G$18","v":45.28749971307689}]
[{"$f":"A797+Sheet2!G$18","v":{"v":4.176823176823144,"d":"4.18"}},47.63047611060789,{"$f":"(B799-B798)/Sheet2!$G$18","v":45.38764332570697}]
[{"$f":"A798+Sheet2!G$18","v":{"v":4.180819180819149,"d":"4.18"}},47.811845314706616,{"$f":"(B800-B799)/Sheet2!$G$18","v":45.487882746627044}]
[{"$f":"A799+Sheet2!G$18","v":{"v":4.184815184815153,"d":"4.18"}},47.9936150759319,{"$f":"(B801-B800)/Sheet2!$G$18","v":45.58821797583711}]
[{"$f":"A800+Sheet2!G$18","v":{"v":4.188811188811157,"d":"4.19"}},48.175785777134045,{"$f":"(B802-B801)/Sheet2!$G$18","v":45.68864901332295}]
[{"$f":"A801+Sheet2!G$18","v":{"v":4.1928071928071615,"d":"4.19"}},48.35835780116331,{"$f":"(B803-B802)/Sheet2!$G$18","v":45.789175859113016}]
[{"$f":"A802+Sheet2!G$18","v":{"v":4.196803196803166,"d":"4.20"}},48.54133153087005,{"$f":"(B804-B803)/Sheet2!$G$18","v":45.88979851317529}]
[{"$f":"A803+Sheet2!G$18","v":{"v":4.20079920079917,"d":"4.20"}},48.72470734910452,{"$f":"(B805-B804)/Sheet2!$G$18","v":45.990516975534675}]
[{"$f":"A804+Sheet2!G$18","v":{"v":4.204795204795174,"d":"4.20"}},48.908485638717046,{"$f":"(B806-B805)/Sheet2!$G$18","v":46.0913312461805}]
[{"$f":"A805+Sheet2!G$18","v":{"v":4.208791208791179,"d":"4.21"}},49.09266678255793,{"$f":"(B807-B806)/Sheet2!$G$18","v":46.192241325109215}]
[{"$f":"A806+Sheet2!G$18","v":{"v":4.212787212787183,"d":"4.21"}},49.277251163477445,{"$f":"(B808-B807)/Sheet2!$G$18","v":46.29324721233148}]
[{"$f":"A807+Sheet2!G$18","v":{"v":4.216783216783187,"d":"4.22"}},49.46223916432592,{"$f":"(B809-B808)/Sheet2!$G$18","v":46.39434890783663}]
[{"$f":"A808+Sheet2!G$18","v":{"v":4.220779220779192,"d":"4.22"}},49.64763116795364,{"$f":"(B810-B809)/Sheet2!$G$18","v":46.49554641163533}]
[{"$f":"A809+Sheet2!G$18","v":{"v":4.224775224775196,"d":"4.22"}},49.833427557210925,{"$f":"(B811-B810)/Sheet2!$G$18","v":46.59683972371692}]
[{"$f":"A810+Sheet2!G$18","v":{"v":4.2287712287712,"d":"4.23"}},50.019628714948055,{"$f":"(B812-B811)/Sheet2!$G$18","v":46.698228844084944}]
[{"$f":"A811+Sheet2!G$18","v":{"v":4.232767232767205,"d":"4.23"}},50.20623502401533,{"$f":"(B813-B812)/Sheet2!$G$18","v":46.79971377274296}]
[{"$f":"A812+Sheet2!G$18","v":{"v":4.236763236763209,"d":"4.24"}},50.39324686726305,{"$f":"(B814-B813)/Sheet2!$G$18","v":46.901294509687425}]
[{"$f":"A813+Sheet2!G$18","v":{"v":4.240759240759213,"d":"4.24"}},50.58066462754152,{"$f":"(B815-B814)/Sheet2!$G$18","v":47.002971054925446}]
[{"$f":"A814+Sheet2!G$18","v":{"v":4.2447552447552175,"d":"4.24"}},50.768488687701065,{"$f":"(B816-B815)/Sheet2!$G$18","v":47.104743408442786}]
[{"$f":"A815+Sheet2!G$18","v":{"v":4.248751248751222,"d":"4.25"}},50.956719430591946,{"$f":"(B817-B816)/Sheet2!$G$18","v":47.206611570250125}]
[{"$f":"A816+Sheet2!G$18","v":{"v":4.252747252747226,"d":"4.25"}},51.145357239064474,{"$f":"(B818-B817)/Sheet2!$G$18","v":47.30857554034391}]
[{"$f":"A817+Sheet2!G$18","v":{"v":4.25674325674323,"d":"4.26"}},51.334402495968945,{"$f":"(B819-B818)/Sheet2!$G$18","v":47.410635318731245}]
[{"$f":"A818+Sheet2!G$18","v":{"v":4.260739260739235,"d":"4.26"}},51.52385558415568,{"$f":"(B820-B819)/Sheet2!$G$18","v":47.51279090540146}]
[{"$f":"A819+Sheet2!G$18","v":{"v":4.264735264735239,"d":"4.26"}},51.71371688647497,{"$f":"(B821-B820)/Sheet2!$G$18","v":47.61504230035812}]
[{"$f":"A820+Sheet2!G$18","v":{"v":4.268731268731243,"d":"4.27"}},51.9039867857771,{"$f":"(B822-B821)/Sheet2!$G$18","v":47.71738950360833}]
[{"$f":"A821+Sheet2!G$18","v":{"v":4.272727272727248,"d":"4.27"}},52.0946656649124,{"$f":"(B823-B822)/Sheet2!$G$18","v":47.81983251514143}]
[{"$f":"A822+Sheet2!G$18","v":{"v":4.276723276723252,"d":"4.28"}},52.285753906731145,{"$f":"(B824-B823)/Sheet2!$G$18","v":47.922371334960964}]
[{"$f":"A823+Sheet2!G$18","v":{"v":4.280719280719256,"d":"4.28"}},52.477251894083636,{"$f":"(B825-B824)/Sheet2!$G$18","v":48.02500596307049}]
[{"$f":"A824+Sheet2!G$18","v":{"v":4.2847152847152605,"d":"4.28"}},52.66916000982018,{"$f":"(B826-B825)/Sheet2!$G$18","v":48.127736399470024}]
[{"$f":"A825+Sheet2!G$18","v":{"v":4.288711288711265,"d":"4.29"}},52.86147863679109,{"$f":"(B827-B826)/Sheet2!$G$18","v":48.23056264414888}]
[{"$f":"A826+Sheet2!G$18","v":{"v":4.292707292707269,"d":"4.29"}},53.05420815784663,{"$f":"(B828-B827)/Sheet2!$G$18","v":48.333484697124845}]
[{"$f":"A827+Sheet2!G$18","v":{"v":4.2967032967032734,"d":"4.30"}},53.24734895583714,{"$f":"(B829-B828)/Sheet2!$G$18","v":48.436502558383694}]
[{"$f":"A828+Sheet2!G$18","v":{"v":4.300699300699278,"d":"4.30"}},53.4409014136129,{"$f":"(B830-B829)/Sheet2!$G$18","v":48.53961622793254}]
[{"$f":"A829+Sheet2!G$18","v":{"v":4.304695304695282,"d":"4.30"}},53.63486591402422,{"$f":"(B831-B830)/Sheet2!$G$18","v":48.642825705767834}]
[{"$f":"A830+Sheet2!G$18","v":{"v":4.308691308691286,"d":"4.31"}},53.82924283992139,{"$f":"(B832-B831)/Sheet2!$G$18","v":48.746130991886005}]
[{"$f":"A831+Sheet2!G$18","v":{"v":4.312687312687291,"d":"4.31"}},54.0240325741547,{"$f":"(B833-B832)/Sheet2!$G$18","v":48.84953208629773}]
[{"$f":"A832+Sheet2!G$18","v":{"v":4.316683316683295,"d":"4.32"}},54.219235499574474,{"$f":"(B834-B833)/Sheet2!$G$18","v":48.95302898899945}]
[{"$f":"A833+Sheet2!G$18","v":{"v":4.320679320679299,"d":"4.32"}},54.414851999031015,{"$f":"(B835-B834)/Sheet2!$G$18","v":49.0566216999805}]
[{"$f":"A834+Sheet2!G$18","v":{"v":4.324675324675304,"d":"4.32"}},{"$f":"x^3-7*x+4","v":54.61088245537459},{"$f":"(B836-B835)/Sheet2!$G$18","v":49.16031021925154}]
[{"$f":"A835+Sheet2!G$18","v":{"v":4.328671328671308,"d":"4.33"}},54.80732725145552,{"$f":"(B837-B836)/Sheet2!$G$18","v":49.26409454681614}]
[{"$f":"A836+Sheet2!G$18","v":{"v":4.332667332667312,"d":"4.33"}},55.004186770124115,{"$f":"(B838-B837)/Sheet2!$G$18","v":49.36797468266362}]
[{"$f":"A837+Sheet2!G$18","v":{"v":4.3366633366633165,"d":"4.34"}},55.20146139423066,{"$f":"(B839-B838)/Sheet2!$G$18","v":49.47195062679755}]
[{"$f":"A838+Sheet2!G$18","v":{"v":4.340659340659321,"d":"4.34"}},55.39915150662546,{"$f":"(B840-B839)/Sheet2!$G$18","v":49.57602237922502}]
[{"$f":"A839+Sheet2!G$18","v":{"v":4.344655344655325,"d":"4.34"}},55.597257490158825,{"$f":"(B841-B840)/Sheet2!$G$18","v":49.68018993993538}]
[{"$f":"A840+Sheet2!G$18","v":{"v":4.348651348651329,"d":"4.35"}},55.795779727681044,{"$f":"(B842-B841)/Sheet2!$G$18","v":49.784453308932186}]
[{"$f":"A841+Sheet2!G$18","v":{"v":4.352647352647334,"d":"4.35"}},55.99471860204241,{"$f":"(B843-B842)/Sheet2!$G$18","v":49.88881248621543}]
[{"$f":"A842+Sheet2!G$18","v":{"v":4.356643356643338,"d":"4.36"}},56.19407449609322,{"$f":"(B844-B843)/Sheet2!$G$18","v":49.993267471795775}]
[{"$f":"A843+Sheet2!G$18","v":{"v":4.360639360639342,"d":"4.36"}},56.393847792683815,{"$f":"(B845-B844)/Sheet2!$G$18","v":50.09781826564834}]
[{"$f":"A844+Sheet2!G$18","v":{"v":4.364635364635347,"d":"4.36"}},56.59403887466443,{"$f":"(B846-B845)/Sheet2!$G$18","v":50.202464867805126}]
[{"$f":"A845+Sheet2!G$18","v":{"v":4.368631368631351,"d":"4.37"}},56.79464812488543,{"$f":"(B847-B846)/Sheet2!$G$18","v":50.30720727824124}]
[{"$f":"A846+Sheet2!G$18","v":{"v":4.372627372627355,"d":"4.37"}},56.99567592619708,{"$f":"(B848-B847)/Sheet2!$G$18","v":50.4120454969638}]
[{"$f":"A847+Sheet2!G$18","v":{"v":4.3766233766233595,"d":"4.38"}},57.19712266144968,{"$f":"(B849-B848)/Sheet2!$G$18","v":50.51697952397635}]
[{"$f":"A848+Sheet2!G$18","v":{"v":4.380619380619364,"d":"4.38"}},57.398988713493544,{"$f":"(B850-B849)/Sheet2!$G$18","v":50.622009359275346}]
[{"$f":"A849+Sheet2!G$18","v":{"v":4.384615384615368,"d":"4.38"}},57.60127446517896,{"$f":"(B851-B850)/Sheet2!$G$18","v":50.72713500286078}]
[{"$f":"A850+Sheet2!G$18","v":{"v":4.3886113886113725,"d":"4.39"}},57.803980299356226,{"$f":"(B852-B851)/Sheet2!$G$18","v":50.83235645473977}]
[{"$f":"A851+Sheet2!G$18","v":{"v":4.392607392607377,"d":"4.39"}},58.007106598875666,{"$f":"(B853-B852)/Sheet2!$G$18","v":50.937673714898075}]
[{"$f":"A852+Sheet2!G$18","v":{"v":4.396603396603381,"d":"4.40"}},58.210653746587546,{"$f":"(B854-B853)/Sheet2!$G$18","v":51.04308678334994}]
[{"$f":"A853+Sheet2!G$18","v":{"v":4.400599400599385,"d":"4.40"}},58.41462212534219,{"$f":"(B855-B854)/Sheet2!$G$18","v":51.148595660088255}]
[{"$f":"A854+Sheet2!G$18","v":{"v":4.40459540459539,"d":"4.40"}},58.6190121179899,{"$f":"(B856-B855)/Sheet2!$G$18","v":51.25420034511656}]
[{"$f":"A855+Sheet2!G$18","v":{"v":4.408591408591394,"d":"4.41"}},58.82382410738097,{"$f":"(B857-B856)/Sheet2!$G$18","v":51.35990083842063}]
[{"$f":"A856+Sheet2!G$18","v":{"v":4.412587412587398,"d":"4.41"}},59.02905847636567,{"$f":"(B858-B857)/Sheet2!$G$18","v":51.46569714002893}]
[{"$f":"A857+Sheet2!G$18","v":{"v":4.416583416583403,"d":"4.42"}},59.23471560779436,{"$f":"(B859-B858)/Sheet2!$G$18","v":51.571589249912996}]
[{"$f":"A858+Sheet2!G$18","v":{"v":4.420579420579407,"d":"4.42"}},59.440795884517286,{"$f":"(B860-B859)/Sheet2!$G$18","v":51.677577168094174}]
[{"$f":"A859+Sheet2!G$18","v":{"v":4.424575424575411,"d":"4.42"}},59.647299689384795,{"$f":"(B861-B860)/Sheet2!$G$18","v":51.783660894551126}]
[{"$f":"A860+Sheet2!G$18","v":{"v":4.4285714285714155,"d":"4.43"}},59.85422740524714,{"$f":"(B862-B861)/Sheet2!$G$18","v":51.88984042930163}]
[{"$f":"A861+Sheet2!G$18","v":{"v":4.43256743256742,"d":"4.43"}},60.061579414954636,{"$f":"(B863-B862)/Sheet2!$G$18","v":51.99611577234568}]
[{"$f":"A862+Sheet2!G$18","v":{"v":4.436563436563424,"d":"4.44"}},60.269356101357616,{"$f":"(B864-B863)/Sheet2!$G$18","v":52.10248692367262}]
[{"$f":"A863+Sheet2!G$18","v":{"v":4.440559440559428,"d":"4.44"}},60.47755784730636,{"$f":"(B865-B864)/Sheet2!$G$18","v":52.20895388327889}]
[{"$f":"A864+Sheet2!G$18","v":{"v":4.444555444555433,"d":"4.44"}},60.68618503565113,{"$f":"(B866-B865)/Sheet2!$G$18","v":52.315516651185824}]
[{"$f":"A865+Sheet2!G$18","v":{"v":4.448551448551437,"d":"4.45"}},60.89523804924228,{"$f":"(B867-B866)/Sheet2!$G$18","v":52.42217522737564}]
[{"$f":"A866+Sheet2!G$18","v":{"v":4.452547452547441,"d":"4.45"}},61.104717270930095,{"$f":"(B868-B867)/Sheet2!$G$18","v":52.5289296118519}]
[{"$f":"A867+Sheet2!G$18","v":{"v":4.456543456543446,"d":"4.46"}},61.31462308356487,{"$f":"(B869-B868)/Sheet2!$G$18","v":52.63577980461104}]
[{"$f":"A868+Sheet2!G$18","v":{"v":4.46053946053945,"d":"4.46"}},61.52495586999688,{"$f":"(B870-B869)/Sheet2!$G$18","v":52.74272580566729}]
[{"$f":"A869+Sheet2!G$18","v":{"v":4.464535464535454,"d":"4.46"}},61.73571601307647,{"$f":"(B871-B870)/Sheet2!$G$18","v":52.84976761500643}]
[{"$f":"A870+Sheet2!G$18","v":{"v":4.4685314685314586,"d":"4.47"}},61.94690389565392,{"$f":"(B872-B871)/Sheet2!$G$18","v":52.956905232635556}]
[{"$f":"A871+Sheet2!G$18","v":{"v":4.472527472527463,"d":"4.47"}},62.158519900579535,{"$f":"(B873-B872)/Sheet2!$G$18","v":53.06413865854402}]
[{"$f":"A872+Sheet2!G$18","v":{"v":4.476523476523467,"d":"4.48"}},62.37056441070359,{"$f":"(B874-B873)/Sheet2!$G$18","v":53.17146789274958}]
[{"$f":"A873+Sheet2!G$18","v":{"v":4.4805194805194715,"d":"4.48"}},62.58303780887641,{"$f":"(B875-B874)/Sheet2!$G$18","v":53.27889293524159}]
[{"$f":"A874+Sheet2!G$18","v":{"v":4.484515484515476,"d":"4.48"}},62.79594047794831,{"$f":"(B876-B875)/Sheet2!$G$18","v":53.38641378602004}]
[{"$f":"A875+Sheet2!G$18","v":{"v":4.48851148851148,"d":"4.49"}},63.009272800769565,{"$f":"(B877-B876)/Sheet2!$G$18","v":53.49403044508493}]
[{"$f":"A876+Sheet2!G$18","v":{"v":4.492507492507484,"d":"4.49"}},63.223035160190484,{"$f":"(B878-B877)/Sheet2!$G$18","v":53.601742912432705}]
[{"$f":"A877+Sheet2!G$18","v":{"v":4.496503496503489,"d":"4.50"}},63.437227939061344,{"$f":"(B879-B878)/Sheet2!$G$18","v":53.70955118807759}]
[{"$f":"A878+Sheet2!G$18","v":{"v":4.500499500499493,"d":"4.50"}},63.65185152023248,{"$f":"(B880-B879)/Sheet2!$G$18","v":53.81745527200536}]
[{"$f":"A879+Sheet2!G$18","v":{"v":4.504495504495497,"d":"4.50"}},63.86690628655418,{"$f":"(B881-B880)/Sheet2!$G$18","v":53.92545516421779}]
[{"$f":"A880+Sheet2!G$18","v":{"v":4.508491508491502,"d":"4.51"}},64.08239262087673,{"$f":"(B882-B881)/Sheet2!$G$18","v":54.03355086472555}]
[{"$f":"A881+Sheet2!G$18","v":{"v":4.512487512487506,"d":"4.51"}},64.29831090605046,{"$f":"(B883-B882)/Sheet2!$G$18","v":54.14174237351442}]
[{"$f":"A882+Sheet2!G$18","v":{"v":4.51648351648351,"d":"4.52"}},64.51466152492564,{"$f":"(B884-B883)/Sheet2!$G$18","v":54.250029690595056}]
[{"$f":"A883+Sheet2!G$18","v":{"v":4.5204795204795145,"d":"4.52"}},64.7314448603526,{"$f":"(B885-B884)/Sheet2!$G$18","v":54.358412815960364}]
[{"$f":"A884+Sheet2!G$18","v":{"v":4.524475524475519,"d":"4.52"}},64.94866129518161,{"$f":"(B886-B885)/Sheet2!$G$18","v":54.466891749610326}]
[{"$f":"A885+Sheet2!G$18","v":{"v":4.528471528471523,"d":"4.53"}},65.16631121226297,{"$f":"(B887-B886)/Sheet2!$G$18","v":54.57546649155562}]
[{"$f":"A886+Sheet2!G$18","v":{"v":4.532467532467527,"d":"4.53"}},65.384394994447,{"$f":"(B888-B887)/Sheet2!$G$18","v":54.68413704178558}]
[{"$f":"A887+Sheet2!G$18","v":{"v":4.536463536463532,"d":"4.54"}},65.60291302458401,{"$f":"(B889-B888)/Sheet2!$G$18","v":54.792903400300204}]
[{"$f":"A888+Sheet2!G$18","v":{"v":4.540459540459536,"d":"4.54"}},65.82186568552427,{"$f":"(B890-B889)/Sheet2!$G$18","v":54.90176556709949}]
[{"$f":"A889+Sheet2!G$18","v":{"v":4.54445554445554,"d":"4.54"}},66.04125336011808,{"$f":"(B891-B890)/Sheet2!$G$18","v":55.01072354219766}]
[{"$f":"A890+Sheet2!G$18","v":{"v":4.548451548451545,"d":"4.55"}},66.26107643121577,{"$f":"(B892-B891)/Sheet2!$G$18","v":55.11977732557694}]
[{"$f":"A891+Sheet2!G$18","v":{"v":4.552447552447549,"d":"4.55"}},66.48133528166763,{"$f":"(B893-B892)/Sheet2!$G$18","v":55.228926917244436}]
[{"$f":"A892+Sheet2!G$18","v":{"v":4.556443556443553,"d":"4.56"}},66.70203029432395,{"$f":"(B894-B893)/Sheet2!$G$18","v":55.338172317193035}]
[{"$f":"A893+Sheet2!G$18","v":{"v":4.560439560439558,"d":"4.56"}},66.92316185203501,{"$f":"(B895-B894)/Sheet2!$G$18","v":55.44751352544053}]
[{"$f":"A894+Sheet2!G$18","v":{"v":4.564435564435562,"d":"4.56"}},67.14473033765115,{"$f":"(B896-B895)/Sheet2!$G$18","v":55.556950541972675}]
[{"$f":"A895+Sheet2!G$18","v":{"v":4.568431568431566,"d":"4.57"}},67.36673613402267,{"$f":"(B897-B896)/Sheet2!$G$18","v":55.66648336678238}]
[{"$f":"A896+Sheet2!G$18","v":{"v":4.5724275724275705,"d":"4.57"}},67.58917962399983,{"$f":"(B898-B897)/Sheet2!$G$18","v":55.77611199989808}]
[{"$f":"A897+Sheet2!G$18","v":{"v":4.576423576423575,"d":"4.58"}},67.81206119043298,{"$f":"(B899-B898)/Sheet2!$G$18","v":55.88583644128422}]
[{"$f":"A898+Sheet2!G$18","v":{"v":4.580419580419579,"d":"4.58"}},{"$f":"x^3-7*x+4","v":68.03538121617238},{"$f":"(B900-B899)/Sheet2!$G$18","v":55.99565669096569}]
[{"$f":"A899+Sheet2!G$18","v":{"v":4.584415584415583,"d":"4.58"}},68.25914008406835,{"$f":"(B901-B900)/Sheet2!$G$18","v":56.10557274893537}]
[{"$f":"A900+Sheet2!G$18","v":{"v":4.588411588411588,"d":"4.59"}},68.48333817697119,{"$f":"(B902-B901)/Sheet2!$G$18","v":56.21558461518617}]
[{"$f":"A901+Sheet2!G$18","v":{"v":4.592407592407592,"d":"4.59"}},68.70797587773117,{"$f":"(B903-B902)/Sheet2!$G$18","v":56.325692289732295}]
[{"$f":"A902+Sheet2!G$18","v":{"v":4.596403596403596,"d":"4.60"}},68.93305356919863,{"$f":"(B904-B903)/Sheet2!$G$18","v":56.43589577256664}]
[{"$f":"A903+Sheet2!G$18","v":{"v":4.600399600399601,"d":"4.60"}},69.15857163422388,{"$f":"(B905-B904)/Sheet2!$G$18","v":56.546195063682084}]
[{"$f":"A904+Sheet2!G$18","v":{"v":4.604395604395605,"d":"4.60"}},69.38453045565717,{"$f":"(B906-B905)/Sheet2!$G$18","v":56.65659016308575}]
[{"$f":"A905+Sheet2!G$18","v":{"v":4.608391608391609,"d":"4.61"}},69.61093041634882,{"$f":"(B907-B906)/Sheet2!$G$18","v":56.767081070781195}]
[{"$f":"A906+Sheet2!G$18","v":{"v":4.6123876123876135,"d":"4.61"}},69.83777189914915,{"$f":"(B908-B907)/Sheet2!$G$18","v":56.8776677867613}]
[{"$f":"A907+Sheet2!G$18","v":{"v":4.616383616383618,"d":"4.62"}},70.06505528690843,{"$f":"(B909-B908)/Sheet2!$G$18","v":56.98835031103318}]
[{"$f":"A908+Sheet2!G$18","v":{"v":4.620379620379622,"d":"4.62"}},70.292780962477,{"$f":"(B910-B909)/Sheet2!$G$18","v":57.09912864358617}]
[{"$f":"A909+Sheet2!G$18","v":{"v":4.624375624375626,"d":"4.62"}},70.52094930870511,{"$f":"(B911-B910)/Sheet2!$G$18","v":57.21000278443804}]
[{"$f":"A910+Sheet2!G$18","v":{"v":4.628371628371631,"d":"4.63"}},70.74956070844313,{"$f":"(B912-B911)/Sheet2!$G$18","v":57.32097273356035}]
[{"$f":"A911+Sheet2!G$18","v":{"v":4.632367632367635,"d":"4.63"}},70.97861554454127,{"$f":"(B913-B912)/Sheet2!$G$18","v":57.43203849098866}]
[{"$f":"A912+Sheet2!G$18","v":{"v":4.636363636363639,"d":"4.64"}},71.20811419984992,{"$f":"(B914-B913)/Sheet2!$G$18","v":57.54320005668741}]
[{"$f":"A913+Sheet2!G$18","v":{"v":4.640359640359644,"d":"4.64"}},71.4380570572193,{"$f":"(B915-B914)/Sheet2!$G$18","v":57.6544574306886}]
[{"$f":"A914+Sheet2!G$18","v":{"v":4.644355644355648,"d":"4.64"}},71.66844449949977,{"$f":"(B916-B915)/Sheet2!$G$18","v":57.76581061296378}]
[{"$f":"A915+Sheet2!G$18","v":{"v":4.648351648351652,"d":"4.65"}},71.89927690954158,{"$f":"(B917-B916)/Sheet2!$G$18","v":57.87725960354141}]
[{"$f":"A916+Sheet2!G$18","v":{"v":4.652347652347657,"d":"4.65"}},72.1305546701951,{"$f":"(B918-B917)/Sheet2!$G$18","v":57.988804402393036}]
[{"$f":"A917+Sheet2!G$18","v":{"v":4.656343656343661,"d":"4.66"}},72.36227816431055,{"$f":"(B919-B918)/Sheet2!$G$18","v":58.10044500953999}]
[{"$f":"A918+Sheet2!G$18","v":{"v":4.660339660339665,"d":"4.66"}},72.59444777473828,{"$f":"(B920-B919)/Sheet2!$G$18","v":58.21218142497516}]
[{"$f":"A919+Sheet2!G$18","v":{"v":4.6643356643356695,"d":"4.66"}},72.8270638843286,{"$f":"(B921-B920)/Sheet2!$G$18","v":58.324013648691434}]
[{"$f":"A920+Sheet2!G$18","v":{"v":4.668331668331674,"d":"4.67"}},73.06012687593176,{"$f":"(B922-B921)/Sheet2!$G$18","v":58.435941680703046}]
[{"$f":"A921+Sheet2!G$18","v":{"v":4.672327672327678,"d":"4.67"}},73.2936371323981,{"$f":"(B923-B922)/Sheet2!$G$18","v":58.54796552099576}]
[{"$f":"A922+Sheet2!G$18","v":{"v":4.676323676323682,"d":"4.68"}},73.5275950365779,{"$f":"(B924-B923)/Sheet2!$G$18","v":58.6600851695838}]
[{"$f":"A923+Sheet2!G$18","v":{"v":4.680319680319687,"d":"4.68"}},73.7620009713215,{"$f":"(B925-B924)/Sheet2!$G$18","v":58.77230062645295}]
[{"$f":"A924+Sheet2!G$18","v":{"v":4.684315684315691,"d":"4.68"}},73.99685531947915,{"$f":"(B926-B925)/Sheet2!$G$18","v":58.88461189160677}]
[{"$f":"A925+Sheet2!G$18","v":{"v":4.688311688311695,"d":"4.69"}},74.23215846390116,{"$f":"(B927-B926)/Sheet2!$G$18","v":58.997018965055915}]
[{"$f":"A926+Sheet2!G$18","v":{"v":4.6923076923077,"d":"4.69"}},74.46791078743784,{"$f":"(B928-B927)/Sheet2!$G$18","v":59.109521846786166}]
[{"$f":"A927+Sheet2!G$18","v":{"v":4.696303696303704,"d":"4.70"}},74.70411267293949,{"$f":"(B929-B928)/Sheet2!$G$18","v":59.222120536818856}]
[{"$f":"A928+Sheet2!G$18","v":{"v":4.700299700299708,"d":"4.70"}},74.94076450325645,{"$f":"(B930-B929)/Sheet2!$G$18","v":59.33481503511488}]
[{"$f":"A929+Sheet2!G$18","v":{"v":4.7042957042957125,"d":"4.70"}},75.17786666123892,{"$f":"(B931-B930)/Sheet2!$G$18","v":59.44760534171334}]
[{"$f":"A930+Sheet2!G$18","v":{"v":4.708291708291717,"d":"4.71"}},75.41541952973728,{"$f":"(B932-B931)/Sheet2!$G$18","v":59.56049145660002}]
[{"$f":"A931+Sheet2!G$18","v":{"v":4.712287712287721,"d":"4.71"}},75.65342349160181,{"$f":"(B933-B932)/Sheet2!$G$18","v":59.67347337977492}]
[{"$f":"A932+Sheet2!G$18","v":{"v":4.7162837162837254,"d":"4.72"}},75.89187892968283,{"$f":"(B934-B933)/Sheet2!$G$18","v":59.78655111122737}]
[{"$f":"A933+Sheet2!G$18","v":{"v":4.72027972027973,"d":"4.72"}},76.1307862268306,{"$f":"(B935-B934)/Sheet2!$G$18","v":59.899724650982265}]
[{"$f":"A934+Sheet2!G$18","v":{"v":4.724275724275734,"d":"4.72"}},76.37014576589546,{"$f":"(B936-B935)/Sheet2!$G$18","v":60.01299399901115}]
[{"$f":"A935+Sheet2!G$18","v":{"v":4.728271728271738,"d":"4.73"}},76.60995792972767,{"$f":"(B937-B936)/Sheet2!$G$18","v":60.126359155335365}]
[{"$f":"A936+Sheet2!G$18","v":{"v":4.732267732267743,"d":"4.73"}},76.85022310117756,{"$f":"(B938-B937)/Sheet2!$G$18","v":60.23982011994425}]
[{"$f":"A937+Sheet2!G$18","v":{"v":4.736263736263747,"d":"4.74"}},77.09094166309542,{"$f":"(B939-B938)/Sheet2!$G$18","v":60.3533768928449}]
[{"$f":"A938+Sheet2!G$18","v":{"v":4.740259740259751,"d":"4.74"}},77.33211399833156,{"$f":"(B940-B939)/Sheet2!$G$18","v":60.46702947402311}]
[{"$f":"A939+Sheet2!G$18","v":{"v":4.744255744255756,"d":"4.74"}},77.57374048973625,{"$f":"(B941-B940)/Sheet2!$G$18","v":60.58077786350731}]
[{"$f":"A940+Sheet2!G$18","v":{"v":4.74825174825176,"d":"4.75"}},77.81582152015986,{"$f":"(B942-B941)/Sheet2!$G$18","v":60.69462206125839}]
[{"$f":"A941+Sheet2!G$18","v":{"v":4.752247752247764,"d":"4.75"}},78.0583574724526,{"$f":"(B943-B942)/Sheet2!$G$18","v":60.80856206730481}]
[{"$f":"A942+Sheet2!G$18","v":{"v":4.7562437562437685,"d":"4.76"}},78.3013487294648,{"$f":"(B944-B943)/Sheet2!$G$18","v":60.92259788164656}]
[{"$f":"A943+Sheet2!G$18","v":{"v":4.760239760239773,"d":"4.76"}},78.54479567404681,{"$f":"(B945-B944)/Sheet2!$G$18","v":61.03672950426941}]
[{"$f":"A944+Sheet2!G$18","v":{"v":4.764235764235777,"d":"4.76"}},78.78869868904889,{"$f":"(B946-B945)/Sheet2!$G$18","v":61.15095693517693}]
[{"$f":"A945+Sheet2!G$18","v":{"v":4.768231768231781,"d":"4.77"}},79.03305815732132,{"$f":"(B947-B946)/Sheet2!$G$18","v":61.265280174376215}]
[{"$f":"A946+Sheet2!G$18","v":{"v":4.772227772227786,"d":"4.77"}},79.27787446171443,{"$f":"(B948-B947)/Sheet2!$G$18","v":61.37969922186017}]
[{"$f":"A947+Sheet2!G$18","v":{"v":4.77622377622379,"d":"4.78"}},79.52314798507851,{"$f":"(B949-B948)/Sheet2!$G$18","v":61.494214077635895}]
[{"$f":"A948+Sheet2!G$18","v":{"v":4.780219780219794,"d":"4.78"}},79.76887911026387,{"$f":"(B950-B949)/Sheet2!$G$18","v":61.60882474169629}]
[{"$f":"A949+Sheet2!G$18","v":{"v":4.784215784215799,"d":"4.78"}},80.0150682201208,{"$f":"(B951-B950)/Sheet2!$G$18","v":61.72353121404845}]
[{"$f":"A950+Sheet2!G$18","v":{"v":4.788211788211803,"d":"4.79"}},80.26171569749961,{"$f":"(B952-B951)/Sheet2!$G$18","v":61.83833349467817}]
[{"$f":"A951+Sheet2!G$18","v":{"v":4.792207792207807,"d":"4.79"}},80.50882192525057,{"$f":"(B953-B952)/Sheet2!$G$18","v":61.95323158361388}]
[{"$f":"A952+Sheet2!G$18","v":{"v":4.7962037962038115,"d":"4.80"}},80.75638728622405,{"$f":"(B954-B953)/Sheet2!$G$18","v":62.06822548081647}]
[{"$f":"A953+Sheet2!G$18","v":{"v":4.800199800199816,"d":"4.80"}},81.00441216327027,{"$f":"(B955-B954)/Sheet2!$G$18","v":62.1833151863144}]
[{"$f":"A954+Sheet2!G$18","v":{"v":4.80419580419582,"d":"4.80"}},81.25289693923956,{"$f":"(B956-B955)/Sheet2!$G$18","v":62.29850070010766}]
[{"$f":"A955+Sheet2!G$18","v":{"v":4.8081918081918245,"d":"4.81"}},81.50184199698225,{"$f":"(B957-B956)/Sheet2!$G$18","v":62.41378202217491}]
[{"$f":"A956+Sheet2!G$18","v":{"v":4.812187812187829,"d":"4.81"}},81.75124771934858,{"$f":"(B958-B957)/Sheet2!$G$18","v":62.52915915254105}]
[{"$f":"A957+Sheet2!G$18","v":{"v":4.816183816183833,"d":"4.82"}},82.00111448918891,{"$f":"(B959-B958)/Sheet2!$G$18","v":62.644632091191845}]
[{"$f":"A958+Sheet2!G$18","v":{"v":4.820179820179837,"d":"4.82"}},82.25144268935351,{"$f":"(B960-B959)/Sheet2!$G$18","v":62.76020083812731}]
[{"$f":"A959+Sheet2!G$18","v":{"v":4.824175824175842,"d":"4.82"}},82.50223270269268,{"$f":"(B961-B960)/Sheet2!$G$18","v":62.875865393354545}]
[{"$f":"A960+Sheet2!G$18","v":{"v":4.828171828171846,"d":"4.83"}},82.75348491205673,{"$f":"(B962-B961)/Sheet2!$G$18","v":62.99162575686289}]
[{"$f":"A961+Sheet2!G$18","v":{"v":4.83216783216785,"d":"4.83"}},83.00519970029595,{"$f":"(B963-B962)/Sheet2!$G$18","v":63.10748192867012}]
[{"$f":"A962+Sheet2!G$18","v":{"v":4.836163836163855,"d":"4.84"}},{"$f":"x^3-7*x+4","v":83.25737745026066},{"$f":"(B964-B963)/Sheet2!$G$18","v":63.223433908747786}]
[{"$f":"A963+Sheet2!G$18","v":{"v":4.840159840159859,"d":"4.84"}},83.51001854480111,{"$f":"(B965-B964)/Sheet2!$G$18","v":63.339481697131454}]
[{"$f":"A964+Sheet2!G$18","v":{"v":4.844155844155863,"d":"4.84"}},83.76312336676767,{"$f":"(B966-B965)/Sheet2!$G$18","v":63.45562529379267}]
[{"$f":"A965+Sheet2!G$18","v":{"v":4.8481518481518675,"d":"4.85"}},84.0166922990106,{"$f":"(B967-B966)/Sheet2!$G$18","v":63.571864698745664}]
[{"$f":"A966+Sheet2!G$18","v":{"v":4.852147852147872,"d":"4.85"}},84.27072572438021,{"$f":"(B968-B967)/Sheet2!$G$18","v":63.68819991198332}]
[{"$f":"A967+Sheet2!G$18","v":{"v":4.856143856143876,"d":"4.86"}},84.5252240257268,{"$f":"(B969-B968)/Sheet2!$G$18","v":63.804630933505635}]
[{"$f":"A968+Sheet2!G$18","v":{"v":4.86013986013988,"d":"4.86"}},84.78018758590065,{"$f":"(B970-B969)/Sheet2!$G$18","v":63.921157763323286}]
[{"$f":"A969+Sheet2!G$18","v":{"v":4.864135864135885,"d":"4.86"}},85.03561678775209,{"$f":"(B971-B970)/Sheet2!$G$18","v":64.03778040142204}]
[{"$f":"A970+Sheet2!G$18","v":{"v":4.868131868131889,"d":"4.87"}},85.2915120141314,{"$f":"(B972-B971)/Sheet2!$G$18","v":64.15449884780901}]
[{"$f":"A971+Sheet2!G$18","v":{"v":4.872127872127893,"d":"4.87"}},85.54787364788888,{"$f":"(B973-B972)/Sheet2!$G$18","v":64.27131310249132}]
[{"$f":"A972+Sheet2!G$18","v":{"v":4.876123876123898,"d":"4.88"}},85.80470207187486,{"$f":"(B974-B973)/Sheet2!$G$18","v":64.38822316544761}]
[{"$f":"A973+Sheet2!G$18","v":{"v":4.880119880119902,"d":"4.88"}},86.06199766893958,{"$f":"(B975-B974)/Sheet2!$G$18","v":64.5052290367028}]
[{"$f":"A974+Sheet2!G$18","v":{"v":4.884115884115906,"d":"4.88"}},86.3197608219334,{"$f":"(B976-B975)/Sheet2!$G$18","v":64.62233071624264}]
[{"$f":"A975+Sheet2!G$18","v":{"v":4.8881118881119106,"d":"4.89"}},86.5779919137066,{"$f":"(B977-B976)/Sheet2!$G$18","v":64.73952820407426}]
[{"$f":"A976+Sheet2!G$18","v":{"v":4.892107892107915,"d":"4.89"}},86.83669132710949,{"$f":"(B978-B977)/Sheet2!$G$18","v":64.85682150017988}]
[{"$f":"A977+Sheet2!G$18","v":{"v":4.896103896103919,"d":"4.90"}},87.09585944499233,{"$f":"(B979-B978)/Sheet2!$G$18","v":64.97421060458794}]
[{"$f":"A978+Sheet2!G$18","v":{"v":4.9000999000999235,"d":"4.90"}},87.35549665020547,{"$f":"(B980-B979)/Sheet2!$G$18","v":65.0916955172771}]
[{"$f":"A979+Sheet2!G$18","v":{"v":4.904095904095928,"d":"4.90"}},87.61560332559918,{"$f":"(B981-B980)/Sheet2!$G$18","v":65.20927623824737}]
[{"$f":"A980+Sheet2!G$18","v":{"v":4.908091908091932,"d":"4.91"}},87.87617985402375,{"$f":"(B982-B981)/Sheet2!$G$18","v":65.32695276752008}]
[{"$f":"A981+Sheet2!G$18","v":{"v":4.912087912087936,"d":"4.91"}},88.13722661832952,{"$f":"(B983-B982)/Sheet2!$G$18","v":65.44472510507035}]
[{"$f":"A982+Sheet2!G$18","v":{"v":4.916083916083941,"d":"4.92"}},88.39874400136677,{"$f":"(B984-B983)/Sheet2!$G$18","v":65.56259325090528}]
[{"$f":"A983+Sheet2!G$18","v":{"v":4.920079920079945,"d":"4.92"}},88.66073238598577,{"$f":"(B985-B984)/Sheet2!$G$18","v":65.6805572050462}]
[{"$f":"A984+Sheet2!G$18","v":{"v":4.924075924075949,"d":"4.92"}},88.9231921550369,{"$f":"(B986-B985)/Sheet2!$G$18","v":65.79861696745046}]
[{"$f":"A985+Sheet2!G$18","v":{"v":4.928071928071954,"d":"4.93"}},89.18612369137037,{"$f":"(B987-B986)/Sheet2!$G$18","v":65.91677253815715}]
[{"$f":"A986+Sheet2!G$18","v":{"v":4.932067932067958,"d":"4.93"}},89.44952737783653,{"$f":"(B988-B987)/Sheet2!$G$18","v":66.03502391715206}]
[{"$f":"A987+Sheet2!G$18","v":{"v":4.936063936063962,"d":"4.94"}},89.71340359728569,{"$f":"(B989-B988)/Sheet2!$G$18","v":66.15337110442097}]
[{"$f":"A988+Sheet2!G$18","v":{"v":4.9400599400599665,"d":"4.94"}},89.97775273256809,{"$f":"(B990-B989)/Sheet2!$G$18","v":66.27181409999586}]
[{"$f":"A989+Sheet2!G$18","v":{"v":4.944055944055971,"d":"4.94"}},90.24257516653411,{"$f":"(B991-B990)/Sheet2!$G$18","v":66.39035290384477}]
[{"$f":"A990+Sheet2!G$18","v":{"v":4.948051948051975,"d":"4.95"}},90.50787128203399,{"$f":"(B992-B991)/Sheet2!$G$18","v":66.508987515989}]
[{"$f":"A991+Sheet2!G$18","v":{"v":4.952047952047979,"d":"4.95"}},90.77364146191806,{"$f":"(B993-B992)/Sheet2!$G$18","v":66.62771793640722}]
[{"$f":"A992+Sheet2!G$18","v":{"v":4.956043956043984,"d":"4.96"}},91.03988608903657,{"$f":"(B994-B993)/Sheet2!$G$18","v":66.746544165135}]
[{"$f":"A993+Sheet2!G$18","v":{"v":4.960039960039988,"d":"4.96"}},91.30660554623991,{"$f":"(B995-B994)/Sheet2!$G$18","v":66.86546620213677}]
[{"$f":"A994+Sheet2!G$18","v":{"v":4.964035964035992,"d":"4.96"}},91.57380021637832,{"$f":"(B996-B995)/Sheet2!$G$18","v":66.98448404742678}]
[{"$f":"A995+Sheet2!G$18","v":{"v":4.968031968031997,"d":"4.97"}},91.8414704823021,{"$f":"(B997-B996)/Sheet2!$G$18","v":67.10359770100499}]
[{"$f":"A996+Sheet2!G$18","v":{"v":4.972027972028001,"d":"4.97"}},92.10961672686156,{"$f":"(B998-B997)/Sheet2!$G$18","v":67.2228071628714}]
[{"$f":"A997+Sheet2!G$18","v":{"v":4.976023976024005,"d":"4.98"}},92.378239332907,{"$f":"(B999-B998)/Sheet2!$G$18","v":67.34211243302961}]
[{"$f":"A998+Sheet2!G$18","v":{"v":4.98001998002001,"d":"4.98"}},92.64733868328874,{"$f":"(B1000-B999)/Sheet2!$G$18","v":67.46151351147248}]
[{"$f":"A999+Sheet2!G$18","v":{"v":4.984015984016014,"d":"4.98"}},92.91691516085706,{"$f":"(B1001-B1000)/Sheet2!$G$18","v":67.58101039820001}]
[{"$f":"A1000+Sheet2!G$18","v":{"v":4.988011988012018,"d":"4.99"}},93.18696914846225,{"$f":"(B1002-B1001)/Sheet2!$G$18","v":67.7006030932122}]
[{"$f":"A1001+Sheet2!G$18","v":{"v":4.9920079920080225,"d":"4.99"}},93.45750102895461,{"$f":"(B1003-B1002)/Sheet2!$G$18","v":67.82029159652328}]
[{"$f":"A1002+Sheet2!G$18","v":{"v":4.996003996004027,"d":"5.00"}},93.72851118518447,{"$f":"(B1004-B1003)/Sheet2!$G$18","v":67.94007590811901}]
[{"$f":"A1003+Sheet2!G$18","v":{"v":5.000000000000031,"d":"5.00"}},94.00000000000213]

{"sheet":"Sheet3","index":2,"n_rows":1003,"n_cols":2,"rows_kept":1003}
[{"$f":"xMin","v":1},{"$f":"9","v":9}]
[{"$f":"A1+dx","v":1.003996003996004},{"$f":"9","v":9}]
[1.0079920079920082,{"$f":"9","v":9}]
[1.0119880119880122,{"$f":"9","v":9}]
[1.0159840159840163,{"$f":"9","v":9}]
[1.0199800199800204,{"$f":"9","v":9}]
[1.0239760239760245,{"$f":"9","v":9}]
[1.0279720279720286,{"$f":"9","v":9}]
[1.0319680319680327,{"$f":"9","v":9}]
[1.0359640359640367,{"$f":"9","v":9}]
[1.0399600399600408,{"$f":"9","v":9}]
[1.043956043956045,{"$f":"9","v":9}]
[1.047952047952049,{"$f":"9","v":9}]
[1.051948051948053,{"$f":"9","v":9}]
[1.0559440559440572,{"$f":"9","v":9}]
[1.0599400599400612,{"$f":"9","v":9}]
[1.0639360639360653,{"$f":"9","v":9}]
[1.0679320679320694,{"$f":"9","v":9}]
[1.0719280719280735,{"$f":"9","v":9}]
[1.0759240759240776,{"$f":"9","v":9}]
[1.0799200799200817,{"$f":"9","v":9}]
[1.0839160839160857,{"$f":"9","v":9}]
[1.0879120879120898,{"$f":"9","v":9}]
[1.091908091908094,{"$f":"9","v":9}]
[1.095904095904098,{"$f":"9","v":9}]
[1.099900099900102,{"$f":"9","v":9}]
[1.1038961038961062,{"$f":"9","v":9}]
[1.1078921078921102,{"$f":"9","v":9}]
[1.1118881118881143,{"$f":"9","v":9}]
[1.1158841158841184,{"$f":"9","v":9}]
[1.1198801198801225,{"$f":"9","v":9}]
[1.1238761238761266,{"$f":"9","v":9}]
[1.1278721278721306,{"$f":"9","v":9}]
[1.1318681318681347,{"$f":"9","v":9}]
[1.1358641358641388,{"$f":"9","v":9}]
[1.139860139860143,{"$f":"9","v":9}]
[1.143856143856147,{"$f":"9","v":9}]
[1.147852147852151,{"$f":"9","v":9}]
[1.1518481518481551,{"$f":"9","v":9}]
[1.1558441558441592,{"$f":"9","v":9}]
[1.1598401598401633,{"$f":"9","v":9}]
[1.1638361638361674,{"$f":"9","v":9}]
[1.1678321678321715,{"$f":"9","v":9}]
[1.1718281718281756,{"$f":"9","v":9}]
[1.1758241758241796,{"$f":"9","v":9}]
[1.1798201798201837,{"$f":"9","v":9}]
[1.1838161838161878,{"$f":"9","v":9}]
[1.1878121878121919,{"$f":"9","v":9}]
[1.191808191808196,{"$f":"9","v":9}]
[1.1958041958042,{"$f":"9","v":9}]
[1.1998001998002041,{"$f":"9","v":9}]
[1.2037962037962082,{"$f":"9","v":9}]
[1.2077922077922123,{"$f":"9","v":9}]
[1.2117882117882164,{"$f":"9","v":9}]
[1.2157842157842205,{"$f":"9","v":9}]
[1.2197802197802246,{"$f":"9","v":9}]
[1.2237762237762286,{"$f":"9","v":9}]
[1.2277722277722327,{"$f":"9","v":9}]
[1.2317682317682368,{"$f":"9","v":9}]
[1.2357642357642409,{"$f":"9","v":9}]
[1.239760239760245,{"$f":"9","v":9}]
[1.243756243756249,{"$f":"9","v":9}]
[1.2477522477522531,{"$f":"9","v":9}]
[1.2517482517482572,{"$f":"9","v":9}]
[1.2557442557442613,{"$f":"9","v":9}]
[{"$f":"A65+dx","v":1.2597402597402654},{"$f":"9","v":9}]
[1.2637362637362695,{"$f":"9","v":9}]
[1.2677322677322735,{"$f":"9","v":9}]
[1.2717282717282776,{"$f":"9","v":9}]
[1.2757242757242817,{"$f":"9","v":9}]
[1.2797202797202858,{"$f":"9","v":9}]
[1.2837162837162899,{"$f":"9","v":9}]
[1.287712287712294,{"$f":"9","v":9}]
[1.291708291708298,{"$f":"9","v":9}]
[1.2957042957043021,{"$f":"9","v":9}]
[1.2997002997003062,{"$f":"9","v":9}]
[1.3036963036963103,{"$f":"9","v":9}]
[1.3076923076923144,{"$f":"9","v":9}]
[1.3116883116883185,{"$f":"9","v":9}]
[1.3156843156843225,{"$f":"9","v":9}]
[1.3196803196803266,{"$f":"9","v":9}]
[1.3236763236763307,{"$f":"9","v":9}]
[1.3276723276723348,{"$f":"9","v":9}]
[1.3316683316683389,{"$f":"9","v":9}]
[1.335664335664343,{"$f":"9","v":9}]
[1.339660339660347,{"$f":"9","v":9}]
[1.3436563436563511,{"$f":"9","v":9}]
[1.3476523476523552,{"$f":"9","v":9}]
[1.3516483516483593,{"$f":"9","v":9}]
[1.3556443556443634,{"$f":"9","v":9}]
[1.3596403596403674,{"$f":"9","v":9}]
[1.3636363636363715,{"$f":"9","v":9}]
[1.3676323676323756,{"$f":"9","v":9}]
[1.3716283716283797,{"$f":"9","v":9}]
[1.3756243756243838,{"$f":"9","v":9}]
[1.3796203796203879,{"$f":"9","v":9}]
[1.383616383616392,{"$f":"9","v":9}]
[1.387612387612396,{"$f":"9","v":9}]
[1.3916083916084,{"$f":"9","v":9}]
[1.3956043956044042,{"$f":"9","v":9}]
[1.3996003996004083,{"$f":"9","v":9}]
[1.4035964035964124,{"$f":"9","v":9}]
[1.4075924075924164,{"$f":"9","v":9}]
[1.4115884115884205,{"$f":"9","v":9}]
[1.4155844155844246,{"$f":"9","v":9}]
[1.4195804195804287,{"$f":"9","v":9}]
[1.4235764235764328,{"$f":"9","v":9}]
[1.4275724275724369,{"$f":"9","v":9}]
[1.431568431568441,{"$f":"9","v":9}]
[1.435564435564445,{"$f":"9","v":9}]
[1.439560439560449,{"$f":"9","v":9}]
[1.4435564435564532,{"$f":"9","v":9}]
[1.4475524475524573,{"$f":"9","v":9}]
[1.4515484515484613,{"$f":"9","v":9}]
[1.4555444555444654,{"$f":"9","v":9}]
[1.4595404595404695,{"$f":"9","v":9}]
[1.4635364635364736,{"$f":"9","v":9}]
[1.4675324675324777,{"$f":"9","v":9}]
[1.4715284715284818,{"$f":"9","v":9}]
[1.4755244755244858,{"$f":"9","v":9}]
[1.47952047952049,{"$f":"9","v":9}]
[1.483516483516494,{"$f":"9","v":9}]
[1.487512487512498,{"$f":"9","v":9}]
[1.4915084915085022,{"$f":"9","v":9}]
[1.4955044955045063,{"$f":"9","v":9}]
[1.4995004995005103,{"$f":"9","v":9}]
[1.5034965034965144,{"$f":"9","v":9}]
[1.5074925074925185,{"$f":"9","v":9}]
[1.5114885114885226,{"$f":"9","v":9}]
[{"$f":"A129+dx","v":1.5154845154845267},{"$f":"9","v":9}]
[1.5194805194805308,{"$f":"9","v":9}]
[1.5234765234765348,{"$f":"9","v":9}]
[1.527472527472539,{"$f":"9","v":9}]
[1.531468531468543,{"$f":"9","v":9}]
[1.535464535464547,{"$f":"9","v":9}]
[1.5394605394605512,{"$f":"9","v":9}]
[1.5434565434565553,{"$f":"9","v":9}]
[1.5474525474525593,{"$f":"9","v":9}]
[1.5514485514485634,{"$f":"9","v":9}]
[1.5554445554445675,{"$f":"9","v":9}]
[1.5594405594405716,{"$f":"9","v":9}]
[1.5634365634365757,{"$f":"9","v":9}]
[1.5674325674325797,{"$f":"9","v":9}]
[1.5714285714285838,{"$f":"9","v":9}]
[1.575424575424588,{"$f":"9","v":9}]
[1.579420579420592,{"$f":"9","v":9}]
[1.583416583416596,{"$f":"9","v":9}]
[1.5874125874126002,{"$f":"9","v":9}]
[1.5914085914086042,{"$f":"9","v":9}]
[1.5954045954046083,{"$f":"9","v":9}]
[1.5994005994006124,{"$f":"9","v":9}]
[1.6033966033966165,{"$f":"9","v":9}]
[1.6073926073926206,{"$f":"9","v":9}]
[1.6113886113886247,{"$f":"9","v":9}]
[1.6153846153846287,{"$f":"9","v":9}]
[1.6193806193806328,{"$f":"9","v":9}]
[1.623376623376637,{"$f":"9","v":9}]
[1.627372627372641,{"$f":"9","v":9}]
[1.631368631368645,{"$f":"9","v":9}]
[1.6353646353646492,{"$f":"9","v":9}]
[1.6393606393606532,{"$f":"9","v":9}]
[1.6433566433566573,{"$f":"9","v":9}]
[1.6473526473526614,{"$f":"9","v":9}]
[1.6513486513486655,{"$f":"9","v":9}]
[1.6553446553446696,{"$f":"9","v":9}]
[1.6593406593406737,{"$f":"9","v":9}]
[1.6633366633366777,{"$f":"9","v":9}]
[1.6673326673326818,{"$f":"9","v":9}]
[1.671328671328686,{"$f":"9","v":9}]
[1.67532467532469,{"$f":"9","v":9}]
[1.679320679320694,{"$f":"9","v":9}]
[1.6833166833166981,{"$f":"9","v":9}]
[1.6873126873127022,{"$f":"9","v":9}]
[1.6913086913087063,{"$f":"9","v":9}]
[1.6953046953047104,{"$f":"9","v":9}]
[1.6993006993007145,{"$f":"9","v":9}]
[1.7032967032967186,{"$f":"9","v":9}]
[1.7072927072927226,{"$f":"9","v":9}]
[1.7112887112887267,{"$f":"9","v":9}]
[1.7152847152847308,{"$f":"9","v":9}]
[1.719280719280735,{"$f":"9","v":9}]
[1.723276723276739,{"$f":"9","v":9}]
[1.727272727272743,{"$f":"9","v":9}]
[1.7312687312687471,{"$f":"9","v":9}]
[1.7352647352647512,{"$f":"9","v":9}]
[1.7392607392607553,{"$f":"9","v":9}]
[1.7432567432567594,{"$f":"9","v":9}]
[1.7472527472527635,{"$f":"9","v":9}]
[1.7512487512487676,{"$f":"9","v":9}]
[1.7552447552447716,{"$f":"9","v":9}]
[1.7592407592407757,{"$f":"9","v":9}]
[1.7632367632367798,{"$f":"9","v":9}]
[1.7672327672327839,{"$f":"9","v":9}]
[{"$f":"A193+dx","v":1.771228771228788},{"$f":"9","v":9}]
[1.775224775224792,{"$f":"9","v":9}]
[1.7792207792207961,{"$f":"9","v":9}]
[1.7832167832168002,{"$f":"9","v":9}]
[1.7872127872128043,{"$f":"9","v":9}]
[1.7912087912088084,{"$f":"9","v":9}]
[1.7952047952048125,{"$f":"9","v":9}]
[1.7992007992008165,{"$f":"9","v":9}]
[1.8031968031968206,{"$f":"9","v":9}]
[1.8071928071928247,{"$f":"9","v":9}]
[1.8111888111888288,{"$f":"9","v":9}]
[1.8151848151848329,{"$f":"9","v":9}]
[1.819180819180837,{"$f":"9","v":9}]
[1.823176823176841,{"$f":"9","v":9}]
[1.8271728271728451,{"$f":"9","v":9}]
[1.8311688311688492,{"$f":"9","v":9}]
[1.8351648351648533,{"$f":"9","v":9}]
[1.8391608391608574,{"$f":"9","v":9}]
[1.8431568431568615,{"$f":"9","v":9}]
[1.8471528471528655,{"$f":"9","v":9}]
[1.8511488511488696,{"$f":"9","v":9}]
[1.8551448551448737,{"$f":"9","v":9}]
[1.8591408591408778,{"$f":"9","v":9}]
[1.8631368631368819,{"$f":"9","v":9}]
[1.867132867132886,{"$f":"9","v":9}]
[1.87112887112889,{"$f":"9","v":9}]
[1.8751248751248941,{"$f":"9","v":9}]
[1.8791208791208982,{"$f":"9","v":9}]
[1.8831168831169023,{"$f":"9","v":9}]
[1.8871128871129064,{"$f":"9","v":9}]
[1.8911088911089105,{"$f":"9","v":9}]
[1.8951048951049145,{"$f":"9","v":9}]
[1.8991008991009186,{"$f":"9","v":9}]
[1.9030969030969227,{"$f":"9","v":9}]
[1.9070929070929268,{"$f":"9","v":9}]
[1.9110889110889309,{"$f":"9","v":9}]
[1.915084915084935,{"$f":"9","v":9}]
[1.919080919080939,{"$f":"9","v":9}]
[1.9230769230769431,{"$f":"9","v":9}]
[1.9270729270729472,{"$f":"9","v":9}]
[1.9310689310689513,{"$f":"9","v":9}]
[1.9350649350649554,{"$f":"9","v":9}]
[1.9390609390609594,{"$f":"9","v":9}]
[1.9430569430569635,{"$f":"9","v":9}]
[1.9470529470529676,{"$f":"9","v":9}]
[1.9510489510489717,{"$f":"9","v":9}]
[1.9550449550449758,{"$f":"9","v":9}]
[1.9590409590409799,{"$f":"9","v":9}]
[1.963036963036984,{"$f":"9","v":9}]
[1.967032967032988,{"$f":"9","v":9}]
[1.971028971028992,{"$f":"9","v":9}]
[1.9750249750249962,{"$f":"9","v":9}]
[1.9790209790210003,{"$f":"9","v":9}]
[1.9830169830170044,{"$f":"9","v":9}]
[1.9870129870130084,{"$f":"9","v":9}]
[1.9910089910090125,{"$f":"9","v":9}]
[1.9950049950050166,{"$f":"9","v":9}]
[1.9990009990010207,{"$f":"9","v":9}]
[2.0029970029970245,{"$f":"9","v":9}]
[2.0069930069930284,{"$f":"9","v":9}]
[2.0109890109890323,{"$f":"9","v":9}]
[2.014985014985036,{"$f":"9","v":9}]
[2.01898101898104,{"$f":"9","v":9}]
[2.022977022977044,{"$f":"9","v":9}]
[{"$f":"A257+dx","v":2.0269730269730477},{"$f":"9","v":9}]
[2.0309690309690516,{"$f":"9","v":9}]
[2.0349650349650554,{"$f":"9","v":9}]
[2.0389610389610593,{"$f":"9","v":9}]
[2.042957042957063,{"$f":"9","v":9}]
[2.046953046953067,{"$f":"9","v":9}]
[2.050949050949071,{"$f":"9","v":9}]
[2.0549450549450747,{"$f":"9","v":9}]
[2.0589410589410786,{"$f":"9","v":9}]
[2.0629370629370825,{"$f":"9","v":9}]
[2.0669330669330863,{"$f":"9","v":9}]
[2.07092907092909,{"$f":"9","v":9}]
[2.074925074925094,{"$f":"9","v":9}]
[2.078921078921098,{"$f":"9","v":9}]
[2.0829170829171018,{"$f":"9","v":9}]
[2.0869130869131056,{"$f":"9","v":9}]
[2.0909090909091095,{"$f":"9","v":9}]
[2.0949050949051133,{"$f":"9","v":9}]
[2.098901098901117,{"$f":"9","v":9}]
[2.102897102897121,{"$f":"9","v":9}]
[2.106893106893125,{"$f":"9","v":9}]
[2.110889110889129,{"$f":"9","v":9}]
[2.1148851148851326,{"$f":"9","v":9}]
[2.1188811188811365,{"$f":"9","v":9}]
[2.1228771228771404,{"$f":"9","v":9}]
[2.1268731268731442,{"$f":"9","v":9}]
[2.130869130869148,{"$f":"9","v":9}]
[2.134865134865152,{"$f":"9","v":9}]
[2.138861138861156,{"$f":"9","v":9}]
[2.1428571428571597,{"$f":"9","v":9}]
[2.1468531468531635,{"$f":"9","v":9}]
[2.1508491508491674,{"$f":"9","v":9}]
[2.1548451548451713,{"$f":"9","v":9}]
[2.158841158841175,{"$f":"9","v":9}]
[2.162837162837179,{"$f":"9","v":9}]
[2.166833166833183,{"$f":"9","v":9}]
[2.1708291708291867,{"$f":"9","v":9}]
[2.1748251748251906,{"$f":"9","v":9}]
[2.1788211788211944,{"$f":"9","v":9}]
[2.1828171828171983,{"$f":"9","v":9}]
[2.186813186813202,{"$f":"9","v":9}]
[2.190809190809206,{"$f":"9","v":9}]
[2.19480519480521,{"$f":"9","v":9}]
[2.1988011988012137,{"$f":"9","v":9}]
[2.2027972027972176,{"$f":"9","v":9}]
[2.2067932067932214,{"$f":"9","v":9}]
[2.2107892107892253,{"$f":"9","v":9}]
[2.214785214785229,{"$f":"9","v":9}]
[2.218781218781233,{"$f":"9","v":9}]
[2.222777222777237,{"$f":"9","v":9}]
[2.2267732267732407,{"$f":"9","v":9}]
[2.2307692307692446,{"$f":"9","v":9}]
[2.2347652347652485,{"$f":"9","v":9}]
[2.2387612387612523,{"$f":"9","v":9}]
[2.242757242757256,{"$f":"9","v":9}]
[2.24675324675326,{"$f":"9","v":9}]
[2.250749250749264,{"$f":"9","v":9}]
[2.2547452547452678,{"$f":"9","v":9}]
[2.2587412587412716,{"$f":"9","v":9}]
[2.2627372627372755,{"$f":"9","v":9}]
[2.2667332667332794,{"$f":"9","v":9}]
[2.270729270729283,{"$f":"9","v":9}]
[2.274725274725287,{"$f":"9","v":9}]
[2.278721278721291,{"$f":"9","v":9}]
[{"$f":"A321+dx","v":2.282717282717295},{"$f":"9","v":9}]
[2.2867132867132987,{"$f":"9","v":9}]
[2.2907092907093025,{"$f":"9","v":9}]
[2.2947052947053064,{"$f":"9","v":9}]
[2.2987012987013102,{"$f":"9","v":9}]
[2.302697302697314,{"$f":"9","v":9}]
[2.306693306693318,{"$f":"9","v":9}]
[2.310689310689322,{"$f":"9","v":9}]
[2.3146853146853257,{"$f":"9","v":9}]
[2.3186813186813295,{"$f":"9","v":9}]
[2.3226773226773334,{"$f":"9","v":9}]
[2.3266733266733373,{"$f":"9","v":9}]
[2.330669330669341,{"$f":"9","v":9}]
[2.334665334665345,{"$f":"9","v":9}]
[2.338661338661349,{"$f":"9","v":9}]
[2.3426573426573527,{"$f":"9","v":9}]
[2.3466533466533566,{"$f":"9","v":9}]
[2.3506493506493604,{"$f":"9","v":9}]
[2.3546453546453643,{"$f":"9","v":9}]
[2.358641358641368,{"$f":"9","v":9}]
[2.362637362637372,{"$f":"9","v":9}]
[2.366633366633376,{"$f":"9","v":9}]
[2.3706293706293797,{"$f":"9","v":9}]
[2.3746253746253836,{"$f":"9","v":9}]
[2.3786213786213874,{"$f":"9","v":9}]
[2.3826173826173913,{"$f":"9","v":9}]
[2.386613386613395,{"$f":"9","v":9}]
[2.390609390609399,{"$f":"9","v":9}]
[2.394605394605403,{"$f":"9","v":9}]
[2.3986013986014068,{"$f":"9","v":9}]
[2.4025974025974106,{"$f":"9","v":9}]
[2.4065934065934145,{"$f":"9","v":9}]
[2.4105894105894183,{"$f":"9","v":9}]
[2.414585414585422,{"$f":"9","v":9}]
[2.418581418581426,{"$f":"9","v":9}]
[2.42257742257743,{"$f":"9","v":9}]
[2.426573426573434,{"$f":"9","v":9}]
[2.4305694305694376,{"$f":"9","v":9}]
[2.4345654345654415,{"$f":"9","v":9}]
[2.4385614385614454,{"$f":"9","v":9}]
[2.442557442557449,{"$f":"9","v":9}]
[2.446553446553453,{"$f":"9","v":9}]
[2.450549450549457,{"$f":"9","v":9}]
[2.454545454545461,{"$f":"9","v":9}]
[2.4585414585414647,{"$f":"9","v":9}]
[2.4625374625374685,{"$f":"9","v":9}]
[2.4665334665334724,{"$f":"9","v":9}]
[2.4705294705294762,{"$f":"9","v":9}]
[2.47452547452548,{"$f":"9","v":9}]
[2.478521478521484,{"$f":"9","v":9}]
[2.482517482517488,{"$f":"9","v":9}]
[2.4865134865134917,{"$f":"9","v":9}]
[2.4905094905094955,{"$f":"9","v":9}]
[2.4945054945054994,{"$f":"9","v":9}]
[2.4985014985015033,{"$f":"9","v":9}]
[2.502497502497507,{"$f":"9","v":9}]
[2.506493506493511,{"$f":"9","v":9}]
[2.510489510489515,{"$f":"9","v":9}]
[2.5144855144855187,{"$f":"9","v":9}]
[2.5184815184815226,{"$f":"9","v":9}]
[2.5224775224775264,{"$f":"9","v":9}]
[2.5264735264735303,{"$f":"9","v":9}]
[2.530469530469534,{"$f":"9","v":9}]
[2.534465534465538,{"$f":"9","v":9}]
[{"$f":"A385+dx","v":2.538461538461542},{"$f":"9","v":9}]
[2.5424575424575457,{"$f":"9","v":9}]
[2.5464535464535496,{"$f":"9","v":9}]
[2.5504495504495535,{"$f":"9","v":9}]
[2.5544455544455573,{"$f":"9","v":9}]
[2.558441558441561,{"$f":"9","v":9}]
[2.562437562437565,{"$f":"9","v":9}]
[2.566433566433569,{"$f":"9","v":9}]
[2.5704295704295728,{"$f":"9","v":9}]
[2.5744255744255766,{"$f":"9","v":9}]
[2.5784215784215805,{"$f":"9","v":9}]
[2.5824175824175843,{"$f":"9","v":9}]
[2.586413586413588,{"$f":"9","v":9}]
[2.590409590409592,{"$f":"9","v":9}]
[2.594405594405596,{"$f":"9","v":9}]
[2.5984015984016,{"$f":"9","v":9}]
[2.6023976023976036,{"$f":"9","v":9}]
[2.6063936063936075,{"$f":"9","v":9}]
[2.6103896103896114,{"$f":"9","v":9}]
[2.6143856143856152,{"$f":"9","v":9}]
[2.618381618381619,{"$f":"9","v":9}]
[2.622377622377623,{"$f":"9","v":9}]
[2.626373626373627,{"$f":"9","v":9}]
[2.6303696303696307,{"$f":"9","v":9}]
[2.6343656343656345,{"$f":"9","v":9}]
[2.6383616383616384,{"$f":"9","v":9}]
[2.6423576423576423,{"$f":"9","v":9}]
[2.646353646353646,{"$f":"9","v":9}]
[2.65034965034965,{"$f":"9","v":9}]
[2.654345654345654,{"$f":"9","v":9}]
[2.6583416583416577,{"$f":"9","v":9}]
[2.6623376623376616,{"$f":"9","v":9}]
[2.6663336663336654,{"$f":"9","v":9}]
[2.6703296703296693,{"$f":"9","v":9}]
[2.674325674325673,{"$f":"9","v":9}]
[2.678321678321677,{"$f":"9","v":9}]
[2.682317682317681,{"$f":"9","v":9}]
[2.6863136863136847,{"$f":"9","v":9}]
[2.6903096903096886,{"$f":"9","v":9}]
[2.6943056943056924,{"$f":"9","v":9}]
[2.6983016983016963,{"$f":"9","v":9}]
[2.7022977022977,{"$f":"9","v":9}]
[2.706293706293704,{"$f":"9","v":9}]
[2.710289710289708,{"$f":"9","v":9}]
[2.7142857142857117,{"$f":"9","v":9}]
[2.7182817182817156,{"$f":"9","v":9}]
[2.7222777222777195,{"$f":"9","v":9}]
[2.7262737262737233,{"$f":"9","v":9}]
[2.730269730269727,{"$f":"9","v":9}]
[2.734265734265731,{"$f":"9","v":9}]
[2.738261738261735,{"$f":"9","v":9}]
[2.7422577422577388,{"$f":"9","v":9}]
[2.7462537462537426,{"$f":"9","v":9}]
[2.7502497502497465,{"$f":"9","v":9}]
[2.7542457542457504,{"$f":"9","v":9}]
[2.758241758241754,{"$f":"9","v":9}]
[2.762237762237758,{"$f":"9","v":9}]
[2.766233766233762,{"$f":"9","v":9}]
[2.770229770229766,{"$f":"9","v":9}]
[2.7742257742257697,{"$f":"9","v":9}]
[2.7782217782217735,{"$f":"9","v":9}]
[2.7822177822177774,{"$f":"9","v":9}]
[2.7862137862137812,{"$f":"9","v":9}]
[2.790209790209785,{"$f":"9","v":9}]
[{"$f":"A449+dx","v":2.794205794205789},{"$f":"9","v":9}]
[2.798201798201793,{"$f":"9","v":9}]
[2.8021978021977967,{"$f":"9","v":9}]
[2.8061938061938005,{"$f":"9","v":9}]
[2.8101898101898044,{"$f":"9","v":9}]
[2.8141858141858083,{"$f":"9","v":9}]
[2.818181818181812,{"$f":"9","v":9}]
[2.822177822177816,{"$f":"9","v":9}]
[2.82617382617382,{"$f":"9","v":9}]
[2.8301698301698237,{"$f":"9","v":9}]
[2.8341658341658276,{"$f":"9","v":9}]
[2.8381618381618314,{"$f":"9","v":9}]
[2.8421578421578353,{"$f":"9","v":9}]
[2.846153846153839,{"$f":"9","v":9}]
[2.850149850149843,{"$f":"9","v":9}]
[2.854145854145847,{"$f":"9","v":9}]
[2.8581418581418507,{"$f":"9","v":9}]
[2.8621378621378546,{"$f":"9","v":9}]
[2.8661338661338585,{"$f":"9","v":9}]
[2.8701298701298623,{"$f":"9","v":9}]
[2.874125874125866,{"$f":"9","v":9}]
[2.87812187812187,{"$f":"9","v":9}]
[2.882117882117874,{"$f":"9","v":9}]
[2.8861138861138778,{"$f":"9","v":9}]
[2.8901098901098816,{"$f":"9","v":9}]
[2.8941058941058855,{"$f":"9","v":9}]
[2.8981018981018893,{"$f":"9","v":9}]
[2.902097902097893,{"$f":"9","v":9}]
[2.906093906093897,{"$f":"9","v":9}]
[2.910089910089901,{"$f":"9","v":9}]
[2.914085914085905,{"$f":"9","v":9}]
[2.9180819180819086,{"$f":"9","v":9}]
[2.9220779220779125,{"$f":"9","v":9}]
[2.9260739260739164,{"$f":"9","v":9}]
[2.9300699300699202,{"$f":"9","v":9}]
[2.934065934065924,{"$f":"9","v":9}]
[2.938061938061928,{"$f":"9","v":9}]
[2.942057942057932,{"$f":"9","v":9}]
[2.9460539460539357,{"$f":"9","v":9}]
[2.9500499500499395,{"$f":"9","v":9}]
[2.9540459540459434,{"$f":"9","v":9}]
[2.9580419580419473,{"$f":"9","v":9}]
[2.962037962037951,{"$f":"9","v":9}]
[2.966033966033955,{"$f":"9","v":9}]
[2.970029970029959,{"$f":"9","v":9}]
[2.9740259740259627,{"$f":"9","v":9}]
[2.9780219780219666,{"$f":"9","v":9}]
[2.9820179820179704,{"$f":"9","v":9}]
[2.9860139860139743,{"$f":"9","v":9}]
[2.990009990009978,{"$f":"9","v":9}]
[2.994005994005982,{"$f":"9","v":9}]
[2.998001998001986,{"$f":"9","v":9}]
[3.0019980019979897,{"$f":"9","v":9}]
[3.0059940059939936,{"$f":"9","v":9}]
[3.0099900099899974,{"$f":"9","v":9}]
[3.0139860139860013,{"$f":"9","v":9}]
[3.017982017982005,{"$f":"9","v":9}]
[3.021978021978009,{"$f":"9","v":9}]
[3.025974025974013,{"$f":"9","v":9}]
[3.0299700299700167,{"$f":"9","v":9}]
[3.0339660339660206,{"$f":"9","v":9}]
[3.0379620379620245,{"$f":"9","v":9}]
[3.0419580419580283,{"$f":"9","v":9}]
[3.045954045954032,{"$f":"9","v":9}]
[{"$f":"A513+dx","v":3.049950049950036},{"$f":"9","v":9}]
[3.05394605394604,{"$f":"9","v":9}]
[3.0579420579420438,{"$f":"9","v":9}]
[3.0619380619380476,{"$f":"9","v":9}]
[3.0659340659340515,{"$f":"9","v":9}]
[3.0699300699300553,{"$f":"9","v":9}]
[3.073926073926059,{"$f":"9","v":9}]
[3.077922077922063,{"$f":"9","v":9}]
[3.081918081918067,{"$f":"9","v":9}]
[3.085914085914071,{"$f":"9","v":9}]
[3.0899100899100747,{"$f":"9","v":9}]
[3.0939060939060785,{"$f":"9","v":9}]
[3.0979020979020824,{"$f":"9","v":9}]
[3.1018981018980862,{"$f":"9","v":9}]
[3.10589410589409,{"$f":"9","v":9}]
[3.109890109890094,{"$f":"9","v":9}]
[3.113886113886098,{"$f":"9","v":9}]
[3.1178821178821017,{"$f":"9","v":9}]
[3.1218781218781055,{"$f":"9","v":9}]
[3.1258741258741094,{"$f":"9","v":9}]
[3.1298701298701133,{"$f":"9","v":9}]
[3.133866133866117,{"$f":"9","v":9}]
[3.137862137862121,{"$f":"9","v":9}]
[3.141858141858125,{"$f":"9","v":9}]
[3.1458541458541287,{"$f":"9","v":9}]
[3.1498501498501326,{"$f":"9","v":9}]
[3.1538461538461364,{"$f":"9","v":9}]
[3.1578421578421403,{"$f":"9","v":9}]
[3.161838161838144,{"$f":"9","v":9}]
[3.165834165834148,{"$f":"9","v":9}]
[3.169830169830152,{"$f":"9","v":9}]
[3.1738261738261557,{"$f":"9","v":9}]
[3.1778221778221596,{"$f":"9","v":9}]
[3.1818181818181634,{"$f":"9","v":9}]
[3.1858141858141673,{"$f":"9","v":9}]
[3.189810189810171,{"$f":"9","v":9}]
[3.193806193806175,{"$f":"9","v":9}]
[3.197802197802179,{"$f":"9","v":9}]
[3.2017982017981828,{"$f":"9","v":9}]
[3.2057942057941866,{"$f":"9","v":9}]
[3.2097902097901905,{"$f":"9","v":9}]
[3.2137862137861943,{"$f":"9","v":9}]
[3.217782217782198,{"$f":"9","v":9}]
[3.221778221778202,{"$f":"9","v":9}]
[3.225774225774206,{"$f":"9","v":9}]
[3.2297702297702098,{"$f":"9","v":9}]
[3.2337662337662136,{"$f":"9","v":9}]
[3.2377622377622175,{"$f":"9","v":9}]
[3.2417582417582214,{"$f":"9","v":9}]
[3.245754245754225,{"$f":"9","v":9}]
[3.249750249750229,{"$f":"9","v":9}]
[3.253746253746233,{"$f":"9","v":9}]
[3.257742257742237,{"$f":"9","v":9}]
[3.2617382617382407,{"$f":"9","v":9}]
[3.2657342657342445,{"$f":"9","v":9}]
[3.2697302697302484,{"$f":"9","v":9}]
[3.2737262737262522,{"$f":"9","v":9}]
[3.277722277722256,{"$f":"9","v":9}]
[3.28171828171826,{"$f":"9","v":9}]
[3.285714285714264,{"$f":"9","v":9}]
[3.2897102897102677,{"$f":"9","v":9}]
[3.2937062937062715,{"$f":"9","v":9}]
[3.2977022977022754,{"$f":"9","v":9}]
[3.3016983016982793,{"$f":"9","v":9}]
[{"$f":"A577+dx","v":3.305694305694283},{"$f":"9","v":9}]
[3.309690309690287,{"$f":"9","v":9}]
[3.313686313686291,{"$f":"9","v":9}]
[3.3176823176822947,{"$f":"9","v":9}]
[3.3216783216782986,{"$f":"9","v":9}]
[3.3256743256743024,{"$f":"9","v":9}]
[3.3296703296703063,{"$f":"9","v":9}]
[3.33366633366631,{"$f":"9","v":9}]
[3.337662337662314,{"$f":"9","v":9}]
[3.341658341658318,{"$f":"9","v":9}]
[3.3456543456543217,{"$f":"9","v":9}]
[3.3496503496503256,{"$f":"9","v":9}]
[3.3536463536463295,{"$f":"9","v":9}]
[3.3576423576423333,{"$f":"9","v":9}]
[3.361638361638337,{"$f":"9","v":9}]
[3.365634365634341,{"$f":"9","v":9}]
[3.369630369630345,{"$f":"9","v":9}]
[3.3736263736263488,{"$f":"9","v":9}]
[3.3776223776223526,{"$f":"9","v":9}]
[3.3816183816183565,{"$f":"9","v":9}]
[3.3856143856143603,{"$f":"9","v":9}]
[3.389610389610364,{"$f":"9","v":9}]
[3.393606393606368,{"$f":"9","v":9}]
[3.397602397602372,{"$f":"9","v":9}]
[3.401598401598376,{"$f":"9","v":9}]
[3.4055944055943796,{"$f":"9","v":9}]
[3.4095904095903835,{"$f":"9","v":9}]
[3.4135864135863874,{"$f":"9","v":9}]
[3.4175824175823912,{"$f":"9","v":9}]
[3.421578421578395,{"$f":"9","v":9}]
[3.425574425574399,{"$f":"9","v":9}]
[3.429570429570403,{"$f":"9","v":9}]
[3.4335664335664067,{"$f":"9","v":9}]
[3.4375624375624105,{"$f":"9","v":9}]
[3.4415584415584144,{"$f":"9","v":9}]
[3.4455544455544183,{"$f":"9","v":9}]
[3.449550449550422,{"$f":"9","v":9}]
[3.453546453546426,{"$f":"9","v":9}]
[3.45754245754243,{"$f":"9","v":9}]
[3.4615384615384337,{"$f":"9","v":9}]
[3.4655344655344376,{"$f":"9","v":9}]
[3.4695304695304414,{"$f":"9","v":9}]
[3.4735264735264453,{"$f":"9","v":9}]
[3.477522477522449,{"$f":"9","v":9}]
[3.481518481518453,{"$f":"9","v":9}]
[3.485514485514457,{"$f":"9","v":9}]
[3.4895104895104607,{"$f":"9","v":9}]
[3.4935064935064646,{"$f":"9","v":9}]
[3.4975024975024684,{"$f":"9","v":9}]
[3.5014985014984723,{"$f":"9","v":9}]
[3.505494505494476,{"$f":"9","v":9}]
[3.50949050949048,{"$f":"9","v":9}]
[3.513486513486484,{"$f":"9","v":9}]
[3.5174825174824877,{"$f":"9","v":9}]
[3.5214785214784916,{"$f":"9","v":9}]
[3.5254745254744955,{"$f":"9","v":9}]
[3.5294705294704993,{"$f":"9","v":9}]
[3.533466533466503,{"$f":"9","v":9}]
[3.537462537462507,{"$f":"9","v":9}]
[3.541458541458511,{"$f":"9","v":9}]
[3.5454545454545148,{"$f":"9","v":9}]
[3.5494505494505186,{"$f":"9","v":9}]
[3.5534465534465225,{"$f":"9","v":9}]
[3.5574425574425264,{"$f":"9","v":9}]
[{"$f":"A641+dx","v":3.56143856143853},{"$f":"9","v":9}]
[3.565434565434534,{"$f":"9","v":9}]
[3.569430569430538,{"$f":"9","v":9}]
[3.573426573426542,{"$f":"9","v":9}]
[3.5774225774225457,{"$f":"9","v":9}]
[3.5814185814185495,{"$f":"9","v":9}]
[3.5854145854145534,{"$f":"9","v":9}]
[3.5894105894105572,{"$f":"9","v":9}]
[3.593406593406561,{"$f":"9","v":9}]
[3.597402597402565,{"$f":"9","v":9}]
[3.601398601398569,{"$f":"9","v":9}]
[3.6053946053945727,{"$f":"9","v":9}]
[3.6093906093905765,{"$f":"9","v":9}]
[3.6133866133865804,{"$f":"9","v":9}]
[3.6173826173825843,{"$f":"9","v":9}]
[3.621378621378588,{"$f":"9","v":9}]
[3.625374625374592,{"$f":"9","v":9}]
[3.629370629370596,{"$f":"9","v":9}]
[3.6333666333665997,{"$f":"9","v":9}]
[3.6373626373626036,{"$f":"9","v":9}]
[3.6413586413586074,{"$f":"9","v":9}]
[3.6453546453546113,{"$f":"9","v":9}]
[3.649350649350615,{"$f":"9","v":9}]
[3.653346653346619,{"$f":"9","v":9}]
[3.657342657342623,{"$f":"9","v":9}]
[3.6613386613386267,{"$f":"9","v":9}]
[3.6653346653346306,{"$f":"9","v":9}]
[3.6693306693306345,{"$f":"9","v":9}]
[3.6733266733266383,{"$f":"9","v":9}]
[3.677322677322642,{"$f":"9","v":9}]
[3.681318681318646,{"$f":"9","v":9}]
[3.68531468531465,{"$f":"9","v":9}]
[3.6893106893106538,{"$f":"9","v":9}]
[3.6933066933066576,{"$f":"9","v":9}]
[3.6973026973026615,{"$f":"9","v":9}]
[3.7012987012986653,{"$f":"9","v":9}]
[3.705294705294669,{"$f":"9","v":9}]
[3.709290709290673,{"$f":"9","v":9}]
[3.713286713286677,{"$f":"9","v":9}]
[3.717282717282681,{"$f":"9","v":9}]
[3.7212787212786846,{"$f":"9","v":9}]
[3.7252747252746885,{"$f":"9","v":9}]
[3.7292707292706924,{"$f":"9","v":9}]
[3.7332667332666962,{"$f":"9","v":9}]
[3.7372627372627,{"$f":"9","v":9}]
[3.741258741258704,{"$f":"9","v":9}]
[3.745254745254708,{"$f":"9","v":9}]
[3.7492507492507117,{"$f":"9","v":9}]
[3.7532467532467155,{"$f":"9","v":9}]
[3.7572427572427194,{"$f":"9","v":9}]
[3.7612387612387232,{"$f":"9","v":9}]
[3.765234765234727,{"$f":"9","v":9}]
[3.769230769230731,{"$f":"9","v":9}]
[3.773226773226735,{"$f":"9","v":9}]
[3.7772227772227387,{"$f":"9","v":9}]
[3.7812187812187426,{"$f":"9","v":9}]
[3.7852147852147464,{"$f":"9","v":9}]
[3.7892107892107503,{"$f":"9","v":9}]
[3.793206793206754,{"$f":"9","v":9}]
[3.797202797202758,{"$f":"9","v":9}]
[3.801198801198762,{"$f":"9","v":9}]
[3.8051948051947657,{"$f":"9","v":9}]
[3.8091908091907696,{"$f":"9","v":9}]
[3.8131868131867734,{"$f":"9","v":9}]
[{"$f":"A705+dx","v":3.8171828171827773},{"$f":"9","v":9}]
[3.821178821178781,{"$f":"9","v":9}]
[3.825174825174785,{"$f":"9","v":9}]
[3.829170829170789,{"$f":"9","v":9}]
[3.8331668331667927,{"$f":"9","v":9}]
[3.8371628371627966,{"$f":"9","v":9}]
[3.8411588411588005,{"$f":"9","v":9}]
[3.8451548451548043,{"$f":"9","v":9}]
[3.849150849150808,{"$f":"9","v":9}]
[3.853146853146812,{"$f":"9","v":9}]
[3.857142857142816,{"$f":"9","v":9}]
[3.8611388611388198,{"$f":"9","v":9}]
[3.8651348651348236,{"$f":"9","v":9}]
[3.8691308691308275,{"$f":"9","v":9}]
[3.8731268731268313,{"$f":"9","v":9}]
[3.877122877122835,{"$f":"9","v":9}]
[3.881118881118839,{"$f":"9","v":9}]
[3.885114885114843,{"$f":"9","v":9}]
[3.889110889110847,{"$f":"9","v":9}]
[3.8931068931068507,{"$f":"9","v":9}]
[3.8971028971028545,{"$f":"9","v":9}]
[3.9010989010988584,{"$f":"9","v":9}]
[3.9050949050948622,{"$f":"9","v":9}]
[3.909090909090866,{"$f":"9","v":9}]
[3.91308691308687,{"$f":"9","v":9}]
[3.917082917082874,{"$f":"9","v":9}]
[3.9210789210788777,{"$f":"9","v":9}]
[3.9250749250748815,{"$f":"9","v":9}]
[3.9290709290708854,{"$f":"9","v":9}]
[3.9330669330668893,{"$f":"9","v":9}]
[3.937062937062893,{"$f":"9","v":9}]
[3.941058941058897,{"$f":"9","v":9}]
[3.945054945054901,{"$f":"9","v":9}]
[3.9490509490509047,{"$f":"9","v":9}]
[3.9530469530469086,{"$f":"9","v":9}]
[3.9570429570429124,{"$f":"9","v":9}]
[3.9610389610389163,{"$f":"9","v":9}]
[3.96503496503492,{"$f":"9","v":9}]
[3.969030969030924,{"$f":"9","v":9}]
[3.973026973026928,{"$f":"9","v":9}]
[3.9770229770229317,{"$f":"9","v":9}]
[3.9810189810189356,{"$f":"9","v":9}]
[3.9850149850149394,{"$f":"9","v":9}]
[3.9890109890109433,{"$f":"9","v":9}]
[3.993006993006947,{"$f":"9","v":9}]
[3.997002997002951,{"$f":"9","v":9}]
[4.000999000998955,{"$f":"9","v":9}]
[4.004995004994959,{"$f":"9","v":9}]
[4.0089910089909635,{"$f":"9","v":9}]
[4.012987012986968,{"$f":"9","v":9}]
[4.016983016982972,{"$f":"9","v":9}]
[4.020979020978976,{"$f":"9","v":9}]
[4.024975024974981,{"$f":"9","v":9}]
[4.028971028970985,{"$f":"9","v":9}]
[4.032967032966989,{"$f":"9","v":9}]
[4.036963036962994,{"$f":"9","v":9}]
[4.040959040958998,{"$f":"9","v":9}]
[4.044955044955002,{"$f":"9","v":9}]
[4.0489510489510065,{"$f":"9","v":9}]
[4.052947052947011,{"$f":"9","v":9}]
[4.056943056943015,{"$f":"9","v":9}]
[4.0609390609390195,{"$f":"9","v":9}]
[4.064935064935024,{"$f":"9","v":9}]
[4.068931068931028,{"$f":"9","v":9}]
[{"$f":"A769+dx","v":4.072927072927032},{"$f":"9","v":9}]
[4.076923076923037,{"$f":"9","v":9}]
[4.080919080919041,{"$f":"9","v":9}]
[4.084915084915045,{"$f":"9","v":9}]
[4.08891108891105,{"$f":"9","v":9}]
[4.092907092907054,{"$f":"9","v":9}]
[4.096903096903058,{"$f":"9","v":9}]
[4.1008991008990625,{"$f":"9","v":9}]
[4.104895104895067,{"$f":"9","v":9}]
[4.108891108891071,{"$f":"9","v":9}]
[4.112887112887075,{"$f":"9","v":9}]
[4.11688311688308,{"$f":"9","v":9}]
[4.120879120879084,{"$f":"9","v":9}]
[4.124875124875088,{"$f":"9","v":9}]
[4.128871128871093,{"$f":"9","v":9}]
[4.132867132867097,{"$f":"9","v":9}]
[4.136863136863101,{"$f":"9","v":9}]
[4.140859140859106,{"$f":"9","v":9}]
[4.14485514485511,{"$f":"9","v":9}]
[4.148851148851114,{"$f":"9","v":9}]
[4.1528471528471185,{"$f":"9","v":9}]
[4.156843156843123,{"$f":"9","v":9}]
[4.160839160839127,{"$f":"9","v":9}]
[4.164835164835131,{"$f":"9","v":9}]
[4.168831168831136,{"$f":"9","v":9}]
[4.17282717282714,{"$f":"9","v":9}]
[4.176823176823144,{"$f":"9","v":9}]
[4.180819180819149,{"$f":"9","v":9}]
[4.184815184815153,{"$f":"9","v":9}]
[4.188811188811157,{"$f":"9","v":9}]
[4.1928071928071615,{"$f":"9","v":9}]
[4.196803196803166,{"$f":"9","v":9}]
[4.20079920079917,{"$f":"9","v":9}]
[4.204795204795174,{"$f":"9","v":9}]
[4.208791208791179,{"$f":"9","v":9}]
[4.212787212787183,{"$f":"9","v":9}]
[4.216783216783187,{"$f":"9","v":9}]
[4.220779220779192,{"$f":"9","v":9}]
[4.224775224775196,{"$f":"9","v":9}]
[4.2287712287712,{"$f":"9","v":9}]
[4.232767232767205,{"$f":"9","v":9}]
[4.236763236763209,{"$f":"9","v":9}]
[4.240759240759213,{"$f":"9","v":9}]
[4.2447552447552175,{"$f":"9","v":9}]
[4.248751248751222,{"$f":"9","v":9}]
[4.252747252747226,{"$f":"9","v":9}]
[4.25674325674323,{"$f":"9","v":9}]
[4.260739260739235,{"$f":"9","v":9}]
[4.264735264735239,{"$f":"9","v":9}]
[4.268731268731243,{"$f":"9","v":9}]
[4.272727272727248,{"$f":"9","v":9}]
[4.276723276723252,{"$f":"9","v":9}]
[4.280719280719256,{"$f":"9","v":9}]
[4.2847152847152605,{"$f":"9","v":9}]
[4.288711288711265,{"$f":"9","v":9}]
[4.292707292707269,{"$f":"9","v":9}]
[4.2967032967032734,{"$f":"9","v":9}]
[4.300699300699278,{"$f":"9","v":9}]
[4.304695304695282,{"$f":"9","v":9}]
[4.308691308691286,{"$f":"9","v":9}]
[4.312687312687291,{"$f":"9","v":9}]
[4.316683316683295,{"$f":"9","v":9}]
[4.320679320679299,{"$f":"9","v":9}]
[4.324675324675304,{"$f":"9","v":9}]
[{"$f":"A833+dx","v":4.328671328671308},{"$f":"9","v":9}]
[4.332667332667312,{"$f":"9","v":9}]
[4.3366633366633165,{"$f":"9","v":9}]
[4.340659340659321,{"$f":"9","v":9}]
[4.344655344655325,{"$f":"9","v":9}]
[4.348651348651329,{"$f":"9","v":9}]
[4.352647352647334,{"$f":"9","v":9}]
[4.356643356643338,{"$f":"9","v":9}]
[4.360639360639342,{"$f":"9","v":9}]
[4.364635364635347,{"$f":"9","v":9}]
[4.368631368631351,{"$f":"9","v":9}]
[4.372627372627355,{"$f":"9","v":9}]
[4.3766233766233595,{"$f":"9","v":9}]
[4.380619380619364,{"$f":"9","v":9}]
[4.384615384615368,{"$f":"9","v":9}]
[4.3886113886113725,{"$f":"9","v":9}]
[4.392607392607377,{"$f":"9","v":9}]
[4.396603396603381,{"$f":"9","v":9}]
[4.400599400599385,{"$f":"9","v":9}]
[4.40459540459539,{"$f":"9","v":9}]
[4.408591408591394,{"$f":"9","v":9}]
[4.412587412587398,{"$f":"9","v":9}]
[4.416583416583403,{"$f":"9","v":9}]
[4.420579420579407,{"$f":"9","v":9}]
[4.424575424575411,{"$f":"9","v":9}]
[4.4285714285714155,{"$f":"9","v":9}]
[4.43256743256742,{"$f":"9","v":9}]
[4.436563436563424,{"$f":"9","v":9}]
[4.440559440559428,{"$f":"9","v":9}]
[4.444555444555433,{"$f":"9","v":9}]
[4.448551448551437,{"$f":"9","v":9}]
[4.452547452547441,{"$f":"9","v":9}]
[4.456543456543446,{"$f":"9","v":9}]
[4.46053946053945,{"$f":"9","v":9}]
[4.464535464535454,{"$f":"9","v":9}]
[4.4685314685314586,{"$f":"9","v":9}]
[4.472527472527463,{"$f":"9","v":9}]
[4.476523476523467,{"$f":"9","v":9}]
[4.4805194805194715,{"$f":"9","v":9}]
[4.484515484515476,{"$f":"9","v":9}]
[4.48851148851148,{"$f":"9","v":9}]
[4.492507492507484,{"$f":"9","v":9}]
[4.496503496503489,{"$f":"9","v":9}]
[4.500499500499493,{"$f":"9","v":9}]
[4.504495504495497,{"$f":"9","v":9}]
[4.508491508491502,{"$f":"9","v":9}]
[4.512487512487506,{"$f":"9","v":9}]
[4.51648351648351,{"$f":"9","v":9}]
[4.5204795204795145,{"$f":"9","v":9}]
[4.524475524475519,{"$f":"9","v":9}]
[4.528471528471523,{"$f":"9","v":9}]
[4.532467532467527,{"$f":"9","v":9}]
[4.536463536463532,{"$f":"9","v":9}]
[4.540459540459536,{"$f":"9","v":9}]
[4.54445554445554,{"$f":"9","v":9}]
[4.548451548451545,{"$f":"9","v":9}]
[4.552447552447549,{"$f":"9","v":9}]
[4.556443556443553,{"$f":"9","v":9}]
[4.560439560439558,{"$f":"9","v":9}]
[4.564435564435562,{"$f":"9","v":9}]
[4.568431568431566,{"$f":"9","v":9}]
[4.5724275724275705,{"$f":"9","v":9}]
[4.576423576423575,{"$f":"9","v":9}]
[4.580419580419579,{"$f":"9","v":9}]
[{"$f":"A897+dx","v":4.584415584415583},{"$f":"9","v":9}]
[4.588411588411588,{"$f":"9","v":9}]
[4.592407592407592,{"$f":"9","v":9}]
[4.596403596403596,{"$f":"9","v":9}]
[4.600399600399601,{"$f":"9","v":9}]
[4.604395604395605,{"$f":"9","v":9}]
[4.608391608391609,{"$f":"9","v":9}]
[4.6123876123876135,{"$f":"9","v":9}]
[4.616383616383618,{"$f":"9","v":9}]
[4.620379620379622,{"$f":"9","v":9}]
[4.624375624375626,{"$f":"9","v":9}]
[4.628371628371631,{"$f":"9","v":9}]
[4.632367632367635,{"$f":"9","v":9}]
[4.636363636363639,{"$f":"9","v":9}]
[4.640359640359644,{"$f":"9","v":9}]
[4.644355644355648,{"$f":"9","v":9}]
[4.648351648351652,{"$f":"9","v":9}]
[4.652347652347657,{"$f":"9","v":9}]
[4.656343656343661,{"$f":"9","v":9}]
[4.660339660339665,{"$f":"9","v":9}]
[4.6643356643356695,{"$f":"9","v":9}]
[4.668331668331674,{"$f":"9","v":9}]
[4.672327672327678,{"$f":"9","v":9}]
[4.676323676323682,{"$f":"9","v":9}]
[4.680319680319687,{"$f":"9","v":9}]
[4.684315684315691,{"$f":"9","v":9}]
[4.688311688311695,{"$f":"9","v":9}]
[4.6923076923077,{"$f":"9","v":9}]
[4.696303696303704,{"$f":"9","v":9}]
[4.700299700299708,{"$f":"9","v":9}]
[4.7042957042957125,{"$f":"9","v":9}]
[4.708291708291717,{"$f":"9","v":9}]
[4.712287712287721,{"$f":"9","v":9}]
[4.7162837162837254,{"$f":"9","v":9}]
[4.72027972027973,{"$f":"9","v":9}]
[4.724275724275734,{"$f":"9","v":9}]
[4.728271728271738,{"$f":"9","v":9}]
[4.732267732267743,{"$f":"9","v":9}]
[4.736263736263747,{"$f":"9","v":9}]
[4.740259740259751,{"$f":"9","v":9}]
[4.744255744255756,{"$f":"9","v":9}]
[4.74825174825176,{"$f":"9","v":9}]
[4.752247752247764,{"$f":"9","v":9}]
[4.7562437562437685,{"$f":"9","v":9}]
[4.760239760239773,{"$f":"9","v":9}]
[4.764235764235777,{"$f":"9","v":9}]
[4.768231768231781,{"$f":"9","v":9}]
[4.772227772227786,{"$f":"9","v":9}]
[4.77622377622379,{"$f":"9","v":9}]
[4.780219780219794,{"$f":"9","v":9}]
[4.784215784215799,{"$f":"9","v":9}]
[4.788211788211803,{"$f":"9","v":9}]
[4.792207792207807,{"$f":"9","v":9}]
[4.7962037962038115,{"$f":"9","v":9}]
[4.800199800199816,{"$f":"9","v":9}]
[4.80419580419582,{"$f":"9","v":9}]
[4.8081918081918245,{"$f":"9","v":9}]
[4.812187812187829,{"$f":"9","v":9}]
[4.816183816183833,{"$f":"9","v":9}]
[4.820179820179837,{"$f":"9","v":9}]
[4.824175824175842,{"$f":"9","v":9}]
[4.828171828171846,{"$f":"9","v":9}]
[4.83216783216785,{"$f":"9","v":9}]
[4.836163836163855,{"$f":"9","v":9}]
[{"$f":"A961+dx","v":4.840159840159859},{"$f":"9","v":9}]
[4.844155844155863,{"$f":"9","v":9}]
[4.8481518481518675,{"$f":"9","v":9}]
[4.852147852147872,{"$f":"9","v":9}]
[4.856143856143876,{"$f":"9","v":9}]
[4.86013986013988,{"$f":"9","v":9}]
[4.864135864135885,{"$f":"9","v":9}]
[4.868131868131889,{"$f":"9","v":9}]
[4.872127872127893,{"$f":"9","v":9}]
[4.876123876123898,{"$f":"9","v":9}]
[4.880119880119902,{"$f":"9","v":9}]
[4.884115884115906,{"$f":"9","v":9}]
[4.8881118881119106,{"$f":"9","v":9}]
[4.892107892107915,{"$f":"9","v":9}]
[4.896103896103919,{"$f":"9","v":9}]
[4.9000999000999235,{"$f":"9","v":9}]
[4.904095904095928,{"$f":"9","v":9}]
[4.908091908091932,{"$f":"9","v":9}]
[4.912087912087936,{"$f":"9","v":9}]
[4.916083916083941,{"$f":"9","v":9}]
[4.920079920079945,{"$f":"9","v":9}]
[4.924075924075949,{"$f":"9","v":9}]
[4.928071928071954,{"$f":"9","v":9}]
[4.932067932067958,{"$f":"9","v":9}]
[4.936063936063962,{"$f":"9","v":9}]
[4.9400599400599665,{"$f":"9","v":9}]
[4.944055944055971,{"$f":"9","v":9}]
[4.948051948051975,{"$f":"9","v":9}]
[4.952047952047979,{"$f":"9","v":9}]
[4.956043956043984,{"$f":"9","v":9}]
[4.960039960039988,{"$f":"9","v":9}]
[4.964035964035992,{"$f":"9","v":9}]
[4.968031968031997,{"$f":"9","v":9}]
[4.972027972028001,{"$f":"9","v":9}]
[4.976023976024005,{"$f":"9","v":9}]
[4.98001998002001,{"$f":"9","v":9}]
[4.984015984016014,{"$f":"9","v":9}]
[4.988011988012018,{"$f":"9","v":9}]
[4.9920079920080225,{"$f":"9","v":9}]
[4.996003996004027,{"$f":"9","v":9}]
[5.000000000000031,{"$f":"9","v":9}]
[null,{"$f":"9","v":9}]

{"sheet":"Defining Function","index":3,"n_rows":12,"n_cols":1,"rows_kept":12}
["                                                     Defining a Function in Excel"]
[]
["Computers have very specific rules you must follow when defining a function.  If you don't, the program will either not work at all or will work incorrectly."]
[]
["1. The Variable used should be the one named in the instruction, usually x, though sometimes y, t, Q (for an angle theta), "]
[" or even x and y (for a function of two variables). "]
[]
["2.  Order of Operations:  There five arithmetic operations, addition (+), subtraction (-), multiplication (*), division (/), and  exponentiation or power (^).  When computers see any of these operation symbols, they perform the indicated steps in a very particular order.  First, the power is done.  Second, products and quotients of adjacent terms is done.  Third, and last, sums and differences of adjacent terms are done.  So, in 10*x^3 + 5*x – 7, say with x = 2, the first pass only calculates 2^3 and ignores the multiplications and the sums and differences to calculate 2^3 = 8.  The second pass looks at 10*8 + 5*2 – 7 and only does the multiplications, so it produces 80 + 10 -  7.  The third pass looks at the +’s and –‘s to produce 80 + 10 – 7 = 83.  "]
[]
["3.    Parentheses  If you need an operation involving more than two adjacent terms, as in Ö4^3 + 6^2, the computer would take the square root of  4 to produce 2^3 + 6^2;  it would then cube the 2 and square the 6 to produce 8 + 36; and finally it would add the 8 and the 36 to get 44.  If you actually wanted the square root of the entire expression, you would need to use parentheses, as in Ö(4^3 + 6^2) to tell the computer to do all the operations inside the parentheses before taking the square root.  Therefore, it would calculate (4^3 + 6^2) = 64 + 36 = 100 and then take the square root of Ö100  =  10."]
[]
["4.  Built-In Functions  Computer programs have built-in functions for most common algebraic functions.  In Excel, the square root function is denoted by SQRT(…), so SQRT(100) = 10.  Alternatively, you could enter it as 100^.5 or 100^(1/2); notice that parentheses are needed to have the ½ done first.  The common trig functions are SIN (…), COS (…), and TAN (…), where the arguments are automatically interpreted as being in radians, not degrees.  The logarithm to the base 10 is represented by LOG (…) and the logarithm with the base e, known as the natural logarithm, is LN (…). The corresponding exponential function with base e is EXP (x).  If x is the variable, then each of these would be SQRT (x), SIN (x), COS (x), TAN (x), LOG (x) (for log with base 10 ), LN (x) (for log with base e ), and EXP (x)."]