{"text_format":"3","workbook":"xlsx","n_sheets":3,"sheets":["Sheet1","Sheet2","Sheet3"],"not_rendered":{"charts":1,"images":3,"macros":1,"defined_names":8,"comments":1},"read":"whole","date_system":"1900"}

{"sheet":"Sheet1","index":0,"n_rows":36,"n_cols":15,"rows_kept":36,"merged":[[29,2,29,3]]}
[null," Going  Around On Circles"]
[null,"         (The Epicycloid)"]
[]
[null,"This graphing utility lets you investigate"]
[null,"   the path traced out by a fixed point"]
[null,"       on a small circle as it rolls around "]
[null,"  the outside rim of a larger, fixed circle."]
[]
[]
["What is the radius R of the larger fixed circle?"]
[null,null,"(R is between 3 and 12)",null,{"$f":"F11","v":12},{"v":12,"d":"12.00"}]
[]
[]
["What is the radius r of the smaller rolling circle?"]
[null,null,"(r is between 1 and 6)",null,{"$f":"F15","v":2},{"v":2,"d":"2.00"}]
[]
[]
[]
[]
[]
[]
["Click each item below for suggestions and investigations",{"$nulls":7},"     Now trace along the epicycloid: q = ",{"$nulls":4},{"$f":"dQ* L23","v":{"v":3.676323676323676,"d":"3.68"}},"radians"]
[null,"   Item 1",{"$nulls":9},23]
[null,"   Item 2",{"$nulls":9},"then:","x =",{"$f":"LOOKUP(N22,Sheet2!C3:C1004,Sheet2!H3:H1004)","v":{"v":-13.694627984376929,"d":"-13.69"}}]
[null,"   Item 3",{"$nulls":10},"y =",{"$f":"LOOKUP(N22,Sheet2!C3:C1004,Sheet2!I3:I1004)","v":{"v":-8.266334886946854,"d":"-8.27"}}]
[]
[]
[]
["To access/download all the DIGMath Apps for Calculus"]
["     Click this link:",null,"DIGMath for Calculus"]
[]
["Created by:  Sheldon P. Gordon   "]
["                      Farmingdale State College    "]
["Development of this module was supported by the "]
["NSF's Division of Undergraduate Education  "]
["under grants DUE-0310123 and DUE-0442160."]

{"sheet":"Sheet2","index":1,"n_rows":1004,"n_cols":9,"rows_kept":1004}
[null,null,"Q","r = f(Q)","r = g(Q)","x1","y1","x2","y2"]
[]
[null,null,{"$f":"Sheet2!A6","v":{"v":0,"d":"0.000"}},{"$f":"r0","v":12},{"$f":"SIN(2*Q)","v":0},{"$f":"D3*COS($C3)","v":12},{"$f":"D3*SIN($C3)","v":0},{"$f":"(r0+r00)*COS($C3)-r00*COS((r0+r00)*$C3/r00)","v":12},{"$f":"(r0+r00)*SIN($C3)-r00*SIN((r0+r00)*$C3/r00)","v":0}]
[null,null,{"$f":"C3+Sheet2!B$12","v":{"v":0.15984015984015984,"d":"0.160"}},{"$f":"D3","v":12},0.31426309266573743,{"$f":"D4*COS(C4)","v":11.847032834542262},{"$f":"D4*SIN(C4)","v":1.9099248721553275},12.948159749481718,0.42902088018180384]
[null,null,{"$f":"C4+Sheet2!B$12","v":{"v":0.3196803196803197,"d":"0.320"}},{"$f":"D4","v":12},0.5966824908793644,11.392031163787077,3.771157111988849,14.527912919744978,2.8282789334134257]
[0,"Qmin",{"$f":"C5+Sheet2!B$12","v":{"v":0.4795204795204795,"d":"0.480"}},12,0.8186411624982322,10.64659504037677,5.53624548283625,14.374958698276185,6.885746990734899]
[160,"Qmax",{"$f":"C6+Sheet2!B$12","v":{"v":0.6393606393606394,"d":"0.639"}},12,0.9576484483104256,9.629729006115987,7.160189890552373,11.703995515374295,10.297711900896308]
[null,null,{"$f":"C7+Sheet2!B$12","v":{"v":0.7992007992007992,"d":"0.799"}},12,0.9996189986858854,8.367357580156584,8.601588639652338,8.217872779319006,11.306377879983744]
[null,null,{"$f":"C8+Sheet2!B$12","v":{"v":0.9590409590409591,"d":"0.959"}},12,0.9403000158467808,6.8916643256292005,9.823693949978786,6.22242810305506,10.627050325047538]
[null,null,{"$f":"C9+Sheet2!B$12","v":{"v":1.118881118881119,"d":"1.119"}},12,0.7857021819534492,5.240271344905533,10.79534882399647,6.070025758668159,10.595049451076644]
[null,null,{"$f":"C10+Sheet2!B$12","v":{"v":1.2787212787212787,"d":"1.279"}},12,0.5514906078647522,3.4552801218719313,11.491781379725108,5.810906693981179,12.494662684981055]
["delta Q = ",{"$f":"(Sheet2!A7-Sheet2!A6)/1001","v":0.15984015984015984},{"$f":"C11+Sheet2!B$12","v":{"v":1.4385614385614385,"d":"1.439"}},12,0.2613975166017401,1.5821981644874603,11.89523639816765,3.4439144783866014,15.080415761769073]
[null,null,{"$f":"C12+Sheet2!B$12","v":{"v":1.5984015984015982,"d":"1.598"}},12,-0.0551824986541568,-0.3312211876326914,11.995427984230625,-0.7704978204496422,15.95744152981715]
[null,null,{"$f":"C13+Sheet2!B$12","v":{"v":1.758241758241758,"d":"1.758"}},12,-0.36617097399570553,-2.2361962120508903,11.789801800760234,-4.5423534119396685,14.266374880611966]
[null,null,{"$f":"C14+Sheet2!B$12","v":{"v":1.9180819180819177,"d":"1.918"}},12,-0.6400560258514006,-4.084160470474963,11.283600190161371,-6.069421392257954,11.648250482663217]
[null,null,{"$f":"C15+Sheet2!B$12","v":{"v":2.0779220779220777,"d":"2.078"}},12,-0.8490853915157718,-5.828000987158521,10.48972852335461,-6.005257943861732,10.402412501088122]
[null,null,{"$f":"C16+Sheet2!B$12","v":{"v":2.2377622377622375,"d":"2.238"}},12,-0.972078514292603,-7.423259371960322,9.428426183441395,-6.662372333202487,10.912603017279492]
[null,null,{"$f":"C17+Sheet2!B$12","v":{"v":2.3976023976023972,"d":"2.398"}},12,-0.9965727298957572,-8.829265265997728,8.12675057219342,-9.34979100014941,11.240630456000172]
[null,null,{"$f":"C18+Sheet2!B$12","v":{"v":2.557442557442557,"d":"2.557"}},12,-0.9200860850328682,-10.010173213232779,6.617887294377031,-12.84603320407247,9.344737012644284]
[null,null,{"$f":"C19+Sheet2!B$12","v":{"v":2.7172827172827168,"d":"2.717"}},12,-0.7503688291144562,-10.93587652343963,4.940304106437371,-14.729208622030928,5.422518599359623]
[null,null,{"$f":"C20+Sheet2!B$12","v":{"v":2.8771228771228765,"d":"2.877"}},12,-0.5046180959015159,-11.58277482804875,3.136770199220886,-14.066894416604434,1.7377265824440846]
[null,null,{"$f":"C21+Sheet2!B$12","v":{"v":3.0369630369630363,"d":"3.037"}},12,-0.20773534993903792,-11.934375760394229,1.2532658176598805,-12.436304630148696,0.12482031091656709]
[null,null,{"$f":"C22+Sheet2!B$12","v":{"v":3.196803196803196,"d":"3.197"}},12,0.1101968325138936,-11.98171542081053,-0.6621899838498763,-12.126180138275888,-0.01870568871898992]
[null,null,{"$f":"C23+Sheet2!B$12","v":{"v":3.356643356643356,"d":"3.357"}},12,0.41696297496385476,-11.723586907019726,-2.5607635645556295,-13.546728646645784,-0.9918385413705351]
[null,null,{"$f":"C24+Sheet2!B$12","v":{"v":3.5164835164835155,"d":"3.516"}},12,0.6814790349750404,-11.166571083534878,-4.394051687948462,-14.765925449205337,-4.1372247901504124]
[null,null,{"$f":"C25+Sheet2!B$12","v":{"v":3.6763236763236753,"d":"3.676"}},12,0.8769420923533457,-10.324868805628249,-6.115315539411249,-13.694627984376929,-8.266334886946854]
[null,null,{"$f":"C26+Sheet2!B$12","v":{"v":3.836163836163835,"d":"3.836"}},12,0.9835462391792862,-9.21993887523496,-7.680672310216804,-10.45849174268536,-10.938443138518432]
[null,null,{"$f":"C27+Sheet2!B$12","v":{"v":3.996003996003995,"d":"3.996"}},12,0.9904894756059885,-7.879950958935285,-9.05021396900509,-7.283971105198064,-11.154027642374173]
[null,null,{"$f":"C28+Sheet2!B$12","v":{"v":4.155844155844155,"d":"4.156"}},12,0.8970682564051374,-6.339067415613226,-10.189024698189256,-6.026136204763897,-10.429585319022456]
[null,null,{"$f":"C29+Sheet2!B$12","v":{"v":4.315684315684314,"d":"4.316"}},12,0.7127487798959216,-4.636572343255855,-11.06807105622994,-6.122597745294253,-11.044259426231516]
[null,null,{"$f":"C30+Sheet2!B$12","v":{"v":4.475524475524474,"d":"4.476"}},12,0.45620779568245495,-2.815870049433886,-11.664942171511232,-5.277573082337629,-13.434810139698184]
[null,null,{"$f":"C31+Sheet2!B$12","v":{"v":4.635364635364634,"d":"4.635"}},12,0.15344012436693416,-0.9233784789853767,-11.96442109692511,-2.1041234375129862,-15.674761090960127]
[null,null,{"$f":"C32+Sheet2!B$12","v":{"v":4.795204795204794,"d":"4.795"}},12,-0.1648753492552085,0.9926541895589778,-11.958872758749088,2.2536604111792844,-15.625260530910865]
[null,null,{"$f":"C33+Sheet2!B$12","v":{"v":4.955044955044953,"d":"4.955"}},12,-0.4664843105095364,2.8833796084939016,-11.648438609243797,5.347633402730736,-13.33494919000316]
[null,null,{"$f":"C34+Sheet2!B$12","v":{"v":5.114885114885113,"d":"5.115"}},12,-0.7208252845351859,4.700594626487166,-11.041033020394423,6.12097597776923,-10.985342304714568]
[null,null,{"$f":"C35+Sheet2!B$12","v":{"v":5.274725274725273,"d":"5.275"}},12,-0.9021263736688843,6.397970205150494,-10.152141510735877,6.0369055698147225,-10.443254957632707]
[null,null,{"$f":"C36+Sheet2!B$12","v":{"v":5.434565434565433,"d":"5.435"}},12,-0.9920166758831733,7.932232555986333,-9.00442594937348,7.370667959981453,-11.177501617659242]
[null,null,{"$f":"C37+Sheet2!B$12","v":{"v":5.594405594405592,"d":"5.594"}},12,-0.981387774107378,9.264266385182037,-7.627146802336125,10.59060500421742,-10.886453675649921]
[null,null,{"$f":"C38+Sheet2!B$12","v":{"v":5.754245754245752,"d":"5.754"}},12,-0.8713166751819736,10.360112119546622,-6.055417150818199,13.780261269362416,-8.128692989320207]
[null,null,{"$f":"C39+Sheet2!B$12","v":{"v":5.914085914085912,"d":"5.914"}},12,-0.672956678759353,11.191831689785973,-4.329307499762803,14.75387771770158,-3.992052421872166]
[null,null,{"$f":"C40+Sheet2!B$12","v":{"v":6.073926073926072,"d":"6.074"}},12,-0.40640723420222596,11.738220798380883,-2.4928241992684654,13.483024120301161,-0.9195165091737691]
[null,null,{"$f":"C41+Sheet2!B$12","v":{"v":6.233766233766231,"d":"6.234"}},12,-0.09867730077735891,11.985349513134894,-0.5927875234830356,12.101389102711632,-0.013435370524356394]
[null,null,{"$f":"C42+Sheet2!B$12","v":{"v":6.393606393606391,"d":"6.394"}},12,0.21905141993321542,11.926917404214818,1.3223619901667127,12.483025727295026,0.14625899820721888]
[null,null,{"$f":"C43+Sheet2!B$12","v":{"v":6.553446553446551,"d":"6.553"}},12,0.5145840678358589,11.564414170632858,3.2037985095923185,14.12290929374636,1.839944618507387]
[null,null,{"$f":"C44+Sheet2!B$12","v":{"v":6.713286713286711,"d":"6.713"}},12,0.7579748695958558,10.907081661074063,5.003555699566247,14.707822734414405,5.57646274233652]
[null,null,{"$f":"C45+Sheet2!B$12","v":{"v":6.87312687312687,"d":"6.873"}},12,0.9245614881313802,9.97167825733017,6.675749600778083,12.73434908696369,9.458226526982141]
[null,null,{"$f":"C46+Sheet2!B$12","v":{"v":7.03296703296703,"d":"7.033"}},12,0.997464011342484,8.782051627272887,8.177748419700476,9.224181903965498,11.260138321440373]
[null,null,{"$f":"C47+Sheet2!B$12","v":{"v":7.19280719280719,"d":"7.193"}},12,0.9692953621968937,7.368530739827694,9.471259406024856,6.6036992493350875,10.881665540562384]
[null,null,{"$f":"C48+Sheet2!B$12","v":{"v":7.35264735264735,"d":"7.353"}},12,0.8429098175010653,5.7671526422392265,10.523305108240145,6.009316195192141,10.41091012347416]
[null,null,{"$f":"C49+Sheet2!B$12","v":{"v":7.5124875124875095,"d":"7.512"}},12,0.6311137893421417,4.018743712576519,11.307064118179692,6.053470157111375,11.729743695445952]
[null,null,{"$f":"C50+Sheet2!B$12","v":{"v":7.672327672327669,"d":"7.672"}},12,0.3553681751791732,2.167878810511489,11.802554870151432,4.440326182255112,14.359194572633918]
[null,null,{"$f":"C51+Sheet2!B$12","v":{"v":7.832167832167829,"d":"7.832"}},12,0.043613765034405914,0.2617448623298193,11.997145061515425,0.6095768430508146,15.973398251705873]
[null,null,{"$f":"C52+Sheet2!B$12","v":{"v":7.992007992007989,"d":"7.992"}},12,-0.2725599467721666,-1.6510621474624703,11.885873707271864,-3.5716848068440106,15.003738168508022]
[null,null,{"$f":"C53+Sheet2!B$12","v":{"v":8.15184815184815,"d":"8.152"}},12,-0.5611156663058522,-3.5217761078061196,11.471577618029961,-5.850043564384122,12.399709634533403]
[null,null,{"$f":"C54+Sheet2!B$12","v":{"v":8.31168831168831,"d":"8.312"}},12,-0.7928145794020681,-5.302704050051777,10.764819076861649,-6.0618606734498615,10.56284236269254]
[null,null,{"$f":"C55+Sheet2!B$12","v":{"v":8.471528471528469,"d":"8.472"}},12,-0.9441790663029983,-6.948442057664488,9.783616558884516,-6.25636407631294,10.654654414445648]
[null,null,{"$f":"C56+Sheet2!B$12","v":{"v":8.631368631368629,"d":"8.631"}},12,-0.9998716451844555,-8.417032817625818,8.552985358751059,-8.328616219640235,11.311208445130177]
[null,null,{"$f":"C57+Sheet2!B$12","v":{"v":8.791208791208788,"d":"8.791"}},12,-0.9542490906517302,-9.671035302307653,7.10429983752932,-11.830595686088966,10.211888612637063]
[null,null,{"$f":"C58+Sheet2!B$12","v":{"v":8.951048951048948,"d":"8.951"}},12,-0.8119342512688762,-10.678479310783533,5.474493548189459,-14.427849186006284,6.734161157285459]
[null,null,{"$f":"C59+Sheet2!B$12","v":{"v":9.110889110889108,"d":"9.111"}},12,-0.5873476249151305,-11.413680533997805,3.7051176321190633,-14.4884662332681,2.702380901615525]
[null,null,{"$f":"C60+Sheet2!B$12","v":{"v":9.270729270729268,"d":"9.271"}},12,-0.30324615656603865,-11.857895364091108,1.84128149240321,-12.888629193221183,0.38581258204072877]
[null,null,{"$f":"C61+Sheet2!B$12","v":{"v":9.430569430569427,"d":"9.431"}},12,0.011582680598635932,-11.999798753827832,-0.06949724909642865,-12.001408502716139,-2.1754444275351448E-5]
[null,null,{"$f":"C62+Sheet2!B$12","v":{"v":9.590409590409587,"d":"9.590"}},12,0.32523786628934737,-11.835772943325168,-1.9785041910625019,-13.008661931306513,-0.47511108864928464]
[null,null,{"$f":"C63+Sheet2!B$12","v":{"v":9.750249750249747,"d":"9.750"}},12,0.605937304136674,-11.369999693132195,-3.8370701033697276,-14.564880727824125,-2.956611668254326]
[null,null,{"$f":"C64+Sheet2!B$12","v":{"v":9.910089910089907,"d":"9.910"}},12,0.8252382423816723,-10.61435367222026,-5.597811726114437,-14.318440721145489,-7.03641483809671]
[null,null,{"$f":"C65+Sheet2!B$12","v":{"v":10.069930069930066,"d":"10.070"}},12,0.96091932499014,-9.588099718907412,-7.215839783440845,-11.576247306663271,-10.380060188689733]
[null,null,{"$f":"C66+Sheet2!B$12","v":{"v":10.229770229770226,"d":"10.230"}},12,{"$f":"SIN(2*Q)","v":0.9992322403138137},-8.317401692906664,-8.64990341442223,{"$f":"(r0+r00)*COS($C67)-r00*COS((r0+r00)*$C67/r00)","v":-8.109339226843508},{"$f":"(r0+r00)*SIN($C67)-r00*SIN((r0+r00)*$C67/r00)","v":-11.299121788778073}]
[null,null,{"$f":"C67+Sheet2!B$12","v":{"v":10.389610389610386,"d":"10.390"}},12,0.9362948119291506,{"$f":"D68*COS(C68)","v":-6.834655440083028},{"$f":"D68*SIN(C68)","v":-9.863441844272387},-6.1912097002540705,-10.600432204820354]
[null,null,{"$f":"C68+Sheet2!B$12","v":{"v":10.549450549450546,"d":"10.549"}},{"$f":"D68","v":12},0.7784843723510269,-5.177662875667758,-10.825516484026611,-6.078057472895175,-10.630119902424019]
[null,null,{"$f":"C69+Sheet2!B$12","v":{"v":10.709290709290705,"d":"10.709"}},12,0.5417915597948695,-3.388668242288044,-11.511599695251242,-5.768709974756854,-12.590665411572898]
[null,null,{"$f":"C70+Sheet2!B$12","v":{"v":10.869130869130865,"d":"10.869"}},12,0.25020001655896684,-1.5132811129584205,-11.90420011059808,-3.3134562320176215,-15.154651594027392]
[null,null,{"$f":"C71+Sheet2!B$12","v":{"v":11.028971028971025,"d":"11.029"}},12,-0.066743828824904,0.40068640343619977,-11.993308567951605,0.9307746933106984,-15.937790003167459]
[null,null,{"$f":"C72+Sheet2!B$12","v":{"v":11.188811188811185,"d":"11.189"}},12,-0.37692464621959626,2.3044386092689715,-11.776653289288536,4.641115904823705,-14.17225312232905]
[null,null,{"$f":"C73+Sheet2!B$12","v":{"v":11.348651348651345,"d":"11.349"}},12,-0.6489123905306059,4.149440241429868,-11.259757798585298,6.083069026668456,-11.5688068739842]
[null,null,{"$f":"C74+Sheet2!B$12","v":{"v":11.508491508491504,"d":"11.508"}},12,-0.8551470496957757,5.888653854929466,-10.455800102183684,6.002276533831656,-10.396520832760524]
[null,null,{"$f":"C75+Sheet2!B$12","v":{"v":11.668331668331664,"d":"11.668"}},12,-0.9747312494285363,7.477739020337339,-9.385276721744777,6.724038388566648,-10.943314888485219]
[null,null,{"$f":"C76+Sheet2!B$12","v":{"v":11.828171828171824,"d":"11.828"}},12,-0.9955477452720576,8.876182762082925,-8.075480145112238,9.476617395660952,-11.217913341519894]
[null,null,{"$f":"C77+Sheet2!B$12","v":{"v":11.988011988011984,"d":"11.988"}},12,-0.9154872404343367,10.0483324176284,-6.559803017228353,12.955407073745581,-9.22832004569744]
[null,null,{"$f":"C78+Sheet2!B$12","v":{"v":12.147852147852143,"d":"12.148"}},12,-0.7426621169075084,10.964304585256922,-4.876886810426711,14.746928167222439,-5.268941776794114]
[null,null,{"$f":"C79+Sheet2!B$12","v":{"v":12.307692307692303,"d":"12.308"}},12,-0.49458442289473276,11.600746987281774,-3.069636678350204,14.009516472424327,-1.638543938873946]
[null,null,{"$f":"C80+Sheet2!B$12","v":{"v":12.467532467532463,"d":"12.468"}},12,-0.19639140954923198,11.941433825333808,-1.1841276093283069,12.391560318463979,-0.10553019146706832]
[null,null,{"$f":"C81+Sheet2!B$12","v":{"v":12.627372627372623,"d":"12.627"}},12,0.12170157991391252,11.977679449425434,0.7315702336834567,12.153546489545603,0.025188887566035767]
[null,null,{"$f":"C82+Sheet2!B$12","v":{"v":12.787212787212782,"d":"12.787"}},12,0.4274627747261344,11.708559794493722,2.628617039198585,13.61018933988599,1.0673399126444285]
[null,null,{"$f":"C83+Sheet2!B$12","v":{"v":12.947052947052942,"d":"12.947"}},12,0.6899099619259238,11.140935939002654,4.45864849512036,14.774679755589126,4.28385070510309]
[null,null,{"$f":"C84+Sheet2!B$12","v":{"v":13.106893106893102,"d":"13.107"}},12,0.8824498563517456,10.289279184989006,6.175008814030306,13.605880975736378,8.401877609259632]
[null,null,{"$f":"C85+Sheet2!B$12","v":{"v":13.266733266733262,"d":"13.267"}},12,0.9855727487471619,9.175302119053512,7.733940200447124,10.326507564539318,10.986882180734678]
[null,null,{"$f":"C86+Sheet2!B$12","v":{"v":13.426573426573421,"d":"13.427"}},12,0.9888293882994142,7.82740506022302,9.09569843515027,7.2001034401538515,11.12922103311858]
[null,null,{"$f":"C87+Sheet2!B$12","v":{"v":13.586413586413581,"d":"13.586"}},12,0.8918897857820779,6.279952007233883,10.22556613527286,6.01736917536201,10.417912247729943]
[null,null,{"$f":"C88+Sheet2!B$12","v":{"v":13.74625374625374,"d":"13.746"}},12,0.7045766507493877,4.572394544618545,11.094737857576561,6.122865979716209,11.105813911850788]
[null,null,{"$f":"C89+Sheet2!B$12","v":{"v":13.9060939060939,"d":"13.906"}},12,0.4458700746535468,2.7482660431957533,11.681054479618574,5.204128496940735,13.534501033662012]
[null,null,{"$f":"C90+Sheet2!B$12","v":{"v":14.06593406593406,"d":"14.066"}},12,0.14198431349282475,0.8540717973477266,11.969568136109807,1.9528629210777613,15.720973139977218]
[null,null,{"$f":"C91+Sheet2!B$12","v":{"v":14.22577422577422,"d":"14.226"}},12,-0.1762884539736845,-1.0618966054899128,11.952923307678711,-2.401358212056671,15.572542383597574]
[null,null,{"$f":"C92+Sheet2!B$12","v":{"v":14.38561438561438,"d":"14.386"}},12,-0.47669824040683434,-2.950792456035721,11.631544346362725,-5.414321114379204,13.235051290712514]
[null,null,{"$f":"C93+Sheet2!B$12","v":{"v":14.54545454545454,"d":"14.545"}},12,-0.728805081099169,-4.76445924693922,11.013624656953557,-6.118123578607816,10.929108586688875]
[null,null,{"$f":"C94+Sheet2!B$12","v":{"v":14.7052947052947,"d":"14.705"}},12,-0.9070634589611823,-6.456658400185518,10.114917810012784,-6.049770195142151,10.458829432266368]
[null,null,{"$f":"C95+Sheet2!B$12","v":{"v":14.86513486513486,"d":"14.865"}},12,-0.9934107842372126,-7.984248097797604,8.958335912032734,-7.4601497233865475,11.199518392677572]
[null,null,{"$f":"C96+Sheet2!B$12","v":{"v":15.024975024975019,"d":"15.025"}},12,-0.9790976431175653,-9.308283162104448,7.5733654721057,-10.72271349759803,10.830898702824674]
[null,null,{"$f":"C97+Sheet2!B$12","v":{"v":15.184815184815179,"d":"15.185"}},12,-0.8655743595604176,-10.39500794464711,5.995315657304748,-13.862706298745346,7.989065610330395]
[null,null,{"$f":"C98+Sheet2!B$12","v":{"v":15.344655344655338,"d":"15.345"}},12,-0.6643440366636543,-11.216716910489216,4.264418102150078,-14.738603799431875,3.8484505683583072]
[null,null,{"$f":"C99+Sheet2!B$12","v":{"v":15.504495504495498,"d":"15.504"}},12,-0.3957969686309913,-11.752460977741418,2.424801222093314,-13.419207928896666,0.8503650692497422]
[null,null,{"$f":"C100+Sheet2!B$12","v":{"v":15.664335664335658,"d":"15.664"}},12,-0.08714453019913058,-11.988581604507324,0.523365180412871,-12.079220946683707,0.009256253020571314]
[null,null,{"$f":"C101+Sheet2!B$12","v":{"v":15.824175824175818,"d":"15.824"}},12,0.23033810133397806,-11.919059006956518,-1.3914138092920778,-12.531632826501092,-0.1699407887617297]
[null,null,{"$f":"C102+Sheet2!B$12","v":{"v":15.984015984015977,"d":"15.984"}},12,0.5244810016331678,-11.545665630869436,-3.270719361265999,-14.1774345731114,-1.9451559550686]
[null,null,{"$f":"C103+Sheet2!B$12","v":{"v":16.143856143856137,"d":"16.144"}},12,0.7654792179025733,-10.877920963969533,-5.066639468289821,-14.682751569672401,-5.730640019912168]
[null,null,{"$f":"C104+Sheet2!B$12","v":{"v":16.3036963036963,"d":"16.304"}},12,0.9289128492964125,{"$f":"D105*COS(C105)","v":-9.932848841080997},{"$f":"D105*SIN(C105)","v":-6.733387995670226},-12.620465956721551,-9.568710760283727]
[null,null,{"$f":"C105+Sheet2!B$12","v":{"v":16.46353646353646,"d":"16.464"}},12,0.9982214700352545,-8.734543429502398,-8.228471977113156,-9.099907850150885,-11.276500656778293]
[null,null,{"$f":"C106+Sheet2!B$12","v":{"v":16.623376623376622,"d":"16.623"}},12,0.9663821665374129,-7.313554959594045,-9.513774952824843,-6.548012771271005,-10.850633740098626]
[null,null,{"$f":"C107+Sheet2!B$12","v":{"v":16.783216783216783,"d":"16.783"}},12,0.8366211561851236,-5.706110861087608,-10.556528730647116,-6.014330343291225,-10.422062794043347]
[null,null,{"$f":"C108+Sheet2!B$12","v":{"v":16.943056943056945,"d":"16.943"}},12,0.6220868807200023,-3.9531921618798043,-11.330148795636008,-6.0351186784203845,-11.813196661561701]
[null,null,{"$f":"C109+Sheet2!B$12","v":{"v":17.102897102897106,"d":"17.103"}},12,0.3445176991057684,-2.0994886960865804,-11.814912069711085,-4.335073573249614,-14.4505836195102]
[null,null,{"$f":"C110+Sheet2!B$12","v":{"v":17.262737262737268,"d":"17.263"}},12,0.03203918006151906,-0.19225975783486784,-11.998459742213468,-0.44814572158984844,-15.985637172053913]
[null,null,{"$f":"C111+Sheet2!B$12","v":{"v":17.42257742257743,"d":"17.423"}},12,-0.2836858094852667,1.7198707521147767,-11.87611235194498,3.6966865830377227,-14.924727234248458]
[null,null,{"$f":"C112+Sheet2!B$12","v":{"v":17.58241758241759,"d":"17.582"}},12,-0.5706654437915721,3.588153969746976,-11.450989087820712,5.886181154887251,-12.305924352140073]
[null,null,{"$f":"C113+Sheet2!B$12","v":{"v":17.742257742257753,"d":"17.742"}},12,-0.7998206104763939,5.364958897049485,-10.733928266621199,6.053692885983118,-10.533494226757643]
[null,null,{"$f":"C114+Sheet2!B$12","v":{"v":17.902097902097914,"d":"17.902"}},12,-0.9479314428728067,7.004986731805504,-9.74321101522639,6.293068484257989,-10.683123844534617]
[null,null,{"$f":"C115+Sheet2!B$12","v":{"v":18.061938061938076,"d":"18.062"}},12,-0.9999901459137146,8.466425739155959,-8.504095201922276,8.44148085633005,-11.313514267274744]
[null,null,{"$f":"C116+Sheet2!B$12","v":{"v":18.221778221778237,"d":"18.222"}},12,-0.950721708082028,9.712017222026889,-7.0481714989813575,11.955917352915467,-10.122626392680077]
[null,null,{"$f":"C117+Sheet2!B$12","v":{"v":18.3816183816184,"d":"18.382"}},12,-0.8051184085128406,10.710005414009448,-5.412557993397236,14.477085149877754,-6.581790464593331]
[null,null,{"$f":"C118+Sheet2!B$12","v":{"v":18.54145854145856,"d":"18.541"}},12,-0.5779339586374591,11.434947077622326,-3.6389538787921794,14.446646149126705,-2.5790004350171563]
[null,null,{"$f":"C119+Sheet2!B$12","v":{"v":18.70129870129872,"d":"18.701"}},12,-0.2921885360552857,11.86836016763134,-1.7725763541754058,12.830188488756557,-0.3454282829482378]
[null,null,{"$f":"C120+Sheet2!B$12","v":{"v":18.861138861138883,"d":"18.861"}},12,0.023163807230269947,11.999195022061334,0.13899216718397223,12.005631318337835,1.7399177913524078E-4]
[null,null,{"$f":"C121+Sheet2!B$12","v":{"v":19.020979020979045,"d":"19.021"}},12,0.3361690050284843,11.8241160681081,2.0470171489041906,13.070015169540326,0.5241362625980022]
[null,null,{"$f":"C122+Sheet2!B$12","v":{"v":19.180819180819206,"d":"19.181"}},12,0.6151108230336938,11.347586860991226,3.9028543954725317,14.599267532688181,3.0872920055084903]
[null,null,{"$f":"C123+Sheet2!B$12","v":{"v":19.340659340659368,"d":"19.341"}},12,0.831724605835274,10.581756287722465,5.659190213029253,14.2583275794448,7.186032732307718]
[null,null,{"$f":"C124+Sheet2!B$12","v":{"v":19.50049950049953,"d":"19.500"}},12,0.9640612818602983,9.54614883697078,7.271247649640427,11.447482805816428,10.458902666652223]
[null,null,{"$f":"C125+Sheet2!B$12","v":{"v":19.66033966033969,"d":"19.660"}},12,0.9987114219568963,8.267166831447572,8.697928062533808,8.003100095132544,11.289542832472105]
[null,null,{"$f":"C126+Sheet2!B$12","v":{"v":19.820179820179852,"d":"19.820"}},12,0.9321639919002107,6.77741731316223,9.902858908580333,6.162653103807829,10.574918443202613]
[null,null,{"$f":"C127+Sheet2!B$12","v":{"v":19.980019980020014,"d":"19.980"}},12,0.7711621189576624,5.114880742290449,10.855321045097943,6.085825036463211,10.668052741899267]
[null,null,{"$f":"C128+Sheet2!B$12","v":{"v":20.139860139860176,"d":"20.140"}},12,0.5320198233494153,3.321942703284906,11.531031899881821,5.723397648355089,12.687597273593752]
[null,null,{"$f":"C129+Sheet2!B$12","v":{"v":20.299700299700337,"d":"20.300"}},12,0.23896894893384227,1.4443133044236112,11.912764543911079,3.1803950194519075,15.226340508502737]
[null,null,{"$f":"C130+Sheet2!B$12","v":{"v":20.4595404595405,"d":"20.460"}},12,{"$f":"SIN(2*Q)","v":-0.07829620444412029},-0.4701381798061147,11.990786883765743,{"$f":"(r0+r00)*COS($C131)-r00*COS((r0+r00)*$C131/r00)","v":-1.0902745387457657},{"$f":"(r0+r00)*SIN($C131)-r00*SIN((r0+r00)*$C131/r00)","v":15.91447198456286}]
[null,null,{"$f":"C131+Sheet2!B$12","v":{"v":20.61938061938066,"d":"20.619"}},12,-0.3876277491061192,-2.372603713246107,11.763109776750822,-4.736579527476189,14.076959273685329]
[null,null,{"$f":"C132+Sheet2!B$12","v":{"v":20.77922077922082,"d":"20.779"}},{"$f":"D132","v":12},-0.6576816951834702,-4.214580835891137,11.2355377431496,-6.094513231368128,11.491498641315456]
[null,null,{"$f":"C133+Sheet2!B$12","v":{"v":20.939060939060983,"d":"20.939"}},12,-0.8610939787909468,-5.949109211193036,10.421520982721196,-6.0004907729571935,10.393181081265848]
[null,null,{"$f":"C134+Sheet2!B$12","v":{"v":21.098901098901145,"d":"21.099"}},12,-0.9772532117058403,-7.531967857655813,9.341812468211922,-6.788698395200173,10.973669649240572]
[null,null,{"$f":"C135+Sheet2!B$12","v":{"v":21.258741258741306,"d":"21.259"}},12,-0.9943891949863747,-8.922802541867851,8.023938858119285,-9.60454079091609,11.191928020872586]
[null,null,{"$f":"C136+Sheet2!B$12","v":{"v":21.418581418581468,"d":"21.419"}},12,-0.9107655713304782,-10.086154590618447,6.501498717537861,-13.062362627533158,9.109057848351055]
[null,null,{"$f":"C137+Sheet2!B$12","v":{"v":21.57842157842163,"d":"21.578"}},12,-0.7348557669304815,-10.992364893019793,4.813305938614951,-14.761005640686841,5.115865545640332]
[null,null,{"$f":"C138+Sheet2!B$12","v":{"v":21.73826173826179,"d":"21.738"}},12,-0.48448439496296974,-11.618330045527403,3.0024001987069004,-13.950903502243085,1.5424335941717144]
[null,null,{"$f":"C139+Sheet2!B$12","v":{"v":21.898101898101952,"d":"21.898"}},12,-0.18502112070063045,-11.948091362298872,1.1149496841378579,-12.34887957544752,0.08829049477101969]
[null,null,{"$f":"C140+Sheet2!B$12","v":{"v":22.057942057942114,"d":"22.058"}},12,0.13318999946623813,-11.973241734350175,-0.8009259458996135,-12.183435605954827,-0.033004612200338235]
[null,null,{"$f":"C141+Sheet2!B$12","v":{"v":22.217782217782275,"d":"22.218"}},12,0.43790522480465827,-11.6931399648275,-2.696382347322781,-13.673273694181178,-1.1460239839188535]
[null,null,{"$f":"C142+Sheet2!B$12","v":{"v":22.377622377622437,"d":"22.378"}},12,0.6982483284937364,-11.114927116018109,-4.523095754635905,-14.780078107153274,-4.431810533255986]
[null,null,{"$f":"C143+Sheet2!B$12","v":{"v":22.5374625374626,"d":"22.537"}},12,0.8878392282391535,-10.253344451340938,-6.234494972502263,-13.514099241759803,-8.535210526650763]
[null,null,{"$f":"C144+Sheet2!B$12","v":{"v":22.69730269730276,"d":"22.697"}},12,0.9874670309284457,-9.130357613799852,-7.78694868636792,-10.194785528416636,-11.031791242157789]
[null,null,{"$f":"C145+Sheet2!B$12","v":{"v":22.85714285714292,"d":"22.857"}},12,0.9870366366857026,-7.774596622292355,-9.140877822213811,-7.119104100417074,-11.10320797600657]
[null,null,{"$f":"C146+Sheet2!B$12","v":{"v":23.016983016983083,"d":"23.017"}},12,0.8865916565587366,-6.220625962803291,-10.261764596349774,-6.0105078672566075,-10.408323552289408]
[null,null,{"$f":"C147+Sheet2!B$12","v":{"v":23.176823176823245,"d":"23.177"}},12,0.6963099934927515,-4.508063383163753,-11.121032530002697,-6.121659711751497,-11.16995469103718]
[null,null,{"$f":"C148+Sheet2!B$12","v":{"v":23.336663336663406,"d":"23.337"}},12,0.43547253436222866,-2.680569857286481,-11.696774993142647,-5.127293374232743,-13.633888310420224]
[null,null,{"$f":"C149+Sheet2!B$12","v":{"v":23.496503496503568,"d":"23.497"}},12,0.13050945357855545,-0.784736469262447,-11.974313703666258,-1.7999972660069559,-15.763830404515893]
[null,null,{"$f":"C150+Sheet2!B$12","v":{"v":23.65634365634373,"d":"23.656"}},12,-0.1876779073062745,1.1311034043173191,-11.946572943264599,2.5471041698926866,-15.516682106910075]
[null,null,{"$f":"C151+Sheet2!B$12","v":{"v":23.81618381618389,"d":"23.816"}},12,-0.48684821504312525,3.0181063309640814,-11.614259949518717,5.477653234088927,-13.135248874927745]
[null,null,{"$f":"C152+Sheet2!B$12","v":{"v":23.976023976024052,"d":"23.976"}},12,-0.7366870989946236,4.828164062527904,-10.985846885211629,6.114165175464198,-10.875599206442487]
[null,null,{"$f":"C153+Sheet2!B$12","v":{"v":24.135864135864214,"d":"24.136"}},12,-0.911878849907981,6.5151300322567565,-10.07735484454061,6.064819159236802,-10.476213241933962]
[null,null,{"$f":"C154+Sheet2!B$12","v":{"v":24.295704295704375,"d":"24.296"}},12,-0.9946716136303806,8.03599583971512,-8.911945402889387,7.55236703822262,-11.219955228534294]
[null,null,{"$f":"C155+Sheet2!B$12","v":{"v":24.455544455544537,"d":"24.456"}},12,-0.9766761534606292,9.351987729634914,-7.519330123405808,10.854682795558203,-10.7717685094591]
[null,null,{"$f":"C156+Sheet2!B$12","v":{"v":24.6153846153847,"d":"24.615"}},12,-0.8597159158948133,10.429555110488403,-5.93501307473583,13.941893127209756,-7.847569325208033]
[null,null,{"$f":"C157+Sheet2!B$12","v":{"v":24.77522477522486,"d":"24.775"}},12,-0.6556422641856127,11.241225910969105,-4.199385671566356,14.720175529320873,-3.7065333441761696]
[null,null,{"$f":"C158+Sheet2!B$12","v":{"v":24.93506493506502,"d":"24.935"}},12,-0.3851336017549218,11.766306967471298,-2.356696914589655,13.35541168456683,-0.7843701075641345]
[null,null,{"$f":"C159+Sheet2!B$12","v":{"v":25.094905094905183,"d":"25.095"}},12,-0.07560006804999142,11.991411586520197,-0.45392528313499014,12.059718168897165,-0.00604482574635723]
[null,null,{"$f":"C160+Sheet2!B$12","v":{"v":25.254745254745345,"d":"25.255"}},12,0.24159387988660094,11.91080083219791,1.4604189589681351,12.582031293824535,0.19595644863680728]
[null,null,{"$f":"C161+Sheet2!B$12","v":{"v":25.414585414585506,"d":"25.415"}},12,0.5343075694913891,11.526529837603453,3.33753050964891,14.230345443344182,2.0533133794621845]
[null,null,{"$f":"C162+Sheet2!B$12","v":{"v":25.574425574425668,"d":"25.574"}},12,0.772880867228937,10.848395410205283,5.129553296714731,14.653981562030223,5.884915547988012]
[null,null,{"$f":"C163+Sheet2!B$12","v":{"v":25.73426573426583,"d":"25.734"}},12,0.9331395847364143,9.893686266863131,6.790800545803407,12.504498033132386,9.676116402156778]
[null,null,{"$f":"C164+Sheet2!B$12","v":{"v":25.89410589410599,"d":"25.894"}},12,0.998845004351155,8.686742266159275,8.27891954311201,8.9770838346898,11.28978583484197]
[null,null,{"$f":"C165+Sheet2!B$12","v":{"v":26.053946053946152,"d":"26.054"}},12,0.9633393181571493,7.258333875202696,9.555971397826859,6.495301161302704,10.819638456045716]
[null,null,{"$f":"C166+Sheet2!B$12","v":{"v":26.213786213786314,"d":"26.214"}},12,0.8302202512734493,5.644877691106839,10.58939827622157,6.020177509530847,10.435914581028943]
[null,null,{"$f":"C167+Sheet2!B$12","v":{"v":26.373626373626475,"d":"26.374"}},12,0.6129765110618941,3.887508017050273,11.352853448246826,6.014274004526023,11.89851559755018]
[null,null,{"$f":"C168+Sheet2!B$12","v":{"v":26.533466533466637,"d":"26.533"}},12,0.33362100150764457,{"$f":"D169*COS(C169)","v":2.0310281626499695},{"$f":"D169*SIN(C169)","v":11.826872984966174},4.226640106076934,14.54041504986242]
[null,null,{"$f":"C169+Sheet2!B$12","v":{"v":26.6933066933068,"d":"26.693"}},12,0.020460296616262204,0.12276820474876438,11.999371982229018,0.28633923836738384,15.99414064779036]
[null,null,{"$f":"C170+Sheet2!B$12","v":{"v":26.85314685314696,"d":"26.853"}},12,-0.2947736120621802,-1.7886216705339,11.865952659592761,-3.818843618148194,14.843494464641521]
[null,null,{"$f":"C171+Sheet2!B$12","v":{"v":27.01298701298712,"d":"27.013"}},12,-0.5801386590953348,-3.6544114813135877,11.430016479657562,-5.919384741257228,12.213422288117888]
[null,null,{"$f":"C172+Sheet2!B$12","v":{"v":27.172827172827283,"d":"27.173"}},12,-0.8067193352264352,-5.427033797807814,10.702677429384279,-6.0456527354265015,10.506995256578845]
[null,null,{"$f":"C173+Sheet2!B$12","v":{"v":27.332667332667445,"d":"27.333"}},12,-0.9515566421261874,-7.0612964514863705,9.702478674247422,-6.332587204087959,10.712335948545244]
[null,null,{"$f":"C174+Sheet2!B$12","v":{"v":27.492507492507606,"d":"27.493"}},12,-0.9999744849752482,-8.515534688058146,8.454919808991594,-8.556373981970928,11.313199739594936]
[null,null,{"$f":"C175+Sheet2!B$12","v":{"v":27.652347652347768,"d":"27.652"}},12,-0.9470667738454703,-9.752673390698368,6.9918067575101075,-12.079831541723248,10.02996651344467]
[null,null,{"$f":"C176+Sheet2!B$12","v":{"v":27.81218781218793,"d":"27.812"}},12,-0.7981945486638972,-10.741172292636877,5.350440895841187,-14.52264488822257,6.428768984407623]
[null,null,{"$f":"C177+Sheet2!B$12","v":{"v":27.97202797202809,"d":"27.972"}},12,-0.568442755011874,-11.455830081359071,3.5726680712079326,-14.40256132927041,2.458216025294213]
[null,null,{"$f":"C178+Sheet2!B$12","v":{"v":28.131868131868252,"d":"28.132"}},12,-0.2810917146568101,-11.87842689416276,1.7038117619123356,-12.772953324431235,0.3078053149923825]
[null,null,{"$f":"C179+Sheet2!B$12","v":{"v":28.291708291708414,"d":"28.292"}},12,0.03474182613642043,-11.99818882495027,-0.2084824233321431,-12.012660373722243,-5.8697609601918166E-4]
[null,null,{"$f":"C180+Sheet2!B$12","v":{"v":28.451548451548575,"d":"28.452"}},12,0.34705504232897233,-11.812062599874547,-2.1154614476858087,-13.132096750943575,-0.5761445095550608]
[null,null,{"$f":"C181+Sheet2!B$12","v":{"v":28.611388611388737,"d":"28.611"}},12,0.6242018168237614,-11.324793419113456,-3.9685077818248695,-14.630974734644033,-3.2202287450525544]
[null,null,{"$f":"C182+Sheet2!B$12","v":{"v":28.7712287712289,"d":"28.771"}},12,0.8380993826291601,-10.548803980232988,-5.720378884883473,-14.194656837289271,-7.334470079068038]
[null,null,{"$f":"C183+Sheet2!B$12","v":{"v":28.93106893106906,"d":"28.931"}},12,0.9670738973865868,-9.503877767381587,-7.326411630714588,-11.317834824789134,-10.53421383194457]
[null,null,{"$f":"C184+Sheet2!B$12","v":{"v":29.09090909090922,"d":"29.091"}},12,0.9980566134896748,-8.216654680707986,-8.745660973191194,-7.899235622781781,-11.277746944295904]
[null,null,{"$f":"C185+Sheet2!B$12","v":{"v":29.250749250749383,"d":"29.251"}},12,0.9279081099631057,-6.71995186469222,-9.941943820813893,-6.136697744970242,-10.55062499353948]
[null,null,{"$f":"C186+Sheet2!B$12","v":{"v":29.410589410589544,"d":"29.411"}},12,0.7637364041487341,-5.051927050550715,-10.884761507534925,-6.093197777632452,-10.708841609018858]
[null,null,{"$f":"C187+Sheet2!B$12","v":{"v":29.570429570429706,"d":"29.570"}},12,0.5221767095337361,-3.2551057429055374,-11.550077341840762,-5.674918862808779,-12.785335478357105]
[null,null,{"$f":"C188+Sheet2!B$12","v":{"v":29.730269730269868,"d":"29.730"}},12,0.22770582051995022,-1.375297052134115,-11.920929410846757,-3.0448199745094318,-15.295380783876354]
[null,null,{"$f":"C189+Sheet2!B$12","v":{"v":29.89010989011003,"d":"29.890"}},12,-0.08983807561057323,0.5395741872585317,-11.98786301625291,1.2488656855070959,-15.887521056443369]
[null,null,{"$f":"C190+Sheet2!B$12","v":{"v":30.04995004995019,"d":"30.050"}},12,-0.3982788466950017,2.440689237654661,-11.74917171741041,4.8287154223056525,-13.980624494838068]
[null,null,{"$f":"C191+Sheet2!B$12","v":{"v":30.209790209790352,"d":"30.210"}},12,-0.666362763293865,4.279580068976249,-11.210940836219823,6.103857536876841,-11.416407338254386]
[null,null,{"$f":"C192+Sheet2!B$12","v":{"v":30.369630369630514,"d":"30.370"}},12,-0.8669253809434937,6.009365028214379,-10.386892314724072,6.0000171333607515,-10.392334357213976]
[null,null,{"$f":"C193+Sheet2!B$12","v":{"v":30.529470529470675,"d":"30.529"}},12,-0.9796440627705103,7.585944065024705,-9.29803488067863,6.856347941911845,-11.003535790250442]
[null,null,{"$f":"C194+Sheet2!B$12","v":{"v":30.689310689310837,"d":"30.689"}},12,{"$f":"SIN(2*Q)","v":-0.9930972344732768},8.969123041677062,-7.972128439962418,{"$f":"(r0+r00)*COS($C195)-r00*COS((r0+r00)*$C195/r00)","v":9.733438524517597},{"$f":"(r0+r00)*SIN($C195)-r00*SIN((r0+r00)*$C195/r00)","v":-11.162620398855946}]
[null,null,{"$f":"C195+Sheet2!B$12","v":{"v":30.849150849151,"d":"30.849"}},12,-0.9059217111945426,10.123638463608245,-6.442976350891856,13.16679513801967,-8.987036905143029]
[null,null,{"$f":"C196+Sheet2!B$12","v":{"v":31.00899100899116,"d":"31.009"}},{"$f":"D196","v":12},-0.7269508265066453,11.020056505556571,-4.749563623570095,14.771470607444574,-4.963422047081931]
[null,null,{"$f":"C197+Sheet2!B$12","v":{"v":31.16883116883132,"d":"31.169"}},12,-0.4743193671562018,11.63552341303171,-2.9350630154718815,13.891184845856978,-1.4494272126750651]
[null,null,{"$f":"C198+Sheet2!B$12","v":{"v":31.328671328671483,"d":"31.329"}},12,-0.17362600886522286,11.954348147988743,-1.045734362387571,12.30834504105741,-0.07299963171204604]
[null,null,{"$f":"C199+Sheet2!B$12","v":{"v":31.488511488511644,"d":"31.489"}},12,0.14466054985010388,11.9684024244303,0.8702547942361041,12.215790036811814,0.04227027194783484]
[null,null,{"$f":"C200+Sheet2!B$12","v":{"v":31.648351648351806,"d":"31.648"}},12,0.44828892420904876,11.67732793521808,2.7640572160097276,13.735849084585128,1.2278887204368647]
[null,null,{"$f":"C201+Sheet2!B$12","v":{"v":31.808191808191967,"d":"31.808"}},12,0.7064930159782395,11.08854548694406,4.587391304867348,14.782062787221424,4.580982168269642]
[null,null,{"$f":"C202+Sheet2!B$12","v":{"v":31.96803196803213,"d":"31.968"}},12,0.8931094849612873,10.217065809972194,6.293772019599793,13.419366119565224,8.666226251887673]
[null,null,{"$f":"C203+Sheet2!B$12","v":{"v":32.12787212787229,"d":"32.128"}},12,0.9892288315805591,9.085106866959247,7.839695990019634,10.063457684216974,11.073196076256036]
[null,null,{"$f":"C204+Sheet2!B$12","v":{"v":32.287712287712445,"d":"32.288"}},{"$nulls":4},7.0410070150085,11.076116066745655]
[null,null,{"$f":"C205+Sheet2!B$12","v":{"v":32.4475524475526,"d":"32.448"}},{"$nulls":4},6.00545213885984,10.400902971878734]
[null,null,{"$f":"C206+Sheet2!B$12","v":{"v":32.60739260739276,"d":"32.607"}},{"$nulls":4},6.118860107129756,11.236625744350608]
[null,null,{"$f":"C207+Sheet2!B$12","v":{"v":32.76723276723292,"d":"32.767"}},{"$nulls":4},5.0470668404269405,13.732838171620841]
[null,null,{"$f":"C208+Sheet2!B$12","v":{"v":32.92707292707308,"d":"32.927"}},{"$nulls":4},1.64564746034702,15.803271370032272]
[null,null,{"$f":"C209+Sheet2!B$12","v":{"v":33.086913086913235,"d":"33.087"}},{"$nulls":4},-2.690788754984219,15.457759569237844]
[null,null,{"$f":"C210+Sheet2!B$12","v":{"v":33.24675324675339,"d":"33.247"}},{"$nulls":4},-5.53765210699963,13.03567348615894]
[null,null,{"$f":"C211+Sheet2!B$12","v":{"v":33.40659340659355,"d":"33.407"}},{"$nulls":4},-6.1092269133576815,10.824849927624658]
[null,null,{"$f":"C212+Sheet2!B$12","v":{"v":33.56643356643371,"d":"33.566"}},{"$nulls":4},-6.0821375443730386,10.495307275230438]
[null,null,{"$f":"C213+Sheet2!B$12","v":{"v":33.72627372627387,"d":"33.726"}},{"$nulls":4},-7.647265549052628,11.23869141833378]
[null,null,{"$f":"C214+Sheet2!B$12","v":{"v":33.886113886114025,"d":"33.886"}},{"$nulls":4},-10.986378113220546,10.709058783038675]
[null,null,{"$f":"C215+Sheet2!B$12","v":{"v":34.04595404595418,"d":"34.046"}},{"$nulls":4},-14.01775650880918,7.704323402690404]
[null,null,{"$f":"C216+Sheet2!B$12","v":{"v":34.20579420579434,"d":"34.206"}},{"$nulls":4},-14.698669219251716,3.5664118269426366]
[null,null,{"$f":"C217+Sheet2!B$12","v":{"v":34.3656343656345,"d":"34.366"}},{"$nulls":4},-13.291766226365954,0.721512170334885]
[null,null,{"$f":"C218+Sheet2!B$12","v":{"v":34.52547452547466,"d":"34.525"}},{"$nulls":4},-12.042918132891092,0.003675955077550863]
[null,null,{"$f":"C219+Sheet2!B$12","v":{"v":34.685314685314815,"d":"34.685"}},{"$nulls":4},-12.634122800785159,-0.22439282101710178]
[null,null,{"$f":"C220+Sheet2!B$12","v":{"v":34.84515484515497,"d":"34.845"}},{"$nulls":4},-14.281519018751307,-2.1643646317139287]
[null,null,{"$f":"C221+Sheet2!B$12","v":{"v":35.00499500499513,"d":"35.005"}},{"$nulls":4},-14.621504538770246,-6.039153961849393]
[null,null,{"$f":"C222+Sheet2!B$12","v":{"v":35.16483516483529,"d":"35.165"}},{"$nulls":4},-12.386562336223882,-9.780374777076577]
[null,null,{"$f":"C223+Sheet2!B$12","v":{"v":35.32467532467545,"d":"35.325"}},{"$nulls":4},-8.855821920537638,-11.300066766797315]
[null,null,{"$f":"C224+Sheet2!B$12","v":{"v":35.484515484515605,"d":"35.485"}},{"$nulls":4},-6.445547332463235,-10.788809869269524]
[null,null,{"$f":"C225+Sheet2!B$12","v":{"v":35.64435564435576,"d":"35.644"}},{"$nulls":4},-6.026733086956277,-10.452504452262179]
[null,null,{"$f":"C226+Sheet2!B$12","v":{"v":35.80419580419592,"d":"35.804"}},{"$nulls":4},-5.9908470317957345,-11.985602939915685]
[null,null,{"$f":"C227+Sheet2!B$12","v":{"v":35.96403596403608,"d":"35.964"}},{"$nulls":4},-4.1150753967181775,-14.628563707685839]
[null,null,{"$f":"C228+Sheet2!B$12","v":{"v":36.12387612387624,"d":"36.124"}},{"$nulls":4},-0.12429278040889272,-15.998896418462586]
[null,null,{"$f":"C229+Sheet2!B$12","v":{"v":36.283716283716394,"d":"36.284"}},{"$nulls":4},3.9380842897476906,-14.76015426836863]
[null,null,{"$f":"C230+Sheet2!B$12","v":{"v":36.44355644355655,"d":"36.444"}},{"$nulls":4},5.949724194655851,-12.122316062774246]
[null,null,{"$f":"C231+Sheet2!B$12","v":{"v":36.60339660339671,"d":"36.603"}},{"$nulls":4},6.037870013248209,-10.483330307313588]
[null,null,{"$f":"C232+Sheet2!B$12","v":{"v":36.76323676323687,"d":"36.763"}},{"$nulls":4},6.374961047014461,-10.742166225539881]
[null,null,{"$f":"C233+Sheet2!B$12","v":{"v":36.923076923077026,"d":"36.923"}},{"$nulls":4},8.67319902243263,-11.310173025577788]
[null,null,{"$f":"C234+Sheet2!B$12","v":{"v":37.082917082917184,"d":"37.083"}},{"$nulls":4},12.202210979497195,-9.933955386719326]
[null,null,{"$f":"C235+Sheet2!B$12","v":{"v":37.24275724275734,"d":"37.243"}},{"$nulls":4},14.564512065836812,-6.275231516972358]
[null,null,{"$f":"C236+Sheet2!B$12","v":{"v":37.4025974025975,"d":"37.403"}},{"$nulls":4},14.356323436964772,-2.3401016688308647]
[null,null,{"$f":"C237+Sheet2!B$12","v":{"v":37.56243756243766,"d":"37.562"}},{"$nulls":4},12.717036659934415,-0.272876360938062]
[null,null,{"$f":"C238+Sheet2!B$12","v":{"v":37.722277722277816,"d":"37.722"}},{"$nulls":4},12.022482228414438,1.3905342484109573E-3]
[null,null,{"$f":"C239+Sheet2!B$12","v":{"v":37.882117882117974,"d":"37.882"}},{"$nulls":4},13.194782020577355,0.631178906046943]
[null,null,{"$f":"C240+Sheet2!B$12","v":{"v":38.04195804195813,"d":"38.042"}},{"$nulls":4},14.659907422561325,3.35532673298805]
[null,null,{"$f":"C241+Sheet2!B$12","v":{"v":38.20179820179829,"d":"38.202"}},{"$nulls":4},14.127471238406095,7.481597867573077]
[null,null,{"$f":"C242+Sheet2!B$12","v":{"v":38.36163836163845,"d":"38.362"}},{"$nulls":4},11.187437026030857,10.605973526668972]
[null,null,{"$f":"C243+Sheet2!B$12","v":{"v":38.521478521478606,"d":"38.521"}},{"$nulls":4},7.797821625376872,11.263843152647244]
[null,null,{"$f":"C244+Sheet2!B$12","v":{"v":38.681318681318764,"d":"38.681"}},{"$nulls":4},6.113278353489585,10.527665180055724]
[null,null,{"$f":"C245+Sheet2!B$12","v":{"v":38.84115884115892,"d":"38.841"}},{"$nulls":4},6.100045351276931,10.752474766224111]
[null,null,{"$f":"C246+Sheet2!B$12","v":{"v":39.00099900099908,"d":"39.001"}},{"$nulls":4},5.623227760309541,12.883755181761813]
[null,null,{"$f":"C247+Sheet2!B$12","v":{"v":39.16083916083924,"d":"39.161"}},{"$nulls":4},2.9068242709917693,15.36167430090703]
[null,null,{"$f":"C248+Sheet2!B$12","v":{"v":39.320679320679396,"d":"39.321"}},{"$nulls":4},-1.4064179259814056,15.856976015857313]
[null,null,{"$f":"C249+Sheet2!B$12","v":{"v":39.480519480519554,"d":"39.481"}},{"$nulls":4},-4.917500050685134,13.883380915523565]
[null,null,{"$f":"C250+Sheet2!B$12","v":{"v":39.64035964035971,"d":"39.640"}},{"$nulls":4},-6.1112086589749515,11.343610167600785]
[null,null,{"$f":"C251+Sheet2!B$12","v":{"v":39.80019980019987,"d":"39.800"}},{"$nulls":4},-6.000969556226524,10.393917017981416]
[null,null,{"$f":"C252+Sheet2!B$12","v":{"v":39.96003996004003,"d":"39.960"}},{"$nulls":4},-6.926977230377345,11.032782016708625]
[null,null,{"$f":"C253+Sheet2!B$12","v":{"v":40.119880119880186,"d":"40.120"}},{"$nulls":4},-9.863185771883003,11.129941334334138]
[null,null,{"$f":"C254+Sheet2!B$12","v":{"v":40.279720279720344,"d":"40.280"}},{"$nulls":4},-13.26860338853615,8.862347824496947]
[null,null,{"$f":"C255+Sheet2!B$12","v":{"v":40.4395604395605,"d":"40.440"}},{"$nulls":4},-14.778357876487249,4.811742079348195]
[null,null,{"$f":"C256+Sheet2!B$12","v":{"v":40.59940059940066,"d":"40.599"}},{"$nulls":4},-13.830490928172619,1.3595511688880761]
[null,null,{"$f":"C257+Sheet2!B$12","v":{"v":40.75924075924082,"d":"40.759"}},{"$nulls":4},-12.27003507578295,0.05955274044336645]
[null,null,{"$f":"C258+Sheet2!B$12","v":{"v":40.919080919080976,"d":"40.919"}},{"$nulls":4},{"$f":"(r0+r00)*COS($C259)-r00*COS((r0+r00)*$C259/r00)","v":-12.250547525985771},{"$f":"(r0+r00)*SIN($C259)-r00*SIN((r0+r00)*$C259/r00)","v":-0.05310084301874918}]
[null,null,{"$f":"C259+Sheet2!B$12","v":{"v":41.078921078921134,"d":"41.079"}},{"$nulls":4},-13.797782985957207,-1.3129266908342654]
[null,null,{"$f":"C260+Sheet2!B$12","v":{"v":41.23876123876129,"d":"41.239"}},{"$nulls":4},-14.78058098862448,-4.73124122753299]
[null,null,{"$f":"C261+Sheet2!B$12","v":{"v":41.39860139860145,"d":"41.399"}},{"$nulls":4},-13.321769150388196,-8.79482081283218]
[null,null,{"$f":"C262+Sheet2!B$12","v":{"v":41.55844155844161,"d":"41.558"}},{"$nulls":4},-9.932654858938399,-11.111127704447139]
[null,null,{"$f":"C263+Sheet2!B$12","v":{"v":41.718281718281766,"d":"41.718"}},{"$nulls":4},-6.965840853972965,-11.048074098114267]
[null,null,{"$f":"C264+Sheet2!B$12","v":{"v":41.878121878121924,"d":"41.878"}},{"$nulls":4},-6.002098489646851,-10.395730036431367]
[null,null,{"$f":"C265+Sheet2!B$12","v":{"v":42.03796203796208,"d":"42.038"}},{"$nulls":4},-6.114350665925832,-11.3057661938458]
[null,null,{"$f":"C266+Sheet2!B$12","v":{"v":42.19780219780224,"d":"42.198"}},{"$nulls":4},-4.963453425957445,-13.83121680091402]
[null,null,{"$f":"C267+Sheet2!B$12","v":{"v":42.3576423576424,"d":"42.358"}},{"$nulls":4},-1.4899368816056358,-15.83923938167285]
[null,null,{"$f":"C268+Sheet2!B$12","v":{"v":42.517482517482556,"d":"42.517"}},{"$nulls":4},2.8323057538092136,-15.395858918622775]
[null,null,{"$f":"C269+Sheet2!B$12","v":{"v":42.677322677322714,"d":"42.677"}},{"$nulls":4},5.594345365626593,-12.936455563247765]
[null,null,{"$f":"C270+Sheet2!B$12","v":{"v":42.83716283716287,"d":"42.837"}},{"$nulls":4},6.103436243367452,-10.776891286224236]
[null,null,{"$f":"C271+Sheet2!B$12","v":{"v":42.99700299700303,"d":"42.997"}},{"$nulls":4},6.101806293110899,-10.51600897557052]
[null,null,{"$f":"C272+Sheet2!B$12","v":{"v":43.15684315684319,"d":"43.157"}},{"$nulls":4},7.74478598825771,-11.255608488458869]
[null,null,{"$f":"C273+Sheet2!B$12","v":{"v":43.316683316683346,"d":"43.317"}},{"$nulls":4},11.117664526841766,-10.642770619606766]
[null,null,{"$f":"C274+Sheet2!B$12","v":{"v":43.476523476523504,"d":"43.477"}},{"$nulls":4},14.090236002011828,-7.559449612821604]
[null,null,{"$f":"C275+Sheet2!B$12","v":{"v":43.63636363636366,"d":"43.636"}},{"$nulls":4},14.674165531119229,-3.4281938788817863]
[null,null,{"$f":"C276+Sheet2!B$12","v":{"v":43.79620379620382,"d":"43.796"}},{"$nulls":4},13.228401404386435,-0.6617665002869793]
[null,null,{"$f":"C277+Sheet2!B$12","v":{"v":43.95604395604398,"d":"43.956"}},{"$nulls":4},12.028853005459993,-2.0230942317164824E-3]
[null,null,{"$f":"C278+Sheet2!B$12","v":{"v":44.115884115884135,"d":"44.116"}},{"$nulls":4},12.687805486470303,0.2553326791609183]
[null,null,{"$f":"C279+Sheet2!B$12","v":{"v":44.27572427572429,"d":"44.276"}},{"$nulls":4},14.330834542447105,2.278252486217059]
[null,null,{"$f":"C280+Sheet2!B$12","v":{"v":44.43556443556445,"d":"44.436"}},{"$nulls":4},14.585317735520368,6.193219634655745]
[null,null,{"$f":"C281+Sheet2!B$12","v":{"v":44.59540459540461,"d":"44.595"}},{"$nulls":4},12.266778496426426,9.881421953630673]
[null,null,{"$f":"C282+Sheet2!B$12","v":{"v":44.75524475524477,"d":"44.755"}},{"$nulls":4},8.736231056471834,11.307420779157265]
[null,null,{"$f":"C283+Sheet2!B$12","v":{"v":44.915084915084925,"d":"44.915"}},{"$nulls":4},6.398728880079747,10.758277284759279]
[null,null,{"$f":"C284+Sheet2!B$12","v":{"v":45.07492507492508,"d":"45.075"}},{"$nulls":4},6.033870948909166,10.47186620906709]
[null,null,{"$f":"C285+Sheet2!B$12","v":{"v":45.23476523476524,"d":"45.235"}},{"$nulls":4},5.964752655182684,12.074357504027939]
[null,null,{"$f":"C286+Sheet2!B$12","v":{"v":45.3946053946054,"d":"45.395"}},{"$nulls":4},4.0004340787533,14.714906457269736]
[null,null,{"$f":"C287+Sheet2!B$12","v":{"v":45.55444555444556,"d":"45.554"}},{"$nulls":4},-0.037857878649866214,15.99989762632705]
[null,null,{"$f":"C288+Sheet2!B$12","v":{"v":45.714285714285715,"d":"45.714"}},{"$nulls":4},-4.054341655175077,14.674823769769027]
[null,null,{"$f":"C289+Sheet2!B$12","v":{"v":45.87412587412587,"d":"45.874"}},{"$nulls":4},-5.97727386265029,12.032715282653019]
[null,null,{"$f":"C290+Sheet2!B$12","v":{"v":46.03396603396603,"d":"46.034"}},{"$nulls":4},-6.030473746030028,10.462478902823662]
[null,null,{"$f":"C291+Sheet2!B$12","v":{"v":46.19380619380619,"d":"46.194"}},{"$nulls":4},-6.420225687654321,10.772488547571584]
[null,null,{"$f":"C292+Sheet2!B$12","v":{"v":46.35364635364635,"d":"46.354"}},{"$nulls":4},-8.791855692487275,11.304346213031677]
[null,null,{"$f":"C293+Sheet2!B$12","v":{"v":46.513486513486505,"d":"46.513"}},{"$nulls":4},-12.322930300932944,9.834644490936796]
[null,null,{"$f":"C294+Sheet2!B$12","v":{"v":46.67332667332666,"d":"46.673"}},{"$nulls":4},-14.602675738864768,6.1213133734100955]
[null,null,{"$f":"C295+Sheet2!B$12","v":{"v":46.83316683316682,"d":"46.833"}},{"$nulls":4},-14.308046951977069,2.2247267492873712]
[null,null,{"$f":"C296+Sheet2!B$12","v":{"v":46.99300699300698,"d":"46.993"}},{"$nulls":4},-12.662548540036687,0.2405695691770824]
[null,null,{"$f":"C297+Sheet2!B$12","v":{"v":47.15284715284714,"d":"47.153"}},{"$nulls":4},-12.03507809679798,-2.7138381310458093E-3]
[null,null,{"$f":"C298+Sheet2!B$12","v":{"v":47.312687312687295,"d":"47.313"}},{"$nulls":4},-13.257944587412473,-0.6892774225053955]
[null,null,{"$f":"C299+Sheet2!B$12","v":{"v":47.47252747252745,"d":"47.473"}},{"$nulls":4},-14.685974531277486,-3.4924870138829407]
[null,null,{"$f":"C300+Sheet2!B$12","v":{"v":47.63236763236761,"d":"47.632"}},{"$nulls":4},-14.056818637964172,-7.627288878674429]
[null,null,{"$f":"C301+Sheet2!B$12","v":{"v":47.79220779220777,"d":"47.792"}},{"$nulls":4},-11.05642370549021,-10.67416696752618]
[null,null,{"$f":"C302+Sheet2!B$12","v":{"v":47.95204795204793,"d":"47.952"}},{"$nulls":4},-7.6989293740787055,-11.247943398918268]
[null,null,{"$f":"C303+Sheet2!B$12","v":{"v":48.111888111888085,"d":"48.112"}},{"$nulls":4},-6.092325068483949,-10.506149509166908]
[null,null,{"$f":"C304+Sheet2!B$12","v":{"v":48.27172827172824,"d":"48.272"}},{"$nulls":4},-6.1062379570454794,-10.79893511631883]
[null,null,{"$f":"C305+Sheet2!B$12","v":{"v":48.4315684315684,"d":"48.432"}},{"$nulls":4},-5.56828355677068,-12.98272969225653]
[null,null,{"$f":"C306+Sheet2!B$12","v":{"v":48.59140859140856,"d":"48.591"}},{"$nulls":4},-2.7665049739046297,-15.425126703161807]
[null,null,{"$f":"C307+Sheet2!B$12","v":{"v":48.75124875124872,"d":"48.751"}},{"$nulls":4},1.562802725800291,-15.822880810887929]
[null,null,{"$f":"C308+Sheet2!B$12","v":{"v":48.911088911088875,"d":"48.911"}},{"$nulls":4},5.002915227353098,-13.785361418798239]
[null,null,{"$f":"C309+Sheet2!B$12","v":{"v":49.07092907092903,"d":"49.071"}},{"$nulls":4},6.116676319244985,-11.273179856032359]
[null,null,{"$f":"C310+Sheet2!B$12","v":{"v":49.23076923076919,"d":"49.231"}},{"$nulls":4},6.003459260765845,-10.397860774476346]
[null,null,{"$f":"C311+Sheet2!B$12","v":{"v":49.39060939060935,"d":"49.391"}},{"$nulls":4},7.000571087847867,-11.061277466813886]
[null,null,{"$f":"C312+Sheet2!B$12","v":{"v":49.55044955044951,"d":"49.550"}},{"$nulls":4},9.99365574746316,-11.09384672425123]
[null,null,{"$f":"C313+Sheet2!B$12","v":{"v":49.710289710289665,"d":"49.710"}},{"$nulls":4},13.367689837138466,-8.73508519349929]
[null,null,{"$f":"C314+Sheet2!B$12","v":{"v":49.87012987012982,"d":"49.870"}},{"$nulls":4},14.781707441832818,-4.660954886773548]
[null,null,{"$f":"C315+Sheet2!B$12","v":{"v":50.02997002996998,"d":"50.030"}},{"$nulls":4},13.768953043791509,-1.272826508372177]
[null,null,{"$f":"C316+Sheet2!B$12","v":{"v":50.18981018981014,"d":"50.190"}},{"$nulls":4},12.23402363147741,-0.04784186306454741]
[null,null,{"$f":"C317+Sheet2!B$12","v":{"v":50.3496503496503,"d":"50.350"}},{"$nulls":4},12.287641114520248,0.06560867520260771]
[null,null,{"$f":"C318+Sheet2!B$12","v":{"v":50.509490509490455,"d":"50.509"}},{"$nulls":4},13.858943191742773,1.401125075098004]
[null,null,{"$f":"C319+Sheet2!B$12","v":{"v":50.66933066933061,"d":"50.669"}},{"$nulls":4},14.775584902139794,4.882461252526902]
[null,null,{"$f":"C320+Sheet2!B$12","v":{"v":50.82917082917077,"d":"50.829"}},{"$nulls":4},13.221399938000394,8.920893819577515]
[null,null,{"$f":"C321+Sheet2!B$12","v":{"v":50.98901098901093,"d":"50.989"}},{"$nulls":4},9.802506444527236,11.145622361802696]
[null,null,{"$f":"C322+Sheet2!B$12","v":{"v":51.14885114885109,"d":"51.149"}},{"$nulls":4},{"$f":"(r0+r00)*COS($C323)-r00*COS((r0+r00)*$C323/r00)","v":6.893628984601269},{"$f":"(r0+r00)*SIN($C323)-r00*SIN((r0+r00)*$C323/r00)","v":11.019211845488343}]
[null,null,{"$f":"C323+Sheet2!B$12","v":{"v":51.308691308691245,"d":"51.309"}},{"$nulls":4},6.000340233987231,10.392879933686382]
[null,null,{"$f":"C324+Sheet2!B$12","v":{"v":51.4685314685314,"d":"51.469"}},{"$nulls":4},6.108017418063914,11.377310401485934]
[null,null,{"$f":"C325+Sheet2!B$12","v":{"v":51.62837162837156,"d":"51.628"}},{"$nulls":4},4.87646306229679,13.928890582894297]
[null,null,{"$f":"C326+Sheet2!B$12","v":{"v":51.78821178821172,"d":"51.788"}},{"$nulls":4},1.3329910983623765,15.871682737104258]
[null,null,{"$f":"C327+Sheet2!B$12","v":{"v":51.94805194805188,"d":"51.948"}},{"$nulls":4},-2.9715524392204795,15.3310684448997]
[null,null,{"$f":"C328+Sheet2!B$12","v":{"v":52.107892107892035,"d":"52.108"}},{"$nulls":4},-5.647765880222713,12.83772422712463]
[null,null,{"$f":"C329+Sheet2!B$12","v":{"v":52.26773226773219,"d":"52.268"}},{"$nulls":4},-6.096921709190092,10.731748542159849]
[null,null,{"$f":"C330+Sheet2!B$12","v":{"v":52.42757242757235,"d":"52.428"}},{"$nulls":4},-6.123902071615978,10.538212512107808]
[null,null,{"$f":"C331+Sheet2!B$12","v":{"v":52.58741258741251,"d":"52.587"}},{"$nulls":4},-7.84486427019452,11.27059039619958]
[null,null,{"$f":"C332+Sheet2!B$12","v":{"v":52.747252747252666,"d":"52.747"}},{"$nulls":4},-11.248407192805002,10.57291052537926]
[null,null,{"$f":"C333+Sheet2!B$12","v":{"v":52.907092907092824,"d":"52.907"}},{"$nulls":4},-14.159276066872783,7.413072030652797]
[null,null,{"$f":"C334+Sheet2!B$12","v":{"v":53.06693306693298,"d":"53.067"}},{"$nulls":4},-14.646749342757362,3.291983973674979]
[null,null,{"$f":"C335+Sheet2!B$12","v":{"v":53.22677322677314,"d":"53.227"}},{"$nulls":4},-13.165445865527484,0.6051030816286818]
[null,null,{"$f":"C336+Sheet2!B$12","v":{"v":53.3866133866133,"d":"53.387"}},{"$nulls":4},-12.017549703641286,9.5849559619926028E-4]
[null,null,{"$f":"C337+Sheet2!B$12","v":{"v":53.546453546453456,"d":"53.546"}},{"$nulls":4},-12.742974125468713,-0.28885458603756464]
[null,null,{"$f":"C338+Sheet2!B$12","v":{"v":53.706293706293614,"d":"53.706"}},{"$nulls":4},-14.378173586022996,-2.3949148415722714]
[null,null,{"$f":"C339+Sheet2!B$12","v":{"v":53.86613386613377,"d":"53.866"}},{"$nulls":4},-14.545423802678258,-6.346976896366087]
[null,null,{"$f":"C340+Sheet2!B$12","v":{"v":54.02597402597393,"d":"54.026"}},{"$nulls":4},-12.145268560471514,-9.97919884597575]
[null,null,{"$f":"C341+Sheet2!B$12","v":{"v":54.18581418581409,"d":"54.186"}},{"$nulls":4},-8.618416901085409,-11.31192948355145]
[null,null,{"$f":"C342+Sheet2!B$12","v":{"v":54.345654345654246,"d":"54.346"}},{"$nulls":4},-6.354818122084587,-10.728168916503586]
[null,null,{"$f":"C343+Sheet2!B$12","v":{"v":54.505494505494404,"d":"54.505"}},{"$nulls":4},-6.04146366015945,-10.494028428667487]
[null,null,{"$f":"C344+Sheet2!B$12","v":{"v":54.66533466533456,"d":"54.665"}},{"$nulls":4},-5.935909912223246,-12.164674648992]
[null,null,{"$f":"C345+Sheet2!B$12","v":{"v":54.82517482517472,"d":"54.825"}},{"$nulls":4},-3.882775717898471,-14.799322384816676]
[null,null,{"$f":"C346+Sheet2!B$12","v":{"v":54.98501498501488,"d":"54.985"}},{"$nulls":4},0.19997679730032797,-15.997142827585927]
[null,null,{"$f":"C347+Sheet2!B$12","v":{"v":55.144855144855036,"d":"55.145"}},{"$nulls":4},4.167553557214081,-14.587622617035585]
[null,null,{"$f":"C348+Sheet2!B$12","v":{"v":55.304695304695194,"d":"55.305"}},{"$nulls":4},6.002112442872132,-11.944726361765923]
[null,null,{"$f":"C349+Sheet2!B$12","v":{"v":55.46453546453535,"d":"55.465"}},{"$nulls":4},6.023591979541253,-10.444415271315144]
[null,null,{"$f":"C350+Sheet2!B$12","v":{"v":55.62437562437551,"d":"55.624"}},{"$nulls":4},6.468411601873348,-10.803175369535005]
[null,null,{"$f":"C351+Sheet2!B$12","v":{"v":55.78421578421567,"d":"55.784"}},{"$nulls":4},8.912240157529478,-11.295635461666695]
[null,null,{"$f":"C352+Sheet2!B$12","v":{"v":55.944055944055826,"d":"55.944"}},{"$nulls":4},12.441866251905344,-9.732090290147069]
[null,null,{"$f":"C353+Sheet2!B$12","v":{"v":56.103896103895984,"d":"56.104"}},{"$nulls":4},14.637130370840657,-5.967150157295716]
[null,null,{"$f":"C354+Sheet2!B$12","v":{"v":56.26373626373614,"d":"56.264"}},{"$nulls":4},14.257848981162626,-2.1121559277694484]
[null,null,{"$f":"C355+Sheet2!B$12","v":{"v":56.4235764235763,"d":"56.424"}},{"$nulls":4},12.609595913147363,-0.21080867613800525]
[null,null,{"$f":"C356+Sheet2!B$12","v":{"v":56.58341658341646,"d":"56.583"}},{"$nulls":4},12.050423879053858,0.004685188036241461]
[null,null,{"$f":"C357+Sheet2!B$12","v":{"v":56.743256743256616,"d":"56.743"}},{"$nulls":4},13.321456532807751,0.7504728565623828]
[null,null,{"$f":"C358+Sheet2!B$12","v":{"v":56.903096903096774,"d":"56.903"}},{"$nulls":4},14.709088992702473,3.631606989251453]
[null,null,{"$f":"C359+Sheet2!B$12","v":{"v":57.06293706293693,"d":"57.063"}},{"$nulls":4},13.982751926034878,7.771417890088615]
[null,null,{"$f":"C360+Sheet2!B$12","v":{"v":57.22277722277709,"d":"57.223"}},{"$nulls":4},10.924929574616625,10.738784766645388]
[null,null,{"$f":"C361+Sheet2!B$12","v":{"v":57.38261738261725,"d":"57.383"}},{"$nulls":4},7.602625481709359,11.230162350555927]
[null,null,{"$f":"C362+Sheet2!B$12","v":{"v":57.542457542457406,"d":"57.542"}},{"$nulls":4},6.073763556878641,10.486185485445686]
[null,null,{"$f":"C363+Sheet2!B$12","v":{"v":57.702297702297564,"d":"57.702"}},{"$nulls":4},6.111646556637348,10.848200228731182]
[null,null,{"$f":"C364+Sheet2!B$12","v":{"v":57.86213786213772,"d":"57.862"}},{"$nulls":4},5.510050613067308,13.082130677849413]
[null,null,{"$f":"C365+Sheet2!B$12","v":{"v":58.02197802197788,"d":"58.022"}},{"$nulls":4},2.6239628843116627,15.485647551576651]
[null,null,{"$f":"C366+Sheet2!B$12","v":{"v":58.18181818181804,"d":"58.182"}},{"$nulls":4},-1.7178934306757356,15.785284468645056]
[null,null,{"$f":"C367+Sheet2!B$12","v":{"v":58.341658341658196,"d":"58.342"}},{"$nulls":4},-5.084948146006523,13.686699423582976]
[null,null,{"$f":"C368+Sheet2!B$12","v":{"v":58.501498501498354,"d":"58.501"}},{"$nulls":4},-6.120373060680786,11.205184536172464]
[null,null,{"$f":"C369+Sheet2!B$12","v":{"v":58.66133866133851,"d":"58.661"}},{"$nulls":4},-6.007594557669837,10.404092805560246]
[null,null,{"$f":"C370+Sheet2!B$12","v":{"v":58.82117882117867,"d":"58.821"}},{"$nulls":4},-7.0771089886937455,11.088891929588678]
[null,null,{"$f":"C371+Sheet2!B$12","v":{"v":58.98101898101883,"d":"58.981"}},{"$nulls":4},-10.124719910177815,11.054297579388338]
[null,null,{"$f":"C372+Sheet2!B$12","v":{"v":59.140859140858986,"d":"59.141"}},{"$nulls":4},-13.463960774547669,8.60534742617647]
[null,null,{"$f":"C373+Sheet2!B$12","v":{"v":59.300699300699144,"d":"59.301"}},{"$nulls":4},-14.781564415081927,4.511187951451784]
[null,null,{"$f":"C374+Sheet2!B$12","v":{"v":59.4605394605393,"d":"59.461"}},{"$nulls":4},-13.706703140202091,1.1892689174191398]
[null,null,{"$f":"C375+Sheet2!B$12","v":{"v":59.62037962037946,"d":"59.620"}},{"$nulls":4},-12.200380129468847,0.037756127391478156]
[null,null,{"$f":"C376+Sheet2!B$12","v":{"v":59.78021978021962,"d":"59.780"}},{"$nulls":4},-12.326999250993063,-0.07990330287837133]
[null,null,{"$f":"C377+Sheet2!B$12","v":{"v":59.940059940059776,"d":"59.940"}},{"$nulls":4},-13.919198032240354,-1.4924656813672084]
[null,null,{"$f":"C378+Sheet2!B$12","v":{"v":60.09990009989993,"d":"60.100"}},{"$nulls":4},-14.767031796740628,-5.034513912575362]
[null,null,{"$f":"C379+Sheet2!B$12","v":{"v":60.25974025974009,"d":"60.260"}},{"$nulls":4},-13.118354000495577,-9.044348625682634]
[null,null,{"$f":"C380+Sheet2!B$12","v":{"v":60.41958041958025,"d":"60.420"}},{"$nulls":4},-9.673140188133516,-11.176721434192707]
[null,null,{"$f":"C381+Sheet2!B$12","v":{"v":60.57942057942041,"d":"60.579"}},{"$nulls":4},-6.824389436398686,-10.98965985077898]
[null,null,{"$f":"C382+Sheet2!B$12","v":{"v":60.739260739260565,"d":"60.739"}},{"$nulls":4},-6.000067680224083,-10.392423383397336]
[null,null,{"$f":"C383+Sheet2!B$12","v":{"v":60.89910089910072,"d":"60.899"}},{"$nulls":4},-6.099749114675316,-11.451188075388922]
[null,null,{"$f":"C384+Sheet2!B$12","v":{"v":61.05894105894088,"d":"61.059"}},{"$nulls":4},-4.786111069919199,-14.025726321718889]
[null,null,{"$f":"C385+Sheet2!B$12","v":{"v":61.21878121878104,"d":"61.219"}},{"$nulls":4},-1.1749376683094979,-15.900554771222868]
[null,null,{"$f":"C386+Sheet2!B$12","v":{"v":61.3786213786212,"d":"61.379"}},{"$nulls":4},{"$f":"(r0+r00)*COS($C387)-r00*COS((r0+r00)*$C387/r00)","v":3.10842973488806},{"$f":"(r0+r00)*SIN($C387)-r00*SIN((r0+r00)*$C387/r00)","v":-15.263480435066715}]
[null,null,{"$f":"C387+Sheet2!B$12","v":{"v":61.538461538461355,"d":"61.538"}},{"$nulls":4},5.69795170053031,-12.739607069772319]
[null,null,{"$f":"C388+Sheet2!B$12","v":{"v":61.69830169830151,"d":"61.698"}},{"$nulls":4},6.089812731913127,-10.689441639571172]
[null,null,{"$f":"C389+Sheet2!B$12","v":{"v":61.85814185814167,"d":"61.858"}},{"$nulls":4},6.1484971400178345,-10.56180895605211]
[null,null,{"$f":"C390+Sheet2!B$12","v":{"v":62.01798201798183,"d":"62.018"}},{"$nulls":4},7.94743159327287,-11.283523723403073]
[null,null,{"$f":"C391+Sheet2!B$12","v":{"v":62.17782217782199,"d":"62.178"}},{"$nulls":4},11.378471566483302,-10.499490409493541]
[null,null,{"$f":"C392+Sheet2!B$12","v":{"v":62.337662337662145,"d":"62.338"}},{"$nulls":4},14.224826154164393,-7.265316836185532]
[null,null,{"$f":"C393+Sheet2!B$12","v":{"v":62.4975024975023,"d":"62.498"}},{"$nulls":4},14.616509606966094,-3.15788302890541]
[null,null,{"$f":"C394+Sheet2!B$12","v":{"v":62.65734265734246,"d":"62.657"}},{"$nulls":4},13.103026841273165,-0.5514866936805154]
[null,null,{"$f":"C395+Sheet2!B$12","v":{"v":62.81718281718262,"d":"62.817"}},{"$nulls":4},12.009029850356258,-3.5342503077681608E-4]
[null,null,{"$f":"C396+Sheet2!B$12","v":{"v":62.97702297702278,"d":"62.977"}},{"$nulls":4},12.799520301353612,0.32503276088300015]
[null,null,{"$f":"C397+Sheet2!B$12","v":{"v":63.136863136862935,"d":"63.137"}},{"$nulls":4},14.42342024541012,2.5142848184365585]
[null,null,{"$f":"C398+Sheet2!B$12","v":{"v":63.29670329670309,"d":"63.297"}},{"$nulls":4},14.501830802963738,6.50029025273336]
[null,null,{"$f":"C399+Sheet2!B$12","v":{"v":63.45654345654325,"d":"63.457"}},{"$nulls":4},12.022156793348929,10.073651307339205]
[null,null,{"$f":"C400+Sheet2!B$12","v":{"v":63.61638361638341,"d":"63.616"}},{"$nulls":4},8.502481652213637,11.313678639471293]
[null,null,{"$f":"C401+Sheet2!B$12","v":{"v":63.77622377622357,"d":"63.776"}},{"$nulls":4},6.313782148016432,10.69861167418239]
[null,null,{"$f":"C402+Sheet2!B$12","v":{"v":63.936063936063725,"d":"63.936"}},{"$nulls":4},6.049382690198943,10.519014415199683]
[null,null,{"$f":"C403+Sheet2!B$12","v":{"v":64.09590409590389,"d":"64.096"}},{"$nulls":4},5.904242120237013,12.25644644821737]
[null,null,{"$f":"C404+Sheet2!B$12","v":{"v":64.25574425574405,"d":"64.256"}},{"$nulls":4},3.7621647184483678,14.88169299643157]
[null,null,{"$f":"C405+Sheet2!B$12","v":{"v":64.4155844155842,"d":"64.416"}},{"$nulls":4},-0.3619280851671761,15.990635994752877]
[null,null,{"$f":"C406+Sheet2!B$12","v":{"v":64.57542457542436,"d":"64.575"}},{"$nulls":4},-4.277662721907749,14.498672786291783]
[null,null,{"$f":"C407+Sheet2!B$12","v":{"v":64.73526473526452,"d":"64.735"}},{"$nulls":4},-6.024322849534949,11.858452348095923]
[null,null,{"$f":"C408+Sheet2!B$12","v":{"v":64.89510489510468,"d":"64.895"}},{"$nulls":4},-6.017351564434769,10.429108389703547]
[null,null,{"$f":"C409+Sheet2!B$12","v":{"v":65.05494505494484,"d":"65.055"}},{"$nulls":4},-6.51954401318717,10.834097941365108]
[null,null,{"$f":"C410+Sheet2!B$12","v":{"v":65.214785214785,"d":"65.215"}},{"$nulls":4},-9.034245201145625,11.283961144001985]
[null,null,{"$f":"C411+Sheet2!B$12","v":{"v":65.37462537462515,"d":"65.375"}},{"$nulls":4},-12.558897889487305,9.626354144813435]
[null,null,{"$f":"C412+Sheet2!B$12","v":{"v":65.53446553446531,"d":"65.534"}},{"$nulls":4},-14.667875839867932,5.8128775457588935]
[null,null,{"$f":"C413+Sheet2!B$12","v":{"v":65.69430569430547,"d":"65.694"}},{"$nulls":4},-14.205849064758894,2.002449040764634]
[null,null,{"$f":"C414+Sheet2!B$12","v":{"v":65.85414585414563,"d":"65.854"}},{"$nulls":4},-12.558282454984568,0.1835131359485629]
[null,null,{"$f":"C415+Sheet2!B$12","v":{"v":66.01398601398579,"d":"66.014"}},{"$nulls":4},-12.068490200877246,-0.007431797443142263]
[null,null,{"$f":"C416+Sheet2!B$12","v":{"v":66.17382617382594,"d":"66.174"}},{"$nulls":4},-13.385188621526295,-0.8147927748505226]
[null,null,{"$f":"C417+Sheet2!B$12","v":{"v":66.3336663336661,"d":"66.334"}},{"$nulls":4},-14.729167880379826,-3.7725805820320213]
[null,null,{"$f":"C418+Sheet2!B$12","v":{"v":66.49350649350626,"d":"66.494"}},{"$nulls":4},-13.905328942799503,-7.91386187834179]
[null,null,{"$f":"C419+Sheet2!B$12","v":{"v":66.65334665334642,"d":"66.653"}},{"$nulls":4},-10.793089541694679,-10.79982294356688]
[null,null,{"$f":"C420+Sheet2!B$12","v":{"v":66.81318681318658,"d":"66.813"}},{"$nulls":4},-7.508971796504645,-11.210617209660025]
[null,null,{"$f":"C421+Sheet2!B$12","v":{"v":66.97302697302673,"d":"66.973"}},{"$nulls":4},-6.05751513920481,-10.467877432541107]
[null,null,{"$f":"C422+Sheet2!B$12","v":{"v":67.13286713286689,"d":"67.133"}},{"$nulls":4},-6.116143089836215,-10.900242374565005]
[null,null,{"$f":"C423+Sheet2!B$12","v":{"v":67.29270729270705,"d":"67.293"}},{"$nulls":4},-5.44849849782557,-13.181828375843814]
[null,null,{"$f":"C424+Sheet2!B$12","v":{"v":67.45254745254721,"d":"67.453"}},{"$nulls":4},-2.479302378041293,-15.543150472610971]
[null,null,{"$f":"C425+Sheet2!B$12","v":{"v":67.61238761238737,"d":"67.612"}},{"$nulls":4},1.8715654701587767,-15.744241014934433]
[null,null,{"$f":"C426+Sheet2!B$12","v":{"v":67.77222777222752,"d":"67.772"}},{"$nulls":4},5.163591396067868,-13.587528666344106]
[null,null,{"$f":"C427+Sheet2!B$12","v":{"v":67.93206793206768,"d":"67.932"}},{"$nulls":4},6.122414058670966,-11.139687636224455]
[null,null,{"$f":"C428+Sheet2!B$12","v":{"v":68.09190809190784,"d":"68.092"}},{"$nulls":4},6.013480667352622,-10.412535879939703]
[null,null,{"$f":"C429+Sheet2!B$12","v":{"v":68.251748251748,"d":"68.252"}},{"$nulls":4},7.156565084767019,-11.115496061650369]
[null,null,{"$f":"C430+Sheet2!B$12","v":{"v":68.41158841158816,"d":"68.412"}},{"$nulls":4},10.25624817176828,-11.011260091730907]
[null,null,{"$f":"C431+Sheet2!B$12","v":{"v":68.57142857142831,"d":"68.571"}},{"$nulls":4},13.557326475825322,-8.47323660548325]
[null,null,{"$f":"C432+Sheet2!B$12","v":{"v":68.73126873126847,"d":"68.731"}},{"$nulls":4},14.777978949588816,-4.362566787776993]
[null,null,{"$f":"C433+Sheet2!B$12","v":{"v":68.89110889110863,"d":"68.891"}},{"$nulls":4},13.643873599916986,-1.108888701525507]
[null,null,{"$f":"C434+Sheet2!B$12","v":{"v":69.05094905094879,"d":"69.051"}},{"$nulls":4},12.169169346136028,-0.029181933515229685]
[null,null,{"$f":"C435+Sheet2!B$12","v":{"v":69.21078921078895,"d":"69.211"}},{"$nulls":4},12.368545909452227,0.0960912606548916]
[null,null,{"$f":"C436+Sheet2!B$12","v":{"v":69.3706293706291,"d":"69.371"}},{"$nulls":4},13.97841659202119,1.586924971579267]
[null,null,{"$f":"C437+Sheet2!B$12","v":{"v":69.53046953046926,"d":"69.530"}},{"$nulls":4},14.754884091524247,5.18726921170419]
[null,null,{"$f":"C438+Sheet2!B$12","v":{"v":69.69030969030942,"d":"69.690"}},{"$nulls":4},13.012730615650533,9.165092483287966]
[null,null,{"$f":"C439+Sheet2!B$12","v":{"v":69.85014985014958,"d":"69.850"}},{"$nulls":4},9.54468198506942,11.204471386988821]
[null,null,{"$f":"C440+Sheet2!B$12","v":{"v":70.00999000998974,"d":"70.010"}},{"$nulls":4},6.758134874829725,10.95954920512486]
[null,null,{"$f":"C441+Sheet2!B$12","v":{"v":70.1698301698299,"d":"70.170"}},{"$nulls":4},6.001168314704756,10.394426518904169]
[null,null,{"$f":"C442+Sheet2!B$12","v":{"v":70.32967032967005,"d":"70.330"}},{"$nulls":4},6.0894374149928145,11.52732438375389]
[null,null,{"$f":"C443+Sheet2!B$12","v":{"v":70.48951048951021,"d":"70.490"}},{"$nulls":4},4.692418137402728,14.121591459074283]
[null,null,{"$f":"C444+Sheet2!B$12","v":{"v":70.64935064935037,"d":"70.649"}},{"$nulls":4},1.0159059330038596,15.925813932617686]
[null,null,{"$f":"C445+Sheet2!B$12","v":{"v":70.80919080919053,"d":"70.809"}},{"$nulls":4},-3.2428423737630396,15.193191022104958]
[null,null,{"$f":"C446+Sheet2!B$12","v":{"v":70.96903096903068,"d":"70.969"}},{"$nulls":4},-5.74494598903571,12.642229945714469]
[null,null,{"$f":"C447+Sheet2!B$12","v":{"v":71.12887112887084,"d":"71.129"}},{"$nulls":4},-6.082239393356798,10.649985175862497]
[null,null,{"$f":"C448+Sheet2!B$12","v":{"v":71.288711288711,"d":"71.289"}},{"$nulls":4},-6.175659230024229,10.586686462101975]
[null,null,{"$f":"C449+Sheet2!B$12","v":{"v":71.44855144855116,"d":"71.449"}},{"$nulls":4},-8.052414549810955,11.294297865831187]
[null,null,{"$f":"C450+Sheet2!B$12","v":{"v":71.60839160839132,"d":"71.608"}},{"$nulls":4},{"$f":"(r0+r00)*COS($C451)-r00*COS((r0+r00)*$C451/r00)","v":-11.507723620645725},{"$f":"(r0+r00)*SIN($C451)-r00*SIN((r0+r00)*$C451/r00)","v":10.422527567887574}]
[null,null,{"$f":"C451+Sheet2!B$12","v":{"v":71.76823176823147,"d":"71.768"}},{"$nulls":4},-14.28684078633565,7.116312110853153]
[null,null,{"$f":"C452+Sheet2!B$12","v":{"v":71.92807192807163,"d":"71.928"}},{"$nulls":4},-14.583539203862653,3.025988244339362]
[null,null,{"$f":"C453+Sheet2!B$12","v":{"v":72.08791208791179,"d":"72.088"}},{"$nulls":4},-13.04126993781525,0.5008769730555978]
[null,null,{"$f":"C454+Sheet2!B$12","v":{"v":72.24775224775195,"d":"72.248"}},{"$nulls":4},-12.00330973877465,7.8377791580555578E-5]
[null,null,{"$f":"C455+Sheet2!B$12","v":{"v":72.4075924075921,"d":"72.408"}},{"$nulls":4},-12.8573325854392,-0.363936952899951]
[null,null,{"$f":"C456+Sheet2!B$12","v":{"v":72.56743256743226,"d":"72.567"}},{"$nulls":4},-14.466461332623632,-2.6362908652416595]
[null,null,{"$f":"C457+Sheet2!B$12","v":{"v":72.72727272727242,"d":"72.727"}},{"$nulls":4},-14.454552200097055,-6.6530246040342345]
[null,null,{"$f":"C458+Sheet2!B$12","v":{"v":72.88711288711258,"d":"72.887"}},{"$nulls":4},-11.89756947662993,-10.164730215427426]
[null,null,{"$f":"C459+Sheet2!B$12","v":{"v":73.04695304695274,"d":"73.047"}},{"$nulls":4},-8.388523882056358,-11.312758010217724]
[null,null,{"$f":"C460+Sheet2!B$12","v":{"v":73.2067932067929,"d":"73.207"}},{"$nulls":4},-6.2755828766248225,-10.669730952018945]
[null,null,{"$f":"C461+Sheet2!B$12","v":{"v":73.36663336663305,"d":"73.367"}},{"$nulls":4},-6.057498628346404,-10.546842159414275]
[null,null,{"$f":"C462+Sheet2!B$12","v":{"v":73.52647352647321,"d":"73.526"}},{"$nulls":4},-5.869677006500018,-12.349561865415861]
[null,null,{"$f":"C463+Sheet2!B$12","v":{"v":73.68631368631337,"d":"73.686"}},{"$nulls":4},-3.6386702217645133,-14.961902412164333]
[null,null,{"$f":"C464+Sheet2!B$12","v":{"v":73.84615384615353,"d":"73.846"}},{"$nulls":4},0.5235761219409216,-15.98038651014379]
[null,null,{"$f":"C465+Sheet2!B$12","v":{"v":74.00599400599368,"d":"74.006"}},{"$nulls":4},4.384616848358886,-14.408098381863939]
[null,null,{"$f":"C466+Sheet2!B$12","v":{"v":74.16583416583384,"d":"74.166"}},{"$nulls":4},6.043992073032812,-11.77399275565182]
[null,null,{"$f":"C467+Sheet2!B$12","v":{"v":74.325674325674,"d":"74.326"}},{"$nulls":4},6.01187794391954,-10.416522036629436]
[null,null,{"$f":"C468+Sheet2!B$12","v":{"v":74.48551448551416,"d":"74.486"}},{"$nulls":4},6.573642847810108,-10.865126522238898]
[null,null,{"$f":"C469+Sheet2!B$12","v":{"v":74.64535464535432,"d":"74.645"}},{"$nulls":4},9.15776039826372,-11.269247979367687]
[null,null,{"$f":"C470+Sheet2!B$12","v":{"v":74.80519480519447,"d":"74.805"}},{"$nulls":4},12.67390677819676,-9.51750221457283]
[null,null,{"$f":"C471+Sheet2!B$12","v":{"v":74.96503496503463,"d":"74.965"}},{"$nulls":4},14.694917436925142,-5.658631070472446]
[null,null,{"$f":"C472+Sheet2!B$12","v":{"v":75.12487512487479,"d":"75.125"}},{"$nulls":4},14.152168978702372,-1.8956610060096404]
[null,null,{"$f":"C473+Sheet2!B$12","v":{"v":75.28471528471495,"d":"75.285"}},{"$nulls":4},12.508708397646966,-0.15859825713710718]
[null,null,{"$f":"C474+Sheet2!B$12","v":{"v":75.4445554445551,"d":"75.445"}},{"$nulls":4},12.089242461887453,0.01107957959356265]
[null,null,{"$f":"C475+Sheet2!B$12","v":{"v":75.60439560439526,"d":"75.604"}},{"$nulls":4},13.449010514940616,0.8822594634060832]
[null,null,{"$f":"C476+Sheet2!B$12","v":{"v":75.76423576423542,"d":"75.764"}},{"$nulls":4},14.746132547267015,3.9152984067941663]
[null,null,{"$f":"C477+Sheet2!B$12","v":{"v":75.92407592407558,"d":"75.924"}},{"$nulls":4},13.824612385643027,8.054500217116367]
[null,null,{"$f":"C478+Sheet2!B$12","v":{"v":76.08391608391574,"d":"76.084"}},{"$nulls":4},10.661038492872347,10.857282928355572]
[null,null,{"$f":"C479+Sheet2!B$12","v":{"v":76.2437562437559,"d":"76.244"}},{"$nulls":4},7.4180253037126755,11.189427517435542]
[null,null,{"$f":"C480+Sheet2!B$12","v":{"v":76.40359640359605,"d":"76.404"}},{"$nulls":4},6.043496922554794,10.451326319345286]
[null,null,{"$f":"C481+Sheet2!B$12","v":{"v":76.56343656343621,"d":"76.563"}},{"$nulls":4},6.119600688947025,10.955028570381142]
[null,null,{"$f":"C482+Sheet2!B$12","v":{"v":76.72327672327637,"d":"76.723"}},{"$nulls":4},5.383602041660425,13.281691804950052]
[null,null,{"$f":"C483+Sheet2!B$12","v":{"v":76.88311688311653,"d":"76.883"}},{"$nulls":4},2.3326312385225147,15.597553299745694]
[null,null,{"$f":"C484+Sheet2!B$12","v":{"v":77.04295704295669,"d":"77.043"}},{"$nulls":4},-2.0236965579759714,15.699809385737474]
[null,null,{"$f":"C485+Sheet2!B$12","v":{"v":77.20279720279684,"d":"77.203"}},{"$nulls":4},-5.238842970590181,13.487982982277792]
[null,null,{"$f":"C486+Sheet2!B$12","v":{"v":77.362637362637,"d":"77.363"}},{"$nulls":4},-6.122916927665432,11.076747777360824]
[null,null,{"$f":"C487+Sheet2!B$12","v":{"v":77.52247752247716,"d":"77.522"}},{"$nulls":4},-6.021219543286986,10.423108485326367]
[null,null,{"$f":"C488+Sheet2!B$12","v":{"v":77.68231768231732,"d":"77.682"}},{"$nulls":4},-7.238908244525944,11.140961602576944]
[null,null,{"$f":"C489+Sheet2!B$12","v":{"v":77.84215784215748,"d":"77.842"}},{"$nulls":4},-10.388109107709042,10.964705693338875]
[null,null,{"$f":"C490+Sheet2!B$12","v":{"v":78.00199800199763,"d":"78.002"}},{"$nulls":4},-13.647701345520789,8.338858319277843]
[null,null,{"$f":"C491+Sheet2!B$12","v":{"v":78.16183816183779,"d":"78.162"}},{"$nulls":4},-14.771006156370692,4.215214740232494]
[null,null,{"$f":"C492+Sheet2!B$12","v":{"v":78.32167832167795,"d":"78.322"}},{"$nulls":4},-13.580597021920456,1.0316907727175777]
[null,null,{"$f":"C493+Sheet2!B$12","v":{"v":78.48151848151811,"d":"78.482"}},{"$nulls":4},-12.140451306143804,0.022003144845775813]
[null,null,{"$f":"C494+Sheet2!B$12","v":{"v":78.64135864135827,"d":"78.641"}},{"$nulls":4},-12.41220071472921,-0.11427590394232334]
[null,null,{"$f":"C495+Sheet2!B$12","v":{"v":78.80119880119842,"d":"78.801"}},{"$nulls":4},-14.036468926130459,-1.684474095904275]
[null,null,{"$f":"C496+Sheet2!B$12","v":{"v":78.96103896103858,"d":"78.961"}},{"$nulls":4},-14.739109419200371,-5.340595698241365]
[null,null,{"$f":"C497+Sheet2!B$12","v":{"v":79.12087912087874,"d":"79.121"}},{"$nulls":4},-12.904632660133553,-9.283036691832487]
[null,null,{"$f":"C498+Sheet2!B$12","v":{"v":79.2807192807189,"d":"79.281"}},{"$nulls":4},-9.417255674835108,-11.228923685435541]
[null,null,{"$f":"C499+Sheet2!B$12","v":{"v":79.44055944055906,"d":"79.441"}},{"$nulls":4},-6.694872583897003,-10.929011330703963]
[null,null,{"$f":"C500+Sheet2!B$12","v":{"v":79.60039960039921,"d":"79.600"}},{"$nulls":4},-6.0035269904627695,-10.398950776263597]
[null,null,{"$f":"C501+Sheet2!B$12","v":{"v":79.76023976023937,"d":"79.760"}},{"$nulls":4},-6.076977068475591,-11.605640076269093]
[null,null,{"$f":"C502+Sheet2!B$12","v":{"v":79.92007992007953,"d":"79.920"}},{"$nulls":4},-4.595410291718457,-14.21635429111641]
[null,null,{"$f":"C503+Sheet2!B$12","v":{"v":80.07992007991969,"d":"80.080"}},{"$nulls":4},-0.856026809695791,-15.947423851653406]
[null,null,{"$f":"C504+Sheet2!B$12","v":{"v":80.23976023975985,"d":"80.240"}},{"$nulls":4},3.3746990502797782,-15.120300027504964]
[null,null,{"$f":"C505+Sheet2!B$12","v":{"v":80.3996003996,"d":"80.400"}},{"$nulls":4},5.788796945826886,-12.545716766387697]
[null,null,{"$f":"C506+Sheet2!B$12","v":{"v":80.55944055944016,"d":"80.559"}},{"$nulls":4},6.074332218340712,-10.613388379557415]
[null,null,{"$f":"C507+Sheet2!B$12","v":{"v":80.71928071928032,"d":"80.719"}},{"$nulls":4},6.205451429990967,-10.612730454689329]
[null,null,{"$f":"C508+Sheet2!B$12","v":{"v":80.87912087912048,"d":"80.879"}},{"$nulls":4},8.159735243474172,-11.302805217912702]
[null,null,{"$f":"C509+Sheet2!B$12","v":{"v":81.03896103896064,"d":"81.039"}},{"$nulls":4},11.636030063028889,-10.342044658344657]
[null,null,{"$f":"C510+Sheet2!B$12","v":{"v":81.1988011988008,"d":"81.199"}},{"$nulls":4},14.34527963015712,-6.9661876308944315]
[null,null,{"$f":"C511+Sheet2!B$12","v":{"v":81.35864135864095,"d":"81.359"}},{"$nulls":4},14.547934786804518,-2.896392946330972]
[null,null,{"$f":"C512+Sheet2!B$12","v":{"v":81.51848151848111,"d":"81.518"}},{"$nulls":4},12.980298928873076,-0.45322848429782203]
[null,null,{"$f":"C513+Sheet2!B$12","v":{"v":81.67832167832127,"d":"81.678"}},{"$nulls":4},12.000400305463408,-3.2957215539974882E-6]
[null,null,{"$f":"C514+Sheet2!B$12","v":{"v":81.83816183816143,"d":"81.838"}},{"$nulls":4},{"$f":"(r0+r00)*COS($C515)-r00*COS((r0+r00)*$C515/r00)","v":12.916296720510736},{"$f":"(r0+r00)*SIN($C515)-r00*SIN((r0+r00)*$C515/r00)","v":0.4056323223060321}]
[null,null,{"$f":"C515+Sheet2!B$12","v":{"v":81.99800199800158,"d":"81.998"}},{"$nulls":4},14.507186563065348,2.7608568715937722]
[null,null,{"$f":"C516+Sheet2!B$12","v":{"v":82.15784215784174,"d":"82.158"}},{"$nulls":4},14.403606838625418,6.80504546315811]
[null,null,{"$f":"C517+Sheet2!B$12","v":{"v":82.3176823176819,"d":"82.318"}},{"$nulls":4},11.771634703500663,10.252391549589166]
[null,null,{"$f":"C518+Sheet2!B$12","v":{"v":82.47752247752206,"d":"82.478"}},{"$nulls":4},8.276638378279602,11.309261212286824]
[null,null,{"$f":"C519+Sheet2!B$12","v":{"v":82.63736263736222,"d":"82.637"}},{"$nulls":4},6.240177121987825,10.641650420144657]
[null,null,{"$f":"C520+Sheet2!B$12","v":{"v":82.79720279720237,"d":"82.797"}},{"$nulls":4},6.065681400312152,10.577524307131263]
[null,null,{"$f":"C521+Sheet2!B$12","v":{"v":82.95704295704253,"d":"82.957"}},{"$nulls":4},5.832146831178935,12.443906935732835]
[null,null,{"$f":"C522+Sheet2!B$12","v":{"v":83.11688311688269,"d":"83.117"}},{"$nulls":4},3.5123659969837453,15.039837555781656]
[null,null,{"$f":"C523+Sheet2!B$12","v":{"v":83.27672327672285,"d":"83.277"}},{"$nulls":4},-0.6847857758653606,15.96640915050275]
[null,null,{"$f":"C524+Sheet2!B$12","v":{"v":83.436563436563,"d":"83.437"}},{"$nulls":4},-4.488368690361957,14.316025433080577]
[null,null,{"$f":"C525+Sheet2!B$12","v":{"v":83.59640359640316,"d":"83.596"}},{"$nulls":4},-6.061211032847993,11.691443402354572]
[null,null,{"$f":"C526+Sheet2!B$12","v":{"v":83.75624375624332,"d":"83.756"}},{"$nulls":4},-6.00729494375771,10.406614854039]
[null,null,{"$f":"C527+Sheet2!B$12","v":{"v":83.91608391608348,"d":"83.916"}},{"$nulls":4},-6.6307226984244405,10.896130596424326]
[null,null,{"$f":"C528+Sheet2!B$12","v":{"v":84.07592407592364,"d":"84.076"}},{"$nulls":4},-9.282672293593905,11.251425160781313]
[null,null,{"$f":"C529+Sheet2!B$12","v":{"v":84.2357642357638,"d":"84.236"}},{"$nulls":4},-12.78677718214298,9.405605353124637]
[null,null,{"$f":"C530+Sheet2!B$12","v":{"v":84.39560439560395,"d":"84.396"}},{"$nulls":4},-14.718265855299476,5.504545898890458]
[null,null,{"$f":"C531+Sheet2!B$12","v":{"v":84.55544455544411,"d":"84.555"}},{"$nulls":4},-14.096932533297414,1.7918417364488959]
[null,null,{"$f":"C532+Sheet2!B$12","v":{"v":84.71528471528427,"d":"84.715"}},{"$nulls":4},-12.460970364368784,0.13597534615065743]
[null,null,{"$f":"C533+Sheet2!B$12","v":{"v":84.87512487512443,"d":"84.875"}},{"$nulls":4},-12.112640892651287,-0.015752936205319368]
[null,null,{"$f":"C534+Sheet2!B$12","v":{"v":85.03496503496459,"d":"85.035"}},{"$nulls":4},-13.512790986075947,-0.952889886754394]
[null,null,{"$f":"C535+Sheet2!B$12","v":{"v":85.19480519480474,"d":"85.195"}},{"$nulls":4},-14.75990875650644,-4.059647945389994]
[null,null,{"$f":"C536+Sheet2!B$12","v":{"v":85.3546453546449,"d":"85.355"}},{"$nulls":4},-13.740669708287843,-8.193214871671087]
[null,null,{"$f":"C537+Sheet2!B$12","v":{"v":85.51448551448506,"d":"85.514"}},{"$nulls":4},-10.528911073245853,-10.911171555839234]
[null,null,{"$f":"C538+Sheet2!B$12","v":{"v":85.67432567432522,"d":"85.674"}},{"$nulls":4},-7.32983803520042,-11.166714954819211]
[null,null,{"$f":"C539+Sheet2!B$12","v":{"v":85.83416583416538,"d":"85.834"}},{"$nulls":4},-6.031621940475235,-10.436629591694405]
[null,null,{"$f":"C540+Sheet2!B$12","v":{"v":85.99400599400553,"d":"85.994"}},{"$nulls":4},-6.121893891284598,-11.012520630637214]
[null,null,{"$f":"C541+Sheet2!B$12","v":{"v":86.15384615384569,"d":"86.154"}},{"$nulls":4},-5.315341382772624,-13.381588979424597]
[null,null,{"$f":"C542+Sheet2!B$12","v":{"v":86.31368631368585,"d":"86.314"}},{"$nulls":4},-2.1840604840228073,-15.648778208093495]
[null,null,{"$f":"C543+Sheet2!B$12","v":{"v":86.47352647352601,"d":"86.474"}},{"$nulls":4},2.174166888613555,-15.65205333064766]
[null,null,{"$f":"C544+Sheet2!B$12","v":{"v":86.63336663336617,"d":"86.633"}},{"$nulls":4},5.310706265288363,-13.388196086356249]
[null,null,{"$f":"C545+Sheet2!B$12","v":{"v":86.79320679320632,"d":"86.793"}},{"$nulls":4},6.122001523843695,-11.016418679035077]
[null,null,{"$f":"C546+Sheet2!B$12","v":{"v":86.95304695304648,"d":"86.953"}},{"$nulls":4},6.030909700721084,-10.43572496465412]
[null,null,{"$f":"C547+Sheet2!B$12","v":{"v":87.11288711288664,"d":"87.113"}},{"$nulls":4},7.324102100858308,-11.1651615885111]
[null,null,{"$f":"C548+Sheet2!B$12","v":{"v":87.2727272727268,"d":"87.273"}},{"$nulls":4},10.520170170336662,-10.91461110662226]
[null,null,{"$f":"C549+Sheet2!B$12","v":{"v":87.43256743256696,"d":"87.433"}},{"$nulls":4},13.735004056055,-8.202321490549531]
[null,null,{"$f":"C550+Sheet2!B$12","v":{"v":87.59240759240711,"d":"87.592"}},{"$nulls":4},14.760706011893607,-4.069252784753759]
[null,null,{"$f":"C551+Sheet2!B$12","v":{"v":87.75224775224727,"d":"87.752"}},{"$nulls":4},13.51700600278523,-0.9576746457445777]
[null,null,{"$f":"C552+Sheet2!B$12","v":{"v":87.91208791208743,"d":"87.912"}},{"$nulls":4},12.114281183511814,-0.016101283326236726]
[null,null,{"$f":"C553+Sheet2!B$12","v":{"v":88.07192807192759,"d":"88.072"}},{"$nulls":4},12.45787907492464,0.13455723475073]
[null,null,{"$f":"C554+Sheet2!B$12","v":{"v":88.23176823176775,"d":"88.232"}},{"$nulls":4},14.093226274719633,1.785078935915674]
[null,null,{"$f":"C555+Sheet2!B$12","v":{"v":88.3916083916079,"d":"88.392"}},{"$nulls":4},14.71968068103515,5.4943606768211914]
[null,null,{"$f":"C556+Sheet2!B$12","v":{"v":88.55144855144806,"d":"88.551"}},{"$nulls":4},12.79416644281801,9.398096740135847]
[null,null,{"$f":"C557+Sheet2!B$12","v":{"v":88.71128871128822,"d":"88.711"}},{"$nulls":4},9.290982840540117,11.250134706822362]
[null,null,{"$f":"C558+Sheet2!B$12","v":{"v":88.87112887112838,"d":"88.871"}},{"$nulls":4},6.634604457578471,10.898177762020449]
[null,null,{"$f":"C559+Sheet2!B$12","v":{"v":89.03096903096854,"d":"89.031"}},{"$nulls":4},6.007026120238843,10.406052791121054]
[null,null,{"$f":"C560+Sheet2!B$12","v":{"v":89.1908091908087,"d":"89.191"}},{"$nulls":4},6.062266091864944,11.686051612805464]
[null,null,{"$f":"C561+Sheet2!B$12","v":{"v":89.35064935064885,"d":"89.351"}},{"$nulls":4},4.495118859751182,14.309884184032216]
[null,null,{"$f":"C562+Sheet2!B$12","v":{"v":89.51048951048901,"d":"89.510"}},{"$nulls":4},0.69543258056709,15.965353400064147]
[null,null,{"$f":"C563+Sheet2!B$12","v":{"v":89.67032967032917,"d":"89.670"}},{"$nulls":4},-3.5039125660518424,15.044910797757169]
[null,null,{"$f":"C564+Sheet2!B$12","v":{"v":89.83016983016932,"d":"89.830"}},{"$nulls":4},-5.829557725179905,12.450189297728848]
[null,null,{"$f":"C565+Sheet2!B$12","v":{"v":89.99000999000948,"d":"89.990"}},{"$nulls":4},-6.066221956233062,10.579655096998582]
[null,null,{"$f":"C566+Sheet2!B$12","v":{"v":90.14985014984964,"d":"90.150"}},{"$nulls":4},-6.237932077636597,10.639823818732081]
[null,null,{"$f":"C567+Sheet2!B$12","v":{"v":90.3096903096898,"d":"90.310"}},{"$nulls":4},-8.269311414108273,11.308941352585592]
[null,null,{"$f":"C568+Sheet2!B$12","v":{"v":90.46953046952996,"d":"90.470"}},{"$nulls":4},-11.763258552722728,10.258069666741529]
[null,null,{"$f":"C569+Sheet2!B$12","v":{"v":90.62937062937011,"d":"90.629"}},{"$nulls":4},-14.400107560935227,6.815074657952797]
[null,null,{"$f":"C570+Sheet2!B$12","v":{"v":90.78921078921027,"d":"90.789"}},{"$nulls":4},-14.509796622134953,2.7691864385983287]
[null,null,{"$f":"C571+Sheet2!B$12","v":{"v":90.94905094905043,"d":"90.949"}},{"$nulls":4},-12.92023555154912,0.40849079885873074]
[null,null,{"$f":"C572+Sheet2!B$12","v":{"v":91.10889110889059,"d":"91.109"}},{"$nulls":4},-12.000307112363082,-2.2146480821300107E-6]
[null,null,{"$f":"C573+Sheet2!B$12","v":{"v":91.26873126873075,"d":"91.269"}},{"$nulls":4},-12.97629580922859,-0.4501793289270124]
[null,null,{"$f":"C574+Sheet2!B$12","v":{"v":91.4285714285709,"d":"91.429"}},{"$nulls":4},-14.545488738080183,-2.8879022891738604]
[null,null,{"$f":"C575+Sheet2!B$12","v":{"v":91.58841158841106,"d":"91.588"}},{"$nulls":4},-14.349018914929447,-6.956219172701659]
[null,null,{"$f":"C576+Sheet2!B$12","v":{"v":91.74825174825122,"d":"91.748"}},{"$nulls":4},-11.644482170837506,-10.336596459611362]
[null,null,{"$f":"C577+Sheet2!B$12","v":{"v":91.90809190809138,"d":"91.908"}},{"$nulls":4},-8.166915991353198,-11.303285558441793]
[null,null,{"$f":"C578+Sheet2!B$12","v":{"v":92.06793206793154,"d":"92.068"}},{"$nulls":4},{"$f":"(r0+r00)*COS($C579)-r00*COS((r0+r00)*$C579/r00)","v":-6.207516668032749},{"$f":"(r0+r00)*SIN($C579)-r00*SIN((r0+r00)*$C579/r00)","v":-10.614491818816616}]
[null,null,{"$f":"C579+Sheet2!B$12","v":{"v":92.2277722277717,"d":"92.228"}},{"$nulls":4},-6.073800485861436,-10.61106813650172]
[null,null,{"$f":"C580+Sheet2!B$12","v":{"v":92.38761238761185,"d":"92.388"}},{"$nulls":4},-5.79158850282496,-12.539364951714791]
[null,null,{"$f":"C581+Sheet2!B$12","v":{"v":92.54745254745201,"d":"92.547"}},{"$nulls":4},-3.383330324127178,-15.115388339955306]
[null,null,{"$f":"C582+Sheet2!B$12","v":{"v":92.70729270729217,"d":"92.707"}},{"$nulls":4},0.8454226214187137,-15.948724062789108]
[null,null,{"$f":"C583+Sheet2!B$12","v":{"v":92.86713286713233,"d":"92.867"}},{"$nulls":4},4.5888761297311955,-14.22258168793569]
[null,null,{"$f":"C584+Sheet2!B$12","v":{"v":93.02697302697248,"d":"93.027"}},{"$nulls":4},6.076074424009992,-11.610896254022366]
[null,null,{"$f":"C585+Sheet2!B$12","v":{"v":93.18681318681264,"d":"93.187"}},{"$nulls":4},6.003724564930858,-10.399340417228528]
[null,null,{"$f":"C586+Sheet2!B$12","v":{"v":93.3466533466528,"d":"93.347"}},{"$nulls":4},6.690792796728882,-10.926979090422796]
[null,null,{"$f":"C587+Sheet2!B$12","v":{"v":93.50649350649296,"d":"93.506"}},{"$nulls":4},9.408864585065485,-11.230426474490178]
[null,null,{"$f":"C588+Sheet2!B$12","v":{"v":93.66633366633312,"d":"93.666"}},{"$nulls":4},12.897396252757042,-9.29073899542088]
[null,null,{"$f":"C589+Sheet2!B$12","v":{"v":93.82617382617327,"d":"93.826"}},{"$nulls":4},14.737937171165301,-5.350756616097813]
[null,null,{"$f":"C590+Sheet2!B$12","v":{"v":93.98601398601343,"d":"93.986"}},{"$nulls":4},14.04026536856558,-1.6910360624251506]
[null,null,{"$f":"C591+Sheet2!B$12","v":{"v":94.14585414585359,"d":"94.146"}},{"$nulls":4},12.41516121023204,-0.11555185745205154]
[null,null,{"$f":"C592+Sheet2!B$12","v":{"v":94.30569430569375,"d":"94.306"}},{"$nulls":4},12.138640620225758,0.021574548670565297]
[null,null,{"$f":"C593+Sheet2!B$12","v":{"v":94.4655344655339,"d":"94.466"}},{"$nulls":4},13.576398136138284,1.026695655744199]
[null,null,{"$f":"C594+Sheet2!B$12","v":{"v":94.62537462537406,"d":"94.625"}},{"$nulls":4},14.770426804972981,4.205513727761188]
[null,null,{"$f":"C595+Sheet2!B$12","v":{"v":94.78521478521422,"d":"94.785"}},{"$nulls":4},13.653573012135057,8.329890589012155]
[null,null,{"$f":"C596+Sheet2!B$12","v":{"v":94.94505494505438,"d":"94.945"}},{"$nulls":4},10.396841468360957,10.961501050980242]
[null,null,{"$f":"C597+Sheet2!B$12","v":{"v":95.10489510489454,"d":"95.105"}},{"$nulls":4},7.2444569872183155,11.142603139609227]
[null,null,{"$f":"C598+Sheet2!B$12","v":{"v":95.2647352647347,"d":"95.265"}},{"$nulls":4},6.021799299566766,10.42388100988197]
[null,null,{"$f":"C599+Sheet2!B$12","v":{"v":95.42457542457485,"d":"95.425"}},{"$nulls":4},6.122898849362262,11.072675228698268]
[null,null,{"$f":"C600+Sheet2!B$12","v":{"v":95.58441558441501,"d":"95.584"}},{"$nulls":4},5.243702003830826,13.481387124883307]
[null,null,{"$f":"C601+Sheet2!B$12","v":{"v":95.74425574425517,"d":"95.744"}},{"$nulls":4},2.0337041895736285,15.696751841899484]
[null,null,{"$f":"C602+Sheet2!B$12","v":{"v":95.90409590409533,"d":"95.904"}},{"$nulls":4},-2.322859329825225,15.601041308422387]
[null,null,{"$f":"C603+Sheet2!B$12","v":{"v":96.06393606393549,"d":"96.064"}},{"$nulls":4},-5.379190068697012,13.288301354597396]
[null,null,{"$f":"C604+Sheet2!B$12","v":{"v":96.22377622377564,"d":"96.224"}},{"$nulls":4},-6.11978974410801,10.958749072372486]
[null,null,{"$f":"C605+Sheet2!B$12","v":{"v":96.3836163836158,"d":"96.384"}},{"$nulls":4},-6.042646051058497,10.450295659128665]
[null,null,{"$f":"C606+Sheet2!B$12","v":{"v":96.54345654345596,"d":"96.543"}},{"$nulls":4},-7.412105107524146,11.187970563654137]
[null,null,{"$f":"C607+Sheet2!B$12","v":{"v":96.70329670329612,"d":"96.703"}},{"$nulls":4},-10.652297903840802,10.860958385939801]
[null,null,{"$f":"C608+Sheet2!B$12","v":{"v":96.86313686313628,"d":"96.863"}},{"$nulls":4},-13.819157679111306,8.06373820218052]
[null,null,{"$f":"C609+Sheet2!B$12","v":{"v":97.02297702297643,"d":"97.023"}},{"$nulls":4},-14.747143257886108,3.9247993339940948]
[null,null,{"$f":"C610+Sheet2!B$12","v":{"v":97.18281718281659,"d":"97.183"}},{"$nulls":4},-13.453232917818388,0.8868344431476982]
[null,null,{"$f":"C611+Sheet2!B$12","v":{"v":97.34265734265675,"d":"97.343"}},{"$nulls":4},-12.090709210680359,0.011355728495377138]
[null,null,{"$f":"C612+Sheet2!B$12","v":{"v":97.50249750249691,"d":"97.502"}},{"$nulls":4},-12.505492320848655,-0.15703173300076712]
[null,null,{"$f":"C613+Sheet2!B$12","v":{"v":97.66233766233707,"d":"97.662"}},{"$nulls":4},-14.148561275754938,-1.8887001564239385]
[null,null,{"$f":"C614+Sheet2!B$12","v":{"v":97.82217782217722,"d":"97.822"}},{"$nulls":4},-14.696576093160388,-5.6484304224387385]
[null,null,{"$f":"C615+Sheet2!B$12","v":{"v":97.98201798201738,"d":"97.982"}},{"$nulls":4},-12.681441532479342,-9.510192441607568]
[null,null,{"$f":"C616+Sheet2!B$12","v":{"v":98.14185814185754,"d":"98.142"}},{"$nulls":4},-9.165982612052945,-11.268165644600593]
[null,null,{"$f":"C617+Sheet2!B$12","v":{"v":98.3016983016977,"d":"98.302"}},{"$nulls":4},-6.57732700013875,-10.867179927026225]
[null,null,{"$f":"C618+Sheet2!B$12","v":{"v":98.46153846153786,"d":"98.462"}},{"$nulls":4},-6.011545873524886,-10.415784303492865]
[null,null,{"$f":"C619+Sheet2!B$12","v":{"v":98.62137862137801,"d":"98.621"}},{"$nulls":4},-6.045205940879925,-11.768471299182448]
[null,null,{"$f":"C620+Sheet2!B$12","v":{"v":98.78121878121817,"d":"98.781"}},{"$nulls":4},-4.391580421116695,-14.40205178786751]
[null,null,{"$f":"C621+Sheet2!B$12","v":{"v":98.94105894105833,"d":"98.941"}},{"$nulls":4},-0.534256679729159,-15.979576741959086]
[null,null,{"$f":"C622+Sheet2!B$12","v":{"v":99.10089910089849,"d":"99.101"}},{"$nulls":4},3.6303999688211435,-14.967130035074685]
[null,null,{"$f":"C623+Sheet2!B$12","v":{"v":99.26073926073865,"d":"99.261"}},{"$nulls":4},5.867286344011179,-12.355766961314615]
[null,null,{"$f":"C624+Sheet2!B$12","v":{"v":99.4205794205788,"d":"99.421"}},{"$nulls":4},6.058039362141964,-10.548783787915378]
[null,null,{"$f":"C625+Sheet2!B$12","v":{"v":99.58041958041896,"d":"99.580"}},{"$nulls":4},6.2731546605774104,-10.667847094581274]
[null,null,{"$f":"C626+Sheet2!B$12","v":{"v":99.74025974025912,"d":"99.740"}},{"$nulls":4},8.381056569759991,-11.312605195934657]
[null,null,{"$f":"C627+Sheet2!B$12","v":{"v":99.90009990009928,"d":"99.900"}},{"$nulls":4},11.889277915010338,-10.170635864557417]
[null,null,{"$f":"C628+Sheet2!B$12","v":{"v":100.05994005993944,"d":"100.060"}},{"$nulls":4},14.451294718189247,-6.663105727247393]
[null,null,{"$f":"C629+Sheet2!B$12","v":{"v":100.2197802197796,"d":"100.220"}},{"$nulls":4},14.469228423015917,-2.64445385961991]
[null,null,{"$f":"C630+Sheet2!B$12","v":{"v":100.37962037961975,"d":"100.380"}},{"$nulls":4},12.86119930555871,-0.36660858228352655]
[null,null,{"$f":"C631+Sheet2!B$12","v":{"v":100.53946053945991,"d":"100.539"}},{"$nulls":4},12.003030337621837,6.8663446395528238E-5]
[null,null,{"$f":"C632+Sheet2!B$12","v":{"v":100.69930069930007,"d":"100.699"}},{"$nulls":4},13.037210506895244,0.49763362851751336]
[null,null,{"$f":"C633+Sheet2!B$12","v":{"v":100.85914085914023,"d":"100.859"}},{"$nulls":4},14.581263922465784,3.0173422599375543]
[null,null,{"$f":"C634+Sheet2!B$12","v":{"v":101.01898101898038,"d":"101.019"}},{"$nulls":4},14.290817939458144,7.106413120709982]
[null,null,{"$f":"C635+Sheet2!B$12","v":{"v":101.17882117882054,"d":"101.179"}},{"$nulls":4},11.516242968668983,10.417311326032264]
[null,null,{"$f":"C636+Sheet2!B$12","v":{"v":101.3386613386607,"d":"101.339"}},{"$nulls":4},8.059443488376886,11.29493189472818]
[null,null,{"$f":"C637+Sheet2!B$12","v":{"v":101.49850149850086,"d":"101.499"}},{"$nulls":4},6.177548351338018,10.588374755827703]
[null,null,{"$f":"C638+Sheet2!B$12","v":{"v":101.65834165834102,"d":"101.658"}},{"$nulls":4},6.081725137225621,10.647475544112162]
[null,null,{"$f":"C639+Sheet2!B$12","v":{"v":101.81818181818117,"d":"101.818"}},{"$nulls":4},5.7479436862358035,12.635816653807682]
[null,null,{"$f":"C640+Sheet2!B$12","v":{"v":101.97802197802133,"d":"101.978"}},{"$nulls":4},3.251645869799283,15.188447846564488]
[null,null,{"$f":"C641+Sheet2!B$12","v":{"v":102.13786213786149,"d":"102.138"}},{"$nulls":4},-1.0053531558390203,15.927356731164572]
[null,null,{"$f":"C642+Sheet2!B$12","v":{"v":102.29770229770165,"d":"102.298"}},{"$nulls":4},{"$f":"(r0+r00)*COS($C643)-r00*COS((r0+r00)*$C643/r00)","v":-4.686102241207306},{"$f":"(r0+r00)*SIN($C643)-r00*SIN((r0+r00)*$C643/r00)","v":14.127896403951588}]
[null,null,{"$f":"C643+Sheet2!B$12","v":{"v":102.4575424575418,"d":"102.458"}},{"$nulls":4},-6.088680557359625,11.532439274709883]
[null,null,{"$f":"C644+Sheet2!B$12","v":{"v":102.61738261738196,"d":"102.617"}},{"$nulls":4},-6.001286779317995,10.394647313236685]
[null,null,{"$f":"C645+Sheet2!B$12","v":{"v":102.77722277722212,"d":"102.777"}},{"$nulls":4},-6.753856994812535,10.957540591048442]
[null,null,{"$f":"C646+Sheet2!B$12","v":{"v":102.93706293706228,"d":"102.937"}},{"$nulls":4},-9.536218311960361,11.206190411982584]
[null,null,{"$f":"C647+Sheet2!B$12","v":{"v":103.09690309690244,"d":"103.097"}},{"$nulls":4},-13.005654211798417,9.172983037342131]
[null,null,{"$f":"C648+Sheet2!B$12","v":{"v":103.2567432567426,"d":"103.257"}},{"$nulls":4},-14.753952815340215,5.197397007626146]
[null,null,{"$f":"C649+Sheet2!B$12","v":{"v":103.41658341658275,"d":"103.417"}},{"$nulls":4},-13.982294746613409,1.5932836622288655]
[null,null,{"$f":"C650+Sheet2!B$12","v":{"v":103.57642357642291,"d":"103.576"}},{"$nulls":4},-12.37136986909531,0.09723154995013172]
[null,null,{"$f":"C651+Sheet2!B$12","v":{"v":103.73626373626307,"d":"103.736"}},{"$nulls":4},-12.16719174211287,-0.02866517208203534]
[null,null,{"$f":"C652+Sheet2!B$12","v":{"v":103.89610389610323,"d":"103.896"}},{"$nulls":4},-13.639699612170578,-1.1036830041853907]
[null,null,{"$f":"C653+Sheet2!B$12","v":{"v":104.05594405594339,"d":"104.056"}},{"$nulls":4},-14.777621639395077,-4.3527775176067625]
[null,null,{"$f":"C654+Sheet2!B$12","v":{"v":104.21578421578354,"d":"104.216"}},{"$nulls":4},-13.563398929988535,-8.464415083508761]
[null,null,{"$f":"C655+Sheet2!B$12","v":{"v":104.3756243756237,"d":"104.376"}},{"$nulls":4},-10.26496318648932,-11.008289005406263]
[null,null,{"$f":"C656+Sheet2!B$12","v":{"v":104.53546453546386,"d":"104.535"}},{"$nulls":4},-7.161924046456034,-11.11721742043092]
[null,null,{"$f":"C657+Sheet2!B$12","v":{"v":104.69530469530402,"d":"104.695"}},{"$nulls":4},-6.013934332552659,-10.413170492247351]
[null,null,{"$f":"C658+Sheet2!B$12","v":{"v":104.85514485514418,"d":"104.855"}},{"$nulls":4},-6.122493538436871,-11.135443966319478]
[null,null,{"$f":"C659+Sheet2!B$12","v":{"v":105.01498501498433,"d":"105.015"}},{"$nulls":4},-5.168674760076939,-13.580952895434747]
[null,null,{"$f":"C660+Sheet2!B$12","v":{"v":105.17482517482449,"d":"105.175"}},{"$nulls":4},-1.8816793038749238,-15.741405434722846]
[null,null,{"$f":"C661+Sheet2!B$12","v":{"v":105.33466533466465,"d":"105.335"}},{"$nulls":4},2.469659610749751,-15.54684637482135]
[null,null,{"$f":"C662+Sheet2!B$12","v":{"v":105.4945054945048,"d":"105.495"}},{"$nulls":4},5.444308543472827,-13.188431605916604]
[null,null,{"$f":"C663+Sheet2!B$12","v":{"v":105.65434565434497,"d":"105.654"}},{"$nulls":4},6.116405321733747,-10.903782621781504]
[null,null,{"$f":"C664+Sheet2!B$12","v":{"v":105.81418581418512,"d":"105.814"}},{"$nulls":4},6.056519742173604,-10.466727057874975]
[null,null,{"$f":"C665+Sheet2!B$12","v":{"v":105.97402597402528,"d":"105.974"}},{"$nulls":4},7.502870604126083,-11.20926478929989]
[null,null,{"$f":"C666+Sheet2!B$12","v":{"v":106.13386613386544,"d":"106.134"}},{"$nulls":4},10.784358160768432,-10.803734950451835]
[null,null,{"$f":"C667+Sheet2!B$12","v":{"v":106.2937062937056,"d":"106.294"}},{"$nulls":4},13.900089809819564,-7.923223516527122]
[null,null,{"$f":"C668+Sheet2!B$12","v":{"v":106.45354645354575,"d":"106.454"}},{"$nulls":4},14.730387293346222,-3.78197004681193]
[null,null,{"$f":"C669+Sheet2!B$12","v":{"v":106.61338661338591,"d":"106.613"}},{"$nulls":4},13.38940970259523,-0.819158909195095]
[null,null,{"$f":"C670+Sheet2!B$12","v":{"v":106.77322677322607,"d":"106.773"}},{"$nulls":4},12.069780595720978,-0.007643920074288046]
[null,null,{"$f":"C671+Sheet2!B$12","v":{"v":106.93306693306623,"d":"106.933"}},{"$nulls":4},12.55494785218622,0.18179219362566856]
[null,null,{"$f":"C672+Sheet2!B$12","v":{"v":107.09290709290639,"d":"107.093"}},{"$nulls":4},14.2023481754537,1.995293265890055]
[null,null,{"$f":"C673+Sheet2!B$12","v":{"v":107.25274725274654,"d":"107.253"}},{"$nulls":4},14.669779224172602,5.802670396210898]
[null,null,{"$f":"C674+Sheet2!B$12","v":{"v":107.4125874125867,"d":"107.413"}},{"$nulls":4},12.566570580155167,9.619248062364827]
[null,null,{"$f":"C675+Sheet2!B$12","v":{"v":107.57242757242686,"d":"107.572"}},{"$nulls":4},9.042371473200891,11.283082404603693]
[null,null,{"$f":"C676+Sheet2!B$12","v":{"v":107.73226773226702,"d":"107.732"}},{"$nulls":4},6.523031335312633,10.836148928438373]
[null,null,{"$f":"C677+Sheet2!B$12","v":{"v":107.89210789210718,"d":"107.892"}},{"$nulls":4},6.016964377306662,10.428192070615545]
[null,null,{"$f":"C678+Sheet2!B$12","v":{"v":108.05194805194733,"d":"108.052"}},{"$nulls":4},6.025701676269611,11.85280742978371]
[null,null,{"$f":"C679+Sheet2!B$12","v":{"v":108.21178821178749,"d":"108.212"}},{"$nulls":4},4.284836752351753,14.49272924826951]
[null,null,{"$f":"C680+Sheet2!B$12","v":{"v":108.37162837162765,"d":"108.372"}},{"$nulls":4},0.37263347832769783,15.990073376156673]
[null,null,{"$f":"C681+Sheet2!B$12","v":{"v":108.53146853146781,"d":"108.531"}},{"$nulls":4},-3.7540826844327935,14.887067622627253]
[null,null,{"$f":"C682+Sheet2!B$12","v":{"v":108.69130869130797,"d":"108.691"}},{"$nulls":4},-5.902045582346288,12.262566639376768]
[null,null,{"$f":"C683+Sheet2!B$12","v":{"v":108.85114885114812,"d":"108.851"}},{"$nulls":4},-6.0499149781080135,10.520767529865967]
[null,null,{"$f":"C684+Sheet2!B$12","v":{"v":109.01098901098828,"d":"109.011"}},{"$nulls":4},-6.311167724847749,10.69667867684105]
[null,null,{"$f":"C685+Sheet2!B$12","v":{"v":109.17082917082844,"d":"109.171"}},{"$nulls":4},-8.49488012566998,11.313699196337195]
[null,null,{"$f":"C686+Sheet2!B$12","v":{"v":109.3306693306686,"d":"109.331"}},{"$nulls":4},-12.013958354314731,10.079781757711478]
[null,null,{"$f":"C687+Sheet2!B$12","v":{"v":109.49050949050876,"d":"109.491"}},{"$nulls":4},-14.498816552700287,6.51041443366314]
[null,null,{"$f":"C688+Sheet2!B$12","v":{"v":109.65034965034891,"d":"109.650"}},{"$nulls":4},-14.426337177620674,2.5222760468828977]
[null,null,{"$f":"C689+Sheet2!B$12","v":{"v":109.81018981018907,"d":"109.810"}},{"$nulls":4},-12.803307256158043,0.32752168946414706]
[null,null,{"$f":"C690+Sheet2!B$12","v":{"v":109.97002997002923,"d":"109.970"}},{"$nulls":4},-12.008564775301835,-3.2645861888888628E-4]
[null,null,{"$f":"C691+Sheet2!B$12","v":{"v":110.12987012986939,"d":"110.130"}},{"$nulls":4},-13.098919218268406,-0.5480459769807888]
[null,null,{"$f":"C692+Sheet2!B$12","v":{"v":110.28971028970955,"d":"110.290"}},{"$nulls":4},-14.614411616642862,-3.1490877514052027]
[null,null,{"$f":"C693+Sheet2!B$12","v":{"v":110.4495504495497,"d":"110.450"}},{"$nulls":4},-14.22903869025356,-7.255495954712292]
[null,null,{"$f":"C694+Sheet2!B$12","v":{"v":110.60939060938986,"d":"110.609"}},{"$nulls":4},-11.387049367369043,-10.49450781187436]
[null,null,{"$f":"C695+Sheet2!B$12","v":{"v":110.76923076923002,"d":"110.769"}},{"$nulls":4},-7.95430341363437,-11.284304431701784]
[null,null,{"$f":"C696+Sheet2!B$12","v":{"v":110.92907092907018,"d":"110.929"}},{"$nulls":4},-6.1502141520794655,-10.563416507441197]
[null,null,{"$f":"C697+Sheet2!B$12","v":{"v":111.08891108891034,"d":"111.089"}},{"$nulls":4},-6.089324597895589,-10.686743039955534]
[null,null,{"$f":"C698+Sheet2!B$12","v":{"v":111.2487512487505,"d":"111.249"}},{"$nulls":4},-5.701158902509505,-12.733140425073712]
[null,null,{"$f":"C699+Sheet2!B$12","v":{"v":111.40859140859065,"d":"111.409"}},{"$nulls":4},-3.1173995556819545,-15.25891250181544]
[null,null,{"$f":"C700+Sheet2!B$12","v":{"v":111.56843156843081,"d":"111.568"}},{"$nulls":4},1.1644450141307654,-15.902337935235483]
[null,null,{"$f":"C701+Sheet2!B$12","v":{"v":111.72827172827097,"d":"111.728"}},{"$nulls":4},4.780015348835148,-14.032100136586259]
[null,null,{"$f":"C702+Sheet2!B$12","v":{"v":111.88811188811113,"d":"111.888"}},{"$nulls":4},6.099131193878105,-11.456156283646127]
[null,null,{"$f":"C703+Sheet2!B$12","v":{"v":112.04795204795128,"d":"112.048"}},{"$nulls":4},6.000099328719692,-10.39247922745634]
[null,null,{"$f":"C704+Sheet2!B$12","v":{"v":112.20779220779144,"d":"112.208"}},{"$nulls":4},6.819913755384674,-10.987683564085536]
[null,null,{"$f":"C705+Sheet2!B$12","v":{"v":112.3676323676316,"d":"112.368"}},{"$nulls":4},9.664612047435812,-11.178660274285242]
[null,null,{"$f":"C706+Sheet2!B$12","v":{"v":112.52747252747176,"d":"112.527"}},{"$nulls":4},{"$f":"(r0+r00)*COS($C707)-r00*COS((r0+r00)*$C707/r00)","v":13.111444529337561},{"$f":"(r0+r00)*SIN($C707)-r00*SIN((r0+r00)*$C707/r00)","v":-9.052421708056736}]
[null,null,{"$f":"C707+Sheet2!B$12","v":{"v":112.68731268731192,"d":"112.687"}},{"$nulls":4},14.766339536265145,-5.044599843595516]
[null,null,{"$f":"C708+Sheet2!B$12","v":{"v":112.84715284715207,"d":"112.847"}},{"$nulls":4},13.923149341358627,-1.498619001120553]
[null,null,{"$f":"C709+Sheet2!B$12","v":{"v":113.00699300699223,"d":"113.007"}},{"$nulls":4},12.329681206991571,-0.08091464950548133]
[null,null,{"$f":"C710+Sheet2!B$12","v":{"v":113.16683316683239,"d":"113.167"}},{"$nulls":4},12.198239408504248,0.03714343242712048]
[null,null,{"$f":"C711+Sheet2!B$12","v":{"v":113.32667332667255,"d":"113.327"}},{"$nulls":4},13.702562825480499,1.1838527743279443]
[null,null,{"$f":"C712+Sheet2!B$12","v":{"v":113.4865134865127,"d":"113.487"}},{"$nulls":4},14.781432964858414,4.501318502605772]
[null,null,{"$f":"C713+Sheet2!B$12","v":{"v":113.64635364635286,"d":"113.646"}},{"$nulls":4},13.470228502355683,8.596679217643068]
[null,null,{"$f":"C714+Sheet2!B$12","v":{"v":113.80619380619302,"d":"113.806"}},{"$nulls":4},10.133408842036944,11.051558345138027]
[null,null,{"$f":"C715+Sheet2!B$12","v":{"v":113.96603396603318,"d":"113.966"}},{"$nulls":4},7.082275924511549,11.090684667877076]
[null,null,{"$f":"C716+Sheet2!B$12","v":{"v":114.12587412587334,"d":"114.126"}},{"$nulls":4},6.007928757560526,10.404583965101335]
[null,null,{"$f":"C717+Sheet2!B$12","v":{"v":114.2857142857135,"d":"114.286"}},{"$nulls":4},6.120557961068289,11.200773451486253]
[null,null,{"$f":"C718+Sheet2!B$12","v":{"v":114.44555444555365,"d":"114.446"}},{"$nulls":4},5.090255898609039,13.680152591779425]
[null,null,{"$f":"C719+Sheet2!B$12","v":{"v":114.60539460539381,"d":"114.605"}},{"$nulls":4},1.728105461479117,15.782674922102398]
[null,null,{"$f":"C720+Sheet2!B$12","v":{"v":114.76523476523397,"d":"114.765"}},{"$nulls":4},-2.6144565053283153,15.48954606291605]
[null,null,{"$f":"C721+Sheet2!B$12","v":{"v":114.92507492507413,"d":"114.925"}},{"$nulls":4},-5.506081198871389,13.08871888491643]
[null,null,{"$f":"C722+Sheet2!B$12","v":{"v":115.08491508491429,"d":"115.085"}},{"$nulls":4},-6.111973619011411,10.851557854914521]
[null,null,{"$f":"C723+Sheet2!B$12","v":{"v":115.24475524475444,"d":"115.245"}},{"$nulls":4},-6.072618004925725,10.484921953935432]
[null,null,{"$f":"C724+Sheet2!B$12","v":{"v":115.4045954045946,"d":"115.405"}},{"$nulls":4},-7.5963468895004365,11.228922450066563]
[null,null,{"$f":"C725+Sheet2!B$12","v":{"v":115.56443556443476,"d":"115.564"}},{"$nulls":4},-10.91621631968389,10.742933608173447]
[null,null,{"$f":"C726+Sheet2!B$12","v":{"v":115.72427572427492,"d":"115.724"}},{"$nulls":4},-13.977732683528076,7.780895290118795]
[null,null,{"$f":"C727+Sheet2!B$12","v":{"v":115.88411588411508,"d":"115.884"}},{"$nulls":4},-14.710512058918567,3.640877642292292]
[null,null,{"$f":"C728+Sheet2!B$12","v":{"v":116.04395604395523,"d":"116.044"}},{"$nulls":4},-13.325667635240427,0.75463143266044]
[null,null,{"$f":"C729+Sheet2!B$12","v":{"v":116.20379620379539,"d":"116.204"}},{"$nulls":4},-12.051535447829725,0.004841563739981236]
[null,null,{"$f":"C730+Sheet2!B$12","v":{"v":116.36363636363555,"d":"116.364"}},{"$nulls":4},-12.606149290147972,-0.2089275697309998]
[null,null,{"$f":"C731+Sheet2!B$12","v":{"v":116.52347652347571,"d":"116.523"}},{"$nulls":4},-14.254463036102456,-2.104808685319045]
[null,null,{"$f":"C732+Sheet2!B$12","v":{"v":116.68331668331587,"d":"116.683"}},{"$nulls":4},-14.639279023958997,-5.956945462482377]
[null,null,{"$f":"C733+Sheet2!B$12","v":{"v":116.84315684315602,"d":"116.843"}},{"$nulls":4},-12.449669136461653,-9.725192442046904]
[null,null,{"$f":"C734+Sheet2!B$12","v":{"v":117.00299700299618,"d":"117.003"}},{"$nulls":4},-8.920263073334901,-11.294955493539806]
[null,null,{"$f":"C735+Sheet2!B$12","v":{"v":117.16283716283634,"d":"117.163"}},{"$nulls":4},-6.471703224346081,-10.80521532561046]
[null,null,{"$f":"C736+Sheet2!B$12","v":{"v":117.3226773226765,"d":"117.323"}},{"$nulls":4},-6.023157920175094,-10.443317788005427]
[null,null,{"$f":"C737+Sheet2!B$12","v":{"v":117.48251748251666,"d":"117.483"}},{"$nulls":4},-6.003662123951493,-11.9389644367901]
[null,null,{"$f":"C738+Sheet2!B$12","v":{"v":117.64235764235681,"d":"117.642"}},{"$nulls":4},-4.174934762568658,-14.58179041579704]
[null,null,{"$f":"C739+Sheet2!B$12","v":{"v":117.80219780219697,"d":"117.802"}},{"$nulls":4},-0.2106980681095473,-15.99682816977762]
[null,null,{"$f":"C740+Sheet2!B$12","v":{"v":117.96203796203713,"d":"117.962"}},{"$nulls":4},3.8748866416190646,-14.804836444572745]
[null,null,{"$f":"C741+Sheet2!B$12","v":{"v":118.12187812187729,"d":"118.122"}},{"$nulls":4},5.9339028759689745,-12.170702484014747]
[null,null,{"$f":"C742+Sheet2!B$12","v":{"v":118.28171828171745,"d":"118.282"}},{"$nulls":4},6.041978914659261,-10.495594031546503]
[null,null,{"$f":"C743+Sheet2!B$12","v":{"v":118.4415584415576,"d":"118.442"}},{"$nulls":4},6.3520147915550496,-10.726195016735833]
[null,null,{"$f":"C744+Sheet2!B$12","v":{"v":118.60139860139776,"d":"118.601"}},{"$nulls":4},8.610687550009176,-11.312129487838806]
[null,null,{"$f":"C745+Sheet2!B$12","v":{"v":118.76123876123792,"d":"118.761"}},{"$nulls":4},12.137171664897329,-9.985551026814228]
[null,null,{"$f":"C746+Sheet2!B$12","v":{"v":118.92107892107808,"d":"118.921"}},{"$nulls":4},14.542653864854874,-6.357135216110767]
[null,null,{"$f":"C747+Sheet2!B$12","v":{"v":119.08091908091824,"d":"119.081"}},{"$nulls":4},14.381232971968538,-2.4027294082072217]
[null,null,{"$f":"C748+Sheet2!B$12","v":{"v":119.2407592407584,"d":"119.241"}},{"$nulls":4},12.746673841100389,-0.2911652678004588]
[null,null,{"$f":"C749+Sheet2!B$12","v":{"v":119.40059940059855,"d":"119.401"}},{"$nulls":4},12.016899843958624,9.0568725175882436E-4]
[null,null,{"$f":"C750+Sheet2!B$12","v":{"v":119.56043956043871,"d":"119.560"}},{"$nulls":4},13.161298298099457,0.6014621426435356]
[null,null,{"$f":"C751+Sheet2!B$12","v":{"v":119.72027972027887,"d":"119.720"}},{"$nulls":4},14.644834923204247,3.283045698819921]
[null,null,{"$f":"C752+Sheet2!B$12","v":{"v":119.88011988011903,"d":"119.880"}},{"$nulls":4},14.163721157841797,7.4033377936994755]
[null,null,{"$f":"C753+Sheet2!B$12","v":{"v":120.03996003995918,"d":"120.040"}},{"$nulls":4},11.257034602928888,10.568162905712153]
[null,null,{"$f":"C754+Sheet2!B$12","v":{"v":120.19980019979934,"d":"120.200"}},{"$nulls":4},7.851573956104053,11.271510570145537]
[null,null,{"$f":"C755+Sheet2!B$12","v":{"v":120.3596403596395,"d":"120.360"}},{"$nulls":4},6.125451292971103,10.539731823178627]
[null,null,{"$f":"C756+Sheet2!B$12","v":{"v":120.51948051947966,"d":"120.519"}},{"$nulls":4},6.09646832144174,10.728861751276673]
[null,null,{"$f":"C757+Sheet2!B$12","v":{"v":120.67932067931982,"d":"120.679"}},{"$nulls":4},5.651185621125113,12.831212489806186]
[null,null,{"$f":"C758+Sheet2!B$12","v":{"v":120.83916083915997,"d":"120.839"}},{"$nulls":4},2.980682420040286,15.326682245889636]
[null,null,{"$f":"C759+Sheet2!B$12","v":{"v":120.99900099900013,"d":"120.999"}},{"$nulls":4},-1.322567182203831,15.873703699618302]
[null,null,{"$f":"C760+Sheet2!B$12","v":{"v":121.15884115884029,"d":"121.159"}},{"$nulls":4},-4.8705890737201205,13.93532452553256]
[null,null,{"$f":"C761+Sheet2!B$12","v":{"v":121.31868131868045,"d":"121.319"}},{"$nulls":4},-6.107531373356932,11.382126819008722]
[null,null,{"$f":"C762+Sheet2!B$12","v":{"v":121.4785214785206,"d":"121.479"}},{"$nulls":4},-6.00027752755934,10.392775038323322]
[null,null,{"$f":"C763+Sheet2!B$12","v":{"v":121.63836163836076,"d":"121.638"}},{"$nulls":4},-6.888956150876582,11.017276573164867]
[null,null,{"$f":"C764+Sheet2!B$12","v":{"v":121.79820179820092,"d":"121.798"}},{"$nulls":4},-9.793922095116553,11.147784268373263]
[null,null,{"$f":"C765+Sheet2!B$12","v":{"v":121.95804195804108,"d":"121.958"}},{"$nulls":4},-13.214664096421664,8.929143435273179]
[null,null,{"$f":"C766+Sheet2!B$12","v":{"v":122.11788211788124,"d":"122.118"}},{"$nulls":4},-14.77512935426872,4.89249666453284]
[null,null,{"$f":"C767+Sheet2!B$12","v":{"v":122.2777222777214,"d":"122.278"}},{"$nulls":4},-13.86295902596095,1.4070712789262467]
[null,null,{"$f":"C768+Sheet2!B$12","v":{"v":122.43756243756155,"d":"122.438"}},{"$nulls":4},-12.290175882235891,0.0664980172445595]
[null,null,{"$f":"C769+Sheet2!B$12","v":{"v":122.59740259740171,"d":"122.597"}},{"$nulls":4},-12.231723912681893,-0.04712562728008041]
[null,null,{"$f":"C770+Sheet2!B$12","v":{"v":122.75724275724187,"d":"122.757"}},{"$nulls":4},{"$f":"(r0+r00)*COS($C771)-r00*COS((r0+r00)*$C771/r00)","v":-13.764855170480251},{"$f":"(r0+r00)*SIN($C771)-r00*SIN((r0+r00)*$C771/r00)","v":-1.2672004112062505}]
[null,null,{"$f":"C771+Sheet2!B$12","v":{"v":122.91708291708203,"d":"122.917"}},{"$nulls":4},-14.781805345513389,-4.651013488881497]
[null,null,{"$f":"C772+Sheet2!B$12","v":{"v":123.07692307692218,"d":"123.077"}},{"$nulls":4},-13.374147046526282,-8.726577177600905]
[null,null,{"$f":"C773+Sheet2!B$12","v":{"v":123.23676323676234,"d":"123.237"}},{"$nulls":4},-10.00230994044106,-11.091337289567416]
[null,null,{"$f":"C774+Sheet2!B$12","v":{"v":123.3966033966025,"d":"123.397"}},{"$nulls":4},-7.005544100881211,-11.063133063167477]
[null,null,{"$f":"C775+Sheet2!B$12","v":{"v":123.55644355644266,"d":"123.556"}},{"$nulls":4},-6.003680843358066,-10.398203219232412]
[null,null,{"$f":"C776+Sheet2!B$12","v":{"v":123.71628371628282,"d":"123.716"}},{"$nulls":4},-6.116974348357342,-11.26860538448404]
[null,null,{"$f":"C777+Sheet2!B$12","v":{"v":123.87612387612297,"d":"123.876"}},{"$nulls":4},-5.00844706880959,-13.7788523799122]
[null,null,{"$f":"C778+Sheet2!B$12","v":{"v":124.03596403596313,"d":"124.036"}},{"$nulls":4},-1.5731047905634443,-15.820501046520649]
[null,null,{"$f":"C779+Sheet2!B$12","v":{"v":124.19580419580329,"d":"124.196"}},{"$nulls":4},2.757142010720697,-15.42922225606688]
[null,null,{"$f":"C780+Sheet2!B$12","v":{"v":124.35564435564345,"d":"124.356"}},{"$nulls":4},5.564532854444364,-12.989294245975639]
[null,null,{"$f":"C781+Sheet2!B$12","v":{"v":124.5154845154836,"d":"124.515"}},{"$nulls":4},6.106621417221804,-10.802108101093104]
[null,null,{"$f":"C782+Sheet2!B$12","v":{"v":124.67532467532376,"d":"124.675"}},{"$nulls":4},6.091024006122114,-10.504779606364824]
[null,null,{"$f":"C783+Sheet2!B$12","v":{"v":124.83516483516392,"d":"124.835"}},{"$nulls":4},7.692477303408536,-11.24682385698683]
[null,null,{"$f":"C784+Sheet2!B$12","v":{"v":124.99500499500408,"d":"124.995"}},{"$nulls":4},11.047737503627388,-10.67855257118824]
[null,null,{"$f":"C785+Sheet2!B$12","v":{"v":125.15484515484424,"d":"125.155"}},{"$nulls":4},14.05202328497335,-7.636873983776342]
[null,null,{"$f":"C786+Sheet2!B$12","v":{"v":125.3146853146844,"d":"125.315"}},{"$nulls":4},14.687595913831933,-3.5016317186083663]
[null,null,{"$f":"C787+Sheet2!B$12","v":{"v":125.47452547452455,"d":"125.475"}},{"$nulls":4},13.262137119815483,-0.6932300784070744]
[null,null,{"$f":"C788+Sheet2!B$12","v":{"v":125.63436563436471,"d":"125.634"}},{"$nulls":4},12.036008711224287,-2.8228397507509273E-3]
[null,null,{"$f":"C789+Sheet2!B$12","v":{"v":125.79420579420487,"d":"125.794"}},{"$nulls":4},12.658996636355257,0.23852282207059883]
[null,null,{"$f":"C790+Sheet2!B$12","v":{"v":125.95404595404503,"d":"125.954"}},{"$nulls":4},14.304783940914097,2.217191825520037]
[null,null,{"$f":"C791+Sheet2!B$12","v":{"v":126.11388611388519,"d":"126.114"}},{"$nulls":4},14.605069843703651,6.111120106924229]
[null,null,{"$f":"C792+Sheet2!B$12","v":{"v":126.27372627372534,"d":"126.274"}},{"$nulls":4},12.33085546416588,9.827959107128303]
[null,null,{"$f":"C793+Sheet2!B$12","v":{"v":126.4335664335655,"d":"126.434"}},{"$nulls":4},8.799768043572755,11.303859899942216]
[null,null,{"$f":"C794+Sheet2!B$12","v":{"v":126.59340659340566,"d":"126.593"}},{"$nulls":4},6.423323092864859,10.774508917316945]
[null,null,{"$f":"C795+Sheet2!B$12","v":{"v":126.75324675324582,"d":"126.753"}},{"$nulls":4},6.030001159470966,10.461198018858404]
[null,null,{"$f":"C796+Sheet2!B$12","v":{"v":126.91308691308598,"d":"126.913"}},{"$nulls":4},5.979000028969356,12.026843045781709]
[null,null,{"$f":"C797+Sheet2!B$12","v":{"v":127.07292707292613,"d":"127.073"}},{"$nulls":4},4.06192642068007,14.66911105245388]
[null,null,{"$f":"C798+Sheet2!B$12","v":{"v":127.23276723276629,"d":"127.233"}},{"$nulls":4},0.04858604380360047,15.999831383041773]
[null,null,{"$f":"C799+Sheet2!B$12","v":{"v":127.39260739260645,"d":"127.393"}},{"$nulls":4},-3.992742389387284,14.720552201182368]
[null,null,{"$f":"C800+Sheet2!B$12","v":{"v":127.55244755244661,"d":"127.552"}},{"$nulls":4},-5.962930201426886,12.080285730918861]
[null,null,{"$f":"C801+Sheet2!B$12","v":{"v":127.71228771228677,"d":"127.712"}},{"$nulls":4},-6.034360633084291,10.473245654945904]
[null,null,{"$f":"C802+Sheet2!B$12","v":{"v":127.87212787212692,"d":"127.872"}},{"$nulls":4},-6.3957342818071465,10.756270827691655]
[null,null,{"$f":"C803+Sheet2!B$12","v":{"v":128.0319680319671,"d":"128.032"}},{"$nulls":4},-8.728380516118493,11.30780604748966]
[null,null,{"$f":"C804+Sheet2!B$12","v":{"v":128.19180819180727,"d":"128.192"}},{"$nulls":4},-12.258791438966073,9.887992458929654]
[null,null,{"$f":"C805+Sheet2!B$12","v":{"v":128.35164835164744,"d":"128.352"}},{"$nulls":4},-14.582792834220456,6.203403140510248]
[null,null,{"$f":"C806+Sheet2!B$12","v":{"v":128.5114885114876,"d":"128.511"}},{"$nulls":4},-14.334028807693693,2.2858858003561107]
[null,null,{"$f":"C807+Sheet2!B$12","v":{"v":128.67132867132779,"d":"128.671"}},{"$nulls":4},-12.691410681933203,0.2574698681012664]
[null,null,{"$f":"C808+Sheet2!B$12","v":{"v":128.83116883116796,"d":"128.831"}},{"$nulls":4},-12.028019604079592,-1.9358974234861548E-3]
[null,null,{"$f":"C809+Sheet2!B$12","v":{"v":128.99100899100813,"d":"128.991"}},{"$nulls":4},-13.224222255064605,-0.657922826732918]
[null,null,{"$f":"C810+Sheet2!B$12","v":{"v":129.1508491508483,"d":"129.151"}},{"$nulls":4},-14.672440707568947,-3.419119153942654]
[null,null,{"$f":"C811+Sheet2!B$12","v":{"v":129.31068931068847,"d":"129.311"}},{"$nulls":4},-14.094910481579216,-7.549810437698733]
[null,null,{"$f":"C812+Sheet2!B$12","v":{"v":129.47052947052865,"d":"129.471"}},{"$nulls":4},-11.126332660661216,-10.638258956005041]
[null,null,{"$f":"C813+Sheet2!B$12","v":{"v":129.63036963036882,"d":"129.630"}},{"$nulls":4},-7.751328824141696,-11.256660721561797]
[null,null,{"$f":"C814+Sheet2!B$12","v":{"v":129.790209790209,"d":"129.790"}},{"$nulls":4},-6.103192346038604,-10.517432734778113]
[null,null,{"$f":"C815+Sheet2!B$12","v":{"v":129.95004995004916,"d":"129.950"}},{"$nulls":4},-6.103026189999761,-10.773817435287572]
[null,null,{"$f":"C816+Sheet2!B$12","v":{"v":130.10989010988934,"d":"130.110"}},{"$nulls":4},-5.59798034389699,-12.929907115719757]
[null,null,{"$f":"C817+Sheet2!B$12","v":{"v":130.2697302697295,"d":"130.270"}},{"$nulls":4},-2.841589472460087,-15.391660696846687]
[null,null,{"$f":"C818+Sheet2!B$12","v":{"v":130.42957042956968,"d":"130.430"}},{"$nulls":4},1.4795902077993537,-15.841495234910052]
[null,null,{"$f":"C819+Sheet2!B$12","v":{"v":130.58941058940985,"d":"130.589"}},{"$nulls":4},4.957802373088263,-13.837702079257772]
[null,null,{"$f":"C820+Sheet2!B$12","v":{"v":130.74925074925002,"d":"130.749"}},{"$nulls":4},6.113989237687935,-11.310426008753053]
[null,null,{"$f":"C821+Sheet2!B$12","v":{"v":130.9090909090902,"d":"130.909"}},{"$nulls":4},6.001934069585859,-10.395468919926673]
[null,null,{"$f":"C822+Sheet2!B$12","v":{"v":131.06893106893037,"d":"131.069"}},{"$nulls":4},6.960971871420538,-11.046188498499296]
[null,null,{"$f":"C823+Sheet2!B$12","v":{"v":131.22877122877054,"d":"131.229"}},{"$nulls":4},9.924022689442948,-11.113515595534006]
[null,null,{"$f":"C824+Sheet2!B$12","v":{"v":131.3886113886107,"d":"131.389"}},{"$nulls":4},13.315213392145509,-8.803240703599808]
[null,null,{"$f":"C825+Sheet2!B$12","v":{"v":131.54845154845088,"d":"131.548"}},{"$nulls":4},14.780359507192237,-4.741217569214898]
[null,null,{"$f":"C826+Sheet2!B$12","v":{"v":131.70829170829106,"d":"131.708"}},{"$nulls":4},13.801854658303089,-1.318664386286906]
[null,null,{"$f":"C827+Sheet2!B$12","v":{"v":131.86813186813123,"d":"131.868"}},{"$nulls":4},12.252930212470629,-0.053875323404808606]
[null,null,{"$f":"C828+Sheet2!B$12","v":{"v":132.0279720279714,"d":"132.028"}},{"$nulls":4},12.267580789427,0.058725530324949426]
[null,null,{"$f":"C829+Sheet2!B$12","v":{"v":132.18781218781157,"d":"132.188"}},{"$nulls":4},13.826444243582964,1.3537159658640963]
[null,null,{"$f":"C830+Sheet2!B$12","v":{"v":132.34765234765175,"d":"132.348"}},{"$nulls":4},14.778688297321773,4.801737099401036]
[null,null,{"$f":"C831+Sheet2!B$12","v":{"v":132.50749250749192,"d":"132.507"}},{"$nulls":4},13.275244018637913,8.854006643422647]
[null,null,{"$f":"C832+Sheet2!B$12","v":{"v":132.6673326673321,"d":"132.667"}},{"$nulls":4},9.871796664898957,11.127659301755912]
[null,null,{"$f":"C833+Sheet2!B$12","v":{"v":132.82717282717226,"d":"132.827"}},{"$nulls":4},6.931754774558157,11.0346918846696]
[null,null,{"$f":"C834+Sheet2!B$12","v":{"v":132.98701298701243,"d":"132.987"}},{"$nulls":4},{"$f":"(r0+r00)*COS($C835)-r00*COS((r0+r00)*$C835/r00)","v":6.00108558027001},{"$f":"(r0+r00)*SIN($C835)-r00*SIN((r0+r00)*$C835/r00)","v":10.39410577323048}]
[null,null,{"$f":"C835+Sheet2!B$12","v":{"v":133.1468531468526,"d":"133.147"}},{"$nulls":4},6.11162735752957,11.338876652061566]
[null,null,{"$f":"C836+Sheet2!B$12","v":{"v":133.30669330669278,"d":"133.307"}},{"$nulls":4},4.923255323894749,13.876918510080046]
[null,null,{"$f":"C837+Sheet2!B$12","v":{"v":133.46653346653295,"d":"133.467"}},{"$nulls":4},1.4168017165927171,15.854829454496812]
[null,null,{"$f":"C838+Sheet2!B$12","v":{"v":133.62637362637312,"d":"133.626"}},{"$nulls":4},-2.897611520438451,15.365961053771793]
[null,null,{"$f":"C839+Sheet2!B$12","v":{"v":133.7862137862133,"d":"133.786"}},{"$nulls":4},-5.619693595021344,12.890287538979761]
[null,null,{"$f":"C840+Sheet2!B$12","v":{"v":133.94605394605347,"d":"133.946"}},{"$nulls":4},-6.100476704288757,10.755461438294631]
[null,null,{"$f":"C841+Sheet2!B$12","v":{"v":134.10589410589364,"d":"134.106"}},{"$nulls":4},-6.111816708176731,10.526195908154438]
[null,null,{"$f":"C842+Sheet2!B$12","v":{"v":134.2657342657338,"d":"134.266"}},{"$nulls":4},-7.791200316404005,11.26285164712401]
[null,null,{"$f":"C843+Sheet2!B$12","v":{"v":134.42557442557398,"d":"134.426"}},{"$nulls":4},-11.17878679902638,10.610595461990572]
[null,null,{"$f":"C844+Sheet2!B$12","v":{"v":134.58541458541416,"d":"134.585"}},{"$nulls":4},-14.122903449673236,7.491282468449902]
[null,null,{"$f":"C845+Sheet2!B$12","v":{"v":134.74525474525433,"d":"134.745"}},{"$nulls":4},-14.66172150559664,3.3643385770061305]
[null,null,{"$f":"C846+Sheet2!B$12","v":{"v":134.9050949050945,"d":"134.905"}},{"$nulls":4},-13.198947471158437,0.63492762772022]
[null,null,{"$f":"C847+Sheet2!B$12","v":{"v":135.06493506493467,"d":"135.065"}},{"$nulls":4},-12.023230107552779,1.4606140790910938E-3]
[null,null,{"$f":"C848+Sheet2!B$12","v":{"v":135.22477522477485,"d":"135.225"}},{"$nulls":4},-12.713386437704784,-0.27065877508979463]
[null,null,{"$f":"C849+Sheet2!B$12","v":{"v":135.38461538461502,"d":"135.385"}},{"$nulls":4},-14.353191195595988,-2.3323831726208457]
[null,null,{"$f":"C850+Sheet2!B$12","v":{"v":135.5444555444552,"d":"135.544"}},{"$nulls":4},-14.56715144703604,-6.265058655283309]
[null,null,{"$f":"C851+Sheet2!B$12","v":{"v":135.70429570429536,"d":"135.704"}},{"$nulls":4},-12.210250346308916,-9.927486376555482]
[null,null,{"$f":"C852+Sheet2!B$12","v":{"v":135.86413586413553,"d":"135.864"}},{"$nulls":4},-8.680993818005012,-11.309874967772238]
[null,null,{"$f":"C853+Sheet2!B$12","v":{"v":136.0239760239757,"d":"136.024"}},{"$nulls":4},-6.377866066521042,-10.744158525803694]
[null,null,{"$f":"C854+Sheet2!B$12","v":{"v":136.18381618381588,"d":"136.184"}},{"$nulls":4},-6.037367331121964,-10.481864131908985]
[null,null,{"$f":"C855+Sheet2!B$12","v":{"v":136.34365634365605,"d":"136.344"}},{"$nulls":4},-5.95163220301637,-12.116340437467516]
[null,null,{"$f":"C856+Sheet2!B$12","v":{"v":136.50349650349622,"d":"136.503"}},{"$nulls":4},-3.9458686742978006,-14.754569035117392]
[null,null,{"$f":"C857+Sheet2!B$12","v":{"v":136.6633366633364,"d":"136.663"}},{"$nulls":4},0.11356671534408722,-15.999078685227314]
[null,null,{"$f":"C858+Sheet2!B$12","v":{"v":136.82317682317657,"d":"136.823"}},{"$nulls":4},4.107585206834555,-14.634333219351287]
[null,null,{"$f":"C859+Sheet2!B$12","v":{"v":136.98301698301674,"d":"136.983"}},{"$nulls":4},5.989203953586642,-11.991424517897846]
[null,null,{"$f":"C860+Sheet2!B$12","v":{"v":137.1428571428569,"d":"137.143"}},{"$nulls":4},6.0271887287848145,-10.453699446306667]
[null,null,{"$f":"C861+Sheet2!B$12","v":{"v":137.30269730269708,"d":"137.303"}},{"$nulls":4},6.442359450042085,-10.786779293798176]
[null,null,{"$f":"C862+Sheet2!B$12","v":{"v":137.46253746253726,"d":"137.463"}},{"$nulls":4},8.847857061020887,-11.300642846384598]
[null,null,{"$f":"C863+Sheet2!B$12","v":{"v":137.62237762237743,"d":"137.622"}},{"$nulls":4},12.378693271863417,-9.787159870948473]
[null,null,{"$f":"C864+Sheet2!B$12","v":{"v":137.7822177822176,"d":"137.782"}},{"$nulls":4},14.619225040307562,-6.049353681738934]
[null,null,{"$f":"C865+Sheet2!B$12","v":{"v":137.94205794205777,"d":"137.942"}},{"$nulls":4},14.284840415039575,-2.1718124151208507]
[null,null,{"$f":"C866+Sheet2!B$12","v":{"v":138.10189810189794,"d":"138.102"}},{"$nulls":4},12.637626399944775,-0.2263615630396223]
[null,null,{"$f":"C867+Sheet2!B$12","v":{"v":138.26173826173812,"d":"138.262"}},{"$nulls":4},12.041902784353795,3.5458809437087235E-3]
[null,null,{"$f":"C868+Sheet2!B$12","v":{"v":138.4215784215783,"d":"138.422"}},{"$nulls":4},13.287563958759714,0.717463592188085]
[null,null,{"$f":"C869+Sheet2!B$12","v":{"v":138.58141858141846,"d":"138.581"}},{"$nulls":4},14.697139752477552,3.5572074402440075]
[null,null,{"$f":"C870+Sheet2!B$12","v":{"v":138.74125874125863,"d":"138.741"}},{"$nulls":4},14.022656877556962,7.69478757460252]
[null,null,{"$f":"C871+Sheet2!B$12","v":{"v":138.9010989010988,"d":"138.901"}},{"$nulls":4},10.995078057689337,10.704783696638879]
[null,null,{"$f":"C872+Sheet2!B$12","v":{"v":139.06093906093898,"d":"139.061"}},{"$nulls":4},7.653637127543105,11.23986812373541]
[null,null,{"$f":"C873+Sheet2!B$12","v":{"v":139.22077922077915,"d":"139.221"}},{"$nulls":4},6.083365347049196,10.496628369641583]
[null,null,{"$f":"C874+Sheet2!B$12","v":{"v":139.38061938061932,"d":"139.381"}},{"$nulls":4},6.108868732061804,10.821590500729835]
[null,null,{"$f":"C875+Sheet2!B$12","v":{"v":139.5404595404595,"d":"139.540"}},{"$nulls":4},5.541504680667094,13.029096819376731]
[null,null,{"$f":"C876+Sheet2!B$12","v":{"v":139.70029970029967,"d":"139.700"}},{"$nulls":4},2.7002195420687727,15.453755308504004]
[null,null,{"$f":"C877+Sheet2!B$12","v":{"v":139.86013986013984,"d":"139.860"}},{"$nulls":4},-1.635386408841888,15.805758870163128]
[null,null,{"$f":"C878+Sheet2!B$12","v":{"v":140.01998001998,"d":"140.020"}},{"$nulls":4},-5.041639570576981,13.739365958143152]
[null,null,{"$f":"C879+Sheet2!B$12","v":{"v":140.17982017982018,"d":"140.180"}},{"$nulls":4},-6.118615849064213,11.241124448718526]
[null,null,{"$f":"C880+Sheet2!B$12","v":{"v":140.33966033966036,"d":"140.340"}},{"$nulls":4},-6.005178838895929,10.400490452371407]
[null,null,{"$f":"C881+Sheet2!B$12","v":{"v":140.49950049950053,"d":"140.500"}},{"$nulls":4},-7.035943241682904,11.074288755118625]
[null,null,{"$f":"C882+Sheet2!B$12","v":{"v":140.6593406593407,"d":"140.659"}},{"$nulls":4},-10.054786199422766,11.075812531543718]
[null,null,{"$f":"C883+Sheet2!B$12","v":{"v":140.81918081918087,"d":"140.819"}},{"$nulls":4},-13.412996644833795,8.674809906267757]
[null,null,{"$f":"C884+Sheet2!B$12","v":{"v":140.97902097902104,"d":"140.979"}},{"$nulls":4},-14.782072387462524,4.5908910049102305]
[null,null,{"$f":"C885+Sheet2!B$12","v":{"v":141.13886113886122,"d":"141.139"}},{"$nulls":4},-13.739967864887074,1.2334168696522574]
[null,null,{"$f":"C886+Sheet2!B$12","v":{"v":141.2987012987014,"d":"141.299"}},{"$nulls":4},-12.218016048875198,0.042937226427798514]
[null,null,{"$f":"C887+Sheet2!B$12","v":{"v":141.45854145854156,"d":"141.459"}},{"$nulls":4},-12.30574092126805,-0.07205420002501883]
[null,null,{"$f":"C888+Sheet2!B$12","v":{"v":141.61838161838173,"d":"141.618"}},{"$nulls":4},-13.887198061779952,-1.4433841074335187]
[null,null,{"$f":"C889+Sheet2!B$12","v":{"v":141.7782217782219,"d":"141.778"}},{"$nulls":4},-14.772036372689048,-4.953361975940784]
[null,null,{"$f":"C890+Sheet2!B$12","v":{"v":141.93806193806208,"d":"141.938"}},{"$nulls":4},-13.173612868982852,-8.978868953398116]
[null,null,{"$f":"C891+Sheet2!B$12","v":{"v":142.09790209790225,"d":"142.098"}},{"$nulls":4},-9.741997665319039,-11.160563030124527]
[null,null,{"$f":"C892+Sheet2!B$12","v":{"v":142.25774225774242,"d":"142.258"}},{"$nulls":4},-6.860928824342683,-11.005491292644361]
[null,null,{"$f":"C893+Sheet2!B$12","v":{"v":142.4175824175826,"d":"142.418"}},{"$nulls":4},-6.000034856496443,-10.39236474385396]
[null,null,{"$f":"C894+Sheet2!B$12","v":{"v":142.57742257742277,"d":"142.577"}},{"$nulls":4},-6.104404265545716,-11.411519429511157]
[null,null,{"$f":"C895+Sheet2!B$12","v":{"v":142.73726273726294,"d":"142.737"}},{"$nulls":4},-4.834693113612056,-13.9742175355989]
[null,null,{"$f":"C896+Sheet2!B$12","v":{"v":142.8971028971031,"d":"142.897"}},{"$nulls":4},-1.2593227622532674,-15.885610785636121]
[null,null,{"$f":"C897+Sheet2!B$12","v":{"v":143.05694305694328,"d":"143.057"}},{"$nulls":4},3.0357639918596586,-15.299852630628486]
[null,null,{"$f":"C898+Sheet2!B$12","v":{"v":143.21678321678345,"d":"143.217"}},{"$nulls":4},{"$f":"(r0+r00)*COS($C899)-r00*COS((r0+r00)*$C899/r00)","v":5.671598717028727},{"$f":"(r0+r00)*SIN($C899)-r00*SIN((r0+r00)*$C899/r00)","v":-12.791827197087208}]
[null,null,{"$f":"C899+Sheet2!B$12","v":{"v":143.37662337662363,"d":"143.377"}},{"$nulls":4},6.093668460462158,-10.71164064880694]
[null,null,{"$f":"C900+Sheet2!B$12","v":{"v":143.5364635364638,"d":"143.536"}},{"$nulls":4},6.135070735684222,-10.549063559702814]
[null,null,{"$f":"C901+Sheet2!B$12","v":{"v":143.69630369630397,"d":"143.696"}},{"$nulls":4},7.892449627684633,-11.276890979379013]
[null,null,{"$f":"C902+Sheet2!B$12","v":{"v":143.85614385614414,"d":"143.856"}},{"$nulls":4},11.309229474639789,-10.539071310976864]
[null,null,{"$f":"C903+Sheet2!B$12","v":{"v":144.01598401598432,"d":"144.016"}},{"$nulls":4},14.190319957344915,-7.344245827161978]
[null,null,{"$f":"C904+Sheet2!B$12","v":{"v":144.1758241758245,"d":"144.176"}},{"$nulls":4},14.632975632688758,-3.229101051268521]
[null,null,{"$f":"C905+Sheet2!B$12","v":{"v":144.33566433566466,"d":"144.336"}},{"$nulls":4},13.13622670156498,-0.5796916273495101]
[null,null,{"$f":"C906+Sheet2!B$12","v":{"v":144.49550449550483,"d":"144.496"}},{"$nulls":4},12.013224086915566,-6.2665170497089306E-4]
[null,null,{"$f":"C907+Sheet2!B$12","v":{"v":144.655344655345,"d":"144.655"}},{"$nulls":4},12.769211956911944,0.30541197975616674]
[null,null,{"$f":"C908+Sheet2!B$12","v":{"v":144.81518481518518,"d":"144.815"}},{"$nulls":4},14.399567526267248,2.4503183816319525]
[null,null,{"$f":"C909+Sheet2!B$12","v":{"v":144.97502497502535,"d":"144.975"}},{"$nulls":4},14.525529012324911,6.418625492337137]
[null,null,{"$f":"C910+Sheet2!B$12","v":{"v":145.13486513486552,"d":"145.135"}},{"$nulls":4},12.087976890260135,10.023717459478524]
[null,null,{"$f":"C911+Sheet2!B$12","v":{"v":145.2947052947057,"d":"145.295"}},{"$nulls":4},8.564044460228986,11.313084262879803]
[null,null,{"$f":"C912+Sheet2!B$12","v":{"v":145.45454545454587,"d":"145.455"}},{"$nulls":4},6.335302015386062,10.714291782478435]
[null,null,{"$f":"C913+Sheet2!B$12","v":{"v":145.61438561438604,"d":"145.614"}},{"$nulls":4},6.045128461826586,10.505342247836978]
[null,null,{"$f":"C914+Sheet2!B$12","v":{"v":145.7742257742262,"d":"145.774"}},{"$nulls":4},5.921479665296729,12.207350415218265]
[null,null,{"$f":"C915+Sheet2!B$12","v":{"v":145.93406593406638,"d":"145.934"}},{"$nulls":4},3.8268233605148767,14.838044555471612]
[null,null,{"$f":"C916+Sheet2!B$12","v":{"v":146.09390609390655,"d":"146.094"}},{"$nulls":4},-0.2756242644179571,15.994571161767112]
[null,null,{"$f":"C917+Sheet2!B$12","v":{"v":146.25374625374673,"d":"146.254"}},{"$nulls":4},-4.219355205131136,14.546300258864655]
[null,null,{"$f":"C918+Sheet2!B$12","v":{"v":146.4135864135869,"d":"146.414"}},{"$nulls":4},-6.012804815921581,11.904223708570598]
[null,null,{"$f":"C919+Sheet2!B$12","v":{"v":146.57342657342707,"d":"146.573"}},{"$nulls":4},-6.020590716065844,10.436927175854695]
[null,null,{"$f":"C920+Sheet2!B$12","v":{"v":146.73326673326724,"d":"146.733"}},{"$nulls":4},-6.491918325836442,10.817592280786114]
[null,null,{"$f":"C921+Sheet2!B$12","v":{"v":146.89310689310742,"d":"146.893"}},{"$nulls":4},-8.969011749857295,11.290557994158597]
[null,null,{"$f":"C922+Sheet2!B$12","v":{"v":147.0529470529476,"d":"147.053"}},{"$nulls":4},-12.496754963919972,9.683112024764162]
[null,null,{"$f":"C923+Sheet2!B$12","v":{"v":147.21278721278776,"d":"147.213"}},{"$nulls":4},-14.6519474744629,5.895122504996513]
[null,null,{"$f":"C924+Sheet2!B$12","v":{"v":147.37262737262793,"d":"147.373"}},{"$nulls":4},-14.233786061420655,2.060571673135443]
[null,null,{"$f":"C925+Sheet2!B$12","v":{"v":147.5324675324681,"d":"147.532"}},{"$nulls":4},-12.585426437089026,0.19776207298560466]
[null,null,{"$f":"C926+Sheet2!B$12","v":{"v":147.69230769230828,"d":"147.692"}},{"$nulls":4},-12.058522816722915,-0.005863457332166533]
[null,null,{"$f":"C927+Sheet2!B$12","v":{"v":147.85214785214845,"d":"147.852"}},{"$nulls":4},-13.351194849386836,-0.7801148008954688]
[null,null,{"$f":"C928+Sheet2!B$12","v":{"v":148.01198801198862,"d":"148.012"}},{"$nulls":4},-14.718846906064902,-3.6972063141775484]
[null,null,{"$f":"C929+Sheet2!B$12","v":{"v":148.1718281718288,"d":"148.172"}},{"$nulls":4},-13.947015558211811,-7.83814498385561]
[null,null,{"$f":"C930+Sheet2!B$12","v":{"v":148.33166833166896,"d":"148.332"}},{"$nulls":4},-10.863405624626319,-10.767730263611854]
[null,null,{"$f":"C931+Sheet2!B$12","v":{"v":148.49150849150914,"d":"148.492"}},{"$nulls":4},-7.558563267210293,-11.221248651676337]
[null,null,{"$f":"C932+Sheet2!B$12","v":{"v":148.6513486513493,"d":"148.651"}},{"$nulls":4},-6.065893917414792,-10.47742476908142]
[null,null,{"$f":"C933+Sheet2!B$12","v":{"v":148.81118881118948,"d":"148.811"}},{"$nulls":4},-6.113867339217212,-10.872156038236405]
[null,null,{"$f":"C934+Sheet2!B$12","v":{"v":148.97102897102965,"d":"148.971"}},{"$nulls":4},-5.481725416625128,-13.12865257449431]
[null,null,{"$f":"C935+Sheet2!B$12","v":{"v":149.13086913086983,"d":"149.131"}},{"$nulls":4},-2.5566751195127875,-15.512877522026697]
[null,null,{"$f":"C936+Sheet2!B$12","v":{"v":149.29070929071,"d":"149.291"}},{"$nulls":4},1.7898300788547084,-15.766545976982407]
[null,null,{"$f":"C937+Sheet2!B$12","v":{"v":149.45054945055017,"d":"149.451"}},{"$nulls":4},5.122090377699566,-13.6404497565978]
[null,null,{"$f":"C938+Sheet2!B$12","v":{"v":149.61038961039034,"d":"149.610"}},{"$nulls":4},6.121525003391198,-11.174288088214462]
[null,null,{"$f":"C939+Sheet2!B$12","v":{"v":149.77022977023051,"d":"149.770"}},{"$nulls":4},6.010118725584792,-10.407764739711011]
[null,null,{"$f":"C940+Sheet2!B$12","v":{"v":149.9300699300707,"d":"149.930"}},{"$nulls":4},7.113847246522004,-11.101447510239348]
[null,null,{"$f":"C941+Sheet2!B$12","v":{"v":150.08991008991086,"d":"150.090"}},{"$nulls":4},10.186083335460633,-11.034638498526746]
[null,null,{"$f":"C942+Sheet2!B$12","v":{"v":150.24975024975103,"d":"150.250"}},{"$nulls":4},13.507921987083055,-8.543951190448846]
[null,null,{"$f":"C943+Sheet2!B$12","v":{"v":150.4095904095912,"d":"150.410"}},{"$nulls":4},14.780315470719682,-4.441643560347488]
[null,null,{"$f":"C944+Sheet2!B$12","v":{"v":150.56943056943138,"d":"150.569"}},{"$nulls":4},13.677430823492557,-1.1513419050603546]
[null,null,{"$f":"C945+Sheet2!B$12","v":{"v":150.72927072927155,"d":"150.729"}},{"$nulls":4},12.18550065773838,-0.033571557002393115]
[null,null,{"$f":"C946+Sheet2!B$12","v":{"v":150.88911088911172,"d":"150.889"}},{"$nulls":4},12.346130652400126,0.08721979275593106]
[null,null,{"$f":"C947+Sheet2!B$12","v":{"v":151.0489510489519,"d":"151.049"}},{"$nulls":4},13.946985280557282,1.536184144069192]
[null,null,{"$f":"C948+Sheet2!B$12","v":{"v":151.20879120879206,"d":"151.209"}},{"$nulls":4},14.76180923684527,5.105758984332755]
[null,null,{"$f":"C949+Sheet2!B$12","v":{"v":151.36863136863224,"d":"151.369"}},{"$nulls":4},13.069350890759527,9.101069262483154]
[null,null,{"$f":"C950+Sheet2!B$12","v":{"v":151.5284715284724,"d":"151.528"}},{"$nulls":4},9.613039849787501,11.190092241645912]
[null,null,{"$f":"C951+Sheet2!B$12","v":{"v":151.68831168831258,"d":"151.688"}},{"$nulls":4},6.793081777896414,10.975662112556831]
[null,null,{"$f":"C952+Sheet2!B$12","v":{"v":151.84815184815275,"d":"151.848"}},{"$nulls":4},6.000417639539973,10.393048723650441]
[null,null,{"$f":"C953+Sheet2!B$12","v":{"v":152.00799200799293,"d":"152.008"}},{"$nulls":4},6.095195158412257,11.486461290527725]
[null,null,{"$f":"C954+Sheet2!B$12","v":{"v":152.1678321678331,"d":"152.168"}},{"$nulls":4},4.742778268055469,14.07061653122286]
[null,null,{"$f":"C955+Sheet2!B$12","v":{"v":152.32767232767327,"d":"152.328"}},{"$nulls":4},1.1007963438986303,15.912800753510849]
[null,null,{"$f":"C956+Sheet2!B$12","v":{"v":152.48751248751344,"d":"152.488"}},{"$nulls":4},-3.1715021079308503,15.230991088609859]
[null,null,{"$f":"C957+Sheet2!B$12","v":{"v":152.6473526473536,"d":"152.647"}},{"$nulls":4},-5.720288666270147,12.694040026813266]
[null,null,{"$f":"C958+Sheet2!B$12","v":{"v":152.8071928071938,"d":"152.807"}},{"$nulls":4},-6.086326442376404,10.670663183590234]
[null,null,{"$f":"C959+Sheet2!B$12","v":{"v":152.96703296703396,"d":"152.967"}},{"$nulls":4},-6.160856249143309,10.573272247560709]
[null,null,{"$f":"C960+Sheet2!B$12","v":{"v":153.12687312687413,"d":"153.127"}},{"$nulls":4},-7.996154270840307,11.288829726178827]
[null,null,{"$f":"C961+Sheet2!B$12","v":{"v":153.2867132867143,"d":"153.287"}},{"$nulls":4},-11.438931200278702,10.46399454503858]
[null,null,{"$f":"C962+Sheet2!B$12","v":{"v":153.44655344655447,"d":"153.447"}},{"$nulls":4},{"$f":"(r0+r00)*COS($C963)-r00*COS((r0+r00)*$C963/r00)","v":-14.2542246172539},{"$f":"(r0+r00)*SIN($C963)-r00*SIN((r0+r00)*$C963/r00)","v":7.19589115326269}]
[null,null,{"$f":"C963+Sheet2!B$12","v":{"v":153.60639360639465,"d":"153.606"}},{"$nulls":4},-14.601449100425778,3.096018342819794]
[null,null,{"$f":"C964+Sheet2!B$12","v":{"v":153.76623376623482,"d":"153.766"}},{"$nulls":4},-13.07410130960338,0.527484447127323]
[null,null,{"$f":"C965+Sheet2!B$12","v":{"v":153.926073926075,"d":"153.926"}},{"$nulls":4},-12.00600978756673,1.9183172056269626E-4]
[null,null,{"$f":"C966+Sheet2!B$12","v":{"v":154.08591408591516,"d":"154.086"}},{"$nulls":4},-12.826363348507405,-0.34285458343115405]
[null,null,{"$f":"C967+Sheet2!B$12","v":{"v":154.24575424575534,"d":"154.246"}},{"$nulls":4},-14.443798273452177,-2.5709283780216494]
[null,null,{"$f":"C968+Sheet2!B$12","v":{"v":154.4055944055955,"d":"154.406"}},{"$nulls":4},-14.480213126076087,-6.571685280854507]
[null,null,{"$f":"C969+Sheet2!B$12","v":{"v":154.56543456543568,"d":"154.565"}},{"$nulls":4},-11.964160327902604,-10.116600545022791]
[null,null,{"$f":"C970+Sheet2!B$12","v":{"v":154.72527472527585,"d":"154.725"}},{"$nulls":4},-8.449020495361673,-11.313575432548886]
[null,null,{"$f":"C971+Sheet2!B$12","v":{"v":154.88511488511602,"d":"154.885"}},{"$nulls":4},-6.295595606963535,-10.685034915557509]
[null,null,{"$f":"C972+Sheet2!B$12","v":{"v":155.0449550449562,"d":"155.045"}},{"$nulls":4},-6.053155583238211,-10.531653194334709]
[null,null,{"$f":"C973+Sheet2!B$12","v":{"v":155.20479520479637,"d":"155.205"}},{"$nulls":4},-5.888467776463845,-12.299763578238784]
[null,null,{"$f":"C974+Sheet2!B$12","v":{"v":155.36463536463654,"d":"155.365"}},{"$nulls":4},-3.7048571085704882,-14.919420316228312]
[null,null,{"$f":"C975+Sheet2!B$12","v":{"v":155.5244755244767,"d":"155.524"}},{"$nulls":4},0.43745081191255086,-15.98631531247123]
[null,null,{"$f":"C976+Sheet2!B$12","v":{"v":155.68431568431689,"d":"155.684"}},{"$nulls":4},4.32799742165974,-14.456576314623549]
[null,null,{"$f":"C977+Sheet2!B$12","v":{"v":155.84415584415706,"d":"155.844"}},{"$nulls":4},6.033817623782728,-11.818784721388942]
[null,null,{"$f":"C978+Sheet2!B$12","v":{"v":156.00399600399723,"d":"156.004"}},{"$nulls":4},6.0146928147077725,-10.422895386204031]
[null,null,{"$f":"C979+Sheet2!B$12","v":{"v":156.1638361638374,"d":"156.164"}},{"$nulls":4},6.544433664353521,-10.84858054921947]
[null,null,{"$f":"C980+Sheet2!B$12","v":{"v":156.32367632367757,"d":"156.324"}},{"$nulls":4},9.091735846148861,-11.27747387669672]
[null,null,{"$f":"C981+Sheet2!B$12","v":{"v":156.48351648351775,"d":"156.484"}},{"$nulls":4},12.612856718804316,-9.575912534256126]
[null,null,{"$f":"C982+Sheet2!B$12","v":{"v":156.64335664335792,"d":"156.643"}},{"$nulls":4},14.680962542922202,-5.7408452467451525]
[null,null,{"$f":"C983+Sheet2!B$12","v":{"v":156.8031968031981,"d":"156.803"}},{"$nulls":4},14.180986355799485,-1.9522211254488109]
[null,null,{"$f":"C984+Sheet2!B$12","v":{"v":156.96303696303826,"d":"156.963"}},{"$nulls":4},12.534912882121112,-0.17158889896949314]
[null,null,{"$f":"C985+Sheet2!B$12","v":{"v":157.12287712287844,"d":"157.123"}},{"$nulls":4},12.077847880170266,0.009015259400396158]
[null,null,{"$f":"C986+Sheet2!B$12","v":{"v":157.2827172827186,"d":"157.283"}},{"$nulls":4},13.414985149859447,0.8459015595160781]
[null,null,{"$f":"C987+Sheet2!B$12","v":{"v":157.44255744255878,"d":"157.443"}},{"$nulls":4},14.737481223294326,3.8390081324170184]
[null,null,{"$f":"C988+Sheet2!B$12","v":{"v":157.60239760239895,"d":"157.602"}},{"$nulls":4},13.868046643702513,7.979760736811853]
[null,null,{"$f":"C989+Sheet2!B$12","v":{"v":157.76223776223912,"d":"157.762"}},{"$nulls":4},10.731450286677708,10.8270972029008]
[null,null,{"$f":"C990+Sheet2!B$12","v":{"v":157.9220779220793,"d":"157.922"}},{"$nulls":4},7.466166832513799,11.200920624236597]
[null,null,{"$f":"C991+Sheet2!B$12","v":{"v":158.08191808191947,"d":"158.082"}},{"$nulls":4},6.0506973933524035,10.459924711646293]
[null,null,{"$f":"C992+Sheet2!B$12","v":{"v":158.24175824175964,"d":"158.242"}},{"$nulls":4},6.117894481484049,10.925483859480694]
[null,null,{"$f":"C993+Sheet2!B$12","v":{"v":158.4015984015998,"d":"158.402"}},{"$nulls":4},5.418614571100324,13.228444022860424]
[null,null,{"$f":"C994+Sheet2!B$12","v":{"v":158.56143856143999,"d":"158.561"}},{"$nulls":4},2.4110621928496485,15.56894291102186]
[null,null,{"$f":"C995+Sheet2!B$12","v":{"v":158.72127872128016,"d":"158.721"}},{"$nulls":4},-1.9427976892056695,15.723912885343674]
[null,null,{"$f":"C996+Sheet2!B$12","v":{"v":158.88111888112033,"d":"158.881"}},{"$nulls":4},-5.1991499064994215,13.541087284435976]
[null,null,{"$f":"C997+Sheet2!B$12","v":{"v":159.0409590409605,"d":"159.041"}},{"$nulls":4},-6.122833039216538,11.109978123235788]
[null,null,{"$f":"C998+Sheet2!B$12","v":{"v":159.20079920080067,"d":"159.201"}},{"$nulls":4},-6.016857446330709,10.417212535259978]
[null,null,{"$f":"C999+Sheet2!B$12","v":{"v":159.36063936064085,"d":"159.361"}},{"$nulls":4},-7.1946555654659745,11.127535899431212]
[null,null,{"$f":"C1000+Sheet2!B$12","v":{"v":159.52047952048102,"d":"159.520"}},{"$nulls":4},-10.317783358976499,10.989962128360036]
[null,null,{"$f":"C1001+Sheet2!B$12","v":{"v":159.6803196803212,"d":"159.680"}},{"$nulls":4},-13.599901604438568,8.410768296378]
[null,null,{"$f":"C1002+Sheet2!B$12","v":{"v":159.84015984016136,"d":"159.840"}},{"$nulls":4},-14.775141236114536,4.2935997617013815]
[null,null,{"$f":"C1003+Sheet2!B$12","v":{"v":160.00000000000153,"d":"160.000"}},{"$nulls":4},-13.614376044934621,1.0724472807250265]

{"sheet":"Sheet3","index":2,"n_rows":0,"n_cols":0,"rows_kept":0}