{"text_format":"3","workbook":"xlsx","n_sheets":4,"sheets":["Sheet1","Sheet2","Defining Function","Sheet3"],"not_rendered":{"charts":1,"images":6,"macros":1,"defined_names":13,"comments":1},"read":"whole","date_system":"1900"}

{"sheet":"Sheet1","index":0,"n_rows":40,"n_cols":13,"rows_kept":40,"merged":[[33,2,33,3]]}
[null,"            Euler's Method"]
[null,null,"       y' = f(x)"]
[]
[null,"           This graphing utility illustrates "]
[null," Euler's Method to approximate the solution   "]
[null,"     of any first order differential equation"]
[{"$nulls":3},"y' = f(x)"]
[null,"        with initial conditions x0 and y0"]
[null,"        extending from x = a  to x = b."]
[]
["Enter the function in terms of x only:  f(x) =",{"$nulls":4},"x*cos(x)"]
[]
["Now enter the initial conditions:"]
[null,"The initial value x0 of  x is",null,null,1]
[null,"The initial value y0 of  y is",null,null,6]
[]
["To what value of x should the solutions extend?",{"$nulls":8},"The solution of the D.E.  y' =",null,null,{"$f":"F11","v":"x*cos(x)"}]
[null,null,"xMax =",9]
[{"$nulls":8},"Now select all the Euler approximations you want to see  "]
[]
[{"$nulls":9},true]
[]
[{"$nulls":9},true]
[]
[{"$nulls":9},true]
["Click each item below for suggestions and investigations"]
[null,"   Item 1"]
[null,"   Item 2",{"$nulls":7},false]
[null,"   Item 3"]
[null,"   Item 4"]
[{"$nulls":9},false]
[]
["To access/download all the DIGMath Apps for Calculus",{"$nulls":8},false]
["     Click this link:",null,"DIGMath for Calculus"]
[]
["Created by:  Sheldon P. Gordon   "]
["                      Farmingdale State College    "]
["Development of this module was supported by the "]
["NSF's Division of Undergraduate Education  "]
["under grants DUE-0310123 and DUE-0442160."]

{"sheet":"Sheet2","index":1,"n_rows":518,"n_cols":9,"rows_kept":518}
[null,null,"x","y' = f(x)","y"]
[{"$nulls":6},{"$f":"Sheet1!#REF!","v":{"$error":"#REF!"}}]
[null,null,{"$f":"x0","v":1},{"$f":"x*COS(x)","v":0.5403023058681398},{"$f":"y0","v":6},{"$nulls":3},"Note:  2-D data table is full array"]
["delta x = ",{"$f":"(b-a)/257","v":0.0311284046692607},{"$f":"C3+dx","v":1.0311284046692606},0.5298465033738483,{"$f":"E3+D3*dx","v":6.016818748820798}]
[null,null,1.0622568093385212,0.5172150696918482,6.033312025190412,null,null,"xMin =",{"$f":"x0","v":1}]
[null,null,1.0933852140077818,0.5023900604014088,6.04941210518082]
[null,null,1.1245136186770424,0.4853572962458203,6.065050706282809]
[null,null,1.155642023346303,0.466106404526152,6.080159104609527]
[null,null,1.1867704280155635,0.4446308551912333,6.0946682533885514]
[null,null,1.2178988326848241,0.4209279915636589,6.108508902577384]
[null,null,1.2490272373540847,0.3949990556484092,6.121611719435396]
[null,null,1.2801556420233453,0.3668492079775351,6.133907409883596]
[null,null,1.311284046692606,0.3364875419512874,6.145326840482118]
[null,null,1.3424124513618665,0.3039270926430555,6.155801160854143]
[null,null,1.373540856031127,0.2691848400425173,6.165261926383888]
[null,null,1.4046692607003877,0.23228170671847764,6.173641221015561]
[null,null,1.4357976653696483,0.19324254988998543,6.180871779979561]
[null,null,1.4669260700389088,0.15209614790145137,6.186887112271856]
[null,null,1.4980544747081694,0.10887518110464063,6.191621622712368]
[null,null,1.52918287937743,0.0636162071575707,6.195010733408233]
[null,null,1.5603112840466906,0.01635963075750086,6.196991004448157]
[null,null,1.5914396887159512,-0.03285033216765383,6.197500253654616]
[null,null,1.6225680933852118,-0.08396569577802548,6.196477675221382]
[null,null,1.6536964980544724,-0.1369347511120539,6.193863957064868]
[null,null,1.684824902723733,-0.19170211830268186,6.189601396718968]
[null,null,1.7159533073929936,-0.24820880416684418,6.183634015604487]
[null,null,1.7470817120622542,-0.30639226510864137,6.175907671505908]
[null,null,1.7782101167315147,-0.36618647526968523,6.166370169090075]
[null,null,1.8093385214007753,-0.42752199985326983,6.15497136830347]
[null,null,1.840466926070036,-0.4903260735422608,6.141663290487026]
[null,null,1.8715953307392965,-0.5545226839239303,6.126400222049913]
[null,null,1.902723735408557,-0.6200326598283851,6.109138815546444]
[null,null,1.9338521400778177,-0.6867737644807642,6.0898381880031485]
[null,null,1.9649805447470783,-0.7546607933610193,6.06846001634616]
[null,null,1.9961089494163389,-0.8236056766588454,6.044968629782393]
[null,null,2.0272373540855995,-0.8935175862052132,6.019331098991456]
[null,null,2.05836575875486,-0.9643030467559673,5.991517321988959]
[null,null,2.0894941634241206,-1.0358660514971123,5.9615001065257385]
[null,null,2.1206225680933812,-1.108108181635711,5.929255248891587]
[null,null,2.151750972762642,-1.18092872993478,5.894761608996312]
[null,null,2.1828793774319024,-1.2542248280451904,5.858001181605346]
[null,null,2.214007782101163,-1.3278915774823694,5.818959163611721]
[null,null,2.2451361867704236,-1.4018221840905636,5.777624017230947]
[null,null,2.276264591439684,-1.4759080958325805,5.7339875290102285]
[null,null,2.3073929961089448,-1.550039143738245,5.688044864548514]
[null,null,2.3385214007782054,-1.6241036858403575,5.639794618829036]
[null,null,2.369649805447466,-1.697988753922645,5.58923886207136]
[null,null,2.4007782101167265,-1.7715802029001548,5.5363831810154025]
[null,null,2.431906614785987,-1.8447628626486627,5.481236715555475]
[null,null,2.4630350194552477,-1.9174206920960435,5.423812190648124]
[null,null,2.4941634241245083,-1.9894369353851182,5.364125943423344]
[null,null,2.525291828793769,-2.060694279914306,5.302197945434703]
[null,null,2.5564202334630295,-2.131075016059433,5.2380518199898995]
[null,null,2.58754863813229,-2.200461198377316,5.1717148545094505]
[null,null,2.6186770428015507,-2.268734808089252,5.103218007867355]
[null,null,2.6498054474708113,-2.335777916640267,5.032595912673915]
[null,null,2.680933852140072,-2.4014728501279734,4.959886872467214]
[null,null,2.7120622568093324,-2.465702354393118,4.885132853786188]
[null,null,2.743190661478593,-2.5283497605623695,4.80837947310469]
[null,null,2.7743190661478536,-2.589299150832639,4.729675978612476]
[null,null,2.805447470817114,-2.648435524285191,4.649075226835584]
[null,null,2.836575875486375,-2.7056449625170647,4.566633654095189]
[null,null,2.8677042801556354,-2.760814794876789,4.4824112428106115]
[null,null,2.898832684824896,-2.8138337630911523,4.3964714826588045]
[null,null,2.9299610894941566,-2.8645921850697746,4.308881326609274]
[null,null,2.961089494163417,-2.9129821176745203,4.219711141860021]
[null,null,2.9922178988326777,{"$f":"x*COS(x)","v":-2.9588975182412884},4.129034655706729]
[null,null,{"$f":"C67+dx","v":3.0233463035019383},-3.0022344046425267,{"$f":"E67+D67*dx","v":4.036928896384043}]
[null,null,3.054474708171199,-3.042891013679849,3.9434741289243536]
[null,null,3.0856031128404595,-3.0807679575974305,3.8487537860860703]
[null,null,3.11673151750972,-3.1157683785084336,3.7528543944098858]
[null,null,3.1478599221789807,-3.147798100528506,3.655865495467989]
[null,null,3.1789883268482413,-3.1767657794124813,3.5578795623776074]
[null,null,3.210116731517502,-3.202583049492727,3.458991911656596]
[null,null,3.2412451361867625,-3.2251646677201466,3.3593006105050716]
[null,null,3.272373540856023,-3.2444286546116734,3.2589063796032773]
[null,null,3.3035019455252836,-3.260296431911151,3.15791249152198]
[null,null,3.3346303501945442,-3.2726929567737995,3.056424664847703]
[null,null,3.365758754863805,-3.2815468522880096,2.9545509541310087]
[null,null,3.3968871595330654,-3.2867905341519967,2.852401635771849]
[null,null,3.428015564202326,-3.288360333326832,2.75008908996167]
[null,null,3.4591439688715866,-3.2861966144916326,2.6477276788075277]
[null,null,3.490272373540847,-3.2802438901311333,2.5454336207688777]
[null,null,3.5214007782101078,-3.2704509300905475,2.443324861543006]
[null,null,3.5525291828793684,-3.256770866437505,2.341520941540187]
[null,null,3.583657587548629,-3.239161293475967,2.240142860094662]
[null,null,3.6147859922178895,-3.2175843627623086,2.139312936562336]
[null,null,3.64591439688715,-3.1920068729792437,2.0391546684607857]
[null,null,3.6770428015564107,-3.162400354528987,1.9397925868116264]
[null,null,3.7081712062256713,-3.128741148712874,1.8413521088496345]
[null,null,3.739299610894932,-3.0910104813707484,1.7439593882671327]
[null,null,3.7704280155641925,-3.0491945308596224,1.6477411631660976]
[null,null,3.801556420233453,-3.003284490257499,1.5528246018942027]
[null,null,3.8326848249027137,-2.9532766236848036,1.4593371469445529]
[null,null,3.8638132295719743,-2.8991723166425527,1.3674063571022244]
[null,null,3.894941634241235,-2.840978120273207,1.277159748023857]
[null,null,3.9260700389104954,-2.7787057894571623,1.188724631439477]
[null,null,3.957198443579756,-2.7123723146648797,1.102227953168437]
[null,null,3.9883268482490166,-2.6419999474919207,1.0177961301438492]
[null,null,4.019455252918277,-2.567616219811442,0.9355548866421551]
[null,null,4.050583657587538,-2.4892539564861442,0.8556290899165071]
[null,null,4.081712062256798,-2.406951281589208,0.7781425854344481]
[null,null,4.112840466926059,-2.320751618091339,0.7032180319219437]
[null,null,4.14396887159532,-2.230703680978738,0.6309767364171549]
[null,null,4.17509727626458,-2.1368614637745713,0.5615384895384393]
[null,null,4.206225680933841,-2.039284218444331,0.49502140117191573]
[null,null,4.237354085603101,-1.9380364286733278,0.43154173678454355]
[null,null,4.268482490272362,-1.8331877765124858,0.3712137545690314]
[null,null,4.2996108949416225,-1.7248131023965303,0.3141495436270085]
[null,null,4.330739299610883,-1.6129923585466364,0.26045886339676627]
[null,null,4.361867704280144,-1.4978105557775705,0.21024898453150132]
[null,null,4.392996108949404,-1.3793577037373506,0.16362453143336683]
[null,null,4.424124513618665,-1.2577287446154208,0.12068732664776838]
[null,null,4.4552529182879255,-1.133023480363306,0.08153623732121831]
[null,null,4.486381322957186,-1.0053464934796417,0.04626702392469517]
[null,null,4.517509727626447,-0.8748070614194017,0.014972191442838623]
[null,null,4.548638132295707,-0.7415190646949952,-0.012259156772551315]
[null,null,4.579766536964968,-0.605600888744731,-0.035341462288348835]
[null,null,4.610894941634228,-0.4671753196519017,-0.05419285182125875]
[null,null,4.642023346303489,-0.3263694338054273,-0.06873527422287437]
[null,null,4.67315175097275,-0.18331448160060396,-0.0788946340300472]
[null,null,4.70428015564201,-0.038145765286029844,-0.08460092139504655]
[null,null,4.735408560311271,0.10899748892979808,-0.08578833821328873]
[null,null,4.766536964980531,0.257972264391402,-0.08239542026994871]
[null,null,4.797665369649792,0.40863189300073544,-0.07436515523052764]
[null,null,4.8287937743190525,0.5608261995779863,-0.06164509630443471]
[null,null,4.859922178988313,0.7144016514367154,-0.04418747141484759]
[null,null,4.891050583657574,0.8692015130244638,-0.021949287712537385]
[null,null,4.922178988326834,1.025066005473297,0.005107568724021801]
[null,null,4.953307392996095,1.1818324708982488,0.03701623815509719]
[null,null,4.9844357976653555,{"$f":"x*COS(x)","v":1.3393355412752797},0.07380479756049016]
[null,null,{"$f":"C131+dx","v":5.015564202334616},1.4974073117241993,{"$f":"E131+D131*dx","v":0.11549617627723038}]
[null,null,5.046692607003877,1.6558775180160046,0.16210807703129107]
[null,null,5.077821011673137,1.8145737181182857,0.21365290249482427]
[null,null,5.108949416342398,1.973321477586737,0.27013768749461525]
[null,null,5.140077821011658,2.1319445586054075,0.3315640369914787]
[null,null,5.171206225680919,2.2902651124731195,0.3979280699441762]
[null,null,5.20233463035018,2.4481038753285027,0.4692203691651293]
[null,null,5.23346303501944,2.6052803669013245,0.5454259372687403]
[null,null,5.264591439688701,2.761613092073268,0.6265241588065248]
[null,null,5.295719844357961,2.9169197450269957,0.7124887686765098]
[null,null,5.326848249027222,3.0710174157582864,0.8032878268874668]
[null,null,5.357976653696483,3.2237227987222026,0.8988836997515379]
[null,null,5.389105058365743,3.3748524033806926,0.9992330475716843]
[null,null,5.420233463035004,3.524222766415702,1.1042868188831456]
[null,null,5.451361867704264,3.671650665368821,1.213990251300755]
[null,null,5.482490272373525,3.816953333465719,1.328282879016516]
[null,null,5.5136186770427855,3.9599486753810664,1.4470985469843205]
[null,null,5.544747081712046,4.100455483697423,1.5703654318210851]
[null,null,5.575875486381307,4.238293655809575,1.6980060694459076]
[null,null,5.607003891050567,4.3732844110241205,1.8299373894711084]
[null,null,5.638132295719828,4.505250507602684,1.9660707563512367]
[null,null,5.6692607003890885,4.634016459495997,2.1063120172882854]
[null,null,5.700389105058349,4.759408752515257,2.2505615568834916]
[null,null,5.73151750972761,4.881256059686609,2.3987143585182076]
[null,null,5.76264591439687,4.9993894555343115,2.550660072438413]
[null,null,5.793774319066131,5.113642629038199,2.7062830905095203]
[null,null,5.824902723735391,5.223852095011354,2.8654626276002038]
[null,null,5.856031128404652,5.329857403644497,3.0280728095460825]
[null,null,5.887159533073913,5.43150134796452,3.1939827676361836]
[null,null,5.918287937743173,5.528630168955782,3.3630567395572584]
[null,null,5.949416342412434,5.621093758094258,3.5351541767231973]
[null,null,5.980544747081694,5.708745857046399,3.7101298579090107]
[null,null,6.011673151750955,5.791444254286681,3.8878340091011165]
[null,null,6.0428015564202155,5.869050978390102,4.068112429468017]
[null,null,6.073929961089476,5.941432487758588,4.250806623347865]
[null,null,6.105058365758737,6.008459856543182,4.435753938141906]
[null,null,6.136186770427997,6.07000895652708,4.622787707995391]
[null,null,6.167315175097258,6.125960634738122,4.811737403140203]
[null,null,6.1984435797665185,6.176200886563062,5.002428784766292]
[null,null,6.229571984435779,6.220621024140029,5.194684065281874]
[null,null,6.26070038910504,6.2591178398098855,5.388322073815416]
[null,null,6.2918287937743,6.291593764411779,5.583158426805607]
[null,null,6.322957198443561,6.3179570202130355,5.7790057035188145]
[null,null,6.3540856031128214,6.3381217682686355,5.975673626327002]
[null,null,6.385214007782082,6.352008250010881,6.172969245572719]
[null,null,6.416342412451343,6.359542922875467,6.37069712884154]
[null,null,6.447470817120603,6.360658589776006,6.568659554456341]
[null,null,6.478599221789864,6.355294522245159,6.766656709001897]
[null,null,6.509727626459124,6.343396577066831,6.96448688868268]
[null,null,6.540856031128385,6.324917306230427,7.1619467043112195]
[null,null,6.571984435797646,6.299816060044923,7.358831289719171]
[null,null,6.603112840466906,6.268059083257504,7.554934513378157]
[null,null,6.634241245136167,6.229619604028634,7.750049193012632]
[null,null,6.665369649805427,6.184477915622864,7.943967312982395]
[null,null,6.696498054474688,6.132621450682186,8.136480244208009]
[null,null,6.7276264591439485,6.074044847956528,8.327378966408233]
[null,null,6.758754863813209,6.008750011373851,8.516454292414663]
[null,null,6.78988326848247,5.936746161340451,8.703497094325133]
[null,null,6.82101167315173,5.8580498781702195,8.88829853125402]
[null,null,6.852140077820991,5.77268513755011,9.070650278434416]
[null,null,6.8832684824902515,5.680683337957461,9.250344757424303]
[null,null,6.914396887159512,5.582083319953584,9.42717536716617]
[null,null,6.945525291828773,5.476931377286728,9.600936715647215]
[null,null,6.976653696498033,{"$f":"x*COS(x)","v":5.3652812597464505},9.771424851905168]
[null,null,{"$f":"C195+dx","v":7.007782101167294},5.247194167720412,{"$f":"E195+D195*dx","v":9.938437498122957}]
[null,null,7.038910505836554,5.122738738413669,10.101774281553942]
[null,null,7.070038910505815,4.991991023699726,10.261236966018181]
[null,null,7.101167315175076,4.8550344595818355,10.416629682709223]
[null,null,7.132295719844336,4.711959827252317,10.567759160050292]
[null,null,7.163424124513597,4.56286520574704,10.714434952338301]
[null,null,7.194552529182857,4.4078559162015924,10.856469666914085]
[null,null,7.225680933852118,4.247044457725066,10.993679189597403]
[null,null,7.2568093385213785,4.080550434916875,11.12588290812581]
[null,null,{"$f":"C204+dx","v":7.287937743190639},3.9085004770614415,11.25290393333723]
[null,null,7.3190661478599,3.731028149045047,11.374569317837196]
[null,null,7.35019455252916,3.5482738540486167,11.490710271893073]
[null,null,7.381322957198421,3.3603847280795884,11.601162376299255]
[null,null,7.4124513618676815,3.167514526415463,11.70576579195932]
[null,null,7.443579766536942,2.969823502040938,11.804365465933342]
[null,null,7.474708171206203,2.7674782761698613,11.896811333701153]
[null,null,7.505836575875463,2.5606517009524596,11.982958517395156]
[null,null,7.536964980544724,2.3495227144774753,12.062667519759435]
[null,null,7.5680933852139844,2.1342761881879158,12.13580441359531]
[null,null,7.599221789883245,1.9151027668381158,12.20224102645719]
[null,null,7.630350194552506,1.6921987011286885,12.261855120366548]
[null,null,7.661478599221766,1.465765673164718,12.314530566316078]
[null,null,7.692607003891027,1.2360106148911856,12.36015751334066]
[null,null,7.723735408560287,1.0031455196681311,12.398632551936494]
[null,null,7.754863813229548,0.7673872471564221,12.42985887161488]
[null,null,7.785992217898809,0.5289573216932062,12.453746412382394]
[null,null,7.817120622568069,0.2880817243441775,12.470212009944829]
[null,null,7.84824902723733,0.044990678827656345,12.479179534438034]
[null,null,7.87937743190659,-0.20008156848682324,12.480580022494925]
[null,null,7.910505836575851,-0.4468969742952279,12.474351802464206]
[null,null,7.9416342412451115,-0.6952139295735487,12.460440612602875]
[null,null,7.972762645914372,-0.9447874960655547,12.438799712071402]
[null,null,8.003891050583633,-1.195369647812325,12.409389984567417]
[null,null,8.035019455252893,-1.4467095174854627,12.372180034440964]
[null,null,8.066147859922154,-1.6985536472794864,12.327146275141805]
[null,null,8.097276264591414,-1.9506462441127226,12.274273009856842]
[null,null,8.128404669260675,-2.2027294388801146,12.213552504203527]
[null,null,8.159533073929936,-2.454543549495691,12.144985050853172]
[null,null,8.190661478599196,-2.7058273474570558,12.068579025966146]
[null,null,8.221789883268457,-2.956318327659124,11.984350937329351]
[null,null,8.252918287937717,-3.2057529811795025,11.892325464094826]
[null,null,8.284046692606978,-3.453867070753333,11.792535488026981]
[null,null,8.315175097276239,-3.7003959086511586,11.685022116174737]
[null,null,8.3463035019455,-3.945074636669403,11.569834694893768]
[null,null,8.37743190661476,-4.187638507939374,11.447030815153086]
[null,null,8.40856031128402,-4.427823170257341,11.31667630906937]
[null,null,8.439688715953281,-4.6653649506351895,11.17884523762167]
[null,null,8.470817120622542,-4.900001140768408,11.033619869508513]
[null,null,8.501945525291802,-5.131470283115768,10.881090651118836]
[null,null,8.533073929961063,-5.3595124572829365,10.721356167597722]
[null,null,8.564202334630323,-5.5838695664005265,10.554523094997476]
[null,null,8.595330739299584,-5.804285623185649,10.38070614351419]
[null,null,8.626459143968845,-6.020507035374922,10.200027991819695]
[null,null,8.657587548638105,-6.232282890216135,10.012619212508413]
[null,null,8.688715953307366,-6.439365237705357,9.818618188688456]
[null,null,8.719844357976626,-6.641509372256164,9.618171021755993]
[null,null,8.750972762645887,-6.838474112487955,9.411431430401715]
[null,null,8.782101167315147,-7.030022078820879,9.198560640907926]
[null,null,8.813229571984408,-7.215919968565893,8.979727268804552]
[null,null,8.844357976653669,-7.395938828199686,8.755107191962034]
[null,null,8.87548638132293,-7.569854322515921,8.524883415208738]
[null,null,8.90661478599219,-7.737447000346124,8.28924592657011]
[null,null,8.93774319066145,-7.898502556545924,8.04839154523638]
[null,null,8.968871595330711,{"$f":"x*COS(x)","v":-8.052812089944988},7.802523761375028]
[null,null,8.999999999999972,-8.200172356961962,7.551852567913706]
["n = 4",null,{"$f":"x0","v":1},0.5403023058681398,{"$f":"y0","v":6},{"$f":"IF(Sheet1!J21=TRUE,C261,x0)","v":1},{"$f":"E261","v":6}]
[null,null,{"$f":"C261+dxA","v":3},-2.9699774898013365,{"$f":"E261+D261*dxA","v":7.0806046117362795},{"$f":"IF(Sheet1!J21=TRUE,C262,x0)","v":3},{"$f":"IF(Sheet1!J$21=TRUE,Sheet2!E262,y0)","v":7.0806046117362795}]
["dxA =",{"$f":"(b-a)/4","v":2},{"$f":"C262+dxA","v":5},1.4183109273161312,{"$f":"E262+D262*dxA","v":1.1406496321336066},{"$f":"IF(Sheet1!J21=TRUE,C263,x0)","v":5},{"$f":"IF(Sheet1!J$21=TRUE,Sheet2!E263,y0)","v":1.1406496321336066}]
[null,null,{"$f":"C263+dxA","v":7},5.277315780403132,{"$f":"E263+D263*dxA","v":3.977271486765869},{"$f":"IF(Sheet1!J21=TRUE,C264,x0)","v":7},{"$f":"IF(Sheet1!J$21=TRUE,Sheet2!E264,y0)","v":3.977271486765869}]
[null,null,{"$f":"C264+dxA","v":9},-8.200172356962092,{"$f":"E264+D264*dxA","v":14.531903047572133},{"$f":"IF(Sheet1!J21=TRUE,C265,x0)","v":9},{"$f":"IF(Sheet1!J$21=TRUE,Sheet2!E265,y0)","v":14.531903047572133}]
["n = 8",null,{"$f":"x0","v":1},0.5403023058681398,{"$f":"y0","v":6},{"$f":"IF(Sheet1!J$23=TRUE,C266,x0)","v":1},{"$f":"E266","v":6}]
[null,null,{"$f":"C266+dxB","v":2},-0.8322936730942848,{"$f":"E266+D266*dxB","v":6.54030230586814},{"$f":"IF(Sheet1!J$23=TRUE,C267,x0)","v":2},{"$f":"IF(Sheet1!J$23=TRUE,Sheet2!E267,y0)","v":6.54030230586814}]
["dxB =",{"$f":"(b-a)/8","v":1},3,-2.9699774898013365,5.708008632773855,{"$f":"IF(Sheet1!J$23=TRUE,C268,x0)","v":3},{"$f":"IF(Sheet1!J$23=TRUE,Sheet2!E268,y0)","v":5.708008632773855}]
[null,null,4,-2.6145744834544478,2.7380311429725186,{"$f":"IF(Sheet1!J$23=TRUE,C269,x0)","v":4},{"$f":"IF(Sheet1!J$23=TRUE,Sheet2!E269,y0)","v":2.7380311429725186}]
[null,null,5,1.4183109273161312,0.12345665951807083,{"$f":"IF(Sheet1!J$23=TRUE,C270,x0)","v":5},{"$f":"IF(Sheet1!J$23=TRUE,Sheet2!E270,y0)","v":0.12345665951807083}]
[null,null,6,5.761021719902196,1.541767586834202,{"$f":"IF(Sheet1!J$23=TRUE,C271,x0)","v":6},{"$f":"IF(Sheet1!J$23=TRUE,Sheet2!E271,y0)","v":1.541767586834202}]
[null,null,7,5.277315780403132,7.302789306736398,{"$f":"IF(Sheet1!J$23=TRUE,C272,x0)","v":7},{"$f":"IF(Sheet1!J$23=TRUE,Sheet2!E272,y0)","v":7.302789306736398}]
[null,null,8,-1.1640002704689083,12.580105087139529,{"$f":"IF(Sheet1!J$23=TRUE,C273,x0)","v":8},{"$f":"IF(Sheet1!J$23=TRUE,Sheet2!E273,y0)","v":12.580105087139529}]
[null,null,9,-8.200172356962092,11.416104816670622,{"$f":"IF(Sheet1!J$23=TRUE,C274,x0)","v":9},{"$f":"IF(Sheet1!J$23=TRUE,Sheet2!E274,y0)","v":11.416104816670622}]
["n = 16",null,{"$f":"x0","v":1},0.5403023058681398,{"$f":"y0","v":6},{"$f":"IF(Sheet1!J$25=TRUE,C275,x0)","v":1},{"$f":"E275","v":6}]
[null,null,{"$f":"C275+dxC","v":1.5},0.10610580250155435,{"$f":"E275+D275*dxC","v":6.27015115293407},{"$f":"IF(Sheet1!J$25=TRUE,C276,x0)","v":1.5},{"$f":"IF(Sheet1!J$25=TRUE,Sheet2!E276,y0)","v":6.27015115293407}]
["dxC =",{"$f":"(b-a)/16","v":0.5},2,-0.8322936730942848,6.323204054184847,{"$f":"IF(Sheet1!J$25=TRUE,C277,x0)","v":2},{"$f":"IF(Sheet1!J$25=TRUE,Sheet2!E277,y0)","v":6.323204054184847}]
[null,null,2.5,-2.002859038867334,5.907057217637705,{"$f":"IF(Sheet1!J$25=TRUE,C278,x0)","v":2.5},{"$f":"IF(Sheet1!J$25=TRUE,Sheet2!E278,y0)","v":5.907057217637705}]
[null,null,3,-2.9699774898013365,4.905627698204038,{"$f":"IF(Sheet1!J$25=TRUE,C279,x0)","v":3},{"$f":"IF(Sheet1!J$25=TRUE,Sheet2!E279,y0)","v":4.905627698204038}]
[null,null,3.5,-3.277598405517787,3.4206389533033694,{"$f":"IF(Sheet1!J$25=TRUE,C280,x0)","v":3.5},{"$f":"IF(Sheet1!J$25=TRUE,Sheet2!E280,y0)","v":3.4206389533033694}]
[null,null,4,-2.6145744834544478,1.7818397505444759,{"$f":"IF(Sheet1!J$25=TRUE,C281,x0)","v":4},{"$f":"IF(Sheet1!J$25=TRUE,Sheet2!E281,y0)","v":1.7818397505444759}]
[null,null,4.5,-0.9485810974385086,0.474552508817252,{"$f":"IF(Sheet1!J$25=TRUE,C282,x0)","v":4.5},{"$f":"IF(Sheet1!J$25=TRUE,Sheet2!E282,y0)","v":0.474552508817252}]
[null,null,5,1.4183109273161312,2.6196009799767106E-4,{"$f":"IF(Sheet1!J$25=TRUE,C283,x0)","v":5},{"$f":"IF(Sheet1!J$25=TRUE,Sheet2!E283,y0)","v":2.6196009799767106E-4}]
[null,null,5.5,3.89768375860193,0.7094174237560633,{"$f":"IF(Sheet1!J$25=TRUE,C284,x0)","v":5.5},{"$f":"IF(Sheet1!J$25=TRUE,Sheet2!E284,y0)","v":0.7094174237560633}]
[null,null,6,5.761021719902196,2.6582593030570285,{"$f":"IF(Sheet1!J$25=TRUE,C285,x0)","v":6},{"$f":"IF(Sheet1!J$25=TRUE,Sheet2!E285,y0)","v":2.6582593030570285}]
[null,null,6.5,6.347819567232152,5.5387701630081265,{"$f":"IF(Sheet1!J$25=TRUE,C286,x0)","v":6.5},{"$f":"IF(Sheet1!J$25=TRUE,Sheet2!E286,y0)","v":5.5387701630081265}]
[null,null,7,5.277315780403132,8.712679946624203,{"$f":"IF(Sheet1!J$25=TRUE,C287,x0)","v":7},{"$f":"IF(Sheet1!J$25=TRUE,Sheet2!E287,y0)","v":8.712679946624203}]
[null,null,7.5,2.5997648837626937,11.351337836825769,{"$f":"IF(Sheet1!J$25=TRUE,C288,x0)","v":7.5},{"$f":"IF(Sheet1!J$25=TRUE,Sheet2!E288,y0)","v":11.351337836825769}]
[null,null,8,-1.1640002704689083,12.651220278707115,{"$f":"IF(Sheet1!J$25=TRUE,C289,x0)","v":8},{"$f":"IF(Sheet1!J$25=TRUE,Sheet2!E289,y0)","v":12.651220278707115}]
[null,null,8.5,-5.117101172821001,12.069220143472661,{"$f":"IF(Sheet1!J$25=TRUE,C290,x0)","v":8.5},{"$f":"IF(Sheet1!J$25=TRUE,Sheet2!E290,y0)","v":12.069220143472661}]
[null,null,9,-8.200172356962092,9.51066955706216,{"$f":"IF(Sheet1!J$25=TRUE,C291,x0)","v":9},{"$f":"IF(Sheet1!J$25=TRUE,Sheet2!E291,y0)","v":9.51066955706216}]
["n = 32",null,{"$f":"x0","v":1},0.5403023058681398,{"$f":"y0","v":6},{"$f":"IF(Sheet1!J$28=TRUE,C292,x0)","v":1},{"$f":"E292","v":6}]
[null,null,{"$f":"C292+dxD","v":1.25},0.3941529529940858,{"$f":"E292+D292*dxD","v":6.135075576467035},{"$f":"IF(Sheet1!J$28=TRUE,C293,x0)","v":1},{"$f":"IF(Sheet1!J$28=TRUE,Sheet2!E293,y0)","v":6}]
["dxD =",{"$f":"(b-a)/32","v":0.25},1.5,0.10610580250155435,6.233613814715556,{"$f":"IF(Sheet1!J$28=TRUE,C294,x0)","v":1},{"$f":"IF(Sheet1!J$28=TRUE,Sheet2!E294,y0)","v":6}]
[null,null,1.75,-0.31193059738661116,6.260140265340945,{"$f":"IF(Sheet1!J$28=TRUE,C295,x0)","v":1},{"$f":"IF(Sheet1!J$28=TRUE,Sheet2!E295,y0)","v":6}]
[null,null,2,-0.8322936730942848,6.182157615994292,{"$f":"IF(Sheet1!J$28=TRUE,C296,x0)","v":1},{"$f":"IF(Sheet1!J$28=TRUE,Sheet2!E296,y0)","v":6}]
[null,null,2.25,-1.4133906511261631,5.974084197720721,{"$f":"IF(Sheet1!J$28=TRUE,C297,x0)","v":1},{"$f":"IF(Sheet1!J$28=TRUE,Sheet2!E297,y0)","v":6}]
[null,null,2.5,-2.002859038867334,5.62073653493918,{"$f":"IF(Sheet1!J$28=TRUE,C298,x0)","v":1},{"$f":"IF(Sheet1!J$28=TRUE,Sheet2!E298,y0)","v":6}]
[null,null,2.75,-2.541831541239275,5.120021775222346,{"$f":"IF(Sheet1!J$28=TRUE,C299,x0)","v":1},{"$f":"IF(Sheet1!J$28=TRUE,Sheet2!E299,y0)","v":6}]
[null,null,3,-2.9699774898013365,4.484563889912527,{"$f":"IF(Sheet1!J$28=TRUE,C300,x0)","v":1},{"$f":"IF(Sheet1!J$28=TRUE,Sheet2!E300,y0)","v":6}]
[null,null,3.25,-3.2309214472617755,3.742069517462193,{"$f":"IF(Sheet1!J$28=TRUE,C301,x0)","v":1},{"$f":"IF(Sheet1!J$28=TRUE,Sheet2!E301,y0)","v":6}]
[null,null,3.5,-3.277598405517787,2.9343391556467493,{"$f":"IF(Sheet1!J$28=TRUE,C302,x0)","v":1},{"$f":"IF(Sheet1!J$28=TRUE,Sheet2!E302,y0)","v":6}]
[null,null,3.75,-3.077097590023353,2.1149395542673024,{"$f":"IF(Sheet1!J$28=TRUE,C303,x0)","v":1},{"$f":"IF(Sheet1!J$28=TRUE,Sheet2!E303,y0)","v":6}]
[null,null,4,-2.6145744834544478,1.3456651567614641,{"$f":"IF(Sheet1!J$28=TRUE,C304,x0)","v":1},{"$f":"IF(Sheet1!J$28=TRUE,Sheet2!E304,y0)","v":6}]
[null,null,4.25,-1.8958718321336194,0.6920215358978522,{"$f":"IF(Sheet1!J$28=TRUE,C305,x0)","v":1},{"$f":"IF(Sheet1!J$28=TRUE,Sheet2!E305,y0)","v":6}]
[null,null,4.5,-0.9485810974385086,0.21805357786444735,{"$f":"IF(Sheet1!J$28=TRUE,C306,x0)","v":1},{"$f":"IF(Sheet1!J$28=TRUE,Sheet2!E306,y0)","v":6}]
[null,null,4.75,0.17861022621788863,-0.019091696495179805,{"$f":"IF(Sheet1!J$28=TRUE,C307,x0)","v":1},{"$f":"IF(Sheet1!J$28=TRUE,Sheet2!E307,y0)","v":6}]
[null,null,5,1.4183109273161312,0.025560860059292353,{"$f":"IF(Sheet1!J$28=TRUE,C308,x0)","v":1},{"$f":"IF(Sheet1!J$28=TRUE,Sheet2!E308,y0)","v":6}]
[null,null,5.25,2.688448755519664,0.38013859188832516,{"$f":"IF(Sheet1!J$28=TRUE,C309,x0)","v":1},{"$f":"IF(Sheet1!J$28=TRUE,Sheet2!E309,y0)","v":6}]
[null,null,5.5,3.89768375860193,1.052250780768241,{"$f":"IF(Sheet1!J$28=TRUE,C310,x0)","v":1},{"$f":"IF(Sheet1!J$28=TRUE,Sheet2!E310,y0)","v":6}]
[null,null,5.75,4.9518563986787445,2.0266717204187237,{"$f":"IF(Sheet1!J$28=TRUE,C311,x0)","v":1},{"$f":"IF(Sheet1!J$28=TRUE,Sheet2!E311,y0)","v":6}]
[null,null,6,5.761021719902196,3.26463582008841,{"$f":"IF(Sheet1!J$28=TRUE,C312,x0)","v":1},{"$f":"IF(Sheet1!J$28=TRUE,Sheet2!E312,y0)","v":6}]
[null,null,6.25,6.246558863903121,4.704891250063959,{"$f":"IF(Sheet1!J$28=TRUE,C313,x0)","v":1},{"$f":"IF(Sheet1!J$28=TRUE,Sheet2!E313,y0)","v":6}]
[null,null,6.5,6.347819567232152,6.266530966039739,{"$f":"IF(Sheet1!J$28=TRUE,C314,x0)","v":1},{"$f":"IF(Sheet1!J$28=TRUE,Sheet2!E314,y0)","v":6}]
[null,null,6.75,6.027792826651267,7.853485857847778,{"$f":"IF(Sheet1!J$28=TRUE,C315,x0)","v":1},{"$f":"IF(Sheet1!J$28=TRUE,Sheet2!E315,y0)","v":6}]
[null,null,7,5.277315780403132,9.360434064510594,{"$f":"IF(Sheet1!J$28=TRUE,C316,x0)","v":1},{"$f":"IF(Sheet1!J$28=TRUE,Sheet2!E316,y0)","v":6}]
[null,null,7.25,4.117450256343037,10.679763009611378,{"$f":"IF(Sheet1!J$28=TRUE,C317,x0)","v":1},{"$f":"IF(Sheet1!J$28=TRUE,Sheet2!E317,y0)","v":6}]
[null,null,7.5,2.5997648837626937,11.709125573697136,{"$f":"IF(Sheet1!J$28=TRUE,C318,x0)","v":1},{"$f":"IF(Sheet1!J$28=TRUE,Sheet2!E318,y0)","v":6}]
[null,null,7.75,0.8044062684492105,12.35906679463781,{"$f":"IF(Sheet1!J$28=TRUE,C319,x0)","v":1},{"$f":"IF(Sheet1!J$28=TRUE,Sheet2!E319,y0)","v":6}]
[null,null,8,-1.1640002704689083,12.560168361750113,{"$f":"IF(Sheet1!J$28=TRUE,C320,x0)","v":1},{"$f":"IF(Sheet1!J$28=TRUE,Sheet2!E320,y0)","v":6}]
[null,null,8.25,-3.1824204839808297,12.269168294132886,{"$f":"IF(Sheet1!J$28=TRUE,C321,x0)","v":1},{"$f":"IF(Sheet1!J$28=TRUE,Sheet2!E321,y0)","v":6}]
[null,null,8.5,-5.117101172821001,11.473563173137679,{"$f":"IF(Sheet1!J$28=TRUE,C322,x0)","v":1},{"$f":"IF(Sheet1!J$28=TRUE,Sheet2!E322,y0)","v":6}]
[null,null,8.75,{"$f":"x*COS(x)","v":-6.832399731550305},10.194287879932428,{"$f":"IF(Sheet1!J$28=TRUE,C323,x0)","v":1},{"$f":"IF(Sheet1!J$28=TRUE,Sheet2!E323,y0)","v":6}]
[null,null,9,-8.200172356962092,8.486187947044852,{"$f":"IF(Sheet1!J$28=TRUE,C324,x0)","v":1},{"$f":"IF(Sheet1!J$28=TRUE,Sheet2!E324,y0)","v":6}]
["n = 64",null,{"$f":"x0","v":1},0.5403023058681398,{"$f":"y0","v":6},{"$f":"IF(Sheet1!J$31=TRUE,C325,x0)","v":1},{"$f":"E325","v":6}]
[null,null,{"$f":"C325+dxE","v":1.125},0.4850735813984995,{"$f":"E325+D325*dxE","v":6.067537788233517},{"$f":"IF(Sheet1!J$31=TRUE,C326,x0)","v":1},{"$f":"IF(Sheet1!J$31=TRUE,Sheet2!E326,y0)","v":6}]
["dxE =",{"$f":"(b-a)/64","v":0.125},1.25,0.3941529529940858,6.12817198590833,{"$f":"IF(Sheet1!J$31=TRUE,C327,x0)","v":1},{"$f":"IF(Sheet1!J$31=TRUE,Sheet2!E327,y0)","v":6}]
[null,null,1.375,0.26750309848485737,6.177441105032591,{"$f":"IF(Sheet1!J$31=TRUE,C328,x0)","v":1},{"$f":"IF(Sheet1!J$31=TRUE,Sheet2!E328,y0)","v":6}]
[null,null,1.5,0.10610580250155435,6.210878992343198,{"$f":"IF(Sheet1!J$31=TRUE,C329,x0)","v":1},{"$f":"IF(Sheet1!J$31=TRUE,Sheet2!E329,y0)","v":6}]
[null,null,1.625,-0.08803784441877152,6.224142217655892,{"$f":"IF(Sheet1!J$31=TRUE,C330,x0)","v":1},{"$f":"IF(Sheet1!J$31=TRUE,Sheet2!E330,y0)","v":6}]
[null,null,1.75,-0.31193059738661116,6.213137487103546,{"$f":"IF(Sheet1!J$31=TRUE,C331,x0)","v":1},{"$f":"IF(Sheet1!J$31=TRUE,Sheet2!E331,y0)","v":6}]
[null,null,1.875,-0.5616253241054515,6.174146162430219,{"$f":"IF(Sheet1!J$31=TRUE,C332,x0)","v":1},{"$f":"IF(Sheet1!J$31=TRUE,Sheet2!E332,y0)","v":6}]
[null,null,2,-0.8322936730942848,6.103942996917038,{"$f":"IF(Sheet1!J$31=TRUE,C333,x0)","v":1},{"$f":"IF(Sheet1!J$31=TRUE,Sheet2!E333,y0)","v":6}]
[null,null,2.125,-1.1183159612466482,5.999906287780252,{"$f":"IF(Sheet1!J$31=TRUE,C334,x0)","v":1},{"$f":"IF(Sheet1!J$31=TRUE,Sheet2!E334,y0)","v":6}]
[null,null,2.25,-1.4133906511261631,5.860116792624421,{"$f":"IF(Sheet1!J$31=TRUE,C335,x0)","v":1},{"$f":"IF(Sheet1!J$31=TRUE,Sheet2!E335,y0)","v":6}]
[null,null,2.375,-1.7106613697096429,5.68344296123365,{"$f":"IF(Sheet1!J$31=TRUE,C336,x0)","v":1},{"$f":"IF(Sheet1!J$31=TRUE,Sheet2!E336,y0)","v":6}]
[null,null,2.5,-2.002859038867334,5.469610290019945,{"$f":"IF(Sheet1!J$31=TRUE,C337,x0)","v":1},{"$f":"IF(Sheet1!J$31=TRUE,Sheet2!E337,y0)","v":6}]
[null,null,2.625,-2.282456351348209,5.219252910161528,{"$f":"IF(Sheet1!J$31=TRUE,C338,x0)","v":1},{"$f":"IF(Sheet1!J$31=TRUE,Sheet2!E338,y0)","v":6}]
[null,null,2.75,-2.541831541239275,4.933945866243002,{"$f":"IF(Sheet1!J$31=TRUE,C339,x0)","v":1},{"$f":"IF(Sheet1!J$31=TRUE,Sheet2!E339,y0)","v":6}]
[null,null,2.875,-2.7734381706737845,4.616216923588093,{"$f":"IF(Sheet1!J$31=TRUE,C340,x0)","v":1},{"$f":"IF(Sheet1!J$31=TRUE,Sheet2!E340,y0)","v":6}]
[null,null,3,-2.9699774898013365,4.26953715225387,{"$f":"IF(Sheet1!J$31=TRUE,C341,x0)","v":1},{"$f":"IF(Sheet1!J$31=TRUE,Sheet2!E341,y0)","v":6}]
[null,null,3.125,-3.1245698283802708,3.8982899660287025,{"$f":"IF(Sheet1!J$31=TRUE,C342,x0)","v":1},{"$f":"IF(Sheet1!J$31=TRUE,Sheet2!E342,y0)","v":6}]
[null,null,3.25,-3.2309214472617755,3.5077187374811687,{"$f":"IF(Sheet1!J$31=TRUE,C343,x0)","v":1},{"$f":"IF(Sheet1!J$31=TRUE,Sheet2!E343,y0)","v":6}]
[null,null,3.375,-3.2834833176806315,3.103853556573447,{"$f":"IF(Sheet1!J$31=TRUE,C344,x0)","v":1},{"$f":"IF(Sheet1!J$31=TRUE,Sheet2!E344,y0)","v":6}]
[null,null,3.5,-3.277598405517787,2.693418141863368,{"$f":"IF(Sheet1!J$31=TRUE,C345,x0)","v":1},{"$f":"IF(Sheet1!J$31=TRUE,Sheet2!E345,y0)","v":6}]
[null,null,3.625,-3.209634215110949,2.283718341173645,{"$f":"IF(Sheet1!J$31=TRUE,C346,x0)","v":1},{"$f":"IF(Sheet1!J$31=TRUE,Sheet2!E346,y0)","v":6}]
[null,null,3.75,-3.077097590023353,1.8825140642847762,{"$f":"IF(Sheet1!J$31=TRUE,C347,x0)","v":1},{"$f":"IF(Sheet1!J$31=TRUE,Sheet2!E347,y0)","v":6}]
[null,null,3.875,-2.878729072448495,1.497876865531857,{"$f":"IF(Sheet1!J$31=TRUE,C348,x0)","v":1},{"$f":"IF(Sheet1!J$31=TRUE,Sheet2!E348,y0)","v":6}]
[null,null,4,-2.6145744834544478,1.1380357314757952,{"$f":"IF(Sheet1!J$31=TRUE,C349,x0)","v":1},{"$f":"IF(Sheet1!J$31=TRUE,Sheet2!E349,y0)","v":6}]
[null,null,4.125,-2.2860317967812187,0.8112139210439893,{"$f":"IF(Sheet1!J$31=TRUE,C350,x0)","v":1},{"$f":"IF(Sheet1!J$31=TRUE,Sheet2!E350,y0)","v":6}]
[null,null,4.25,-1.8958718321336194,0.525459946446337,{"$f":"IF(Sheet1!J$31=TRUE,C351,x0)","v":1},{"$f":"IF(Sheet1!J$31=TRUE,Sheet2!E351,y0)","v":6}]
[null,null,4.375,-1.4482317817313823,0.28847596742963455,{"$f":"IF(Sheet1!J$31=TRUE,C352,x0)","v":1},{"$f":"IF(Sheet1!J$31=TRUE,Sheet2!E352,y0)","v":6}]
[null,null,4.5,-0.9485810974385086,0.10744699471321176,{"$f":"IF(Sheet1!J$31=TRUE,C353,x0)","v":1},{"$f":"IF(Sheet1!J$31=TRUE,Sheet2!E353,y0)","v":6}]
[null,null,4.625,-0.40365979568228655,-0.011125642466601818,{"$f":"IF(Sheet1!J$31=TRUE,C354,x0)","v":1},{"$f":"IF(Sheet1!J$31=TRUE,Sheet2!E354,y0)","v":6}]
[null,null,4.75,0.17861022621788863,-0.061583116926887636,{"$f":"IF(Sheet1!J$31=TRUE,C355,x0)","v":1},{"$f":"IF(Sheet1!J$31=TRUE,Sheet2!E355,y0)","v":6}]
[null,null,4.875,0.7892397357854917,-0.03925683864965156,{"$f":"IF(Sheet1!J$31=TRUE,C356,x0)","v":1},{"$f":"IF(Sheet1!J$31=TRUE,Sheet2!E356,y0)","v":6}]
[null,null,5,1.4183109273161312,0.0593981283235349,{"$f":"IF(Sheet1!J$31=TRUE,C357,x0)","v":1},{"$f":"IF(Sheet1!J$31=TRUE,Sheet2!E357,y0)","v":6}]
[null,null,{"$f":"C357+dxE","v":5.125},2.055138258262435,{"$f":"E357+D357*dxE","v":0.23668699423805128},{"$f":"IF(Sheet1!J$31=TRUE,C358,x0)","v":1},{"$f":"IF(Sheet1!J$31=TRUE,Sheet2!E358,y0)","v":6}]
[null,null,5.25,2.688448755519664,0.49357927652085565,{"$f":"IF(Sheet1!J$31=TRUE,C359,x0)","v":1},{"$f":"IF(Sheet1!J$31=TRUE,Sheet2!E359,y0)","v":6}]
[null,null,5.375,3.3065787663628052,0.8296353709608136,{"$f":"IF(Sheet1!J$31=TRUE,C360,x0)","v":1},{"$f":"IF(Sheet1!J$31=TRUE,Sheet2!E360,y0)","v":6}]
[null,null,5.5,3.89768375860193,1.2429577167561643,{"$f":"IF(Sheet1!J$31=TRUE,C361,x0)","v":1},{"$f":"IF(Sheet1!J$31=TRUE,Sheet2!E361,y0)","v":6}]
[null,null,5.625,4.449957462397905,1.7301681865814056,{"$f":"IF(Sheet1!J$31=TRUE,C362,x0)","v":1},{"$f":"IF(Sheet1!J$31=TRUE,Sheet2!E362,y0)","v":6}]
[null,null,5.75,4.9518563986787445,2.286412869381144,{"$f":"IF(Sheet1!J$31=TRUE,C363,x0)","v":1},{"$f":"IF(Sheet1!J$31=TRUE,Sheet2!E363,y0)","v":6}]
[null,null,5.875,5.392325661667576,2.905394919215987,{"$f":"IF(Sheet1!J$31=TRUE,C364,x0)","v":1},{"$f":"IF(Sheet1!J$31=TRUE,Sheet2!E364,y0)","v":6}]
[null,null,6,5.761021719902196,3.5794356269244343,{"$f":"IF(Sheet1!J$31=TRUE,C365,x0)","v":1},{"$f":"IF(Sheet1!J$31=TRUE,Sheet2!E365,y0)","v":6}]
[null,null,6.125,6.048527974206748,4.299563341912209,{"$f":"IF(Sheet1!J$31=TRUE,C366,x0)","v":1},{"$f":"IF(Sheet1!J$31=TRUE,Sheet2!E366,y0)","v":6}]
[null,null,6.25,6.246558863903121,5.055629338688052,{"$f":"IF(Sheet1!J$31=TRUE,C367,x0)","v":1},{"$f":"IF(Sheet1!J$31=TRUE,Sheet2!E367,y0)","v":6}]
[null,null,6.375,6.34814844423823,5.836449196675942,{"$f":"IF(Sheet1!J$31=TRUE,C368,x0)","v":1},{"$f":"IF(Sheet1!J$31=TRUE,Sheet2!E368,y0)","v":6}]
[null,null,6.5,6.347819567232152,6.6299677522057205,{"$f":"IF(Sheet1!J$31=TRUE,C369,x0)","v":1},{"$f":"IF(Sheet1!J$31=TRUE,Sheet2!E369,y0)","v":6}]
[null,null,6.625,6.241730082172461,7.423445198109739,{"$f":"IF(Sheet1!J$31=TRUE,C370,x0)","v":1},{"$f":"IF(Sheet1!J$31=TRUE,Sheet2!E370,y0)","v":6}]
[null,null,6.75,6.027792826651267,8.203661458381298,{"$f":"IF(Sheet1!J$31=TRUE,C371,x0)","v":1},{"$f":"IF(Sheet1!J$31=TRUE,Sheet2!E371,y0)","v":6}]
[null,null,6.875,5.705766598890131,8.957135561712706,{"$f":"IF(Sheet1!J$31=TRUE,C372,x0)","v":1},{"$f":"IF(Sheet1!J$31=TRUE,Sheet2!E372,y0)","v":6}]
[null,null,7,5.277315780403132,9.670356386573973,{"$f":"IF(Sheet1!J$31=TRUE,C373,x0)","v":1},{"$f":"IF(Sheet1!J$31=TRUE,Sheet2!E373,y0)","v":6}]
[null,null,7.125,4.7460368069486645,10.330020859124364,{"$f":"IF(Sheet1!J$31=TRUE,C374,x0)","v":1},{"$f":"IF(Sheet1!J$31=TRUE,Sheet2!E374,y0)","v":6}]
[null,null,7.25,4.117450256343037,10.923275459992947,{"$f":"IF(Sheet1!J$31=TRUE,C375,x0)","v":1},{"$f":"IF(Sheet1!J$31=TRUE,Sheet2!E375,y0)","v":6}]
[null,null,7.375,3.398957924317756,11.437956742035826,{"$f":"IF(Sheet1!J$31=TRUE,C376,x0)","v":1},{"$f":"IF(Sheet1!J$31=TRUE,Sheet2!E376,y0)","v":6}]
[null,null,7.5,2.5997648837626937,11.862826482575546,{"$f":"IF(Sheet1!J$31=TRUE,C377,x0)","v":1},{"$f":"IF(Sheet1!J$31=TRUE,Sheet2!E377,y0)","v":6}]
[null,null,7.625,1.7307671574554535,12.187797093045882,{"$f":"IF(Sheet1!J$31=TRUE,C378,x0)","v":1},{"$f":"IF(Sheet1!J$31=TRUE,Sheet2!E378,y0)","v":6}]
[null,null,7.75,0.8044062684492105,12.404142987727814,{"$f":"IF(Sheet1!J$31=TRUE,C379,x0)","v":1},{"$f":"IF(Sheet1!J$31=TRUE,Sheet2!E379,y0)","v":6}]
[null,null,7.875,-0.16550744573828102,12.504693771283966,{"$f":"IF(Sheet1!J$31=TRUE,C380,x0)","v":1},{"$f":"IF(Sheet1!J$31=TRUE,Sheet2!E380,y0)","v":6}]
[null,null,8,-1.1640002704689083,12.48400534056668,{"$f":"IF(Sheet1!J$31=TRUE,C381,x0)","v":1},{"$f":"IF(Sheet1!J$31=TRUE,Sheet2!E381,y0)","v":6}]
[null,null,8.125,-2.1751662541938983,12.338505306758067,{"$f":"IF(Sheet1!J$31=TRUE,C382,x0)","v":1},{"$f":"IF(Sheet1!J$31=TRUE,Sheet2!E382,y0)","v":6}]
[null,null,8.25,-3.1824204839808297,12.06660952498383,{"$f":"IF(Sheet1!J$31=TRUE,C383,x0)","v":1},{"$f":"IF(Sheet1!J$31=TRUE,Sheet2!E383,y0)","v":6}]
[null,null,8.375,-4.168770464986245,11.668806964486226,{"$f":"IF(Sheet1!J$31=TRUE,C384,x0)","v":1},{"$f":"IF(Sheet1!J$31=TRUE,Sheet2!E384,y0)","v":6}]
[null,null,8.5,-5.117101172821001,11.147710656362946,{"$f":"IF(Sheet1!J$31=TRUE,C385,x0)","v":1},{"$f":"IF(Sheet1!J$31=TRUE,Sheet2!E385,y0)","v":6}]
[null,null,8.625,-6.0104690202821445,10.508073009760322,{"$f":"IF(Sheet1!J$31=TRUE,C386,x0)","v":1},{"$f":"IF(Sheet1!J$31=TRUE,Sheet2!E386,y0)","v":6}]
[null,null,8.75,{"$f":"x*COS(x)","v":-6.832399731550305},9.756764382225054,{"$f":"IF(Sheet1!J$31=TRUE,C387,x0)","v":1},{"$f":"IF(Sheet1!J$31=TRUE,Sheet2!E387,y0)","v":6}]
[null,null,8.875,-7.567184953256285,8.902714415781265,{"$f":"IF(Sheet1!J$31=TRUE,C388,x0)","v":1},{"$f":"IF(Sheet1!J$31=TRUE,Sheet2!E388,y0)","v":6}]
[null,null,9,-8.200172356962092,7.956816296624229,{"$f":"IF(Sheet1!J$31=TRUE,C389,x0)","v":1},{"$f":"IF(Sheet1!J$31=TRUE,Sheet2!E389,y0)","v":6}]
["n = 128",null,{"$f":"x0","v":1},0.5403023058681398,{"$f":"y0","v":6},{"$f":"IF(Sheet1!J$33=TRUE,C390,x0)","v":1},{"$f":"E390","v":6}]
[null,null,{"$f":"C390+dxF","v":1.0625},0.517107771933336,{"$f":"E390+D390*dxF","v":6.033768894116759},{"$f":"IF(Sheet1!J$33=TRUE,C391,x0)","v":1},{"$f":"IF(Sheet1!J$33=TRUE,Sheet2!E391,y0)","v":6}]
["dxF =",{"$f":"(b-a)/128","v":0.0625},1.125,0.4850735813984995,6.066088129862592,{"$f":"IF(Sheet1!J$33=TRUE,C392,x0)","v":1},{"$f":"IF(Sheet1!J$33=TRUE,Sheet2!E392,y0)","v":6}]
[null,null,1.1875,0.4441008116041331,6.096405228699998,{"$f":"IF(Sheet1!J$33=TRUE,C393,x0)","v":1},{"$f":"IF(Sheet1!J$33=TRUE,Sheet2!E393,y0)","v":6}]
[null,null,1.25,0.3941529529940858,6.1241615294252565,{"$f":"IF(Sheet1!J$33=TRUE,C394,x0)","v":1},{"$f":"IF(Sheet1!J$33=TRUE,Sheet2!E394,y0)","v":6}]
[null,null,1.3125,0.33525681904156535,6.148796088987387,{"$f":"IF(Sheet1!J$33=TRUE,C395,x0)","v":1},{"$f":"IF(Sheet1!J$33=TRUE,Sheet2!E395,y0)","v":6}]
[null,null,1.375,0.26750309848485737,6.169749640177485,{"$f":"IF(Sheet1!J$33=TRUE,C396,x0)","v":1},{"$f":"IF(Sheet1!J$33=TRUE,Sheet2!E396,y0)","v":6}]
[null,null,1.4375,0.19104654515093625,6.186468583832788,{"$f":"IF(Sheet1!J$33=TRUE,C397,x0)","v":1},{"$f":"IF(Sheet1!J$33=TRUE,Sheet2!E397,y0)","v":6}]
[null,null,1.5,0.10610580250155435,6.198408992904722,{"$f":"IF(Sheet1!J$33=TRUE,C398,x0)","v":1},{"$f":"IF(Sheet1!J$33=TRUE,Sheet2!E398,y0)","v":6}]
[null,null,1.5625,0.012962861912278715,6.205040605561069,{"$f":"IF(Sheet1!J$33=TRUE,C399,x0)","v":1},{"$f":"IF(Sheet1!J$33=TRUE,Sheet2!E399,y0)","v":6}]
[null,null,1.625,-0.08803784441877152,6.205850784430587,{"$f":"IF(Sheet1!J$33=TRUE,C400,x0)","v":1},{"$f":"IF(Sheet1!J$33=TRUE,Sheet2!E400,y0)","v":6}]
[null,null,1.6875,-0.1964907131481882,6.200348419154413,{"$f":"IF(Sheet1!J$33=TRUE,C401,x0)","v":1},{"$f":"IF(Sheet1!J$33=TRUE,Sheet2!E401,y0)","v":6}]
[null,null,1.75,-0.31193059738661116,6.188067749582651,{"$f":"IF(Sheet1!J$33=TRUE,C402,x0)","v":1},{"$f":"IF(Sheet1!J$33=TRUE,Sheet2!E402,y0)","v":6}]
[null,null,1.8125,-0.4338347856936454,6.168572087245988,{"$f":"IF(Sheet1!J$33=TRUE,C403,x0)","v":1},{"$f":"IF(Sheet1!J$33=TRUE,Sheet2!E403,y0)","v":6}]
[null,null,1.875,-0.5616253241054515,6.141457413140135,{"$f":"IF(Sheet1!J$33=TRUE,C404,x0)","v":1},{"$f":"IF(Sheet1!J$33=TRUE,Sheet2!E404,y0)","v":6}]
[null,null,1.9375,-0.694671671030826,6.106355830383545,{"$f":"IF(Sheet1!J$33=TRUE,C405,x0)","v":1},{"$f":"IF(Sheet1!J$33=TRUE,Sheet2!E405,y0)","v":6}]
[null,null,2,-0.8322936730942848,6.062938850944118,{"$f":"IF(Sheet1!J$33=TRUE,C406,x0)","v":1},{"$f":"IF(Sheet1!J$33=TRUE,Sheet2!E406,y0)","v":6}]
[null,null,2.0625,-0.9737648482999804,6.010920496375725,{"$f":"IF(Sheet1!J$33=TRUE,C407,x0)","v":1},{"$f":"IF(Sheet1!J$33=TRUE,Sheet2!E407,y0)","v":6}]
[null,null,2.125,-1.1183159612466482,5.950060193356976,{"$f":"IF(Sheet1!J$33=TRUE,C408,x0)","v":1},{"$f":"IF(Sheet1!J$33=TRUE,Sheet2!E408,y0)","v":6}]
[null,null,2.1875,-1.2651388735493232,5.880165445779061,{"$f":"IF(Sheet1!J$33=TRUE,C409,x0)","v":1},{"$f":"IF(Sheet1!J$33=TRUE,Sheet2!E409,y0)","v":6}]
[null,null,2.25,-1.4133906511261631,5.801094266182228,{"$f":"IF(Sheet1!J$33=TRUE,C410,x0)","v":1},{"$f":"IF(Sheet1!J$33=TRUE,Sheet2!E410,y0)","v":6}]
[null,null,2.3125,-1.5621979085958277,5.712757350486843,{"$f":"IF(Sheet1!J$33=TRUE,C411,x0)","v":1},{"$f":"IF(Sheet1!J$33=TRUE,Sheet2!E411,y0)","v":6}]
[null,null,2.375,-1.7106613697096429,5.615119981199603,{"$f":"IF(Sheet1!J$33=TRUE,C412,x0)","v":1},{"$f":"IF(Sheet1!J$33=TRUE,Sheet2!E412,y0)","v":6}]
[null,null,2.4375,-1.8578606215198932,5.508203645592751,{"$f":"IF(Sheet1!J$33=TRUE,C413,x0)","v":1},{"$f":"IF(Sheet1!J$33=TRUE,Sheet2!E413,y0)","v":6}]
[null,null,2.5,-2.002859038867334,5.392087356747758,{"$f":"IF(Sheet1!J$33=TRUE,C414,x0)","v":1},{"$f":"IF(Sheet1!J$33=TRUE,Sheet2!E414,y0)","v":6}]
[null,null,2.5625,-2.1447088547631292,5.26690866681855,{"$f":"IF(Sheet1!J$33=TRUE,C415,x0)","v":1},{"$f":"IF(Sheet1!J$33=TRUE,Sheet2!E415,y0)","v":6}]
[null,null,2.625,-2.282456351348209,5.132864363395854,{"$f":"IF(Sheet1!J$33=TRUE,C416,x0)","v":1},{"$f":"IF(Sheet1!J$33=TRUE,Sheet2!E416,y0)","v":6}]
[null,null,2.6875,-2.4151471453412543,4.990210841436591,{"$f":"IF(Sheet1!J$33=TRUE,C417,x0)","v":1},{"$f":"IF(Sheet1!J$33=TRUE,Sheet2!E417,y0)","v":6}]
[null,null,2.75,-2.541831541239275,4.839264144852763,{"$f":"IF(Sheet1!J$33=TRUE,C418,x0)","v":1},{"$f":"IF(Sheet1!J$33=TRUE,Sheet2!E418,y0)","v":6}]
[null,null,2.8125,-2.661569925015784,4.680399673525308,{"$f":"IF(Sheet1!J$33=TRUE,C419,x0)","v":1},{"$f":"IF(Sheet1!J$33=TRUE,Sheet2!E419,y0)","v":6}]
[null,null,2.875,-2.7734381706737845,4.5140515532118215,{"$f":"IF(Sheet1!J$33=TRUE,C420,x0)","v":1},{"$f":"IF(Sheet1!J$33=TRUE,Sheet2!E420,y0)","v":6}]
[null,null,2.9375,-2.876533031756654,4.34071166754471,{"$f":"IF(Sheet1!J$33=TRUE,C421,x0)","v":1},{"$f":"IF(Sheet1!J$33=TRUE,Sheet2!E421,y0)","v":6}]
[null,null,3,-2.9699774898013365,4.160928353059919,{"$f":"IF(Sheet1!J$33=TRUE,C422,x0)","v":1},{"$f":"IF(Sheet1!J$33=TRUE,Sheet2!E422,y0)","v":6}]
[null,null,{"$f":"C422+dxF","v":3.0625},-3.0529260317361184,{"$f":"E422+D422*dxF","v":3.9753047599473357},{"$f":"IF(Sheet1!J$33=TRUE,C423,x0)","v":1},{"$f":"IF(Sheet1!J$33=TRUE,Sheet2!E423,y0)","v":6}]
[null,null,3.125,-3.1245698283802708,3.784496882963828,{"$f":"IF(Sheet1!J$33=TRUE,C424,x0)","v":1},{"$f":"IF(Sheet1!J$33=TRUE,Sheet2!E424,y0)","v":6}]
[null,null,3.1875,-3.1841417864948065,3.589211268690061,{"$f":"IF(Sheet1!J$33=TRUE,C425,x0)","v":1},{"$f":"IF(Sheet1!J$33=TRUE,Sheet2!E425,y0)","v":6}]
[null,null,3.25,-3.2309214472617755,3.3902024070341357,{"$f":"IF(Sheet1!J$33=TRUE,C426,x0)","v":1},{"$f":"IF(Sheet1!J$33=TRUE,Sheet2!E426,y0)","v":6}]
[null,null,3.3125,-3.264239704632469,3.1882698165802745,{"$f":"IF(Sheet1!J$33=TRUE,C427,x0)","v":1},{"$f":"IF(Sheet1!J$33=TRUE,Sheet2!E427,y0)","v":6}]
[null,null,3.375,-3.2834833176806315,2.9842548350407454,{"$f":"IF(Sheet1!J$33=TRUE,C428,x0)","v":1},{"$f":"IF(Sheet1!J$33=TRUE,Sheet2!E428,y0)","v":6}]
[null,null,3.4375,-3.288099191922471,2.7790371276857058,{"$f":"IF(Sheet1!J$33=TRUE,C429,x0)","v":1},{"$f":"IF(Sheet1!J$33=TRUE,Sheet2!E429,y0)","v":6}]
[null,null,3.5,-3.277598405517787,2.5735309281905514,{"$f":"IF(Sheet1!J$33=TRUE,C430,x0)","v":1},{"$f":"IF(Sheet1!J$33=TRUE,Sheet2!E430,y0)","v":6}]
[null,null,3.5625,-3.251559957341807,2.36868102784569,{"$f":"IF(Sheet1!J$33=TRUE,C431,x0)","v":1},{"$f":"IF(Sheet1!J$33=TRUE,Sheet2!E431,y0)","v":6}]
[null,null,3.625,-3.209634215110949,2.165458530511827,{"$f":"IF(Sheet1!J$33=TRUE,C432,x0)","v":1},{"$f":"IF(Sheet1!J$33=TRUE,Sheet2!E432,y0)","v":6}]
[null,null,3.6875,-3.1515460430525892,1.9648563920673927,{"$f":"IF(Sheet1!J$33=TRUE,C433,x0)","v":1},{"$f":"IF(Sheet1!J$33=TRUE,Sheet2!E433,y0)","v":6}]
[null,null,3.75,-3.077097590023353,1.7678847643766058,{"$f":"IF(Sheet1!J$33=TRUE,C434,x0)","v":1},{"$f":"IF(Sheet1!J$33=TRUE,Sheet2!E434,y0)","v":6}]
[null,null,3.8125,-2.9861707204963563,1.5755661650001462,{"$f":"IF(Sheet1!J$33=TRUE,C435,x0)","v":1},{"$f":"IF(Sheet1!J$33=TRUE,Sheet2!E435,y0)","v":6}]
[null,null,3.875,-2.878729072448495,1.388930494969124,{"$f":"IF(Sheet1!J$33=TRUE,C436,x0)","v":1},{"$f":"IF(Sheet1!J$33=TRUE,Sheet2!E436,y0)","v":6}]
[null,null,3.9375,-2.7548197278771944,1.2090099279410929,{"$f":"IF(Sheet1!J$33=TRUE,C437,x0)","v":1},{"$f":"IF(Sheet1!J$33=TRUE,Sheet2!E437,y0)","v":6}]
[null,null,4,-2.6145744834544478,1.0368336949487682,{"$f":"IF(Sheet1!J$33=TRUE,C438,x0)","v":1},{"$f":"IF(Sheet1!J$33=TRUE,Sheet2!E438,y0)","v":6}]
[null,null,4.0625,-2.4582107106764304,0.8734227897328652,{"$f":"IF(Sheet1!J$33=TRUE,C439,x0)","v":1},{"$f":"IF(Sheet1!J$33=TRUE,Sheet2!E439,y0)","v":6}]
[null,null,4.125,-2.2860317967812187,0.7197846203155883,{"$f":"IF(Sheet1!J$33=TRUE,C440,x0)","v":1},{"$f":"IF(Sheet1!J$33=TRUE,Sheet2!E440,y0)","v":6}]
[null,null,4.1875,-2.098427159676391,0.5769076330167622,{"$f":"IF(Sheet1!J$33=TRUE,C441,x0)","v":1},{"$f":"IF(Sheet1!J$33=TRUE,Sheet2!E441,y0)","v":6}]
[null,null,4.25,-1.8958718321336194,0.4457559355369878,{"$f":"IF(Sheet1!J$33=TRUE,C442,x0)","v":1},{"$f":"IF(Sheet1!J$33=TRUE,Sheet2!E442,y0)","v":6}]
[null,null,4.3125,-1.6789256125595062,0.32726394602863657,{"$f":"IF(Sheet1!J$33=TRUE,C443,x0)","v":1},{"$f":"IF(Sheet1!J$33=TRUE,Sheet2!E443,y0)","v":6}]
[null,null,4.375,-1.4482317817313823,0.22233109524366743,{"$f":"IF(Sheet1!J$33=TRUE,C444,x0)","v":1},{"$f":"IF(Sheet1!J$33=TRUE,Sheet2!E444,y0)","v":6}]
[null,null,4.4375,-1.2045153869840386,0.13181660888545604,{"$f":"IF(Sheet1!J$33=TRUE,C445,x0)","v":1},{"$f":"IF(Sheet1!J$33=TRUE,Sheet2!E445,y0)","v":6}]
[null,null,4.5,-0.9485810974385086,0.05653439719895363,{"$f":"IF(Sheet1!J$33=TRUE,C446,x0)","v":1},{"$f":"IF(Sheet1!J$33=TRUE,Sheet2!E446,y0)","v":6}]
[null,null,4.5625,-0.681310635967337,-0.002751921390953156,{"$f":"IF(Sheet1!J$33=TRUE,C447,x0)","v":1},{"$f":"IF(Sheet1!J$33=TRUE,Sheet2!E447,y0)","v":6}]
[null,null,4.625,-0.40365979568228655,-0.04533383613891172,{"$f":"IF(Sheet1!J$33=TRUE,C448,x0)","v":1},{"$f":"IF(Sheet1!J$33=TRUE,Sheet2!E448,y0)","v":6}]
[null,null,4.6875,-0.11665505080032257,-0.07056257336905462,{"$f":"IF(Sheet1!J$33=TRUE,C449,x0)","v":1},{"$f":"IF(Sheet1!J$33=TRUE,Sheet2!E449,y0)","v":6}]
[null,null,4.75,0.17861022621788863,-0.07785351404407478,{"$f":"IF(Sheet1!J$33=TRUE,C450,x0)","v":1},{"$f":"IF(Sheet1!J$33=TRUE,Sheet2!E450,y0)","v":6}]
[null,null,4.8125,{"$f":"x*COS(x)","v":0.4809799273655397},-0.06669037490545675,{"$f":"IF(Sheet1!J$33=TRUE,C451,x0)","v":1},{"$f":"IF(Sheet1!J$33=TRUE,Sheet2!E451,y0)","v":6}]
[null,null,4.875,0.7892397357854917,-0.036629129445110514,{"$f":"IF(Sheet1!J$33=TRUE,C452,x0)","v":1},{"$f":"IF(Sheet1!J$33=TRUE,Sheet2!E452,y0)","v":6}]
[null,null,4.9375,1.1021219987403597,0.012698354041482715,{"$f":"IF(Sheet1!J$33=TRUE,C453,x0)","v":1},{"$f":"IF(Sheet1!J$33=TRUE,Sheet2!E453,y0)","v":6}]
[null,null,5,1.4183109273161312,0.0815809789627552,{"$f":"IF(Sheet1!J$33=TRUE,C454,x0)","v":1},{"$f":"IF(Sheet1!J$33=TRUE,Sheet2!E454,y0)","v":6}]
[null,null,{"$f":"C454+dxF","v":5.0625},1.7364481015801134,{"$f":"E454+D454*dxF","v":0.1702254119200134},{"$f":"IF(Sheet1!J$33=TRUE,C455,x0)","v":1},{"$f":"IF(Sheet1!J$33=TRUE,Sheet2!E455,y0)","v":6}]
[null,null,5.125,2.055138258262435,0.2787534182687705,{"$f":"IF(Sheet1!J$33=TRUE,C456,x0)","v":1},{"$f":"IF(Sheet1!J$33=TRUE,Sheet2!E456,y0)","v":6}]
[null,null,5.1875,2.3729553364739133,0.40719955941017266,{"$f":"IF(Sheet1!J$33=TRUE,C457,x0)","v":1},{"$f":"IF(Sheet1!J$33=TRUE,Sheet2!E457,y0)","v":6}]
[null,null,5.25,2.688448755519664,0.5555092679397923,{"$f":"IF(Sheet1!J$33=TRUE,C458,x0)","v":1},{"$f":"IF(Sheet1!J$33=TRUE,Sheet2!E458,y0)","v":6}]
[null,null,5.3125,3.0001498975247856,0.7235373151597713,{"$f":"IF(Sheet1!J$33=TRUE,C459,x0)","v":1},{"$f":"IF(Sheet1!J$33=TRUE,Sheet2!E459,y0)","v":6}]
[null,null,5.375,3.3065787663628052,0.9110466837550704,{"$f":"IF(Sheet1!J$33=TRUE,C460,x0)","v":1},{"$f":"IF(Sheet1!J$33=TRUE,Sheet2!E460,y0)","v":6}]
[null,null,5.4375,3.606250793275668,1.1177078566527456,{"$f":"IF(Sheet1!J$33=TRUE,C461,x0)","v":1},{"$f":"IF(Sheet1!J$33=TRUE,Sheet2!E461,y0)","v":6}]
[null,null,5.5,3.89768375860193,1.3430985312324748,{"$f":"IF(Sheet1!J$33=TRUE,C462,x0)","v":1},{"$f":"IF(Sheet1!J$33=TRUE,Sheet2!E462,y0)","v":6}]
[null,null,5.5625,4.179404798192735,1.5867037661450953,{"$f":"IF(Sheet1!J$33=TRUE,C463,x0)","v":1},{"$f":"IF(Sheet1!J$33=TRUE,Sheet2!E463,y0)","v":6}]
[null,null,5.625,4.449957462397905,1.8479165660321413,{"$f":"IF(Sheet1!J$33=TRUE,C464,x0)","v":1},{"$f":"IF(Sheet1!J$33=TRUE,Sheet2!E464,y0)","v":6}]
[null,null,5.6875,4.707908794951289,2.1260389074320103,{"$f":"IF(Sheet1!J$33=TRUE,C465,x0)","v":1},{"$f":"IF(Sheet1!J$33=TRUE,Sheet2!E465,y0)","v":6}]
[null,null,5.75,4.9518563986787445,2.4202832071164657,{"$f":"IF(Sheet1!J$33=TRUE,C466,x0)","v":1},{"$f":"IF(Sheet1!J$33=TRUE,Sheet2!E466,y0)","v":6}]
[null,null,5.8125,5.1804354546968385,2.729774232033887,{"$f":"IF(Sheet1!J$33=TRUE,C467,x0)","v":1},{"$f":"IF(Sheet1!J$33=TRUE,Sheet2!E467,y0)","v":6}]
[null,null,5.875,5.392325661667576,3.0535514479524397,{"$f":"IF(Sheet1!J$33=TRUE,C468,x0)","v":1},{"$f":"IF(Sheet1!J$33=TRUE,Sheet2!E468,y0)","v":6}]
[null,null,5.9375,5.586258061725809,3.3905718018066633,{"$f":"IF(Sheet1!J$33=TRUE,C469,x0)","v":1},{"$f":"IF(Sheet1!J$33=TRUE,Sheet2!E469,y0)","v":6}]
[null,null,6,5.761021719902196,3.7397129306645263,{"$f":"IF(Sheet1!J$33=TRUE,C470,x0)","v":1},{"$f":"IF(Sheet1!J$33=TRUE,Sheet2!E470,y0)","v":6}]
[null,null,6.0625,5.915470224225883,4.0997767881584135,{"$f":"IF(Sheet1!J$33=TRUE,C471,x0)","v":1},{"$f":"IF(Sheet1!J$33=TRUE,Sheet2!E471,y0)","v":6}]
[null,null,6.125,6.048527974206748,4.469493677172531,{"$f":"IF(Sheet1!J$33=TRUE,C472,x0)","v":1},{"$f":"IF(Sheet1!J$33=TRUE,Sheet2!E472,y0)","v":6}]
[null,null,6.1875,6.159196226065898,4.847526675560453,{"$f":"IF(Sheet1!J$33=TRUE,C473,x0)","v":1},{"$f":"IF(Sheet1!J$33=TRUE,Sheet2!E473,y0)","v":6}]
[null,null,6.25,6.246558863903121,5.232476439689572,{"$f":"IF(Sheet1!J$33=TRUE,C474,x0)","v":1},{"$f":"IF(Sheet1!J$33=TRUE,Sheet2!E474,y0)","v":6}]
[null,null,6.3125,6.309787866958414,5.622886368683517,{"$f":"IF(Sheet1!J$33=TRUE,C475,x0)","v":1},{"$f":"IF(Sheet1!J$33=TRUE,Sheet2!E475,y0)","v":6}]
[null,null,6.375,6.34814844423823,6.017248110368418,{"$f":"IF(Sheet1!J$33=TRUE,C476,x0)","v":1},{"$f":"IF(Sheet1!J$33=TRUE,Sheet2!E476,y0)","v":6}]
[null,null,6.4375,6.361003809031612,6.4140073881333075,{"$f":"IF(Sheet1!J$33=TRUE,C477,x0)","v":1},{"$f":"IF(Sheet1!J$33=TRUE,Sheet2!E477,y0)","v":6}]
[null,null,6.5,6.347819567232152,6.8115701261977835,{"$f":"IF(Sheet1!J$33=TRUE,C478,x0)","v":1},{"$f":"IF(Sheet1!J$33=TRUE,Sheet2!E478,y0)","v":6}]
[null,null,6.5625,6.308167694903472,7.208308849149793,{"$f":"IF(Sheet1!J$33=TRUE,C479,x0)","v":1},{"$f":"IF(Sheet1!J$33=TRUE,Sheet2!E479,y0)","v":6}]
[null,null,6.625,6.241730082172461,7.60256933008126,{"$f":"IF(Sheet1!J$33=TRUE,C480,x0)","v":1},{"$f":"IF(Sheet1!J$33=TRUE,Sheet2!E480,y0)","v":6}]
[null,null,6.6875,6.148301622299549,7.992677460217039,{"$f":"IF(Sheet1!J$33=TRUE,C481,x0)","v":1},{"$f":"IF(Sheet1!J$33=TRUE,Sheet2!E481,y0)","v":6}]
[null,null,6.75,6.027792826651267,8.37694631161076,{"$f":"IF(Sheet1!J$33=TRUE,C482,x0)","v":1},{"$f":"IF(Sheet1!J$33=TRUE,Sheet2!E482,y0)","v":6}]
[null,null,6.8125,5.880231948279957,8.753683363276465,{"$f":"IF(Sheet1!J$33=TRUE,C483,x0)","v":1},{"$f":"IF(Sheet1!J$33=TRUE,Sheet2!E483,y0)","v":6}]
[null,null,6.875,5.705766598890131,9.121197860043964,{"$f":"IF(Sheet1!J$33=TRUE,C484,x0)","v":1},{"$f":"IF(Sheet1!J$33=TRUE,Sheet2!E484,y0)","v":6}]
[null,null,6.9375,5.504664846132245,9.477808272474597,{"$f":"IF(Sheet1!J$33=TRUE,C485,x0)","v":1},{"$f":"IF(Sheet1!J$33=TRUE,Sheet2!E485,y0)","v":6}]
[null,null,7,5.277315780403132,9.821849825357862,{"$f":"IF(Sheet1!J$33=TRUE,C486,x0)","v":1},{"$f":"IF(Sheet1!J$33=TRUE,Sheet2!E486,y0)","v":6}]
[null,null,{"$f":"C486+dxF","v":7.0625},5.024229542638705,{"$f":"E486+D486*dxF","v":10.151682061633059},{"$f":"IF(Sheet1!J$33=TRUE,C487,x0)","v":1},{"$f":"IF(Sheet1!J$33=TRUE,Sheet2!E487,y0)","v":6}]
[null,null,7.125,4.7460368069486645,10.465696408047977,{"$f":"IF(Sheet1!J$33=TRUE,C488,x0)","v":1},{"$f":"IF(Sheet1!J$33=TRUE,Sheet2!E488,y0)","v":6}]
[null,null,7.1875,4.4434877143547675,10.762323708482269,{"$f":"IF(Sheet1!J$33=TRUE,C489,x0)","v":1},{"$f":"IF(Sheet1!J$33=TRUE,Sheet2!E489,y0)","v":6}]
[null,null,7.25,4.117450256343037,11.040041690629442,{"$f":"IF(Sheet1!J$33=TRUE,C490,x0)","v":1},{"$f":"IF(Sheet1!J$33=TRUE,Sheet2!E490,y0)","v":6}]
[null,null,7.3125,3.7689081094155195,11.297382331650882,{"$f":"IF(Sheet1!J$33=TRUE,C491,x0)","v":1},{"$f":"IF(Sheet1!J$33=TRUE,Sheet2!E491,y0)","v":6}]
[null,null,7.375,3.398957924317756,11.532939088489352,{"$f":"IF(Sheet1!J$33=TRUE,C492,x0)","v":1},{"$f":"IF(Sheet1!J$33=TRUE,Sheet2!E492,y0)","v":6}]
[null,null,7.4375,3.0088060761130597,11.745373958759211,{"$f":"IF(Sheet1!J$33=TRUE,C493,x0)","v":1},{"$f":"IF(Sheet1!J$33=TRUE,Sheet2!E493,y0)","v":6}]
[null,null,7.5,2.5997648837626937,11.933424338516277,{"$f":"IF(Sheet1!J$33=TRUE,C494,x0)","v":1},{"$f":"IF(Sheet1!J$33=TRUE,Sheet2!E494,y0)","v":6}]
[null,null,7.5625,2.173248310341028,12.095909643751446,{"$f":"IF(Sheet1!J$33=TRUE,C495,x0)","v":1},{"$f":"IF(Sheet1!J$33=TRUE,Sheet2!E495,y0)","v":6}]
[null,null,7.625,1.7307671574554535,12.23173766314776,{"$f":"IF(Sheet1!J$33=TRUE,C496,x0)","v":1},{"$f":"IF(Sheet1!J$33=TRUE,Sheet2!E496,y0)","v":6}]
[null,null,7.6875,1.273923769841093,12.339910610488726,{"$f":"IF(Sheet1!J$33=TRUE,C497,x0)","v":1},{"$f":"IF(Sheet1!J$33=TRUE,Sheet2!E497,y0)","v":6}]
[null,null,7.75,0.8044062684492105,12.419530846103795,{"$f":"IF(Sheet1!J$33=TRUE,C498,x0)","v":1},{"$f":"IF(Sheet1!J$33=TRUE,Sheet2!E498,y0)","v":6}]
[null,null,7.8125,0.32398233263471915,12.46980623788187,{"$f":"IF(Sheet1!J$33=TRUE,C499,x0)","v":1},{"$f":"IF(Sheet1!J$33=TRUE,Sheet2!E499,y0)","v":6}]
[null,null,7.875,-0.16550744573828102,12.490055133671541,{"$f":"IF(Sheet1!J$33=TRUE,C500,x0)","v":1},{"$f":"IF(Sheet1!J$33=TRUE,Sheet2!E500,y0)","v":6}]
[null,null,7.9375,-0.6621566113238704,12.479710918312898,{"$f":"IF(Sheet1!J$33=TRUE,C501,x0)","v":1},{"$f":"IF(Sheet1!J$33=TRUE,Sheet2!E501,y0)","v":6}]
[null,null,8,-1.1640002704689083,12.438326130105157,{"$f":"IF(Sheet1!J$33=TRUE,C502,x0)","v":1},{"$f":"IF(Sheet1!J$33=TRUE,Sheet2!E502,y0)","v":6}]
[null,null,8.0625,-1.6690228636158302,12.36557611320085,{"$f":"IF(Sheet1!J$33=TRUE,C503,x0)","v":1},{"$f":"IF(Sheet1!J$33=TRUE,Sheet2!E503,y0)","v":6}]
[null,null,8.125,-2.1751662541938983,12.261262184224861,{"$f":"IF(Sheet1!J$33=TRUE,C504,x0)","v":1},{"$f":"IF(Sheet1!J$33=TRUE,Sheet2!E504,y0)","v":6}]
[null,null,8.1875,-2.6803381015599865,12.125314293337743,{"$f":"IF(Sheet1!J$33=TRUE,C505,x0)","v":1},{"$f":"IF(Sheet1!J$33=TRUE,Sheet2!E505,y0)","v":6}]
[null,null,8.25,-3.1824204839808297,11.957793161990244,{"$f":"IF(Sheet1!J$33=TRUE,C506,x0)","v":1},{"$f":"IF(Sheet1!J$33=TRUE,Sheet2!E506,y0)","v":6}]
[null,null,8.3125,-3.679278736217415,11.758891881741443,{"$f":"IF(Sheet1!J$33=TRUE,C507,x0)","v":1},{"$f":"IF(Sheet1!J$33=TRUE,Sheet2!E507,y0)","v":6}]
[null,null,8.375,-4.168770464986245,11.528936960727854,{"$f":"IF(Sheet1!J$33=TRUE,C508,x0)","v":1},{"$f":"IF(Sheet1!J$33=TRUE,Sheet2!E508,y0)","v":6}]
[null,null,8.4375,-4.648754704438323,11.268388806666215,{"$f":"IF(Sheet1!J$33=TRUE,C509,x0)","v":1},{"$f":"IF(Sheet1!J$33=TRUE,Sheet2!E509,y0)","v":6}]
[null,null,8.5,-5.117101172821001,10.97784163763882,{"$f":"IF(Sheet1!J$33=TRUE,C510,x0)","v":1},{"$f":"IF(Sheet1!J$33=TRUE,Sheet2!E510,y0)","v":6}]
[null,null,8.5625,-5.57169959067584,10.658022814337507,{"$f":"IF(Sheet1!J$33=TRUE,C511,x0)","v":1},{"$f":"IF(Sheet1!J$33=TRUE,Sheet2!E511,y0)","v":6}]
[null,null,8.625,-6.0104690202821445,10.309791589920266,{"$f":"IF(Sheet1!J$33=TRUE,C512,x0)","v":1},{"$f":"IF(Sheet1!J$33=TRUE,Sheet2!E512,y0)","v":6}]
[null,null,8.6875,-6.431367185584822,9.934137276152633,{"$f":"IF(Sheet1!J$33=TRUE,C513,x0)","v":1},{"$f":"IF(Sheet1!J$33=TRUE,Sheet2!E513,y0)","v":6}]
[null,null,8.75,-6.832399731550305,9.532176827053581,{"$f":"IF(Sheet1!J$33=TRUE,C514,x0)","v":1},{"$f":"IF(Sheet1!J$33=TRUE,Sheet2!E514,y0)","v":6}]
[null,null,8.8125,-7.211629381777703,9.105151843831687,{"$f":"IF(Sheet1!J$33=TRUE,C515,x0)","v":1},{"$f":"IF(Sheet1!J$33=TRUE,Sheet2!E515,y0)","v":6}]
[null,null,8.875,-7.567184953256285,8.65442500747058,{"$f":"IF(Sheet1!J$33=TRUE,C516,x0)","v":1},{"$f":"IF(Sheet1!J$33=TRUE,Sheet2!E516,y0)","v":6}]
[null,null,8.9375,-7.897270187405672,8.181475947892062,{"$f":"IF(Sheet1!J$33=TRUE,C517,x0)","v":1},{"$f":"IF(Sheet1!J$33=TRUE,Sheet2!E517,y0)","v":6}]
[null,null,9,-8.200172356962092,7.687896561179208,{"$f":"IF(Sheet1!J$33=TRUE,C518,x0)","v":1},{"$f":"IF(Sheet1!J$33=TRUE,Sheet2!E518,y0)","v":6}]

{"sheet":"Defining Function","index":2,"n_rows":12,"n_cols":1,"rows_kept":12}
["                                                     Defining a Function in Excel"]
[]
["Computers have very specific rules you must follow when defining a function.  If you don't, the program will either not work at all or will work incorrectly."]
[]
["1. The Variable used should be the one named in the instruction, usually x, though sometimes y, t, Q (for an angle theta), "]
[" or even x and y (for a function of two variables). "]
[]
["2.  Order of Operations:  There five arithmetic operations, addition (+), subtraction (-), multiplication (*), division (/), and  exponentiation or power (^).  When computers see any of these operation symbols, they perform the indicated steps in a very particular order.  First, the power is done.  Second, products and quotients of adjacent terms is done.  Third, and last, sums and differences of adjacent terms are done.  So, in 10*x^3 + 5*x – 7, say with x = 2, the first pass only calculates 2^3 and ignores the multiplications and the sums and differences to calculate 2^3 = 8.  The second pass looks at 10*8 + 5*2 – 7 and only does the multiplications, so it produces 80 + 10 -  7.  The third pass looks at the +’s and –‘s to produce 80 + 10 – 7 = 83.  "]
[]
["3.    Parentheses  If you need an operation involving more than two adjacent terms, as in Ö4^3 + 6^2, the computer would take the square root of  4 to produce 2^3 + 6^2;  it would then cube the 2 and square the 6 to produce 8 + 36; and finally it would add the 8 and the 36 to get 44.  If you actually wanted the square root of the entire expression, you would need to use parentheses, as in Ö(4^3 + 6^2) to tell the computer to do all the operations inside the parentheses before taking the square root.  Therefore, it would calculate (4^3 + 6^2) = 64 + 36 = 100 and then take the square root of Ö100  =  10."]
[]
["4.  Built-In Functions  Computer programs have built-in functions for most common algebraic functions.  In Excel, the square root function is denoted by SQRT(…), so SQRT(100) = 10.  Alternatively, you could enter it as 100^.5 or 100^(1/2); notice that parentheses are needed to have the ½ done first.  The common trig functions are SIN (…), COS (…), and TAN (…), where the arguments are automatically interpreted as being in radians, not degrees.  The logarithm to the base 10 is represented by LOG (…) and the logarithm with the base e, known as the natural logarithm, is LN (…). The corresponding exponential function with base e is EXP (x).  If x is the variable, then each of these would be SQRT (x), SIN (x), COS (x), TAN (x), LOG (x) (for log with base 10 ), LN (x) (for log with base e ), and EXP (x)."]

{"sheet":"Sheet3","index":3,"n_rows":0,"n_cols":0,"rows_kept":0}