{"text_format":"3","workbook":"xlsx","n_sheets":4,"sheets":["Sheet1","Sheet2","Defining Function","Sheet3"],"not_rendered":{"charts":1,"images":1,"macros":1,"defined_names":3,"comments":1},"read":"whole","date_system":"1900"}

{"sheet":"Sheet1","index":0,"n_rows":36,"n_cols":18,"rows_kept":36,"merged":[[29,2,29,4]]}
[null,"A Function vs its Derivatives"]
[]
[null,"This graphing utility lets you investigate "]
[null,"         the  first and second derivatives"]
[null,"               of any desired function"]
[null,null,"y = f(x)"]
[null,"    on any interval from x = a  to x = b."]
[]
["      Enter the function in terms of x:   f(x)  = ",{"$nulls":4},"x^4-3*x^3-25*x^2+6*x+5"]
[]
[]
[]
["Now enter the interval for x:  "]
[null,null,"xMin =",-3]
[null,null,"xMax =",3]
[]
[]
[]
[{"$nulls":12},"The graphs of  f(x)  = ",null,null,{"$f":"F9","v":"x^4-3*x^3-25*x^2+6*x+5"}]
[{"$nulls":13},"and its first and second derivatives"]
["Click each item below for suggestions and investigations"]
[null,"   Item 1",{"$nulls":10},"   Select the point on the curve at x0 =",{"$nulls":3},{"$f":"P24","v":-0.54}]
[null,"   Item 2"]
[null,"   Item 3",{"$nulls":12},41,{"$f":"D14+O24*(D15-D14)/100","v":-0.54}]
[null,"   Item 4"]
[]
[{"$nulls":12},"The slope of the tangent line at x0 = ",{"$nulls":3},{"$f":"P24","v":-0.54}]
[{"$nulls":12}," =  the derivative f '( x0) of the function = ",{"$nulls":4},{"$f":"LOOKUP(P24,Sheet2!E3:E1003,Sheet2!G3:G1003)","v":29.725851377587198}]
["To access/download all the DIGMath Apps for Calculus"]
["           Click this link:",null,"DIGMath for Calculus"]
[]
["Created by:  Sheldon P. Gordon   "]
["                      Farmingdale State College    "]
["Development of this module was supported by the "]
["NSF's Division of Undergraduate Education  "]
["under grants DUE-0310123 and DUE-0442160."]

{"sheet":"Sheet2","index":1,"n_rows":1004,"n_cols":8,"rows_kept":1004}
[{"$nulls":4},"x","f(x)","f '(x)","f ''(x)"]
[{"$nulls":5},{"$f":"Sheet1!#REF!","v":{"$error":"#REF!"}}]
["delta x = ",{"$f":"(Sheet1!D15-Sheet1!D14)/1001","v":5.994005994005994E-3},null,null,{"$f":"Sheet1!D14","v":{"v":-3,"d":"-3.00"}},{"$f":"x^4-3*x^3-25*x^2+6*x+5","v":-76},{"$f":"(F4-F3)/Sheet2!$B$3","v":-32.66487437059522},{"$f":"(F5-2*F4+F3)/Sheet2!$B$3^2","v":111.46104245188108}]
[{"$nulls":4},{"$f":"E3+Sheet2!B$3","v":{"v":-2.994005994005994,"d":"-2.99"}},-76.1957934527708,{"$f":"(F5-F4)/Sheet2!$B$3","v":-31.996776214040487},{"$f":"(F5-2*F4+F3)/Sheet2!$B$3^2","v":111.46104245188108}]
[{"$nulls":4},{"$f":"E4+Sheet2!B$3","v":{"v":-2.988011988011988,"d":"-2.99"}},-76.38758232118663,{"$f":"(F6-F5)/Sheet2!$B$3","v":-31.331903834451932},{"$f":"(F6-2*F5+F4)/Sheet2!$B$3^2","v":110.92287532802415}]
["xl=",{"$f":"IF(Sheet1!$P$24<Sheet1!D14+80*Sheet2!B3,Sheet1!D14,Sheet1!P24-80*Sheet2!B3)","v":-1.0195204795204795},{"$f":"LOOKUP(Sheet1!P24,Sheet2!E3:E1002,Sheet2!F3:F1002)+LOOKUP(Sheet1!P24,Sheet2!E3:E1002,Sheet2!G3:G1002)*(B6-Sheet1!P24)","v":-19.29994436801838},"\"=yl",{"$f":"E5+Sheet2!B$3","v":{"v":-2.982017982017982,"d":"-2.98"}},-76.57538594057395,{"$f":"(F7-F6)/Sheet2!$B$3","v":-30.670252063384318},{"$f":"(F7-2*F6+F5)/Sheet2!$B$3^2","v":110.38557047311345}]
["xr=",{"$f":"IF(Sheet1!$P$24>Sheet1!D15-80*Sheet2!B3,Sheet1!D15,Sheet1!P24+80*Sheet2!B3)","v":-0.06047952047952054},{"$f":"LOOKUP(Sheet1!P24,Sheet2!E3:E1003,Sheet2!F3:F1003)+LOOKUP(Sheet1!P24,Sheet2!E3:E1003,Sheet2!G3:G1003)*(B7-Sheet1!P24)","v":9.208364645451859},"\"=yR",{"$f":"E6+Sheet2!B$3","v":{"v":-2.976023976023976,"d":"-2.98"}},-76.75922361527955,{"$f":"(F8-F7)/Sheet2!$B$3","v":-30.011815732340256},{"$f":"(F8-2*F7+F6)/Sheet2!$B$3^2","v":109.84912789585074}]
[{"$nulls":4},{"$f":"E7+Sheet2!B$3","v":{"v":-2.97002997002997,"d":"-2.97"}},-76.9391146186702,{"$f":"(F9-F8)/Sheet2!$B$3","v":-29.356589672862665},{"$f":"(F9-2*F8+F7)/Sheet2!$B$3^2","v":109.31354758951193}]
["vertical lines",{"$nulls":3},{"$f":"E8+Sheet2!B$3","v":{"v":-2.964035964035964,"d":"-2.96"}},-77.11507819313292,{"$f":"(F10-F9)/Sheet2!$B$3","v":-28.70456871643518},{"$f":"(F10-2*F9+F8)/Sheet2!$B$3^2","v":108.77882956398543}]
["vertical",{"$f":"Sheet1!P24","v":-0.54},{"$f":"MIN(LOOKUP(Sheet1!P24,Sheet2!E3:E1003,Sheet2!F3:F1003),LOOKUP(Sheet1!P24,Sheet2!E3:E1003:'Sheet2'!G3:G1003),LOOKUP(Sheet1!P24,Sheet2!E3:E1003,Sheet2!H3:H103))","v":-36.70457015504251},"= ymin",{"$f":"E9+Sheet2!B$3","v":{"v":-2.958041958041958,"d":"-2.96"}},-77.28713355007459,{"$f":"(F11-F10)/Sheet2!$B$3","v":-28.055747694617313},{"$f":"(F11-2*F10+F9)/Sheet2!$B$3^2","v":108.24497380661407}]
[null,{"$f":"Sheet1!P24","v":-0.54},{"$f":"MAX(LOOKUP(Sheet1!P24,Sheet2!E3:E1003,Sheet2!F3:F1003),LOOKUP(Sheet1!P24,Sheet2!E3:E1003:'Sheet2'!G3:G1003),LOOKUP(Sheet1!P24,Sheet2!E3:E1003,Sheet2!H3:H1003))","v":29.725851377587198},"= ymax",{"$f":"E10+Sheet2!B$3","v":{"v":-2.952047952047952,"d":"-2.95"}},-77.45529986992244,{"$f":"(F12-F11)/Sheet2!$B$3","v":-27.41012143890693},{"$f":"(F12-2*F11+F10)/Sheet2!$B$3^2","v":107.71198032768179}]
[{"$nulls":4},{"$f":"E11+Sheet2!B$3","v":{"v":-2.946053946053946,"d":"-2.95"}},-77.61959630212368,{"$f":"(F13-F12)/Sheet2!$B$3","v":-26.767684780835097},{"$f":"(F13-2*F12+F11)/Sheet2!$B$3^2","v":107.17984912165109}]
[{"$nulls":4},{"$f":"E12+Sheet2!B$3","v":{"v":-2.94005994005994,"d":"-2.94"}},-77.78004196514567,{"$f":"(F14-F13)/Sheet2!$B$3","v":-26.128432551923385},{"$f":"(F14-2*F13+F12)/Sheet2!$B$3^2","v":106.64858019010411}]
[{"$nulls":4},{"$f":"E13+Sheet2!B$3","v":{"v":-2.934065934065934,"d":"-2.93"}},-77.93665594647588,{"$f":"(F15-F14)/Sheet2!$B$3","v":-25.492359583676773},{"$f":"(F15-2*F14+F13)/Sheet2!$B$3^2","v":106.1181735358096}]
[{"$nulls":4},{"$f":"E14+Sheet2!B$3","v":{"v":-2.928071928071928,"d":"-2.93"}},-78.0894573026218,{"$f":"(F16-F15)/Sheet2!$B$3","v":-24.859460707635808},{"$f":"(F16-2*F15+F14)/Sheet2!$B$3^2","v":105.58862915283454}]
[{"$nulls":4},{"$f":"E15+Sheet2!B$3","v":{"v":-2.922077922077922,"d":"-2.92"}},-78.23846505911112,{"$f":"(F17-F16)/Sheet2!$B$3","v":-24.229730755307838},{"$f":"(F17-2*F16+F15)/Sheet2!$B$3^2","v":105.0599470467164}]
[{"$nulls":4},{"$f":"E16+Sheet2!B$3","v":{"v":-2.916083916083916,"d":"-2.92"}},-78.38369821049159,{"$f":"(F18-F17)/Sheet2!$B$3","v":-23.603164558226293},{"$f":"(F18-2*F17+F16)/Sheet2!$B$3^2","v":104.53212721310432}]
[{"$nulls":4},{"$f":"E17+Sheet2!B$3","v":{"v":-2.91008991008991,"d":"-2.91"}},-78.5251757203311,{"$f":"(F19-F18)/Sheet2!$B$3","v":-22.979756947908008},{"$f":"(F19-2*F18+F17)/Sheet2!$B$3^2","v":104.00516965476703}]
[{"$nulls":4},{"$f":"E18+Sheet2!B$3","v":{"v":-2.904095904095904,"d":"-2.90"}},-78.66291652121767,{"$f":"(F20-F19)/Sheet2!$B$3","v":-22.35950275586982},{"$f":"(F20-2*F19+F18)/Sheet2!$B$3^2","v":103.47907437170453}]
[{"$nulls":4},{"$f":"E19+Sheet2!B$3","v":{"v":-2.8981018981018978,"d":"-2.90"}},-78.79693951475934,{"$f":"(F21-F20)/Sheet2!$B$3","v":-21.742396813623817},{"$f":"(F21-2*F20+F19)/Sheet2!$B$3^2","v":102.9538413647079}]
[{"$nulls":4},{"$f":"E20+Sheet2!B$3","v":{"v":-2.8921078921078918,"d":"-2.89"}},-78.92726357158426,{"$f":"(F22-F21)/Sheet2!$B$3","v":-21.128433952710548},{"$f":"(F22-2*F21+F20)/Sheet2!$B$3^2","v":102.4294706290307}]
[{"$nulls":4},{"$f":"E21+Sheet2!B$3","v":{"v":-2.8861138861138858,"d":"-2.89"}},-79.05390753134077,{"$f":"(F23-F22)/Sheet2!$B$3","v":-20.5176090046421},{"$f":"(F23-2*F22+F21)/Sheet2!$B$3^2","v":101.90596216941937}]
[{"$nulls":4},{"$f":"E22+Sheet2!B$3","v":{"v":-2.8801198801198797,"d":"-2.88"}},-79.17689020269727,{"$f":"(F24-F23)/Sheet2!$B$3","v":-19.90991680093768},{"$f":"(F24-2*F23+F22)/Sheet2!$B$3^2","v":101.3833159846873}]
[{"$nulls":4},{"$f":"E23+Sheet2!B$3","v":{"v":-2.8741258741258737,"d":"-2.87"}},-79.29623036334225,{"$f":"(F25-F24)/Sheet2!$B$3","v":-19.305352173123605},{"$f":"(F25-2*F24+F23)/Sheet2!$B$3^2","v":100.86153207364788}]
[{"$nulls":4},{"$f":"E24+Sheet2!B$3","v":{"v":-2.8681318681318677,"d":"-2.87"}},-79.41194675998435,{"$f":"(F26-F25)/Sheet2!$B$3","v":-18.70390995270723},{"$f":"(F26-2*F25+F24)/Sheet2!$B$3^2","v":100.3406104394654}]
[{"$nulls":4},{"$f":"E25+Sheet2!B$3","v":{"v":-2.8621378621378617,"d":"-2.86"}},-79.52405810835222,{"$f":"(F27-F26)/Sheet2!$B$3","v":-18.10558497121724},{"$f":"(F27-2*F26+F25)/Sheet2!$B$3^2","v":99.82055107858002}]
[{"$nulls":4},{"$f":"E26+Sheet2!B$3","v":{"v":-2.8561438561438557,"d":"-2.86"}},-79.63258309319468,{"$f":"(F28-F27)/Sheet2!$B$3","v":-17.51037206019418},{"$f":"(F28-2*F27+F26)/Sheet2!$B$3^2","v":99.3013539890141}]
[{"$nulls":4},{"$f":"E27+Sheet2!B$3","v":{"v":-2.8501498501498497,"d":"-2.85"}},-79.73754036828076,{"$f":"(F29-F28)/Sheet2!$B$3","v":-16.918266051131173},{"$f":"(F29-2*F28+F27)/Sheet2!$B$3^2","v":98.78301917867832}]
[{"$nulls":4},{"$f":"E28+Sheet2!B$3","v":{"v":-2.8441558441558437,"d":"-2.84"}},-79.83894855639943,{"$f":"(F30-F29)/Sheet2!$B$3","v":-16.329261775559278},{"$f":"(F30-2*F29+F28)/Sheet2!$B$3^2","v":98.26554664124411}]
[{"$nulls":4},{"$f":"E29+Sheet2!B$3","v":{"v":-2.8381618381618376,"d":"-2.84"}},-79.93682624935983,{"$f":"(F31-F30)/Sheet2!$B$3","v":-15.743354065000077},{"$f":"(F31-2*F30+F29)/Sheet2!$B$3^2","v":97.74893637829364}]
[{"$nulls":4},{"$f":"E30+Sheet2!B$3","v":{"v":-2.8321678321678316,"d":"-2.83"}},-80.0311920079912,{"$f":"(F32-F31)/Sheet2!$B$3","v":-15.16053775097514},{"$f":"(F32-2*F31+F30)/Sheet2!$B$3^2","v":97.23318838982688}]
[{"$nulls":4},{"$f":"E31+Sheet2!B$3","v":{"v":-2.8261738261738256,"d":"-2.83"}},-80.1220643621429,{"$f":"(F33-F32)/Sheet2!$B$3","v":-14.580807664998934},{"$f":"(F33-2*F32+F31)/Sheet2!$B$3^2","v":96.71830267703047}]
[{"$nulls":4},{"$f":"E32+Sheet2!B$3","v":{"v":-2.8201798201798196,"d":"-2.82"}},-80.20946181068435,{"$f":"(F34-F33)/Sheet2!$B$3","v":-14.004158638607258},{"$f":"(F34-2*F33+F32)/Sheet2!$B$3^2","v":96.20427923634455}]
[{"$nulls":4},{"$f":"E33+Sheet2!B$3","v":{"v":-2.8141858141858136,"d":"-2.81"}},-80.29340282150517,{"$f":"(F35-F34)/Sheet2!$B$3","v":-13.430585503302723},{"$f":"(F35-2*F34+F33)/Sheet2!$B$3^2","v":95.69111807330663}]
[{"$nulls":4},{"$f":"E34+Sheet2!B$3","v":{"v":-2.8081918081918076,"d":"-2.81"}},-80.37390583151497,{"$f":"(F36-F35)/Sheet2!$B$3","v":-12.860083090614017},{"$f":"(F36-2*F35+F34)/Sheet2!$B$3^2","v":95.17881918356584}]
[{"$nulls":4},{"$f":"E35+Sheet2!B$3","v":{"v":-2.8021978021978016,"d":"-2.80"}},-80.45098924664353,{"$f":"(F37-F36)/Sheet2!$B$3","v":-12.2926462320722},{"$f":"(F37-2*F36+F35)/Sheet2!$B$3^2","v":94.66738256672663}]
[{"$nulls":4},{"$f":"E36+Sheet2!B$3","v":{"v":-2.7962037962037956,"d":"-2.80"}},-80.52467144184077,{"$f":"(F38-F37)/Sheet2!$B$3","v":-11.728269759186992},{"$f":"(F38-2*F37+F36)/Sheet2!$B$3^2","v":94.15680822634882}]
[{"$nulls":4},{"$f":"E37+Sheet2!B$3","v":{"v":-2.7902097902097895,"d":"-2.79"}},-80.59497076107665,{"$f":"(F39-F38)/Sheet2!$B$3","v":-11.166948503475227},{"$f":"(F39-2*F38+F37)/Sheet2!$B$3^2","v":93.6470961612458}]
[{"$nulls":4},{"$f":"E38+Sheet2!B$3","v":{"v":-2.7842157842157835,"d":"-2.78"}},-80.66190551734124,{"$f":"(F40-F39)/Sheet2!$B$3","v":-10.60867729647034},{"$f":"(F40-2*F39+F38)/Sheet2!$B$3^2","v":93.13824636864882}]
[{"$nulls":4},{"$f":"E39+Sheet2!B$3","v":{"v":-2.7782217782217775,"d":"-2.78"}},-80.72549399264476,{"$f":"(F41-F40)/Sheet2!$B$3","v":-10.053450969686791},{"$f":"(F41-2*F40+F39)/Sheet2!$B$3^2","v":92.63025885172217}]
[{"$nulls":4},{"$f":"E40+Sheet2!B$3","v":{"v":-2.7722277722277715,"d":"-2.77"}},-80.7857544380175,{"$f":"(F42-F41)/Sheet2!$B$3","v":-9.501264354641414},{"$f":"(F42-2*F41+F40)/Sheet2!$B$3^2","v":92.12313361007033}]
[{"$nulls":4},{"$f":"E41+Sheet2!B$3","v":{"v":-2.7662337662337655,"d":"-2.77"}},-80.84270507350986,{"$f":"(F43-F42)/Sheet2!$B$3","v":-8.95211228286527},{"$f":"(F43-2*F42+F41)/Sheet2!$B$3^2","v":91.61687064132005}]
[{"$nulls":4},{"$f":"E42+Sheet2!B$3","v":{"v":-2.7602397602397595,"d":"-2.76"}},-80.89636408819237,{"$f":"(F44-F43)/Sheet2!$B$3","v":-8.405989585860967},{"$f":"(F44-2*F43+F42)/Sheet2!$B$3^2","v":91.1114699502178}]
[{"$nulls":4},{"$f":"E43+Sheet2!B$3","v":{"v":-2.7542457542457535,"d":"-2.75"}},-80.94674964015557,{"$f":"(F45-F44)/Sheet2!$B$3","v":-7.862891095183275},{"$f":"(F45-2*F44+F43)/Sheet2!$B$3^2","v":90.60693152806175}]
[{"$nulls":4},{"$f":"E44+Sheet2!B$3","v":{"v":-2.7482517482517475,"d":"-2.75"}},-80.99387985651032,{"$f":"(F46-F45)/Sheet2!$B$3","v":-7.322811642315834},{"$f":"(F46-2*F45+F44)/Sheet2!$B$3^2","v":90.103255386718}]
[{"$nulls":4},{"$f":"E45+Sheet2!B$3","v":{"v":-2.7422577422577414,"d":"-2.74"}},-81.03777283338734,{"$f":"(F47-F46)/Sheet2!$B$3","v":-6.785746058799188},{"$f":"(F47-2*F46+F45)/Sheet2!$B$3^2","v":89.60044151669369}]
[{"$nulls":4},{"$f":"E46+Sheet2!B$3","v":{"v":-2.7362637362637354,"d":"-2.74"}},-81.07844663593758,{"$f":"(F48-F47)/Sheet2!$B$3","v":-6.251689176147802},{"$f":"(F48-2*F47+F46)/Sheet2!$B$3^2","v":89.09848992233971}]
[{"$nulls":4},{"$f":"E47+Sheet2!B$3","v":{"v":-2.7302697302697294,"d":"-2.73"}},-81.11591929833207,{"$f":"(F49-F48)/Sheet2!$B$3","v":-5.720635825895104},{"$f":"(F49-2*F48+F47)/Sheet2!$B$3^2","v":88.59740060049178}]
[{"$nulls":4},{"$f":"E48+Sheet2!B$3","v":{"v":-2.7242757242757234,"d":"-2.72"}},-81.15020882376201,{"$f":"(F50-F49)/Sheet2!$B$3","v":-5.192580839546075},{"$f":"(F50-2*F49+F48)/Sheet2!$B$3^2","v":88.09717355589632}]
[{"$nulls":4},{"$f":"E49+Sheet2!B$3","v":{"v":-2.7182817182817174,"d":"-2.72"}},-81.18133318443861,{"$f":"(F51-F50)/Sheet2!$B$3","v":-4.667519048631775},{"$f":"(F51-2*F50+F49)/Sheet2!$B$3^2","v":87.59780878420243}]
[{"$nulls":4},{"$f":"E50+Sheet2!B$3","v":{"v":-2.7122877122877114,"d":"-2.71"}},-81.20931032159325,{"$f":"(F52-F51)/Sheet2!$B$3","v":-4.145445284664295},{"$f":"(F52-2*F51+F50)/Sheet2!$B$3^2","v":87.09930628857441}]
[{"$nulls":4},{"$f":"E51+Sheet2!B$3","v":{"v":-2.7062937062937054,"d":"-2.71"}},-81.23415814547735,{"$f":"(F53-F52)/Sheet2!$B$3","v":-3.626354379177068},{"$f":"(F53-2*F52+F51)/Sheet2!$B$3^2","v":86.60166606545243}]
[{"$nulls":4},{"$f":"E52+Sheet2!B$3","v":{"v":-2.7002997002996993,"d":"-2.70"}},-81.25589453536253,{"$f":"(F54-F53)/Sheet2!$B$3","v":-3.110241163672702},{"$f":"(F54-2*F53+F52)/Sheet2!$B$3^2","v":86.10488811997847}]
[{"$nulls":4},{"$f":"E53+Sheet2!B$3","v":{"v":-2.6943056943056933,"d":"-2.69"}},-81.27453733954039,{"$f":"(F55-F54)/Sheet2!$B$3","v":-2.597100469691739},{"$f":"(F55-2*F54+F53)/Sheet2!$B$3^2","v":85.60897244582395}]
[{"$nulls":4},{"$f":"E54+Sheet2!B$3","v":{"v":-2.6883116883116873,"d":"-2.69"}},-81.29010437532276,{"$f":"(F56-F55)/Sheet2!$B$3","v":-2.086927128743902},{"$f":"(F56-2*F55+F54)/Sheet2!$B$3^2","v":85.11391904813082}]
[{"$nulls":4},{"$f":"E55+Sheet2!B$3","v":{"v":-2.6823176823176813,"d":"-2.68"}},-81.3026134290415,{"$f":"(F57-F56)/Sheet2!$B$3","v":-1.57971597236025},{"$f":"(F57-2*F56+F55)/Sheet2!$B$3^2","v":84.61972792333927}]
[{"$nulls":4},{"$f":"E56+Sheet2!B$3","v":{"v":-2.6763236763236753,"d":"-2.68"}},-81.31208225604865,{"$f":"(F58-F57)/Sheet2!$B$3","v":-1.0754618320362799},{"$f":"(F58-2*F57+F56)/Sheet2!$B$3^2","v":84.12639907738235}]
[{"$nulls":4},{"$f":"E57+Sheet2!B$3","v":{"v":-2.6703296703296693,"d":"-2.67"}},-81.3185285807162,{"$f":"(F59-F58)/Sheet2!$B$3","v":-0.5741595393315014},{"$f":"(F59-2*F58+F57)/Sheet2!$B$3^2","v":83.63393249958055}]
[{"$nulls":4},{"$f":"E58+Sheet2!B$3","v":{"v":-2.6643356643356633,"d":"-2.66"}},-81.32197009643647,{"$f":"(F60-F59)/Sheet2!$B$3","v":-0.07580392573429862},{"$f":"(F60-2*F59+F58)/Sheet2!$B$3^2","v":83.1423282018}]
[{"$nulls":4},{"$f":"E59+Sheet2!B$3","v":{"v":-2.6583416583416573,"d":"-2.66"}},-81.3224244656217,{"$f":"(F61-F60)/Sheet2!$B$3","v":0.4196101772171564},{"$f":"(F61-2*F60+F59)/Sheet2!$B$3^2","v":82.65158617573441}]
[{"$nulls":4},{"$f":"E60+Sheet2!B$3","v":{"v":-2.6523476523476512,"d":"-2.65"}},-81.31990931970431,{"$f":"(F62-F61)/Sheet2!$B$3","v":0.9120879380084},{"$f":"(F62-2*F61+F60)/Sheet2!$B$3^2","v":82.16170642533916}]
[{"$nulls":4},{"$f":"E61+Sheet2!B$3","v":{"v":-2.6463536463536452,"d":"-2.65"}},-81.31444225913683,{"$f":"(F63-F62)/Sheet2!$B$3","v":1.4016345251225981},{"$f":"(F63-2*F62+F61)/Sheet2!$B$3^2","v":81.6726889502187}]
[{"$nulls":4},{"$f":"E62+Sheet2!B$3","v":{"v":-2.640359640359639,"d":"-2.64"}},-81.30604085339183,{"$f":"(F64-F63)/Sheet2!$B$3","v":1.8882551070215783},{"$f":"(F64-2*F63+F62)/Sheet2!$B$3^2","v":81.1845337468132}]
[{"$nulls":4},{"$f":"E63+Sheet2!B$3","v":{"v":-2.634365634365633,"d":"-2.63"}},-81.29472264096214,{"$f":"(F65-F64)/Sheet2!$B$3","v":2.371954852209844},{"$f":"(F65-2*F64+F63)/Sheet2!$B$3^2","v":80.69724082224234}]
[{"$nulls":4},{"$f":"E64+Sheet2!B$3","v":{"v":-2.628371628371627,"d":"-2.63"}},-81.28050512936048,{"$f":"(F66-F65)/Sheet2!$B$3","v":2.852738929142111},{"$f":"(F66-2*F65+F64)/Sheet2!$B$3^2","v":80.21081016819983}]
[{"$nulls":4},{"$f":"E65+Sheet2!B$3","v":{"v":-2.622377622377621,"d":"-2.62"}},-81.26340579511987,{"$f":"(F67-F66)/Sheet2!$B$3","v":3.3306125063110272},{"$f":"(F67-2*F66+F65)/Sheet2!$B$3^2","v":79.72524179101426}]
[{"$nulls":4},{"$f":"E66+Sheet2!B$3","v":{"v":-2.616383616383615,"d":"-2.62"}},{"$f":"x^4-3*x^3-25*x^2+6*x+5","v":-81.24344208379333},{"$f":"(F68-F67)/Sheet2!$B$3","v":3.8055807521997593},{"$f":"(F68-2*F67+F66)/Sheet2!$B$3^2","v":79.24053568910347}]
[{"$nulls":4},{"$f":"E67+Sheet2!B$3","v":{"v":-2.610389610389609,"d":"-2.61"}},-81.22063140995397,{"$f":"(F69-F68)/Sheet2!$B$3","v":4.277648835270135},{"$f":"(F69-2*F68+F67)/Sheet2!$B$3^2","v":78.75669185890767}]
[{"$nulls":4},{"$f":"E68+Sheet2!B$3","v":{"v":-2.604395604395603,"d":"-2.60"}},-81.1949911571951,{"$f":"(F70-F69)/Sheet2!$B$3","v":4.746821924017174},{"$f":"(F70-2*F69+F68)/Sheet2!$B$3^2","v":78.27371030596434}]
[{"$nulls":4},{"$f":"E69+Sheet2!B$3","v":{"v":-2.598401598401597,"d":"-2.60"}},-81.16653867813007,{"$f":"(F71-F70)/Sheet2!$B$3","v":5.213105186909817},{"$f":"(F71-2*F70+F69)/Sheet2!$B$3^2","v":77.79159102592259}]
[{"$nulls":4},{"$f":"E70+Sheet2!B$3","v":{"v":-2.592407592407591,"d":"-2.59"}},-81.13529129439235,{"$f":"(F72-F71)/Sheet2!$B$3","v":5.6765037924359705},{"$f":"(F72-2*F71+F70)/Sheet2!$B$3^2","v":77.3103340219467}]
[{"$nulls":4},{"$f":"E71+Sheet2!B$3","v":{"v":-2.586413586413585,"d":"-2.59"}},-81.10126629663549,{"$f":"(F73-F72)/Sheet2!$B$3","v":6.1370229090645765},{"$f":"(F73-2*F72+F71)/Sheet2!$B$3^2","v":76.82993929087239}]
[{"$nulls":4},{"$f":"E72+Sheet2!B$3","v":{"v":-2.580419580419579,"d":"-2.58"}},-81.0644809445332,{"$f":"(F74-F73)/Sheet2!$B$3","v":6.594667705288283},{"$f":"(F74-2*F73+F72)/Sheet2!$B$3^2","v":76.35040683665501}]
[{"$nulls":4},{"$f":"E73+Sheet2!B$3","v":{"v":-2.574425574425573,"d":"-2.57"}},-81.02495246677923,{"$f":"(F75-F74)/Sheet2!$B$3","v":7.0494433495712885},{"$f":"(F75-2*F74+F73)/Sheet2!$B$3^2","v":75.87173665454816}]
[{"$nulls":4},{"$f":"E74+Sheet2!B$3","v":{"v":-2.568431568431567,"d":"-2.57"}},-80.98269806108749,{"$f":"(F76-F75)/Sheet2!$B$3","v":7.501355010401501},{"$f":"(F76-2*F75+F74)/Sheet2!$B$3^2","v":75.39392874850716}]
[{"$nulls":4},{"$f":"E75+Sheet2!B$3","v":{"v":-2.562437562437561,"d":"-2.56"}},-80.93773489419198,{"$f":"(F77-F76)/Sheet2!$B$3","v":7.950407856254974},{"$f":"(F77-2*F76+F75)/Sheet2!$B$3^2","v":74.91698311655435}]
[{"$nulls":4},{"$f":"E76+Sheet2!B$3","v":{"v":-2.556443556443555,"d":"-2.56"}},-80.89008010184679,{"$f":"(F78-F77)/Sheet2!$B$3","v":8.396607055619613},{"$f":"(F78-2*F77+F76)/Sheet2!$B$3^2","v":74.4408997606674}]
[{"$nulls":4},{"$f":"E77+Sheet2!B$3","v":{"v":-2.550449550449549,"d":"-2.55"}},-80.8397507888261,{"$f":"(F79-F78)/Sheet2!$B$3","v":8.839957776954877},{"$f":"(F79-2*F78+F77)/Sheet2!$B$3^2","v":73.9656786760999}]
[{"$nulls":4},{"$f":"E78+Sheet2!B$3","v":{"v":-2.544455544455543,"d":"-2.54"}},-80.78676402892427,{"$f":"(F80-F79)/Sheet2!$B$3","v":9.280465188758157},{"$f":"(F80-2*F79+F78)/Sheet2!$B$3^2","v":73.4913198691804}]
[{"$nulls":4},{"$f":"E79+Sheet2!B$3","v":{"v":-2.538461538461537,"d":"-2.54"}},-80.73113686495569,{"$f":"(F81-F80)/Sheet2!$B$3","v":9.718134459498392},{"$f":"(F81-2*F80+F79)/Sheet2!$B$3^2","v":73.01782333516248}]
[{"$nulls":4},{"$f":"E80+Sheet2!B$3","v":{"v":-2.532467532467531,"d":"-2.53"}},-80.6728863087549,{"$f":"(F82-F81)/Sheet2!$B$3","v":10.15297075766586},{"$f":"(F82-2*F81+F80)/Sheet2!$B$3^2","v":72.54518907760595}]
[{"$nulls":4},{"$f":"E81+Sheet2!B$3","v":{"v":-2.526473526473525,"d":"-2.53"}},-80.61202934117648,{"$f":"(F83-F82)/Sheet2!$B$3","v":10.584979251717648},{"$f":"(F83-2*F82+F81)/Sheet2!$B$3^2","v":72.07341709097334}]
[{"$nulls":4},{"$f":"E82+Sheet2!B$3","v":{"v":-2.520479520479519,"d":"-2.52"}},-80.54858291209526,{"$f":"(F84-F83)/Sheet2!$B$3","v":11.014165110160631},{"$f":"(F84-2*F83+F82)/Sheet2!$B$3^2","v":71.60250738357088}]
[{"$nulls":4},{"$f":"E83+Sheet2!B$3","v":{"v":-2.514485514485513,"d":"-2.51"}},-80.48256394040598,{"$f":"(F85-F84)/Sheet2!$B$3","v":11.440533501454263},{"$f":"(F85-2*F84+F83)/Sheet2!$B$3^2","v":71.13245994748785}]
[{"$nulls":4},{"$f":"E84+Sheet2!B$3","v":{"v":-2.508491508491507,"d":"-2.51"}},-80.41398931402364,{"$f":"(F86-F85)/Sheet2!$B$3","v":11.864089594086456},{"$f":"(F86-2*F85+F84)/Sheet2!$B$3^2","v":70.66327478747068}]
[{"$nulls":4},{"$f":"E85+Sheet2!B$3","v":{"v":-2.502497502497501,"d":"-2.50"}},-80.34287588988326,{"$f":"(F87-F86)/Sheet2!$B$3","v":12.284838556528518},{"$f":"(F87-2*F86+F85)/Sheet2!$B$3^2","v":70.19495190075064}]
[{"$nulls":4},{"$f":"E86+Sheet2!B$3","v":{"v":-2.496503496503495,"d":"-2.50"}},-80.26924049394003,{"$f":"(F88-F87)/Sheet2!$B$3","v":12.702785557273097},{"$f":"(F88-2*F87+F86)/Sheet2!$B$3^2","v":69.72749129088753}]
[{"$nulls":4},{"$f":"E87+Sheet2!B$3","v":{"v":-2.490509490509489,"d":"-2.49"}},-80.19309992116916,{"$f":"(F89-F88)/Sheet2!$B$3","v":13.117935764779654},{"$f":"(F89-2*F88+F87)/Sheet2!$B$3^2","v":69.26089295234385}]
[{"$nulls":4},{"$f":"E88+Sheet2!B$3","v":{"v":-2.484515484515483,"d":"-2.48"}},-80.11447093556609,{"$f":"(F90-F89)/Sheet2!$B$3","v":13.530294347545578},{"$f":"(F90-2*F89+F88)/Sheet2!$B$3^2","v":68.79515689144819}]
[{"$nulls":4},{"$f":"E89+Sheet2!B$3","v":{"v":-2.478521478521477,"d":"-2.48"}},-80.03337027014624,{"$f":"(F91-F90)/Sheet2!$B$3","v":13.939866474035066},{"$f":"(F91-2*F90+F89)/Sheet2!$B$3^2","v":68.33028310266302}]
[{"$nulls":4},{"$f":"E90+Sheet2!B$3","v":{"v":-2.472527472527471,"d":"-2.47"}},-79.94981462694523,{"$f":"(F92-F91)/Sheet2!$B$3","v":14.34665731274314},{"$f":"(F92-2*F91+F90)/Sheet2!$B$3^2","v":67.86627159113034}]
[{"$nulls":4},{"$f":"E91+Sheet2!B$3","v":{"v":-2.466533466533465,"d":"-2.47"}},-79.8638206770187,{"$f":"(F93-F92)/Sheet2!$B$3","v":14.75067203213874},{"$f":"(F93-2*F92+F91)/Sheet2!$B$3^2","v":67.40312235249924}]
[{"$nulls":4},{"$f":"E92+Sheet2!B$3","v":{"v":-2.460539460539459,"d":"-2.46"}},-79.77540506044244,{"$f":"(F94-F93)/Sheet2!$B$3","v":15.151915800695548},{"$f":"(F94-2*F93+F92)/Sheet2!$B$3^2","v":66.94083538756078}]
[{"$nulls":4},{"$f":"E93+Sheet2!B$3","v":{"v":-2.454545454545453,"d":"-2.45"}},-79.6845843863124,{"$f":"(F95-F94)/Sheet2!$B$3","v":15.550393786910954},{"$f":"(F95-2*F94+F93)/Sheet2!$B$3^2","v":66.47941070027034}]
[{"$nulls":4},{"$f":"E94+Sheet2!B$3","v":{"v":-2.448551448551447,"d":"-2.45"}},-79.5913752327445,{"$f":"(F96-F95)/Sheet2!$B$3","v":15.946111159244417},{"$f":"(F96-2*F95+F94)/Sheet2!$B$3^2","v":66.01884828429932}]
[{"$nulls":4},{"$f":"E95+Sheet2!B$3","v":{"v":-2.442557442557441,"d":"-2.44"}},-79.4957941468749,{"$f":"(F97-F96)/Sheet2!$B$3","v":16.33907308618147},{"$f":"(F97-2*F96+F95)/Sheet2!$B$3^2","v":65.55914814399864}]
[{"$nulls":4},{"$f":"E96+Sheet2!B$3","v":{"v":-2.4365634365634348,"d":"-2.44"}},-79.39785764485983,{"$f":"(F98-F97)/Sheet2!$B$3","v":16.729284736205283},{"$f":"(F98-2*F97+F96)/Sheet2!$B$3^2","v":65.10031027897276}]
[{"$nulls":4},{"$f":"E97+Sheet2!B$3","v":{"v":-2.4305694305694288,"d":"-2.43"}},-79.29758221187558,{"$f":"(F99-F98)/Sheet2!$B$3","v":17.11675127779428},{"$f":"(F99-2*F98+F97)/Sheet2!$B$3^2","v":64.6423346884306}]
[{"$nulls":4},{"$f":"E98+Sheet2!B$3","v":{"v":-2.4245754245754227,"d":"-2.42"}},-79.19498430211857,{"$f":"(F100-F99)/Sheet2!$B$3","v":17.501477879433992},{"$f":"(F100-2*F99+F98)/Sheet2!$B$3^2","v":64.18522137355876}]
[{"$nulls":4},{"$f":"E99+Sheet2!B$3","v":{"v":-2.4185814185814167,"d":"-2.42"}},-79.09008033880528,{"$f":"(F101-F100)/Sheet2!$B$3","v":17.88346970957677},{"$f":"(F101-2*F100+F99)/Sheet2!$B$3^2","v":63.728970328819756}]
[{"$nulls":4},{"$f":"E100+Sheet2!B$3","v":{"v":-2.4125874125874107,"d":"-2.41"}},-78.98288671417245,{"$f":"(F102-F101)/Sheet2!$B$3","v":18.26273193673185},{"$f":"(F102-2*F101+F100)/Sheet2!$B$3^2","v":63.27358156370644}]
[{"$nulls":4},{"$f":"E101+Sheet2!B$3","v":{"v":-2.4065934065934047,"d":"-2.41"}},-78.87341978947676,{"$f":"(F103-F102)/Sheet2!$B$3","v":18.63926972936107},{"$f":"(F103-2*F102+F101)/Sheet2!$B$3^2","v":62.819055070308096}]
[{"$nulls":4},{"$f":"E102+Sheet2!B$3","v":{"v":-2.4005994005993987,"d":"-2.40"}},-78.76169589499507,{"$f":"(F104-F103)/Sheet2!$B$3","v":19.013088255957076},{"$f":"(F104-2*F103+F102)/Sheet2!$B$3^2","v":62.36539085376669}]
[{"$nulls":4},{"$f":"E103+Sheet2!B$3","v":{"v":-2.3946053946053927,"d":"-2.39"}},-78.6477313300243,{"$f":"(F105-F104)/Sheet2!$B$3","v":19.38419268498169},{"$f":"(F105-2*F104+F103)/Sheet2!$B$3^2","v":61.91258890894025}]
[{"$nulls":4},{"$f":"E104+Sheet2!B$3","v":{"v":-2.3886113886113867,"d":"-2.39"}},-78.53154236288155,{"$f":"(F106-F105)/Sheet2!$B$3","v":19.75258818492757},{"$f":"(F106-2*F105+F104)/Sheet2!$B$3^2","v":61.46064924097076}]
[{"$nulls":4},{"$f":"E105+Sheet2!B$3","v":{"v":-2.3826173826173807,"d":"-2.38"}},-78.41314523090396,{"$f":"(F107-F106)/Sheet2!$B$3","v":20.118279924266023},{"$f":"(F107-2*F106+F105)/Sheet2!$B$3^2","v":61.00957184629837}]
[{"$nulls":4},{"$f":"E106+Sheet2!B$3","v":{"v":-2.3766233766233746,"d":"-2.38"}},-78.29255614044882,{"$f":"(F108-F107)/Sheet2!$B$3","v":20.481273071489696},{"$f":"(F108-2*F107+F106)/Sheet2!$B$3^2","v":60.55935672848293}]
[{"$nulls":4},{"$f":"E107+Sheet2!B$3","v":{"v":-2.3706293706293686,"d":"-2.37"}},-78.16979126689344,{"$f":"(F109-F108)/Sheet2!$B$3","v":20.84157279505568},{"$f":"(F109-2*F108+F107)/Sheet2!$B$3^2","v":60.11000388159138}]
[{"$nulls":4},{"$f":"E108+Sheet2!B$3","v":{"v":-2.3646353646353626,"d":"-2.36"}},-78.04486675463536,{"$f":"(F110-F109)/Sheet2!$B$3","v":21.199184263454246},{"$f":"(F110-2*F109+F108)/Sheet2!$B$3^2","v":59.661513311161244}]
[{"$nulls":4},{"$f":"E109+Sheet2!B$3","v":{"v":-2.3586413586413566,"d":"-2.36"}},-77.91779871709218,{"$f":"(F111-F110)/Sheet2!$B$3","v":21.55411264517568},{"$f":"(F111-2*F110+F109)/Sheet2!$B$3^2","v":59.2138850171925}]
[{"$nulls":4},{"$f":"E110+Sheet2!B$3","v":{"v":-2.3526473526473506,"d":"-2.35"}},-77.78860323670152,{"$f":"(F112-F111)/Sheet2!$B$3","v":21.906363108674693},{"$f":"(F112-2*F111+F110)/Sheet2!$B$3^2","v":58.76711899375212}]
[{"$nulls":4},{"$f":"E111+Sheet2!B$3","v":{"v":-2.3466533466533446,"d":"-2.35"}},-77.65729636492125,{"$f":"(F113-F112)/Sheet2!$B$3","v":22.25594082245816},{"$f":"(F113-2*F112+F111)/Sheet2!$B$3^2","v":58.3212152495419}]
[{"$nulls":4},{"$f":"E112+Sheet2!B$3","v":{"v":-2.3406593406593386,"d":"-2.34"}},-77.5238941222292,{"$f":"(F114-F113)/Sheet2!$B$3","v":22.60285095497606},{"$f":"(F114-2*F113+F112)/Sheet2!$B$3^2","v":57.87617377506896}]
[{"$nulls":4},{"$f":"E113+Sheet2!B$3","v":{"v":-2.3346653346653325,"d":"-2.33"}},-77.38841249812344,{"$f":"(F115-F114)/Sheet2!$B$3","v":22.947098674735255},{"$f":"(F115-2*F114+F113)/Sheet2!$B$3^2","v":57.43199457982619}]
[{"$nulls":4},{"$f":"E114+Sheet2!B$3","v":{"v":-2.3286713286713265,"d":"-2.33"}},-77.25086745112203,{"$f":"(F116-F115)/Sheet2!$B$3","v":23.28868915019047},{"$f":"(F116-2*F115+F114)/Sheet2!$B$3^2","v":56.98867765511177}]
[{"$nulls":4},{"$f":"E115+Sheet2!B$3","v":{"v":-2.3226773226773205,"d":"-2.32"}},-77.11127490876325,{"$f":"(F117-F116)/Sheet2!$B$3","v":23.627627549843837},{"$f":"(F117-2*F116+F115)/Sheet2!$B$3^2","v":56.546223008836435}]
[{"$nulls":4},{"$f":"E116+Sheet2!B$3","v":{"v":-2.3166833166833145,"d":"-2.32"}},-76.96965076760534,{"$f":"(F118-F117)/Sheet2!$B$3","v":23.96391904215481},{"$f":"(F118-2*F117+F116)/Sheet2!$B$3^2","v":56.10463063388054}]
[{"$nulls":4},{"$f":"E117+Sheet2!B$3","v":{"v":-2.3106893106893085,"d":"-2.31"}},-76.8260108932268,{"$f":"(F119-F118)/Sheet2!$B$3","v":24.297568795606555},{"$f":"(F119-2*F118+F117)/Sheet2!$B$3^2","v":55.663900534199435}]
[{"$nulls":4},{"$f":"E118+Sheet2!B$3","v":{"v":-2.3046953046953025,"d":"-2.30"}},-76.68037112022616,{"$f":"(F120-F119)/Sheet2!$B$3","v":24.62858197869172},{"$f":"(F120-2*F119+F118)/Sheet2!$B$3^2","v":55.224032711375266}]
[{"$nulls":4},{"$f":"E119+Sheet2!B$3","v":{"v":-2.2987012987012965,"d":"-2.30"}},-76.53274725222201,{"$f":"(F121-F120)/Sheet2!$B$3","v":24.956963759869765},{"$f":"(F121-2*F120+F119)/Sheet2!$B$3^2","v":54.78502715987054}]
[{"$nulls":4},{"$f":"E120+Sheet2!B$3","v":{"v":-2.2927072927072905,"d":"-2.29"}},-76.38315506185316,{"$f":"(F122-F121)/Sheet2!$B$3","v":25.28271930763571},{"$f":"(F122-2*F121+F120)/Sheet2!$B$3^2","v":54.34688388561828}]
[{"$nulls":4},{"$f":"E121+Sheet2!B$3","v":{"v":-2.2867132867132844,"d":"-2.29"}},-76.23161029077842,{"$f":"(F123-F122)/Sheet2!$B$3","v":25.605853790465606},{"$f":"(F123-2*F122+F121)/Sheet2!$B$3^2","v":53.90960288545421}]
[{"$nulls":4},{"$f":"E122+Sheet2!B$3","v":{"v":-2.2807192807192784,"d":"-2.28"}},-76.07812864967673,{"$f":"(F124-F123)/Sheet2!$B$3","v":25.92637237682128},{"$f":"(F124-2*F123+F122)/Sheet2!$B$3^2","v":53.473184157005115}]
[{"$nulls":4},{"$f":"E123+Sheet2!B$3","v":{"v":-2.2747252747252724,"d":"-2.27"}},-75.92272581824723,{"$f":"(F125-F124)/Sheet2!$B$3","v":26.244280235211978},{"$f":"(F125-2*F124+F123)/Sheet2!$B$3^2","v":53.0376277081817}]
[{"$nulls":4},{"$f":"E124+Sheet2!B$3","v":{"v":-2.2687312687312664,"d":"-2.27"}},-75.765417445209,{"$f":"(F126-F125)/Sheet2!$B$3","v":26.559582534090048},{"$f":"(F126-2*F125+F124)/Sheet2!$B$3^2","v":52.60293352949112}]
[{"$nulls":4},{"$f":"E125+Sheet2!B$3","v":{"v":-2.2627372627372604,"d":"-2.26"}},-75.60621914830136,{"$f":"(F127-F126)/Sheet2!$B$3","v":26.872284441948135},{"$f":"(F127-2*F126+F125)/Sheet2!$B$3^2","v":52.169101627657476}]
[{"$nulls":4},{"$f":"E126+Sheet2!B$3","v":{"v":-2.2567432567432544,"d":"-2.26"}},-75.44514651428369,{"$f":"(F128-F127)/Sheet2!$B$3","v":27.182391127262292},{"$f":"(F128-2*F127+F126)/Sheet2!$B$3^2","v":51.73613199991202}]
[{"$nulls":4},{"$f":"E127+Sheet2!B$3","v":{"v":-2.2507492507492484,"d":"-2.25"}},-75.28221509893547,{"$f":"(F129-F128)/Sheet2!$B$3","v":27.489907758515688},{"$f":"(F129-2*F128+F127)/Sheet2!$B$3^2","v":51.30402464744135}]
[{"$nulls":4},{"$f":"E128+Sheet2!B$3","v":{"v":-2.2447552447552424,"d":"-2.24"}},-75.11744042705625,{"$f":"(F130-F129)/Sheet2!$B$3","v":27.79483950417252},{"$f":"(F130-2*F129+F128)/Sheet2!$B$3^2","v":50.872779567081196}]
[{"$nulls":4},{"$f":"E129+Sheet2!B$3","v":{"v":-2.2387612387612363,"d":"-2.24"}},-74.95083799246581,{"$f":"(F131-F130)/Sheet2!$B$3","v":28.097191532730175},{"$f":"(F131-2*F130+F129)/Sheet2!$B$3^2","v":50.44239676436905}]
[{"$nulls":4},{"$f":"E130+Sheet2!B$3","v":{"v":-2.2327672327672303,"d":"-2.23"}},{"$f":"x^4-3*x^3-25*x^2+6*x+5","v":-74.78242325800389},{"$f":"(F132-F131)/Sheet2!$B$3","v":28.396969012657596},{"$f":"(F132-2*F131+F130)/Sheet2!$B$3^2","v":50.01287623455848}]
[{"$nulls":4},{"$f":"E131+Sheet2!B$3","v":{"v":-2.2267732267732243,"d":"-2.23"}},-74.61221165553042,{"$f":"(F133-F132)/Sheet2!$B$3","v":28.694177112437952},{"$f":"(F133-2*F132+F131)/Sheet2!$B$3^2","v":49.58421798002271}]
[{"$nulls":4},{"$f":"E132+Sheet2!B$3","v":{"v":-2.2207792207792183,"d":"-2.22"}},-74.4402185859254,{"$f":"(F134-F133)/Sheet2!$B$3","v":28.988821000547293},{"$f":"(F134-2*F133+F132)/Sheet2!$B$3^2","v":49.15642199957512}]
[{"$nulls":4},{"$f":"E133+Sheet2!B$3","v":{"v":-2.2147852147852123,"d":"-2.21"}},-74.26645941908895,{"$f":"(F135-F134)/Sheet2!$B$3","v":29.280905845464044},{"$f":"(F135-2*F134+F133)/Sheet2!$B$3^2","v":48.72948829361126}]
[{"$nulls":4},{"$f":"E134+Sheet2!B$3","v":{"v":-2.2087912087912063,"d":"-2.21"}},-74.09094949394131,{"$f":"(F136-F135)/Sheet2!$B$3","v":29.57043681567374},{"$f":"(F136-2*F135+F134)/Sheet2!$B$3^2","v":48.30341686331773}]
[{"$nulls":4},{"$f":"E135+Sheet2!B$3","v":{"v":-2.2027972027972003,"d":"-2.20"}},-73.91370411842279,{"$f":"(F137-F136)/Sheet2!$B$3","v":29.857419079645325},{"$f":"(F137-2*F136+F135)/Sheet2!$B$3^2","v":47.87820770592577}]
[{"$nulls":4},{"$f":"E136+Sheet2!B$3","v":{"v":-2.1968031968031942,"d":"-2.20"}},-73.73473856949384,{"$f":"(F138-F137)/Sheet2!$B$3","v":30.141857805866703},{"$f":"(F138-2*F137+F136)/Sheet2!$B$3^2","v":47.45386082459968}]
[{"$nulls":4},{"$f":"E137+Sheet2!B$3","v":{"v":-2.1908091908091882,"d":"-2.19"}},-73.554068093135,{"$f":"(F139-F138)/Sheet2!$B$3","v":30.423758162811556},{"$f":"(F139-2*F138+F137)/Sheet2!$B$3^2","v":47.030376216966246}]
[{"$nulls":4},{"$f":"E138+Sheet2!B$3","v":{"v":-2.184815184815182,"d":"-2.18"}},-73.37170790434692,{"$f":"(F140-F139)/Sheet2!$B$3","v":30.70312531896779},{"$f":"(F140-2*F139+F138)/Sheet2!$B$3^2","v":46.60775388539867}]
[{"$nulls":4},{"$f":"E139+Sheet2!B$3","v":{"v":-2.178821178821176,"d":"-2.18"}},-73.18767318715031,{"$f":"(F141-F140)/Sheet2!$B$3","v":30.979964442797236},{"$f":"(F141-2*F140+F139)/Sheet2!$B$3^2","v":46.18599382554607}]
[{"$nulls":4},{"$f":"E140+Sheet2!B$3","v":{"v":-2.17282717282717,"d":"-2.17"}},-73.00197909458609,{"$f":"(F142-F141)/Sheet2!$B$3","v":31.254280702794915},{"$f":"(F142-2*F141+F140)/Sheet2!$B$3^2","v":45.76509604294594}]
[{"$nulls":4},{"$f":"E141+Sheet2!B$3","v":{"v":-2.166833166833164,"d":"-2.17"}},-72.81464074871519,{"$f":"(F143-F142)/Sheet2!$B$3","v":31.526079267434508},{"$f":"(F143-2*F142+F141)/Sheet2!$B$3^2","v":45.34506053403847}]
[{"$nulls":4},{"$f":"E142+Sheet2!B$3","v":{"v":-2.160839160839158,"d":"-2.16"}},-72.62567324061868,{"$f":"(F144-F143)/Sheet2!$B$3","v":31.795365305194434},{"$f":"(F144-2*F143+F142)/Sheet2!$B$3^2","v":44.925887299614715}]
[{"$nulls":4},{"$f":"E143+Sheet2!B$3","v":{"v":-2.154845154845152,"d":"-2.15"}},-72.43509163039774,{"$f":"(F145-F144)/Sheet2!$B$3","v":32.062143984553124},{"$f":"(F145-2*F144+F143)/Sheet2!$B$3^2","v":44.507576339674685}]
[{"$nulls":4},{"$f":"E144+Sheet2!B$3","v":{"v":-2.148851148851146,"d":"-2.15"}},-72.24291094717364,{"$f":"(F146-F145)/Sheet2!$B$3","v":32.326420473988996},{"$f":"(F146-2*F145+F144)/Sheet2!$B$3^2","v":44.09012765421838}]
[{"$nulls":4},{"$f":"E145+Sheet2!B$3","v":{"v":-2.14285714285714,"d":"-2.14"}},-72.04914618908779,{"$f":"(F147-F146)/Sheet2!$B$3","v":32.58819994198522},{"$f":"(F147-2*F146+F145)/Sheet2!$B$3^2","v":43.67354124403686}]
[{"$nulls":4},{"$f":"E146+Sheet2!B$3","v":{"v":-2.136863136863134,"d":"-2.14"}},-71.85381232330167,{"$f":"(F148-F147)/Sheet2!$B$3","v":32.847487557022596},{"$f":"(F148-2*F147+F146)/Sheet2!$B$3^2","v":43.257817108734606}]
[{"$nulls":4},{"$f":"E147+Sheet2!B$3","v":{"v":-2.130869130869128,"d":"-2.13"}},-71.65692428599684,{"$f":"(F149-F148)/Sheet2!$B$3","v":33.104288487565306},{"$f":"(F149-2*F148+F147)/Sheet2!$B$3^2","v":42.84295524554286}]
[{"$nulls":4},{"$f":"E148+Sheet2!B$3","v":{"v":-2.124875124875122,"d":"-2.12"}},-71.45849698237507,{"$f":"(F150-F149)/Sheet2!$B$3","v":33.35860790211313},{"$f":"(F150-2*F149+F148)/Sheet2!$B$3^2","v":42.42895566039466}]
[{"$nulls":4},{"$f":"E149+Sheet2!B$3","v":{"v":-2.118881118881116,"d":"-2.12"}},-71.2585452866581,{"$f":"(F151-F150)/Sheet2!$B$3","v":33.61045096912788},{"$f":"(F151-2*F150+F149)/Sheet2!$B$3^2","v":42.015818346961424}]
[{"$nulls":4},{"$f":"E150+Sheet2!B$3","v":{"v":-2.11288711288711,"d":"-2.11"}},-71.05708404208791,{"$f":"(F152-F151)/Sheet2!$B$3","v":33.85982285709985},{"$f":"(F152-2*F151+F150)/Sheet2!$B$3^2","v":41.6035433099896}]
[{"$nulls":4},{"$f":"E151+Sheet2!B$3","v":{"v":-2.106893106893104,"d":"-2.11"}},-70.85412806092647,{"$f":"(F153-F152)/Sheet2!$B$3","v":34.10672873450271},{"$f":"(F153-2*F152+F151)/Sheet2!$B$3^2","v":41.192130546710416}]
[{"$nulls":4},{"$f":"E152+Sheet2!B$3","v":{"v":-2.100899100899098,"d":"-2.10"}},-70.64969212445592,{"$f":"(F154-F153)/Sheet2!$B$3","v":34.351173769822},{"$f":"(F154-2*F153+F152)/Sheet2!$B$3^2","v":40.781580059101564}]
[{"$nulls":4},{"$f":"E153+Sheet2!B$3","v":{"v":-2.094905094905092,"d":"-2.09"}},-70.44379098297847,{"$f":"(F155-F154)/Sheet2!$B$3","v":34.59316313152192},{"$f":"(F155-2*F154+F153)/Sheet2!$B$3^2","v":40.37189184360323}]
[{"$nulls":4},{"$f":"E154+Sheet2!B$3","v":{"v":-2.088911088911086,"d":"-2.09"}},-70.2364393558165,{"$f":"(F156-F155)/Sheet2!$B$3","v":34.83270198809512},{"$f":"(F156-2*F155+F154)/Sheet2!$B$3^2","v":39.96306590496182}]
[{"$nulls":4},{"$f":"E155+Sheet2!B$3","v":{"v":-2.08291708291708,"d":"-2.08"}},-70.02765193131243,{"$f":"(F157-F156)/Sheet2!$B$3","v":35.06979550802239},{"$f":"(F157-2*F156+F155)/Sheet2!$B$3^2","v":39.55510224119968}]
[{"$nulls":4},{"$f":"E156+Sheet2!B$3","v":{"v":-2.076923076923074,"d":"-2.08"}},-69.81744336682878,{"$f":"(F158-F157)/Sheet2!$B$3","v":35.30444885976793},{"$f":"(F158-2*F157+F156)/Sheet2!$B$3^2","v":39.14800084954804}]
[{"$nulls":4},{"$f":"E157+Sheet2!B$3","v":{"v":-2.070929070929068,"d":"-2.07"}},-69.60582828874826,{"$f":"(F159-F158)/Sheet2!$B$3","v":35.53666721182913},{"$f":"(F159-2*F158+F157)/Sheet2!$B$3^2","v":38.741761735544415}]
[{"$nulls":4},{"$f":"E158+Sheet2!B$3","v":{"v":-2.064935064935062,"d":"-2.06"}},-69.39282129247356,{"$f":"(F160-F159)/Sheet2!$B$3","v":35.76645573266783},{"$f":"(F160-2*F159+F158)/Sheet2!$B$3^2","v":38.336384893255754}]
[{"$nulls":4},{"$f":"E159+Sheet2!B$3","v":{"v":-2.058941058941056,"d":"-2.06"}},-69.1784369424276,{"$f":"(F161-F160)/Sheet2!$B$3","v":35.993819590774294},{"$f":"(F161-2*F160+F159)/Sheet2!$B$3^2","v":37.9318703274285}]
[{"$nulls":4},{"$f":"E160+Sheet2!B$3","v":{"v":-2.05294705294705,"d":"-2.05"}},-68.96268977205332,{"$f":"(F162-F161)/Sheet2!$B$3","v":36.21876395462695},{"$f":"(F162-2*F161+F160)/Sheet2!$B$3^2","v":37.528218036084965}]
[{"$nulls":4},{"$f":"E161+Sheet2!B$3","v":{"v":-2.046953046953044,"d":"-2.05"}},-68.7455942838138,{"$f":"(F163-F162)/Sheet2!$B$3","v":36.441293992699485},{"$f":"(F163-2*F162+F161)/Sheet2!$B$3^2","v":37.125428018434086}]
[{"$nulls":4},{"$f":"E162+Sheet2!B$3","v":{"v":-2.040959040959038,"d":"-2.04"}},-68.52716494919223,{"$f":"(F164-F163)/Sheet2!$B$3","v":36.661414873470314},{"$f":"(F164-2*F163+F162)/Sheet2!$B$3^2","v":36.72350027526693}]
[{"$nulls":4},{"$f":"E163+Sheet2!B$3","v":{"v":-2.034965034965032,"d":"-2.03"}},-68.3074162086919,{"$f":"(F165-F164)/Sheet2!$B$3","v":36.87913176542972},{"$f":"(F165-2*F164+F163)/Sheet2!$B$3^2","v":36.32243480856117}]
[{"$nulls":4},{"$f":"E164+Sheet2!B$3","v":{"v":-2.028971028971026,"d":"-2.03"}},-68.08636247183618,{"$f":"(F166-F165)/Sheet2!$B$3","v":37.094449837046646},{"$f":"(F166-2*F165+F164)/Sheet2!$B$3^2","v":35.922231614756996}]
[{"$nulls":4},{"$f":"E165+Sheet2!B$3","v":{"v":-2.02297702297702,"d":"-2.02"}},-67.86401811716857,{"$f":"(F167-F166)/Sheet2!$B$3","v":37.30737425679714},{"$f":"(F167-2*F166+F165)/Sheet2!$B$3^2","v":35.522890695041}]
[{"$nulls":4},{"$f":"E166+Sheet2!B$3","v":{"v":-2.016983016983014,"d":"-2.02"}},-67.6403974922527,{"$f":"(F168-F167)/Sheet2!$B$3","v":37.51791019317623},{"$f":"(F168-2*F167+F166)/Sheet2!$B$3^2","v":35.12441205257748}]
[{"$nulls":4},{"$f":"E167+Sheet2!B$3","v":{"v":-2.010989010989008,"d":"-2.01"}},-67.41551491367223,{"$f":"(F169-F168)/Sheet2!$B$3","v":37.72606281463862},{"$f":"(F169-2*F168+F167)/Sheet2!$B$3^2","v":34.72679568064233}]
[{"$nulls":4},{"$f":"E168+Sheet2!B$3","v":{"v":-2.004995004995002,"d":"-2.00"}},-67.18938466703104,{"$f":"(F170-F169)/Sheet2!$B$3","v":37.93183728969119},{"$f":"(F170-2*F169+F168)/Sheet2!$B$3^2","v":34.33004158793733}]
[{"$nulls":4},{"$f":"E169+Sheet2!B$3","v":{"v":-1.9990009990009958,"d":"-2.00"}},-66.96202100695297,{"$f":"(F171-F170)/Sheet2!$B$3","v":38.13523878678629},{"$f":"(F171-2*F170+F169)/Sheet2!$B$3^2","v":33.934149765365156}]
[{"$nulls":4},{"$f":"E170+Sheet2!B$3","v":{"v":-1.9930069930069898,"d":"-1.99"}},-66.73343815708212,{"$f":"(F172-F171)/Sheet2!$B$3","v":38.336272474423666},{"$f":"(F172-2*F171+F170)/Sheet2!$B$3^2","v":33.53912022083653}]
[{"$nulls":4},{"$f":"E171+Sheet2!B$3","v":{"v":-1.9870129870129838,"d":"-1.99"}},-66.50365031008258,{"$f":"(F173-F172)/Sheet2!$B$3","v":38.53494352107228},{"$f":"(F173-2*F172+F171)/Sheet2!$B$3^2","v":33.14495294920948}]
[{"$nulls":4},{"$f":"E172+Sheet2!B$3","v":{"v":-1.9810189810189778,"d":"-1.98"}},-66.27267162763859,{"$f":"(F174-F173)/Sheet2!$B$3","v":38.73125709521054},{"$f":"(F174-2*F173+F172)/Sheet2!$B$3^2","v":32.75164795206616}]
[{"$nulls":4},{"$f":"E173+Sheet2!B$3","v":{"v":-1.9750249750249718,"d":"-1.98"}},-66.04051624045451,{"$f":"(F175-F174)/Sheet2!$B$3","v":38.92521836532398},{"$f":"(F175-2*F174+F173)/Sheet2!$B$3^2","v":32.35920523059316}]
[{"$nulls":4},{"$f":"E174+Sheet2!B$3","v":{"v":-1.9690309690309657,"d":"-1.97"}},-65.80719824825476,{"$f":"(F176-F175)/Sheet2!$B$3","v":39.11683249988629},{"$f":"(F176-2*F175+F174)/Sheet2!$B$3^2","v":31.967624782812816}]
[{"$nulls":4},{"$f":"E175+Sheet2!B$3","v":{"v":-1.9630369630369597,"d":"-1.96"}},-65.57273171978392,{"$f":"(F177-F176)/Sheet2!$B$3","v":39.30610466737827},{"$f":"(F177-2*F176+F175)/Sheet2!$B$3^2","v":31.57690660991173}]
[{"$nulls":4},{"$f":"E176+Sheet2!B$3","v":{"v":-1.9570429570429537,"d":"-1.96"}},-65.33713069280662,{"$f":"(F178-F177)/Sheet2!$B$3","v":39.49304003627834},{"$f":"(F178-2*F177+F176)/Sheet2!$B$3^2","v":31.187050711494365}]
[{"$nulls":4},{"$f":"E177+Sheet2!B$3","v":{"v":-1.9510489510489477,"d":"-1.95"}},-65.10040917410765,{"$f":"(F179-F178)/Sheet2!$B$3","v":39.67764377506729},{"$f":"(F179-2*F178+F177)/Sheet2!$B$3^2","v":30.79805708795626}]
[{"$nulls":4},{"$f":"E178+Sheet2!B$3","v":{"v":-1.9450549450549417,"d":"-1.95"}},-64.86258113949187,{"$f":"(F180-F179)/Sheet2!$B$3","v":39.8599210522188},{"$f":"(F180-2*F179+F178)/Sheet2!$B$3^2","v":30.409925738110807}]
[{"$nulls":4},{"$f":"E179+Sheet2!B$3","v":{"v":-1.9390609390609357,"d":"-1.94"}},-64.62366053378426,{"$f":"(F181-F180)/Sheet2!$B$3","v":40.039877036218414},{"$f":"(F181-2*F180+F179)/Sheet2!$B$3^2","v":30.02265666393568}]
[{"$nulls":4},{"$f":"E180+Sheet2!B$3","v":{"v":-1.9330669330669297,"d":"-1.93"}},-64.3836612708299,{"$f":"(F182-F181)/Sheet2!$B$3","v":40.217516895549295},{"$f":"(F182-2*F181+F180)/Sheet2!$B$3^2","v":29.636249865035353}]
[{"$nulls":4},{"$f":"E181+Sheet2!B$3","v":{"v":-1.9270729270729237,"d":"-1.93"}},-64.14259723349394,{"$f":"(F183-F182)/Sheet2!$B$3","v":40.392845798670905},{"$f":"(F183-2*F182+F181)/Sheet2!$B$3^2","v":29.250705337454455}]
[{"$nulls":4},{"$f":"E182+Sheet2!B$3","v":{"v":-1.9210789210789176,"d":"-1.92"}},-63.90048227366175,{"$f":"(F184-F183)/Sheet2!$B$3","v":40.56586891408774},{"$f":"(F184-2*F183+F182)/Sheet2!$B$3^2","v":28.86602308870818}]
[{"$nulls":4},{"$f":"E183+Sheet2!B$3","v":{"v":-1.9150849150849116,"d":"-1.92"}},-63.65733021223865,{"$f":"(F185-F184)/Sheet2!$B$3","v":40.73659141025688},{"$f":"(F185-2*F184+F183)/Sheet2!$B$3^2","v":28.482203110885802}]
[{"$nulls":4},{"$f":"E184+Sheet2!B$3","v":{"v":-1.9090909090909056,"d":"-1.91"}},-63.413154839150195,{"$f":"(F186-F185)/Sheet2!$B$3","v":40.90501845567336},{"$f":"(F186-2*F185+F184)/Sheet2!$B$3^2","v":28.0992454103159}]
[{"$nulls":4},{"$f":"E185+Sheet2!B$3","v":{"v":-1.9030969030968996,"d":"-1.90"}},-63.16796991334196,{"$f":"(F187-F186)/Sheet2!$B$3","v":41.071155218808485},{"$f":"(F187-2*F186+F185)/Sheet2!$B$3^2","v":27.717149983043107}]
[{"$nulls":4},{"$f":"E186+Sheet2!B$3","v":{"v":-1.8971028971028936,"d":"-1.90"}},-62.921789162779675,{"$f":"(F188-F187)/Sheet2!$B$3","v":41.235006868138306},{"$f":"(F188-2*F187+F186)/Sheet2!$B$3^2","v":27.33591682985851}]
[{"$nulls":4},{"$f":"E187+Sheet2!B$3","v":{"v":-1.8911088911088876,"d":"-1.89"}},-62.674626284449175,{"$f":"(F189-F188)/Sheet2!$B$3","v":41.3965785721531},{"$f":"(F189-2*F188+F187)/Sheet2!$B$3^2","v":26.955545953135307}]
[{"$nulls":4},{"$f":"E188+Sheet2!B$3","v":{"v":-1.8851148851148816,"d":"-1.89"}},-62.42649494435635,{"$f":"(F190-F189)/Sheet2!$B$3","v":41.55587549931944},{"$f":"(F190-2*F189+F188)/Sheet2!$B$3^2","v":26.57603734891815}]
[{"$nulls":4},{"$f":"E189+Sheet2!B$3","v":{"v":-1.8791208791208756,"d":"-1.88"}},-62.17740877752726,{"$f":"(F191-F190)/Sheet2!$B$3","v":41.71290281812524},{"$f":"(F191-2*F190+F189)/Sheet2!$B$3^2","v":26.197391020766858}]
[{"$nulls":4},{"$f":"E190+Sheet2!B$3","v":{"v":-1.8731268731268695,"d":"-1.87"}},-61.92738138800803,{"$f":"(F192-F191)/Sheet2!$B$3","v":41.86766569704417},{"$f":"(F192-2*F191+F190)/Sheet2!$B$3^2","v":25.819606966308218}]
[{"$nulls":4},{"$f":"E191+Sheet2!B$3","v":{"v":-1.8671328671328635,"d":"-1.87"}},-61.67642634886491,{"$f":"(F193-F192)/Sheet2!$B$3","v":42.02016930455703},{"$f":"(F193-2*F192+F191)/Sheet2!$B$3^2","v":25.442685186728834}]
[{"$nulls":4},{"$f":"E192+Sheet2!B$3","v":{"v":-1.8611388611388575,"d":"-1.86"}},-61.424557202184246,{"$f":"(F194-F193)/Sheet2!$B$3","v":42.17041880914699},{"$f":"(F194-2*F193+F192)/Sheet2!$B$3^2","v":25.06662568242425}]
[{"$nulls":4},{"$f":"E193+Sheet2!B$3","v":{"v":-1.8551448551448515,"d":"-1.86"}},-61.171787459072476,{"$f":"(F195-F194)/Sheet2!$B$3","v":42.318419379285345},{"$f":"(F195-2*F194+F193)/Sheet2!$B$3^2","v":24.691428451416776}]
[{"$nulls":4},{"$f":"E194+Sheet2!B$3","v":{"v":-1.8491508491508455,"d":"-1.85"}},{"$f":"x^4-3*x^3-25*x^2+6*x+5","v":-60.91813059965618},{"$f":"(F196-F195)/Sheet2!$B$3","v":42.46417618345528},{"$f":"(F196-2*F195+F194)/Sheet2!$B$3^2","v":24.317093495684098}]
[{"$nulls":4},{"$f":"E195+Sheet2!B$3","v":{"v":-1.8431568431568395,"d":"-1.84"}},-60.66360007308202,{"$f":"(F197-F196)/Sheet2!$B$3","v":42.607694390139955},{"$f":"(F197-2*F196+F195)/Sheet2!$B$3^2","v":23.94362081522621}]
[{"$nulls":4},{"$f":"E196+Sheet2!B$3","v":{"v":-1.8371628371628335,"d":"-1.84"}},-60.40820929751675,{"$f":"(F198-F197)/Sheet2!$B$3","v":42.748979167810674},{"$f":"(F198-2*F197+F196)/Sheet2!$B$3^2","v":23.571010408065444}]
[{"$nulls":4},{"$f":"E197+Sheet2!B$3","v":{"v":-1.8311688311688274,"d":"-1.83"}},-60.151971660147254,{"$f":"(F199-F198)/Sheet2!$B$3","v":42.888035684950616},{"$f":"(F199-2*F198+F197)/Sheet2!$B$3^2","v":23.199262276179468}]
[{"$nulls":4},{"$f":"E198+Sheet2!B$3","v":{"v":-1.8251748251748214,"d":"-1.83"}},-59.89490051718052,{"$f":"(F200-F199)/Sheet2!$B$3","v":43.024869110035816},{"$f":"(F200-2*F199+F198)/Sheet2!$B$3^2","v":22.82837641838168}]
[{"$nulls":4},{"$f":"E199+Sheet2!B$3","v":{"v":-1.8191808191808154,"d":"-1.82"}},-59.63700919384364,{"$f":"(F201-F200)/Sheet2!$B$3","v":43.1594846115542},{"$f":"(F201-2*F200+F199)/Sheet2!$B$3^2","v":22.45835283664976}]
[{"$nulls":4},{"$f":"E200+Sheet2!B$3","v":{"v":-1.8131868131868094,"d":"-1.81"}},-59.37831098438377,{"$f":"(F202-F201)/Sheet2!$B$3","v":43.29188735797232},{"$f":"(F202-2*F201+F200)/Sheet2!$B$3^2","v":22.08919152742388}]
[{"$nulls":4},{"$f":"E201+Sheet2!B$3","v":{"v":-1.8071928071928034,"d":"-1.81"}},-59.118819152068255,{"$f":"(F203-F202)/Sheet2!$B$3","v":43.4220825177781},{"$f":"(F203-2*F202+F201)/Sheet2!$B$3^2","v":21.720892494263865}]
[{"$nulls":4},{"$f":"E202+Sheet2!B$3","v":{"v":-1.8011988011987974,"d":"-1.80"}},-58.85854692918447,{"$f":"(F204-F203)/Sheet2!$B$3","v":43.550075259445215},{"$f":"(F204-2*F203+F202)/Sheet2!$B$3^2","v":21.353455734796505}]
[{"$nulls":4},{"$f":"E203+Sheet2!B$3","v":{"v":-1.7952047952047914,"d":"-1.80"}},-58.59750751703994,{"$f":"(F205-F204)/Sheet2!$B$3","v":43.67587075145683},{"$f":"(F205-2*F204+F203)/Sheet2!$B$3^2","v":20.986881250603936}]
[{"$nulls":4},{"$f":"E204+Sheet2!B$3","v":{"v":-1.7892107892107854,"d":"-1.79"}},-58.33571408596228,{"$f":"(F206-F205)/Sheet2!$B$3","v":43.799474162293734},{"$f":"(F206-2*F205+F204)/Sheet2!$B$3^2","v":20.621169041290624}]
[{"$nulls":4},{"$f":"E205+Sheet2!B$3","v":{"v":-1.7832167832167793,"d":"-1.78"}},-58.07317977529918,{"$f":"(F207-F206)/Sheet2!$B$3","v":43.920890660424874},{"$f":"(F207-2*F206+F205)/Sheet2!$B$3^2","v":20.256319104878894}]
[{"$nulls":4},{"$f":"E206+Sheet2!B$3","v":{"v":-1.7772227772227733,"d":"-1.78"}},-57.80991769341851,{"$f":"(F208-F207)/Sheet2!$B$3","v":44.04012541434053},{"$f":"(F208-2*F207+F206)/Sheet2!$B$3^2","v":19.892331444928566}]
[{"$nulls":4},{"$f":"E207+Sheet2!B$3","v":{"v":-1.7712287712287673,"d":"-1.77"}},-57.54594091770818,{"$f":"(F209-F208)/Sheet2!$B$3","v":44.15718359251438},{"$f":"(F209-2*F208+F207)/Sheet2!$B$3^2","v":19.52920605867089}]
[{"$nulls":4},{"$f":"E208+Sheet2!B$3","v":{"v":-1.7652347652347613,"d":"-1.77"}},-57.281262494576225,{"$f":"(F210-F209)/Sheet2!$B$3","v":44.27207036342841},{"$f":"(F210-2*F209+F208)/Sheet2!$B$3^2","v":19.166942947490238}]
[{"$nulls":4},{"$f":"E209+Sheet2!B$3","v":{"v":-1.7592407592407553,"d":"-1.76"}},-57.01589543945078,{"$f":"(F211-F210)/Sheet2!$B$3","v":44.384790895555106},{"$f":"(F211-2*F210+F209)/Sheet2!$B$3^2","v":18.80554210980447}]
[{"$nulls":4},{"$f":"E210+Sheet2!B$3","v":{"v":-1.7532467532467493,"d":"-1.75"}},-56.74985273678012,{"$f":"(F212-F211)/Sheet2!$B$3","v":44.495350357381206},{"$f":"(F212-2*F211+F210)/Sheet2!$B$3^2","v":18.4450035479868}]
[{"$nulls":4},{"$f":"E211+Sheet2!B$3","v":{"v":-1.7472527472527433,"d":"-1.75"}},-56.48314734003258,{"$f":"(F213-F212)/Sheet2!$B$3","v":44.60375391738275},{"$f":"(F213-2*F212+F211)/Sheet2!$B$3^2","v":18.085327260257316}]
[{"$nulls":4},{"$f":"E212+Sheet2!B$3","v":{"v":-1.7412587412587373,"d":"-1.74"}},-56.21579217169662,{"$f":"(F214-F213)/Sheet2!$B$3","v":44.71000674403935},{"$f":"(F214-2*F213+F212)/Sheet2!$B$3^2","v":17.726513247209322}]
[{"$nulls":4},{"$f":"E213+Sheet2!B$3","v":{"v":-1.7352647352647312,"d":"-1.74"}},-55.9478001232808,{"$f":"(F215-F214)/Sheet2!$B$3","v":44.81411400582587},{"$f":"(F215-2*F214+F213)/Sheet2!$B$3^2","v":17.368561508051748}]
[{"$nulls":4},{"$f":"E214+Sheet2!B$3","v":{"v":-1.7292707292707252,"d":"-1.73"}},-55.67918405531381,{"$f":"(F216-F215)/Sheet2!$B$3","v":44.91608087122667},{"$f":"(F216-2*F215+F214)/Sheet2!$B$3^2","v":17.011472044366737}]
[{"$nulls":4},{"$f":"E215+Sheet2!B$3","v":{"v":-1.7232767232767192,"d":"-1.72"}},-55.40995679734442,{"$f":"(F217-F216)/Sheet2!$B$3","v":45.015912508722536},{"$f":"(F217-2*F216+F215)/Sheet2!$B$3^2","v":16.655244855560984}]
[{"$nulls":4},{"$f":"E216+Sheet2!B$3","v":{"v":-1.7172827172827132,"d":"-1.72"}},-55.14013114794149,{"$f":"(F218-F217)/Sheet2!$B$3","v":45.113614086783606},{"$f":"(F218-2*F217+F216)/Sheet2!$B$3^2","v":16.299879939854577}]
[{"$nulls":4},{"$f":"E217+Sheet2!B$3","v":{"v":-1.7112887112887072,"d":"-1.71"}},-54.869719874694034,{"$f":"(F219-F218)/Sheet2!$B$3","v":45.20919077389659},{"$f":"(F219-2*F218+F217)/Sheet2!$B$3^2","v":15.945377300016267}]
[{"$nulls":4},{"$f":"E218+Sheet2!B$3","v":{"v":-1.7052947052947012,"d":"-1.71"}},-54.59873571421114,{"$f":"(F220-F219)/Sheet2!$B$3","v":45.302647738537544},{"$f":"(F220-2*F219+F218)/Sheet2!$B$3^2","v":15.591736934266144}]
[{"$nulls":4},{"$f":"E219+Sheet2!B$3","v":{"v":-1.6993006993006952,"d":"-1.70"}},-54.327191372122,{"$f":"(F221-F220)/Sheet2!$B$3","v":45.39399014918727},{"$f":"(F221-2*F220+F219)/Sheet2!$B$3^2","v":15.238958843395281}]
[{"$nulls":4},{"$f":"E220+Sheet2!B$3","v":{"v":-1.6933066933066891,"d":"-1.69"}},-54.055099523075924,{"$f":"(F222-F221)/Sheet2!$B$3","v":45.48322317432537},{"$f":"(F222-2*F221+F220)/Sheet2!$B$3^2","v":14.887043027205909}]
[{"$nulls":4},{"$f":"E221+Sheet2!B$3","v":{"v":-1.6873126873126831,"d":"-1.69"}},-53.782472810742306,{"$f":"(F223-F222)/Sheet2!$B$3","v":45.57035198242671},{"$f":"(F223-2*F222+F221)/Sheet2!$B$3^2","v":14.535989484906954}]
[{"$nulls":4},{"$f":"E222+Sheet2!B$3","v":{"v":-1.6813186813186771,"d":"-1.68"}},-53.50932384781068,{"$f":"(F224-F223)/Sheet2!$B$3","v":45.65538174197445},{"$f":"(F224-2*F223+F222)/Sheet2!$B$3^2","v":14.185798217882795}]
[{"$nulls":4},{"$f":"E223+Sheet2!B$3","v":{"v":-1.675324675324671,"d":"-1.68"}},-53.23566521599065,{"$f":"(F225-F224)/Sheet2!$B$3","v":45.73831762144348},{"$f":"(F225-2*F224+F223)/Sheet2!$B$3^2","v":13.836469224749052}]
[{"$nulls":4},{"$f":"E224+Sheet2!B$3","v":{"v":-1.669330669330665,"d":"-1.67"}},-52.96150946601197,{"$f":"(F226-F225)/Sheet2!$B$3","v":45.819164789319316},{"$f":"(F226-2*F225+F224)/Sheet2!$B$3^2","v":13.488002507285643}]
[{"$nulls":4},{"$f":"E225+Sheet2!B$3","v":{"v":-1.663336663336659,"d":"-1.66"}},-52.68686911762444,{"$f":"(F227-F226)/Sheet2!$B$3","v":45.89792841407565},{"$f":"(F227-2*F226+F225)/Sheet2!$B$3^2","v":13.140398063514882}]
[{"$nulls":4},{"$f":"E226+Sheet2!B$3","v":{"v":-1.657342657342653,"d":"-1.66"}},-52.41175665959801,{"$f":"(F228-F227)/Sheet2!$B$3","v":45.97461366419209},{"$f":"(F228-2*F227+F226)/Sheet2!$B$3^2","v":12.793655894425612}]
[{"$nulls":4},{"$f":"E227+Sheet2!B$3","v":{"v":-1.651348651348647,"d":"-1.65"}},-52.136184549722735,{"$f":"(F229-F228)/Sheet2!$B$3","v":46.04922570815061},{"$f":"(F229-2*F228+F227)/Sheet2!$B$3^2","v":12.447776000413368}]
[{"$nulls":4},{"$f":"E228+Sheet2!B$3","v":{"v":-1.645354645354641,"d":"-1.65"}},-51.860165214808745,{"$f":"(F230-F229)/Sheet2!$B$3","v":46.1217697144249},{"$f":"(F230-2*F229+F228)/Sheet2!$B$3^2","v":12.102758380093777}]
[{"$nulls":4},{"$f":"E229+Sheet2!B$3","v":{"v":-1.639360639360635,"d":"-1.64"}},-51.58371105068632,{"$f":"(F231-F230)/Sheet2!$B$3","v":46.19225085150049},{"$f":"(F231-2*F230+F229)/Sheet2!$B$3^2","v":11.758603035444514}]
[{"$nulls":4},{"$f":"E230+Sheet2!B$3","v":{"v":-1.633366633366629,"d":"-1.63"}},-51.306834422205796,{"$f":"(F232-F231)/Sheet2!$B$3","v":46.260674287852254},{"$f":"(F232-2*F231+F230)/Sheet2!$B$3^2","v":11.415309964685669}]
[{"$nulls":4},{"$f":"E231+Sheet2!B$3","v":{"v":-1.627372627372623,"d":"-1.63"}},-51.02954766323765,{"$f":"(F233-F232)/Sheet2!$B$3","v":46.32704519196216},{"$f":"(F233-2*F232+F231)/Sheet2!$B$3^2","v":11.072879169003853}]
[{"$nulls":4},{"$f":"E232+Sheet2!B$3","v":{"v":-1.621378621378617,"d":"-1.62"}},-50.75186307667244,{"$f":"(F234-F233)/Sheet2!$B$3","v":46.39136873230628},{"$f":"(F234-2*F233+F232)/Sheet2!$B$3^2","v":10.731310647410222}]
[{"$nulls":4},{"$f":"E233+Sheet2!B$3","v":{"v":-1.615384615384611,"d":"-1.62"}},-50.47379293442086,{"$f":"(F235-F234)/Sheet2!$B$3","v":46.453650077364216},{"$f":"(F235-2*F234+F233)/Sheet2!$B$3^2","v":10.39060440049808}]
[{"$nulls":4},{"$f":"E234+Sheet2!B$3","v":{"v":-1.609390609390605,"d":"-1.61"}},-50.19534947741368,{"$f":"(F236-F235)/Sheet2!$B$3","v":46.513894395615566},{"$f":"(F236-2*F235+F234)/Sheet2!$B$3^2","v":10.05076042826743}]
[{"$nulls":4},{"$f":"E235+Sheet2!B$3","v":{"v":-1.603396603396599,"d":"-1.60"}},-49.9165449156018,{"$f":"(F237-F236)/Sheet2!$B$3","v":46.572106855541136},{"$f":"(F237-2*F236+F235)/Sheet2!$B$3^2","v":9.71177873091604}]
[{"$nulls":4},{"$f":"E236+Sheet2!B$3","v":{"v":-1.597402597402593,"d":"-1.60"}},-49.637391427956196,{"$f":"(F238-F237)/Sheet2!$B$3","v":46.62829262561698},{"$f":"(F238-2*F237+F236)/Sheet2!$B$3^2","v":9.373659307652837}]
[{"$nulls":4},{"$f":"E237+Sheet2!B$3","v":{"v":-1.591408591408587,"d":"-1.59"}},-49.35790116246798,{"$f":"(F239-F238)/Sheet2!$B$3","v":46.68245687432507},{"$f":"(F239-2*F238+F237)/Sheet2!$B$3^2","v":9.036402159466657}]
[{"$nulls":4},{"$f":"E238+Sheet2!B$3","v":{"v":-1.585414585414581,"d":"-1.59"}},-49.07808623614835,{"$f":"(F240-F239)/Sheet2!$B$3","v":46.73460477014028},{"$f":"(F240-2*F239+F238)/Sheet2!$B$3^2","v":8.700007285170898}]
[{"$nulls":4},{"$f":"E239+Sheet2!B$3","v":{"v":-1.579420579420575,"d":"-1.58"}},-48.79795873502863,{"$f":"(F241-F240)/Sheet2!$B$3","v":46.78474148154696},{"$f":"(F241-2*F240+F239)/Sheet2!$B$3^2","v":8.3644746863477}]
[{"$nulls":4},{"$f":"E240+Sheet2!B$3","v":{"v":-1.5734265734265689,"d":"-1.57"}},-48.517530714160216,{"$f":"(F242-F241)/Sheet2!$B$3","v":46.832872177017606},{"$f":"(F242-2*F241+F240)/Sheet2!$B$3^2","v":8.029804361019387}]
[{"$nulls":4},{"$f":"E241+Sheet2!B$3","v":{"v":-1.5674325674325629,"d":"-1.57"}},-48.236814197614656,{"$f":"(F243-F242)/Sheet2!$B$3","v":46.87900202504012},{"$f":"(F243-2*F242+F241)/Sheet2!$B$3^2","v":7.695996311756938}]
[{"$nulls":4},{"$f":"E242+Sheet2!B$3","v":{"v":-1.5614385614385569,"d":"-1.56"}},-47.955821178483546,{"$f":"(F244-F243)/Sheet2!$B$3","v":46.923136194087014},{"$f":"(F244-2*F243+F242)/Sheet2!$B$3^2","v":7.363050535989372}]
[{"$nulls":4},{"$f":"E243+Sheet2!B$3","v":{"v":-1.5554445554445508,"d":"-1.56"}},-47.67456361887863,{"$f":"(F245-F244)/Sheet2!$B$3","v":46.965279852637885},{"$f":"(F245-2*F244+F243)/Sheet2!$B$3^2","v":7.0309670349032976}]
[{"$nulls":4},{"$f":"E244+Sheet2!B$3","v":{"v":-1.5494505494505448,"d":"-1.55"}},-47.39305344993175,{"$f":"(F246-F245)/Sheet2!$B$3","v":47.00543816917234},{"$f":"(F246-2*F245+F244)/Sheet2!$B$3^2","v":6.699745808498713}]
[{"$nulls":4},{"$f":"E245+Sheet2!B$3","v":{"v":-1.5434565434565388,"d":"-1.54"}},-47.11130257179485,{"$f":"(F247-F246)/Sheet2!$B$3","v":47.04361631217118},{"$f":"(F247-2*F246+F245)/Sheet2!$B$3^2","v":6.369386856973387}]
[{"$nulls":4},{"$f":"E246+Sheet2!B$3","v":{"v":-1.5374625374625328,"d":"-1.54"}},-46.82932285363998,{"$f":"(F248-F247)/Sheet2!$B$3","v":47.079819450114016},{"$f":"(F248-2*F247+F246)/Sheet2!$B$3^2","v":6.039890180129552}]
[{"$nulls":4},{"$f":"E247+Sheet2!B$3","v":{"v":-1.5314685314685268,"d":"-1.53"}},-46.547126133659276,{"$f":"(F249-F248)/Sheet2!$B$3","v":47.11405275147216},{"$f":"(F249-2*F248+F247)/Sheet2!$B$3^2","v":5.711255776582831}]
[{"$nulls":4},{"$f":"E248+Sheet2!B$3","v":{"v":-1.5254745254745208,"d":"-1.53"}},-46.26472421906504,{"$f":"(F250-F249)/Sheet2!$B$3","v":47.14632138473469},{"$f":"(F250-2*F249+F248)/Sheet2!$B$3^2","v":5.383483649299745}]
[{"$nulls":4},{"$f":"E249+Sheet2!B$3","v":{"v":-1.5194805194805148,"d":"-1.52"}},-45.982128886089605,{"$f":"(F251-F250)/Sheet2!$B$3","v":47.17663051837768},{"$f":"(F251-2*F250+F249)/Sheet2!$B$3^2","v":5.0565737961048445}]
[{"$nulls":4},{"$f":"E250+Sheet2!B$3","v":{"v":-1.5134865134865088,"d":"-1.51"}},-45.69935187998544,{"$f":"(F252-F251)/Sheet2!$B$3","v":47.2049853208748},{"$f":"(F252-2*F251+F250)/Sheet2!$B$3^2","v":4.730526216602595}]
[{"$nulls":4},{"$f":"E251+Sheet2!B$3","v":{"v":-1.5074925074925027,"d":"-1.51"}},-45.416404915025154,{"$f":"(F253-F252)/Sheet2!$B$3","v":47.23139096071395},{"$f":"(F253-2*F252+F251)/Sheet2!$B$3^2","v":4.405340913166212}]
[{"$nulls":4},{"$f":"E252+Sheet2!B$3","v":{"v":-1.5014985014984967,"d":"-1.50"}},-45.133299674501394,{"$f":"(F254-F253)/Sheet2!$B$3","v":47.25585260637002},{"$f":"(F254-2*F253+F252)/Sheet2!$B$3^2","v":4.081017883620247}]
[{"$nulls":4},{"$f":"E253+Sheet2!B$3","v":{"v":-1.4955044955044907,"d":"-1.50"}},-44.85004781072695,{"$f":"(F255-F254)/Sheet2!$B$3","v":47.278375426314305},{"$f":"(F255-2*F254+F253)/Sheet2!$B$3^2","v":3.757557127371398}]
[{"$nulls":4},{"$f":"E254+Sheet2!B$3","v":{"v":-1.4895104895104847,"d":"-1.49"}},-44.566660945034755,{"$f":"(F256-F255)/Sheet2!$B$3","v":47.29896458903946},{"$f":"(F256-2*F255+F254)/Sheet2!$B$3^2","v":3.4349586479794865}]
[{"$nulls":4},{"$f":"E255+Sheet2!B$3","v":{"v":-1.4835164835164787,"d":"-1.48"}},-44.283150667777775,{"$f":"(F257-F256)/Sheet2!$B$3","v":47.31762526302034},{"$f":"(F257-2*F256+F255)/Sheet2!$B$3^2","v":3.1132224424779933}]
[{"$nulls":4},{"$f":"E256+Sheet2!B$3","v":{"v":-1.4775224775224727,"d":"-1.48"}},-43.9995285383291,{"$f":"(F258-F257)/Sheet2!$B$3","v":47.33436261672709},{"$f":"(F258-2*F257+F256)/Sheet2!$B$3^2","v":2.792348510075848}]
[{"$nulls":4},{"$f":"E257+Sheet2!B$3","v":{"v":-1.4715284715284667,"d":"-1.47"}},-43.71580608508199,{"$f":"(F259-F258)/Sheet2!$B$3","v":47.349181818648795},{"$f":"(F259-2*F258+F257)/Sheet2!$B$3^2","v":2.472336853937336}]
[{"$nulls":4},{"$f":"E258+Sheet2!B$3","v":{"v":-1.4655344655344607,"d":"-1.47"}},{"$f":"x^4-3*x^3-25*x^2+6*x+5","v":-43.431994805449726},{"$f":"(F260-F259)/Sheet2!$B$3","v":47.3620880372615},{"$f":"(F260-2*F259+F258)/Sheet2!$B$3^2","v":2.1531874718870103}]
[{"$nulls":4},{"$f":"E259+Sheet2!B$3","v":{"v":-1.4595404595404546,"d":"-1.46"}},-43.14810616586574,{"$f":"(F261-F260)/Sheet2!$B$3","v":47.37308644104364},{"$f":"(F261-2*F260+F259)/Sheet2!$B$3^2","v":1.8349003643204076}]
[{"$nulls":4},{"$f":"E260+Sheet2!B$3","v":{"v":-1.4535464535464486,"d":"-1.45"}},-42.86415160178356,{"$f":"(F262-F261)/Sheet2!$B$3","v":47.382182198477196},{"$f":"(F262-2*F261+F260)/Sheet2!$B$3^2","v":1.5174755318308313}]
[{"$nulls":4},{"$f":"E261+Sheet2!B$3","v":{"v":-1.4475524475524426,"d":"-1.45"}},-42.580142517676805,{"$f":"(F263-F262)/Sheet2!$B$3","v":47.389380478037026},{"$f":"(F263-2*F262+F261)/Sheet2!$B$3^2","v":1.2009129732316737}]
[{"$nulls":4},{"$f":"E262+Sheet2!B$3","v":{"v":-1.4415584415584366,"d":"-1.44"}},-42.29609028703922,{"$f":"(F264-F263)/Sheet2!$B$3","v":47.39468644819919},{"$f":"(F264-2*F263+F262)/Sheet2!$B$3^2","v":0.8852126887207028}]
[{"$nulls":4},{"$f":"E263+Sheet2!B$3","v":{"v":-1.4355644355644306,"d":"-1.44"}},-42.01200625238468,{"$f":"(F265-F264)/Sheet2!$B$3","v":47.398105277455144},{"$f":"(F265-2*F264+F263)/Sheet2!$B$3^2","v":0.5703746808689016}]
[{"$nulls":4},{"$f":"E264+Sheet2!B$3","v":{"v":-1.4295704295704246,"d":"-1.43"}},-41.72790172524709,{"$f":"(F266-F265)/Sheet2!$B$3","v":47.39964213427147},{"$f":"(F266-2*F265+F264)/Sheet2!$B$3^2","v":0.25639894552314385}]
[{"$nulls":4},{"$f":"E265+Sheet2!B$3","v":{"v":-1.4235764235764186,"d":"-1.42"}},-41.443787986180524,{"$f":"(F267-F266)/Sheet2!$B$3","v":47.399302187132506},{"$f":"(F267-2*F266+F265)/Sheet2!$B$3^2","v":-0.056714514350051815}]
[{"$nulls":4},{"$f":"E266+Sheet2!B$3","v":{"v":-1.4175824175824125,"d":"-1.42"}},-41.15967628475915,{"$f":"(F268-F267)/Sheet2!$B$3","v":47.39709060451787},{"$f":"(F268-2*F267+F266)/Sheet2!$B$3^2","v":-0.368965699541757}]
[{"$nulls":4},{"$f":"E267+Sheet2!B$3","v":{"v":-1.4115884115884065,"d":"-1.41"}},-40.875577839577225,{"$f":"(F269-F268)/Sheet2!$B$3","v":47.39301255490361},{"$f":"(F269-2*F268+F267)/Sheet2!$B$3^2","v":-0.6803546106452755}]
[{"$nulls":4},{"$f":"E268+Sheet2!B$3","v":{"v":-1.4055944055944005,"d":"-1.41"}},-40.59150383824913,{"$f":"(F270-F269)/Sheet2!$B$3","v":47.38707320677527},{"$f":"(F270-2*F269+F268)/Sheet2!$B$3^2","v":-0.9908812460784638}]
[{"$nulls":4},{"$f":"E269+Sheet2!B$3","v":{"v":-1.3996003996003945,"d":"-1.40"}},-40.30746543740932,{"$f":"(F271-F270)/Sheet2!$B$3","v":47.3792777286006},{"$f":"(F271-2*F270+F269)/Sheet2!$B$3^2","v":-1.3005456088078409}]
[{"$nulls":4},{"$f":"E270+Sheet2!B$3","v":{"v":-1.3936063936063885,"d":"-1.39"}},-40.02347376271241,{"$f":"(F272-F271)/Sheet2!$B$3","v":47.369631288871055},{"$f":"(F272-2*F271+F270)/Sheet2!$B$3^2","v":-1.6093476948780483}]
[{"$nulls":4},{"$f":"E271+Sheet2!B$3","v":{"v":-1.3876123876123825,"d":"-1.39"}},-39.739539908833066,{"$f":"(F273-F272)/Sheet2!$B$3","v":47.35813905605678},{"$f":"(F273-2*F272+F271)/Sheet2!$B$3^2","v":-1.9172875078489087}]
[{"$nulls":4},{"$f":"E272+Sheet2!B$3","v":{"v":-1.3816183816183765,"d":"-1.38"}},-39.45567493946609,{"$f":"(F274-F273)/Sheet2!$B$3","v":47.34480619863974},{"$f":"(F274-2*F273+F272)/Sheet2!$B$3^2","v":-2.2243650457427426}]
[{"$nulls":4},{"$f":"E273+Sheet2!B$3","v":{"v":-1.3756243756243705,"d":"-1.38"}},-39.171889887326394,{"$f":"(F275-F274)/Sheet2!$B$3","v":47.32963788510192},{"$f":"(F275-2*F274+F273)/Sheet2!$B$3^2","v":-2.5305803085595504}]
[{"$nulls":4},{"$f":"E274+Sheet2!B$3","v":{"v":-1.3696303696303644,"d":"-1.37"}},-38.88819575414896,{"$f":"(F276-F275)/Sheet2!$B$3","v":47.31263928391819},{"$f":"(F276-2*F275+F274)/Sheet2!$B$3^2","v":-2.8359332974859393}]
[{"$nulls":4},{"$f":"E275+Sheet2!B$3","v":{"v":-1.3636363636363584,"d":"-1.36"}},-38.60460351068891,{"$f":"(F277-F276)/Sheet2!$B$3","v":47.29381556356815},{"$f":"(F277-2*F276+F275)/Sheet2!$B$3^2","v":-3.1404240117308375}]
[{"$nulls":4},{"$f":"E276+Sheet2!B$3","v":{"v":-1.3576423576423524,"d":"-1.36"}},-38.32112409672147,{"$f":"(F278-F277)/Sheet2!$B$3","v":47.273171892533796},{"$f":"(F278-2*F277+F276)/Sheet2!$B$3^2","v":-3.4440524508987096}]
[{"$nulls":4},{"$f":"E277+Sheet2!B$3","v":{"v":-1.3516483516483464,"d":"-1.35"}},-38.037768421041946,{"$f":"(F279-F278)/Sheet2!$B$3","v":47.25071343928998},{"$f":"(F279-2*F278+F277)/Sheet2!$B$3^2","v":-3.7468186161761627}]
[{"$nulls":4},{"$f":"E278+Sheet2!B$3","v":{"v":-1.3456543456543404,"d":"-1.35"}},-37.75454736146578,{"$f":"(F280-F279)/Sheet2!$B$3","v":47.22644537232343},{"$f":"(F280-2*F279+F278)/Sheet2!$B$3^2","v":-4.048722505585518}]
[{"$nulls":4},{"$f":"E279+Sheet2!B$3","v":{"v":-1.3396603396603344,"d":"-1.34"}},-37.47147176482848,{"$f":"(F281-F280)/Sheet2!$B$3","v":47.20037286009954},{"$f":"(F281-2*F280+F279)/Sheet2!$B$3^2","v":-4.349764122686598}]
[{"$nulls":4},{"$f":"E280+Sheet2!B$3","v":{"v":-1.3336663336663284,"d":"-1.33"}},-37.188552446985724,{"$f":"(F282-F281)/Sheet2!$B$3","v":47.17250107111094},{"$f":"(F282-2*F281+F280)/Sheet2!$B$3^2","v":-4.64994346293074}]
[{"$nulls":4},{"$f":"E281+Sheet2!B$3","v":{"v":-1.3276723276723223,"d":"-1.33"}},-36.90580019281323,{"$f":"(F283-F282)/Sheet2!$B$3","v":47.14283517383014},{"$f":"(F283-2*F282+F281)/Sheet2!$B$3^2","v":-4.949260529679999}]
[{"$nulls":4},{"$f":"E282+Sheet2!B$3","v":{"v":-1.3216783216783163,"d":"-1.32"}},-36.62322575620686,{"$f":"(F284-F283)/Sheet2!$B$3","v":47.11138033673794},{"$f":"(F284-2*F283+F282)/Sheet2!$B$3^2","v":-5.24771532155}]
[{"$nulls":4},{"$f":"E283+Sheet2!B$3","v":{"v":-1.3156843156843103,"d":"-1.32"}},-36.34083986008255,{"$f":"(F285-F284)/Sheet2!$B$3","v":47.07814172831156},{"$f":"(F285-2*F284+F283)/Sheet2!$B$3^2","v":-5.545307839134046}]
[{"$nulls":4},{"$f":"E284+Sheet2!B$3","v":{"v":-1.3096903096903043,"d":"-1.31"}},-36.05865319637639,{"$f":"(F286-F285)/Sheet2!$B$3","v":47.043124517031806},{"$f":"(F286-2*F285+F284)/Sheet2!$B$3^2","v":-5.842038081838834}]
[{"$nulls":4},{"$f":"E285+Sheet2!B$3","v":{"v":-1.3036963036962983,"d":"-1.30"}},-35.77667642604453,{"$f":"(F287-F286)/Sheet2!$B$3","v":47.00633387137829},{"$f":"(F287-2*F286+F285)/Sheet2!$B$3^2","v":-6.137906049862131}]
[{"$nulls":4},{"$f":"E286+Sheet2!B$3","v":{"v":-1.2977022977022923,"d":"-1.30"}},-35.49492017906324,{"$f":"(F288-F287)/Sheet2!$B$3","v":46.96777495982824},{"$f":"(F288-2*F287+F286)/Sheet2!$B$3^2","v":-6.432911743599474}]
[{"$nulls":4},{"$f":"E287+Sheet2!B$3","v":{"v":-1.2917082917082863,"d":"-1.29"}},-35.21339505442891,{"$f":"(F289-F288)/Sheet2!$B$3","v":46.92745295086127},{"$f":"(F289-2*F288+F287)/Sheet2!$B$3^2","v":-6.7270551626553265}]
[{"$nulls":4},{"$f":"E288+Sheet2!B$3","v":{"v":-1.2857142857142803,"d":"-1.29"}},-34.93211162015801,{"$f":"(F290-F289)/Sheet2!$B$3","v":46.885373012957004},{"$f":"(F290-2*F289+F288)/Sheet2!$B$3^2","v":-7.020336307029688}]
[{"$nulls":4},{"$f":"E289+Sheet2!B$3","v":{"v":-1.2797202797202742,"d":"-1.28"}},-34.65108041328714,{"$f":"(F291-F290)/Sheet2!$B$3","v":46.84154031459384},{"$f":"(F291-2*F290+F289)/Sheet2!$B$3^2","v":-7.312755176920327}]
[{"$nulls":4},{"$f":"E290+Sheet2!B$3","v":{"v":-1.2737262737262682,"d":"-1.27"}},-34.37031193987299,{"$f":"(F292-F291)/Sheet2!$B$3","v":46.79596002425141},{"$f":"(F292-2*F291+F290)/Sheet2!$B$3^2","v":-7.604311772129476}]
[{"$nulls":4},{"$f":"E291+Sheet2!B$3","v":{"v":-1.2677322677322622,"d":"-1.27"}},-34.08981667499236,{"$f":"(F293-F292)/Sheet2!$B$3","v":46.74863731040812},{"$f":"(F293-2*F292+F291)/Sheet2!$B$3^2","v":-7.895006092854902}]
[{"$nulls":4},{"$f":"E292+Sheet2!B$3","v":{"v":-1.2617382617382562,"d":"-1.26"}},-33.809605062742165,{"$f":"(F294-F293)/Sheet2!$B$3","v":46.69957734154478},{"$f":"(F294-2*F293+F292)/Sheet2!$B$3^2","v":-8.18483813870107}]
[{"$nulls":4},{"$f":"E293+Sheet2!B$3","v":{"v":-1.2557442557442502,"d":"-1.26"}},-33.5296875162394,{"$f":"(F295-F294)/Sheet2!$B$3","v":46.64878528613506},{"$f":"(F295-2*F294+F293)/Sheet2!$B$3^2","v":-8.473807910854587}]
[{"$nulls":4},{"$f":"E294+Sheet2!B$3","v":{"v":-1.2497502497502442,"d":"-1.25"}},-33.25007441762121,{"$f":"(F296-F295)/Sheet2!$B$3","v":46.596266312668064},{"$f":"(F296-2*F295+F294)/Sheet2!$B$3^2","v":-8.76191540674447}]
[{"$nulls":4},{"$f":"E295+Sheet2!B$3","v":{"v":-1.2437562437562382,"d":"-1.24"}},-32.970776118044775,{"$f":"(F297-F296)/Sheet2!$B$3","v":46.54202558961272},{"$f":"(F297-2*F296+F295)/Sheet2!$B$3^2","v":-9.049160629732773}]
[{"$nulls":4},{"$f":"E296+Sheet2!B$3","v":{"v":-1.2377622377622322,"d":"-1.24"}},-32.691802937687456,{"$f":"(F298-F297)/Sheet2!$B$3","v":46.486068285452205},{"$f":"(F298-2*F297+F296)/Sheet2!$B$3^2","v":-9.335543577446282}]
[{"$nulls":4},{"$f":"E297+Sheet2!B$3","v":{"v":-1.2317682317682261,"d":"-1.23"}},-32.41316516574668,{"$f":"(F299-F298)/Sheet2!$B$3","v":46.4283995686673},{"$f":"(F299-2*F298+F297)/Sheet2!$B$3^2","v":-9.621064250280535}]
[{"$nulls":4},{"$f":"E298+Sheet2!B$3","v":{"v":-1.2257742257742201,"d":"-1.23"}},-32.134873060439986,{"$f":"(F300-F299)/Sheet2!$B$3","v":46.36902460773289},{"$f":"(F300-2*F299+F298)/Sheet2!$B$3^2","v":-9.905722649224366}]
[{"$nulls":4},{"$f":"E299+Sheet2!B$3","v":{"v":-1.2197802197802141,"d":"-1.22"}},-31.856936849005024,{"$f":"(F301-F300)/Sheet2!$B$3","v":46.3079485711345},{"$f":"(F301-2*F300+F299)/Sheet2!$B$3^2","v":-10.189518772497868}]
[{"$nulls":4},{"$f":"E300+Sheet2!B$3","v":{"v":-1.213786213786208,"d":"-1.21"}},-31.579366727699522,{"$f":"(F302-F301)/Sheet2!$B$3","v":46.24517662734226},{"$f":"(F302-2*F301+F300)/Sheet2!$B$3^2","v":-10.472452622672023}]
[{"$nulls":4},{"$f":"E301+Sheet2!B$3","v":{"v":-1.207792207792202,"d":"-1.21"}},-31.302172861801367,{"$f":"(F303-F302)/Sheet2!$B$3","v":46.180713944841706},{"$f":"(F303-2*F302+F301)/Sheet2!$B$3^2","v":-10.754524197175849}]
[{"$nulls":4},{"$f":"E302+Sheet2!B$3","v":{"v":-1.201798201798196,"d":"-1.20"}},-31.02536538560851,{"$f":"(F304-F303)/Sheet2!$B$3","v":46.11456569211482},{"$f":"(F304-2*F303+F302)/Sheet2!$B$3^2","v":-11.035733496602647}]
[{"$nulls":4},{"$f":"E303+Sheet2!B$3","v":{"v":-1.19580419580419,"d":"-1.20"}},-30.74895440243899,{"$f":"(F305-F304)/Sheet2!$B$3","v":46.04673703762817},{"$f":"(F305-2*F304+F303)/Sheet2!$B$3^2","v":-11.316080523523404}]
[{"$nulls":4},{"$f":"E304+Sheet2!B$3","v":{"v":-1.189810189810184,"d":"-1.19"}},-30.47294998463103,{"$f":"(F306-F305)/Sheet2!$B$3","v":45.977233149873214},{"$f":"(F306-2*F305+F304)/Sheet2!$B$3^2","v":-11.595565273784988}]
[{"$nulls":4},{"$f":"E305+Sheet2!B$3","v":{"v":-1.183816183816178,"d":"-1.18"}},-30.197362173542878,{"$f":"(F307-F306)/Sheet2!$B$3","v":45.90605919732482},{"$f":"(F307-2*F306+F305)/Sheet2!$B$3^2","v":-11.874187750156155}]
[{"$nulls":4},{"$f":"E306+Sheet2!B$3","v":{"v":-1.177822177822172,"d":"-1.18"}},-29.92220097955292,{"$f":"(F308-F307)/Sheet2!$B$3","v":45.83322034846024},{"$f":"(F308-2*F307+F306)/Sheet2!$B$3^2","v":-12.151947952241368}]
[{"$nulls":4},{"$f":"E307+Sheet2!B$3","v":{"v":-1.171828171828166,"d":"-1.17"}},-29.64747638205965,{"$f":"(F309-F308)/Sheet2!$B$3","v":45.758721771761444},{"$f":"(F309-2*F308+F307)/Sheet2!$B$3^2","v":-12.428845879249554}]
[{"$nulls":4},{"$f":"E308+Sheet2!B$3","v":{"v":-1.16583416583416,"d":"-1.17"}},-29.37319832948166,{"$f":"(F310-F309)/Sheet2!$B$3","v":45.6825686357033},{"$f":"(F310-2*F309+F308)/Sheet2!$B$3^2","v":-12.70488153236732}]
[{"$nulls":4},{"$f":"E309+Sheet2!B$3","v":{"v":-1.159840159840154,"d":"-1.16"}},-29.099376739257664,{"$f":"(F311-F310)/Sheet2!$B$3","v":45.60476610877252},{"$f":"(F311-2*F310+F309)/Sheet2!$B$3^2","v":-12.98005490961699}]
[{"$nulls":4},{"$f":"E310+Sheet2!B$3","v":{"v":-1.153846153846148,"d":"-1.15"}},-28.82602149784644,{"$f":"(F312-F311)/Sheet2!$B$3","v":45.525319359436885},{"$f":"(F312-2*F311+F310)/Sheet2!$B$3^2","v":-13.254366014162848}]
[{"$nulls":4},{"$f":"E311+Sheet2!B$3","v":{"v":-1.147852147852142,"d":"-1.15"}},-28.55314246072694,{"$f":"(F313-F312)/Sheet2!$B$3","v":45.44423355618783},{"$f":"(F313-2*F312+F311)/Sheet2!$B$3^2","v":-13.527814842049535}]
[{"$nulls":4},{"$f":"E312+Sheet2!B$3","v":{"v":-1.141858141858136,"d":"-1.14"}},-28.28074945239814,{"$f":"(F314-F313)/Sheet2!$B$3","v":45.36151386749432},{"$f":"(F314-2*F313+F312)/Sheet2!$B$3^2","v":-13.800401397034644}]
[{"$nulls":4},{"$f":"E313+Sheet2!B$3","v":{"v":-1.13586413586413,"d":"-1.14"}},-28.008852266379193,{"$f":"(F315-F314)/Sheet2!$B$3","v":45.2771654618395},{"$f":"(F315-2*F314+F313)/Sheet2!$B$3^2","v":-14.07212567674496}]
[{"$nulls":4},{"$f":"E314+Sheet2!B$3","v":{"v":-1.129870129870124,"d":"-1.13"}},-27.737460665209326,{"$f":"(F316-F315)/Sheet2!$B$3","v":45.19119350770656},{"$f":"(F316-2*F315+F314)/Sheet2!$B$3^2","v":-14.34298768118048}]
[{"$nulls":4},{"$f":"E315+Sheet2!B$3","v":{"v":-1.123876123876118,"d":"-1.12"}},-27.46658438044785,{"$f":"(F317-F316)/Sheet2!$B$3","v":45.103603173565595},{"$f":"(F317-2*F316+F315)/Sheet2!$B$3^2","v":-14.612987412516654}]
[{"$nulls":4},{"$f":"E316+Sheet2!B$3","v":{"v":-1.117882117882112,"d":"-1.12"}},-27.19623311267423,{"$f":"(F318-F317)/Sheet2!$B$3","v":45.01439962790335},{"$f":"(F318-2*F317+F316)/Sheet2!$B$3^2","v":-14.882124867984729}]
[{"$nulls":4},{"$f":"E317+Sheet2!B$3","v":{"v":-1.1118881118881059,"d":"-1.11"}},-26.926416531487995,{"$f":"(F319-F318)/Sheet2!$B$3","v":44.923588039194684},{"$f":"(F319-2*F318+F317)/Sheet2!$B$3^2","v":-15.150400049562386}]
[{"$nulls":4},{"$f":"E318+Sheet2!B$3","v":{"v":-1.1058941058940999,"d":"-1.11"}},-26.657144275508806,{"$f":"(F320-F319)/Sheet2!$B$3","v":44.8311735759198},{"$f":"(F320-2*F319+F318)/Sheet2!$B$3^2","v":-15.417812956359667}]
[{"$nulls":4},{"$f":"E319+Sheet2!B$3","v":{"v":-1.0999000999000939,"d":"-1.10"}},-26.38842595237642,{"$f":"(F321-F320)/Sheet2!$B$3","v":44.737161406559494},{"$f":"(F321-2*F320+F319)/Sheet2!$B$3^2","v":-15.68436358827769}]
[{"$nulls":4},{"$f":"E320+Sheet2!B$3","v":{"v":-1.0939060939060878,"d":"-1.09"}},-26.120271138750688,{"$f":"(F322-F321)/Sheet2!$B$3","v":44.64155669958982},{"$f":"(F322-2*F321+F320)/Sheet2!$B$3^2","v":-15.950051946107529}]
[{"$nulls":4},{"$f":"E321+Sheet2!B$3","v":{"v":-1.0879120879120818,"d":"-1.09"}},-25.85268938031159,{"$f":"(F323-F322)/Sheet2!$B$3","v":44.54436462349038},{"$f":"(F323-2*F322+F321)/Sheet2!$B$3^2","v":-16.214878029255875}]
[{"$nulls":4},{"$f":"E322+Sheet2!B$3","v":{"v":-1.0819180819180758,"d":"-1.08"}},{"$f":"x^4-3*x^3-25*x^2+6*x+5","v":-25.5856901917592},{"$f":"(F324-F323)/Sheet2!$B$3","v":44.445590346743764},{"$f":"(F324-2*F323+F322)/Sheet2!$B$3^2","v":-16.478841837228313}]
[{"$nulls":4},{"$f":"E323+Sheet2!B$3","v":{"v":-1.0759240759240698,"d":"-1.08"}},-25.31928305681368,{"$f":"(F325-F324)/Sheet2!$B$3","v":44.34523903782363},{"$f":"(F325-2*F324+F323)/Sheet2!$B$3^2","v":-16.741943371508096}]
[{"$nulls":4},{"$f":"E324+Sheet2!B$3","v":{"v":-1.0699300699300638,"d":"-1.07"}},-25.053477428215338,{"$f":"(F326-F325)/Sheet2!$B$3","v":44.24331586521435},{"$f":"(F326-2*F325+F324)/Sheet2!$B$3^2","v":-17.00418263031532}]
[{"$nulls":4},{"$f":"E325+Sheet2!B$3","v":{"v":-1.0639360639360578,"d":"-1.06"}},-24.788282727724543,{"$f":"(F327-F326)/Sheet2!$B$3","v":44.13982599739019},{"$f":"(F327-2*F326+F325)/Sheet2!$B$3^2","v":-17.265559615331007}]
[{"$nulls":4},{"$f":"E326+Sheet2!B$3","v":{"v":-1.0579420579420518,"d":"-1.06"}},-24.523708346121804,{"$f":"(F328-F327)/Sheet2!$B$3","v":44.034774602832535},{"$f":"(F328-2*F327+F326)/Sheet2!$B$3^2","v":-17.526074325368555}]
[{"$nulls":4},{"$f":"E327+Sheet2!B$3","v":{"v":-1.0519480519480457,"d":"-1.05"}},-24.259763643207723,{"$f":"(F329-F328)/Sheet2!$B$3","v":43.92816685002218},{"$f":"(F329-2*F328+F327)/Sheet2!$B$3^2","v":-17.785726760526842}]
[{"$nulls":4},{"$f":"E328+Sheet2!B$3","v":{"v":-1.0459540459540397,"d":"-1.05"}},-23.996457947802995,{"$f":"(F330-F329)/Sheet2!$B$3","v":43.82000790743341},{"$f":"(F330-2*F329+F328)/Sheet2!$B$3^2","v":-18.044516921893592}]
[{"$nulls":4},{"$f":"E329+Sheet2!B$3","v":{"v":-1.0399600399600337,"d":"-1.04"}},-23.73380055774845,{"$f":"(F331-F330)/Sheet2!$B$3","v":43.710302943549976},{"$f":"(F331-2*F330+F329)/Sheet2!$B$3^2","v":-18.30244480788667}]
[{"$nulls":4},{"$f":"E330+Sheet2!B$3","v":{"v":-1.0339660339660277,"d":"-1.03"}},-23.471800739904992,{"$f":"(F332-F331)/Sheet2!$B$3","v":43.59905712684911},{"$f":"(F332-2*F331+F330)/Sheet2!$B$3^2","v":-18.55951041959379}]
[{"$nulls":4},{"$f":"E331+Sheet2!B$3","v":{"v":-1.0279720279720217,"d":"-1.03"}},-23.21046773015365,{"$f":"(F333-F332)/Sheet2!$B$3","v":43.48627562580925},{"$f":"(F333-2*F332+F331)/Sheet2!$B$3^2","v":-18.815713756817185}]
[{"$nulls":4},{"$f":"E332+Sheet2!B$3","v":{"v":-1.0219780219780157,"d":"-1.02"}},-22.94981073339555,{"$f":"(F334-F333)/Sheet2!$B$3","v":43.37196360891118},{"$f":"(F334-2*F333+F332)/Sheet2!$B$3^2","v":-19.071054819161326}]
[{"$nulls":4},{"$f":"E333+Sheet2!B$3","v":{"v":-1.0159840159840097,"d":"-1.02"}},-22.689838923551928,{"$f":"(F335-F334)/Sheet2!$B$3","v":43.256126244630366},{"$f":"(F335-2*F334+F333)/Sheet2!$B$3^2","v":-19.32553360751616}]
[{"$nulls":4},{"$f":"E334+Sheet2!B$3","v":{"v":-1.0099900099900037,"d":"-1.01"}},-22.430561443564134,{"$f":"(F336-F335)/Sheet2!$B$3","v":43.13876870145056},{"$f":"(F336-2*F335+F334)/Sheet2!$B$3^2","v":-19.579150120497317}]
[{"$nulls":4},{"$f":"E335+Sheet2!B$3","v":{"v":-1.0039960039959976,"d":"-1.00"}},-22.1719874053936,{"$f":"(F337-F336)/Sheet2!$B$3","v":43.019896147849},{"$f":"(F337-2*F336+F335)/Sheet2!$B$3^2","v":-19.83190435919252}]
[{"$nulls":4},{"$f":"E336+Sheet2!B$3","v":{"v":-0.9980019980019916,"d":"-1.00"}},-21.91412589002188,{"$f":"(F338-F337)/Sheet2!$B$3","v":42.89951375230235},{"$f":"(F338-2*F337+F336)/Sheet2!$B$3^2","v":-20.083796323700653}]
[{"$nulls":4},{"$f":"E337+Sheet2!B$3","v":{"v":-0.9920079920079856,"d":"-0.99"}},-21.656985947450636,{"$f":"(F339-F338)/Sheet2!$B$3","v":42.77762668329198},{"$f":"(F339-2*F338+F337)/Sheet2!$B$3^2","v":-20.334826013230646}]
[{"$nulls":4},{"$f":"E338+Sheet2!B$3","v":{"v":-0.9860139860139796,"d":"-0.99"}},-21.400576596701633,{"$f":"(F340-F339)/Sheet2!$B$3","v":42.65424010929809},{"$f":"(F340-2*F339+F338)/Sheet2!$B$3^2","v":-20.58499342798026}]
[{"$nulls":4},{"$f":"E339+Sheet2!B$3","v":{"v":-0.9800199800199736,"d":"-0.98"}},-21.14490682581673,{"$f":"(F341-F340)/Sheet2!$B$3","v":42.529359198795554},{"$f":"(F341-2*F340+F339)/Sheet2!$B$3^2","v":-20.834298568839458}]
[{"$nulls":4},{"$f":"E340+Sheet2!B$3","v":{"v":-0.9740259740259676,"d":"-0.97"}},-20.889985591857915,{"$f":"(F342-F341)/Sheet2!$B$3","v":42.40298912026991},{"$f":"(F342-2*F341+F340)/Sheet2!$B$3^2","v":-21.082741434028325}]
[{"$nulls":4},{"$f":"E341+Sheet2!B$3","v":{"v":-0.9680319680319616,"d":"-0.97"}},-20.635821820907246,{"$f":"(F343-F342)/Sheet2!$B$3","v":42.27513504219306},{"$f":"(F343-2*F342+F341)/Sheet2!$B$3^2","v":-21.330322025821193}]
[{"$nulls":4},{"$f":"E342+Sheet2!B$3","v":{"v":-0.9620379620379556,"d":"-0.96"}},-20.382424408066928,{"$f":"(F344-F343)/Sheet2!$B$3","v":42.145802133048164},{"$f":"(F344-2*F343+F342)/Sheet2!$B$3^2","v":-21.577040342339266}]
[{"$nulls":4},{"$f":"E343+Sheet2!B$3","v":{"v":-0.9560439560439495,"d":"-0.96"}},-20.129802217459247,{"$f":"(F345-F344)/Sheet2!$B$3","v":42.01499556131485},{"$f":"(F345-2*F344+F343)/Sheet2!$B$3^2","v":-21.82289638417585}]
[{"$nulls":4},{"$f":"E344+Sheet2!B$3","v":{"v":-0.9500499500499435,"d":"-0.95"}},-19.87796408222659,{"$f":"(F346-F345)/Sheet2!$B$3","v":41.88272049546974},{"$f":"(F346-2*F345+F344)/Sheet2!$B$3^2","v":-22.067890151825363}]
[{"$nulls":4},{"$f":"E345+Sheet2!B$3","v":{"v":-0.9440559440559375,"d":"-0.94"}},-19.626918804531467,{"$f":"(F347-F346)/Sheet2!$B$3","v":41.748982103991864},{"$f":"(F347-2*F346+F345)/Sheet2!$B$3^2","v":-22.31202164489227}]
[{"$nulls":4},{"$f":"E346+Sheet2!B$3","v":{"v":-0.9380619380619315,"d":"-0.94"}},-19.37667515555649,{"$f":"(F348-F347)/Sheet2!$B$3","v":41.61378555536379},{"$f":"(F348-2*F347+F346)/Sheet2!$B$3^2","v":-22.555290862783263}]
[{"$nulls":4},{"$f":"E347+Sheet2!B$3","v":{"v":-0.9320679320679255,"d":"-0.93"}},-19.12724187550436,{"$f":"(F349-F348)/Sheet2!$B$3","v":41.47713601806039},{"$f":"(F349-2*F348+F347)/Sheet2!$B$3^2","v":-22.79769780678384}]
[{"$nulls":4},{"$f":"E348+Sheet2!B$3","v":{"v":-0.9260739260739195,"d":"-0.93"}},-18.878627673597904,{"$f":"(F350-F349)/Sheet2!$B$3","v":41.339038660563645},{"$f":"(F350-2*F349+F348)/Sheet2!$B$3^2","v":-23.039242475707393}]
[{"$nulls":4},{"$f":"E349+Sheet2!B$3","v":{"v":-0.9200799200799135,"d":"-0.92"}},-18.63084122808004,{"$f":"(F351-F350)/Sheet2!$B$3","v":41.1994986513502},{"$f":"(F351-2*F350+F349)/Sheet2!$B$3^2","v":-23.27992487044387}]
[{"$nulls":4},{"$f":"E350+Sheet2!B$3","v":{"v":-0.9140859140859074,"d":"-0.91"}},-18.383891186213805,{"$f":"(F352-F351)/Sheet2!$B$3","v":41.05852115890143},{"$f":"(F352-2*F351+F350)/Sheet2!$B$3^2","v":-23.51974499020221}]
[{"$nulls":4},{"$f":"E351+Sheet2!B$3","v":{"v":-0.9080919080919014,"d":"-0.91"}},-18.13778616428233,{"$f":"(F353-F352)/Sheet2!$B$3","v":40.91611135169459},{"$f":"(F353-2*F352+F351)/Sheet2!$B$3^2","v":-23.758702835674594}]
[{"$nulls":4},{"$f":"E352+Sheet2!B$3","v":{"v":-0.9020979020978954,"d":"-0.90"}},-17.892534747588854,{"$f":"(F354-F353)/Sheet2!$B$3","v":40.77227439820987},{"$f":"(F354-2*F353+F352)/Sheet2!$B$3^2","v":-23.9967984063666}]
[{"$nulls":4},{"$f":"E353+Sheet2!B$3","v":{"v":-0.8961038961038894,"d":"-0.90"}},-17.648145490456727,{"$f":"(F355-F354)/Sheet2!$B$3","v":40.6270154669263},{"$f":"(F355-2*F354+F353)/Sheet2!$B$3^2","v":-24.234031702476003}]
[{"$nulls":4},{"$f":"E354+Sheet2!B$3","v":{"v":-0.8901098901098834,"d":"-0.89"}},-17.404626916229397,{"$f":"(F356-F355)/Sheet2!$B$3","v":40.480339726320516},{"$f":"(F356-2*F355+F354)/Sheet2!$B$3^2","v":-24.470402724398333}]
[{"$nulls":4},{"$f":"E355+Sheet2!B$3","v":{"v":-0.8841158841158774,"d":"-0.88"}},-17.161987517270433,{"$f":"(F357-F356)/Sheet2!$B$3","v":40.332252344875684},{"$f":"(F357-2*F356+F355)/Sheet2!$B$3^2","v":-24.705911471045873}]
[{"$nulls":4},{"$f":"E356+Sheet2!B$3","v":{"v":-0.8781218781218714,"d":"-0.88"}},-16.920235754963485,{"$f":"(F358-F357)/Sheet2!$B$3","v":40.18275849106964},{"$f":"(F358-2*F357+F356)/Sheet2!$B$3^2","v":-24.94055794330857}]
[{"$nulls":4},{"$f":"E357+Sheet2!B$3","v":{"v":-0.8721278721278654,"d":"-0.87"}},-16.67938005971232,{"$f":"(F359-F358)/Sheet2!$B$3","v":40.03186333337784},{"$f":"(F359-2*F358+F357)/Sheet2!$B$3^2","v":-25.174342141581967}]
[{"$nulls":4},{"$f":"E358+Sheet2!B$3","v":{"v":-0.8661338661338593,"d":"-0.87"}},-16.439428830940823,{"$f":"(F360-F359)/Sheet2!$B$3","v":39.87957204028345},{"$f":"(F360-2*F359+F358)/Sheet2!$B$3^2","v":-25.407264064580566}]
[{"$nulls":4},{"$f":"E359+Sheet2!B$3","v":{"v":-0.8601398601398533,"d":"-0.86"}},-16.20039043709297,{"$f":"(F361-F360)/Sheet2!$B$3","v":39.725889780263714},{"$f":"(F361-2*F360+F359)/Sheet2!$B$3^2","v":-25.639323713293216}]
[{"$nulls":4},{"$f":"E360+Sheet2!B$3","v":{"v":-0.8541458541458473,"d":"-0.85"}},-15.962273215632848,{"$f":"(F362-F361)/Sheet2!$B$3","v":39.57082172179882},{"$f":"(F362-2*F361+F360)/Sheet2!$B$3^2","v":-25.870521087225487}]
[{"$nulls":4},{"$f":"E361+Sheet2!B$3","v":{"v":-0.8481518481518413,"d":"-0.85"}},-15.725085473044643,{"$f":"(F363-F362)/Sheet2!$B$3","v":39.414373033366026},{"$f":"(F363-2*F362+F361)/Sheet2!$B$3^2","v":-26.100856186871805}]
[{"$nulls":4},{"$f":"E362+Sheet2!B$3","v":{"v":-0.8421578421578353,"d":"-0.84"}},-15.48883548483266,{"$f":"(F364-F363)/Sheet2!$B$3","v":39.256548883446705},{"$f":"(F364-2*F363+F362)/Sheet2!$B$3^2","v":-26.33032901153998}]
[{"$nulls":4},{"$f":"E363+Sheet2!B$3","v":{"v":-0.8361638361638293,"d":"-0.84"}},-15.25353149552129,{"$f":"(F365-F364)/Sheet2!$B$3","v":39.097354440517506},{"$f":"(F365-2*F364+F363)/Sheet2!$B$3^2","v":-26.558939562021084}]
[{"$nulls":4},{"$f":"E364+Sheet2!B$3","v":{"v":-0.8301698301698233,"d":"-0.83"}},-15.019181718655052,{"$f":"(F366-F365)/Sheet2!$B$3","v":38.93679487305923},{"$f":"(F366-2*F365+F364)/Sheet2!$B$3^2","v":-26.78668783762293}]
[{"$nulls":4},{"$f":"E365+Sheet2!B$3","v":{"v":-0.8241758241758173,"d":"-0.82"}},-14.785794336798553,{"$f":"(F367-F366)/Sheet2!$B$3","v":38.77487534955029},{"$f":"(F367-2*F366+F365)/Sheet2!$B$3^2","v":-27.013573838741053}]
[{"$nulls":4},{"$f":"E366+Sheet2!B$3","v":{"v":-0.8181818181818112,"d":"-0.82"}},-14.553377501536513,{"$f":"(F368-F367)/Sheet2!$B$3","v":38.611601038470305},{"$f":"(F368-2*F367+F366)/Sheet2!$B$3^2","v":-27.239597565177686}]
[{"$nulls":4},{"$f":"E367+Sheet2!B$3","v":{"v":-0.8121878121878052,"d":"-0.81"}},-14.321939333473754,{"$f":"(F369-F368)/Sheet2!$B$3","v":38.44697710829592},{"$f":"(F369-2*F368+F367)/Sheet2!$B$3^2","v":-27.46475901742725}]
[{"$nulls":4},{"$f":"E368+Sheet2!B$3","v":{"v":-0.8061938061937992,"d":"-0.81"}},-14.091487922235217,{"$f":"(F370-F369)/Sheet2!$B$3","v":38.28100872751088},{"$f":"(F370-2*F369+F368)/Sheet2!$B$3^2","v":-27.689058194303133}]
[{"$nulls":4},{"$f":"E369+Sheet2!B$3","v":{"v":-0.8001998001997932,"d":"-0.80"}},-13.862031326465921,{"$f":"(F371-F370)/Sheet2!$B$3","v":38.11370106458948},{"$f":"(F371-2*F370+F369)/Sheet2!$B$3^2","v":-27.912495097387485}]
[{"$nulls":4},{"$f":"E370+Sheet2!B$3","v":{"v":-0.7942057942057872,"d":"-0.79"}},-13.633577573831019,{"$f":"(F372-F371)/Sheet2!$B$3","v":37.9450592880125},{"$f":"(F372-2*F371+F370)/Sheet2!$B$3^2","v":-28.135069725592576}]
[{"$nulls":4},{"$f":"E371+Sheet2!B$3","v":{"v":-0.7882117882117812,"d":"-0.79"}},-13.40613466101576,{"$f":"(F373-F372)/Sheet2!$B$3","v":37.77508856626074},{"$f":"(F373-2*F372+F371)/Sheet2!$B$3^2","v":-28.356782078918407}]
[{"$nulls":4},{"$f":"E372+Sheet2!B$3","v":{"v":-0.7822177822177752,"d":"-0.78"}},-13.179710553725485,{"$f":"(F374-F373)/Sheet2!$B$3","v":37.603794067810256},{"$f":"(F374-2*F373+F372)/Sheet2!$B$3^2","v":-28.577632158156053}]
[{"$nulls":4},{"$f":"E373+Sheet2!B$3","v":{"v":-0.7762237762237691,"d":"-0.78"}},-12.954313186685663,{"$f":"(F375-F374)/Sheet2!$B$3","v":37.43118096114243},{"$f":"(F375-2*F374+F373)/Sheet2!$B$3^2","v":-28.797619962415556}]
[{"$nulls":4},{"$f":"E374+Sheet2!B$3","v":{"v":-0.7702297702297631,"d":"-0.77"}},-12.729950463641853,{"$f":"(F376-F375)/Sheet2!$B$3","v":37.257254414735094},{"$f":"(F376-2*F375+F374)/Sheet2!$B$3^2","v":-29.016745492290223}]
[{"$nulls":4},{"$f":"E375+Sheet2!B$3","v":{"v":-0.7642357642357571,"d":"-0.76"}},-12.506630257359724,{"$f":"(F377-F376)/Sheet2!$B$3","v":37.08201959706786},{"$f":"(F377-2*F376+F375)/Sheet2!$B$3^2","v":-29.2350087474834}]
[{"$nulls":4},{"$f":"E376+Sheet2!B$3","v":{"v":-0.7582417582417511,"d":"-0.76"}},-12.284360409625052,{"$f":"(F378-F377)/Sheet2!$B$3","v":36.90548167661975},{"$f":"(F378-2*F377+F376)/Sheet2!$B$3^2","v":-29.452409728093965}]
[{"$nulls":4},{"$f":"E377+Sheet2!B$3","v":{"v":-0.7522477522477451,"d":"-0.75"}},-12.063148731243714,{"$f":"(F379-F378)/Sheet2!$B$3","v":36.727645821869174},{"$f":"(F379-2*F378+F377)/Sheet2!$B$3^2","v":-29.66894843422081}]
[{"$nulls":4},{"$f":"E378+Sheet2!B$3","v":{"v":-0.7462537462537391,"d":"-0.75"}},-11.843003002041701,{"$f":"(F380-F379)/Sheet2!$B$3","v":36.54851720129575},{"$f":"(F380-2*F379+F378)/Sheet2!$B$3^2","v":-29.884624865666165}]
[{"$nulls":4},{"$f":"E379+Sheet2!B$3","v":{"v":-0.7402597402597331,"d":"-0.74"}},-11.623930970865104,{"$f":"(F381-F380)/Sheet2!$B$3","v":36.36810098337909},{"$f":"(F381-2*F380+F379)/Sheet2!$B$3^2","v":-30.09943902243003}]
[{"$nulls":4},{"$f":"E380+Sheet2!B$3","v":{"v":-0.734265734265727,"d":"-0.73"}},-11.405940355580114,{"$f":"(F382-F381)/Sheet2!$B$3","v":36.18640233659642},{"$f":"(F382-2*F381+F380)/Sheet2!$B$3^2","v":-30.31339090490794}]
[{"$nulls":4},{"$f":"E381+Sheet2!B$3","v":{"v":-0.728271728271721,"d":"-0.73"}},-11.189038843073043,{"$f":"(F383-F382)/Sheet2!$B$3","v":36.00342642942855},{"$f":"(F383-2*F382+F381)/Sheet2!$B$3^2","v":-30.52648051250659}]
[{"$nulls":4},{"$f":"E382+Sheet2!B$3","v":{"v":-0.722277722277715,"d":"-0.72"}},-10.973234089250294,{"$f":"(F384-F383)/Sheet2!$B$3","v":35.81917843035449},{"$f":"(F384-2*F383+F382)/Sheet2!$B$3^2","v":-30.738707845522637}]
[{"$nulls":4},{"$f":"E383+Sheet2!B$3","v":{"v":-0.716283716283709,"d":"-0.72"}},-10.758533719038379,{"$f":"(F385-F384)/Sheet2!$B$3","v":35.63366350785236},{"$f":"(F385-2*F384+F383)/Sheet2!$B$3^2","v":-30.950072904104402}]
[{"$nulls":4},{"$f":"E384+Sheet2!B$3","v":{"v":-0.710289710289703,"d":"-0.71"}},-10.54494532638392,{"$f":"(F386-F385)/Sheet2!$B$3","v":35.44688683040119},{"$f":"(F386-2*F385+F384)/Sheet2!$B$3^2","v":-31.16057568810356}]
[{"$nulls":4},{"$f":"E385+Sheet2!B$3","v":{"v":-0.704295704295697,"d":"-0.70"}},-10.332476474253642,{"$f":"(F387-F386)/Sheet2!$B$3","v":35.25885356648088},{"$f":"(F387-2*F386+F385)/Sheet2!$B$3^2","v":-31.370216197371786}]
[{"$nulls":4},{"$f":"E386+Sheet2!B$3","v":{"v":-0.698301698301691,"d":"-0.70"}},{"$f":"x^4-3*x^3-25*x^2+6*x+5","v":-10.121134694634376},{"$f":"(F388-F387)/Sheet2!$B$3","v":35.069568884569854},{"$f":"(F388-2*F387+F386)/Sheet2!$B$3^2","v":-31.578994432156286}]
[{"$nulls":4},{"$f":"E387+Sheet2!B$3","v":{"v":-0.692307692307685,"d":"-0.69"}},-9.910927488533058,{"$f":"(F389-F388)/Sheet2!$B$3","v":34.879037953147424},{"$f":"(F389-2*F388+F387)/Sheet2!$B$3^2","v":-31.78691039230874}]
[{"$nulls":4},{"$f":"E388+Sheet2!B$3","v":{"v":-0.686313686313679,"d":"-0.69"}},-9.70186232597673,{"$f":"(F390-F389)/Sheet2!$B$3","v":34.6872659406932},{"$f":"(F390-2*F389+F388)/Sheet2!$B$3^2","v":-31.993964077779705}]
[{"$nulls":4},{"$f":"E389+Sheet2!B$3","v":{"v":-0.6803196803196729,"d":"-0.68"}},-9.493946646012535,{"$f":"(F391-F390)/Sheet2!$B$3","v":34.494258015684125},{"$f":"(F391-2*F390+F389)/Sheet2!$B$3^2","v":-32.20015548901416}]
[{"$nulls":4},{"$f":"E390+Sheet2!B$3","v":{"v":-0.6743256743256669,"d":"-0.67"}},-9.287187856707735,{"$f":"(F392-F391)/Sheet2!$B$3","v":34.30001934660218},{"$f":"(F392-2*F391+F390)/Sheet2!$B$3^2","v":-32.40548462517158}]
[{"$nulls":4},{"$f":"E391+Sheet2!B$3","v":{"v":-0.6683316683316609,"d":"-0.67"}},-9.08159333514968,{"$f":"(F393-F392)/Sheet2!$B$3","v":34.10455510192401},{"$f":"(F393-2*F392+F391)/Sheet2!$B$3^2","v":-32.609951487141934}]
[{"$nulls":4},{"$f":"E392+Sheet2!B$3","v":{"v":-0.6623376623376549,"d":"-0.66"}},-8.87717042744584,{"$f":"(F394-F393)/Sheet2!$B$3","v":33.9078704501304},{"$f":"(F394-2*F393+F392)/Sheet2!$B$3^2","v":-32.813556074233034}]
[{"$nulls":4},{"$f":"E393+Sheet2!B$3","v":{"v":-0.6563436563436489,"d":"-0.66"}},-8.67392644872378,{"$f":"(F395-F394)/Sheet2!$B$3","v":33.709970559699194},{"$f":"(F395-2*F394+F393)/Sheet2!$B$3^2","v":-33.01629838693929}]
[{"$nulls":4},{"$f":"E394+Sheet2!B$3","v":{"v":-0.6503496503496429,"d":"-0.65"}},-8.471868683131177,{"$f":"(F396-F395)/Sheet2!$B$3","v":33.51086059911},{"$f":"(F396-2*F395+F394)/Sheet2!$B$3^2","v":-33.21817842496406}]
[{"$nulls":4},{"$f":"E395+Sheet2!B$3","v":{"v":-0.6443556443556369,"d":"-0.64"}},-8.271004383835812,{"$f":"(F397-F396)/Sheet2!$B$3","v":33.31054573684124},{"$f":"(F397-2*F396+F395)/Sheet2!$B$3^2","v":-33.4191961885051}]
[{"$nulls":4},{"$f":"E396+Sheet2!B$3","v":{"v":-0.6383616383616308,"d":"-0.64"}},-8.071340773025575,{"$f":"(F398-F397)/Sheet2!$B$3","v":33.109031141373116},{"$f":"(F398-2*F397+F396)/Sheet2!$B$3^2","v":-33.61935167726577}]
[{"$nulls":4},{"$f":"E397+Sheet2!B$3","v":{"v":-0.6323676323676248,"d":"-0.63"}},-7.872885041908454,{"$f":"(F399-F398)/Sheet2!$B$3","v":32.90632198118434},{"$f":"(F399-2*F398+F397)/Sheet2!$B$3^2","v":-33.81864489149327}]
[{"$nulls":4},{"$f":"E398+Sheet2!B$3","v":{"v":-0.6263736263736188,"d":"-0.63"}},-7.675644350712544,{"$f":"(F400-F399)/Sheet2!$B$3","v":32.70242342475276},{"$f":"(F400-2*F399+F398)/Sheet2!$B$3^2","v":-34.017075831335944}]
[{"$nulls":4},{"$f":"E399+Sheet2!B$3","v":{"v":-0.6203796203796128,"d":"-0.62"}},-7.4796258286860535,{"$f":"(F401-F400)/Sheet2!$B$3","v":32.49734064055886},{"$f":"(F401-2*F400+F399)/Sheet2!$B$3^2","v":-34.21464449634879}]
[{"$nulls":4},{"$f":"E400+Sheet2!B$3","v":{"v":-0.6143856143856068,"d":"-0.61"}},-7.284836574097289,{"$f":"(F402-F401)/Sheet2!$B$3","v":32.29107879708107},{"$f":"(F402-2*F401+F400)/Sheet2!$B$3^2","v":-34.41135088687792}]
[{"$nulls":4},{"$f":"E401+Sheet2!B$3","v":{"v":-0.6083916083916008,"d":"-0.61"}},-7.091283654234665,{"$f":"(F403-F402)/Sheet2!$B$3","v":32.0836430627987},{"$f":"(F403-2*F402+F401)/Sheet2!$B$3^2","v":-34.607195002775}]
[{"$nulls":4},{"$f":"E402+Sheet2!B$3","v":{"v":-0.6023976023975948,"d":"-0.60"}},-6.898974105406701,{"$f":"(F404-F403)/Sheet2!$B$3","v":31.87503860619018},{"$f":"(F404-2*F403+F402)/Sheet2!$B$3^2","v":-34.80217684418835}]
[{"$nulls":4},{"$f":"E403+Sheet2!B$3","v":{"v":-0.5964035964035888,"d":"-0.60"}},-6.707914932942025,{"$f":"(F405-F404)/Sheet2!$B$3","v":31.665270595736004},{"$f":"(F405-2*F404+F403)/Sheet2!$B$3^2","v":-34.9962964107719}]
[{"$nulls":4},{"$f":"E404+Sheet2!B$3","v":{"v":-0.5904095904095827,"d":"-0.59"}},-6.518113111189361,{"$f":"(F406-F405)/Sheet2!$B$3","v":31.454344199912818},{"$f":"(F406-2*F405+F404)/Sheet2!$B$3^2","v":-35.189553703168365}]
[{"$nulls":4},{"$f":"E405+Sheet2!B$3","v":{"v":-0.5844155844155767,"d":"-0.58"}},-6.329575583517556,{"$f":"(F407-F406)/Sheet2!$B$3","v":31.2422645872026},{"$f":"(F407-2*F406+F405)/Sheet2!$B$3^2","v":-35.381948720487806}]
[{"$nulls":4},{"$f":"E406+Sheet2!B$3","v":{"v":-0.5784215784215707,"d":"-0.58"}},-6.142309262315543,{"$f":"(F408-F407)/Sheet2!$B$3","v":31.029036926081407},{"$f":"(F408-2*F407+F406)/Sheet2!$B$3^2","v":-35.57348146371906}]
[{"$nulls":4},{"$f":"E407+Sheet2!B$3","v":{"v":-0.5724275724275647,"d":"-0.57"}},-5.956321028992377,{"$f":"(F409-F408)/Sheet2!$B$3","v":30.814666385031217},{"$f":"(F409-2*F408+F407)/Sheet2!$B$3^2","v":-35.76415193187329}]
[{"$nulls":4},{"$f":"E408+Sheet2!B$3","v":{"v":-0.5664335664335587,"d":"-0.57"}},-5.771617733977205,{"$f":"(F410-F409)/Sheet2!$B$3","v":30.59915813252868},{"$f":"(F410-2*F409+F408)/Sheet2!$B$3^2","v":-35.95396012584045}]
[{"$nulls":4},{"$f":"E409+Sheet2!B$3","v":{"v":-0.5604395604395527,"d":"-0.56"}},-5.588206196719291,{"$f":"(F411-F410)/Sheet2!$B$3","v":30.38251733705399},{"$f":"(F411-2*F410+F409)/Sheet2!$B$3^2","v":-36.14290604502724}]
[{"$nulls":4},{"$f":"E410+Sheet2!B$3","v":{"v":-0.5544455544455467,"d":"-0.55"}},-5.4060932056879984,{"$f":"(F412-F411)/Sheet2!$B$3","v":30.164749167086462},{"$f":"(F412-2*F411+F410)/Sheet2!$B$3^2","v":-36.330989689581976}]
[{"$nulls":4},{"$f":"E411+Sheet2!B$3","v":{"v":-0.5484515484515406,"d":"-0.55"}},-5.225285518372795,{"$f":"(F413-F412)/Sheet2!$B$3","v":29.945858791103934},{"$f":"(F413-2*F412+F411)/Sheet2!$B$3^2","v":-36.51821105975187}]
[{"$nulls":4},{"$f":"E412+Sheet2!B$3","v":{"v":-0.5424575424575346,"d":"-0.54"}},-5.045789861283261,{"$f":"(F414-F413)/Sheet2!$B$3","v":29.725851377587198},{"$f":"(F414-2*F413+F412)/Sheet2!$B$3^2","v":-36.70457015504251}]
[{"$nulls":4},{"$f":"E413+Sheet2!B$3","v":{"v":-0.5364635364635286,"d":"-0.54"}},-4.867612929949072,{"$f":"(F415-F414)/Sheet2!$B$3","v":29.504732095013487},{"$f":"(F415-2*F414+F413)/Sheet2!$B$3^2","v":-36.890066976047194}]
[{"$nulls":4},{"$f":"E414+Sheet2!B$3","v":{"v":-0.5304695304695226,"d":"-0.53"}},-4.69076138892002,{"$f":"(F416-F415)/Sheet2!$B$3","v":29.2825061118636},{"$f":"(F416-2*F415+F414)/Sheet2!$B$3^2","v":-37.074701522172624}]
[{"$nulls":4},{"$f":"E415+Sheet2!B$3","v":{"v":-0.5244755244755166,"d":"-0.52"}},-4.515241871765992,{"$f":"(F417-F416)/Sheet2!$B$3","v":29.059178596614778},{"$f":"(F417-2*F416+F415)/Sheet2!$B$3^2","v":-37.2584737940121}]
[{"$nulls":4},{"$f":"E416+Sheet2!B$3","v":{"v":-0.5184815184815106,"d":"-0.52"}},-4.341060981076993,{"$f":"(F418-F417)/Sheet2!$B$3","v":28.83475471774781},{"$f":"(F418-2*F417+F416)/Sheet2!$B$3^2","v":-37.44138379097231}]
[{"$nulls":4},{"$f":"E417+Sheet2!B$3","v":{"v":-0.5124875124875046,"d":"-0.51"}},-4.16822528846312,{"$f":"(F419-F418)/Sheet2!$B$3","v":28.609239643740533},{"$f":"(F419-2*F418+F417)/Sheet2!$B$3^2","v":-37.62343151354768}]
[{"$nulls":4},{"$f":"E418+Sheet2!B$3","v":{"v":-0.5064935064934986,"d":"-0.51"}},-3.996741334554585,{"$f":"(F420-F419)/Sheet2!$B$3","v":28.382638543072254},{"$f":"(F420-2*F419+F418)/Sheet2!$B$3^2","v":-37.80461696149101}]
[{"$nulls":4},{"$f":"E419+Sheet2!B$3","v":{"v":-0.5004995004994925,"d":"-0.50"}},-3.8266156290017044,{"$f":"(F421-F420)/Sheet2!$B$3","v":28.15495658422259},{"$f":"(F421-2*F420+F419)/Sheet2!$B$3^2","v":-37.98494013475285}]
[{"$nulls":4},{"$f":"E420+Sheet2!B$3","v":{"v":-0.49450549450548653,"d":"-0.49"}},-3.6578546504748957,{"$f":"(F422-F421)/Sheet2!$B$3","v":27.926198935669657},{"$f":"(F422-2*F421+F420)/Sheet2!$B$3^2","v":-38.1644010335804}]
[{"$nulls":4},{"$f":"E421+Sheet2!B$3","v":{"v":-0.4885114885114805,"d":"-0.49"}},-3.490464846664688,{"$f":"(F423-F422)/Sheet2!$B$3","v":27.696370765893374},{"$f":"(F423-2*F422+F421)/Sheet2!$B$3^2","v":-38.34299965767702}]
[{"$nulls":4},{"$f":"E422+Sheet2!B$3","v":{"v":-0.4825174825174745,"d":"-0.48"}},-3.3244526342817107,{"$f":"(F424-F423)/Sheet2!$B$3","v":27.46547724337245},{"$f":"(F424-2*F423+F422)/Sheet2!$B$3^2","v":-38.52073600724048}]
[{"$nulls":4},{"$f":"E423+Sheet2!B$3","v":{"v":-0.4765234765234685,"d":"-0.48"}},-3.159824399056701,{"$f":"(F425-F424)/Sheet2!$B$3","v":27.23352353658591},{"$f":"(F425-2*F424+F423)/Sheet2!$B$3^2","v":-38.69761008222133}]
[{"$nulls":4},{"$f":"E424+Sheet2!B$3","v":{"v":-0.4705294705294625,"d":"-0.47"}},-2.9965864957405017,{"$f":"(F426-F425)/Sheet2!$B$3","v":27.000514814012764},{"$f":"(F426-2*F425+F424)/Sheet2!$B$3^2","v":-38.873621882619574}]
[{"$nulls":4},{"$f":"E425+Sheet2!B$3","v":{"v":-0.46453546453545647,"d":"-0.46"}},-2.8347452481040616,{"$f":"(F427-F426)/Sheet2!$B$3","v":26.766456244132034},{"$f":"(F427-2*F426+F425)/Sheet2!$B$3^2","v":-39.048771408435215}]
[{"$nulls":4},{"$f":"E426+Sheet2!B$3","v":{"v":-0.45854145854145045,"d":"-0.46"}},-2.674306948938435,{"$f":"(F428-F427)/Sheet2!$B$3","v":26.531352995423326},{"$f":"(F428-2*F427+F426)/Sheet2!$B$3^2","v":-39.22305865956936}]
[{"$nulls":4},{"$f":"E427+Sheet2!B$3","v":{"v":-0.45254745254744444,"d":"-0.45"}},-2.5152778600547787,{"$f":"(F429-F428)/Sheet2!$B$3","v":26.29521023636477},{"$f":"(F429-2*F428+F427)/Sheet2!$B$3^2","v":-39.39648363626923}]
[{"$nulls":4},{"$f":"E428+Sheet2!B$3","v":{"v":-0.4465534465534384,"d":"-0.45"}},-2.3576642122843605,{"$f":"(F430-F429)/Sheet2!$B$3","v":26.05803313543612},{"$f":"(F430-2*F429+F428)/Sheet2!$B$3^2","v":-39.569046338262886}]
[{"$nulls":4},{"$f":"E429+Sheet2!B$3","v":{"v":-0.4405594405594324,"d":"-0.44"}},-2.2014722054785496,{"$f":"(F431-F430)/Sheet2!$B$3","v":25.819826861115803},{"$f":"(F431-2*F430+F429)/Sheet2!$B$3^2","v":-39.74074676577282}]
[{"$nulls":4},{"$f":"E430+Sheet2!B$3","v":{"v":-0.4345654345654264,"d":"-0.43"}},-2.0467080085088245,{"$f":"(F432-F431)/Sheet2!$B$3","v":25.580596581883874},{"$f":"(F432-2*F431+F430)/Sheet2!$B$3^2","v":-39.9115849185271}]
[{"$nulls":4},{"$f":"E431+Sheet2!B$3","v":{"v":-0.4285714285714204,"d":"-0.43"}},-1.8933777592667633,{"$f":"(F433-F432)/Sheet2!$B$3","v":25.340347466218308},{"$f":"(F433-2*F432+F431)/Sheet2!$B$3^2","v":-40.08156079687182}]
[{"$nulls":4},{"$f":"E432+Sheet2!B$3","v":{"v":-0.4225774225774144,"d":"-0.42"}},-1.7414875646640562,{"$f":"(F434-F433)/Sheet2!$B$3","v":25.099084682598864},{"$f":"(F434-2*F433+F432)/Sheet2!$B$3^2","v":-40.25067440051033}]
[{"$nulls":4},{"$f":"E433+Sheet2!B$3","v":{"v":-0.41658341658340836,"d":"-0.42"}},-1.5910435006324946,{"$f":"(F435-F434)/Sheet2!$B$3","v":24.856813399504265},{"$f":"(F435-2*F434+F433)/Sheet2!$B$3^2","v":-40.41892572961567}]
[{"$nulls":4},{"$f":"E434+Sheet2!B$3","v":{"v":-0.41058941058940235,"d":"-0.41"}},-1.4420516121239775,{"$f":"(F436-F435)/Sheet2!$B$3","v":24.61353878541338},{"$f":"(F436-2*F435+F434)/Sheet2!$B$3^2","v":-40.586314784163136}]
[{"$nulls":4},{"$f":"E435+Sheet2!B$3","v":{"v":-0.40459540459539634,"d":"-0.40"}},-1.2945179131105107,{"$f":"(F437-F436)/Sheet2!$B$3","v":24.369266008806107},{"$f":"(F437-2*F436+F435)/Sheet2!$B$3^2","v":-40.75284156397966}]
[{"$nulls":4},{"$f":"E436+Sheet2!B$3","v":{"v":-0.3986013986013903,"d":"-0.40"}},-1.1484483865842003,{"$f":"(F438-F437)/Sheet2!$B$3","v":24.12400023816058},{"$f":"(F438-2*F437+F436)/Sheet2!$B$3^2","v":-40.918506069361904}]
[{"$nulls":4},{"$f":"E437+Sheet2!B$3","v":{"v":-0.3926073926073843,"d":"-0.39"}},-1.0038489845572638,{"$f":"(F439-F438)/Sheet2!$B$3","v":23.877746641956115},{"$f":"(F439-2*F438+F437)/Sheet2!$B$3^2","v":-41.0833083001121}]
[{"$nulls":4},{"$f":"E438+Sheet2!B$3","v":{"v":-0.3866133866133783,"d":"-0.39"}},-0.8607256280620224,{"$f":"(F440-F439)/Sheet2!$B$3","v":23.630510388672015},{"$f":"(F440-2*F439+F438)/Sheet2!$B$3^2","v":-41.24724825623025}]
[{"$nulls":4},{"$f":"E439+Sheet2!B$3","v":{"v":-0.3806193806193723,"d":"-0.38"}},-0.7190842071509014,{"$f":"(F441-F440)/Sheet2!$B$3","v":23.382296646787157},{"$f":"(F441-2*F440+F439)/Sheet2!$B$3^2","v":-41.41032593779052}]
[{"$nulls":4},{"$f":"E440+Sheet2!B$3","v":{"v":-0.37462537462536627,"d":"-0.37"}},-0.5789305808964329,{"$f":"(F442-F441)/Sheet2!$B$3","v":23.133110584780557},{"$f":"(F442-2*F441+F440)/Sheet2!$B$3^2","v":-41.572541344768176}]
[{"$nulls":4},{"$f":"E441+Sheet2!B$3","v":{"v":-0.36863136863136026,"d":"-0.37"}},-0.44027057739125475,{"$f":"(F443-F442)/Sheet2!$B$3","v":22.882957371131226},{"$f":"(F443-2*F442+F441)/Sheet2!$B$3^2","v":-41.733894477163226}]
[{"$nulls":4},{"$f":"E442+Sheet2!B$3","v":{"v":-0.36263736263735424,"d":"-0.36"}},-0.30310999374811054,{"$f":"(F444-F443)/Sheet2!$B$3","v":22.631842174318482},{"$f":"(F444-2*F443+F442)/Sheet2!$B$3^2","v":-41.89438533492623}]
[{"$nulls":4},{"$f":"E443+Sheet2!B$3","v":{"v":-0.35664335664334823,"d":"-0.36"}},-0.16745459609984792,{"$f":"(F445-F444)/Sheet2!$B$3","v":22.379770162821043},{"$f":"(F445-2*F444+F443)/Sheet2!$B$3^2","v":-42.05401391815606}]
[{"$nulls":4},{"$f":"E444+Sheet2!B$3","v":{"v":-0.3506493506493422,"d":"-0.35"}},-0.033310119599422094,{"$f":"(F446-F445)/Sheet2!$B$3","v":22.126746505117925},{"$f":"(F446-2*F445+F444)/Sheet2!$B$3^2","v":-42.21278022680329}]
[{"$nulls":4},{"$f":"E445+Sheet2!B$3","v":{"v":-0.3446553446553362,"d":"-0.34"}},0.09931773158010593,{"$f":"(F447-F446)/Sheet2!$B$3","v":21.87277636968874},{"$f":"(F447-2*F446+F445)/Sheet2!$B$3^2","v":-42.37068426076903}]
[{"$nulls":4},{"$f":"E446+Sheet2!B$3","v":{"v":-0.3386613386613302,"d":"-0.34"}},0.2304232842455729,{"$f":"(F448-F447)/Sheet2!$B$3","v":21.617864925012206},{"$f":"(F448-2*F447+F446)/Sheet2!$B$3^2","v":-42.52772602020161}]
[{"$nulls":4},{"$f":"E447+Sheet2!B$3","v":{"v":-0.3326673326673242,"d":"-0.33"}},0.360000896183708,{"$f":"(F449-F448)/Sheet2!$B$3","v":21.362017339566897},{"$f":"(F449-2*F448+F447)/Sheet2!$B$3^2","v":-42.68390550512574}]
[{"$nulls":4},{"$f":"E448+Sheet2!B$3","v":{"v":-0.32667332667331817,"d":"-0.33"}},0.48804495616113197,{"$f":"(F450-F449)/Sheet2!$B$3","v":21.105238781832572},{"$f":"(F450-2*F449+F448)/Sheet2!$B$3^2","v":-42.83922271534366}]
[{"$nulls":4},{"$f":"E449+Sheet2!B$3","v":{"v":-0.32067932067931215,"d":"-0.32"}},0.6145498839243642,{"$f":"(F451-F450)/Sheet2!$B$3","v":20.847534420288092},{"$f":"(F451-2*F450+F449)/Sheet2!$B$3^2","v":-42.99367765100369}]
[{"$nulls":4},{"$f":"E450+Sheet2!B$3","v":{"v":-0.31468531468530614,"d":"-0.31"}},{"$f":"x^4-3*x^3-25*x^2+6*x+5","v":0.7395101301998173},{"$f":"(F452-F451)/Sheet2!$B$3","v":20.588909423412332},{"$f":"(F452-2*F451+F450)/Sheet2!$B$3^2","v":-43.147270312105846}]
[{"$nulls":4},{"$f":"E451+Sheet2!B$3","v":{"v":-0.3086913086913001,"d":"-0.31"}},0.8629201766937973,{"$f":"(F453-F452)/Sheet2!$B$3","v":20.32936895968431},{"$f":"(F453-2*F452+F451)/Sheet2!$B$3^2","v":-43.30000069862539}]
[{"$nulls":4},{"$f":"E452+Sheet2!B$3","v":{"v":-0.3026973026972941,"d":"-0.30"}},0.9847745360925044,{"$f":"(F454-F453)/Sheet2!$B$3","v":20.068918197583407},{"$f":"(F454-2*F453+F452)/Sheet2!$B$3^2","v":-43.45186881050052}]
[{"$nulls":4},{"$f":"E453+Sheet2!B$3","v":{"v":-0.2967032967032881,"d":"-0.30"}},1.1050677520620353,{"$f":"(F455-F454)/Sheet2!$B$3","v":19.80756230558857},{"$f":"(F455-2*F454+F453)/Sheet2!$B$3^2","v":-43.602874647805415}]
[{"$nulls":4},{"$f":"E454+Sheet2!B$3","v":{"v":-0.2907092907092821,"d":"-0.29"}},1.2237943992483804,{"$f":"(F456-F455)/Sheet2!$B$3","v":19.54530645217837},{"$f":"(F456-2*F455+F454)/Sheet2!$B$3^2","v":-43.75301821060186}]
[{"$nulls":4},{"$f":"E455+Sheet2!B$3","v":{"v":-0.2847152847152761,"d":"-0.28"}},1.3409490832774216,{"$f":"(F457-F456)/Sheet2!$B$3","v":19.28215580583271},{"$f":"(F457-2*F456+F455)/Sheet2!$B$3^2","v":-43.90229949866737}]
[{"$nulls":4},{"$f":"E456+Sheet2!B$3","v":{"v":-0.27872127872127006,"d":"-0.28"}},1.4565264407549403,{"$f":"(F458-F457)/Sheet2!$B$3","v":19.018115535029796},{"$f":"(F458-2*F457+F456)/Sheet2!$B$3^2","v":-44.05071851228624}]
[{"$nulls":4},{"$f":"E457+Sheet2!B$3","v":{"v":-0.27272727272726405,"d":"-0.27"}},1.5705211392666074,{"$f":"(F459-F458)/Sheet2!$B$3","v":18.753190808249308},{"$f":"(F459-2*F458+F457)/Sheet2!$B$3^2","v":-44.19827525121126}]
[{"$nulls":4},{"$f":"E458+Sheet2!B$3","v":{"v":-0.26673326673325803,"d":"-0.27"}},1.6829278773779919,{"$f":"(F460-F459)/Sheet2!$B$3","v":18.487386793969968},{"$f":"(F460-2*F459+F458)/Sheet2!$B$3^2","v":-44.34496971560311}]
[{"$nulls":4},{"$f":"E459+Sheet2!B$3","v":{"v":-0.260739260739252,"d":"-0.26"}},1.7937413846345551,{"$f":"(F461-F460)/Sheet2!$B$3","v":18.220708660671015},{"$f":"(F461-2*F460+F459)/Sheet2!$B$3^2","v":-44.490801905375285}]
[{"$nulls":4},{"$f":"E460+Sheet2!B$3","v":{"v":-0.254745254745246,"d":"-0.25"}},1.9029564215616541,{"$f":"(F462-F461)/Sheet2!$B$3","v":17.95316157683117},{"$f":"(F462-2*F461+F460)/Sheet2!$B$3^2","v":-44.63577182061429}]
[{"$nulls":4},{"$f":"E461+Sheet2!B$3","v":{"v":-0.24875124875124002,"d":"-0.25"}},2.0105677796645383,{"$f":"(F463-F462)/Sheet2!$B$3","v":17.684750710929894},{"$f":"(F463-2*F462+F461)/Sheet2!$B$3^2","v":-44.77987946119652}]
[{"$nulls":4},{"$f":"E462+Sheet2!B$3","v":{"v":-0.24275724275723404,"d":"-0.24"}},2.116570281428354,{"$f":"(F464-F463)/Sheet2!$B$3","v":17.415481231446126},{"$f":"(F464-2*F463+F462)/Sheet2!$B$3^2","v":-44.923124827208504}]
[{"$nulls":4},{"$f":"E463+Sheet2!B$3","v":{"v":-0.23676323676322805,"d":"-0.24"}},2.2209587803181408,{"$f":"(F465-F464)/Sheet2!$B$3","v":17.14535830685866},{"$f":"(F465-2*F464+F463)/Sheet2!$B$3^2","v":-45.06550791867497}]
[{"$nulls":4},{"$f":"E464+Sheet2!B$3","v":{"v":-0.23076923076922207,"d":"-0.23"}},2.323728160778832,{"$f":"(F466-F465)/Sheet2!$B$3","v":16.874387105646967},{"$f":"(F466-2*F465+F464)/Sheet2!$B$3^2","v":-45.20702873548466}]
[{"$nulls":4},{"$f":"E465+Sheet2!B$3","v":{"v":-0.22477522477521608,"d":"-0.22"}},2.4248733382352574,{"$f":"(F467-F466)/Sheet2!$B$3","v":16.602572796289756},{"$f":"(F467-2*F466+F465)/Sheet2!$B$3^2","v":-45.34768727776119}]
[{"$nulls":4},{"$f":"E466+Sheet2!B$3","v":{"v":-0.2187812187812101,"d":"-0.22"}},2.524389259092139,{"$f":"(F468-F467)/Sheet2!$B$3","v":16.329920547266273},{"$f":"(F468-2*F467+F466)/Sheet2!$B$3^2","v":-45.48748354541803}]
[{"$nulls":4},{"$f":"E467+Sheet2!B$3","v":{"v":-0.2127872127872041,"d":"-0.21"}},2.6222709007340947,{"$f":"(F469-F468)/Sheet2!$B$3","v":16.056435527055307},{"$f":"(F469-2*F468+F467)/Sheet2!$B$3^2","v":-45.626417538529346}]
[{"$nulls":4},{"$f":"E468+Sheet2!B$3","v":{"v":-0.20679320679319813,"d":"-0.21"}},2.718513271525635,{"$f":"(F470-F469)/Sheet2!$B$3","v":15.782122904136397},{"$f":"(F470-2*F469+F468)/Sheet2!$B$3^2","v":-45.76448925697153}]
[{"$nulls":4},{"$f":"E469+Sheet2!B$3","v":{"v":-0.20079920079919214,"d":"-0.20"}},2.813111410811168,{"$f":"(F471-F470)/Sheet2!$B$3","v":15.50698784698804},{"$f":"(F471-2*F470+F469)/Sheet2!$B$3^2","v":-45.901698700917635}]
[{"$nulls":4},{"$f":"E470+Sheet2!B$3","v":{"v":-0.19480519480518615,"d":"-0.19"}},2.9060603889149923,{"$f":"(F472-F471)/Sheet2!$B$3","v":15.231035524089695},{"$f":"(F472-2*F471+F470)/Sheet2!$B$3^2","v":-46.038045870206965}]
[{"$nulls":4},{"$f":"E471+Sheet2!B$3","v":{"v":-0.18881118881118017,"d":"-0.19"}},2.997355307141304,{"$f":"(F473-F472)/Sheet2!$B$3","v":14.95427110392031},{"$f":"(F473-2*F472+F471)/Sheet2!$B$3^2","v":-46.173530764926056}]
[{"$nulls":4},{"$f":"E472+Sheet2!B$3","v":{"v":-0.18281718281717418,"d":"-0.18"}},3.086991297774193,{"$f":"(F474-F473)/Sheet2!$B$3","v":14.676699754958673},{"$f":"(F474-2*F473+F472)/Sheet2!$B$3^2","v":-46.308153385099615}]
[{"$nulls":4},{"$f":"E473+Sheet2!B$3","v":{"v":-0.1768231768231682,"d":"-0.18"}},3.1749635240776417,{"$f":"(F475-F474)/Sheet2!$B$3","v":14.398326645684323},{"$f":"(F475-2*F474+F473)/Sheet2!$B$3^2","v":-46.44191373060405}]
[{"$nulls":4},{"$f":"E474+Sheet2!B$3","v":{"v":-0.1708291708291622,"d":"-0.17"}},3.2612671802955298,{"$f":"(F476-F475)/Sheet2!$B$3","v":14.119156944575831},{"$f":"(F476-2*F475+F474)/Sheet2!$B$3^2","v":-46.574811801600035}]
[{"$nulls":4},{"$f":"E475+Sheet2!B$3","v":{"v":-0.16483516483515623,"d":"-0.16"}},3.3458974916516286,{"$f":"(F477-F476)/Sheet2!$B$3","v":13.839195820112584},{"$f":"(F477-2*F476+F475)/Sheet2!$B$3^2","v":-46.706847597951615}]
[{"$nulls":4},{"$f":"E476+Sheet2!B$3","v":{"v":-0.15884115884115024,"d":"-0.16"}},3.428849714349606,{"$f":"(F478-F477)/Sheet2!$B$3","v":13.558448440773452},{"$f":"(F478-2*F477+F476)/Sheet2!$B$3^2","v":-46.83802111974531}]
[{"$nulls":4},{"$f":"E477+Sheet2!B$3","v":{"v":-0.15284715284714426,"d":"-0.15"}},3.5101191355730235,{"$f":"(F479-F478)/Sheet2!$B$3","v":13.276919975037597},{"$f":"(F479-2*F478+F477)/Sheet2!$B$3^2","v":-46.968332366931676}]
[{"$nulls":4},{"$f":"E478+Sheet2!B$3","v":{"v":-0.14685314685313827,"d":"-0.15"}},3.5897010734853367,{"$f":"(F480-F479)/Sheet2!$B$3","v":12.994615591384038},{"$f":"(F480-2*F479+F478)/Sheet2!$B$3^2","v":-47.09778133953543}]
[{"$nulls":4},{"$f":"E479+Sheet2!B$3","v":{"v":-0.1408591408591323,"d":"-0.14"}},3.6675908772298964,{"$f":"(F481-F480)/Sheet2!$B$3","v":12.711540458291791},{"$f":"(F481-2*F480+F479)/Sheet2!$B$3^2","v":-47.22636803755659}]
[{"$nulls":4},{"$f":"E480+Sheet2!B$3","v":{"v":-0.1348651348651263,"d":"-0.13"}},3.743783926929947,{"$f":"(F482-F481)/Sheet2!$B$3","v":12.427699744239947},{"$f":"(F482-2*F481+F480)/Sheet2!$B$3^2","v":-47.35409246098277}]
[{"$nulls":4},{"$f":"E481+Sheet2!B$3","v":{"v":-0.12887112887112032,"d":"-0.13"}},3.818275633688628,{"$f":"(F483-F482)/Sheet2!$B$3","v":12.14309861770752},{"$f":"(F483-2*F482+F481)/Sheet2!$B$3^2","v":-47.480954609826355}]
[{"$nulls":4},{"$f":"E482+Sheet2!B$3","v":{"v":-0.12287712287711432,"d":"-0.12"}},3.891061439588973,{"$f":"(F484-F483)/Sheet2!$B$3","v":11.857742247173604},{"$f":"(F484-2*F483+F482)/Sheet2!$B$3^2","v":-47.60695448407496}]
[{"$nulls":4},{"$f":"E483+Sheet2!B$3","v":{"v":-0.11688311688310832,"d":"-0.12"}},3.9621368176939096,{"$f":"(F485-F484)/Sheet2!$B$3","v":11.571635801117141},{"$f":"(F485-2*F484+F483)/Sheet2!$B$3^2","v":-47.73209208375333}]
[{"$nulls":4},{"$f":"E484+Sheet2!B$3","v":{"v":-0.11088911088910232,"d":"-0.11"}},4.03149727204626,{"$f":"(F486-F485)/Sheet2!$B$3","v":11.284784448017517},{"$f":"(F486-2*F485+F484)/Sheet2!$B$3^2","v":-47.856367408787285}]
[{"$nulls":4},{"$f":"E485+Sheet2!B$3","v":{"v":-0.10489510489509632,"d":"-0.10"}},4.099138337668743,{"$f":"(F487-F486)/Sheet2!$B$3","v":10.997193356353305},{"$f":"(F487-2*F486+F485)/Sheet2!$B$3^2","v":-47.9797804593128}]
[{"$nulls":4},{"$f":"E486+Sheet2!B$3","v":{"v":-0.09890109890109032,"d":"-0.10"}},4.165055580563967,{"$f":"(F488-F487)/Sheet2!$B$3","v":10.708867694603743},{"$f":"(F488-2*F487+F486)/Sheet2!$B$3^2","v":-48.10233123521863}]
[{"$nulls":4},{"$f":"E487+Sheet2!B$3","v":{"v":-0.09290709290708432,"d":"-0.09"}},4.229244597714439,{"$f":"(F489-F488)/Sheet2!$B$3","v":10.419812631248144},{"$f":"(F489-2*F488+F487)/Sheet2!$B$3^2","v":-48.22401973649241}]
[{"$nulls":4},{"$f":"E488+Sheet2!B$3","v":{"v":-0.08691308691307832,"d":"-0.09"}},4.29170101708256,{"$f":"(F490-F489)/Sheet2!$B$3","v":10.130033334765228},{"$f":"(F490-2*F489+F488)/Sheet2!$B$3^2","v":-48.34484596323302}]
[{"$nulls":4},{"$f":"E489+Sheet2!B$3","v":{"v":-0.08091908091907232,"d":"-0.08"}},4.352420497610623,{"$f":"(F491-F490)/Sheet2!$B$3","v":9.83953497363431},{"$f":"(F491-2*F490+F489)/Sheet2!$B$3^2","v":-48.46480991534158}]
[{"$nulls":4},{"$f":"E490+Sheet2!B$3","v":{"v":-0.07492507492506632,"d":"-0.07"}},4.411398729220819,{"$f":"(F492-F491)/Sheet2!$B$3","v":9.54832271633411},{"$f":"(F492-2*F491+F490)/Sheet2!$B$3^2","v":-48.583911592916984}]
[{"$nulls":4},{"$f":"E491+Sheet2!B$3","v":{"v":-0.06893106893106032,"d":"-0.07"}},4.468631432815229,{"$f":"(F493-F492)/Sheet2!$B$3","v":9.256401731343937},{"$f":"(F493-2*F492+F491)/Sheet2!$B$3^2","v":-48.702150995860336}]
[{"$nulls":4},{"$f":"E492+Sheet2!B$3","v":{"v":-0.06293706293705432,"d":"-0.06"}},4.524114360275832,{"$f":"(F494-F493)/Sheet2!$B$3","v":8.963777187142812},{"$f":"(F494-2*F493+F492)/Sheet2!$B$3^2","v":-48.81952812422108}]
[{"$nulls":4},{"$f":"E493+Sheet2!B$3","v":{"v":-0.05694305694304833,"d":"-0.06"}},4.5778432944645004,{"$f":"(F495-F494)/Sheet2!$B$3","v":8.67045425220975},{"$f":"(F495-2*F494+F493)/Sheet2!$B$3^2","v":-48.936042977999215}]
[{"$nulls":4},{"$f":"E494+Sheet2!B$3","v":{"v":-0.05094905094904234,"d":"-0.05"}},4.629814049223,{"$f":"(F496-F495)/Sheet2!$B$3","v":8.376438095023767},{"$f":"(F496-2*F495+F494)/Sheet2!$B$3^2","v":-49.05169555719475}]
[{"$nulls":4},{"$f":"E495+Sheet2!B$3","v":{"v":-0.04495504495503635,"d":"-0.04"}},4.680022469372993,{"$f":"(F497-F496)/Sheet2!$B$3","v":8.081733884064029},{"$f":"(F497-2*F496+F495)/Sheet2!$B$3^2","v":-49.16648586178295}]
[{"$nulls":4},{"$f":"E496+Sheet2!B$3","v":{"v":-0.038961038961030356,"d":"-0.04"}},4.728464430716034,{"$f":"(F498-F497)/Sheet2!$B$3","v":7.7863467878094035},{"$f":"(F498-2*F497+F496)/Sheet2!$B$3^2","v":-49.280413891813275}]
[{"$nulls":4},{"$f":"E497+Sheet2!B$3","v":{"v":-0.032967032967024364,"d":"-0.03"}},4.775135840033573,{"$f":"(F499-F498)/Sheet2!$B$3","v":7.490281974739204},{"$f":"(F499-2*F498+F497)/Sheet2!$B$3^2","v":-49.39347964721154}]
[{"$nulls":4},{"$f":"E498+Sheet2!B$3","v":{"v":-0.02697302697301837,"d":"-0.03"}},4.820032635086955,{"$f":"(F500-F499)/Sheet2!$B$3","v":7.1935446133321514},{"$f":"(F500-2*F499+F498)/Sheet2!$B$3^2","v":-49.50568312807665}]
[{"$nulls":4},{"$f":"E499+Sheet2!B$3","v":{"v":-0.02097902097901238,"d":"-0.02"}},4.863150784617417,{"$f":"(F501-F500)/Sheet2!$B$3","v":6.8961398720675575},{"$f":"(F501-2*F500+F499)/Sheet2!$B$3^2","v":-49.617024334309704}]
[{"$nulls":4},{"$f":"E500+Sheet2!B$3","v":{"v":-0.014985014985006385,"d":"-0.01"}},4.904486288346094,{"$f":"(F502-F501)/Sheet2!$B$3","v":6.59807291942444},{"$f":"(F502-2*F501+F500)/Sheet2!$B$3^2","v":-49.72750326596016}]
[{"$nulls":4},{"$f":"E501+Sheet2!B$3","v":{"v":-0.008991008991000391,"d":"-0.01"}},4.944035176974013,{"$f":"(F503-F502)/Sheet2!$B$3","v":6.299348923881815},{"$f":"(F503-2*F502+F501)/Sheet2!$B$3^2","v":-49.837119923028}]
[{"$nulls":4},{"$f":"E502+Sheet2!B$3","v":{"v":-0.002997002996994397,"d":"-0.00"}},4.9817935121820955,{"$f":"(F504-F503)/Sheet2!$B$3","v":5.999973053918699},{"$f":"(F504-2*F503+F502)/Sheet2!$B$3^2","v":-49.945874305513236}]
[{"$nulls":4},{"$f":"E503+Sheet2!B$3","v":{"v":0.002997002997011597,"d":"0.00"}},5.017757386631159,{"$f":"(F505-F504)/Sheet2!$B$3","v":5.699950478014108},{"$f":"(F505-2*F504+F503)/Sheet2!$B$3^2","v":-50.05376641341587}]
[{"$nulls":4},{"$f":"E504+Sheet2!B$3","v":{"v":0.008991008991017591,"d":"0.01"}},5.051922923961913,{"$f":"(F506-F505)/Sheet2!$B$3","v":5.399286364647356},{"$f":"(F506-2*F505+F504)/Sheet2!$B$3^2","v":-50.16079624668645}]
[{"$nulls":4},{"$f":"E505+Sheet2!B$3","v":{"v":0.014985014985023585,"d":"0.01"}},5.084286278794964,{"$f":"(F507-F506)/Sheet2!$B$3","v":5.0979858822970145},{"$f":"(F507-2*F506+F505)/Sheet2!$B$3^2","v":-50.26696380544859}]
[{"$nulls":4},{"$f":"E506+Sheet2!B$3","v":{"v":0.02097902097902958,"d":"0.02"}},5.11484363673081,{"$f":"(F508-F507)/Sheet2!$B$3","v":4.796054199442545},{"$f":"(F508-2*F507+F506)/Sheet2!$B$3^2","v":-50.37226908955396}]
[{"$nulls":4},{"$f":"E507+Sheet2!B$3","v":{"v":0.026973026973035573,"d":"0.03"}},5.143591214349846,{"$f":"(F509-F508)/Sheet2!$B$3","v":4.493496484562964},{"$f":"(F509-2*F508+F507)/Sheet2!$B$3^2","v":-50.47671209907672}]
[{"$nulls":4},{"$f":"E508+Sheet2!B$3","v":{"v":0.032967032967041565,"d":"0.03"}},5.170525259212361,{"$f":"(F510-F509)/Sheet2!$B$3","v":4.190317906137141},{"$f":"(F510-2*F509+F508)/Sheet2!$B$3^2","v":-50.5802928340416}]
[{"$nulls":4},{"$f":"E509+Sheet2!B$3","v":{"v":0.03896103896104756,"d":"0.04"}},5.195642049858538,{"$f":"(F511-F510)/Sheet2!$B$3","v":3.8865236326440904},{"$f":"(F511-2*F510+F509)/Sheet2!$B$3^2","v":-50.68301129442387}]
[{"$nulls":4},{"$f":"E510+Sheet2!B$3","v":{"v":0.04495504495505355,"d":"0.04"}},5.218937895808453,{"$f":"(F512-F511)/Sheet2!$B$3","v":3.582118832563275},{"$f":"(F512-2*F511+F510)/Sheet2!$B$3^2","v":-50.78486748014937}]
[{"$nulls":4},{"$f":"E511+Sheet2!B$3","v":{"v":0.05094905094905954,"d":"0.05"}},5.240409137562079,{"$f":"(F513-F512)/Sheet2!$B$3","v":3.2771086743734146},{"$f":"(F513-2*F512+F511)/Sheet2!$B$3^2","v":-50.88586139134171}]
[{"$nulls":4},{"$f":"E512+Sheet2!B$3","v":{"v":0.056943056943065534,"d":"0.06"}},5.260052146599282,{"$f":"(F514-F513)/Sheet2!$B$3","v":2.9714983265533776},{"$f":"(F514-2*F513+F512)/Sheet2!$B$3^2","v":-50.985993027976164}]
[{"$nulls":4},{"$f":"E513+Sheet2!B$3","v":{"v":0.06293706293707153,"d":"0.06"}},5.277863325379822,{"$f":"(F515-F514)/Sheet2!$B$3","v":2.6652929575826256},{"$f":"(F515-2*F514+F513)/Sheet2!$B$3^2","v":-51.08526238995385}]
[{"$nulls":4},{"$f":"E514+Sheet2!B$3","v":{"v":0.06893106893107753,"d":"0.07"}},{"$f":"x^4-3*x^3-25*x^2+6*x+5","v":5.293839107343354},{"$f":"(F516-F515)/Sheet2!$B$3","v":2.358497735940026},{"$f":"(F516-2*F515+F514)/Sheet2!$B$3^2","v":-51.18366947737364}]
[{"$nulls":4},{"$f":"E515+Sheet2!B$3","v":{"v":0.07492507492508353,"d":"0.07"}},5.307975956909428,{"$f":"(F517-F516)/Sheet2!$B$3","v":2.0511178301045967},{"$f":"(F517-2*F516+F515)/Sheet2!$B$3^2","v":-51.28121429021083}]
[{"$nulls":4},{"$f":"E516+Sheet2!B$3","v":{"v":0.08091908091908953,"d":"0.08"}},5.3202703694774875,{"$f":"(F518-F517)/Sheet2!$B$3","v":1.7431584085555016},{"$f":"(F518-2*F517+F516)/Sheet2!$B$3^2","v":-51.3778968284407}]
[{"$nulls":4},{"$f":"E517+Sheet2!B$3","v":{"v":0.08691308691309553,"d":"0.09"}},5.330718871426871,{"$f":"(F519-F518)/Sheet2!$B$3","v":1.4346246397717577},{"$f":"(F519-2*F518+F517)/Sheet2!$B$3^2","v":-51.47371709208795}]
[{"$nulls":4},{"$f":"E518+Sheet2!B$3","v":{"v":0.09290709290710153,"d":"0.09"}},5.339318020116812,{"$f":"(F520-F519)/Sheet2!$B$3","v":1.1255216922322333},{"$f":"(F520-2*F519+F518)/Sheet2!$B$3^2","v":-51.56867508117732}]
[{"$nulls":4},{"$f":"E519+Sheet2!B$3","v":{"v":0.09890109890110753,"d":"0.10"}},5.346064403886436,{"$f":"(F521-F520)/Sheet2!$B$3","v":0.8158547344162415},{"$f":"(F521-2*F520+F519)/Sheet2!$B$3^2","v":-51.66277079563464}]
[{"$nulls":4},{"$f":"E520+Sheet2!B$3","v":{"v":0.10489510489511353,"d":"0.10"}},5.350954642054765,{"$f":"(F522-F521)/Sheet2!$B$3","v":0.5056289348027988},{"$f":"(F522-2*F521+F520)/Sheet2!$B$3^2","v":-51.75600423550936}]
[{"$nulls":4},{"$f":"E521+Sheet2!B$3","v":{"v":0.11088911088911953,"d":"0.11"}},5.3539853849207155,{"$f":"(F523-F522)/Sheet2!$B$3","v":0.1948494618706255},{"$f":"(F523-2*F522+F521)/Sheet2!$B$3^2","v":-51.848375400850905}]
[{"$nulls":4},{"$f":"E522+Sheet2!B$3","v":{"v":0.11688311688312553,"d":"0.12"}},5.355153313763097,{"$f":"(F524-F523)/Sheet2!$B$3","v":-0.116478515900669},{"$f":"(F524-2*F523+F522)/Sheet2!$B$3^2","v":-51.93988429151097}]
[{"$nulls":4},{"$f":"E523+Sheet2!B$3","v":{"v":0.12287712287713153,"d":"0.12"}},5.354455140840615,{"$f":"(F525-F524)/Sheet2!$B$3","v":-0.42834983003251265},{"$f":"(F525-2*F524+F523)/Sheet2!$B$3^2","v":-52.03053090766259}]
[{"$nulls":4},{"$f":"E524+Sheet2!B$3","v":{"v":0.12887112887113752,"d":"0.13"}},5.351887609391869,{"$f":"(F526-F525)/Sheet2!$B$3","v":-0.7407593120455925},{"$f":"(F526-2*F525+F524)/Sheet2!$B$3^2","v":-52.120315249182156}]
[{"$nulls":4},{"$f":"E525+Sheet2!B$3","v":{"v":0.1348651348651435,"d":"0.13"}},5.347447493635352,{"$f":"(F527-F526)/Sheet2!$B$3","v":-1.05370179346104},{"$f":"(F527-2*F526+F525)/Sheet2!$B$3^2","v":-52.209237316143835}]
[{"$nulls":4},{"$f":"E526+Sheet2!B$3","v":{"v":0.1408591408591495,"d":"0.14"}},5.341131598769452,{"$f":"(F528-F527)/Sheet2!$B$3","v":-1.3671721057995423},{"$f":"(F528-2*F527+F526)/Sheet2!$B$3^2","v":-52.29729710847347}]
[{"$nulls":4},{"$f":"E527+Sheet2!B$3","v":{"v":0.14685314685315548,"d":"0.15"}},5.332936760972451,{"$f":"(F529-F528)/Sheet2!$B$3","v":-1.6811650805823792},{"$f":"(F529-2*F528+F527)/Sheet2!$B$3^2","v":-52.38449462626994}]
[{"$nulls":4},{"$f":"E528+Sheet2!B$3","v":{"v":0.15284715284716147,"d":"0.15"}},5.322859847402527,{"$f":"(F530-F529)/Sheet2!$B$3","v":-1.9956755493300893},{"$f":"(F530-2*F529+F528)/Sheet2!$B$3^2","v":-52.47082986940964}]
[{"$nulls":4},{"$f":"E529+Sheet2!B$3","v":{"v":0.15884115884116745,"d":"0.16"}},5.310897756197751,{"$f":"(F531-F530)/Sheet2!$B$3","v":-2.3106983435641006},{"$f":"(F531-2*F530+F529)/Sheet2!$B$3^2","v":-52.5563028380409}]
[{"$nulls":4},{"$f":"E530+Sheet2!B$3","v":{"v":0.16483516483517344,"d":"0.16"}},5.297047416476088,{"$f":"(F532-F531)/Sheet2!$B$3","v":-2.626228294804804},{"$f":"(F532-2*F531+F530)/Sheet2!$B$3^2","v":-52.64091353199066}]
[{"$nulls":4},{"$f":"E531+Sheet2!B$3","v":{"v":0.17082917082917942,"d":"0.17"}},5.2813057883354,{"$f":"(F533-F532)/Sheet2!$B$3","v":-2.942260234573775},{"$f":"(F533-2*F532+F531)/Sheet2!$B$3^2","v":-52.72466195145671}]
[{"$nulls":4},{"$f":"E532+Sheet2!B$3","v":{"v":0.1768231768231854,"d":"0.18"}},5.2636698628534395,{"$f":"(F534-F533)/Sheet2!$B$3","v":-3.258788994391553},{"$f":"(F534-2*F533+F532)/Sheet2!$B$3^2","v":-52.80754809626598}]
[{"$nulls":4},{"$f":"E533+Sheet2!B$3","v":{"v":0.1828171828171914,"d":"0.18"}},5.244136662087856,{"$f":"(F535-F534)/Sheet2!$B$3","v":-3.5758094057791214},{"$f":"(F535-2*F534+F533)/Sheet2!$B$3^2","v":-52.889571966492646}]
[{"$nulls":4},{"$f":"E534+Sheet2!B$3","v":{"v":0.18881118881119738,"d":"0.19"}},5.222703239076193,{"$f":"(F536-F535)/Sheet2!$B$3","v":-3.8933163002574633},{"$f":"(F536-2*F535+F534)/Sheet2!$B$3^2","v":-52.97073356213671}]
[{"$nulls":4},{"$f":"E535+Sheet2!B$3","v":{"v":0.19480519480520336,"d":"0.19"}},5.199366677835888,{"$f":"(F537-F536)/Sheet2!$B$3","v":-4.211304509347414},{"$f":"(F537-2*F536+F535)/Sheet2!$B$3^2","v":-53.05103288317344}]
[{"$nulls":4},{"$f":"E536+Sheet2!B$3","v":{"v":0.20079920079920935,"d":"0.20"}},5.174124093364275,{"$f":"(F538-F537)/Sheet2!$B$3","v":-4.52976886457055},{"$f":"(F538-2*F537+F536)/Sheet2!$B$3^2","v":-53.13046992972645}]
[{"$nulls":4},{"$f":"E537+Sheet2!B$3","v":{"v":0.20679320679321533,"d":"0.21"}},5.146972631638578,{"$f":"(F539-F538)/Sheet2!$B$3","v":-4.848704197446817},{"$f":"(F539-2*F538+F537)/Sheet2!$B$3^2","v":-53.20904470152381}]
[{"$nulls":4},{"$f":"E538+Sheet2!B$3","v":{"v":0.21278721278722132,"d":"0.21"}},5.1179094696159195,{"$f":"(F540-F539)/Sheet2!$B$3","v":-5.1681053394977905},{"$f":"(F540-2*F539+F538)/Sheet2!$B$3^2","v":-53.28675719883745}]
[{"$nulls":4},{"$f":"E539+Sheet2!B$3","v":{"v":0.2187812187812273,"d":"0.22"}},5.086931815233315,{"$f":"(F541-F540)/Sheet2!$B$3","v":-5.4879671222443065},{"$f":"(F541-2*F540+F539)/Sheet2!$B$3^2","v":-53.363607421543755}]
[{"$nulls":4},{"$f":"E540+Sheet2!B$3","v":{"v":0.2247752247752333,"d":"0.22"}},5.054036907407675,{"$f":"(F542-F541)/Sheet2!$B$3","v":-5.808284377207496},{"$f":"(F542-2*F541+F540)/Sheet2!$B$3^2","v":-53.43959536969218}]
[{"$nulls":4},{"$f":"E541+Sheet2!B$3","v":{"v":0.23076923076923928,"d":"0.23"}},5.019222016035802,{"$f":"(F543-F542)/Sheet2!$B$3","v":-6.129051935907898},{"$f":"(F543-2*F542+F541)/Sheet2!$B$3^2","v":-53.514721043183826}]
[{"$nulls":4},{"$f":"E542+Sheet2!B$3","v":{"v":0.23676323676324526,"d":"0.24"}},4.982484441994396,{"$f":"(F544-F543)/Sheet2!$B$3","v":-6.450264629866646},{"$f":"(F544-2*F543+F542)/Sheet2!$B$3^2","v":-53.58898444211759}]
[{"$nulls":4},{"$f":"E543+Sheet2!B$3","v":{"v":0.24275724275725125,"d":"0.24"}},4.943821517140051,{"$f":"(F545-F544)/Sheet2!$B$3","v":-6.771917290604868},{"$f":"(F545-2*F544+F543)/Sheet2!$B$3^2","v":-53.66238556649348}]
[{"$nulls":4},{"$f":"E544+Sheet2!B$3","v":{"v":0.24875124875125723,"d":"0.25"}},4.903230604309252,{"$f":"(F546-F545)/Sheet2!$B$3","v":-7.094004749643253},{"$f":"(F546-2*F545+F544)/Sheet2!$B$3^2","v":-53.73492441623731}]
[{"$nulls":4},{"$f":"E545+Sheet2!B$3","v":{"v":0.2547452547452632,"d":"0.25"}},4.8607090973183835,{"$f":"(F547-F546)/Sheet2!$B$3","v":-7.416521838502933},{"$f":"(F547-2*F546+F545)/Sheet2!$B$3^2","v":-53.80660099142326}]
[{"$nulls":4},{"$f":"E546+Sheet2!B$3","v":{"v":0.26073926073926923,"d":"0.26"}},4.816254420963721,{"$f":"(F548-F547)/Sheet2!$B$3","v":-7.739463388704743},{"$f":"(F548-2*F547+F546)/Sheet2!$B$3^2","v":-53.87741529200188}]
[{"$nulls":4},{"$f":"E547+Sheet2!B$3","v":{"v":0.26673326673327524,"d":"0.27"}},4.769864031021434,{"$f":"(F549-F548)/Sheet2!$B$3","v":-8.062824231769666},{"$f":"(F549-2*F548+F547)/Sheet2!$B$3^2","v":-53.94736731799789}]
[{"$nulls":4},{"$f":"E548+Sheet2!B$3","v":{"v":0.27272727272728126,"d":"0.27"}},4.72153541424759,{"$f":"(F550-F549)/Sheet2!$B$3","v":-8.386599199218535},{"$f":"(F550-2*F549+F548)/Sheet2!$B$3^2","v":-54.016457069386576}]
[{"$nulls":4},{"$f":"E549+Sheet2!B$3","v":{"v":0.27872127872128727,"d":"0.28"}},4.6712660883781485,{"$f":"(F551-F550)/Sheet2!$B$3","v":-8.710783122572783},{"$f":"(F551-2*F550+F549)/Sheet2!$B$3^2","v":-54.08468454626682}]
[{"$nulls":4},{"$f":"E550+Sheet2!B$3","v":{"v":0.2847152847152933,"d":"0.28"}},4.619053602128961,{"$f":"(F552-F551)/Sheet2!$B$3","v":-9.0353708333525},{"$f":"(F552-2*F551+F550)/Sheet2!$B$3^2","v":-54.152049748416125}]
[{"$nulls":4},{"$f":"E551+Sheet2!B$3","v":{"v":0.2907092907092993,"d":"0.29"}},4.564895535195779,{"$f":"(F553-F552)/Sheet2!$B$3","v":-9.360357163079412},{"$f":"(F553-2*F552+F551)/Sheet2!$B$3^2","v":-54.218552676106434}]
[{"$nulls":4},{"$f":"E552+Sheet2!B$3","v":{"v":0.2967032967033053,"d":"0.30"}},4.508789498254244,{"$f":"(F554-F553)/Sheet2!$B$3","v":-9.685736943274057},{"$f":"(F554-2*F553+F552)/Sheet2!$B$3^2","v":-54.284193329139974}]
[{"$nulls":4},{"$f":"E553+Sheet2!B$3","v":{"v":0.3026973026973113,"d":"0.30"}},4.450733132959894,{"$f":"(F555-F554)/Sheet2!$B$3","v":-10.011505005457714},{"$f":"(F555-2*F554+F553)/Sheet2!$B$3^2","v":-54.34897170764035}]
[{"$nulls":4},{"$f":"E554+Sheet2!B$3","v":{"v":0.30869130869131733,"d":"0.31"}},4.39072411194816,{"$f":"(F556-F555)/Sheet2!$B$3","v":-10.337656181150777},{"$f":"(F556-2*F555+F554)/Sheet2!$B$3^2","v":-54.412887811459235}]
[{"$nulls":4},{"$f":"E555+Sheet2!B$3","v":{"v":0.31468531468532335,"d":"0.31"}},4.328760138834369,{"$f":"(F557-F556)/Sheet2!$B$3","v":-10.66418530187482},{"$f":"(F557-2*F556+F555)/Sheet2!$B$3^2","v":-54.475941640794396}]
[{"$nulls":4},{"$f":"E556+Sheet2!B$3","v":{"v":0.32067932067932936,"d":"0.32"}},4.2648389482137405,{"$f":"(F558-F557)/Sheet2!$B$3","v":-10.99108719915038},{"$f":"(F558-2*F557+F556)/Sheet2!$B$3^2","v":-54.53813319547279}]
[{"$nulls":4},{"$f":"E557+Sheet2!B$3","v":{"v":0.3266733266733354,"d":"0.33"}},4.198958305661391,{"$f":"(F559-F558)/Sheet2!$B$3","v":-11.318356704498592},{"$f":"(F559-2*F558+F557)/Sheet2!$B$3^2","v":-54.59946247559329}]
[{"$nulls":4},{"$f":"E558+Sheet2!B$3","v":{"v":0.3326673326673414,"d":"0.33"}},4.131116007732328,{"$f":"(F560-F559)/Sheet2!$B$3","v":-11.645988649440142},{"$f":"(F560-2*F559+F558)/Sheet2!$B$3^2","v":-54.65992948108175}]
[{"$nulls":4},{"$f":"E559+Sheet2!B$3","v":{"v":0.3386613386613474,"d":"0.34"}},4.061309881961458,{"$f":"(F561-F560)/Sheet2!$B$3","v":-11.973977865496455},{"$f":"(F561-2*F560+F559)/Sheet2!$B$3^2","v":-54.71953421206177}]
[{"$nulls":4},{"$f":"E560+Sheet2!B$3","v":{"v":0.3446553446553534,"d":"0.34"}},3.9895377868635773,{"$f":"(F562-F561)/Sheet2!$B$3","v":-12.302319184188148},{"$f":"(F562-2*F561+F560)/Sheet2!$B$3^2","v":-54.77827666840973}]
[{"$nulls":4},{"$f":"E561+Sheet2!B$3","v":{"v":0.3506493506493594,"d":"0.35"}},3.9157976119333786,{"$f":"(F563-F562)/Sheet2!$B$3","v":-12.631007437036128},{"$f":"(F563-2*F562+F561)/Sheet2!$B$3^2","v":-54.836156850138}]
[{"$nulls":4},{"$f":"E562+Sheet2!B$3","v":{"v":0.35664335664336544,"d":"0.36"}},3.8400872776454498,{"$f":"(F564-F563)/Sheet2!$B$3","v":-12.960037455561453},{"$f":"(F564-2*F563+F562)/Sheet2!$B$3^2","v":-54.8931747573084}]
[{"$nulls":4},{"$f":"E563+Sheet2!B$3","v":{"v":0.36263736263737145,"d":"0.36"}},3.7624047354542722,{"$f":"(F565-F564)/Sheet2!$B$3","v":-13.289404071285032},{"$f":"(F565-2*F564+F563)/Sheet2!$B$3^2","v":-54.949330389883826}]
[{"$nulls":4},{"$f":"E564+Sheet2!B$3","v":{"v":0.36863136863137747,"d":"0.37"}},3.682747967794222,{"$f":"(F566-F565)/Sheet2!$B$3","v":-13.619102115727848},{"$f":"(F566-2*F565+F564)/Sheet2!$B$3^2","v":-55.00462374787664}]
[{"$nulls":4},{"$f":"E565+Sheet2!B$3","v":{"v":0.3746253746253835,"d":"0.37"}},3.6011149880795696,{"$f":"(F567-F566)/Sheet2!$B$3","v":-13.949126420410888},{"$f":"(F567-2*F566+F565)/Sheet2!$B$3^2","v":-55.05905483128686}]
[{"$nulls":4},{"$f":"E566+Sheet2!B$3","v":{"v":0.3806193806193895,"d":"0.38"}},3.5175038407044794,{"$f":"(F568-F567)/Sheet2!$B$3","v":-14.27947181685513},{"$f":"(F568-2*F567+F566)/Sheet2!$B$3^2","v":-55.11262364011446}]
[{"$nulls":4},{"$f":"E567+Sheet2!B$3","v":{"v":0.3866133866133955,"d":"0.39"}},3.43191260104301,{"$f":"(F569-F568)/Sheet2!$B$3","v":-14.61013313658119},{"$f":"(F569-2*F568+F567)/Sheet2!$B$3^2","v":-55.16533017429766}]
[{"$nulls":4},{"$f":"E568+Sheet2!B$3","v":{"v":0.3926073926074015,"d":"0.39"}},3.344339375449117,{"$f":"(F570-F569)/Sheet2!$B$3","v":-14.94110521111042},{"$f":"(F570-2*F569+F568)/Sheet2!$B$3^2","v":-55.21717443396005}]
[{"$nulls":4},{"$f":"E569+Sheet2!B$3","v":{"v":0.39860139860140753,"d":"0.40"}},3.254782301256647,{"$f":"(F571-F570)/Sheet2!$B$3","v":-15.272382871963732},{"$f":"(F571-2*F570+F569)/Sheet2!$B$3^2","v":-55.26815641902748}]
[{"$nulls":4},{"$f":"E570+Sheet2!B$3","v":{"v":0.40459540459541354,"d":"0.40"}},3.1632395467793417,{"$f":"(F572-F571)/Sheet2!$B$3","v":-15.603960950661737},{"$f":"(F572-2*F571+F570)/Sheet2!$B$3^2","v":-55.31827612945049}]
[{"$nulls":4},{"$f":"E571+Sheet2!B$3","v":{"v":0.41058941058941956,"d":"0.41"}},3.06970931131084,{"$f":"(F573-F572)/Sheet2!$B$3","v":-15.935834278725716},{"$f":"(F573-2*F572+F571)/Sheet2!$B$3^2","v":-55.367533565340345}]
[{"$nulls":4},{"$f":"E572+Sheet2!B$3","v":{"v":0.41658341658342557,"d":"0.42"}},2.9741898251246717,{"$f":"(F574-F573)/Sheet2!$B$3","v":-16.267997687676502},{"$f":"(F574-2*F573+F572)/Sheet2!$B$3^2","v":-55.415928726622866}]
[{"$nulls":4},{"$f":"E573+Sheet2!B$3","v":{"v":0.4225774225774316,"d":"0.42"}},2.876679349474263,{"$f":"(F575-F574)/Sheet2!$B$3","v":-16.600446009034933},{"$f":"(F575-2*F574+F573)/Sheet2!$B$3^2","v":-55.463461613298065}]
[{"$nulls":4},{"$f":"E574+Sheet2!B$3","v":{"v":0.4285714285714376,"d":"0.43"}},2.777176176592935,{"$f":"(F576-F575)/Sheet2!$B$3","v":-16.933174074322135},{"$f":"(F576-2*F575+F574)/Sheet2!$B$3^2","v":-55.510132225415376}]
[{"$nulls":4},{"$f":"E575+Sheet2!B$3","v":{"v":0.4345654345654436,"d":"0.43"}},2.675678629693901,{"$f":"(F577-F576)/Sheet2!$B$3","v":-17.26617671505925},{"$f":"(F577-2*F576+F575)/Sheet2!$B$3^2","v":-55.555940562974804}]
[{"$nulls":4},{"$f":"E576+Sheet2!B$3","v":{"v":0.4405594405594496,"d":"0.44"}},2.572185062970269,{"$f":"(F578-F577)/Sheet2!$B$3","v":-17.59944876276651},{"$f":"(F578-2*F577+F576)/Sheet2!$B$3^2","v":-55.60088662582802}]
[{"$nulls":4},{"$f":"E577+Sheet2!B$3","v":{"v":0.44655344655345564,"d":"0.45"}},2.4666938615950453,{"$f":"(F579-F578)/Sheet2!$B$3","v":-17.932985048965346},{"$f":"(F579-2*F578+F577)/Sheet2!$B$3^2","v":-55.64497041417279}]
[{"$nulls":4},{"$f":"E578+Sheet2!B$3","v":{"v":0.45254745254746165,"d":"0.45"}},{"$f":"x^4-3*x^3-25*x^2+6*x+5","v":2.359203441721127},{"$f":"(F580-F579)/Sheet2!$B$3","v":-18.26678040517704},{"$f":"(F580-2*F579+F578)/Sheet2!$B$3^2","v":-55.68819192798439}]
[{"$nulls":4},{"$f":"E579+Sheet2!B$3","v":{"v":0.45854145854146766,"d":"0.46"}},2.2497122504813047,{"$f":"(F581-F580)/Sheet2!$B$3","v":-18.60082966292213},{"$f":"(F581-2*F580+F579)/Sheet2!$B$3^2","v":-55.73055116713923}]
[{"$nulls":4},{"$f":"E580+Sheet2!B$3","v":{"v":0.4645354645354737,"d":"0.46"}},2.138218765988265,{"$f":"(F582-F581)/Sheet2!$B$3","v":-18.935127653721306},{"$f":"(F582-2*F581+F580)/Sheet2!$B$3^2","v":-55.77204813166202}]
[{"$nulls":4},{"$f":"E581+Sheet2!B$3","v":{"v":0.4705294705294797,"d":"0.47"}},2.024721497334591,{"$f":"(F583-F582)/Sheet2!$B$3","v":-19.269669209095987},{"$f":"(F583-2*F582+F581)/Sheet2!$B$3^2","v":-55.81268282167636}]
[{"$nulls":4},{"$f":"E582+Sheet2!B$3","v":{"v":0.4765234765234857,"d":"0.48"}},1.9092189845927567,{"$f":"(F584-F583)/Sheet2!$B$3","v":-19.60444916056687},{"$f":"(F584-2*F583+F582)/Sheet2!$B$3^2","v":-55.852455237058656}]
[{"$nulls":4},{"$f":"E583+Sheet2!B$3","v":{"v":0.4825174825174917,"d":"0.48"}},1.7917097988151331,{"$f":"(F585-F584)/Sheet2!$B$3","v":-19.93946233965523},{"$f":"(F585-2*F584+F583)/Sheet2!$B$3^2","v":-55.89136537790779}]
[{"$nulls":4},{"$f":"E584+Sheet2!B$3","v":{"v":0.4885114885114977,"d":"0.49"}},1.672192542033983,{"$f":"(F586-F585)/Sheet2!$B$3","v":-20.274703577881453},{"$f":"(F586-2*F585+F584)/Sheet2!$B$3^2","v":-55.929413244075434}]
[{"$nulls":4},{"$f":"E585+Sheet2!B$3","v":{"v":0.49450549450550374,"d":"0.49"}},1.5506658472614667,{"$f":"(F587-F586)/Sheet2!$B$3","v":-20.610167706766976},{"$f":"(F587-2*F586+F585)/Sheet2!$B$3^2","v":-55.96659883573463}]
[{"$nulls":4},{"$f":"E586+Sheet2!B$3","v":{"v":0.5004995004995098,"d":"0.50"}},1.4271283784896367,{"$f":"(F588-F587)/Sheet2!$B$3","v":-20.94584955783248},{"$f":"(F588-2*F587+F586)/Sheet2!$B$3^2","v":-56.002922152761776}]
[{"$nulls":4},{"$f":"E587+Sheet2!B$3","v":{"v":0.5064935064935158,"d":"0.51"}},1.301578830690441,{"$f":"(F589-F588)/Sheet2!$B$3","v":-21.281743962599396},{"$f":"(F589-2*F588+F587)/Sheet2!$B$3^2","v":-56.03838319528048}]
[{"$nulls":4},{"$f":"E588+Sheet2!B$3","v":{"v":0.5124875124875218,"d":"0.51"}},1.1740159298157193,{"$f":"(F590-F589)/Sheet2!$B$3","v":-21.617845752587524},{"$f":"(F590-2*F589+F588)/Sheet2!$B$3^2","v":-56.07298196301881}]
[{"$nulls":4},{"$f":"E589+Sheet2!B$3","v":{"v":0.5184815184815278,"d":"0.52"}},1.0444384327972127,{"$f":"(F591-F590)/Sheet2!$B$3","v":-21.95414975931932},{"$f":"(F591-2*F590+F589)/Sheet2!$B$3^2","v":-56.106718456421746}]
[{"$nulls":4},{"$f":"E590+Sheet2!B$3","v":{"v":0.5244755244755338,"d":"0.52"}},0.9128451275465475,{"$f":"(F592-F591)/Sheet2!$B$3","v":-22.290650814314592},{"$f":"(F592-2*F591+F590)/Sheet2!$B$3^2","v":-56.139592675044305}]
[{"$nulls":4},{"$f":"E591+Sheet2!B$3","v":{"v":0.5304695304695398,"d":"0.53"}},0.7792348329552512,{"$f":"(F593-F592)/Sheet2!$B$3","v":-22.627343749094763},{"$f":"(F593-2*F592+F591)/Sheet2!$B$3^2","v":-56.17160461915842}]
[{"$nulls":4},{"$f":"E592+Sheet2!B$3","v":{"v":0.5364635364635458,"d":"0.54"}},0.6436063988947431,{"$f":"(F594-F593)/Sheet2!$B$3","v":-22.964223395180518},{"$f":"(F594-2*F593+F592)/Sheet2!$B$3^2","v":-56.20275428864049}]
[{"$nulls":4},{"$f":"E593+Sheet2!B$3","v":{"v":0.5424575424575518,"d":"0.54"}},0.5059587062163384,{"$f":"(F595-F594)/Sheet2!$B$3","v":-23.301284584093292},{"$f":"(F595-2*F594+F593)/Sheet2!$B$3^2","v":-56.23304168361412}]
[{"$nulls":4},{"$f":"E594+Sheet2!B$3","v":{"v":0.5484515484515579,"d":"0.55"}},0.3662906667512438,{"$f":"(F596-F595)/Sheet2!$B$3","v":-23.63852214735332},{"$f":"(F596-2*F595+F594)/Sheet2!$B$3^2","v":-56.26246680388153}]
[{"$nulls":4},{"$f":"E595+Sheet2!B$3","v":{"v":0.5544455544455639,"d":"0.55"}},0.22460122331056454,{"$f":"(F597-F596)/Sheet2!$B$3","v":-23.97593091648263},{"$f":"(F597-2*F596+F595)/Sheet2!$B$3^2","v":-56.291029649739386}]
[{"$nulls":4},{"$f":"E596+Sheet2!B$3","v":{"v":0.5604395604395699,"d":"0.56"}},0.08088934968529404,{"$f":"(F598-F597)/Sheet2!$B$3","v":-24.31350572300101},{"$f":"(F598-2*F597+F596)/Sheet2!$B$3^2","v":-56.31873022081686}]
[{"$nulls":4},{"$f":"E597+Sheet2!B$3","v":{"v":0.5664335664335759,"d":"0.57"}},-0.06484594935367305,{"$f":"(F599-F598)/Sheet2!$B$3","v":-24.651241398429896},{"$f":"(F599-2*F598+F597)/Sheet2!$B$3^2","v":-56.3455685173859}]
[{"$nulls":4},{"$f":"E598+Sheet2!B$3","v":{"v":0.5724275724275819,"d":"0.57"}},-0.21260563805555055,{"$f":"(F600-F599)/Sheet2!$B$3","v":-24.98913277429027},{"$f":"(F600-2*F599+F598)/Sheet2!$B$3^2","v":-56.37154453937233}]
[{"$nulls":4},{"$f":"E599+Sheet2!B$3","v":{"v":0.5784215784215879,"d":"0.58"}},-0.36239064968965806,{"$f":"(F601-F600)/Sheet2!$B$3","v":-25.327174682103113},{"$f":"(F601-2*F600+F599)/Sheet2!$B$3^2","v":-56.39665828677615}]
[{"$nulls":4},{"$f":"E600+Sheet2!B$3","v":{"v":0.5844155844155939,"d":"0.58"}},-0.514201886545421,{"$f":"(F602-F601)/Sheet2!$B$3","v":-25.66536195338941},{"$f":"(F602-2*F601+F600)/Sheet2!$B$3^2","v":-56.420909759597365}]
[{"$nulls":4},{"$f":"E601+Sheet2!B$3","v":{"v":0.5904095904096,"d":"0.59"}},-0.6680402199323705,{"$f":"(F603-F602)/Sheet2!$B$3","v":-26.003689419669556},{"$f":"(F603-2*F602+F601)/Sheet2!$B$3^2","v":-56.44429895773709}]
[{"$nulls":4},{"$f":"E602+Sheet2!B$3","v":{"v":0.596403596403606,"d":"0.60"}},-0.8239064901801401,{"$f":"(F604-F603)/Sheet2!$B$3","v":-26.342151912465415},{"$f":"(F604-2*F603+F602)/Sheet2!$B$3^2","v":-56.46682588144254}]
[{"$nulls":4},{"$f":"E603+Sheet2!B$3","v":{"v":0.602397602397612,"d":"0.60"}},-0.9818015066384742,{"$f":"(F605-F604)/Sheet2!$B$3","v":-26.680744263297083},{"$f":"(F605-2*F604+F603)/Sheet2!$B$3^2","v":-56.488490530417046}]
[{"$nulls":4},{"$f":"E604+Sheet2!B$3","v":{"v":0.608391608391618,"d":"0.61"}},-1.141726047677218,{"$f":"(F606-F605)/Sheet2!$B$3","v":-27.019461303686143},{"$f":"(F606-2*F605+F604)/Sheet2!$B$3^2","v":-56.50929290490784}]
[{"$nulls":4},{"$f":"E605+Sheet2!B$3","v":{"v":0.614385614385624,"d":"0.61"}},-1.3036808606863257,{"$f":"(F607-F606)/Sheet2!$B$3","v":-27.35829786515357},{"$f":"(F607-2*F606+F605)/Sheet2!$B$3^2","v":-56.52923300481602}]
[{"$nulls":4},{"$f":"E606+Sheet2!B$3","v":{"v":0.62037962037963,"d":"0.62"}},-1.4676666620758576,{"$f":"(F608-F607)/Sheet2!$B$3","v":-27.697248779219464},{"$f":"(F608-2*F607+F606)/Sheet2!$B$3^2","v":-56.54831082999327}]
[{"$nulls":4},{"$f":"E607+Sheet2!B$3","v":{"v":0.626373626373636,"d":"0.63"}},-1.6336841372759743,{"$f":"(F609-F608)/Sheet2!$B$3","v":-28.0363088774051},{"$f":"(F609-2*F608+F607)/Sheet2!$B$3^2","v":-56.566526380637356}]
[{"$nulls":4},{"$f":"E608+Sheet2!B$3","v":{"v":0.632367632367642,"d":"0.63"}},-1.801733940736944,{"$f":"(F610-F609)/Sheet2!$B$3","v":-28.375472991232655},{"$f":"(F610-2*F609+F608)/Sheet2!$B$3^2","v":-56.583879656896606}]
[{"$nulls":4},{"$f":"E609+Sheet2!B$3","v":{"v":0.638361638361648,"d":"0.64"}},-1.9718166959291477,{"$f":"(F611-F610)/Sheet2!$B$3","v":-28.714735952221325},{"$f":"(F611-2*F610+F609)/Sheet2!$B$3^2","v":-56.600370658276596}]
[{"$nulls":4},{"$f":"E610+Sheet2!B$3","v":{"v":0.6443556443556541,"d":"0.64"}},-2.1439329953430617,{"$f":"(F612-F611)/Sheet2!$B$3","v":-29.05409259189299},{"$f":"(F612-2*F611+F610)/Sheet2!$B$3^2","v":-56.6159993852223}]
[{"$nulls":4},{"$f":"E611+Sheet2!B$3","v":{"v":0.6503496503496601,"d":"0.65"}},-2.3180834004892734,{"$f":"(F613-F612)/Sheet2!$B$3","v":-29.393537741768625},{"$f":"(F613-2*F612+F611)/Sheet2!$B$3^2","v":-56.63076583758541}]
[{"$nulls":4},{"$f":"E612+Sheet2!B$3","v":{"v":0.6563436563436661,"d":"0.66"}},-2.494268441898476,{"$f":"(F614-F613)/Sheet2!$B$3","v":-29.73306623336863},{"$f":"(F614-2*F613+F612)/Sheet2!$B$3^2","v":-56.64467001526702}]
[{"$nulls":4},{"$f":"E613+Sheet2!B$3","v":{"v":0.6623376623376721,"d":"0.66"}},-2.6724886191214647,{"$f":"(F615-F614)/Sheet2!$B$3","v":-30.07267289821487},{"$f":"(F615-2*F614+F613)/Sheet2!$B$3^2","v":-56.65771191851435}]
[{"$nulls":4},{"$f":"E614+Sheet2!B$3","v":{"v":0.6683316683316781,"d":"0.67"}},-2.8527444007291463,{"$f":"(F616-F615)/Sheet2!$B$3","v":-30.412352567827142},{"$f":"(F616-2*F615+F614)/Sheet2!$B$3^2","v":-56.669891546981304}]
[{"$nulls":4},{"$f":"E615+Sheet2!B$3","v":{"v":0.6743256743256841,"d":"0.67"}},-3.0350362243125257,{"$f":"(F617-F616)/Sheet2!$B$3","v":-30.752100073727178},{"$f":"(F617-2*F616+F615)/Sheet2!$B$3^2","v":-56.68120890098926}]
[{"$nulls":4},{"$f":"E616+Sheet2!B$3","v":{"v":0.6803196803196901,"d":"0.68"}},-3.2193644964827186,{"$f":"(F618-F617)/Sheet2!$B$3","v":-31.09191024743566},{"$f":"(F618-2*F617+F616)/Sheet2!$B$3^2","v":-56.69166398036516}]
[{"$nulls":4},{"$f":"E617+Sheet2!B$3","v":{"v":0.6863136863136962,"d":"0.69"}},-3.4057295928709443,{"$f":"(F619-F618)/Sheet2!$B$3","v":-31.43177792047402},{"$f":"(F619-2*F618+F617)/Sheet2!$B$3^2","v":-56.70125678523263}]
[{"$nulls":4},{"$f":"E618+Sheet2!B$3","v":{"v":0.6923076923077022,"d":"0.69"}},-3.594131858128531,{"$f":"(F620-F619)/Sheet2!$B$3","v":-31.771697924361753},{"$f":"(F620-2*F619+F618)/Sheet2!$B$3^2","v":-56.709987315270276}]
[{"$nulls":4},{"$f":"E619+Sheet2!B$3","v":{"v":0.6983016983017082,"d":"0.70"}},-3.784571605926903,{"$f":"(F621-F620)/Sheet2!$B$3","v":-32.11166509062222},{"$f":"(F621-2*F620+F619)/Sheet2!$B$3^2","v":-56.71785557112085}]
[{"$nulls":4},{"$f":"E620+Sheet2!B$3","v":{"v":0.7042957042957142,"d":"0.70"}},-3.9770491189576056,{"$f":"(F622-F621)/Sheet2!$B$3","v":-32.45167425077343},{"$f":"(F622-2*F621+F620)/Sheet2!$B$3^2","v":-56.7248615518944}]
[{"$nulls":4},{"$f":"E621+Sheet2!B$3","v":{"v":0.7102897102897202,"d":"0.71"}},-4.1715646489322715,{"$f":"(F623-F622)/Sheet2!$B$3","v":-32.791720236339344},{"$f":"(F623-2*F622+F621)/Sheet2!$B$3^2","v":-56.73100525857976}]
[{"$nulls":4},{"$f":"E622+Sheet2!B$3","v":{"v":0.7162837162837262,"d":"0.72"}},-4.368118416582657,{"$f":"(F624-F623)/Sheet2!$B$3","v":-33.13179787883886},{"$f":"(F624-2*F623+F622)/Sheet2!$B$3^2","v":-56.73628669033643}]
[{"$nulls":4},{"$f":"E623+Sheet2!B$3","v":{"v":0.7222777222777322,"d":"0.72"}},-4.566710611660612,{"$f":"(F625-F624)/Sheet2!$B$3","v":-33.47190200979357},{"$f":"(F625-2*F624+F623)/Sheet2!$B$3^2","v":-56.74070584760937}]
[{"$nulls":4},{"$f":"E624+Sheet2!B$3","v":{"v":0.7282717282717383,"d":"0.73"}},-4.767341392938096,{"$f":"(F626-F625)/Sheet2!$B$3","v":-33.81202746072354},{"$f":"(F626-2*F625+F624)/Sheet2!$B$3^2","v":-56.74426273015138}]
[{"$nulls":4},{"$f":"E625+Sheet2!B$3","v":{"v":0.7342657342657443,"d":"0.73"}},-4.9700108882071685,{"$f":"(F627-F626)/Sheet2!$B$3","v":-34.15216906315215},{"$f":"(F627-2*F626+F625)/Sheet2!$B$3^2","v":-56.74695733850631}]
[{"$nulls":4},{"$f":"E626+Sheet2!B$3","v":{"v":0.7402597402597503,"d":"0.74"}},-5.174719194280009,{"$f":"(F628-F627)/Sheet2!$B$3","v":-34.49232164859771},{"$f":"(F628-2*F627+F626)/Sheet2!$B$3^2","v":-56.74878967183366}]
[{"$nulls":4},{"$f":"E627+Sheet2!B$3","v":{"v":0.7462537462537563,"d":"0.75"}},-5.381466376988886,{"$f":"(F629-F628)/Sheet2!$B$3","v":-34.832480048581786},{"$f":"(F629-2*F628+F627)/Sheet2!$B$3^2","v":-56.74975973067729}]
[{"$nulls":4},{"$f":"E628+Sheet2!B$3","v":{"v":0.7522477522477623,"d":"0.75"}},-5.590252471186179,{"$f":"(F630-F629)/Sheet2!$B$3","v":-35.17263909462715},{"$f":"(F630-2*F629+F628)/Sheet2!$B$3^2","v":-56.74986751523497}]
[{"$nulls":4},{"$f":"E629+Sheet2!B$3","v":{"v":0.7582417582417683,"d":"0.76"}},-5.801077480744384,{"$f":"(F631-F630)/Sheet2!$B$3","v":-35.51279361825242},{"$f":"(F631-2*F630+F629)/Sheet2!$B$3^2","v":-56.7491130248145}]
[{"$nulls":4},{"$f":"E630+Sheet2!B$3","v":{"v":0.7642357642357743,"d":"0.76"}},-6.013941378556087,{"$f":"(F632-F631)/Sheet2!$B$3","v":-35.852938450979444},{"$f":"(F632-2*F631+F630)/Sheet2!$B$3^2","v":-56.74749625995975}]
[{"$nulls":4},{"$f":"E631+Sheet2!B$3","v":{"v":0.7702297702297803,"d":"0.77"}},-6.228844106533986,{"$f":"(F633-F632)/Sheet2!$B$3","v":-36.19306842432923},{"$f":"(F633-2*F632+F631)/Sheet2!$B$3^2","v":-56.7450172205224}]
[{"$nulls":4},{"$f":"E632+Sheet2!B$3","v":{"v":0.7762237762237864,"d":"0.78"}},-6.445785575610884,{"$f":"(F634-F633)/Sheet2!$B$3","v":-36.53317836982275},{"$f":"(F634-2*F633+F632)/Sheet2!$B$3^2","v":-56.74167590650244}]
[{"$nulls":4},{"$f":"E633+Sheet2!B$3","v":{"v":0.7822177822177924,"d":"0.78"}},-6.664765665739692,{"$f":"(F635-F634)/Sheet2!$B$3","v":-36.87326311898158},{"$f":"(F635-2*F634+F633)/Sheet2!$B$3^2","v":-56.73747231799876}]
[{"$nulls":4},{"$f":"E634+Sheet2!B$3","v":{"v":0.7882117882117984,"d":"0.79"}},-6.885784225893428,{"$f":"(F636-F635)/Sheet2!$B$3","v":-37.21331750332464},{"$f":"(F636-2*F635+F634)/Sheet2!$B$3^2","v":-56.73240645456637}]
[{"$nulls":4},{"$f":"E635+Sheet2!B$3","v":{"v":0.7942057942058044,"d":"0.79"}},-7.108841074065204,{"$f":"(F637-F636)/Sheet2!$B$3","v":-37.55333635437527},{"$f":"(F637-2*F636+F635)/Sheet2!$B$3^2","v":-56.72647831694692}]
[{"$nulls":4},{"$f":"E636+Sheet2!B$3","v":{"v":0.8001998001998104,"d":"0.80"}},-7.333935997268252,{"$f":"(F638-F637)/Sheet2!$B$3","v":-37.89331450365268},{"$f":"(F638-2*F637+F636)/Sheet2!$B$3^2","v":-56.71968790444821}]
[{"$nulls":4},{"$f":"E637+Sheet2!B$3","v":{"v":0.8061938061938164,"d":"0.81"}},-7.561068751535901,{"$f":"(F639-F638)/Sheet2!$B$3","v":-38.233246782679046},{"$f":"(F639-2*F638+F637)/Sheet2!$B$3^2","v":-56.712035217564654}]
[{"$nulls":4},{"$f":"E638+Sheet2!B$3","v":{"v":0.8121878121878224,"d":"0.81"}},-7.790239061921589,{"$f":"(F640-F639)/Sheet2!$B$3","v":-38.57312802297475},{"$f":"(F640-2*F639+F638)/Sheet2!$B$3^2","v":-56.703520255999614}]
[{"$nulls":4},{"$f":"E639+Sheet2!B$3","v":{"v":0.8181818181818284,"d":"0.82"}},-8.02144662249886,{"$f":"(F641-F640)/Sheet2!$B$3","v":-38.91295305606018},{"$f":"(F641-2*F640+F639)/Sheet2!$B$3^2","v":-56.69414301975308}]
[{"$nulls":4},{"$f":"E640+Sheet2!B$3","v":{"v":0.8241758241758345,"d":"0.82"}},-8.25469109636136,{"$f":"(F642-F641)/Sheet2!$B$3","v":-39.25271671345751},{"$f":"(F642-2*F641+F640)/Sheet2!$B$3^2","v":-56.683903509121706}]
[{"$nulls":4},{"$f":"E641+Sheet2!B$3","v":{"v":0.8301698301698405,"d":"0.83"}},-8.489972115622843,{"$f":"(F643-F642)/Sheet2!$B$3","v":-39.592413826686546},{"$f":"(F643-2*F642+F641)/Sheet2!$B$3^2","v":-56.67280172370996}]
[{"$nulls":4},{"$f":"E642+Sheet2!B$3","v":{"v":0.8361638361638465,"d":"0.84"}},{"$f":"x^4-3*x^3-25*x^2+6*x+5","v":-8.727289281417168},{"$f":"(F644-F643)/Sheet2!$B$3","v":-39.93203922727003},{"$f":"(F644-2*F643+F642)/Sheet2!$B$3^2","v":-56.66083766401226}]
[{"$nulls":4},{"$f":"E643+Sheet2!B$3","v":{"v":0.8421578421578525,"d":"0.84"}},-8.966642163898307,{"$f":"(F645-F644)/Sheet2!$B$3","v":-40.27158774672541},{"$f":"(F645-2*F644+F643)/Sheet2!$B$3^2","v":-56.648011329138654}]
[{"$nulls":4},{"$f":"E644+Sheet2!B$3","v":{"v":0.8481518481518585,"d":"0.85"}},-9.208030302240317,{"$f":"(F646-F645)/Sheet2!$B$3","v":-40.611054216577216},{"$f":"(F646-2*F645+F644)/Sheet2!$B$3^2","v":-56.63432272027574}]
[{"$nulls":4},{"$f":"E645+Sheet2!B$3","v":{"v":0.8541458541458645,"d":"0.85"}},-9.451453204637383,{"$f":"(F647-F646)/Sheet2!$B$3","v":-40.95043346834524},{"$f":"(F647-2*F646+F645)/Sheet2!$B$3^2","v":-56.61977183663245}]
[{"$nulls":4},{"$f":"E646+Sheet2!B$3","v":{"v":0.8601398601398705,"d":"0.86"}},-9.696910348303788,{"$f":"(F648-F647)/Sheet2!$B$3","v":-41.28972033354929},{"$f":"(F648-2*F647+F646)/Sheet2!$B$3^2","v":-56.60435867820879}]
[{"$nulls":4},{"$f":"E647+Sheet2!B$3","v":{"v":0.8661338661338766,"d":"0.87"}},-9.944401179473914,{"$f":"(F649-F648)/Sheet2!$B$3","v":-41.62890964371153},{"$f":"(F649-2*F648+F647)/Sheet2!$B$3^2","v":-56.58808324540029}]
[{"$nulls":4},{"$f":"E648+Sheet2!B$3","v":{"v":0.8721278721278826,"d":"0.87"}},-10.193925113402255,{"$f":"(F650-F649)/Sheet2!$B$3","v":-41.96799623035294},{"$f":"(F650-2*F649+F648)/Sheet2!$B$3^2","v":-56.570945538009184}]
[{"$nulls":4},{"$f":"E649+Sheet2!B$3","v":{"v":0.8781218781218886,"d":"0.88"}},-10.445481534363411,{"$f":"(F651-F650)/Sheet2!$B$3","v":-42.306974924993916},{"$f":"(F651-2*F650+F649)/Sheet2!$B$3^2","v":-56.55294555593658}]
[{"$nulls":4},{"$f":"E650+Sheet2!B$3","v":{"v":0.8841158841158946,"d":"0.88"}},-10.699069795652086,{"$f":"(F652-F651)/Sheet2!$B$3","v":-42.645840559155445},{"$f":"(F652-2*F651+F650)/Sheet2!$B$3^2","v":-56.53408329928138}]
[{"$nulls":4},{"$f":"E651+Sheet2!B$3","v":{"v":0.8901098901099006,"d":"0.89"}},-10.954689219583088,{"$f":"(F653-F652)/Sheet2!$B$3","v":-42.98458796435969},{"$f":"(F653-2*F652+F651)/Sheet2!$B$3^2","v":-56.51435876824134}]
[{"$nulls":4},{"$f":"E652+Sheet2!B$3","v":{"v":0.8961038961039066,"d":"0.90"}},-11.212339097491338,{"$f":"(F654-F653)/Sheet2!$B$3","v":-43.323211972124966},{"$f":"(F654-2*F653+F652)/Sheet2!$B$3^2","v":-56.49377196217371}]
[{"$nulls":4},{"$f":"E653+Sheet2!B$3","v":{"v":0.9020979020979126,"d":"0.90"}},-11.472018689731847,{"$f":"(F655-F654)/Sheet2!$B$3","v":-43.66170741397463},{"$f":"(F655-2*F654+F653)/Sheet2!$B$3^2","v":-56.47232288191901}]
[{"$nulls":4},{"$f":"E654+Sheet2!B$3","v":{"v":0.9080919080919186,"d":"0.91"}},-11.733727225679747,{"$f":"(F656-F655)/Sheet2!$B$3","v":-44.00006912142967},{"$f":"(F656-2*F655+F654)/Sheet2!$B$3^2","v":-56.450011527081706}]
[{"$nulls":4},{"$f":"E655+Sheet2!B$3","v":{"v":0.9140859140859247,"d":"0.91"}},-11.997463903730274,{"$f":"(F657-F656)/Sheet2!$B$3","v":-44.33829192600869},{"$f":"(F657-2*F656+F655)/Sheet2!$B$3^2","v":-56.42683789726626}]
[{"$nulls":4},{"$f":"E656+Sheet2!B$3","v":{"v":0.9200799200799307,"d":"0.92"}},-12.263227891298758,{"$f":"(F658-F657)/Sheet2!$B$3","v":-44.67637065923445},{"$f":"(F658-2*F657+F656)/Sheet2!$B$3^2","v":-56.40280199316486}]
[{"$nulls":4},{"$f":"E657+Sheet2!B$3","v":{"v":0.9260739260739367,"d":"0.93"}},-12.531018324820643,{"$f":"(F659-F658)/Sheet2!$B$3","v":-45.01430015262794},{"$f":"(F659-2*F658+F657)/Sheet2!$B$3^2","v":-56.37790381448085}]
[{"$nulls":4},{"$f":"E658+Sheet2!B$3","v":{"v":0.9320679320679427,"d":"0.93"}},-12.80083430975148,{"$f":"(F660-F659)/Sheet2!$B$3","v":-45.35207523770955},{"$f":"(F660-2*F659+F658)/Sheet2!$B$3^2","v":-56.35214336111535}]
[{"$nulls":4},{"$f":"E659+Sheet2!B$3","v":{"v":0.9380619380619487,"d":"0.94"}},-13.072674920566921,{"$f":"(F661-F660)/Sheet2!$B$3","v":-45.689690746001446},{"$f":"(F661-2*F660+F659)/Sheet2!$B$3^2","v":-56.32552063336502}]
[{"$nulls":4},{"$f":"E660+Sheet2!B$3","v":{"v":0.9440559440559547,"d":"0.94"}},-13.346539200762734,{"$f":"(F662-F661)/Sheet2!$B$3","v":-46.027141509021654},{"$f":"(F662-2*F661+F660)/Sheet2!$B$3^2","v":-56.298035630537655}]
[{"$nulls":4},{"$f":"E661+Sheet2!B$3","v":{"v":0.9500499500499607,"d":"0.95"}},-13.622426162854772,{"$f":"(F663-F662)/Sheet2!$B$3","v":-46.364422358294114},{"$f":"(F663-2*F662+F661)/Sheet2!$B$3^2","v":-56.26968835362211}]
[{"$nulls":4},{"$f":"E662+Sheet2!B$3","v":{"v":0.9560439560439667,"d":"0.96"}},-13.900334788379013,{"$f":"(F664-F663)/Sheet2!$B$3","v":-46.70152812533981},{"$f":"(F664-2*F663+F662)/Sheet2!$B$3^2","v":-56.240478802123945}]
[{"$nulls":4},{"$f":"E663+Sheet2!B$3","v":{"v":0.9620379620379728,"d":"0.96"}},-14.180264027891539,{"$f":"(F665-F664)/Sheet2!$B$3","v":-47.03845364167618},{"$f":"(F665-2*F664+F663)/Sheet2!$B$3^2","v":-56.210406975449885}]
[{"$nulls":4},{"$f":"E664+Sheet2!B$3","v":{"v":0.9680319680319788,"d":"0.97"}},-14.46221280096852,{"$f":"(F666-F665)/Sheet2!$B$3","v":-47.37519373882715},{"$f":"(F666-2*F665+F664)/Sheet2!$B$3^2","v":-56.179472874687626}]
[{"$nulls":4},{"$f":"E665+Sheet2!B$3","v":{"v":0.9740259740259848,"d":"0.97"}},-14.746179996206244,{"$f":"(F667-F666)/Sheet2!$B$3","v":-47.71174324831431},{"$f":"(F667-2*F666+F665)/Sheet2!$B$3^2","v":-56.14767649944165}]
[{"$nulls":4},{"$f":"E666+Sheet2!B$3","v":{"v":0.9800199800199908,"d":"0.98"}},-15.032164471221115,{"$f":"(F668-F667)/Sheet2!$B$3","v":-48.04809700165687},{"$f":"(F668-2*F667+F666)/Sheet2!$B$3^2","v":-56.115017849316416}]
[{"$nulls":4},{"$f":"E667+Sheet2!B$3","v":{"v":0.9860139860139968,"d":"0.99"}},-15.320165052649628,{"$f":"(F669-F668)/Sheet2!$B$3","v":-48.3842498303764},{"$f":"(F669-2*F668+F667)/Sheet2!$B$3^2","v":-56.08149692470746}]
[{"$nulls":4},{"$f":"E668+Sheet2!B$3","v":{"v":0.9920079920080028,"d":"0.99"}},-15.610180536148388,{"$f":"(F670-F669)/Sheet2!$B$3","v":-48.7201965659921},{"$f":"(F670-2*F669+F668)/Sheet2!$B$3^2","v":-56.04711372521925}]
[{"$nulls":4},{"$f":"E669+Sheet2!B$3","v":{"v":0.9980019980020088,"d":"1.00"}},-15.902209686394094,{"$f":"(F671-F670)/Sheet2!$B$3","v":-49.05593204002792},{"$f":"(F671-2*F670+F669)/Sheet2!$B$3^2","v":-56.011868251642845}]
[{"$nulls":4},{"$f":"E670+Sheet2!B$3","v":{"v":1.0039960039960147,"d":"1.00"}},-16.196251237083573,{"$f":"(F672-F671)/Sheet2!$B$3","v":-49.39145108400425},{"$f":"(F672-2*F671+F670)/Sheet2!$B$3^2","v":-55.975760503384954}]
[{"$nulls":4},{"$f":"E671+Sheet2!B$3","v":{"v":1.0099900099900208,"d":"1.01"}},-16.492303890933748,{"$f":"(F673-F672)/Sheet2!$B$3","v":-49.7267485294403},{"$f":"(F673-2*F672+F671)/Sheet2!$B$3^2","v":-55.9387904802478}]
[{"$nulls":4},{"$f":"E672+Sheet2!B$3","v":{"v":1.0159840159840268,"d":"1.02"}},-16.79036631968164,{"$f":"(F674-F673)/Sheet2!$B$3","v":-50.061819207857646},{"$f":"(F674-2*F673+F672)/Sheet2!$B$3^2","v":-55.90095818262693}]
[{"$nulls":4},{"$f":"E673+Sheet2!B$3","v":{"v":1.0219780219780328,"d":"1.02"}},-17.090437164084385,{"$f":"(F675-F674)/Sheet2!$B$3","v":-50.39665795077786},{"$f":"(F675-2*F674+F673)/Sheet2!$B$3^2","v":-55.862263610522334}]
[{"$nulls":4},{"$f":"E674+Sheet2!B$3","v":{"v":1.0279720279720388,"d":"1.03"}},-17.392515033919217,{"$f":"(F676-F675)/Sheet2!$B$3","v":-50.731259589720736},{"$f":"(F676-2*F675+F674)/Sheet2!$B$3^2","v":-55.82270676363736}]
[{"$nulls":4},{"$f":"E675+Sheet2!B$3","v":{"v":1.0339660339660448,"d":"1.03"}},-17.696598507983477,{"$f":"(F677-F676)/Sheet2!$B$3","v":-51.06561895621024},{"$f":"(F677-2*F676+F675)/Sheet2!$B$3^2","v":-55.7822876426642}]
[{"$nulls":4},{"$f":"E676+Sheet2!B$3","v":{"v":1.0399600399600508,"d":"1.04"}},-18.002686134094628,{"$f":"(F678-F677)/Sheet2!$B$3","v":-51.399730881763176},{"$f":"(F678-2*F677+F676)/Sheet2!$B$3^2","v":-55.741006246416255}]
[{"$nulls":4},{"$f":"E677+Sheet2!B$3","v":{"v":1.0459540459540568,"d":"1.05"}},-18.31077642909021,{"$f":"(F679-F678)/Sheet2!$B$3","v":-51.73359019790234},{"$f":"(F679-2*F678+F677)/Sheet2!$B$3^2","v":-55.698862575882345}]
[{"$nulls":4},{"$f":"E678+Sheet2!B$3","v":{"v":1.0519480519480628,"d":"1.05"}},-18.620867878827887,{"$f":"(F680-F679)/Sheet2!$B$3","v":-52.06719173615046},{"$f":"(F680-2*F679+F678)/Sheet2!$B$3^2","v":-55.655856631062484}]
[{"$nulls":4},{"$f":"E679+Sheet2!B$3","v":{"v":1.0579420579420689,"d":"1.06"}},-18.932958938185433,{"$f":"(F681-F680)/Sheet2!$B$3","v":-52.40053032802558},{"$f":"(F681-2*F680+F679)/Sheet2!$B$3^2","v":-55.6119884111656}]
[{"$nulls":4},{"$f":"E680+Sheet2!B$3","v":{"v":1.0639360639360749,"d":"1.06"}},-19.24704803106071,{"$f":"(F682-F681)/Sheet2!$B$3","v":-52.733600805049264},{"$f":"(F682-2*F681+F680)/Sheet2!$B$3^2","v":-55.56725791678499}]
[{"$nulls":4},{"$f":"E681+Sheet2!B$3","v":{"v":1.0699300699300809,"d":"1.07"}},-19.563133550371695,{"$f":"(F683-F682)/Sheet2!$B$3","v":-53.06639799874428},{"$f":"(F683-2*F682+F681)/Sheet2!$B$3^2","v":-55.52166514811842}]
[{"$nulls":4},{"$f":"E682+Sheet2!B$3","v":{"v":1.075924075924087,"d":"1.08"}},-19.881213858056476,{"$f":"(F684-F683)/Sheet2!$B$3","v":-53.39891674062983},{"$f":"(F684-2*F683+F682)/Sheet2!$B$3^2","v":-55.475210104572604}]
[{"$nulls":4},{"$f":"E683+Sheet2!B$3","v":{"v":1.081918081918093,"d":"1.08"}},-20.20128728507324,{"$f":"(F685-F684)/Sheet2!$B$3","v":-53.73115186222749},{"$f":"(F685-2*F684+F683)/Sheet2!$B$3^2","v":-55.427892786543055}]
[{"$nulls":4},{"$f":"E684+Sheet2!B$3","v":{"v":1.087912087912099,"d":"1.09"}},-20.523352131400276,{"$f":"(F686-F685)/Sheet2!$B$3","v":-54.063098195057655},{"$f":"(F686-2*F685+F684)/Sheet2!$B$3^2","v":-55.37971319383202}]
[{"$nulls":4},{"$f":"E685+Sheet2!B$3","v":{"v":1.093906093906105,"d":"1.09"}},-20.847406666035987,{"$f":"(F687-F686)/Sheet2!$B$3","v":-54.3947505706419},{"$f":"(F687-2*F686+F685)/Sheet2!$B$3^2","v":-55.330671326637265}]
[{"$nulls":4},{"$f":"E686+Sheet2!B$3","v":{"v":1.099900099900111,"d":"1.10"}},-21.173449126998875,{"$f":"(F688-F687)/Sheet2!$B$3","v":-54.726103820501194},{"$f":"(F688-2*F687+F686)/Sheet2!$B$3^2","v":-55.2807671848599}]
[{"$nulls":4},{"$f":"E687+Sheet2!B$3","v":{"v":1.105894105894117,"d":"1.11"}},-21.501477721327554,{"$f":"(F689-F688)/Sheet2!$B$3","v":-55.05715277615772},{"$f":"(F689-2*F688+F687)/Sheet2!$B$3^2","v":-55.23000076869769}]
[{"$nulls":4},{"$f":"E688+Sheet2!B$3","v":{"v":1.111888111888123,"d":"1.11"}},-21.831490625080747,{"$f":"(F690-F689)/Sheet2!$B$3","v":-55.3878922691295},{"$f":"(F690-2*F689+F688)/Sheet2!$B$3^2","v":-55.17837207745846}]
[{"$nulls":4},{"$f":"E689+Sheet2!B$3","v":{"v":1.117882117882129,"d":"1.12"}},-22.163485983337267,{"$f":"(F691-F690)/Sheet2!$B$3","v":-55.718317130936924},{"$f":"(F691-2*F690+F689)/Sheet2!$B$3^2","v":-55.125881111537744}]
[{"$nulls":4},{"$f":"E690+Sheet2!B$3","v":{"v":1.123876123876135,"d":"1.12"}},-22.49746191019603,{"$f":"(F692-F691)/Sheet2!$B$3","v":-56.04842219310689},{"$f":"(F692-2*F691+F690)/Sheet2!$B$3^2","v":-55.07252787202326}]
[{"$nulls":4},{"$f":"E691+Sheet2!B$3","v":{"v":1.129870129870141,"d":"1.13"}},-22.83341648877609,{"$f":"(F693-F692)/Sheet2!$B$3","v":-56.37820228715328},{"$f":"(F693-2*F692+F691)/Sheet2!$B$3^2","v":-55.01831235673956}]
[{"$nulls":4},{"$f":"E692+Sheet2!B$3","v":{"v":1.135864135864147,"d":"1.14"}},-23.17134777121657,{"$f":"(F694-F693)/Sheet2!$B$3","v":-56.707652244603594},{"$f":"(F694-2*F693+F692)/Sheet2!$B$3^2","v":-54.963234567960974}]
[{"$nulls":4},{"$f":"E693+Sheet2!B$3","v":{"v":1.141858141858153,"d":"1.14"}},-23.511253778676732,{"$f":"(F695-F694)/Sheet2!$B$3","v":-57.0367668969723},{"$f":"(F695-2*F694+F693)/Sheet2!$B$3^2","v":-54.907294503512055}]
[{"$nulls":4},{"$f":"E694+Sheet2!B$3","v":{"v":1.147852147852159,"d":"1.15"}},-23.853132501335907,{"$f":"(F696-F695)/Sheet2!$B$3","v":-57.36554107578512},{"$f":"(F696-2*F695+F694)/Sheet2!$B$3^2","v":-54.85049216527161}]
[{"$nulls":4},{"$f":"E695+Sheet2!B$3","v":{"v":1.153846153846165,"d":"1.15"}},-24.19698189839356,{"$f":"(F697-F696)/Sheet2!$B$3","v":-57.69396961255948},{"$f":"(F697-2*F696+F695)/Sheet2!$B$3^2","v":-54.79282755185525}]
[{"$nulls":4},{"$f":"E696+Sheet2!B$3","v":{"v":1.159840159840171,"d":"1.16"}},-24.54279989806924,{"$f":"(F698-F697)/Sheet2!$B$3","v":-58.02204733882169},{"$f":"(F698-2*F697+F696)/Sheet2!$B$3^2","v":-54.734300664746236}]
[{"$nulls":4},{"$f":"E697+Sheet2!B$3","v":{"v":1.165834165834177,"d":"1.17"}},-24.890584397602638,{"$f":"(F699-F698)/Sheet2!$B$3","v":-58.34976908608504},{"$f":"(F699-2*F698+F697)/Sheet2!$B$3^2","v":-54.67491150176913}]
[{"$nulls":4},{"$f":"E698+Sheet2!B$3","v":{"v":1.171828171828183,"d":"1.17"}},-25.240333263253497,{"$f":"(F700-F699)/Sheet2!$B$3","v":-58.67712968587644},{"$f":"(F700-2*F699+F698)/Sheet2!$B$3^2","v":-54.61466006519826}]
[{"$nulls":4},{"$f":"E699+Sheet2!B$3","v":{"v":1.1778221778221891,"d":"1.18"}},-25.592044330301707,{"$f":"(F701-F700)/Sheet2!$B$3","v":-59.004123969716865},{"$f":"(F701-2*F700+F699)/Sheet2!$B$3^2","v":-54.55354635404478}]
[{"$nulls":4},{"$f":"E700+Sheet2!B$3","v":{"v":1.1838161838161951,"d":"1.18"}},-25.945715403047263,{"$f":"(F702-F701)/Sheet2!$B$3","v":-59.330746769120786},{"$f":"(F702-2*F701+F700)/Sheet2!$B$3^2","v":-54.49157036722096}]
[{"$nulls":4},{"$f":"E701+Sheet2!B$3","v":{"v":1.1898101898102011,"d":"1.19"}},-26.301344254810225,{"$f":"(F703-F702)/Sheet2!$B$3","v":-59.65699291561926},{"$f":"(F703-2*F702+F701)/Sheet2!$B$3^2","v":-54.42873210749557}]
[{"$nulls":4},{"$f":"E702+Sheet2!B$3","v":{"v":1.1958041958042072,"d":"1.20"}},-26.65892862793082,{"$f":"(F704-F703)/Sheet2!$B$3","v":-59.982857240723796},{"$f":"(F704-2*F703+F702)/Sheet2!$B$3^2","v":-54.36503157160543}]
[{"$nulls":4},{"$f":"E703+Sheet2!B$3","v":{"v":1.2017982017982132,"d":"1.20"}},-27.018466233769324,{"$f":"(F705-F704)/Sheet2!$B$3","v":-60.30833457596128},{"$f":"(F705-2*F704+F703)/Sheet2!$B$3^2","v":-54.300468762121525}]
[{"$nulls":4},{"$f":"E704+Sheet2!B$3","v":{"v":1.2077922077922192,"d":"1.21"}},-27.379954752706155,{"$f":"(F706-F705)/Sheet2!$B$3","v":-60.633419752848575},{"$f":"(F706-2*F705+F704)/Sheet2!$B$3^2","v":-54.23504367736282}]
[{"$nulls":4},{"$f":"E705+Sheet2!B$3","v":{"v":1.2137862137862252,"d":"1.21"}},-27.74339183414181,{"$f":"(F707-F706)/Sheet2!$B$3","v":-60.95810760291317},{"$f":"(F707-2*F706+F705)/Sheet2!$B$3^2","v":-54.168756319109235}]
[{"$nulls":4},{"$f":"E706+Sheet2!B$3","v":{"v":1.2197802197802312,"d":"1.22"}},{"$f":"x^4-3*x^3-25*x^2+6*x+5","v":-28.108775096496935},{"$f":"(F708-F707)/Sheet2!$B$3","v":-61.28239295766596},{"$f":"(F708-2*F707+F706)/Sheet2!$B$3^2","v":-54.101606684592014}]
[{"$nulls":4},{"$f":"E707+Sheet2!B$3","v":{"v":1.2257742257742372,"d":"1.23"}},-28.476102127212215,{"$f":"(F709-F708)/Sheet2!$B$3","v":-61.60627064863566},{"$f":"(F709-2*F708+F707)/Sheet2!$B$3^2","v":-54.03359477677768}]
[{"$nulls":4},{"$f":"E708+Sheet2!B$3","v":{"v":1.2317682317682432,"d":"1.23"}},-28.845370482748493,{"$f":"(F710-F709)/Sheet2!$B$3","v":-61.92973550734264},{"$f":"(F710-2*F709+F708)/Sheet2!$B$3^2","v":-53.96472059428186}]
[{"$nulls":4},{"$f":"E709+Sheet2!B$3","v":{"v":1.2377622377622493,"d":"1.24"}},-29.21657768858671,{"$f":"(F711-F710)/Sheet2!$B$3","v":-62.25278236530494},{"$f":"(F711-2*F710+F709)/Sheet2!$B$3^2","v":-53.894984136709006}]
[{"$nulls":4},{"$f":"E710+Sheet2!B$3","v":{"v":1.2437562437562553,"d":"1.24"}},-29.5897212392279,{"$f":"(F712-F711)/Sheet2!$B$3","v":-62.57540605404648},{"$f":"(F712-2*F711+F710)/Sheet2!$B$3^2","v":-53.82438540504797}]
[{"$nulls":4},{"$f":"E711+Sheet2!B$3","v":{"v":1.2497502497502613,"d":"1.25"}},-29.964798598193212,{"$f":"(F713-F712)/Sheet2!$B$3","v":-62.89760140508293},{"$f":"(F713-2*F712+F711)/Sheet2!$B$3^2","v":-53.75292439791437}]
[{"$nulls":4},{"$f":"E712+Sheet2!B$3","v":{"v":1.2557442557442673,"d":"1.26"}},-30.34180719802388,{"$f":"(F714-F713)/Sheet2!$B$3","v":-63.219363249941786},{"$f":"(F714-2*F713+F712)/Sheet2!$B$3^2","v":-53.68060111728589}]
[{"$nulls":4},{"$f":"E713+Sheet2!B$3","v":{"v":1.2617382617382733,"d":"1.26"}},-30.720744440281273,{"$f":"(F715-F714)/Sheet2!$B$3","v":-63.540686420139885},{"$f":"(F715-2*F714+F713)/Sheet2!$B$3^2","v":-53.60741556138261}]
[{"$nulls":4},{"$f":"E714+Sheet2!B$3","v":{"v":1.2677322677322793,"d":"1.27"}},-31.101607695546846,{"$f":"(F716-F715)/Sheet2!$B$3","v":-63.8615657471988},{"$f":"(F716-2*F715+F714)/Sheet2!$B$3^2","v":-53.533367730995614}]
[{"$nulls":4},{"$f":"E715+Sheet2!B$3","v":{"v":1.2737262737262853,"d":"1.27"}},-31.484394303422164,{"$f":"(F717-F716)/Sheet2!$B$3","v":-64.18199606264366},{"$f":"(F717-2*F716+F715)/Sheet2!$B$3^2","v":-53.45845762671819}]
[{"$nulls":4},{"$f":"E716+Sheet2!B$3","v":{"v":1.2797202797202913,"d":"1.28"}},-31.86910157252892,{"$f":"(F718-F717)/Sheet2!$B$3","v":-64.50197219798895},{"$f":"(F718-2*F717+F716)/Sheet2!$B$3^2","v":-53.38268524677045}]
[{"$nulls":4},{"$f":"E717+Sheet2!B$3","v":{"v":1.2857142857142974,"d":"1.29"}},-32.25572678050887,{"$f":"(F719-F718)/Sheet2!$B$3","v":-64.82148898475857},{"$f":"(F719-2*F718+F717)/Sheet2!$B$3^2","v":-53.306050592734515}]
[{"$nulls":4},{"$f":"E718+Sheet2!B$3","v":{"v":1.2917082917083034,"d":"1.29"}},-32.64426717402391,{"$f":"(F720-F719)/Sheet2!$B$3","v":-65.14054125447178},{"$f":"(F720-2*F719+F718)/Sheet2!$B$3^2","v":-53.22855366381932}]
[{"$nulls":4},{"$f":"E719+Sheet2!B$3","v":{"v":1.2977022977023094,"d":"1.30"}},-33.03471996875601,{"$f":"(F721-F720)/Sheet2!$B$3","v":-65.45912383865488},{"$f":"(F721-2*F720+F719)/Sheet2!$B$3^2","v":-53.15019446121148}]
[{"$nulls":4},{"$f":"E720+Sheet2!B$3","v":{"v":1.3036963036963154,"d":"1.30"}},-33.427082349407286,{"$f":"(F722-F721)/Sheet2!$B$3","v":-65.77723156882348},{"$f":"(F722-2*F721+F720)/Sheet2!$B$3^2","v":-53.07097298313107}]
[{"$nulls":4},{"$f":"E721+Sheet2!B$3","v":{"v":1.3096903096903214,"d":"1.31"}},-33.821351469699934,{"$f":"(F723-F722)/Sheet2!$B$3","v":-66.09485927649803},{"$f":"(F723-2*F722+F721)/Sheet2!$B$3^2","v":-52.99088923036917}]
[{"$nulls":4},{"$f":"E722+Sheet2!B$3","v":{"v":1.3156843156843274,"d":"1.32"}},-34.217524452376246,{"$f":"(F724-F723)/Sheet2!$B$3","v":-66.41200179320481},{"$f":"(F724-2*F723+F722)/Sheet2!$B$3^2","v":-52.90994320391462}]
[{"$nulls":4},{"$f":"E723+Sheet2!B$3","v":{"v":1.3216783216783334,"d":"1.32"}},-34.61559838919865,{"$f":"(F725-F724)/Sheet2!$B$3","v":-66.7286539504583},{"$f":"(F725-2*F724+F723)/Sheet2!$B$3^2","v":-52.828134901789745}]
[{"$nulls":4},{"$f":"E724+Sheet2!B$3","v":{"v":1.3276723276723394,"d":"1.33"}},-35.01557034094965,{"$f":"(F726-F725)/Sheet2!$B$3","v":-67.04481057978361},{"$f":"(F726-2*F725+F724)/Sheet2!$B$3^2","v":-52.74546432577445}]
[{"$nulls":4},{"$f":"E725+Sheet2!B$3","v":{"v":1.3336663336663455,"d":"1.33"}},-35.41743733743187,{"$f":"(F727-F726)/Sheet2!$B$3","v":-67.36046651270354},{"$f":"(F727-2*F726+F725)/Sheet2!$B$3^2","v":-52.661931475473196}]
[{"$nulls":4},{"$f":"E726+Sheet2!B$3","v":{"v":1.3396603396603515,"d":"1.34"}},-35.821196377468056,{"$f":"(F728-F727)/Sheet2!$B$3","v":-67.67561658073251},{"$f":"(F728-2*F727+F726)/Sheet2!$B$3^2","v":-52.577536349501614}]
[{"$nulls":4},{"$f":"E727+Sheet2!B$3","v":{"v":1.3456543456543575,"d":"1.35"}},-36.22684442890102,{"$f":"(F729-F728)/Sheet2!$B$3","v":-67.99025561539806},{"$f":"(F729-2*F728+F727)/Sheet2!$B$3^2","v":-52.49227895003515}]
[{"$nulls":4},{"$f":"E728+Sheet2!B$3","v":{"v":1.3516483516483635,"d":"1.35"}},-36.63437842859371,{"$f":"(F730-F729)/Sheet2!$B$3","v":-68.30437844821819},{"$f":"(F730-2*F729+F728)/Sheet2!$B$3^2","v":-52.40615927549166}]
[{"$nulls":4},{"$f":"E729+Sheet2!B$3","v":{"v":1.3576423576423695,"d":"1.36"}},-37.04379528242919,{"$f":"(F731-F730)/Sheet2!$B$3","v":-68.61797991070974},{"$f":"(F731-2*F730+F729)/Sheet2!$B$3^2","v":-52.31917732567338}]
[{"$nulls":4},{"$f":"E730+Sheet2!B$3","v":{"v":1.3636363636363755,"d":"1.36"}},-37.455091865310564,{"$f":"(F732-F731)/Sheet2!$B$3","v":-68.9310548344014},{"$f":"(F732-2*F731+F730)/Sheet2!$B$3^2","v":-52.231333102557976}]
[{"$nulls":4},{"$f":"E731+Sheet2!B$3","v":{"v":1.3696303696303815,"d":"1.37"}},-37.86826502116112,{"$f":"(F733-F732)/Sheet2!$B$3","v":-69.24359805081117},{"$f":"(F733-2*F732+F731)/Sheet2!$B$3^2","v":-52.14262660436555}]
[{"$nulls":4},{"$f":"E732+Sheet2!B$3","v":{"v":1.3756243756243876,"d":"1.38"}},-38.283311562924226,{"$f":"(F734-F733)/Sheet2!$B$3","v":-69.55560439145711},{"$f":"(F734-2*F733+F732)/Sheet2!$B$3^2","v":-52.0530578310961}]
[{"$nulls":4},{"$f":"E733+Sheet2!B$3","v":{"v":1.3816183816183936,"d":"1.38"}},-38.70022827256333,{"$f":"(F735-F734)/Sheet2!$B$3","v":-69.86706868786432},{"$f":"(F735-2*F734+F733)/Sheet2!$B$3^2","v":-51.96262678393623}]
[{"$nulls":4},{"$f":"E734+Sheet2!B$3","v":{"v":1.3876123876123996,"d":"1.39"}},-39.11901190106202,{"$f":"(F736-F735)/Sheet2!$B$3","v":-70.17798577155082},{"$f":"(F736-2*F735+F734)/Sheet2!$B$3^2","v":-51.87133346169933}]
[{"$nulls":4},{"$f":"E735+Sheet2!B$3","v":{"v":1.3936063936064056,"d":"1.39"}},-39.53965916842396,{"$f":"(F737-F736)/Sheet2!$B$3","v":-70.4883504740394},{"$f":"(F737-2*F736+F735)/Sheet2!$B$3^2","v":-51.77917786517648}]
[{"$nulls":4},{"$f":"E736+Sheet2!B$3","v":{"v":1.3996003996004116,"d":"1.40"}},-39.96216676367295,{"$f":"(F738-F737)/Sheet2!$B$3","v":-70.79815762684923},{"$f":"(F738-2*F737+F736)/Sheet2!$B$3^2","v":-51.68615999377437}]
[{"$nulls":4},{"$f":"E737+Sheet2!B$3","v":{"v":1.4055944055944176,"d":"1.41"}},-40.38653134485286,{"$f":"(F739-F738)/Sheet2!$B$3","v":-71.1074020615031},{"$f":"(F739-2*F738+F737)/Sheet2!$B$3^2","v":-51.5922798480863}]
[{"$nulls":4},{"$f":"E738+Sheet2!B$3","v":{"v":1.4115884115884236,"d":"1.41"}},-40.812749539027706,{"$f":"(F740-F739)/Sheet2!$B$3","v":-71.416078609519},{"$f":"(F740-2*F739+F738)/Sheet2!$B$3^2","v":-51.49753742732121}]
[{"$nulls":4},{"$f":"E739+Sheet2!B$3","v":{"v":1.4175824175824296,"d":"1.42"}},-41.240817942281566,{"$f":"(F741-F740)/Sheet2!$B$3","v":-71.72418210242448},{"$f":"(F741-2*F740+F739)/Sheet2!$B$3^2","v":-51.40193273306124}]
[{"$nulls":4},{"$f":"E740+Sheet2!B$3","v":{"v":1.4235764235764357,"d":"1.42"}},-41.670733119718676,{"$f":"(F742-F741)/Sheet2!$B$3","v":-72.03170737173157},{"$f":"(F742-2*F741+F740)/Sheet2!$B$3^2","v":-51.305465762735395}]
[{"$nulls":4},{"$f":"E741+Sheet2!B$3","v":{"v":1.4295704295704417,"d":"1.43"}},-42.10249160546332,{"$f":"(F743-F742)/Sheet2!$B$3","v":-72.33864924896665},{"$f":"(F743-2*F742+F741)/Sheet2!$B$3^2","v":-51.208136518716906}]
[{"$nulls":4},{"$f":"E742+Sheet2!B$3","v":{"v":1.4355644355644477,"d":"1.44"}},-42.536089902659924,{"$f":"(F744-F743)/Sheet2!$B$3","v":-72.64500256565243},{"$f":"(F744-2*F743+F742)/Sheet2!$B$3^2","v":-51.10994500041246}]
[{"$nulls":4},{"$f":"E743+Sheet2!B$3","v":{"v":1.4415584415584537,"d":"1.44"}},-42.971524483473026,{"$f":"(F745-F744)/Sheet2!$B$3","v":-72.9507621533034},{"$f":"(F745-2*F744+F743)/Sheet2!$B$3^2","v":-51.010891206437684}]
[{"$nulls":4},{"$f":"E744+Sheet2!B$3","v":{"v":1.4475524475524597,"d":"1.45"}},-43.40879178908723,{"$f":"(F746-F745)/Sheet2!$B$3","v":-73.25592284344826},{"$f":"(F746-2*F745+F744)/Sheet2!$B$3^2","v":-50.91097513916579}]
[{"$nulls":4},{"$f":"E745+Sheet2!B$3","v":{"v":1.4535464535464657,"d":"1.45"}},-43.8478882297073,{"$f":"(F747-F746)/Sheet2!$B$3","v":-73.56047946759789},{"$f":"(F747-2*F746+F745)/Sheet2!$B$3^2","v":-50.81019679563027}]
[{"$nulls":4},{"$f":"E746+Sheet2!B$3","v":{"v":1.4595404595404717,"d":"1.46"}},-44.28881018455804,{"$f":"(F748-F747)/Sheet2!$B$3","v":-73.86442685728454},{"$f":"(F748-2*F747+F746)/Sheet2!$B$3^2","v":-50.70855617939093}]
[{"$nulls":4},{"$f":"E747+Sheet2!B$3","v":{"v":1.4655344655344777,"d":"1.47"}},-44.73155400188442,{"$f":"(F749-F748)/Sheet2!$B$3","v":-74.16775984402032},{"$f":"(F749-2*F748+F747)/Sheet2!$B$3^2","v":-50.60605328708573}]
[{"$nulls":4},{"$f":"E748+Sheet2!B$3","v":{"v":1.4715284715284838,"d":"1.47"}},-45.176115998951474,{"$f":"(F750-F749)/Sheet2!$B$3","v":-74.47047325933273},{"$f":"(F750-2*F749+F748)/Sheet2!$B$3^2","v":-50.502688121285644}]
[{"$nulls":4},{"$f":"E749+Sheet2!B$3","v":{"v":1.4775224775224898,"d":"1.48"}},-45.62249246204438,{"$f":"(F751-F750)/Sheet2!$B$3","v":-74.7725619347374},{"$f":"(F751-2*F750+F749)/Sheet2!$B$3^2","v":-50.398460680012995}]
[{"$nulls":4},{"$f":"E750+Sheet2!B$3","v":{"v":1.4835164835164958,"d":"1.48"}},-46.07067964646838,{"$f":"(F752-F751)/Sheet2!$B$3","v":-75.07402070175948},{"$f":"(F752-2*F751+F750)/Sheet2!$B$3^2","v":-50.29337096484993}]
[{"$nulls":4},{"$f":"E751+Sheet2!B$3","v":{"v":1.4895104895105018,"d":"1.49"}},-46.520673776548854,{"$f":"(F753-F752)/Sheet2!$B$3","v":-75.37484439191816},{"$f":"(F753-2*F752+F751)/Sheet2!$B$3^2","v":-50.187418974807606}]
[{"$nulls":4},{"$f":"E752+Sheet2!B$3","v":{"v":1.4955044955045078,"d":"1.50"}},-46.97247104563128,{"$f":"(F754-F753)/Sheet2!$B$3","v":-75.67502783673267},{"$f":"(F754-2*F753+F752)/Sheet2!$B$3^2","v":-50.080604709886025}]
[{"$nulls":4},{"$f":"E753+Sheet2!B$3","v":{"v":1.5014985014985138,"d":"1.50"}},-47.42606761608123,{"$f":"(F755-F754)/Sheet2!$B$3","v":-75.97456586772456},{"$f":"(F755-2*F754+F753)/Sheet2!$B$3^2","v":-49.972928170480714}]
[{"$nulls":4},{"$f":"E754+Sheet2!B$3","v":{"v":1.5074925074925198,"d":"1.51"}},-47.88145961928437,{"$f":"(F756-F755)/Sheet2!$B$3","v":-76.27345331641898},{"$f":"(F756-2*F755+F754)/Sheet2!$B$3^2","v":-49.86438935718499}]
[{"$nulls":4},{"$f":"E755+Sheet2!B$3","v":{"v":1.5134865134865259,"d":"1.51"}},-48.33864315564652,{"$f":"(F757-F756)/Sheet2!$B$3","v":-76.57168501433038},{"$f":"(F757-2*F756+F755)/Sheet2!$B$3^2","v":-49.75498826821894}]
[{"$nulls":4},{"$f":"E756+Sheet2!B$3","v":{"v":1.5194805194805319,"d":"1.52"}},-48.79761429459356,{"$f":"(F758-F757)/Sheet2!$B$3","v":-76.86925579298509},{"$f":"(F758-2*F757+F756)/Sheet2!$B$3^2","v":-49.64472490556023}]
[{"$nulls":4},{"$f":"E757+Sheet2!B$3","v":{"v":1.5254745254745379,"d":"1.53"}},-49.25836907457149,{"$f":"(F759-F758)/Sheet2!$B$3","v":-77.16616048390111},{"$f":"(F759-2*F758+F757)/Sheet2!$B$3^2","v":-49.5335992678245}]
[{"$nulls":4},{"$f":"E758+Sheet2!B$3","v":{"v":1.531468531468544,"d":"1.53"}},-49.72090350304642,{"$f":"(F760-F759)/Sheet2!$B$3","v":-77.46239391860004},{"$f":"(F760-2*F759+F758)/Sheet2!$B$3^2","v":-49.421611355605044}]
[{"$nulls":4},{"$f":"E759+Sheet2!B$3","v":{"v":1.53746253746255,"d":"1.54"}},-50.185213556504564,{"$f":"(F761-F760)/Sheet2!$B$3","v":-77.75795092860464},{"$f":"(F761-2*F760+F759)/Sheet2!$B$3^2","v":-49.30876116909964}]
[{"$nulls":4},{"$f":"E760+Sheet2!B$3","v":{"v":1.543456543456556,"d":"1.54"}},-50.651295180452244,{"$f":"(F762-F761)/Sheet2!$B$3","v":-78.0528263454341},{"$f":"(F762-2*F761+F760)/Sheet2!$B$3^2","v":-49.19504870771497}]
[{"$nulls":4},{"$f":"E761+Sheet2!B$3","v":{"v":1.549450549450562,"d":"1.55"}},-51.119144289415885,{"$f":"(F763-F762)/Sheet2!$B$3","v":-78.34701500060763},{"$f":"(F763-2*F762+F761)/Sheet2!$B$3^2","v":-49.08047397145104}]
[{"$nulls":4},{"$f":"E762+Sheet2!B$3","v":{"v":1.555444555444568,"d":"1.56"}},-51.588756766942005,{"$f":"(F764-F763)/Sheet2!$B$3","v":-78.64051172564682},{"$f":"(F764-2*F763+F762)/Sheet2!$B$3^2","v":-48.965036960703394}]
[{"$nulls":4},{"$f":"E763+Sheet2!B$3","v":{"v":1.561438561438574,"d":"1.56"}},-52.06012846559723,{"$f":"(F765-F764)/Sheet2!$B$3","v":-78.93331135207677},{"$f":"(F765-2*F764+F763)/Sheet2!$B$3^2","v":-48.848737676065326}]
[{"$nulls":4},{"$f":"E764+Sheet2!B$3","v":{"v":1.56743256743258,"d":"1.57"}},-52.53325520696832,{"$f":"(F766-F765)/Sheet2!$B$3","v":-79.22540871141554},{"$f":"(F766-2*F765+F764)/Sheet2!$B$3^2","v":-48.73157611635023}]
[{"$nulls":4},{"$f":"E765+Sheet2!B$3","v":{"v":1.573426573426586,"d":"1.57"}},-53.00813278166212,{"$f":"(F767-F766)/Sheet2!$B$3","v":-79.51679863518349},{"$f":"(F767-2*F766+F765)/Sheet2!$B$3^2","v":-48.61355228195365}]
[{"$nulls":4},{"$f":"E766+Sheet2!B$3","v":{"v":1.579420579420592,"d":"1.58"}},-53.48475694930558,{"$f":"(F768-F767)/Sheet2!$B$3","v":-79.80747595490102},{"$f":"(F768-2*F767+F766)/Sheet2!$B$3^2","v":-48.494666172875576}]
[{"$nulls":4},{"$f":"E767+Sheet2!B$3","v":{"v":1.585414585414598,"d":"1.59"}},-53.96312343854574,{"$f":"(F769-F768)/Sheet2!$B$3","v":-80.09743550208972},{"$f":"(F769-2*F768+F767)/Sheet2!$B$3^2","v":-48.374917789313784}]
[{"$nulls":4},{"$f":"E768+Sheet2!B$3","v":{"v":1.591408591408604,"d":"1.59"}},-54.44322794704978,{"$f":"(F770-F769)/Sheet2!$B$3","v":-80.38667210827352},{"$f":"(F770-2*F769+F768)/Sheet2!$B$3^2","v":-48.2543071316638}]
[{"$nulls":4},{"$f":"E769+Sheet2!B$3","v":{"v":1.59740259740261,"d":"1.60"}},-54.92506614150496,{"$f":"(F771-F770)/Sheet2!$B$3","v":-80.67518060496926},{"$f":"(F771-2*F770+F769)/Sheet2!$B$3^2","v":-48.13283419873902}]
[{"$nulls":4},{"$f":"E770+Sheet2!B$3","v":{"v":1.603396603396616,"d":"1.60"}},{"$f":"x^4-3*x^3-25*x^2+6*x+5","v":-55.408633657618665},{"$f":"(F772-F771)/Sheet2!$B$3","v":-80.96295582369733},{"$f":"(F772-2*F771+F770)/Sheet2!$B$3^2","v":-48.01049899113275}]
[{"$nulls":4},{"$f":"E771+Sheet2!B$3","v":{"v":1.609390609390622,"d":"1.61"}},-55.89392610011835,{"$f":"(F773-F772)/Sheet2!$B$3","v":-81.24999259598879},{"$f":"(F773-2*F772+F771)/Sheet2!$B$3^2","v":-47.88730151062491}]
[{"$nulls":4},{"$f":"E772+Sheet2!B$3","v":{"v":1.615384615384628,"d":"1.62"}},-56.38093904275165,{"$f":"(F774-F773)/Sheet2!$B$3","v":-81.53628575334506},{"$f":"(F774-2*F773+F772)/Sheet2!$B$3^2","v":-47.76324175227128}]
[{"$nulls":4},{"$f":"E773+Sheet2!B$3","v":{"v":1.621378621378634,"d":"1.62"}},-56.869668028286185,{"$f":"(F775-F774)/Sheet2!$B$3","v":-81.8218301273055},{"$f":"(F775-2*F774+F773)/Sheet2!$B$3^2","v":-47.63831972240045}]
[{"$nulls":4},{"$f":"E774+Sheet2!B$3","v":{"v":1.62737262737264,"d":"1.63"}},-57.360108568509794,{"$f":"(F776-F775)/Sheet2!$B$3","v":-82.10662054938695},{"$f":"(F776-2*F775+F774)/Sheet2!$B$3^2","v":-47.51253541725483}]
[{"$nulls":4},{"$f":"E775+Sheet2!B$3","v":{"v":1.6333666333666461,"d":"1.63"}},-57.852256144230395,{"$f":"(F777-F776)/Sheet2!$B$3","v":-82.39065185110267},{"$f":"(F777-2*F776+F775)/Sheet2!$B$3^2","v":-47.38588883624111}]
[{"$nulls":4},{"$f":"E776+Sheet2!B$3","v":{"v":1.6393606393606521,"d":"1.64"}},-58.346106205275966,{"$f":"(F778-F777)/Sheet2!$B$3","v":-82.67391886397664},{"$f":"(F778-2*F777+F776)/Sheet2!$B$3^2","v":-47.2583799811392}]
[{"$nulls":4},{"$f":"E777+Sheet2!B$3","v":{"v":1.6453546453546581,"d":"1.65"}},-58.84165417049461,{"$f":"(F779-F778)/Sheet2!$B$3","v":-82.95641641953634},{"$f":"(F779-2*F778+F777)/Sheet2!$B$3^2","v":-47.13000885254241}]
[{"$nulls":4},{"$f":"E778+Sheet2!B$3","v":{"v":1.6513486513486642,"d":"1.65"}},-59.338895427754565,{"$f":"(F780-F779)/Sheet2!$B$3","v":-83.23813934929623},{"$f":"(F780-2*F779+F778)/Sheet2!$B$3^2","v":-47.00077544827529}]
[{"$nulls":4},{"$f":"E779+Sheet2!B$3","v":{"v":1.6573426573426702,"d":"1.66"}},-59.83782533394415,{"$f":"(F781-F780)/Sheet2!$B$3","v":-83.51908248477908},{"$f":"(F781-2*F780+F779)/Sheet2!$B$3^2","v":-46.870679769722216}]
[{"$nulls":4},{"$f":"E780+Sheet2!B$3","v":{"v":1.6633366633366762,"d":"1.66"}},-60.3384392149718,{"$f":"(F782-F781)/Sheet2!$B$3","v":-83.79924065750883},{"$f":"(F782-2*F781+F780)/Sheet2!$B$3^2","v":-46.739721817080955}]
[{"$nulls":4},{"$f":"E781+Sheet2!B$3","v":{"v":1.6693306693306822,"d":"1.67"}},-60.84073236576606,{"$f":"(F783-F782)/Sheet2!$B$3","v":-84.07860869899996},{"$f":"(F783-2*F782+F781)/Sheet2!$B$3^2","v":-46.607901588769366}]
[{"$nulls":4},{"$f":"E782+Sheet2!B$3","v":{"v":1.6753246753246882,"d":"1.68"}},-61.34470005027555,{"$f":"(F784-F783)/Sheet2!$B$3","v":-84.35718144077403},{"$f":"(F784-2*F783+F782)/Sheet2!$B$3^2","v":-46.47521908597405}]
[{"$nulls":4},{"$f":"E783+Sheet2!B$3","v":{"v":1.6813186813186942,"d":"1.68"}},-61.850337501469,{"$f":"(F785-F784)/Sheet2!$B$3","v":-84.6349537143621},{"$f":"(F785-2*F784+F783)/Sheet2!$B$3^2","v":-46.341674310277156}]
[{"$nulls":4},{"$f":"E784+Sheet2!B$3","v":{"v":1.6873126873127002,"d":"1.69"}},-62.357639921335306,{"$f":"(F786-F785)/Sheet2!$B$3","v":-84.9119203512739},{"$f":"(F786-2*F785+F784)/Sheet2!$B$3^2","v":-46.20726725811886}]
[{"$nulls":4},{"$f":"E785+Sheet2!B$3","v":{"v":1.6933066933067062,"d":"1.69"}},-62.8666024808834,{"$f":"(F787-F786)/Sheet2!$B$3","v":-85.18807618303575},{"$f":"(F787-2*F786+F785)/Sheet2!$B$3^2","v":-46.07199793226791}]
[{"$nulls":4},{"$f":"E786+Sheet2!B$3","v":{"v":1.6993006993007123,"d":"1.70"}},-63.37722032014236,{"$f":"(F788-F787)/Sheet2!$B$3","v":-85.46341604116685},{"$f":"(F788-2*F787+F786)/Sheet2!$B$3^2","v":-45.93586633153771}]
[{"$nulls":4},{"$f":"E787+Sheet2!B$3","v":{"v":1.7052947052947183,"d":"1.71"}},-63.88948854816134,{"$f":"(F789-F788)/Sheet2!$B$3","v":-85.73793475718877},{"$f":"(F789-2*F788+F787)/Sheet2!$B$3^2","v":-45.79887245632378}]
[{"$nulls":4},{"$f":"E788+Sheet2!B$3","v":{"v":1.7112887112887243,"d":"1.71"}},-64.40340224300962,{"$f":"(F790-F789)/Sheet2!$B$3","v":-86.01162716261835},{"$f":"(F790-2*F789+F788)/Sheet2!$B$3^2","v":-45.66101630583506}]
[{"$nulls":4},{"$f":"E789+Sheet2!B$3","v":{"v":1.7172827172827303,"d":"1.72"}},-64.91895645177657,{"$f":"(F791-F790)/Sheet2!$B$3","v":-86.28448808898665},{"$f":"(F791-2*F790+F789)/Sheet2!$B$3^2","v":-45.52229788244476}]
[{"$nulls":4},{"$f":"E790+Sheet2!B$3","v":{"v":1.7232767232767363,"d":"1.72"}},-65.43614619057169,{"$f":"(F792-F791)/Sheet2!$B$3","v":-86.55651236780102},{"$f":"(F792-2*F791+F790)/Sheet2!$B$3^2","v":-45.382717182197524}]
[{"$nulls":4},{"$f":"E791+Sheet2!B$3","v":{"v":1.7292707292707423,"d":"1.73"}},-65.95496644452454,{"$f":"(F793-F792)/Sheet2!$B$3","v":-86.82769483059727},{"$f":"(F793-2*F792+F791)/Sheet2!$B$3^2","v":-45.24227420983978}]
[{"$nulls":4},{"$f":"E792+Sheet2!B$3","v":{"v":1.7352647352647483,"d":"1.74"}},-66.47541216778487,{"$f":"(F794-F793)/Sheet2!$B$3","v":-87.09803030888747},{"$f":"(F794-2*F793+F792)/Sheet2!$B$3^2","v":-45.100968961416164}]
[{"$nulls":4},{"$f":"E793+Sheet2!B$3","v":{"v":1.7412587412587544,"d":"1.74"}},-66.99747828352245,{"$f":"(F795-F794)/Sheet2!$B$3","v":-87.36751363418847},{"$f":"(F795-2*F794+F793)/Sheet2!$B$3^2","v":-44.95880143771776}]
[{"$nulls":4},{"$f":"E794+Sheet2!B$3","v":{"v":1.7472527472527604,"d":"1.75"}},-67.52115968392718,{"$f":"(F796-F795)/Sheet2!$B$3","v":-87.63613963803371},{"$f":"(F796-2*F795+F794)/Sheet2!$B$3^2","v":-44.81577164151331}]
[{"$nulls":4},{"$f":"E795+Sheet2!B$3","v":{"v":1.7532467532467664,"d":"1.75"}},-68.0464512302091,{"$f":"(F797-F796)/Sheet2!$B$3","v":-87.90390315193052},{"$f":"(F797-2*F796+F795)/Sheet2!$B$3^2","v":-44.67187956845192}]
[{"$nulls":4},{"$f":"E796+Sheet2!B$3","v":{"v":1.7592407592407724,"d":"1.76"}},-68.5733477525983,{"$f":"(F798-F797)/Sheet2!$B$3","v":-88.17079900740998},{"$f":"(F798-2*F797+F796)/Sheet2!$B$3^2","v":-44.527125222488955}]
[{"$nulls":4},{"$f":"E797+Sheet2!B$3","v":{"v":1.7652347652347784,"d":"1.77"}},-69.10184405034501,{"$f":"(F799-F798)/Sheet2!$B$3","v":-88.43682203598891},{"$f":"(F799-2*F798+F797)/Sheet2!$B$3^2","v":-44.3815086012512}]
[{"$nulls":4},{"$f":"E798+Sheet2!B$3","v":{"v":1.7712287712287844,"d":"1.77"}},-69.63193489171957,{"$f":"(F800-F799)/Sheet2!$B$3","v":-88.70196706918888},{"$f":"(F800-2*F799+F798)/Sheet2!$B$3^2","v":-44.23502970552971}]
[{"$nulls":4},{"$f":"E799+Sheet2!B$3","v":{"v":1.7772227772227904,"d":"1.78"}},-70.16361501401241,{"$f":"(F801-F800)/Sheet2!$B$3","v":-88.96622893853386},{"$f":"(F801-2*F800+F799)/Sheet2!$B$3^2","v":-44.08768853572004}]
[{"$nulls":4},{"$f":"E800+Sheet2!B$3","v":{"v":1.7832167832167964,"d":"1.78"}},-70.69687912353409,{"$f":"(F802-F801)/Sheet2!$B$3","v":-89.2296024755383},{"$f":"(F802-2*F801+F800)/Sheet2!$B$3^2","v":-43.93948509024004}]
[{"$nulls":4},{"$f":"E801+Sheet2!B$3","v":{"v":1.7892107892108025,"d":"1.79"}},-71.23172189561524,{"$f":"(F803-F802)/Sheet2!$B$3","v":-89.49208251172851},{"$f":"(F803-2*F802+F801)/Sheet2!$B$3^2","v":-43.790419371067394}]
[{"$nulls":4},{"$f":"E802+Sheet2!B$3","v":{"v":1.7952047952048085,"d":"1.80"}},-71.76813797460662,{"$f":"(F804-F803)/Sheet2!$B$3","v":-89.75366387861659},{"$f":"(F804-2*F803+F802)/Sheet2!$B$3^2","v":-43.64049137582887}]
[{"$nulls":4},{"$f":"E803+Sheet2!B$3","v":{"v":1.8011988011988145,"d":"1.80"}},-72.30612197387904,{"$f":"(F805-F804)/Sheet2!$B$3","v":-90.01434140774072},{"$f":"(F805-2*F804+F803)/Sheet2!$B$3^2","v":-43.48970110887539}]
[{"$nulls":4},{"$f":"E804+Sheet2!B$3","v":{"v":1.8071928071928205,"d":"1.81"}},-72.84566847582354,{"$f":"(F806-F805)/Sheet2!$B$3","v":-90.2741099306035},{"$f":"(F806-2*F805+F804)/Sheet2!$B$3^2","v":-43.33804856427389}]
[{"$nulls":4},{"$f":"E805+Sheet2!B$3","v":{"v":1.8131868131868265,"d":"1.81"}},-73.38677203185114,{"$f":"(F807-F806)/Sheet2!$B$3","v":-90.53296427874074},{"$f":"(F807-2*F806+F805)/Sheet2!$B$3^2","v":-43.185533747561884}]
[{"$nulls":4},{"$f":"E806+Sheet2!B$3","v":{"v":1.8191808191808325,"d":"1.82"}},-73.92942716239304,{"$f":"(F808-F807)/Sheet2!$B$3","v":-90.79089928365977},{"$f":"(F808-2*F807+F806)/Sheet2!$B$3^2","v":-43.03215665399294}]
[{"$nulls":4},{"$f":"E807+Sheet2!B$3","v":{"v":1.8251748251748385,"d":"1.83"}},-74.47362835690049,{"$f":"(F809-F808)/Sheet2!$B$3","v":-91.04790977689167},{"$f":"(F809-2*F808+F807)/Sheet2!$B$3^2","v":-42.87791728752242}]
[{"$nulls":4},{"$f":"E808+Sheet2!B$3","v":{"v":1.8311688311688445,"d":"1.83"}},-75.0193700738449,{"$f":"(F810-F809)/Sheet2!$B$3","v":-91.30399058995565},{"$f":"(F810-2*F809+F808)/Sheet2!$B$3^2","v":-42.72281564617264}]
[{"$nulls":4},{"$f":"E809+Sheet2!B$3","v":{"v":1.8371628371628506,"d":"1.84"}},-75.56664674071776,{"$f":"(F811-F810)/Sheet2!$B$3","v":-91.55913655436852},{"$f":"(F811-2*F810+F809)/Sheet2!$B$3^2","v":-42.56685172954807}]
[{"$nulls":4},{"$f":"E810+Sheet2!B$3","v":{"v":1.8431568431568566,"d":"1.84"}},-76.11545275403066,{"$f":"(F812-F811)/Sheet2!$B$3","v":-91.81334250165662},{"$f":"(F812-2*F811+F810)/Sheet2!$B$3^2","v":-42.410025539230844}]
[{"$nulls":4},{"$f":"E811+Sheet2!B$3","v":{"v":1.8491508491508626,"d":"1.85"}},-76.66578247931531,{"$f":"(F813-F812)/Sheet2!$B$3","v":-92.06660326333203},{"$f":"(F813-2*F812+F811)/Sheet2!$B$3^2","v":-42.25233707284775}]
[{"$nulls":4},{"$f":"E812+Sheet2!B$3","v":{"v":1.8551448551448686,"d":"1.86"}},-77.2176302511235,{"$f":"(F814-F813)/Sheet2!$B$3","v":-92.31891367093056},{"$f":"(F814-2*F813+F812)/Sheet2!$B$3^2","v":-42.09378633435415}]
[{"$nulls":4},{"$f":"E813+Sheet2!B$3","v":{"v":1.8611388611388746,"d":"1.86"}},-77.77099037302717,{"$f":"(F815-F814)/Sheet2!$B$3","v":-92.57026855595481},{"$f":"(F815-2*F814+F813)/Sheet2!$B$3^2","v":-41.93437331821254}]
[{"$nulls":4},{"$f":"E814+Sheet2!B$3","v":{"v":1.8671328671328806,"d":"1.87"}},-78.32585711761831,{"$f":"(F816-F815)/Sheet2!$B$3","v":-92.82066274994533},{"$f":"(F816-2*F815+F814)/Sheet2!$B$3^2","v":-41.774098030751496}]
[{"$nulls":4},{"$f":"E815+Sheet2!B$3","v":{"v":1.8731268731268866,"d":"1.87"}},-78.8822247265091,{"$f":"(F817-F816)/Sheet2!$B$3","v":-93.07009108440235},{"$f":"(F817-2*F816+F815)/Sheet2!$B$3^2","v":-41.61296046524691}]
[{"$nulls":4},{"$f":"E816+Sheet2!B$3","v":{"v":1.8791208791208927,"d":"1.88"}},-79.44008741033169,{"$f":"(F818-F817)/Sheet2!$B$3","v":-93.31854839086643},{"$f":"(F818-2*F817+F816)/Sheet2!$B$3^2","v":-41.450960628422884}]
[{"$nulls":4},{"$f":"E817+Sheet2!B$3","v":{"v":1.8851148851148987,"d":"1.89"}},-79.99943934873848,{"$f":"(F819-F818)/Sheet2!$B$3","v":-93.5660295008449},{"$f":"(F819-2*F818+F817)/Sheet2!$B$3^2","v":-41.288098514741925}]
[{"$nulls":4},{"$f":"E818+Sheet2!B$3","v":{"v":1.8911088911089047,"d":"1.89"}},-80.56027469040188,{"$f":"(F820-F819)/Sheet2!$B$3","v":-93.81252924585935},{"$f":"(F820-2*F819+F818)/Sheet2!$B$3^2","v":-41.12437412657724}]
[{"$nulls":4},{"$f":"E819+Sheet2!B$3","v":{"v":1.8971028971029107,"d":"1.90"}},-81.12258755301443,{"$f":"(F821-F820)/Sheet2!$B$3","v":-94.05804245744558},{"$f":"(F821-2*F820+F819)/Sheet2!$B$3^2","v":-40.959787466302046}]
[{"$nulls":4},{"$f":"E820+Sheet2!B$3","v":{"v":1.9030969030969167,"d":"1.90"}},-81.68637202328883,{"$f":"(F822-F821)/Sheet2!$B$3","v":-94.30256396710382},{"$f":"(F822-2*F821+F820)/Sheet2!$B$3^2","v":-40.79433852798331}]
[{"$nulls":4},{"$f":"E821+Sheet2!B$3","v":{"v":1.9090909090909227,"d":"1.91"}},-82.25162215695778,{"$f":"(F823-F822)/Sheet2!$B$3","v":-94.54608860636988},{"$f":"(F823-2*F822+F821)/Sheet2!$B$3^2","v":-40.628027317554064}]
[{"$nulls":4},{"$f":"E822+Sheet2!B$3","v":{"v":1.9150849150849287,"d":"1.92"}},-82.81833197877418,{"$f":"(F824-F823)/Sheet2!$B$3","v":-94.78861120675822},{"$f":"(F824-2*F823+F822)/Sheet2!$B$3^2","v":-40.460853831454486}]
[{"$nulls":4},{"$f":"E823+Sheet2!B$3","v":{"v":1.9210789210789347,"d":"1.92"}},-83.386495482511,{"$f":"(F825-F824)/Sheet2!$B$3","v":-95.03012659979278},{"$f":"(F825-2*F824+F823)/Sheet2!$B$3^2","v":-40.29281807126672}]
[{"$nulls":4},{"$f":"E824+Sheet2!B$3","v":{"v":1.9270729270729408,"d":"1.93"}},-83.9561066309613,{"$f":"(F826-F825)/Sheet2!$B$3","v":-95.27062961698803},{"$f":"(F826-2*F825+F824)/Sheet2!$B$3^2","v":-40.12392003540863}]
[{"$nulls":4},{"$f":"E825+Sheet2!B$3","v":{"v":1.9330669330669468,"d":"1.93"}},-84.52715935593825,{"$f":"(F827-F826)/Sheet2!$B$3","v":-95.51011508987742},{"$f":"(F827-2*F826+F825)/Sheet2!$B$3^2","v":-39.9541597270445}]
[{"$nulls":4},{"$f":"E826+Sheet2!B$3","v":{"v":1.9390609390609528,"d":"1.94"}},-85.09964755827518,{"$f":"(F828-F827)/Sheet2!$B$3","v":-95.74857784996826},{"$f":"(F828-2*F827+F826)/Sheet2!$B$3^2","v":-39.78353714182342}]
[{"$nulls":4},{"$f":"E827+Sheet2!B$3","v":{"v":1.9450549450549588,"d":"1.95"}},-85.67356510782544,{"$f":"(F829-F828)/Sheet2!$B$3","v":-95.98601272878928},{"$f":"(F829-2*F828+F827)/Sheet2!$B$3^2","v":-39.61205228330524}]
[{"$nulls":4},{"$f":"E828+Sheet2!B$3","v":{"v":1.9510489510489648,"d":"1.95"}},-86.24890584346254,{"$f":"(F830-F829)/Sheet2!$B$3","v":-96.2224145578644},{"$f":"(F830-2*F829+F828)/Sheet2!$B$3^2","v":-39.43970515069886}]
[{"$nulls":4},{"$f":"E829+Sheet2!B$3","v":{"v":1.9570429570429708,"d":"1.96"}},-86.8256635730801,{"$f":"(F831-F830)/Sheet2!$B$3","v":-96.4577781686986},{"$f":"(F831-2*F830+F829)/Sheet2!$B$3^2","v":-39.266495740840014}]
[{"$nulls":4},{"$f":"E830+Sheet2!B$3","v":{"v":1.9630369630369768,"d":"1.96"}},-87.40383207359179,{"$f":"(F832-F831)/Sheet2!$B$3","v":-96.69209839283481},{"$f":"(F832-2*F831+F830)/Sheet2!$B$3^2","v":-39.09242406005727}]
[{"$nulls":4},{"$f":"E831+Sheet2!B$3","v":{"v":1.9690309690309828,"d":"1.97"}},-87.98340509093146,{"$f":"(F833-F832)/Sheet2!$B$3","v":-96.92537006178273},{"$f":"(F833-2*F832+F831)/Sheet2!$B$3^2","v":-38.91749010281312}]
[{"$nulls":4},{"$f":"E832+Sheet2!B$3","v":{"v":1.9750249750249889,"d":"1.98"}},-88.56437634005303,{"$f":"(F834-F833)/Sheet2!$B$3","v":-97.15758800705449},{"$f":"(F834-2*F833+F832)/Sheet2!$B$3^2","v":-38.7416938695031}]
[{"$nulls":4},{"$f":"E833+Sheet2!B$3","v":{"v":1.9810189810189949,"d":"1.98"}},-89.14673950493048,{"$f":"(F835-F834)/Sheet2!$B$3","v":-97.38874706019533},{"$f":"(F835-2*F834+F833)/Sheet2!$B$3^2","v":-38.56503536566472}]
[{"$nulls":4},{"$f":"E834+Sheet2!B$3","v":{"v":1.9870129870130009,"d":"1.99"}},{"$f":"x^4-3*x^3-25*x^2+6*x+5","v":-89.73048823855802},{"$f":"(F836-F835)/Sheet2!$B$3","v":-97.61884205269367},{"$f":"(F836-2*F835+F834)/Sheet2!$B$3^2","v":-38.387514581805114}]
[{"$nulls":4},{"$f":"E835+Sheet2!B$3","v":{"v":1.993006993007007,"d":"1.99"}},-90.3156161629498,{"$f":"(F837-F836)/Sheet2!$B$3","v":-97.84786781610424},{"$f":"(F837-2*F836+F835)/Sheet2!$B$3^2","v":-38.20913152899929}]
[{"$nulls":4},{"$f":"E836+Sheet2!B$3","v":{"v":1.999000999001013,"d":"2.00"}},-90.90211686914023,{"$f":"(F838-F837)/Sheet2!$B$3","v":-98.07581918191546},{"$f":"(F838-2*F837+F836)/Sheet2!$B$3^2","v":-38.02988619617224}]
[{"$nulls":4},{"$f":"E837+Sheet2!B$3","v":{"v":2.0049950049950187,"d":"2.00"}},-91.48998391718368,{"$f":"(F839-F838)/Sheet2!$B$3","v":-98.30269098168209},{"$f":"(F839-2*F838+F837)/Sheet2!$B$3^2","v":-37.84977859439897}]
[{"$nulls":4},{"$f":"E838+Sheet2!B$3","v":{"v":2.0109890109890247,"d":"2.01"}},-92.0792108361548,{"$f":"(F840-F839)/Sheet2!$B$3","v":-98.52847804689489},{"$f":"(F840-2*F839+F838)/Sheet2!$B$3^2","v":-37.66880871300001}]
[{"$nulls":4},{"$f":"E839+Sheet2!B$3","v":{"v":2.0169830169830307,"d":"2.02"}},-92.66979112414818,{"$f":"(F841-F840)/Sheet2!$B$3","v":-98.75317520909911},{"$f":"(F841-2*F840+F839)/Sheet2!$B$3^2","v":-37.48697656107269}]
[{"$nulls":4},{"$f":"E840+Sheet2!B$3","v":{"v":2.0229770229770367,"d":"2.02"}},-93.26171824827864,{"$f":"(F842-F841)/Sheet2!$B$3","v":-98.97677729979029},{"$f":"(F842-2*F841+F840)/Sheet2!$B$3^2","v":-37.304282130310746}]
[{"$nulls":4},{"$f":"E841+Sheet2!B$3","v":{"v":2.0289710289710428,"d":"2.03"}},-93.85498564468098,{"$f":"(F843-F842)/Sheet2!$B$3","v":-99.19927915051369},{"$f":"(F843-2*F842+F841)/Sheet2!$B$3^2","v":-37.120725429020446}]
[{"$nulls":4},{"$f":"E842+Sheet2!B$3","v":{"v":2.0349650349650488,"d":"2.03"}},-94.44958671851023,{"$f":"(F844-F843)/Sheet2!$B$3","v":-99.42067559277429},{"$f":"(F844-2*F843+F842)/Sheet2!$B$3^2","v":-36.936306450477666}]
[{"$nulls":4},{"$f":"E843+Sheet2!B$3","v":{"v":2.040959040959055,"d":"2.04"}},-95.04551484394145,{"$f":"(F845-F844)/Sheet2!$B$3","v":-99.64096145810079},{"$f":"(F845-2*F844+F843)/Sheet2!$B$3^2","v":-36.75102519863778}]
[{"$nulls":4},{"$f":"E844+Sheet2!B$3","v":{"v":2.046953046953061,"d":"2.05"}},-95.64276336416982,{"$f":"(F846-F845)/Sheet2!$B$3","v":-99.86013157801476},{"$f":"(F846-2*F845+F844)/Sheet2!$B$3^2","v":-36.56488167231416}]
[{"$nulls":4},{"$f":"E845+Sheet2!B$3","v":{"v":2.052947052947067,"d":"2.05"}},-96.24132559141067,{"$f":"(F847-F846)/Sheet2!$B$3","v":-100.07818078402593},{"$f":"(F847-2*F846+F845)/Sheet2!$B$3^2","v":-36.37787586952914}]
[{"$nulls":4},{"$f":"E846+Sheet2!B$3","v":{"v":2.058941058941073,"d":"2.06"}},-96.84119480689934,{"$f":"(F848-F847)/Sheet2!$B$3","v":-100.29510390767246},{"$f":"(F848-2*F847+F846)/Sheet2!$B$3^2","v":-36.19000779502915}]
[{"$nulls":4},{"$f":"E847+Sheet2!B$3","v":{"v":2.064935064935079,"d":"2.06"}},-97.44236426089138,{"$f":"(F849-F848)/Sheet2!$B$3","v":-100.51089578045696},{"$f":"(F849-2*F848+F847)/Sheet2!$B$3^2","v":-36.00127744288116}]
[{"$nulls":4},{"$f":"E848+Sheet2!B$3","v":{"v":2.070929070929085,"d":"2.07"}},-98.04482717266235,{"$f":"(F850-F849)/Sheet2!$B$3","v":-100.72555123392235},{"$f":"(F850-2*F849+F848)/Sheet2!$B$3^2","v":-35.81168481980926}]
[{"$nulls":4},{"$f":"E849+Sheet2!B$3","v":{"v":2.076923076923091,"d":"2.08"}},-98.64857673050804,{"$f":"(F851-F850)/Sheet2!$B$3","v":-100.93906509956886},{"$f":"(F851-2*F850+F849)/Sheet2!$B$3^2","v":-35.62122991869382}]
[{"$nulls":4},{"$f":"E850+Sheet2!B$3","v":{"v":2.082917082917097,"d":"2.08"}},-99.25360609174422,{"$f":"(F852-F851)/Sheet2!$B$3","v":-101.1514322089252},{"$f":"(F852-2*F851+F850)/Sheet2!$B$3^2","v":-35.42991274428126}]
[{"$nulls":4},{"$f":"E851+Sheet2!B$3","v":{"v":2.088911088911103,"d":"2.09"}},-99.8599083827068,{"$f":"(F853-F852)/Sheet2!$B$3","v":-101.36264739351529},{"$f":"(F853-2*F852+F851)/Sheet2!$B$3^2","v":-35.237733295780515}]
[{"$nulls":4},{"$f":"E852+Sheet2!B$3","v":{"v":2.094905094905109,"d":"2.09"}},-100.46747669875185,{"$f":"(F854-F853)/Sheet2!$B$3","v":-101.57270548485361},{"$f":"(F854-2*F853+F852)/Sheet2!$B$3^2","v":-35.04469157160944}]
[{"$nulls":4},{"$f":"E853+Sheet2!B$3","v":{"v":2.100899100899115,"d":"2.10"}},-101.07630410425547,{"$f":"(F855-F854)/Sheet2!$B$3","v":-101.78160131447595},{"$f":"(F855-2*F854+F853)/Sheet2!$B$3^2","v":-34.85078757532786}]
[{"$nulls":4},{"$f":"E854+Sheet2!B$3","v":{"v":2.106893106893121,"d":"2.11"}},-101.68638363261397,{"$f":"(F856-F855)/Sheet2!$B$3","v":-101.9893297138802},{"$f":"(F856-2*F855+F854)/Sheet2!$B$3^2","v":-34.65602130060719}]
[{"$nulls":4},{"$f":"E855+Sheet2!B$3","v":{"v":2.112887112887127,"d":"2.11"}},-102.29770828624362,{"$f":"(F857-F856)/Sheet2!$B$3","v":-102.19588551460212},{"$f":"(F857-2*F856+F855)/Sheet2!$B$3^2","v":-34.46039275377603}]
[{"$nulls":4},{"$f":"E856+Sheet2!B$3","v":{"v":2.118881118881133,"d":"2.12"}},-102.9102710365809,{"$f":"(F858-F857)/Sheet2!$B$3","v":-102.4012635481657},{"$f":"(F858-2*F857+F856)/Sheet2!$B$3^2","v":-34.26390193285667}]
[{"$nulls":4},{"$f":"E857+Sheet2!B$3","v":{"v":2.124875124875139,"d":"2.12"}},-103.52406482408239,{"$f":"(F859-F858)/Sheet2!$B$3","v":-102.60545864608301},{"$f":"(F859-2*F858+F857)/Sheet2!$B$3^2","v":-34.066548835871444}]
[{"$nulls":4},{"$f":"E858+Sheet2!B$3","v":{"v":2.130869130869145,"d":"2.13"}},-104.13908255822474,{"$f":"(F860-F859)/Sheet2!$B$3","v":-102.80846563987564},{"$f":"(F860-2*F859+F858)/Sheet2!$B$3^2","v":-33.8683334644025}]
[{"$nulls":4},{"$f":"E859+Sheet2!B$3","v":{"v":2.136863136863151,"d":"2.14"}},-104.75531711750472,{"$f":"(F861-F860)/Sheet2!$B$3","v":-103.01027936106989},{"$f":"(F861-2*F860+F859)/Sheet2!$B$3^2","v":-33.6692558192409}]
[{"$nulls":4},{"$f":"E860+Sheet2!B$3","v":{"v":2.142857142857157,"d":"2.14"}},-105.3727613494392,{"$f":"(F862-F861)/Sheet2!$B$3","v":-103.21089464118023},{"$f":"(F862-2*F861+F860)/Sheet2!$B$3^2","v":-33.46931589840897}]
[{"$nulls":4},{"$f":"E861+Sheet2!B$3","v":{"v":2.148851148851163,"d":"2.15"}},-105.99140807056516,{"$f":"(F863-F862)/Sheet2!$B$3","v":-103.41030631173773},{"$f":"(F863-2*F862+F861)/Sheet2!$B$3^2","v":-33.26851370467547}]
[{"$nulls":4},{"$f":"E862+Sheet2!B$3","v":{"v":2.154845154845169,"d":"2.15"}},-106.61125006643971,{"$f":"(F864-F863)/Sheet2!$B$3","v":-103.6085092042521},{"$f":"(F864-2*F863+F862)/Sheet2!$B$3^2","v":-33.066849234480564}]
[{"$nulls":4},{"$f":"E863+Sheet2!B$3","v":{"v":2.160839160839175,"d":"2.16"}},-107.23228009164002,{"$f":"(F865-F864)/Sheet2!$B$3","v":-103.80549815024966},{"$f":"(F865-2*F864+F863)/Sheet2!$B$3^2","v":-32.864322490593004}]
[{"$nulls":4},{"$f":"E864+Sheet2!B$3","v":{"v":2.166833166833181,"d":"2.17"}},-107.8544908697634,{"$f":"(F866-F865)/Sheet2!$B$3","v":-104.00126798124961},{"$f":"(F866-2*F865+F864)/Sheet2!$B$3^2","v":-32.66093347182618}]
[{"$nulls":4},{"$f":"E865+Sheet2!B$3","v":{"v":2.172827172827187,"d":"2.17"}},-108.47787509342723,{"$f":"(F867-F866)/Sheet2!$B$3","v":-104.19581352878066},{"$f":"(F867-2*F866+F865)/Sheet2!$B$3^2","v":-32.456682179762254}]
[{"$nulls":4},{"$f":"E866+Sheet2!B$3","v":{"v":2.178821178821193,"d":"2.18"}},-109.10242542426907,{"$f":"(F868-F867)/Sheet2!$B$3","v":-104.38912962435013},{"$f":"(F868-2*F867+F866)/Sheet2!$B$3^2","v":-32.25156861084138}]
[{"$nulls":4},{"$f":"E867+Sheet2!B$3","v":{"v":2.184815184815199,"d":"2.18"}},-109.7281344929465,{"$f":"(F869-F868)/Sheet2!$B$3","v":-104.58121109948911},{"$f":"(F869-2*F868+F867)/Sheet2!$B$3^2","v":-32.04559276901894}]
[{"$nulls":4},{"$f":"E868+Sheet2!B$3","v":{"v":2.190809190809205,"d":"2.19"}},-110.35499489913724,{"$f":"(F870-F869)/Sheet2!$B$3","v":-104.77205278570968},{"$f":"(F870-2*F869+F868)/Sheet2!$B$3^2","v":-31.83875465113062}]
[{"$nulls":4},{"$f":"E869+Sheet2!B$3","v":{"v":2.196803196803211,"d":"2.20"}},-110.9829992115391,{"$f":"(F871-F870)/Sheet2!$B$3","v":-104.96164951454763},{"$f":"(F871-2*F870+F869)/Sheet2!$B$3^2","v":-31.631054261131798}]
[{"$nulls":4},{"$f":"E870+Sheet2!B$3","v":{"v":2.202797202797217,"d":"2.20"}},-111.61213996787005,{"$f":"(F872-F871)/Sheet2!$B$3","v":-105.14999611751031},{"$f":"(F872-2*F871+F870)/Sheet2!$B$3^2","v":-31.42249159427604}]
[{"$nulls":4},{"$f":"E871+Sheet2!B$3","v":{"v":2.208791208791223,"d":"2.21"}},-112.24240967486811,{"$f":"(F873-F872)/Sheet2!$B$3","v":-105.33708742612407},{"$f":"(F873-2*F872+F871)/Sheet2!$B$3^2","v":-31.213066653727626}]
[{"$nulls":4},{"$f":"E872+Sheet2!B$3","v":{"v":2.214785214785229,"d":"2.21"}},-112.87380080829143,{"$f":"(F874-F873)/Sheet2!$B$3","v":-105.52291827190571},{"$f":"(F874-2*F873+F872)/Sheet2!$B$3^2","v":-31.002779437904422}]
[{"$nulls":4},{"$f":"E873+Sheet2!B$3","v":{"v":2.220779220779235,"d":"2.22"}},-113.50630581291824,{"$f":"(F875-F874)/Sheet2!$B$3","v":-105.70748348638394},{"$f":"(F875-2*F874+F873)/Sheet2!$B$3^2","v":-30.791629948784102}]
[{"$nulls":4},{"$f":"E874+Sheet2!B$3","v":{"v":2.226773226773241,"d":"2.23"}},-114.13991710254692,{"$f":"(F876-F875)/Sheet2!$B$3","v":-105.89077790107558},{"$f":"(F876-2*F875+F874)/Sheet2!$B$3^2","v":-30.579618184388988}]
[{"$nulls":4},{"$f":"E875+Sheet2!B$3","v":{"v":2.232767232767247,"d":"2.23"}},-114.77462705999592,{"$f":"(F877-F876)/Sheet2!$B$3","v":-106.0727963474951},{"$f":"(F877-2*F876+F875)/Sheet2!$B$3^2","v":-30.366744144323544}]
[{"$nulls":4},{"$f":"E876+Sheet2!B$3","v":{"v":2.238761238761253,"d":"2.24"}},-115.41042803710378,{"$f":"(F878-F877)/Sheet2!$B$3","v":-106.25353365717356},{"$f":"(F878-2*F877+F876)/Sheet2!$B$3^2","v":-30.15300783135652}]
[{"$nulls":4},{"$f":"E877+Sheet2!B$3","v":{"v":2.2447552447552592,"d":"2.24"}},-116.0473123547292,{"$f":"(F879-F878)/Sheet2!$B$3","v":-106.4329846616278},{"$f":"(F879-2*F878+F877)/Sheet2!$B$3^2","v":-29.9384092431147}]
[{"$nulls":4},{"$f":"E878+Sheet2!B$3","v":{"v":2.2507492507492652,"d":"2.25"}},-116.68527230275095,{"$f":"(F880-F879)/Sheet2!$B$3","v":-106.61114419238413},{"$f":"(F880-2*F879+F878)/Sheet2!$B$3^2","v":-29.722948381180235}]
[{"$nulls":4},{"$f":"E879+Sheet2!B$3","v":{"v":2.2567432567432713,"d":"2.26"}},-117.32430014006793,{"$f":"(F881-F880)/Sheet2!$B$3","v":-106.78800708094515},{"$f":"(F881-2*F880+F879)/Sheet2!$B$3^2","v":-29.506625241597757}]
[{"$nulls":4},{"$f":"E880+Sheet2!B$3","v":{"v":2.2627372627372773,"d":"2.26"}},-117.96438809459907,{"$f":"(F882-F881)/Sheet2!$B$3","v":-106.96356815885616},{"$f":"(F882-2*F881+F880)/Sheet2!$B$3^2","v":-29.289439831486913}]
[{"$nulls":4},{"$f":"E881+Sheet2!B$3","v":{"v":2.2687312687312833,"d":"2.27"}},-118.60552836328353,{"$f":"(F883-F882)/Sheet2!$B$3","v":-107.1378222576245},{"$f":"(F883-2*F882+F881)/Sheet2!$B$3^2","v":-29.071392144519134}]
[{"$nulls":4},{"$f":"E882+Sheet2!B$3","v":{"v":2.2747252747252893,"d":"2.27"}},-119.24771311208048,{"$f":"(F884-F883)/Sheet2!$B$3","v":-107.3107642087694},{"$f":"(F884-2*F883+F882)/Sheet2!$B$3^2","v":-28.852482182672095}]
[{"$nulls":4},{"$f":"E883+Sheet2!B$3","v":{"v":2.2807192807192953,"d":"2.28"}},-119.8909344759692,{"$f":"(F885-F884)/Sheet2!$B$3","v":-107.48238884382663},{"$f":"(F885-2*F884+F883)/Sheet2!$B$3^2","v":-28.63270994871455}]
[{"$nulls":4},{"$f":"E884+Sheet2!B$3","v":{"v":2.2867132867133013,"d":"2.29"}},-120.53518455894918,{"$f":"(F886-F885)/Sheet2!$B$3","v":-107.65269099428696},{"$f":"(F886-2*F885+F884)/Sheet2!$B$3^2","v":-28.412075435131314}]
[{"$nulls":4},{"$f":"E885+Sheet2!B$3","v":{"v":2.2927072927073073,"d":"2.29"}},-121.18045543403981,{"$f":"(F887-F886)/Sheet2!$B$3","v":-107.82166549170515},{"$f":"(F887-2*F886+F885)/Sheet2!$B$3^2","v":-28.19057865260186}]
[{"$nulls":4},{"$f":"E886+Sheet2!B$3","v":{"v":2.2987012987013133,"d":"2.30"}},-121.8267391432808,{"$f":"(F888-F887)/Sheet2!$B$3","v":-107.98930716758855},{"$f":"(F888-2*F887+F886)/Sheet2!$B$3^2","v":-27.96821959321547}]
[{"$nulls":4},{"$f":"E887+Sheet2!B$3","v":{"v":2.3046953046953194,"d":"2.30"}},-122.47402769773188,{"$f":"(F889-F888)/Sheet2!$B$3","v":-108.15561085345165},{"$f":"(F889-2*F888+F887)/Sheet2!$B$3^2","v":-27.744998258158745}]
[{"$nulls":4},{"$f":"E888+Sheet2!B$3","v":{"v":2.3106893106893254,"d":"2.31"}},-123.12231307747285,{"$f":"(F890-F889)/Sheet2!$B$3","v":-108.32057138082784},{"$f":"(F890-2*F889+F888)/Sheet2!$B$3^2","v":-27.52091465059598}]
[{"$nulls":4},{"$f":"E889+Sheet2!B$3","v":{"v":2.3166833166833314,"d":"2.32"}},-123.77158723160369,{"$f":"(F891-F890)/Sheet2!$B$3","v":-108.48418358121977},{"$f":"(F891-2*F890+F889)/Sheet2!$B$3^2","v":-27.295968765385204}]
[{"$nulls":4},{"$f":"E890+Sheet2!B$3","v":{"v":2.3226773226773374,"d":"2.32"}},-124.42184207824437,{"$f":"(F892-F891)/Sheet2!$B$3","v":-108.64644228616794},{"$f":"(F892-2*F891+F890)/Sheet2!$B$3^2","v":-27.07016060885499}]
[{"$nulls":4},{"$f":"E891+Sheet2!B$3","v":{"v":2.3286713286713434,"d":"2.33"}},-125.07306950453508,{"$f":"(F893-F892)/Sheet2!$B$3","v":-108.80734232718449},{"$f":"(F893-2*F892+F891)/Sheet2!$B$3^2","v":-26.843490176258914}]
[{"$nulls":4},{"$f":"E892+Sheet2!B$3","v":{"v":2.3346653346653494,"d":"2.33"}},-125.72526136663609,{"$f":"(F894-F893)/Sheet2!$B$3","v":-108.96687853579095},{"$f":"(F894-2*F893+F892)/Sheet2!$B$3^2","v":-26.615957469179115}]
[{"$nulls":4},{"$f":"E893+Sheet2!B$3","v":{"v":2.3406593406593554,"d":"2.34"}},-126.37840948972774,{"$f":"(F895-F894)/Sheet2!$B$3","v":-109.12504574351367},{"$f":"(F895-2*F894+F893)/Sheet2!$B$3^2","v":-26.387562488406665}]
[{"$nulls":4},{"$f":"E894+Sheet2!B$3","v":{"v":2.3466533466533614,"d":"2.35"}},-127.03250566801054,{"$f":"(F896-F895)/Sheet2!$B$3","v":-109.2818387818505},{"$f":"(F896-2*F895+F894)/Sheet2!$B$3^2","v":-26.158305229195133}]
[{"$nulls":4},{"$f":"E895+Sheet2!B$3","v":{"v":2.3526473526473675,"d":"2.35"}},-127.68754166470495,{"$f":"(F897-F896)/Sheet2!$B$3","v":-109.43725248236096},{"$f":"(F897-2*F896+F895)/Sheet2!$B$3^2","v":-25.928185701828454}]
[{"$nulls":4},{"$f":"E896+Sheet2!B$3","v":{"v":2.3586413586413735,"d":"2.36"}},-128.34350921205177,{"$f":"(F898-F897)/Sheet2!$B$3","v":-109.59128167653343},{"$f":"(F898-2*F897+F896)/Sheet2!$B$3^2","v":-25.69720389444055}]
[{"$nulls":4},{"$f":"E897+Sheet2!B$3","v":{"v":2.3646353646353795,"d":"2.36"}},-129.0004000113117,{"$f":"(F899-F898)/Sheet2!$B$3","v":-109.7439211959132},{"$f":"(F899-2*F898+F897)/Sheet2!$B$3^2","v":-25.46535981652428}]
[{"$nulls":4},{"$f":"E898+Sheet2!B$3","v":{"v":2.3706293706293855,"d":"2.37"}},{"$f":"x^4-3*x^3-25*x^2+6*x+5","v":-129.65820573276574},{"$f":"(F900-F899)/Sheet2!$B$3","v":-109.89516587198864},{"$f":"(F900-2*F899+F898)/Sheet2!$B$3^2","v":-25.232653458586785}]
[{"$nulls":4},{"$f":"E899+Sheet2!B$3","v":{"v":2.3766233766233915,"d":"2.38"}},-130.31691801571472,{"$f":"(F901-F900)/Sheet2!$B$3","v":-110.04501053630979},{"$f":"(F901-2*F900+F899)/Sheet2!$B$3^2","v":-24.999084830912}]
[{"$nulls":4},{"$f":"E900+Sheet2!B$3","v":{"v":2.3826173826173975,"d":"2.38"}},-130.9765284684798,{"$f":"(F902-F901)/Sheet2!$B$3","v":-110.19345002039348},{"$f":"(F902-2*F901+F900)/Sheet2!$B$3^2","v":-24.76465392796242}]
[{"$nulls":4},{"$f":"E901+Sheet2!B$3","v":{"v":2.3886113886114035,"d":"2.39"}},-131.63702866840225,{"$f":"(F903-F902)/Sheet2!$B$3","v":-110.34047915575655},{"$f":"(F903-2*F902+F901)/Sheet2!$B$3^2","v":-24.529360749738046}]
[{"$nulls":4},{"$f":"E902+Sheet2!B$3","v":{"v":2.3946053946054096,"d":"2.39"}},-132.29841016184335,{"$f":"(F904-F903)/Sheet2!$B$3","v":-110.48609277392056},{"$f":"(F904-2*F903+F902)/Sheet2!$B$3^2","v":-24.29320529702995}]
[{"$nulls":4},{"$f":"E903+Sheet2!B$3","v":{"v":2.4005994005994156,"d":"2.40"}},-132.96066446418453,{"$f":"(F905-F904)/Sheet2!$B$3","v":-110.63028570639288},{"$f":"(F905-2*F904+F903)/Sheet2!$B$3^2","v":-24.056187567464914}]
[{"$nulls":4},{"$f":"E904+Sheet2!B$3","v":{"v":2.4065934065934216,"d":"2.41"}},-133.62378305982725,{"$f":"(F906-F905)/Sheet2!$B$3","v":-110.77305278471879},{"$f":"(F906-2*F905+F904)/Sheet2!$B$3^2","v":-23.818307567371516}]
[{"$nulls":4},{"$f":"E905+Sheet2!B$3","v":{"v":2.4125874125874276,"d":"2.41"}},-134.2877574021932,{"$f":"(F907-F906)/Sheet2!$B$3","v":-110.9143888403914},{"$f":"(F907-2*F906+F905)/Sheet2!$B$3^2","v":-23.579565288047963}]
[{"$nulls":4},{"$f":"E906+Sheet2!B$3","v":{"v":2.4185814185814336,"d":"2.42"}},-134.952578913724,{"$f":"(F908-F907)/Sheet2!$B$3","v":-111.05428870496075},{"$f":"(F908-2*F907+F906)/Sheet2!$B$3^2","v":-23.33996073898712}]
[{"$nulls":4},{"$f":"E907+Sheet2!B$3","v":{"v":2.4245754245754396,"d":"2.42"}},-135.61823898588162,{"$f":"(F909-F908)/Sheet2!$B$3","v":-111.19274720994368},{"$f":"(F909-2*F908+F907)/Sheet2!$B$3^2","v":-23.099493914651482}]
[{"$nulls":4},{"$f":"E908+Sheet2!B$3","v":{"v":2.4305694305694456,"d":"2.43"}},-136.284728979148,{"$f":"(F910-F909)/Sheet2!$B$3","v":-111.32975918683805},{"$f":"(F910-2*F909+F908)/Sheet2!$B$3^2","v":-22.85816481187676}]
[{"$nulls":4},{"$f":"E909+Sheet2!B$3","v":{"v":2.4365634365634516,"d":"2.44"}},-136.95204022302516,{"$f":"(F911-F910)/Sheet2!$B$3","v":-111.46531946717018},{"$f":"(F911-2*F910+F909)/Sheet2!$B$3^2","v":-22.615973435409394}]
[{"$nulls":4},{"$f":"E910+Sheet2!B$3","v":{"v":2.4425574425574577,"d":"2.44"}},-137.62016401603518,{"$f":"(F912-F911)/Sheet2!$B$3","v":-111.59942288248534},{"$f":"(F912-2*F911+F910)/Sheet2!$B$3^2","v":-22.37291978841366}]
[{"$nulls":4},{"$f":"E911+Sheet2!B$3","v":{"v":2.4485514485514637,"d":"2.45"}},-138.2890916257204,{"$f":"(F913-F912)/Sheet2!$B$3","v":-111.73206426428142},{"$f":"(F913-2*F912+F911)/Sheet2!$B$3^2","v":-22.129003862978845}]
[{"$nulls":4},{"$f":"E912+Sheet2!B$3","v":{"v":2.4545454545454697,"d":"2.45"}},-138.95881428864317,{"$f":"(F914-F913)/Sheet2!$B$3","v":-111.86323844409421},{"$f":"(F914-2*F913+F912)/Sheet2!$B$3^2","v":-21.884225665433522}]
[{"$nulls":4},{"$f":"E913+Sheet2!B$3","v":{"v":2.4605394605394757,"d":"2.46"}},-139.629323210386,{"$f":"(F915-F914)/Sheet2!$B$3","v":-111.99294025342157},{"$f":"(F915-2*F914+F913)/Sheet2!$B$3^2","v":-21.638585189449117}]
[{"$nulls":4},{"$f":"E914+Sheet2!B$3","v":{"v":2.4665334665334817,"d":"2.47"}},-140.30060956555135,{"$f":"(F916-F915)/Sheet2!$B$3","v":-112.12116452381828},{"$f":"(F916-2*F915+F914)/Sheet2!$B$3^2","v":-21.392082444518493}]
[{"$nulls":4},{"$f":"E915+Sheet2!B$3","v":{"v":2.4725274725274877,"d":"2.47"}},-140.97266449776205,{"$f":"(F917-F916)/Sheet2!$B$3","v":-112.24790608676798},{"$f":"(F917-2*F916+F915)/Sheet2!$B$3^2","v":-21.144717418775574}]
[{"$nulls":4},{"$f":"E916+Sheet2!B$3","v":{"v":2.4785214785214937,"d":"2.48"}},-141.64547911966076,{"$f":"(F918-F917)/Sheet2!$B$3","v":-112.37315977383493},{"$f":"(F918-2*F917+F916)/Sheet2!$B$3^2","v":-20.896490125668574}]
[{"$nulls":4},{"$f":"E917+Sheet2!B$3","v":{"v":2.4845154845154998,"d":"2.48"}},-142.31904451291052,{"$f":"(F919-F918)/Sheet2!$B$3","v":-112.49692041649328},{"$f":"(F919-2*F918+F917)/Sheet2!$B$3^2","v":-20.647400550167138}]
[{"$nulls":4},{"$f":"E918+Sheet2!B$3","v":{"v":2.4905094905095058,"d":"2.49"}},-142.9933517281942,{"$f":"(F920-F919)/Sheet2!$B$3","v":-112.61918284628831},{"$f":"(F920-2*F919+F918)/Sheet2!$B$3^2","v":-20.397448704137336}]
[{"$nulls":4},{"$f":"E919+Sheet2!B$3","v":{"v":2.4965034965035118,"d":"2.50"}},-143.6683917852149,{"$f":"(F921-F920)/Sheet2!$B$3","v":-112.73994189475108},{"$f":"(F921-2*F920+F919)/Sheet2!$B$3^2","v":-20.146634585205955}]
[{"$nulls":4},{"$f":"E920+Sheet2!B$3","v":{"v":2.502497502497518,"d":"2.50"}},-144.34415567269593,{"$f":"(F922-F921)/Sheet2!$B$3","v":-112.8591923933842},{"$f":"(F922-2*F921+F920)/Sheet2!$B$3^2","v":-19.894958188626568}]
[{"$nulls":4},{"$f":"E921+Sheet2!B$3","v":{"v":2.508491508491524,"d":"2.51"}},-145.02063434838055,{"$f":"(F923-F922)/Sheet2!$B$3","v":-112.97692917372349},{"$f":"(F923-2*F922+F921)/Sheet2!$B$3^2","v":-19.64241951993667}]
[{"$nulls":4},{"$f":"E922+Sheet2!B$3","v":{"v":2.51448551448553,"d":"2.51"}},-145.69781873903224,{"$f":"(F924-F923)/Sheet2!$B$3","v":-113.09314706726205},{"$f":"(F924-2*F923+F922)/Sheet2!$B$3^2","v":-19.38901857201662}]
[{"$nulls":4},{"$f":"E923+Sheet2!B$3","v":{"v":2.520479520479536,"d":"2.52"}},-146.3756997404344,{"$f":"(F925-F924)/Sheet2!$B$3","v":-113.20784090554517},{"$f":"(F925-2*F924+F923)/Sheet2!$B$3^2","v":-19.134755353568206}]
[{"$nulls":4},{"$f":"E924+Sheet2!B$3","v":{"v":2.526473526473542,"d":"2.53"}},-147.05426821739073,{"$f":"(F926-F925)/Sheet2!$B$3","v":-113.32100552010867},{"$f":"(F926-2*F925+F924)/Sheet2!$B$3^2","v":-18.879629863009285}]
[{"$nulls":4},{"$f":"E925+Sheet2!B$3","v":{"v":2.532467532467548,"d":"2.53"}},-147.73351500372505,{"$f":"(F927-F926)/Sheet2!$B$3","v":-113.43263574243616},{"$f":"(F927-2*F926+F925)/Sheet2!$B$3^2","v":-18.623642091638068}]
[{"$nulls":4},{"$f":"E926+Sheet2!B$3","v":{"v":2.538461538461554,"d":"2.54"}},-148.4134309022811,{"$f":"(F928-F927)/Sheet2!$B$3","v":-113.54272640405874},{"$f":"(F928-2*F927+F926)/Sheet2!$B$3^2","v":-18.36679204736527}]
[{"$nulls":4},{"$f":"E927+Sheet2!B$3","v":{"v":2.54445554445556,"d":"2.54"}},-149.09400668492282,{"$f":"(F929-F928)/Sheet2!$B$3","v":-113.6512723365264},{"$f":"(F929-2*F928+F927)/Sheet2!$B$3^2","v":-18.10907973335518}]
[{"$nulls":4},{"$f":"E928+Sheet2!B$3","v":{"v":2.550449550449566,"d":"2.55"}},-149.77523309253436,{"$f":"(F930-F929)/Sheet2!$B$3","v":-113.75826837131805},{"$f":"(F930-2*F929+F928)/Sheet2!$B$3^2","v":-17.850505137741724}]
[{"$nulls":4},{"$f":"E929+Sheet2!B$3","v":{"v":2.556443556443572,"d":"2.56"}},-150.4571008350198,{"$f":"(F931-F930)/Sheet2!$B$3","v":-113.86370933999322},{"$f":"(F931-2*F930+F929)/Sheet2!$B$3^2","v":-17.591068273973118}]
[{"$nulls":4},{"$f":"E930+Sheet2!B$3","v":{"v":2.562437562437578,"d":"2.56"}},-151.13960059130346,{"$f":"(F932-F931)/Sheet2!$B$3","v":-113.96759007404502},{"$f":"(F932-2*F931+F930)/Sheet2!$B$3^2","v":-17.33076913097436}]
[{"$nulls":4},{"$f":"E931+Sheet2!B$3","v":{"v":2.568431568431584,"d":"2.57"}},-151.8227230093297,{"$f":"(F933-F932)/Sheet2!$B$3","v":-114.06990540499501},{"$f":"(F933-2*F932+F931)/Sheet2!$B$3^2","v":-17.069607713491877}]
[{"$nulls":4},{"$f":"E932+Sheet2!B$3","v":{"v":2.57442557442559,"d":"2.57"}},-152.50645870606294,{"$f":"(F934-F933)/Sheet2!$B$3","v":-114.1706501643885},{"$f":"(F934-2*F933+F932)/Sheet2!$B$3^2","v":-16.80758402548103}]
[{"$nulls":4},{"$f":"E933+Sheet2!B$3","v":{"v":2.580419580419596,"d":"2.58"}},-153.19079826748785,{"$f":"(F935-F934)/Sheet2!$B$3","v":-114.26981918372336},{"$f":"(F935-2*F934+F933)/Sheet2!$B$3^2","v":-16.544698059031106}]
[{"$nulls":4},{"$f":"E934+Sheet2!B$3","v":{"v":2.586413586413602,"d":"2.59"}},-153.87573224860907,{"$f":"(F936-F935)/Sheet2!$B$3","v":-114.36740729452589},{"$f":"(F936-2*F935+F934)/Sheet2!$B$3^2","v":-16.28094981888853}]
[{"$nulls":4},{"$f":"E935+Sheet2!B$3","v":{"v":2.592407592407608,"d":"2.59"}},-154.56125117345138,{"$f":"(F937-F936)/Sheet2!$B$3","v":-114.46340932832241},{"$f":"(F937-2*F936+F935)/Sheet2!$B$3^2","v":-16.0163393050533}]
[{"$nulls":4},{"$f":"E936+Sheet2!B$3","v":{"v":2.598401598401614,"d":"2.60"}},-155.2473455350597,{"$f":"(F938-F937)/Sheet2!$B$3","v":-114.55782011663925},{"$f":"(F938-2*F937+F936)/Sheet2!$B$3^2","v":-15.750866517525422}]
[{"$nulls":4},{"$f":"E937+Sheet2!B$3","v":{"v":2.60439560439562,"d":"2.60"}},-155.9340057954991,{"$f":"(F939-F938)/Sheet2!$B$3","v":-114.65063449096478},{"$f":"(F939-2*F938+F937)/Sheet2!$B$3^2","v":-15.484531449976318}]
[{"$nulls":4},{"$f":"E938+Sheet2!B$3","v":{"v":2.610389610389626,"d":"2.61"}},-156.62122238585454,{"$f":"(F940-F939)/Sheet2!$B$3","v":-114.74184728287274},{"$f":"(F940-2*F939+F938)/Sheet2!$B$3^2","v":-15.217334116645281}]
[{"$nulls":4},{"$f":"E939+Sheet2!B$3","v":{"v":2.616383616383632,"d":"2.62"}},-157.3089857062314,{"$f":"(F941-F940)/Sheet2!$B$3","v":-114.8314533238373},{"$f":"(F941-2*F940+F939)/Sheet2!$B$3^2","v":-14.949274500919804}]
[{"$nulls":4},{"$f":"E940+Sheet2!B$3","v":{"v":2.622377622377638,"d":"2.62"}},-157.9972861257549,{"$f":"(F942-F941)/Sheet2!$B$3","v":-114.91944744540373},{"$f":"(F942-2*F941+F940)/Sheet2!$B$3^2","v":-14.680352614665964}]
[{"$nulls":4},{"$f":"E941+Sheet2!B$3","v":{"v":2.628371628371644,"d":"2.63"}},-158.6861139825705,{"$f":"(F943-F942)/Sheet2!$B$3","v":-115.00582447907938},{"$f":"(F943-2*F942+F941)/Sheet2!$B$3^2","v":-14.410568451555184}]
[{"$nulls":4},{"$f":"E942+Sheet2!B$3","v":{"v":2.63436563436565,"d":"2.63"}},-159.3754595838437,{"$f":"(F944-F943)/Sheet2!$B$3","v":-115.09057925640481},{"$f":"(F944-2*F943+F942)/Sheet2!$B$3^2","v":-14.13992201712497}]
[{"$nulls":4},{"$f":"E943+Sheet2!B$3","v":{"v":2.640359640359656,"d":"2.64"}},-160.06531320576022,{"$f":"(F945-F944)/Sheet2!$B$3","v":-115.17370660888261},{"$f":"(F945-2*F944+F943)/Sheet2!$B$3^2","v":-13.868413305046747}]
[{"$nulls":4},{"$f":"E944+Sheet2!B$3","v":{"v":2.646353646353662,"d":"2.65"}},-160.75566509352575,{"$f":"(F946-F945)/Sheet2!$B$3","v":-115.25520136803911},{"$f":"(F946-2*F945+F944)/Sheet2!$B$3^2","v":-13.596042319275872}]
[{"$nulls":4},{"$f":"E945+Sheet2!B$3","v":{"v":2.652347652347668,"d":"2.65"}},-161.44650546136614,{"$f":"(F947-F946)/Sheet2!$B$3","v":-115.3350583653864},{"$f":"(F947-2*F946+F945)/Sheet2!$B$3^2","v":-13.322809057439132}]
[{"$nulls":4},{"$f":"E946+Sheet2!B$3","v":{"v":2.658341658341674,"d":"2.66"}},-162.1378244925273,{"$f":"(F948-F947)/Sheet2!$B$3","v":-115.4132724324745},{"$f":"(F948-2*F947+F946)/Sheet2!$B$3^2","v":-13.048713525865098}]
[{"$nulls":4},{"$f":"E947+Sheet2!B$3","v":{"v":2.66433566433568,"d":"2.66"}},-162.8296123392754,{"$f":"(F949-F948)/Sheet2!$B$3","v":-115.48983840079654},{"$f":"(F949-2*F948+F947)/Sheet2!$B$3^2","v":-12.773755715060913}]
[{"$nulls":4},{"$f":"E948+Sheet2!B$3","v":{"v":2.670329670329686,"d":"2.67"}},-163.52185912289656,{"$f":"(F950-F949)/Sheet2!$B$3","v":-115.56475110187884},{"$f":"(F950-2*F949+F948)/Sheet2!$B$3^2","v":-12.497935630564076}]
[{"$nulls":4},{"$f":"E949+Sheet2!B$3","v":{"v":2.676323676323692,"d":"2.68"}},-164.21455493369703,{"$f":"(F951-F950)/Sheet2!$B$3","v":-115.63800536724773},{"$f":"(F951-2*F950+F949)/Sheet2!$B$3^2","v":-12.22125327237459}]
[{"$nulls":4},{"$f":"E950+Sheet2!B$3","v":{"v":2.682317682317698,"d":"2.68"}},-164.9076898310032,{"$f":"(F952-F951)/Sheet2!$B$3","v":-115.70959602841053},{"$f":"(F952-2*F951+F950)/Sheet2!$B$3^2","v":-11.943708637328164}]
[{"$nulls":4},{"$f":"E951+Sheet2!B$3","v":{"v":2.688311688311704,"d":"2.69"}},-165.60125384316152,{"$f":"(F953-F952)/Sheet2!$B$3","v":-115.77951791691729},{"$f":"(F953-2*F952+F951)/Sheet2!$B$3^2","v":-11.665301732544446}]
[{"$nulls":4},{"$f":"E952+Sheet2!B$3","v":{"v":2.69430569430571,"d":"2.69"}},-166.29523696753864,{"$f":"(F954-F953)/Sheet2!$B$3","v":-115.84776586426587},{"$f":"(F954-2*F953+F952)/Sheet2!$B$3^2","v":-11.386032549321648}]
[{"$nulls":4},{"$f":"E953+Sheet2!B$3","v":{"v":2.700299700299716,"d":"2.70"}},-166.98962917052125,{"$f":"(F955-F954)/Sheet2!$B$3","v":-115.91433470197785},{"$f":"(F955-2*F954+F953)/Sheet2!$B$3^2","v":-11.105901091615127}]
[{"$nulls":4},{"$f":"E954+Sheet2!B$3","v":{"v":2.7062937062937222,"d":"2.71"}},-167.68442038751613,{"$f":"(F956-F955)/Sheet2!$B$3","v":-115.9792192615748},{"$f":"(F956-2*F955+F954)/Sheet2!$B$3^2","v":-10.824907359424884}]
[{"$nulls":4},{"$f":"E955+Sheet2!B$3","v":{"v":2.7122877122877282,"d":"2.71"}},-168.37960052295014,{"$f":"(F957-F956)/Sheet2!$B$3","v":-116.04241437459252},{"$f":"(F957-2*F956+F955)/Sheet2!$B$3^2","v":-10.543051355124133}]
[{"$nulls":4},{"$f":"E956+Sheet2!B$3","v":{"v":2.7182817182817343,"d":"2.72"}},-169.07515945027038,{"$f":"(F958-F957)/Sheet2!$B$3","v":-116.10391487253364},{"$f":"(F958-2*F957+F956)/Sheet2!$B$3^2","v":-10.260333073175373}]
[{"$nulls":4},{"$f":"E957+Sheet2!B$3","v":{"v":2.7242757242757403,"d":"2.72"}},-169.7710870119439,{"$f":"(F959-F958)/Sheet2!$B$3","v":-116.1637155869292},{"$f":"(F959-2*F958+F957)/Sheet2!$B$3^2","v":-9.976752518325032}]
[{"$nulls":4},{"$f":"E958+Sheet2!B$3","v":{"v":2.7302697302697463,"d":"2.73"}},-170.46737301945797,{"$f":"(F960-F959)/Sheet2!$B$3","v":-116.22181134930076},{"$f":"(F960-2*F959+F958)/Sheet2!$B$3^2","v":-9.69230968899097}]
[{"$nulls":4},{"$f":"E959+Sheet2!B$3","v":{"v":2.7362637362637523,"d":"2.74"}},-171.1640072533199,{"$f":"(F961-F960)/Sheet2!$B$3","v":-116.27819699115098},{"$f":"(F961-2*F960+F959)/Sheet2!$B$3^2","v":-9.407004582008899}]
[{"$nulls":4},{"$f":"E960+Sheet2!B$3","v":{"v":2.7422577422577583,"d":"2.74"}},-171.86097946305708,{"$f":"(F962-F961)/Sheet2!$B$3","v":-116.33286734403457},{"$f":"(F962-2*F961+F960)/Sheet2!$B$3^2","v":-9.120837206080607}]
[{"$nulls":4},{"$f":"E961+Sheet2!B$3","v":{"v":2.7482517482517643,"d":"2.75"}},-172.55827936721712,{"$f":"(F963-F962)/Sheet2!$B$3","v":-116.38581723944469},{"$f":"(F963-2*F962+F961)/Sheet2!$B$3^2","v":-8.833807550922161}]
[{"$nulls":4},{"$f":"E962+Sheet2!B$3","v":{"v":2.7542457542457703,"d":"2.75"}},{"$f":"x^4-3*x^3-25*x^2+6*x+5","v":-173.25589665336764},{"$f":"(F964-F963)/Sheet2!$B$3","v":-116.43704150891715},{"$f":"(F964-2*F963+F962)/Sheet2!$B$3^2","v":-8.54591562365321}]
[{"$nulls":4},{"$f":"E963+Sheet2!B$3","v":{"v":2.7602397602397764,"d":"2.76"}},-173.95382097809642,{"$f":"(F965-F964)/Sheet2!$B$3","v":-116.48653498395453},{"$f":"(F965-2*F964+F963)/Sheet2!$B$3^2","v":-8.257161418736247}]
[{"$nulls":4},{"$f":"E964+Sheet2!B$3","v":{"v":2.7662337662337824,"d":"2.77"}},-174.65204196701123,{"$f":"(F966-F965)/Sheet2!$B$3","v":-116.53429249609738},{"$f":"(F966-2*F965+F964)/Sheet2!$B$3^2","v":-7.967544942499851}]
[{"$nulls":4},{"$f":"E965+Sheet2!B$3","v":{"v":2.7722277722277884,"d":"2.77"}},-175.35054921474008,{"$f":"(F967-F966)/Sheet2!$B$3","v":-116.58030887686255},{"$f":"(F967-2*F966+F965)/Sheet2!$B$3^2","v":-7.6770661909886595}]
[{"$nulls":4},{"$f":"E966+Sheet2!B$3","v":{"v":2.7782217782217944,"d":"2.78"}},-176.04933228493107,{"$f":"(F968-F967)/Sheet2!$B$3","v":-116.62457895776211},{"$f":"(F968-2*F967+F966)/Sheet2!$B$3^2","v":-7.3857251634116015}]
[{"$nulls":4},{"$f":"E967+Sheet2!B$3","v":{"v":2.7842157842158004,"d":"2.78"}},-176.74838071025232,{"$f":"(F969-F968)/Sheet2!$B$3","v":-116.66709757033664},{"$f":"(F969-2*F968+F967)/Sheet2!$B$3^2","v":-7.093521864515108}]
[{"$nulls":4},{"$f":"E968+Sheet2!B$3","v":{"v":2.7902097902098064,"d":"2.79"}},-177.4476839923922,{"$f":"(F970-F969)/Sheet2!$B$3","v":-116.70785954607922},{"$f":"(F970-2*F969+F968)/Sheet2!$B$3^2","v":-6.800456286388462}]
[{"$nulls":4},{"$f":"E969+Sheet2!B$3","v":{"v":2.7962037962038124,"d":"2.80"}},-178.147231602059,{"$f":"(F971-F970)/Sheet2!$B$3","v":-116.7468597165162},{"$f":"(F971-2*F970+F969)/Sheet2!$B$3^2","v":-6.506528434569165}]
[{"$nulls":4},{"$f":"E970+Sheet2!B$3","v":{"v":2.8021978021978184,"d":"2.80"}},-178.84701297898118,{"$f":"(F972-F971)/Sheet2!$B$3","v":-116.78409291320708},{"$f":"(F972-2*F971+F970)/Sheet2!$B$3^2","v":-6.211738314594719}]
[{"$nulls":4},{"$f":"E971+Sheet2!B$3","v":{"v":2.8081918081918245,"d":"2.81"}},-179.5470175319075,{"$f":"(F973-F972)/Sheet2!$B$3","v":-116.81955396761178},{"$f":"(F973-2*F972+F971)/Sheet2!$B$3^2","v":-5.916085909852618}]
[{"$nulls":4},{"$f":"E972+Sheet2!B$3","v":{"v":2.8141858141858305,"d":"2.81"}},-180.24723463860647,{"$f":"(F974-F973)/Sheet2!$B$3","v":-116.85323771130406},{"$f":"(F974-2*F973+F972)/Sheet2!$B$3^2","v":-5.619571239328584}]
[{"$nulls":4},{"$f":"E973+Sheet2!B$3","v":{"v":2.8201798201798365,"d":"2.82"}},-180.94765364586704,{"$f":"(F975-F974)/Sheet2!$B$3","v":-116.88513897576281},{"$f":"(F975-2*F974+F973)/Sheet2!$B$3^2","v":-5.322194287201182}]
[{"$nulls":4},{"$f":"E974+Sheet2!B$3","v":{"v":2.8261738261738425,"d":"2.83"}},-181.64826386949798,{"$f":"(F976-F975)/Sheet2!$B$3","v":-116.91525259254755},{"$f":"(F976-2*F975+F974)/Sheet2!$B$3^2","v":-5.02395506691863}]
[{"$nulls":4},{"$f":"E975+Sheet2!B$3","v":{"v":2.8321678321678485,"d":"2.83"}},-182.34905459432844,{"$f":"(F977-F976)/Sheet2!$B$3","v":-116.94357339316086},{"$f":"(F977-2*F976+F975)/Sheet2!$B$3^2","v":-4.7248535689880695}]
[{"$nulls":4},{"$f":"E976+Sheet2!B$3","v":{"v":2.8381618381618545,"d":"2.84"}},-183.05001507420752,{"$f":"(F978-F977)/Sheet2!$B$3","v":-116.97009620911486},{"$f":"(F978-2*F977+F976)/Sheet2!$B$3^2","v":-4.424889794991643}]
[{"$nulls":4},{"$f":"E977+Sheet2!B$3","v":{"v":2.8441558441558605,"d":"2.84"}},-183.75113453200441,{"$f":"(F979-F978)/Sheet2!$B$3","v":-116.99481587194533},{"$f":"(F979-2*F978+F977)/Sheet2!$B$3^2","v":-4.1240637488847085}]
[{"$nulls":4},{"$f":"E978+Sheet2!B$3","v":{"v":2.8501498501498665,"d":"2.85"}},-184.45240215960848,{"$f":"(F980-F979)/Sheet2!$B$3","v":-117.01772721315965},{"$f":"(F980-2*F979+F978)/Sheet2!$B$3^2","v":-3.822375425920837}]
[{"$nulls":4},{"$f":"E979+Sheet2!B$3","v":{"v":2.8561438561438726,"d":"2.86"}},-185.15380711792912,{"$f":"(F981-F980)/Sheet2!$B$3","v":-117.03882506429832},{"$f":"(F981-2*F980+F979)/Sheet2!$B$3^2","v":-3.5198248316375293}]
[{"$nulls":4},{"$f":"E980+Sheet2!B$3","v":{"v":2.8621378621378786,"d":"2.86"}},-185.85533853689594,{"$f":"(F982-F981)/Sheet2!$B$3","v":-117.05810425685452},{"$f":"(F982-2*F981+F980)/Sheet2!$B$3^2","v":-3.216411958124069}]
[{"$nulls":4},{"$f":"E981+Sheet2!B$3","v":{"v":2.8681318681318846,"d":"2.87"}},-186.5569855154585,{"$f":"(F983-F982)/Sheet2!$B$3","v":-117.07555962237824},{"$f":"(F983-2*F982+F981)/Sheet2!$B$3^2","v":-2.9121368148733167}]
[{"$nulls":4},{"$f":"E982+Sheet2!B$3","v":{"v":2.8741258741258906,"d":"2.87"}},-187.25873712158665,{"$f":"(F984-F983)/Sheet2!$B$3","v":-117.09118599237682},{"$f":"(F984-2*F983+F982)/Sheet2!$B$3^2","v":-2.606999394765626}]
[{"$nulls":4},{"$f":"E983+Sheet2!B$3","v":{"v":2.8801198801198966,"d":"2.88"}},-187.96058239227023,{"$f":"(F985-F984)/Sheet2!$B$3","v":-117.10497819835766},{"$f":"(F985-2*F984+F983)/Sheet2!$B$3^2","v":-2.3009996978009983}]
[{"$nulls":4},{"$f":"E984+Sheet2!B$3","v":{"v":2.8861138861139026,"d":"2.89"}},-188.66251033351912,{"$f":"(F986-F985)/Sheet2!$B$3","v":-117.11693107188022},{"$f":"(F986-2*F985+F984)/Sheet2!$B$3^2","v":-1.9941377326812213}]
[{"$nulls":4},{"$f":"E985+Sheet2!B$3","v":{"v":2.8921078921079086,"d":"2.89"}},-189.36450992036356,{"$f":"(F987-F986)/Sheet2!$B$3","v":-117.12703944442816},{"$f":"(F987-2*F986+F985)/Sheet2!$B$3^2","v":-1.6864134867491483}]
[{"$nulls":4},{"$f":"E986+Sheet2!B$3","v":{"v":2.8981018981019147,"d":"2.90"}},-190.06657009685364,{"$f":"(F988-F987)/Sheet2!$B$3","v":-117.13529814751833},{"$f":"(F988-2*F987+F986)/Sheet2!$B$3^2","v":-1.377826965542281}]
[{"$nulls":4},{"$f":"E987+Sheet2!B$3","v":{"v":2.9040959040959207,"d":"2.90"}},-190.76867977605954,{"$f":"(F989-F988)/Sheet2!$B$3","v":-117.14170201271496},{"$f":"(F989-2*F988+F987)/Sheet2!$B$3^2","v":-1.0683781769713363}]
[{"$nulls":4},{"$f":"E988+Sheet2!B$3","v":{"v":2.9100899100899267,"d":"2.91"}},-191.47082784007182,{"$f":"(F990-F989)/Sheet2!$B$3","v":-117.1462458715017},{"$f":"(F990-2*F989+F988)/Sheet2!$B$3^2","v":-0.7580671075880956}]
[{"$nulls":4},{"$f":"E989+Sheet2!B$3","v":{"v":2.9160839160839327,"d":"2.92"}},-192.1730031400009,{"$f":"(F991-F990)/Sheet2!$B$3","v":-117.1489245554191},{"$f":"(F991-2*F990+F989)/Sheet2!$B$3^2","v":-0.4468937668854191}]
[{"$nulls":4},{"$f":"E990+Sheet2!B$3","v":{"v":2.9220779220779387,"d":"2.92"}},-192.87519449597744,{"$f":"(F992-F991)/Sheet2!$B$3","v":-117.14973289596502},{"$f":"(F992-2*F991+F990)/Sheet2!$B$3^2","v":-0.13485814774366153}]
[{"$nulls":4},{"$f":"E991+Sheet2!B$3","v":{"v":2.9280719280719447,"d":"2.93"}},-193.57739069715205,{"$f":"(F993-F992)/Sheet2!$B$3","v":-117.14866572467525},{"$f":"(F993-2*F992+F991)/Sheet2!$B$3^2","v":0.1780397435086035}]
[{"$nulls":4},{"$f":"E992+Sheet2!B$3","v":{"v":2.9340659340659507,"d":"2.93"}},-194.27958050169556,{"$f":"(F994-F993)/Sheet2!$B$3","v":-117.14571787308087},{"$f":"(F994-2*F993+F992)/Sheet2!$B$3^2","v":0.49179990766244763}]
[{"$nulls":4},{"$f":"E993+Sheet2!B$3","v":{"v":2.9400599400599567,"d":"2.94"}},-194.98175263679894,{"$f":"(F995-F994)/Sheet2!$B$3","v":-117.14088417269396},{"$f":"(F995-2*F994+F993)/Sheet2!$B$3^2","v":0.8064223478821578}]
[{"$nulls":4},{"$f":"E994+Sheet2!B$3","v":{"v":2.9460539460539628,"d":"2.95"}},-195.68389579867323,{"$f":"(F996-F995)/Sheet2!$B$3","v":-117.13415945502189},{"$f":"(F996-2*F995+F994)/Sheet2!$B$3^2","v":1.1219070649588057}]
[{"$nulls":4},{"$f":"E995+Sheet2!B$3","v":{"v":2.9520479520479688,"d":"2.95"}},-196.3859986525495,{"$f":"(F997-F996)/Sheet2!$B$3","v":-117.12553855160043},{"$f":"(F997-2*F996+F995)/Sheet2!$B$3^2","v":1.4382540541459607}]
[{"$nulls":4},{"$f":"E996+Sheet2!B$3","v":{"v":2.958041958041975,"d":"2.96"}},-197.08804983267896,{"$f":"(F998-F997)/Sheet2!$B$3","v":-117.11501629395592},{"$f":"(F998-2*F997+F996)/Sheet2!$B$3^2","v":1.755463317025767}]
[{"$nulls":4},{"$f":"E997+Sheet2!B$3","v":{"v":2.964035964035981,"d":"2.96"}},-197.79003794233304,{"$f":"(F999-F998)/Sheet2!$B$3","v":-117.10258751359096},{"$f":"(F999-2*F998+F997)/Sheet2!$B$3^2","v":2.0735348575535824}]
[{"$nulls":4},{"$f":"E998+Sheet2!B$3","v":{"v":2.970029970029987,"d":"2.97"}},-198.49195155380312,{"$f":"(F1000-F999)/Sheet2!$B$3","v":-117.08824704205084},{"$f":"(F1000-2*F999+F998)/Sheet2!$B$3^2","v":2.392468668609762}]
[{"$nulls":4},{"$f":"E999+Sheet2!B$3","v":{"v":2.976023976023993,"d":"2.98"}},-199.19377920840083,{"$f":"(F1001-F1000)/Sheet2!$B$3","v":-117.07198971082394},{"$f":"(F1001-2*F1000+F999)/Sheet2!$B$3^2","v":2.712264759687166}]
[{"$nulls":4},{"$f":"E1000+Sheet2!B$3","v":{"v":2.982017982017999,"d":"2.98"}},-199.8955094164577,{"$f":"(F1002-F1001)/Sheet2!$B$3","v":-117.05381035145555},{"$f":"(F1002-2*F1001+F1000)/Sheet2!$B$3^2","v":3.032923121292934}]
[{"$nulls":4},{"$f":"E1001+Sheet2!B$3","v":{"v":2.988011988012005,"d":"2.99"}},-200.59713065732558,{"$f":"(F1003-F1002)/Sheet2!$B$3","v":-117.03370379548147},{"$f":"(F1003-2*F1002+F1001)/Sheet2!$B$3^2","v":3.3544437550092097}]
[{"$nulls":4},{"$f":"E1002+Sheet2!B$3","v":{"v":2.994005994006011,"d":"2.99"}},-201.29863137937642,{"$f":"(F1004-F1003)/Sheet2!$B$3","v":-117.01166487436637}]
[{"$nulls":4},{"$f":"E1003+Sheet2!B$3","v":{"v":3.000000000000017,"d":"3.00"}},-202.000000000002]

{"sheet":"Defining Function","index":2,"n_rows":12,"n_cols":1,"rows_kept":12}
["                                                     Defining a Function in Excel"]
[]
["Computers have very specific rules you must follow when defining a function.  If you don't, the program will either not work at all or will work incorrectly."]
[]
["1. The Variable used should be the one named in the instruction, usually x, though sometimes y, t, Q (for an angle theta), "]
[" or even x and y (for a function of two variables). "]
[]
["2.  Order of Operations:  There five arithmetic operations, addition (+), subtraction (-), multiplication (*), division (/), and  exponentiation or power (^).  When computers see any of these operation symbols, they perform the indicated steps in a very particular order.  First, the power is done.  Second, products and quotients of adjacent terms is done.  Third, and last, sums and differences of adjacent terms are done.  So, in 10*x^3 + 5*x – 7, say with x = 2, the first pass only calculates 2^3 and ignores the multiplications and the sums and differences to calculate 2^3 = 8.  The second pass looks at 10*8 + 5*2 – 7 and only does the multiplications, so it produces 80 + 10 -  7.  The third pass looks at the +’s and –‘s to produce 80 + 10 – 7 = 83.  "]
[]
["3.    Parentheses  If you need an operation involving more than two adjacent terms, as in Ö4^3 + 6^2, the computer would take the square root of  4 to produce 2^3 + 6^2;  it would then cube the 2 and square the 6 to produce 8 + 36; and finally it would add the 8 and the 36 to get 44.  If you actually wanted the square root of the entire expression, you would need to use parentheses, as in Ö(4^3 + 6^2) to tell the computer to do all the operations inside the parentheses before taking the square root.  Therefore, it would calculate (4^3 + 6^2) = 64 + 36 = 100 and then take the square root of Ö100  =  10."]
[]
["4.  Built-In Functions  Computer programs have built-in functions for most common algebraic functions.  In Excel, the square root function is denoted by SQRT(…), so SQRT(100) = 10.  Alternatively, you could enter it as 100^.5 or 100^(1/2); notice that parentheses are needed to have the ½ done first.  The common trig functions are SIN (…), COS (…), and TAN (…), where the arguments are automatically interpreted as being in radians, not degrees.  The logarithm to the base 10 is represented by LOG (…) and the logarithm with the base e, known as the natural logarithm, is LN (…). The corresponding exponential function with base e is EXP (x).  If x is the variable, then each of these would be SQRT (x), SIN (x), COS (x), TAN (x), LOG (x) (for log with base 10 ), LN (x) (for log with base e ), and EXP (x)."]

{"sheet":"Sheet3","index":3,"n_rows":0,"n_cols":0,"rows_kept":0}