{"text_format":"3","workbook":"xlsx","n_sheets":4,"sheets":["Sines","Cosines","Calcs","Defining Function"],"not_rendered":{"charts":2,"images":6,"macros":1,"external_links":5,"defined_names":41,"comments":2},"read":"whole","date_system":"1900"}

{"sheet":"Sines","index":0,"n_rows":34,"n_cols":13,"rows_kept":34,"merged":[[27,2,27,3]]}
[null,"      Exploring Limacons "]
[]
[null,"   This graphing utility produces the graph "]
[null,"           of the limacon in polar form"]
[null,null,"         r = a*sin(Q) + b"]
[null,"   on the interval from Q = 0  to Q = 2p."]
[]
[]
["What is the value of a (from 1 to 8)?"]
[null,null,4,null,null,{"$f":"C10/10+1","v":1.4}]
[]
[]
["What is the value of b (from 1 to 5)?"]
[null,null,21,null,null,{"$f":"C14/10+1","v":3.1}]
[]
[]
[]
[{"$nulls":8},"The graph of the limacon r =",{"$nulls":3},{"$f":"TEXT(a,\"0.00\") & \" sin(Q)  + \" &TEXT(ABS(b),\"0.00\")","v":"1.40 sin(Q)  + 3.10"}]
["Click each item below for suggestions and investigations"]
[null,"   Item 1"]
[null,"   Item 2",{"$nulls":6},"Now trace along the limacon:"]
[null,"   Item 3",{"$nulls":6},"Q =",{"$f":"K22*Calcs!B12","v":{"v":2.3132125011506934,"d":"2.31"}},74]
[null,"   Item 4",{"$nulls":6},"r =",{"$f":"LOOKUP(J22,Calcs!C3:C204,Calcs!D3:D204)","v":{"v":4.160650490551491,"d":"4.16"}}]
[]
[]
[]
["To access/download all the DIGMath Apps for Calculus"]
["     Click this link:",null,"DIGMath for Calculus"]
[]
["Created by:  Sheldon P. Gordon   "]
["                      Farmingdale State College    "]
["Development of this module was supported by the "]
["NSF's Division of Undergraduate Education  "]
["under grants DUE-0310123 and DUE-0442160."]

{"sheet":"Cosines","index":1,"n_rows":34,"n_cols":13,"rows_kept":34,"merged":[[27,2,27,3]]}
[null,"       Exploring Cardioids "]
[]
[null,"   This graphing utility produces the graph "]
[null,"           of the cardioid in polar form"]
[null,null,"        r = a*cos(Q) + b"]
[null,"   on the interval from Q = 0  to Q = 2p."]
[]
[]
["What is the value of a (from 1 to 8)?"]
[null,null,25,null,null,{"$f":"C10/10+1","v":3.5}]
[]
[]
["What is the value of b (from 1 to 5)?"]
[null,null,25,null,null,{"$f":"C14/10+1","v":3.5}]
[]
[]
[]
[{"$nulls":8},"The graph of the cardioid  r  =",{"$nulls":3},{"$f":"TEXT(aa,\"0.00\") & \" cos(Q) +  \" &  TEXT(ABS(bb),\"0.00\")","v":"3.50 cos(Q) +  3.50"}]
["Click each item below for suggestions and investigations"]
[null,"   Item 1"]
[null,"   Item 2",{"$nulls":6},"Now trace along the cardioid:"]
[null,"   Item 3",{"$nulls":6},"Q =",{"$f":"K22*Calcs!B12","v":{"v":0.9377888518178488,"d":"0.94"}},30]
[null,"   Item 4",{"$nulls":6},"r =",{"$f":"LOOKUP(J22,Calcs!K3:K204,Calcs!L3:L204)","v":{"v":5.57050274344733,"d":"5.57"}}]
[]
[]
[]
["To access/download all the DIGMath Apps for Calculus"]
["Click this link:",null,"DIGMath for Calculus"]
[]
["Created by:  Sheldon P. Gordon   &   Florence S. Gordon"]
["                  Farmingdale State College      NYIT"]
["Development of this module was supported by the "]
["NSF's Division of Undergraduate Education  "]
["under grants DUE-0310123 and DUE-0442160."]

{"sheet":"Calcs","index":2,"n_rows":204,"n_cols":14,"rows_kept":204}
[null,null,"Q","r = f(Q)","x","y",null,"Tracing point -- sine",null,null,"Q","r = f(Q)","x","y"]
[]
[null,null,0,{"$f":"a*SIN(Q) + b","v":3.1},{"$f":"D3*COS(C3)","v":3.1},{"$f":"D3*SIN(C3)","v":0},null,0,0,null,0,{"$f":"aa*COS(QQ) + bb","v":7},{"$f":"L3*COS(K3)","v":7},{"$f":"L3*SIN(K3)","v":0}]
[null,null,{"$f":"C3+Calcs!B$12","v":0.03125962839392829},3.143756352747554,{"$f":"D4*COS(C4)","v":3.142220494475432},{"$f":"D4*SIN(C4)","v":0.09825665137370414},null,{"$f":"LOOKUP(Sines!$J$22,Calcs!C3:C204,E3:E204)","v":-2.715699909378889},{"$f":"LOOKUP(Sines!J22,Calcs!C3:C204,F3:F204)","v":3.1521399884405295},null,{"$f":"K3+Calcs!B$12","v":0.03125962839392829},6.998290101601631,{"$f":"L4*COS(K4)","v":6.994871140162759},{"$f":"L4*SIN(K4)","v":0.21872832165385467}]
[null,null,{"$f":"C4+Calcs!B$12","v":0.06251925678785658},3.1874699518279757,3.1812426164834826,0.1991484593853665,{"$nulls":4},{"$f":"K4+Calcs!B$12","v":0.06251925678785658},6.993162077122256,6.979499590563706,0.4369225357222216]
[null,null,{"$f":"C5+Calcs!B$12","v":0.09377888518178487},3.231098085348091,3.216900582272061,0.30256483754358404,{"$nulls":4},{"$f":"K5+Calcs!B$12","v":0.09377888518178487},6.984620937076643,6.953930387108902,0.6540503083806698]
[null,null,{"$f":"C6+Calcs!B$12","v":0.12503851357571316},3.274598124921826,3.2490328947124545,0.4083847803456269,null,"Start line:",null,null,{"$f":"K6+Calcs!B$12","v":0.12503851357571316},6.972675026882898,6.918238410407509,0.8695828467021399]
[null,null,{"$f":"C7+Calcs!B$12","v":0.15629814196964145},3.3179275673217536,3.2774829959904714,0.5164770594972958,null,0,0,null,{"$f":"K7+Calcs!B$12","v":0.15629814196964145},6.957336018708283,6.872528117639037,1.0829966525693655]
[null,null,{"$f":"C8+Calcs!B$12","v":0.18755777036356974},3.3610440760083535,3.3020999096320582,0.6267004608892509,null,{"$f":"1.2*D3*COS(C3)","v":3.7199999999999998},{"$f":"1.2*D3*SIN(C3)","v":0},null,{"$f":"K8+Calcs!B$12","v":0.18755777036356974},6.938618900064516,6.816933168601918,1.2937752568153147]
[null,null,{"$f":"C9+Calcs!B$12","v":0.21881739875749803},3.403905522496399,3.3227388693251467,0.7389040616733187,{"$nulls":4},{"$f":"K9+Calcs!B$12","v":0.21881739875749803},6.916541959163709,6.751615947371192,1.5014109271199385]
[null,null,{"$f":"C10+Calcs!B$12","v":0.2500770271514263},3.4464700275180604,3.3392619320426764,0.8529275466245372,{"$nulls":4},{"$f":"K10+Calcs!B$12","v":0.2500770271514263},6.891126767049223,6.676766981391427,1.7054063432928468]
["delta Q = ",{"$f":"2*PI()/201","v":0.03125962839392829},{"$f":"C11+Calcs!B$12","v":0.2813366555453546},3.488696001942501,3.351538573024704,0.9686015628198836,{"$nulls":4},{"$f":"K11+Calcs!B$12","v":0.2813366555453546},6.862398156518941,6.592604260222361,1.9052762336975]
[null,null,{"$f":"C12+Calcs!B$12","v":0.31259628393928285},3.5305421874119847,3.35944626024008,1.085748111513321,{"$nulls":4},{"$f":"K12+Calcs!B$12","v":0.31259628393928285},6.830384197861509,6.499372456537408,2.1005489667225348]
[null,null,{"$f":"C13+Calcs!B$12","v":0.3438559123332111},3.571967696654791,3.362871006020067,1.2041809759396291,{"$nulls":4},{"$f":"K13+Calcs!B$12","v":0.3438559123332111},6.79511617142929,6.39734205234781,2.290768091379431]
[null,null,{"$f":"C14+Calcs!B$12","v":0.3751155407271394},3.6129320534355447,3.361707893637275,1.3237061836369943,{"$nulls":4},{"$f":"K14+Calcs!B$12","v":0.3751155407271394},6.756628537074803,6.286808373786224,2.475493821302127]
[null,null,{"$f":"C15+Calcs!B$12","v":0.40637516912106764},3.6533952321039314,3.355861576693047,1.444122501741108,{"$nulls":4},{"$f":"K15+Calcs!B$12","v":0.40637516912106764},6.7149589004805295,6.168090538131666,2.654304456642701]
[null,null,{"$f":"C16+Calcs!B$12","v":0.4376347975149959},3.6933176967031525,3.345246749274596,1.5652219635720768,{"$nulls":4},{"$f":"K16+Calcs!B$12","v":0.4376347975149959},6.670147976414967,6.041530317091513,2.826797738596945]
[null,null,{"$f":"C17+Calcs!B$12","v":0.46889442590892416},3.7326604395999072,3.3297885849494593,1.6867904247103287,null,"Tracing point -- cosine",null,null,{"$f":"K17+Calcs!B$12","v":0.46889442590892416},6.622239548950853,5.907490920674518,2.99259213155367]
[null,null,{"$f":"C18+Calcs!B$12","v":0.5001540543028524},3.771385019598157,3.3094231427786824,1.8086081466393598,{"$nulls":4},{"$f":"K18+Calcs!B$12","v":0.5001540543028524},6.5712804286844095,5.766355706290093,3.1513280281409046]
[null,null,{"$f":"C19+Calcs!B$12","v":0.5314136826967807},3.809453599499435,3.284097738651267,1.9304504059221095,null,0,0,null,{"$f":"K19+Calcs!B$12","v":0.5314136826967807},6.517320406997423,5.618526817992593,3.3026688727396034]
[null,null,{"$f":"C20+Calcs!B$12","v":0.562673311090709},3.846828983072998,3.253771280370214,2.052088126774388,null,{"$f":"LOOKUP(Cosines!$J$22,Calcs!K3:K204,M3:M204)","v":3.2953546321967355},{"$f":"LOOKUP(Cosines!J22,Calcs!K3:K204,N3:N204)","v":4.491229081533667},null,{"$f":"K20+Calcs!B$12","v":0.562673311090709},6.460412207406842,5.464423761053541,3.4463021993500247]
[null,null,{"$f":"C21+Calcs!B$12","v":0.5939329394846372},3.883474651399697,3.2184145650545917,2.1732885348035267,{"$nulls":4},{"$f":"K21+Calcs!B$12","v":0.5939329394846372},6.400611434049426,5.304481917288932,3.581940580026278]
[null,null,{"$f":"C22+Calcs!B$12","v":0.6251925678785655},3.919354798554058,3.1780105375618586,2.293815829593673,{"$nulls":4},{"$f":"K22+Calcs!B$12","v":0.6251925678785655},6.337976517351798,5.1391510067918675,3.7093224804393814]
[null,null,{"$f":"C23+Calcs!B$12","v":0.6564521962724937},3.9544343665897084,3.132554508779677,2.4134318737411804,null,"Start line:",null,null,{"$f":"K23+Calcs!B$12","v":0.6564521962724937},6.272568656938954,4.9688935019218885,3.8282130194872095]
[null,null,{"$f":"C24+Calcs!B$12","v":0.687711824666422},3.988679079793963,3.082054332786094,2.531896895874806,null,0,0,null,{"$f":"K24+Calcs!B$12","v":0.687711824666422},6.20445176183704,4.79418299958089,3.938404630239551]
[null,null,{"$f":"C25+Calcs!B$12","v":0.7189714530603503},4.022055478178101,3.0265305420306556,2.6489702051359685,null,{"$f":"1.2*L3*COS(K3)","v":8.4},{"$f":"1.2*D3*SIN(K3)","v":0},null,{"$f":"K25+Calcs!B$12","v":0.7189714530603503},6.133692388028823,4.615502557960529,4.039717619886636]
[null,null,{"$f":"C26+Calcs!B$12","v":0.7502310814542785},4.054530950170612,2.966016439846182,2.76441091454465,{"$nulls":4},{"$f":"K26+Calcs!B$12","v":0.7502310814542785},6.060359673422843,4.433343004077107,4.132000626748549]
[null,null,{"$f":"C27+Calcs!B$12","v":0.7814907098482068},4.086073764481473,2.900558149760944,2.8779786706365913,{"$nulls":4},{"$f":"K27+Calcs!B$12","v":0.7814907098482068},5.984525270299812,4.248201218516486,4.215130972799313]
[null,null,{"$f":"C28+Calcs!B$12","v":0.812750338242135},4.116653101106298,2.8302146212432273,2.9894343867275555,{"$nulls":4},{"$f":"K28+Calcs!B$12","v":0.812750338242135},5.906263275302273,4.060578403893249,4.289014910561641]
[null,null,{"$f":"C29+Calcs!B$12","v":0.8440099666360633},4.1462390814401076,2.755057591674137,3.098540977140695,{"$nulls":4},{"$f":"K29+Calcs!B$12","v":0.8440099666360633},5.825650157035877,3.870978343584735,4.353587763634739]
[null,null,{"$f":"C30+Calcs!B$12","v":0.8752695950299916},4.1748027974712505,2.6751715045093167,3.2050640897235017,{"$nulls":4},{"$f":"K30+Calcs!B$12","v":0.8752695950299916},5.742764681353092,3.679905657331618,4.408813960526713]
[null,null,{"$f":"C31+Calcs!B$12","v":0.9065292234239198},4.2023163400269885,2.5906533837554533,3.308772833981542,{"$nulls":4},{"$f":"K31+Calcs!B$12","v":0.9065292234239198},5.657687834392271,3.487864060302102,4.454686961873218]
[null,null,{"$f":"C32+Calcs!B$12","v":0.9377888518178481},4.228752826043121,2.5016126650522663,3.4094405021671492,{"$nulls":4},{"$f":"K32+Calcs!B$12","v":0.9377888518178481},5.57050274344733,3.2953546321967355,4.491229081533667]
[null,null,{"$f":"C33+Calcs!B$12","v":0.9690484802117764},4.254086424831022,2.4081709838146597,3.5068452806824424,{"$nulls":4},{"$f":"K33+Calcs!B$12","v":0.9690484802117764},5.481294595745338,3.102874102925247,4.518491202463815]
[null,null,{"$f":"C34+Calcs!B$12","v":1.0003081086057046},4.27829238331641,2.3104619210520214,3.6007709491873836,{"$nulls":4},{"$f":"K34+Calcs!B$12","v":1.0003081086057046},5.390150555211367,2.9109131613158925,4.536552388667337]
[null,null,{"$f":"C35+Calcs!B$12","v":1.031567736999633},4.301347050225202,2.208630707641832,3.6910075648449414,{"$nulls":4},{"$f":"K35+Calcs!B$12","v":1.031567736999633},5.2971596773019485,2.719954793221961,4.545519394927554]
[null,null,{"$f":"C36+Calcs!B$12","v":1.0628273653935614},4.323227899192813,2.102833887992059,3.7773521291867005,{"$nulls":4},{"$f":"K36+Calcs!B$12","v":1.0628273653935614},5.2024128219903405,2.5304726552695156,4.5455260764121395]
[null,null,{"$f":"C37+Calcs!B$12","v":1.0940869937874897},4.343913550774326,1.9932389441806913,3.8596092351431457,{"$nulls":4},{"$f":"K37+Calcs!B$12","v":1.0940869937874897},5.106002564988627,2.342929490345783,4.536732700627015]
[null,null,{"$f":"C38+Calcs!B$12","v":1.1253466221814181},4.363383793334023,1.8800238818106356,3.937591691853242,{"$nulls":4},{"$f":"K38+Calcs!B$12","v":1.1253466221814181},5.008023107293397,2.1577755907593494,4.519325164569125]
[null,null,{"$f":"C39+Calcs!B$12","v":1.1566062505753465},4.381619602793865,1.7633767789634331,4.01112112494749,{"$nulls":4},{"$f":"K39+Calcs!B$12","v":1.1566062505753465},4.9085701831433886,1.9754473148121312,4.493514120290027]
[null,null,{"$f":"C40+Calcs!B$12","v":1.1878658789692749},4.3986031612216285,1.6434952997753143,4.08002855008704,{"$nulls":4},{"$f":"K40+Calcs!B$12","v":1.1878658789692749},4.80774096647901,1.7963656623097108,4.459534012431694]
[null,null,{"$f":"C41+Calcs!B$12","v":1.2191255073632032},4.414317874240541,1.5205861742934714,4.144154917638465,{"$nulls":4},{"$f":"K41+Calcs!B$12","v":1.2191255073632032},4.705633975995165,1.620934914301997,4.41764203163145]
[null,null,{"$f":"C42+Calcs!B$12","v":1.2503851357571316},4.428748387243389,1.3948646463985142,4.203351626468867,{"$nulls":4},{"$f":"K42+Calcs!B$12","v":1.2503851357571316},4.602348978880136,1.4495413420910157,4.368116988013028]
[null,null,{"$f":"C43+Calcs!B$12","v":1.28164476415106},4.441880600395275,1.266553891700456,4.257481004958956,{"$nulls":4},{"$f":"K43+Calcs!B$12","v":1.28164476415106},4.497986893334575,1.2825519902681737,4.3112581092842]
[null,null,{"$f":"C44+Calcs!B$12","v":1.3129043925449884},4.453701682410351,1.1358844074297314,4.30641675745193,{"$nulls":4},{"$f":"K44+Calcs!B$12","v":1.3129043925449884},4.392649689965867,1.1203135382504839,4.247383768247214]
[null,null,{"$f":"C45+Calcs!B$12","v":1.3441640209389167},4.464200083089071,1.0030933764512502,4.350044374483104,{"$nulls":4},{"$f":"K45+Calcs!B$12","v":1.3441640209389167},4.2864402921542,0.9631512444752246,4.176830144795071]
[null,null,{"$f":"C46+Calcs!B$12","v":1.375423649332845},4.473365544603716,0.868424007627944,4.388261505268701,{"$nulls":4},{"$f":"K46+Calcs!B$12","v":1.375423649332845},4.1794624754876954,0.8113679770865148,4.099949827713538]
[null,null,{"$f":"C47+Calcs!B$12","v":1.4066832777267735},4.481189111521165,0.7321248548502495,4.420978291071599,{"$nulls":4},{"$f":"K47+Calcs!B$12","v":1.4066832777267735},4.071820766364854,0.665243334606594,4.017110361834931]
[null,null,{"$f":"C48+Calcs!B$12","v":1.4379429061207019},4.487663139553108,0.5944491171291695,4.4481176582064474,{"$nulls":4},{"$f":"K48+Calcs!B$12","v":1.4379429061207019},3.9636203398634064,0.5250328597305665,3.928692746293867]
[null,null,{"$f":"C49+Calcs!B$12","v":1.4692025345146302},4.4927813030251675,0.4556539222226544,4.4696155695960735,{"$nulls":4},{"$f":"K49+Calcs!B$12","v":1.4692025345146302},3.8549669169753393,0.3909673490173326,3.8350898898170187]
[null,null,{"$f":"C50+Calcs!B$12","v":1.5004621629085586},4.4965386010576145,0.3159995963277254,4.485421233944687,{"$nulls":4},{"$f":"K50+Calcs!B$12","v":1.5004621629085586},3.745966661308523,0.26325226087288367,3.736705029137333]
[null,null,{"$f":"C51+Calcs!B$12","v":1.531721791302487},4.498931362451655,0.17574892242383708,4.495497271750698,{"$nulls":4},{"$f":"K51+Calcs!B$12","v":1.531721791302487},3.636726075355865,0.14206722383649872,3.6339501167578874]
[null,null,{"$f":"C52+Calcs!B$12","v":1.5629814196964154},4.499957249276505,0.03516638989619174,4.499819837542148,{"$nulls":4},{"$f":"K52+Calcs!B$12","v":1.5629814196964154},3.5273518964333404,0.027565646787197765,3.5272441844007747]
[null,null,{"$f":"C53+Calcs!B$12","v":1.5942410480903437},4.499615259153742,-0.10548256189906942,4.498378697880427,{"$nulls":4},{"$f":"K53+Calcs!B$12","v":1.5942410480903437},3.4179509923885854,-0.08012556771140952,3.4170116885619572]
[null,null,{"$f":"C54+Calcs!B$12","v":1.625500676484272},4.497905726236716,-0.24593230344279243,4.4911772648423005,{"$nulls":4},{"$f":"K54+Calcs!B$12","v":1.625500676484272},3.308630257181946,-0.18090620611341182,3.3036808446533574]
[null,null,{"$f":"C55+Calcs!B$12","v":1.6567603048782005},4.494830320884054,-0.38591777553600426,4.478232584855769,{"$nulls":4},{"$f":"K55+Calcs!B$12","v":1.6567603048782005},3.1994965064420153,-0.27470282223211206,3.1876819562485172]
[null,null,{"$f":"C56+Calcs!B$12","v":1.6880199332721288},4.490392048027576,-0.5251752477579489,4.4595752829312865,{"$nulls":4},{"$f":"K56+Calcs!B$12","v":1.6880199332721288},3.0906563730977075,-0.36146871122071444,3.0694457459577147]
[null,null,{"$f":"C57+Calcs!B$12","v":1.7192795616660572},4.484595244236225,-0.6634430722062568,4.43524946249562,{"$nulls":4},{"$f":"K57+Calcs!B$12","v":1.7192795616660572},2.982216203188841,-0.441183779599679,2.949401694442486]
[null,null,{"$f":"C58+Calcs!B$12","v":1.7505391900599856},4.477445573478869,-0.8004624298445077,4.405312561200732,{"$nulls":4},{"$f":"K58+Calcs!B$12","v":1.7505391900599856},2.874281951957043,-0.5138543121439033,2.8279763940381653]
[null,null,{"$f":"C59+Calcs!B$12","v":1.781798818453914},4.468950021590123,-0.935978066810608,4.369835163243557,{"$nulls":4},{"$f":"K59+Calcs!B$12","v":1.781798818453914},2.76695908031849,-0.5795126368450775,2.7055919233864167]
[null,null,{"$f":"C60+Calcs!B$12","v":1.8130584468478423},4.459116889444597,-1.069739018077638,4.328900768894148,{"$nulls":4},{"$f":"K60+Calcs!B$12","v":1.8130584468478423},2.6603524518196524,-0.6382166895616991,2.5826642493881664]
[null,null,{"$f":"C61+Calcs!B$12","v":1.8443180752417707},4.447955784846238,-1.2014993159069878,4.282605522088411,{"$nulls":4},{"$f":"K61+Calcs!B$12","v":1.8443180752417707},2.554566230176717,-0.6900494803597786,2.459601662671109]
[null,null,{"$f":"C62+Calcs!B$12","v":1.875577703635699},4.43547761314069,-1.3310186805915132,4.231057897097209,{"$nulls":4},{"$f":"K62+Calcs!B$12","v":1.875577703635699},2.4497037774988017,-0.7351184639296876,2.336803252625594]
[null,null,{"$f":"C63+Calcs!B$12","v":1.9068373320296275},4.421694566559847,-1.4580631910538635,4.174378345435245,{"$nulls":4},{"$f":"K63+Calcs!B$12","v":1.9068373320296275},2.3458675532944113,-0.773554816837409,2.21465742789876]
[null,null,{"$f":"C64+Calcs!B$12","v":1.9380969604235558},4.406620112309006,-1.5824059329418123,4.112698904320226,{"$nulls":4},{"$f":"K64+Calcs!B$12","v":1.9380969604235558},2.2431590143598084,-0.8055126247301893,2.0935404880498365]
[null,null,{"$f":"C65+Calcs!B$12","v":1.9693565888174842},4.390268979408272,-1.7038276219480706,4.0461627681349315,{"$nulls":4},{"$f":"K65+Calcs!B$12","v":1.9693565888174842},2.14167851564712,-0.8311679829658482,1.9738152518604506]
[null,null,{"$f":"C66+Calcs!B$12","v":2.0006162172114124},{"$f":"a*SIN(Q) + b","v":4.372657144301048},-1.8221172001763115,3.9749238244812486,{"$nulls":4},{"$f":"K66+Calcs!B$12","v":2.0006162172114124},{"$f":"aa*COS(QQ) + bb","v":2.0415252122090415},-0.8507180144704212,1.8558297475632501]
[null,null,{"$f":"C67+Calcs!B$12","v":2.0318758456053407},4.353801815243703,{"$f":"D68*COS(C68)","v":-1.937072403477681},{"$f":"D68*SIN(C68)","v":3.8991461565456302},{"$nulls":4},{"$f":"K67+Calcs!B$12","v":2.0318758456053407},1.9427969623159367,{"$f":"L68*COS(K68)","v":-0.8643798089490707},{"$f":"L68*SIN(K68)","v":1.739915970001195}]
[null,null,{"$f":"C68+Calcs!B$12","v":2.063135473999269},4.333721415491638,-2.048500297792423,3.8190035136191227,{"$nulls":4},{"$f":"K68+Calcs!B$12","v":2.063135473999269},1.8455902318400157,-0.8723892878790777,1.6263887094594327]
[null,null,{"$f":"C69+Calcs!B$12","v":2.0943951023931975},4.3124355652982125,-2.156217782649114,3.734678751731754,{"$nulls":4},{"$f":"K69+Calcs!B$12","v":2.0943951023931975},1.7499999999999938,-0.875,1.5155444566227605]
[null,null,{"$f":"C70+Calcs!B$12","v":2.125654730787126},4.289965062744084,-2.260052060098751,3.6463632464701385,{"$nulls":4},{"$f":"K70+Calcs!B$12","v":2.125654730787126},1.6561196665583413,-0.8724818522836808,1.4076603878055776]
[null,null,{"$f":"C71+Calcs!B$12","v":2.1569143591810542},4.266331863415727,-2.359841067492261,3.5542562801482522,{"$nulls":4},{"$f":"K71+Calcs!B$12","v":2.1569143591810542},1.5640409605617958,-0.8651197816146343,1.3029934342789729]
[null,null,{"$f":"C72+Calcs!B$12","v":2.1881739875749826},4.241559058952957,-2.455433872647256,3.4585644055940885,{"$nulls":4},{"$f":"K72+Calcs!B$12","v":2.1881739875749826},1.4738538507143035,-0.8532123726384805,1.2017794391825793]
[null,null,{"$f":"C73+Calcs!B$12","v":2.219433615968911},4.2156708544864445,-2.546691030092576,3.3595007888989223,{"$nulls":4},{"$f":"K73+Calcs!B$12","v":2.219433615968911},1.385646457469969,-0.8370704274416619,1.1042324051583108]
[null,null,{"$f":"C74+Calcs!B$12","v":2.2506932443628394},4.1886925449872505,-2.6334848972268112,3.257284533550924,{"$nulls":4},{"$f":"K74+Calcs!B$12","v":2.2506932443628394},1.299504966931896,-0.8170154929088479,1.0105438354804708]
[null,null,{"$f":"C75+Calcs!B$12","v":2.2819528727567677},4.160650490551491,-2.715699909378889,3.1521399884405295,{"$nulls":4},{"$f":"K75+Calcs!B$12","v":2.2819528727567677},1.2155135466410596,-0.7933783517645089,0.9208821710834446]
[null,null,{"$f":"C76+Calcs!B$12","v":2.313212501150696},4.131572090644289,-2.793232812914547,3.04429604228109,{"$nulls":4},{"$f":"K76+Calcs!B$12","v":2.313212501150696},1.1337542633374773,-0.7664974834415043,0.8353923255056553]
[null,null,{"$f":"C77+Calcs!B$12","v":2.3444721295446245},4.1014857573281756,-2.865992855691286,2.933985407034668,{"$nulls":4},{"$f":"K77+Calcs!B$12","v":2.3444721295446245},1.0543070027740478,-0.736717501031649,0.7541953193782618]
[null,null,{"$f":"C78+Calcs!B$12","v":2.375731757938553},4.070420887502094,-2.933901934325735,2.821443892969174,{"$nulls":4},{"$f":"K78+Calcs!B$12","v":2.375731757938553},0.9772493916613949,-0.7043875706606616,0.677388015690666]
[null,null,{"$f":"C79+Calcs!B$12","v":2.406991386332481},4.038407834178136,-2.996894697900592,2.706909677999371,{"$nulls":4},{"$f":"K79+Calcs!B$12","v":2.406991386332481},0.9026567218199899,-0.6698598196923297,0.6050429566638803]
[null,null,{"$f":"C80+Calcs!B$12","v":2.4382510147264096},4.0054778768240755,-3.054918607902772,2.590622573980334,{"$nulls":4},{"$f":"K80+Calcs!B$12","v":2.4382510147264096},0.8306018766136565,-0.6334877402039056,0.5372083026587329]
[null,null,{"$f":"C81+Calcs!B$12","v":2.469510643120338},3.9716631908006774,-3.1079339543494857,2.4728232926277984,{"$nulls":4},{"$f":"K81+Calcs!B$12","v":2.469510643120338},0.7611552597363449,-0.5956245941865441,0.4739078731403576]
[null,null,{"$f":"C82+Calcs!B$12","v":2.5007702715142663},3.9369968159236413,-3.1559138282240844,2.353752713735429,{"$nulls":4},{"$f":"K82+Calcs!B$12","v":2.5007702715142663},0.6943847264217529,-0.5566218269109493,0.4151412893150112]
[null,null,{"$f":"C83+Calcs!B$12","v":2.5320298999081947},3.901512624180897,-3.1988440505078906,2.233651158344378,{"$nulls":4},{"$f":"K83+Calcs!B$12","v":2.5320298999081947},0.6303555171430077,-0.5168274948593995,0.36088421765157047]
[null,null,{"$f":"C84+Calcs!B$12","v":2.563289528302123},3.8652452866368048,-3.236723058257418,2.112757669495672,{"$nulls":4},{"$f":"K84+Calcs!B$12","v":2.563289528302123},0.5691301938671915,-0.4765847145611038,0.3110887130996852]
[null,null,{"$f":"C85+Calcs!B$12","v":2.5945491566960515},3.828230239555581,-3.269561748337536,1.991309303161058,{"$nulls":4},{"$f":"K85+Calcs!B$12","v":2.5945491566960515},0.5107685789269962,-0.43623013857868104,0.26568366042105024]
[null,null,{"$f":"C86+Calcs!B$12","v":2.62580878508998},3.790503649777066,-3.297383279579854,1.8695404319031101,{"$nulls":4},{"$f":"K86+Calcs!B$12","v":2.62580878508998},0.4553276965692281,-0.3960924647797884,0.22457531166116895]
[null,null,{"$f":"C87+Calcs!B$12","v":2.657068413483908},3.7521023793786528,-3.320222834291055,1.7476820637608026,{"$nulls":4},{"$f":"K87+Calcs!B$12","v":2.657068413483908},0.40286171723728614,-0.3564909848900361,0.1876479174078602]
[null,null,{"$f":"C88+Calcs!B$12","v":2.6883280418778366},3.7130639496579123,-3.3381273401876816,1.6259611787926336,{"$nulls":4},{"$f":"K88+Calcs!B$12","v":2.6883280418778366},0.3534219046420435,-0.31773417816181215,0.15476444911105228]
[null,null,{"$f":"C89+Calcs!B$12","v":2.719587670271765},3.673426504471104,-3.351155153981235,1.5046000856359802,{"$nulls":4},{"$f":"K89+Calcs!B$12","v":2.719587670271765},0.3070565656728559,-0.2801183558091962,0.12576740937763414]
[null,null,{"$f":"C90+Calcs!B$12","v":2.7508472986656933},3.633228772963395,-3.359375707979971,1.3838158003589798,{"$nulls":4},{"$f":"K90+Calcs!B$12","v":2.7508472986656933},0.2638110031976346,-0.2439263616524511,0.10047972680665496]
[null,null,{"$f":"C91+Calcs!B$12","v":2.7821069270596217},3.592510031727197,-3.3628691212107293,1.2638194497901682,{"$nulls":4},{"$f":"K91+Calcs!B$12","v":2.7821069270596217},0.22372747179809993,-0.20942633418748005,0.07870573159537698]
[null,null,{"$f":"C92+Calcs!B$12","v":2.81336655545355},3.55131006642561,-3.3617257766952,1.1448157014117712,{"$nulls":4},{"$f":"K92+Calcs!B$12","v":2.81336655545355},0.186845136483476,-0.1768705350470392,0.06023220782689981]
[null,null,{"$f":"C93+Calcs!B$12","v":2.8446261838474785},3.5096691329184524,-3.3560458666395143,1.027002221795256,{"$nulls":4},{"$f":"K93+Calcs!B$12","v":2.8446261838474785},0.15320003442295338,-0.1464942485523265,0.044829518046520245]
[null,null,{"$f":"C94+Calcs!B$12","v":2.875885812241407},3.4676279179288723,-3.345938907413603,0.9105691654430155,{"$nulls":4},{"$f":"K94+Calcs!B$12","v":2.875885812241407},0.12282503973431735,-0.11851475676696402,0.032252795447898636]
[null,null,{"$f":"C95+Calcs!B$12","v":2.907145440635335},3.425227499288971,-3.331523226306872,0.7956986957782624,{"$nulls":4},{"$f":"K95+Calcs!B$12","v":2.907145440635335},0.09574983136315085,-0.09313039416141604,0.022243198722555875]
[null,null,{"$f":"C96+Calcs!B$12","v":2.9384050690292636},3.3825093058032754,-3.3129254221490023,0.6825645398968586,{"$nulls":4},{"$f":"K96+Calcs!B$12","v":2.9384050690292636},0.07200086408398487,-0.07051968567574474,0.014529224378287532]
[null,null,{"$f":"C97+Calcs!B$12","v":2.969664697423192},3.3395150767692843,-3.290279801978705,0.571331578560412,{"$nulls":4},{"$f":"K97+Calcs!B$12","v":2.969664697423192},0.05160134265174099,-0.050840571633608875,0.008828071104735626]
[null,null,{"$f":"C98+Calcs!B$12","v":3.0009243258171203},3.296286821194634,-3.2637277960286646,0.46215547277004243,{"$nulls":4},{"$f":"K98+Calcs!B$12","v":3.0009243258171203},0.03457119912871942,-0.03422972261180583,0.004847050558473596]
[null,null,{"$f":"C99+Calcs!B$12","v":3.0321839542110487},3.252866776750737,-3.2334173533714003,0.35518232811531764,{"$nulls":4},{"$f":"K99+Calcs!B$12","v":3.0321839542110487},0.02092707340928257,-0.020801947008860427,2.2850387563593468E-3]
[null,null,{"$f":"C100+Calcs!B$12","v":3.063443582604977},3.2092973685029946,-3.1995023206380346,0.25054839794354467,{"$nulls":4},{"$f":"K100+Calcs!B$12","v":3.063443582604977},0.010682296961266324,-0.010649693684589559,8.3396210530996035E-4]
[null,null,{"$f":"C101+Calcs!B$12","v":3.0947032109989054},3.1656211674579096,-3.1621418062797453,0.14837982624147056,{"$nulls":4},{"$f":"K101+Calcs!B$12","v":3.0947032109989054},3.8468798000090842E-3,-3.8426516616674507E-3,1.803119596763185E-4]
[null,null,{"$f":"C102+Calcs!B$12","v":3.125962839392834},3.1218808489676046,-3.1214995328897954,0.04879243096508342,{"$nulls":4},{"$f":"K102+Calcs!B$12","v":3.125962839392834},4.2750070771413462E-4,-4.2744849146982147E-4,6.681484585026412E-6]
[null,null,{"$f":"C103+Calcs!B$12","v":3.157222467786762},3.078119151032382,-3.07774318014224,-0.048108471605765216,{"$nulls":4},{"$f":"K103+Calcs!B$12","v":3.157222467786762},4.275007077150228E-4,-4.2744849147070943E-4,-6.6814845850443648E-6]
[null,null,{"$f":"C104+Calcs!B$12","v":3.1884820961806906},3.0343788325420773,{"$f":"D105*COS(C105)","v":-3.0310437209316525},{"$f":"D105*SIN(C105)","v":-0.14222820107215736},{"$nulls":4},{"$f":"K104+Calcs!B$12","v":3.1884820961806906},3.8468798000108606E-3,-3.8426516616692228E-3,-1.8031195967643836E-4]
[null,null,{"$f":"C105+Calcs!B$12","v":3.219741724574619},2.9907026314969922,-2.981574753316278,-0.23348280542688718,{"$nulls":4},{"$f":"K105+Calcs!B$12","v":3.219741724574619},0.010682296961268989,-0.010649693684592206,-8.3396210531026978E-4]
[null,null,{"$f":"C106+Calcs!B$12","v":3.2510013529685473},2.9471332232492498,-2.9295118308749974,-0.32179911178083026,{"$nulls":4},{"$f":"K106+Calcs!B$12","v":3.2510013529685473},0.020927073409286123,-0.02080194700886394,-2.2850387563599327E-3]
[null,null,{"$f":"C107+Calcs!B$12","v":3.2822609813624757},2.903713178805353,-2.8750317940861585,-0.40711473537764775,{"$nulls":4},{"$f":"K107+Calcs!B$12","v":3.2822609813624757},0.03457119912872386,-0.03422972261181018,-0.004847050558474545]
[null,null,{"$f":"C108+Calcs!B$12","v":3.313520609756404},2.860484923230703,-2.8183121053239075,-0.48937804713215655,{"$nulls":4},{"$f":"K108+Calcs!B$12","v":3.313520609756404},0.05160134265174676,-0.05084057163361448,-0.008828071104737097]
[null,null,{"$f":"C109+Calcs!B$12","v":3.3447802381503324},2.817490694196712,-2.759530190045064,-0.5685481000890987,{"$nulls":4},{"$f":"K109+Calcs!B$12","v":3.3447802381503324},0.07200086408399153,-0.07051968567575113,-0.014529224378289548]
[null,null,{"$f":"C110+Calcs!B$12","v":3.376039866544261},2.774772500711016,-2.698862786706956,-0.6445945153586314,{"$nulls":4},{"$f":"K110+Calcs!B$12","v":3.376039866544261},0.09574983136315884,-0.0931303941614236,-0.02224319872255862]
[null,null,{"$f":"C111+Calcs!B$12","v":3.407299494938189},2.732372082071115,-2.6364853079141586,-0.717497328242012,{"$nulls":4},{"$f":"K111+Calcs!B$12","v":3.407299494938189},0.12282503973432624,-0.11851475676697229,-0.0322527954479021]
[null,null,{"$f":"C112+Calcs!B$12","v":3.4385591233321176},2.6903308670815353,-2.5725712152398064,-0.7872467954150533,{"$nulls":4},{"$f":"K112+Calcs!B$12","v":3.4385591233321176},0.15320003442296315,-0.14649424855233542,-0.0448295180465245]
[null,null,{"$f":"C113+Calcs!B$12","v":3.469818751726046},2.6486899335743774,-2.5072914101054797,-0.8538431641873789,{"$nulls":4},{"$f":"K113+Calcs!B$12","v":3.469818751726046},0.18684513648348666,-0.17687053504704872,-0.060232207826904936]
[null,null,{"$f":"C114+Calcs!B$12","v":3.5010783801199743},2.6074899682727906,-2.4408136430326164,-0.9172964050017234,{"$nulls":4},{"$f":"K114+Calcs!B$12","v":3.5010783801199743},0.22372747179811148,-0.20942633418749013,-0.07870573159538305]
[null,null,{"$f":"C115+Calcs!B$12","v":3.5323380085139027},2.566771227036593,-2.3733019434984852,-0.9776259084789297,{"$nulls":4},{"$f":"K115+Calcs!B$12","v":3.5323380085139027},0.26381100319764705,-0.24392636165246165,-0.10047972680666202]
[null,null,{"$f":"C116+Calcs!B$12","v":3.563597636907831},2.5265734955288837,-2.304916072541113,-1.0348601484503555,{"$nulls":4},{"$f":"K116+Calcs!B$12","v":3.563597636907831},0.30705656567286965,-0.2801183558092076,-0.12576740937764247]
[null,null,{"$f":"C117+Calcs!B$12","v":3.5948572653017594},2.486936050342076,-2.2358110001606777,-1.0890363125495652,{"$nulls":4},{"$f":"K117+Calcs!B$12","v":3.5948572653017594},0.3534219046420577,-0.3177341781618235,-0.15476444911106152]
[null,null,{"$f":"C118+Calcs!B$12","v":3.626116893695688},2.447897620621336,-2.1661364094600173,-1.1401999020589604,{"$nulls":4},{"$f":"K118+Calcs!B$12","v":3.626116893695688},0.40286171723730124,-0.3564909848900477,-0.18764791740787062]
[null,null,{"$f":"C119+Calcs!B$12","v":3.657376522089616},2.4094963502229225,-2.0960362293546355,-1.1884043028239113,{"$nulls":4},{"$f":"K119+Calcs!B$12","v":3.657376522089616},0.45532769656924454,-0.39609246477980053,-0.2245753116611808]
[null,null,{"$f":"C120+Calcs!B$12","v":3.6886361504835445},2.3717697604444075,-2.0256481975631924,-1.2337103291565297,{"$nulls":4},{"$f":"K120+Calcs!B$12","v":3.6886361504835445},0.5107685789270136,-0.4362301385786933,-0.2656836604210634]
[null,null,{"$f":"C121+Calcs!B$12","v":3.719895778877473},2.334754713363184,-1.955103455463535,-1.2761857427530479,{"$nulls":4},{"$f":"K121+Calcs!B$12","v":3.719895778877473},0.5691301938672098,-0.47658471456111606,-0.31108871309969977]
[null,null,{"$f":"C122+Calcs!B$12","v":3.7511554072714013},2.298487375819092,-1.8845261762673313,-1.3159047487424638,{"$nulls":4},{"$f":"K122+Calcs!B$12","v":3.7511554072714013},0.6303555171430268,-0.5168274948594118,-0.3608842176515863]
[null,null,{"$f":"C123+Calcs!B$12","v":3.7824150356653297},2.2630031840763487,-1.8140332278287898,-1.352947471069278,{"$nulls":4},{"$f":"K123+Calcs!B$12","v":3.7824150356653297},0.6943847264217728,-0.5566218269109614,-0.41514128931502836]
[null,null,{"$f":"C124+Calcs!B$12","v":3.813674664059258},2.2283368091993125,-1.7437338712603963,-1.387399409489497,{"$nulls":4},{"$f":"K124+Calcs!B$12","v":3.813674664059258},0.7611552597363653,-0.5956245941865557,-0.473907873140376]
[null,null,{"$f":"C125+Calcs!B$12","v":3.8449342924531864},2.194522123175915,-1.673729496381587,-1.4193508805262935,{"$nulls":4},{"$f":"K125+Calcs!B$12","v":3.8449342924531864},0.8306018766136778,-0.6334877402039168,-0.5372083026587526]
[null,null,{"$f":"C126+Calcs!B$12","v":3.876193920847115},2.1615921658218546,-1.6041133948754045,-1.4488964447895238,{"$nulls":4},{"$f":"K126+Calcs!B$12","v":3.876193920847115},0.9026567218200121,-0.6698598196923404,-0.6050429566639016]
[null,null,{"$f":"C127+Calcs!B$12","v":3.907453549241043},2.129579112497897,-1.5349705718740592,-1.4761343231115365,{"$nulls":4},{"$f":"K127+Calcs!B$12","v":3.907453549241043},0.977249391661418,-0.7043875706606718,-0.6773880156906886]
[null,null,{"$f":"C128+Calcs!B$12","v":3.9387131776349715},2.098514242671815,-1.466377596537523,-1.5011658039901183,{"$nulls":4},{"$f":"K128+Calcs!B$12","v":3.9387131776349715},1.0543070027740713,-0.7367175010316582,-0.7541953193782857]
[null,null,{"$f":"C129+Calcs!B$12","v":3.9699728060289},2.0684279093557016,-1.3984024920304723,-1.5240946448579116,{"$nulls":4},{"$f":"K129+Calcs!B$12","v":3.9699728060289},1.1337542633375017,-0.7664974834415128,-0.8353923255056807]
[null,null,{"$f":"C130+Calcs!B$12","v":4.001232434422828},{"$f":"a*SIN(Q) + b","v":2.0393495094485004},-1.3311046651426421,-1.5450264697160803,{"$nulls":4},{"$f":"K130+Calcs!B$12","v":4.001232434422828},{"$f":"aa*COS(QQ) + bb","v":1.215513546641085},-0.7933783517645167,-0.9208821710834714]
[null,null,{"$f":"C131+Calcs!B$12","v":4.032492062816757},2.0113074550127408,-1.2645348756366663,-1.5640681656783342,{"$nulls":4},{"$f":"K131+Calcs!B$12","v":4.032492062816757},1.2995049669319223,{"$f":"L132*COS(K132)","v":-0.8170154929088547},{"$f":"L132*SIN(K132)","v":-1.010543835480499}]
[null,null,{"$f":"C132+Calcs!B$12","v":4.063751691210685},1.9843291455135474,-1.198735245246316,-1.5813272809696228,{"$nulls":4},{"$f":"K132+Calcs!B$12","v":4.063751691210685},1.3856464574699956,-0.8370704274416676,-1.10423240515834]
[null,null,{"$f":"C133+Calcs!B$12","v":4.095011319604613},1.958440941047036,-1.133739306087387,-1.5969114269118656,{"$nulls":4},{"$f":"K133+Calcs!B$12","v":4.095011319604613},1.473853850714331,-0.8532123726384849,-1.20177943918261]
[null,null,{"$f":"C134+Calcs!B$12","v":4.126270947998542},1.9336681365842663,-1.0695720880839672,-1.6109276864071123,{"$nulls":4},{"$f":"K134+Calcs!B$12","v":4.126270947998542},1.5640409605618233,-0.8651197816146373,-1.3029934342790042]
[null,null,{"$f":"C135+Calcs!B$12","v":4.15753057639247},1.910034937255909,-1.0062502448550252,-1.6234820313965244,{"$nulls":4},{"$f":"K135+Calcs!B$12","v":4.15753057639247},1.6561196665583697,-0.8724818522836824,-1.40766038780561]
[null,null,{"$f":"C136+Calcs!B$12","v":4.1887902047863985},1.8875644347017808,-0.9437822173508781,-1.6346787517317625,{"$nulls":4},{"$f":"K136+Calcs!B$12","v":4.1887902047863985},1.7500000000000229,-0.875,-1.515544456622794]
[null,null,{"$f":"C137+Calcs!B$12","v":4.220049833180327},1.8662785845083554,-0.8821684343766735,-1.644619897843851,{"$nulls":4},{"$f":"K137+Calcs!B$12","v":4.220049833180327},1.845590231840045,-0.8723892878790761,-1.6263887094594667]
[null,null,{"$f":"C138+Calcs!B$12","v":4.251309461574255},1.8461981847562916,-0.8214015489912132,-1.6534047395336273,{"$nulls":4},{"$f":"K138+Calcs!B$12","v":4.251309461574255},1.9427969623159662,-0.8643798089490674,-1.7399159700012297]
[null,null,{"$f":"C139+Calcs!B$12","v":4.282569089968184},1.8273428556989466,-0.7614667096247972,-1.6611292431376812,{"$nulls":4},{"$f":"K139+Calcs!B$12","v":4.282569089968184},2.0415252122090717,-0.8507180144704161,-1.8558297475632854]
[null,null,{"$f":"C140+Calcs!B$12","v":4.313828718362112},1.8097310205917234,-0.70234186461987,-1.6678855692445584,{"$nulls":4},{"$f":"K140+Calcs!B$12","v":4.313828718362112},2.1416785156471514,-0.8311679829658412,-1.973815251860488]
[null,null,{"$f":"C141+Calcs!B$12","v":4.34508834675604},1.7933798876909897,-0.6439980987636522,-1.67376159304823,{"$nulls":4},{"$f":"K141+Calcs!B$12","v":4.34508834675604},2.24315901435984,-0.8055126247301803,-2.093540488049874]
[null,null,{"$f":"C142+Calcs!B$12","v":4.376347975149969},1.7783054334401496,-0.5864000002531613,-1.67884044932979,{"$nulls":4},{"$f":"K142+Calcs!B$12","v":4.376347975149969},2.3458675532944437,-0.773554816837398,-2.214657427898798]
[null,null,{"$f":"C143+Calcs!B$12","v":4.407607603543897},1.764522386859306,-0.5295060564105911,-1.6832001039544189,{"$nulls":4},{"$f":"K143+Calcs!B$12","v":4.407607603543897},2.4497037774988346,-0.7351184639296746,-2.3368032526256326]
[null,null,{"$f":"C144+Calcs!B$12","v":4.4388672319378255},1.7520442151537583,-0.4732690763513814,-1.6869129536592158,{"$nulls":4},{"$f":"K144+Calcs!B$12","v":4.4388672319378255},2.55456623017675,-0.6900494803597635,-2.4596016626711474]
[null,null,{"$f":"C145+Calcs!B$12","v":4.470126860331754},1.7408831105554,-0.4176366386989601,-1.690045455789068,{"$nulls":4},{"$f":"K145+Calcs!B$12","v":4.470126860331754},2.6603524518196857,-0.6382166895616819,-2.582664249388205]
[null,null,{"$f":"C146+Calcs!B$12","v":4.501386488725682},1.7310499784098745,-0.36255156233947855,-1.692657789512703,{"$nulls":4},{"$f":"K146+Calcs!B$12","v":4.501386488725682},2.7669590803185233,-0.5795126368450582,-2.705591923386455]
[null,null,{"$f":"C147+Calcs!B$12","v":4.532646117119611},1.7225544265211288,-0.30795239811728525,-1.6948035499199747,{"$nulls":4},{"$f":"K147+Calcs!B$12","v":4.532646117119611},2.8742819519570766,-0.5138543121438819,-2.8279763940382034]
[null,null,{"$f":"C148+Calcs!B$12","v":4.563905745513539},1.7154047557637733,-0.25377393928777925,-1.6965294762648049,{"$nulls":4},{"$f":"K148+Calcs!B$12","v":4.563905745513539},2.982216203188875,-0.44118377959965527,-2.949401694442524]
[null,null,{"$f":"C149+Calcs!B$12","v":4.595165373907467},1.7096079519724228,-0.19994774846895255,-1.6978752154765493,{"$nulls":4},{"$f":"K149+Calcs!B$12","v":4.595165373907467},3.090656373097741,-0.36146871122068847,-3.069445745957752]
[null,null,{"$f":"C150+Calcs!B$12","v":4.626425002301396},1.7051696791159456,-0.14640269876669462,-1.6988731219164677,{"$nulls":4},{"$f":"K150+Calcs!B$12","v":4.626425002301396},3.1994965064420495,-0.2747028222320839,-3.1876819562485537]
[null,null,{"$f":"C151+Calcs!B$12","v":4.657684630695324},1.7020942737632834,-0.09306552669202978,-1.699548094206014,{"$nulls":4},{"$f":"K151+Calcs!B$12","v":4.657684630695324},3.30863025718198,-0.18090620611338148,-3.3036808446533934]
[null,null,{"$f":"C152+Calcs!B$12","v":4.6889442590892525},1.7003847408462576,-0.03986139444113427,-1.6999174498004315,{"$nulls":4},{"$f":"K152+Calcs!B$12","v":4.6889442590892525},3.4179509923886195,-0.08012556771137702,-3.4170116885619923]
[null,null,{"$f":"C153+Calcs!B$12","v":4.720203887483181},1.7000427507234948,0.013285540928599555,-1.699990837825234,{"$nulls":4},{"$f":"K153+Calcs!B$12","v":4.720203887483181},3.5273518964333745,0.027565646787232414,-3.5272441844008084]
[null,null,{"$f":"C154+Calcs!B$12","v":4.751463515877109},1.7010686375483453,0.0664515539208548,-1.699770190535205,{"$nulls":4},{"$f":"K154+Calcs!B$12","v":4.751463515877109},3.636726075355899,0.14206722383653547,-3.63395011675792]
[null,null,{"$f":"C155+Calcs!B$12","v":4.782723144271038},1.703461398942387,0.11971277513310374,-1.6992497135961757,{"$nulls":4},{"$f":"K155+Calcs!B$12","v":4.782723144271038},3.7459666613085574,0.26325226087292247,-3.7367050291373647]
[null,null,{"$f":"C156+Calcs!B$12","v":4.813982772664966},1.707218696974834,0.17314461641939155,-1.6984159152296683,{"$nulls":4},{"$f":"K156+Calcs!B$12","v":4.813982772664966},3.854966916975373,0.39096734901737346,-3.8350898898170485]
[null,null,{"$f":"C157+Calcs!B$12","v":4.845242401058894},1.7123368604468931,0.2268211992003099,-1.6972476741001759,{"$nulls":4},{"$f":"K157+Calcs!B$12","v":4.845242401058894},3.96362033986344,0.5250328597306092,-3.928692746293896]
[null,null,{"$f":"C158+Calcs!B$12","v":4.876502029452823},1.7188108884788371,0.28081478842465213,-1.6957163456649897,{"$nulls":4},{"$f":"K158+Calcs!B$12","v":4.876502029452823},4.071820766364888,0.6652433346066386,-4.017110361834957]
[null,null,{"$f":"C159+Calcs!B$12","v":4.907761657846751},1.726634455396287,0.33519523466456225,-1.6937859065477554,{"$nulls":4},{"$f":"K159+Calcs!B$12","v":4.907761657846751},4.179462475487729,0.8113679770865613,-4.099949827713563]
[null,null,{"$f":"C160+Calcs!B$12","v":4.9390212862406795},1.7357999169109328,0.39002942679335106,-1.6914131363399219,{"$nulls":4},{"$f":"K160+Calcs!B$12","v":4.9390212862406795},4.286440292154234,0.9631512444752729,-4.176830144795094]
[null,null,{"$f":"C161+Calcs!B$12","v":4.970280914634608},1.7462983175896527,0.445380757652679,-1.6885478360796229,{"$nulls":4},{"$f":"K161+Calcs!B$12","v":4.970280914634608},4.3926496899659,1.1203135382505336,-4.247383768247236]
[null,null,{"$f":"C162+Calcs!B$12","v":5.001540543028536},1.7581193996047286,0.5013086050636654,-1.685133082505834,{"$nulls":4},{"$f":"K162+Calcs!B$12","v":5.001540543028536},4.497986893334607,1.282551990268225,-4.311258109284218]
[null,null,{"$f":"C163+Calcs!B$12","v":5.032800171422465},1.7712516127566154,0.5578678304748876,-1.6811055170375693,{"$nulls":4},{"$f":"K163+Calcs!B$12","v":5.032800171422465},4.602348978880169,1.4495413420910688,-4.368116988013045]
[null,null,{"$f":"C164+Calcs!B$12","v":5.064059799816393},1.7856821257594642,0.6151082974694112,-1.676395668283929,{"$nulls":4},{"$f":"K164+Calcs!B$12","v":5.064059799816393},4.705633975995197,1.6209349143020513,-4.417642031631464]
[null,null,{"$f":"C165+Calcs!B$12","v":5.095319428210321},1.8013968387783765,0.6730744122732354,-1.6709283067515994,{"$nulls":4},{"$f":"K165+Calcs!B$12","v":5.095319428210321},4.807740966479042,1.7963656623097664,-4.459534012431705]
[null,null,{"$f":"C166+Calcs!B$12","v":5.12657905660425},1.8183803972061408,0.7318046883191595,-1.6646228302824817,{"$nulls":4},{"$f":"K166+Calcs!B$12","v":5.12657905660425},4.90857018314342,1.9754473148121876,-4.493514120290037]
[null,null,{"$f":"C167+Calcs!B$12","v":5.157838684998178},1.8366162066659826,0.7913313368234012,-1.6573936786260022,{"$nulls":4},{"$f":"K167+Calcs!B$12","v":5.157838684998178},5.008023107293428,2.157775590759407,-4.519325164569132]
[null,null,{"$f":"C168+Calcs!B$12","v":5.1890983133921065},1.8560864492256801,{"$f":"D169*COS(C169)","v":0.8516798852277515},{"$f":"D169*SIN(C169)","v":-1.6491507754288681},{"$nulls":4},{"$f":"K168+Calcs!B$12","v":5.1890983133921065},5.106002564988657,2.3429294903458406,-4.536732700627018]
[null,null,{"$f":"C169+Calcs!B$12","v":5.220357941786035},1.876772100807194,0.9128688252479916,-1.639799995810038,{"$nulls":4},{"$f":"K169+Calcs!B$12","v":5.220357941786035},5.20241282199037,2.530472655269574,-4.545526076412141]
[null,null,{"$f":"C170+Calcs!B$12","v":5.251617570179963},1.8986529497748057,0.9749092921502108,-1.6292436575809481,{"$nulls":4},{"$f":"K170+Calcs!B$12","v":5.251617570179963},5.297159677301978,2.7199547932220205,-4.545519394927553]
[null,null,{"$f":"C171+Calcs!B$12","v":5.282877198573892},1.9217076166835974,1.0378047767509913,-1.617381034071,{"$nulls":4},{"$f":"K171+Calcs!B$12","v":5.282877198573892},5.390150555211395,2.910913161315952,-4.536552388667333]
[null,null,{"$f":"C172+Calcs!B$12","v":5.31413682696782},1.9459135751689858,1.1015508715056732,-1.604108886426366,{"$nulls":4},{"$f":"K172+Calcs!B$12","v":5.31413682696782},5.481294595745366,3.1028741029253077,-4.5184912024638075]
[null,null,{"$f":"C173+Calcs!B$12","v":5.345396455361748},1.9712471739568873,1.1661350519115963,-1.5893220131666688,{"$nulls":4},{"$f":"K173+Calcs!B$12","v":5.345396455361748},5.570502743447358,3.2953546321967977,-4.491229081533657]
[null,null,{"$f":"C174+Calcs!B$12","v":5.376656083755677},1.9976836599730206,1.2315364943108764,-1.5729138147094008,{"$nulls":4},{"$f":"K174+Calcs!B$12","v":5.376656083755677},5.6576878343922985,3.4878640603021633,-4.454686961873205]
[null,null,{"$f":"C175+Calcs!B$12","v":5.407915712149605},2.0251972025287586,1.297725931030469,-1.5547768705063154,{"$nulls":4},{"$f":"K175+Calcs!B$12","v":5.407915712149605},5.742764681353121,3.6799056573316813,-4.408813960526697]
[null,null,{"$f":"C176+Calcs!B$12","v":5.4391753405435335},2.0537609185599024,1.3646655436465829,-1.5348035263797741,{"$nulls":4},{"$f":"K176+Calcs!B$12","v":5.4391753405435335},5.825650157035904,3.8709783435847975,-4.353587763634718]
[null,null,{"$f":"C177+Calcs!B$12","v":5.470434968937462},2.083346898893712,1.4323088950065341,-1.5128864896003293,{"$nulls":4},{"$f":"K177+Calcs!B$12","v":5.470434968937462},5.906263275302298,4.060578403893311,-4.289014910561617]
[null,null,{"$f":"C178+Calcs!B$12","v":5.50169459733139},2.1139262355185378,1.5006009004844614,-1.488919429209922,{"$nulls":4},{"$f":"K178+Calcs!B$12","v":5.50169459733139},5.984525270299838,4.248201218516548,-4.215130972799287]
[null,null,{"$f":"C179+Calcs!B$12","v":5.532954225725319},2.1454690498293987,1.5694778387885913,-1.4627975790680525,{"$nulls":4},{"$f":"K179+Calcs!B$12","v":5.532954225725319},6.060359673422868,4.433343004077169,-4.1320006267485185]
[null,null,{"$f":"C180+Calcs!B$12","v":5.564213854119247},2.177944521821911,1.638867402477571,-1.4344183410813225,{"$nulls":4},{"$f":"K180+Calcs!B$12","v":5.564213854119247},6.133692388028848,4.615502557960591,-4.039717619886602]
[null,null,{"$f":"C181+Calcs!B$12","v":5.595473482513175},2.2113209202060493,1.7086887881824029,-1.4036818860698748,{"$nulls":4},{"$f":"K181+Calcs!B$12","v":5.595473482513175},6.204451761837065,4.794182999580952,-3.9384046302395146]
[null,null,{"$f":"C182+Calcs!B$12","v":5.626733110907104},2.245565633410304,1.778852826369351,-1.3704917497275166,{"$nulls":4},{"$f":"K182+Calcs!B$12","v":5.626733110907104},6.272568656938977,4.968893501921949,-3.828213019487169]
[null,null,{"$f":"C183+Calcs!B$12","v":5.657992739301032},2.2806452014459544,1.8492621503184947,-1.3347554211457147,{"$nulls":4},{"$f":"K183+Calcs!B$12","v":5.657992739301032},6.337976517351821,5.139151006791927,-3.709322480439338]
[null,null,{"$f":"C184+Calcs!B$12","v":5.6892523676949605},2.316525348600316,1.9198114038329888,-1.2963849213951175,{"$nulls":4},{"$f":"K184+Calcs!B$12","v":5.6892523676949605},6.400611434049448,5.3044819172889905,-3.5819405800262314]
[null,null,{"$f":"C185+Calcs!B$12","v":5.720511996088889},2.3531710169270155,1.9903874870362164,-1.2552973696917318,{"$nulls":4},{"$f":"K185+Calcs!B$12","v":5.720511996088889},6.460412207406862,5.464423761053597,-3.446302199349974]
[null,null,{"$f":"C186+Calcs!B$12","v":5.751771624482817},2.390546400500579,2.06086983945848,-1.211415534718229,{"$nulls":4},{"$f":"K186+Calcs!B$12","v":5.751771624482817},6.5173204069974435,5.618526817992648,-3.3026688727395492]
[null,null,{"$f":"C187+Calcs!B$12","v":5.783031252876746},2.4286149804018575,2.131130759462298,-1.1646683687238886,{"$nulls":4},{"$f":"K187+Calcs!B$12","v":5.783031252876746},6.571280428684429,5.766355706290146,-3.151328028140848]
[null,null,{"$f":"C188+Calcs!B$12","v":5.814290881270674},2.4673395604001076,2.2010357589063636,-1.1149915220892415,{"$nulls":4},{"$f":"K188+Calcs!B$12","v":5.814290881270674},6.622239548950871,5.907490920674569,-2.992592131553609]
[null,null,{"$f":"C189+Calcs!B$12","v":5.845550509664602},2.5066823032968624,2.2704439518033714,-1.0623278361132933,{"$nulls":4},{"$f":"K189+Calcs!B$12","v":5.845550509664602},6.6701479764149845,6.041530317091562,-2.826797738596881]
[null,null,{"$f":"C190+Calcs!B$12","v":5.876810138058531},2.546604767896084,2.339208475586774,-1.0066278118619947,{"$nulls":4},{"$f":"K190+Calcs!B$12","v":5.876810138058531},6.714958900480546,6.168090538131712,-2.654304456642635]
[null,null,{"$f":"C191+Calcs!B$12","v":5.908069766452459},2.5870679465644715,2.4071769434666885,-0.9478500530061081,{"$nulls":4},{"$f":"K191+Calcs!B$12","v":5.908069766452459},6.756628537074819,6.286808373786269,-2.475493821302057]
[null,null,{"$f":"C192+Calcs!B$12","v":5.9393293948463874},2.628032303345225,2.4741919262261294,-0.8859616806744206,{"$nulls":4},{"$f":"K192+Calcs!B$12","v":5.9393293948463874},6.795116171429305,6.3973420523478515,-2.2907680913793587]
[null,null,{"$f":"C193+Calcs!B$12","v":5.970589023240316},2.6694578125880315,2.540091461686047,-0.8209387184540141,{"$nulls":4},{"$f":"K193+Calcs!B$12","v":5.970589023240316},6.830384197861522,6.499372456537446,-2.1005489667224597]
[null,null,{"$f":"C194+Calcs!B$12","v":6.001848651634244},{"$f":"a*SIN(Q) + b","v":2.7113039980575158},2.6047095899517307,-0.7527664457825924,{"$nulls":4},{"$f":"K194+Calcs!B$12","v":6.001848651634244},{"$f":"aa*COS(QQ) + bb","v":6.862398156518953},6.592604260222396,-1.9052762336974223]
[null,null,{"$f":"C195+Calcs!B$12","v":6.033108280028173},2.7535299724819566,2.667876912444544,-0.681439718098272,{"$nulls":4},{"$f":"K195+Calcs!B$12","v":6.033108280028173},6.891126767049234,{"$f":"L196*COS(K196)","v":6.676766981391459},{"$f":"L196*SIN(K196)","v":-1.7054063432927666}]
[null,null,{"$f":"C196+Calcs!B$12","v":6.064367908422101},2.796094477503618,2.7294211726220183,-0.606963252239275,{"$nulls":4},{"$f":"K196+Calcs!B$12","v":6.064367908422101},6.916541959163718,6.75161594737122,-1.5014109271198561]
[null,null,{"$f":"C197+Calcs!B$12","v":6.095627536816029},2.838955923991664,2.789167856196538,-0.5293518757191404,{"$nulls":4},{"$f":"K197+Calcs!B$12","v":6.095627536816029},6.938618900064525,6.816933168601943,-1.2937752568152308]
[null,null,{"$f":"C198+Calcs!B$12","v":6.126887165209958},2.882072432678264,2.84694080857851,-0.44863073864186603,{"$nulls":4},{"$f":"K198+Calcs!B$12","v":6.126887165209958},6.95733601870829,6.872528117639058,-1.0829966525692793]
[null,null,{"$f":"C199+Calcs!B$12","v":6.158146793603886},2.925401875078192,2.902562867194417,-0.36483548716528147,{"$nulls":4},{"$f":"K199+Calcs!B$12","v":6.158146793603886},6.9726750268829045,6.918238410407527,-0.8695828467020525]
[null,null,{"$f":"C200+Calcs!B$12","v":6.189406421997814},2.968901914651927,2.955856506263729,-0.2780123975693545,{"$nulls":4},{"$f":"K200+Calcs!B$12","v":6.189406421997814},6.984620937076647,6.9539303871089135,-0.6540503083805809]
[null,null,{"$f":"C201+Calcs!B$12","v":6.220666050391743},3.0125300481720423,3.006644491561677,-0.18821847013848825,{"$nulls":4},{"$f":"K201+Calcs!B$12","v":6.220666050391743},6.993162077122259,6.979499590563714,-0.4369225357221317]
[null,null,{"$f":"C202+Calcs!B$12","v":6.251925678785671},3.0562436472524643,3.054750542647476,-0.09552148222256733,{"$nulls":4},{"$f":"K202+Calcs!B$12","v":6.251925678785671},6.998290101601633,6.994871140162764,-0.21872832165376382]
[null,null,{"$f":"C203+Calcs!B$12","v":6.2831853071795996},3.1000000000000183,3.1000000000000183,4.054070447401272e-14,{"$nulls":4},{"$f":"K203+Calcs!B$12","v":6.2831853071795996},7,7,9.154352623164108e-14]

{"sheet":"Defining Function","index":3,"n_rows":12,"n_cols":1,"rows_kept":12}
["                                                     Defining a Function in Excel"]
[]
["Computers have very specific rules you must follow when defining a function.  If you don't, the program will either not work at all or will work incorrectly."]
[]
["1. The Variable used should be the one named in the instruction, usually x, though sometimes y, t, Q (for an angle theta), "]
[" or even x and y (for a function of two variables). "]
[]
["2.  Order of Operations:  There five arithmetic operations, addition (+), subtraction (-), multiplication (*), division (/), and  exponentiation or power (^).  When computers see any of these operation symbols, they perform the indicated steps in a very particular order.  First, the power is done.  Second, products and quotients of adjacent terms is done.  Third, and last, sums and differences of adjacent terms are done.  So, in 10*x^3 + 5*x – 7, say with x = 2, the first pass only calculates 2^3 and ignores the multiplications and the sums and differences to calculate 2^3 = 8.  The second pass looks at 10*8 + 5*2 – 7 and only does the multiplications, so it produces 80 + 10 -  7.  The third pass looks at the +’s and –‘s to produce 80 + 10 – 7 = 83.  "]
[]
["3.    Parentheses  If you need an operation involving more than two adjacent terms, as in Ö4^3 + 6^2, the computer would take the square root of  4 to produce 2^3 + 6^2;  it would then cube the 2 and square the 6 to produce 8 + 36; and finally it would add the 8 and the 36 to get 44.  If you actually wanted the square root of the entire expression, you would need to use parentheses, as in Ö(4^3 + 6^2) to tell the computer to do all the operations inside the parentheses before taking the square root.  Therefore, it would calculate (4^3 + 6^2) = 64 + 36 = 100 and then take the square root of Ö100  =  10."]
[]
["4.  Built-In Functions  Computer programs have built-in functions for most common algebraic functions.  In Excel, the square root function is denoted by SQRT(…), so SQRT(100) = 10.  Alternatively, you could enter it as 100^.5 or 100^(1/2); notice that parentheses are needed to have the ½ done first.  The common trig functions are SIN (…), COS (…), and TAN (…), where the arguments are automatically interpreted as being in radians, not degrees.  The logarithm to the base 10 is represented by LOG (…) and the logarithm with the base e, known as the natural logarithm, is LN (…). The corresponding exponential function with base e is EXP (x).  If x is the variable, then each of these would be SQRT (x), SIN (x), COS (x), TAN (x), LOG (x) (for log with base 10 ), LN (x) (for log with base e ), and EXP (x)."]