{"text_format":"3","workbook":"xlsx","n_sheets":4,"sheets":["Find c","Sheet2","Defining Function","Sheet3"],"not_rendered":{"charts":1,"images":3,"macros":1,"external_links":1,"defined_names":18,"comments":1},"read":"whole","date_system":"1900"}

{"sheet":"Find c","index":0,"n_rows":36,"n_cols":17,"rows_kept":36,"merged":[[27,2,27,3]]}
[null,"The Integral Mean Value Theorem"]
[]
[null,"   This graphing utility lets you investigate "]
[null,"    the Mean Value Theorem for Integrals:"]
[null,"There is a number c between x = a and x = b "]
[{"$nulls":3},"where"]
[]
[null,"             f (c )  =   "]
[]
[]
["Enter the function in terms of x:   f(x)  = ",{"$nulls":4},"x^4-5*x^3+3*x+50"]
[]
["Now enter the interval for x:  "]
[null,null,"xMin =",-4]
[null,null,"xMax =",4]
[]
[]
[{"$nulls":12},"The graph of the function y =",null,null,{"$f":"F11","v":"x^4-5*x^3+3*x+50"}]
[]
["Click each item below for suggestions and investigations",{"$nulls":10},"              The area under the curve is ",{"$nulls":3},{"$f":"Sheet2!C3","v":{"v":1619.205450424828,"d":"1619.205"}}]
[null,"   Item 1"]
[null,"   Item 2",{"$nulls":9},"First, slide the green line until the area of the rectangle under it "]
[null,"   Item 3",{"$nulls":10},"is roughly equal to the area under the curve"]
[]
[{"$nulls":14},389,{"$f":"Fmin+O25*(Fmax-Fmin)/1000","v":235.9440524737136}]
[]
["To access/download all the DIGMath Apps for Calculus",{"$nulls":12},"   The height of the line is y =",null,null,{"$f":"P25","v":235.9440524737136}]
["      Click this link:",null,"DIGMath for Calculus"]
[{"$nulls":13},"     The area of the rectangle is",null,null,{"$f":"P25*(b-a)","v":1885.6667530366885}]
["Created by:  Sheldon P. Gordon   "]
["                      Farmingdale State College    ",{"$nulls":10},"Next, slide the red dot along the curve until you find a point x = c"]
["Development of this module was supported by the ",{"$nulls":11},"where the Mean Value Theorem for Integrals holds."]
["NSF's Division of Undergraduate Education  "]
["under grants DUE-0310123 and DUE-0442160.",{"$nulls":14},277]
[]
[{"$nulls":13},"      The value of x here is x = ",null,null,{"$f":"a+(b-a)*P34/1000","v":-1.786213786213767}]

{"sheet":"Sheet2","index":1,"n_rows":1004,"n_cols":14,"rows_kept":1004}
["x","f(x)","trap",null,"move line","xl=",{"$f":"a","v":-4},{"$f":"F15","v":235.9440524737136},"\"=yl"]
[{"$nulls":5},"xr=",{"$f":"b","v":3.992007992008061},{"$f":"H1","v":235.9440524737136},"\"=yR",null,null,"sorted values by y"]
[{"$f":"'Find c'!D14","v":{"v":-4,"d":"-4.00"}},{"$f":"x^4-5*x^3+3*x+50","v":{"v":614,"d":"614.0000"}},{"$f":"(B3+2*SUM(B4:B1003)+B1004)*G11","v":{"v":1619.205450424828,"d":"1619.2055"}},{"$nulls":8},{"v":-1.8261738261737839,"d":"-1.83"},3.490033159387867,"Note:  Copy special - only values, then Data-Sort-by Column N"]
[{"$f":"A3+Sheet2!G$11","v":{"v":-3.992007992007992,"d":"-3.99"}},{"v":610.0698934061234,"d":"610.0699"},null,null,"secant line","xL =",{"$f":"A3","v":{"v":-4,"d":"-4.00"}},{"$f":"B3","v":614},{"$nulls":3},{"v":-1.818181818181776,"d":"-1.82"},3.490198756915518]
[{"$f":"A4+Sheet2!G$11","v":{"v":-3.9840159840159837,"d":"-3.98"}},{"v":606.1596506743358,"d":"606.1597"},{"$nulls":3},"xR =",{"$f":"A1003","v":{"v":3.992007992008061,"d":"3.99"}},{"$f":"B1003","v":-2.1495543640021424},{"$nulls":3},{"v":-1.8341658341657918,"d":"-1.83"},3.491784944880166]
[{"$f":"A5+Sheet2!G$11","v":{"v":-3.9760239760239755,"d":"-3.98"}},{"v":602.2692076326541,"d":"602.2692"},null,null,"slope =",{"$f":"(H5-H4)/(G5-G4)","v":-77.0957129897951},{"$nulls":5},{"v":-1.810189810189768,"d":"-1.81"},3.4922594135806833]
[{"$f":"A6+Sheet2!G$11","v":{"v":-3.9680319680319673,"d":"-3.97"}},{"v":598.3985002070079,"d":"598.3985"},{"$nulls":9},{"v":-1.8421578421577998,"d":"-1.84"},3.495476535186615]
[{"$f":"A7+Sheet2!G$11","v":{"v":-3.960039960039959,"d":"-3.96"}},{"v":594.5474644212377,"d":"594.5475"},{"$nulls":9},{"v":-1.80219780219776,"d":"-1.80"},3.4961929034126875]
[{"$f":"A8+Sheet2!G$11","v":{"v":-3.952047952047951,"d":"-3.95"}},{"v":590.716036397096,"d":"590.7160"},{"$nulls":9},{"v":-1.8501498501498077,"d":"-1.85"},3.5011304500131857]
[{"$f":"A9+Sheet2!G$11","v":{"v":-3.944055944055943,"d":"-3.94"}},{"v":586.9041523542469,"d":"586.9042"},{"$nulls":9},{"v":-1.794205794205752,"d":"-1.79"},3.5019770983526257]
[{"$f":"A10+Sheet2!G$11","v":{"v":-3.9360639360639347,"d":"-3.94"}},{"v":583.1117486102664,"d":"583.1117"},{"$nulls":3},"delta x = ",{"$f":"('Find c'!D15-'Find c'!D14)/1001","v":7.992007992007992E-3},{"$nulls":4},{"v":-1.8581418581418156,"d":"-1.86"},3.5087693069776122]
[{"$f":"A11+Sheet2!G$11","v":{"v":-3.9280719280719265,"d":"-3.93"}},{"v":579.3387615806428,"d":"579.3388"},{"$nulls":9},{"v":-1.7862137862137442,"d":"-1.79"},3.5095899682533513]
[{"$f":"A12+Sheet2!G$11","v":{"v":-3.9200799200799183,"d":"-3.92"}},{"v":575.5851277787754,"d":"575.5851"},null,null,"Fmin =",{"$f":"MIN(B3:B1003)","v":{"v":-4.749504953005513,"d":"-4.7495"}},{"$f":"LOOKUP(F13,M3:M1003,L3:L1003)","v":{"$error":"#N/A"}},"=x",{"$nulls":3},{"v":-1.8661338661338236,"d":"-1.87"},3.518415821609395]
[{"$f":"A13+Sheet2!G$11","v":{"v":-3.91208791208791,"d":"-3.91"}},{"v":571.8507838159753,"d":"571.8508"},null,null,"Fmax =",{"$f":"MAX(B3:B1003)","v":614},{"$f":"LOOKUP(F14,M3:M1003,L3:L1003)","v":3.992007992008061},"=x",{"$nulls":3},{"v":-1.7782217782217362,"d":"-1.78"},3.5190095808794943]
[{"$f":"A14+Sheet2!G$11","v":{"v":-3.904095904095902,"d":"-3.90"}},{"v":568.135666401466,"d":"568.1357"},null,null,"F value =",{"$f":"'Find c'!Q27","v":235.9440524737136},{"$nulls":5},{"v":-1.8741258741258315,"d":"-1.87"},3.5300928073497886]
[{"$f":"A15+Sheet2!G$11","v":{"v":-3.896103896103894,"d":"-3.90"}},{"v":564.4397123423821,"d":"564.4397"},null,null,"x Mid =",{"$f":"(a+b)/2","v":-0.003996003995969444},{"$nulls":5},{"v":-1.7702297702297283,"d":"-1.77"},3.5302141019074362]
[{"$f":"A16+Sheet2!G$11","v":{"v":-3.8881118881118857,"d":"-3.89"}},{"v":560.7628585437703,"d":"560.7629"},{"$nulls":9},{"v":-1.7622377622377203,"d":"-1.76"},3.5431817949253315]
[{"$f":"A17+Sheet2!G$11","v":{"v":-3.8801198801198775,"d":"-3.88"}},{"v":557.1050420085891,"d":"557.1050"},{"$nulls":9},{"v":-1.8821178821178395,"d":"-1.88"},3.5438231755518217]
[{"$f":"A18+Sheet2!G$11","v":{"v":-3.8721278721278694,"d":"-3.87"}},{"v":553.4661998377086,"d":"553.4662"},{"$nulls":9},{"v":-1.7542457542457124,"d":"-1.75"},3.5578910214331003]
[{"$f":"A19+Sheet2!G$11","v":{"v":-3.864135864135861,"d":"-3.86"}},{"v":549.8462692299108,"d":"549.8463"},{"$nulls":9},{"v":-1.8901098901098474,"d":"-1.89"},3.559629935480295]
[{"$f":"A20+Sheet2!G$11","v":{"v":-3.856143856143853,"d":"-3.86"}},{"v":546.2451874818892,"d":"546.2452"},{"$nulls":9},{"v":-1.7462537462537044,"d":"-1.75"},3.5743202408424217]
[{"$f":"A21+Sheet2!G$11","v":{"v":-3.848151848151845,"d":"-3.85"}},{"v":542.6628919882493,"d":"542.6629"},{"$nulls":9},{"v":-1.8981018981018554,"d":"-1.90"},3.577536194311765]
[{"$f":"A22+Sheet2!G$11","v":{"v":-3.8401598401598367,"d":"-3.84"}},{"v":539.0993202415086,"d":"539.0993"},{"$nulls":9},{"v":-1.7382617382616965,"d":"-1.74"},3.592448010476744]
[{"$f":"A23+Sheet2!G$11","v":{"v":-3.8321678321678285,"d":"-3.83"}},{"v":535.5544098320958,"d":"535.5544"},{"$nulls":9},{"v":-1.9060939060938633,"d":"-1.91"},3.5975651571345466]
[{"$f":"A24+Sheet2!G$11","v":{"v":-3.8241758241758204,"d":"-3.82"}},{"v":532.0280984483518,"d":"532.0281"},null,null,"left line",{"$f":"a","v":-4},{"$f":"0","v":0},{"$nulls":4},{"v":-1.7302697302696886,"d":"-1.73"},3.612252985571285]
[{"$f":"A25+Sheet2!G$11","v":{"v":-3.816183816183812,"d":"-3.82"}},{"v":528.5203238765291,"d":"528.5203"},{"$nulls":3},{"$f":"a","v":-4},{"$f":"Fmax","v":614},{"$nulls":4},{"v":-1.9140859140858713,"d":"-1.91"},3.6197401269487415]
[{"$f":"A26+Sheet2!G$11","v":{"v":-3.808191808191804,"d":"-3.81"}},{"v":525.0310240007918,"d":"525.0310"},{"$nulls":9},{"v":-1.7222777222776806,"d":"-1.72"},3.6337139192730206]
[{"$f":"A27+Sheet2!G$11","v":{"v":-3.800199800199796,"d":"-3.80"}},{"v":521.5601368032163,"d":"521.5601"},null,null,"right line",{"$f":"b","v":3.992007992008061},0,{"$nulls":4},{"v":-1.9220779220778792,"d":"-1.92"},3.644084504666189]
[{"$f":"A28+Sheet2!G$11","v":{"v":-3.7922077922077877,"d":"-3.79"}},{"v":518.1076003637902,"d":"518.1076"},{"$nulls":3},{"$f":"b","v":3.992007992008061},{"$f":"Fmax","v":614},{"$nulls":4},{"v":-1.7142857142856727,"d":"-1.71"},3.65680966264069]
[{"$f":"A29+Sheet2!G$11","v":{"v":-3.7842157842157795,"d":"-3.78"}},{"v":514.6733528604129,"d":"514.6734"},{"$nulls":9},{"v":-1.9300699300698871,"d":"-1.93"},3.670621789110516]
[{"$f":"A30+Sheet2!G$11","v":{"v":-3.7762237762237714,"d":"-3.78"}},{"v":511.2573325688964,"d":"511.2573"},{"$nulls":9},{"v":-1.7062937062936647,"d":"-1.71"},3.6815191646448078]
[{"$f":"A31+Sheet2!G$11","v":{"v":-3.768231768231763,"d":"-3.77"}},{"v":507.859477862963,"d":"507.8595"},null,null,"top line",{"$f":"a","v":-4},{"$f":"Fmax","v":614},{"$nulls":4},{"v":-1.938061938061895,"d":"-1.94"},3.699375577017104]
[{"$f":"A32+Sheet2!G$11","v":{"v":-3.760239760239755,"d":"-3.76"}},{"v":504.4797272142481,"d":"504.4797"},{"$nulls":3},{"$f":"b","v":3.992007992008061},{"$f":"Fmax","v":614},{"$nulls":4},{"v":-1.6983016983016568,"d":"-1.70"},3.7078214721676446]
[{"$f":"A33+Sheet2!G$11","v":{"v":-3.752247752247747,"d":"-3.75"}},{"v":501.11801919229816,"d":"501.1180"},{"$nulls":9},{"v":-1.946053946053903,"d":"-1.95"},3.7303695630331077]
[{"$f":"A34+Sheet2!G$11","v":{"v":-3.7442557442557387,"d":"-3.74"}},{"v":497.7742924645717,"d":"497.7743"},null,null,"Moving dot",{"$f":"'Find c'!Q36","v":-1.786213786213767},{"$f":"LOOKUP(F35,A3:A1004,B3:B1004)","v":83.85977373269895},{"$nulls":4},{"v":-1.6903096903096488,"d":"-1.69"},3.7356957300032363]
[{"$f":"A35+Sheet2!G$11","v":{"v":-3.7362637362637305,"d":"-3.74"}},{"v":494.4484857964388,"d":"494.4485"},{"$nulls":9},{"v":-1.954045954045911,"d":"-1.95"},3.763627539717433]
[{"$f":"A36+Sheet2!G$11","v":{"v":-3.7282717282717224,"d":"-3.73"}},{"v":491.14053805118124,"d":"491.1405"},{"$nulls":9},{"v":-1.682317682317641,"d":"-1.68"},3.765121180857392]
[{"$f":"A37+Sheet2!G$11","v":{"v":-3.720279720279714,"d":"-3.72"}},{"v":487.850388189993,"d":"487.8504"},{"$nulls":9},{"v":-1.674325674325633,"d":"-1.67"},3.7960771653476755]
[{"$f":"A38+Sheet2!G$11","v":{"v":-3.712287712287706,"d":"-3.71"}},{"v":484.5779752719794,"d":"484.5780"},{"$nulls":9},{"v":-1.962037962037919,"d":"-1.96"},3.7991733975407627]
[{"$f":"A39+Sheet2!G$11","v":{"v":-3.704295704295698,"d":"-3.70"}},{"v":481.3232384541578,"d":"481.3232"},{"$nulls":9},{"v":-1.666333666333625,"d":"-1.67"},3.828543122003424]
[{"$f":"A40+Sheet2!G$11","v":{"v":-3.6963036963036897,"d":"-3.70"}},{"v":478.086116991457,"d":"478.0861"},{"$nulls":9},{"v":-1.9700299700299269,"d":"-1.97"},3.8370311248855344]
[{"$f":"A41+Sheet2!G$11","v":{"v":-3.6883116883116815,"d":"-3.69"}},{"v":474.8665502367179,"d":"474.8666"},{"$nulls":9},{"v":-1.658341658341617,"d":"-1.66"},3.862498587265737]
[{"$f":"A42+Sheet2!G$11","v":{"v":-3.6803196803196734,"d":"-3.68"}},{"v":471.664477640693,"d":"471.6645"},{"$nulls":9},{"v":-1.9780219780219348,"d":"-1.98"},3.877224808045966]
[{"$f":"A43+Sheet2!G$11","v":{"v":-3.672327672327665,"d":"-3.67"}},{"v":468.4798387520466,"d":"468.4798"},{"$nulls":9},{"v":-1.6503496503496091,"d":"-1.65"},3.897923195487472]
[{"$f":"A44+Sheet2!G$11","v":{"v":-3.664335664335657,"d":"-3.66"}},{"v":465.3125732173547,"d":"465.3126"},{"$nulls":9},{"v":-1.9860139860139427,"d":"-1.99"},3.919778631228027]
[{"$f":"A45+Sheet2!G$11","v":{"v":-3.656343656343649,"d":"-3.66"}},{"v":462.1626207811053,"d":"462.1626"},{"$nulls":9},{"v":-1.6423576423576012,"d":"-1.64"},3.9347966789332673]
[{"$f":"A46+Sheet2!G$11","v":{"v":-3.6483516483516407,"d":"-3.65"}},{"v":459.02992128569775,"d":"459.0299"},{"$nulls":9},{"v":-1.9940059940059507,"d":"-1.99"},3.96471687654946]
[{"$f":"A47+Sheet2!G$11","v":{"v":-3.6403596403596326,"d":"-3.64"}},{"v":455.9144146714435,"d":"455.9144"},{"$nulls":9},{"v":-1.6343656343655932,"d":"-1.63"},3.973098867779509]
[{"$f":"A48+Sheet2!G$11","v":{"v":-3.6323676323676244,"d":"-3.63"}},{"v":452.8160409765658,"d":"452.8160"},{"$nulls":9},{"v":-2.0019980019979586,"d":"-2.00"},4.012063924039767]
[{"$f":"A49+Sheet2!G$11","v":{"v":-3.6243756243756162,"d":"-3.62"}},{"v":449.73474033719936,"d":"449.7347"},{"$nulls":9},{"v":-1.6263736263735853,"d":"-1.63"},4.012809690114359]
[{"$f":"A50+Sheet2!G$11","v":{"v":-3.616383616383608,"d":"-3.62"}},{"v":446.6704529873908,"d":"446.6705"},{"$nulls":9},{"v":-1.6183816183815773,"d":"-1.62"},4.053909171937741]
[{"$f":"A51+Sheet2!G$11","v":{"v":-3.6083916083916,"d":"-3.61"}},{"v":443.6231192590987,"d":"443.6231"},{"$nulls":9},{"v":-2.009990009989967,"d":"-2.01"},4.061844251640213]
[{"$f":"A52+Sheet2!G$11","v":{"v":-3.6003996003995917,"d":"-3.60"}},{"v":440.5926795821931,"d":"440.5927"},{"$nulls":9},{"v":-1.6103896103895694,"d":"-1.61"},4.0963774371613475]
[{"$f":"A53+Sheet2!G$11","v":{"v":-3.5924075924075836,"d":"-3.59"}},{"v":437.579074484456,"d":"437.5791"},{"$nulls":9},{"v":-2.017982017981975,"d":"-2.02"},4.114082435203841]
[{"$f":"A54+Sheet2!G$11","v":{"v":-3.5844155844155754,"d":"-3.58"}},{"v":434.5822445915812,"d":"434.5822"},{"$nulls":9},{"v":-1.6023976023975615,"d":"-1.60"},4.140194707608629]
[{"$f":"A55+Sheet2!G$11","v":{"v":-3.5764235764235672,"d":"-3.58"}},{"v":431.60213062717395,"d":"431.6021"},{"$nulls":9},{"v":-2.025974025973983,"d":"-2.03"},4.168803148495442]
[{"$f":"A56+Sheet2!G$11","v":{"v":-3.568431568431559,"d":"-3.57"}},{"v":428.6386734127517,"d":"428.6387"},{"$nulls":9},{"v":-1.5944055944055535,"d":"-1.59"},4.1853413030148054]
[{"$f":"A57+Sheet2!G$11","v":{"v":-3.560439560439551,"d":"-3.56"}},{"v":425.69181386774335,"d":"425.6918"},{"$nulls":9},{"v":-2.0339660339659913,"d":"-2.03"},4.226031163191587]
[{"$f":"A58+Sheet2!G$11","v":{"v":-3.5524475524475427,"d":"-3.55"}},{"v":422.76149300948964,"d":"422.7615"},{"$nulls":9},{"v":-1.5864135864135456,"d":"-1.59"},4.231797641026866]
[{"$f":"A59+Sheet2!G$11","v":{"v":-3.5444555444555346,"d":"-3.54"}},{"v":419.84765195324326,"d":"419.8477"},{"$nulls":9},{"v":-1.5784215784215376,"d":"-1.58"},4.279544237203556]
[{"$f":"A60+Sheet2!G$11","v":{"v":-3.5364635364635264,"d":"-3.54"}},{"v":416.95023191216836,"d":"416.9502"},{"$nulls":9},{"v":-2.0419580419579995,"d":"-2.04"},4.285791348880608]
[{"$f":"A61+Sheet2!G$11","v":{"v":-3.5284715284715182,"d":"-3.53"}},{"v":414.069174197341,"d":"414.0692"},{"$nulls":9},{"v":-1.5704295704295297,"d":"-1.57"},4.328561705015389]
[{"$f":"A62+Sheet2!G$11","v":{"v":-3.52047952047951,"d":"-3.52"}},{"v":411.2044202177491,"d":"411.2044"},{"$nulls":9},{"v":-2.0499500499500076,"d":"-2.05"},4.34810867306259]
[{"$f":"A63+Sheet2!G$11","v":{"v":-3.512487512487502,"d":"-3.51"}},{"v":408.3559114802922,"d":"408.3559"},{"$nulls":9},{"v":-1.5624375624375217,"d":"-1.56"},4.378830755844644]
[{"$f":"A64+Sheet2!G$11","v":{"v":-3.5044955044954937,"d":"-3.50"}},{"v":405.5235895897816,"d":"405.5236"},{"$nulls":9},{"v":-2.057942057942016,"d":"-2.06"},4.4130082011494025]
[{"$f":"A65+Sheet2!G$11","v":{"v":-3.4965034965034856,"d":"-3.50"}},{"v":402.7073962489406,"d":"402.7074"},{"$nulls":9},{"v":-1.5544455544455138,"d":"-1.55"},4.43033219898537]
[{"$f":"A66+Sheet2!G$11","v":{"v":-3.4885114885114774,"d":"-3.49"}},{"$f":"x^4-5*x^3+3*x+50","v":{"v":399.90727325840385,"d":"399.9073"}},{"$nulls":9},{"v":-2.065934065934024,"d":"-2.07"},4.480515096464659]
[{"$f":"A67+Sheet2!G$11","v":{"v":-3.4805194805194692,"d":"-3.48"}},{"v":397.12316251671837,"d":"397.1232"},{"$nulls":9},{"v":-1.5464535464535059,"d":"-1.55"},4.483046941643378]
[{"$f":"A68+Sheet2!G$11","v":{"v":-3.472527472527461,"d":"-3.47"}},{"v":394.35500602034216,"d":"394.3550"},{"$nulls":9},{"v":-1.538461538461498,"d":"-1.54"},4.5369559889362385]
[{"$f":"A69+Sheet2!G$11","v":{"v":-3.464535464535453,"d":"-3.46"}},{"v":391.6027458636456,"d":"391.6027"},{"$nulls":9},{"v":-2.073926073926032,"d":"-2.07"},4.550654620243758]
[{"$f":"A70+Sheet2!G$11","v":{"v":-3.4565434565434447,"d":"-3.46"}},{"v":388.86632423891075,"d":"388.8663"},{"$nulls":9},{"v":-1.53046953046949,"d":"-1.53"},4.592040443893293]
[{"$f":"A71+Sheet2!G$11","v":{"v":-3.4485514485514366,"d":"-3.45"}},{"v":386.14568343633107,"d":"386.1457"},{"$nulls":9},{"v":-2.0819180819180403,"d":"-2.08"},4.623452131633854]
[{"$f":"A72+Sheet2!G$11","v":{"v":-3.4405594405594284,"d":"-3.44"}},{"v":383.4407658440123,"d":"383.4408"},{"$nulls":9},{"v":-1.522477522477482,"d":"-1.52"},4.648281507455646]
[{"$f":"A73+Sheet2!G$11","v":{"v":-3.4325674325674203,"d":"-3.43"}},{"v":380.7515139479715,"d":"380.7515"},{"$nulls":9},{"v":-2.0899100899100485,"d":"-2.09"},4.69893308769387]
[{"$f":"A74+Sheet2!G$11","v":{"v":-3.424575424575412,"d":"-3.42"}},{"v":378.0778703321377,"d":"378.0779"},{"$nulls":9},{"v":-1.514485514485474,"d":"-1.51"},4.705660478476171]
[{"$f":"A75+Sheet2!G$11","v":{"v":-3.416583416583404,"d":"-3.42"}},{"v":375.41977767835175,"d":"375.4198"},{"$nulls":9},{"v":-1.5064935064934661,"d":"-1.51"},4.764158753719499]
[{"$f":"A76+Sheet2!G$11","v":{"v":-3.4085914085913958,"d":"-3.41"}},{"v":372.7771787663661,"d":"372.7772"},{"$nulls":9},{"v":-2.0979020979020566,"d":"-2.10"},4.7771230433944805]
[{"$f":"A77+Sheet2!G$11","v":{"v":-3.4005994005993876,"d":"-3.40"}},{"v":370.1500164738453,"d":"370.1500"},{"$nulls":9},{"v":-1.4985014985014582,"d":"-1.50"},4.823757827862034]
[{"$f":"A78+Sheet2!G$11","v":{"v":-3.3926073926073794,"d":"-3.39"}},{"v":367.53823377636513,"d":"367.5382"},{"$nulls":9},{"v":-2.105894105894065,"d":"-2.11"},4.8580476516181434]
[{"$f":"A79+Sheet2!G$11","v":{"v":-3.3846153846153713,"d":"-3.38"}},{"v":364.94177374741344,"d":"364.9418"},{"$nulls":9},{"v":-1.4905094905094503,"d":"-1.49"},4.8844392934919405]
[{"$f":"A80+Sheet2!G$11","v":{"v":-3.376623376623363,"d":"-3.38"}},{"v":362.36057955839004,"d":"362.3606"},{"$nulls":9},{"v":-2.113886113886073,"d":"-2.11"},4.941732663159073]
[{"$f":"A81+Sheet2!G$11","v":{"v":-3.368631368631355,"d":"-3.37"}},{"v":359.79459447860614,"d":"359.7946"},{"$nulls":9},{"v":-1.4825174825174423,"d":"-1.48"},4.946184841109146]
[{"$f":"A82+Sheet2!G$11","v":{"v":-3.3606393606393468,"d":"-3.36"}},{"v":357.2437618752849,"d":"357.2438"},{"$nulls":9},{"v":-1.4745254745254344,"d":"-1.47"},5.0089762591253475]
[{"$f":"A83+Sheet2!G$11","v":{"v":-3.3526473526473386,"d":"-3.35"}},{"v":354.7080252135612,"d":"354.7080"},{"$nulls":9},{"v":-2.121878121878081,"d":"-2.12"},5.028203926723254]
[{"$f":"A84+Sheet2!G$11","v":{"v":-3.3446553446553304,"d":"-3.34"}},{"v":352.1873280564817,"d":"352.1873"},{"$nulls":9},{"v":-1.4665334665334264,"d":"-1.47"},5.072795433864009]
[{"$f":"A85+Sheet2!G$11","v":{"v":-3.3366633366633223,"d":"-3.34"}},{"v":349.6816140650049,"d":"349.6816"},{"$nulls":9},{"v":-2.1298701298700893,"d":"-2.13"},5.1174873889284225]
[{"$f":"A86+Sheet2!G$11","v":{"v":-3.328671328671314,"d":"-3.33"}},{"v":347.190826998001,"d":"347.1908"},{"$nulls":9},{"v":-1.4585414585414185,"d":"-1.46"},5.137624349560355]
[{"$f":"A87+Sheet2!G$11","v":{"v":-3.320679320679306,"d":"-3.32"}},{"v":344.71491071225176,"d":"344.7149"},{"$nulls":9},{"v":-1.4505494505494105,"d":"-1.45"},5.203445088361374]
[{"$f":"A88+Sheet2!G$11","v":{"v":-3.3126873126872978,"d":"-3.31"}},{"v":342.25380916245115,"d":"342.2538"},{"$nulls":9},{"v":-2.1378621378620974,"d":"-2.14"},5.209609094304096]
[{"$f":"A89+Sheet2!G$11","v":{"v":-3.3046953046952896,"d":"-3.30"}},{"v":339.80746640120447,"d":"339.8075"},{"$nulls":9},{"v":-1.4425574425574026,"d":"-1.44"},5.270239830325824]
[{"$f":"A90+Sheet2!G$11","v":{"v":-3.2967032967032814,"d":"-3.30"}},{"v":337.3758265790291,"d":"337.3758"},{"$nulls":9},{"v":-2.1458541458541056,"d":"-2.15"},5.30459518529155]
[{"$f":"A91+Sheet2!G$11","v":{"v":-3.2887112887112733,"d":"-3.29"}},{"v":334.958833944354,"d":"334.9588"},{"$nulls":9},{"v":-1.4345654345653946,"d":"-1.43"},5.337990853424223]
[{"$f":"A92+Sheet2!G$11","v":{"v":-3.280719280719265,"d":"-3.28"}},{"v":332.55643284351993,"d":"332.5564"},{"$nulls":9},{"v":-2.1538461538461138,"d":"-2.15"},5.402471902243821]
[{"$f":"A93+Sheet2!G$11","v":{"v":-3.272727272727257,"d":"-3.27"}},{"v":330.16856772077944,"d":"330.1686"},{"$nulls":9},{"v":-1.4265734265733867,"d":"-1.43"},5.406680533538861]
[{"$f":"A94+Sheet2!G$11","v":{"v":-3.2647352647352488,"d":"-3.26"}},{"v":327.7951831182968,"d":"327.7952"},{"$nulls":9},{"v":-1.4185814185813788,"d":"-1.42"},5.476291344463789]
[{"$f":"A95+Sheet2!G$11","v":{"v":-3.2567432567432406,"d":"-3.26"}},{"v":325.43622367614824,"d":"325.4362"},{"$nulls":9},{"v":-2.161838161838122,"d":"-2.16"},5.503265583425717]
[{"$f":"A96+Sheet2!G$11","v":{"v":-3.2487512487512324,"d":"-3.25"}},{"v":323.09163413232153,"d":"323.0916"},{"$nulls":9},{"v":-1.4105894105893708,"d":"-1.41"},5.5468058579048165]
[{"$f":"A97+Sheet2!G$11","v":{"v":-3.2407592407592243,"d":"-3.24"}},{"v":320.7613593227162,"d":"320.7614"},{"$nulls":9},{"v":-2.16983016983013,"d":"-2.17"},5.6070026650138125]
[{"$f":"A98+Sheet2!G$11","v":{"v":-3.232767232767216,"d":"-3.23"}},{"v":318.4453441811437,"d":"318.4453"},{"$nulls":9},{"v":-1.4025974025973629,"d":"-1.40"},5.618206743479533]
[{"$f":"A99+Sheet2!G$11","v":{"v":-3.224775224775208,"d":"-3.22"}},{"v":316.1435337393271,"d":"316.1435"},{"$nulls":9},{"v":-1.394605394605355,"d":"-1.39"},5.690476768717284]
[{"$f":"A100+Sheet2!G$11","v":{"v":-3.2167832167832,"d":"-3.22"}},{"v":313.85587312690143,"d":"313.8559"},{"$nulls":9},{"v":-2.1778221778221383,"d":"-2.18"},5.713709681096439]
[{"$f":"A101+Sheet2!G$11","v":{"v":-3.2087912087911916,"d":"-3.21"}},{"v":311.5823075714133,"d":"311.5823"},{"$nulls":9},{"v":-1.386613386613347,"d":"-1.39"},5.763598799059176]
[{"$f":"A102+Sheet2!G$11","v":{"v":-3.2007992007991835,"d":"-3.20"}},{"v":309.32278239832095,"d":"309.3228"},{"$nulls":9},{"v":-2.1858141858141464,"d":"-2.19"},5.823413263673697]
[{"$f":"A103+Sheet2!G$11","v":{"v":-3.1928071928071753,"d":"-3.19"}},{"v":307.07724303099485,"d":"307.0772"},{"$nulls":9},{"v":-1.378621378621339,"d":"-1.38"},5.837555797858091]
[{"$f":"A104+Sheet2!G$11","v":{"v":-3.184815184815167,"d":"-3.18"}},{"v":304.8456349907169,"d":"304.8456"},{"$nulls":9},{"v":-1.370629370629331,"d":"-1.37"},5.912330826378664]
[{"$f":"A105+Sheet2!G$11","v":{"v":-3.176823176823159,"d":"-3.18"}},{"v":302.62790389668066,"d":"302.6279"},{"$nulls":9},{"v":-2.1938061938061546,"d":"-2.19"},5.936140142657456]
[{"$f":"A106+Sheet2!G$11","v":{"v":-3.168831168831151,"d":"-3.17"}},{"v":300.4239954659919,"d":"300.4240"},{"$nulls":9},{"v":-1.3626373626373232,"d":"-1.36"},5.987907043797309]
[{"$f":"A107+Sheet2!G$11","v":{"v":-3.1608391608391426,"d":"-3.16"}},{"v":298.2338555136676,"d":"298.2339"},{"$nulls":9},{"v":-2.2017982017981628,"d":"-2.20"},6.051917145871343]
[{"$f":"A108+Sheet2!G$11","v":{"v":-3.1528471528471345,"d":"-3.15"}},{"v":296.05742995263694,"d":"296.0574"},{"$nulls":9},{"v":-1.3546453546453152,"d":"-1.35"},6.064267707202195]
[{"$f":"A109+Sheet2!G$11","v":{"v":-3.1448551448551263,"d":"-3.14"}},{"v":293.89466479374073,"d":"293.8947"},{"$nulls":9},{"v":-1.3466533466533073,"d":"-1.35"},6.141396171593254]
[{"$f":"A110+Sheet2!G$11","v":{"v":-3.136863136863118,"d":"-3.14"}},{"v":291.7455061457314,"d":"291.7455"},{"$nulls":9},{"v":-2.209790209790171,"d":"-2.21"},6.170771199050758]
[{"$f":"A111+Sheet2!G$11","v":{"v":-3.12887112887111,"d":"-3.13"}},{"v":289.60990021527334,"d":"289.6099"},{"$nulls":9},{"v":-1.3386613386612993,"d":"-1.34"},6.219275889882194]
[{"$f":"A112+Sheet2!G$11","v":{"v":-3.120879120879102,"d":"-3.12"}},{"v":287.48779330694265,"d":"287.4878"},{"$nulls":9},{"v":-2.217782217782179,"d":"-2.22"},6.292729325842863]
[{"$f":"A113+Sheet2!G$11","v":{"v":-3.1128871128870936,"d":"-3.11"}},{"v":285.37913182322717,"d":"285.3791"},{"$nulls":9},{"v":-1.3306693306692914,"d":"-1.33"},6.2978904128924835]
[{"$f":"A114+Sheet2!G$11","v":{"v":-3.1048951048950855,"d":"-3.10"}},{"v":283.2838622645264,"d":"283.2839"},{"$nulls":9},{"v":-1.3226773226772834,"d":"-1.32"},6.377223389359349]
[{"$f":"A115+Sheet2!G$11","v":{"v":-3.0969030969030773,"d":"-3.10"}},{"v":281.201931229152,"d":"281.2019"},{"$nulls":9},{"v":-2.2257742257741873,"d":"-2.23"},6.417818647806582]
[{"$f":"A116+Sheet2!G$11","v":{"v":-3.088911088911069,"d":"-3.09"}},{"v":279.1332854133268,"d":"279.1333"},{"$nulls":9},{"v":-1.3146853146852755,"d":"-1.31"},6.457258565929788]
[{"$f":"A117+Sheet2!G$11","v":{"v":-3.080919080919061,"d":"-3.08"}},{"v":277.07787161118586,"d":"277.0779"},{"$nulls":9},{"v":-1.3066933066932676,"d":"-1.31"},6.537979787162566]
[{"$f":"A118+Sheet2!G$11","v":{"v":-3.072927072927053,"d":"-3.07"}},{"v":275.0356367147759,"d":"275.0356"},{"$nulls":9},{"v":-2.2337662337661954,"d":"-2.23"},6.546066384412605]
[{"$f":"A119+Sheet2!G$11","v":{"v":-3.0649350649350446,"d":"-3.06"}},{"v":273.0065277140552,"d":"273.0065"},{"$nulls":9},{"v":-1.2987012987012596,"d":"-1.30"},6.619370995528211]
[{"$f":"A120+Sheet2!G$11","v":{"v":-3.0569430569430365,"d":"-3.06"}},{"v":270.9904916968941,"d":"270.9905"},{"$nulls":9},{"v":-2.2417582417582036,"d":"-2.24"},6.677499853043393]
[{"$f":"A121+Sheet2!G$11","v":{"v":-3.0489510489510283,"d":"-3.05"}},{"v":268.9874758490745,"d":"268.9875"},{"$nulls":9},{"v":-1.2907092907092517,"d":"-1.29"},6.701416231409013]
[{"$f":"A122+Sheet2!G$11","v":{"v":-3.04095904095902,"d":"-3.04"}},{"v":266.99742745429023,"d":"266.9974"},{"$nulls":9},{"v":-1.2827172827172437,"d":"-1.28"},6.784099633099029]
[{"$f":"A123+Sheet2!G$11","v":{"v":-3.032967032967012,"d":"-3.03"}},{"v":265.0202938941467,"d":"265.0203"},{"$nulls":9},{"v":-2.2497502497502118,"d":"-2.25"},6.812146468993166]
[{"$f":"A124+Sheet2!G$11","v":{"v":-3.024975024975004,"d":"-3.02"}},{"v":263.0560226481611,"d":"263.0560"},{"$nulls":9},{"v":-1.2747252747252358,"d":"-1.27"},6.867405436804082]
[{"$f":"A125+Sheet2!G$11","v":{"v":-3.0169830169829956,"d":"-3.02"}},{"v":261.1045612937626,"d":"261.1046"},{"$nulls":9},{"v":-2.25774225774222,"d":"-2.26"},6.950033745467907]
[{"$f":"A126+Sheet2!G$11","v":{"v":-3.0089910089909875,"d":"-3.01"}},{"v":259.16585750629196,"d":"259.1659"},{"$nulls":9},{"v":-1.2667332667332278,"d":"-1.27"},6.9513179766417625]
[{"$f":"A127+Sheet2!G$11","v":{"v":-3.0009990009989793,"d":"-3.00"}},{"v":257.23985905900173,"d":"257.2399"},{"$nulls":9},{"v":-1.25874125874122,"d":"-1.26"},7.035821684641419]
[{"$f":"A128+Sheet2!G$11","v":{"v":-2.993006993006971,"d":"-2.99"}},{"v":255.32651382305622,"d":"255.3265"},{"$nulls":9},{"v":-2.265734265734228,"d":"-2.27"},7.091189293585373]
[{"$f":"A129+Sheet2!G$11","v":{"v":-2.985014985014963,"d":"-2.99"}},{"v":253.42576976753153,"d":"253.4258"},{"$nulls":9},{"v":-1.250749250749212,"d":"-1.25"},7.120901090744169]
[{"$f":"A130+Sheet2!G$11","v":{"v":-2.977022977022955,"d":"-2.98"}},{"$f":"x^4-5*x^3+3*x+50","v":{"v":251.5375749594155,"d":"251.5376"}},{"$nulls":9},{"v":-1.242757242757204,"d":"-1.24"},7.2065408228029]
[{"$f":"A131+Sheet2!G$11","v":{"v":-2.9690309690309467,"d":"-2.97"}},{"v":249.66187756360776,"d":"249.6619"},{"$nulls":9},{"v":-2.2737262737262363,"d":"-2.27"},7.235640822375082]
[{"$f":"A132+Sheet2!G$11","v":{"v":-2.9610389610389385,"d":"-2.96"}},{"v":247.79862584291965,"d":"247.7986"},{"$nulls":9},{"v":-1.234765234765196,"d":"-1.23"},7.292725606582257]
[{"$f":"A133+Sheet2!G$11","v":{"v":-2.9530469530469303,"d":"-2.95"}},{"v":245.94776815807444,"d":"245.9478"},{"$nulls":9},{"v":-1.2267732267731881,"d":"-1.23"},7.379440265758653]
[{"$f":"A134+Sheet2!G$11","v":{"v":-2.945054945054922,"d":"-2.95"}},{"v":244.10925296770696,"d":"244.1093"},{"$nulls":9},{"v":-2.2817182817182444,"d":"-2.28"},7.383416138778305]
[{"$f":"A135+Sheet2!G$11","v":{"v":-2.937062937062914,"d":"-2.94"}},{"v":242.2830288283639,"d":"242.2830"},{"$nulls":9},{"v":-1.2187812187811802,"d":"-1.22"},7.466669721920265]
[{"$f":"A136+Sheet2!G$11","v":{"v":-2.929070929070906,"d":"-2.93"}},{"v":240.46904439450367,"d":"240.4690"},{"$nulls":9},{"v":-2.2897102897102526,"d":"-2.29"},7.534543147648103]
[{"$f":"A137+Sheet2!G$11","v":{"v":-2.9210789210788977,"d":"-2.92"}},{"v":238.6672484184965,"d":"238.6672"},{"$nulls":9},{"v":-1.2107892107891722,"d":"-1.21"},7.554398994567041]
[{"$f":"A138+Sheet2!G$11","v":{"v":-2.9130869130868895,"d":"-2.91"}},{"v":236.87758975062445,"d":"236.8776"},{"$nulls":9},{"v":-1.2027972027971643,"d":"-1.20"},7.642613201110684]
[{"$f":"A139+Sheet2!G$11","v":{"v":-2.9050949050948813,"d":"-2.91"}},{"v":235.10001733908118,"d":"235.1000"},{"$nulls":9},{"v":-2.2977022977022608,"d":"-2.30"},7.689049851749278]
[{"$f":"A140+Sheet2!G$11","v":{"v":-2.897102897102873,"d":"-2.90"}},{"v":233.33448022997214,"d":"233.3345"},{"$nulls":9},{"v":-1.1948051948051563,"d":"-1.19"},7.731297556874669]
[{"$f":"A141+Sheet2!G$11","v":{"v":-2.889110889110865,"d":"-2.89"}},{"v":231.58092756731477,"d":"231.5809"},{"$nulls":9},{"v":-1.1868131868131484,"d":"-1.19"},7.820437375094233]
[{"$f":"A142+Sheet2!G$11","v":{"v":-2.881118881118857,"d":"-2.88"}},{"v":229.8393085930379,"d":"229.8393"},{"$nulls":9},{"v":-2.305694305694269,"d":"-2.31"},7.8469643517584124]
[{"$f":"A143+Sheet2!G$11","v":{"v":-2.8731268731268487,"d":"-2.87"}},{"v":228.10957264698249,"d":"228.1096"},{"$nulls":9},{"v":-1.1788211788211405,"d":"-1.18"},7.910018066916383]
[{"$f":"A144+Sheet2!G$11","v":{"v":-2.8651348651348405,"d":"-2.87"}},{"v":226.39166916690104,"d":"226.3917"},{"$nulls":9},{"v":-1.1708291708291325,"d":"-1.17"},8.000025141399885]
[{"$f":"A145+Sheet2!G$11","v":{"v":-2.8571428571428323,"d":"-2.86"}},{"v":224.68554768845786,"d":"224.6855"},{"$nulls":9},{"v":-2.313686313686277,"d":"-2.31"},8.008314846263854]
[{"$f":"A146+Sheet2!G$11","v":{"v":-2.849150849150824,"d":"-2.85"}},{"v":222.99115784522908,"d":"222.9912"},{"$nulls":9},{"v":-1.1628371628371246,"d":"-1.16"},8.090444205515276]
[{"$f":"A147+Sheet2!G$11","v":{"v":-2.841158841158816,"d":"-2.84"}},{"v":221.30844936870255,"d":"221.3084"},{"$nulls":9},{"v":-2.3216783216782853,"d":"-2.32"},8.173129631765695]
[{"$f":"A148+Sheet2!G$11","v":{"v":-2.833166833166808,"d":"-2.83"}},{"v":219.63737208827797,"d":"219.6374"},{"$nulls":9},{"v":-1.1548451548451166,"d":"-1.15"},8.181260964144847]
[{"$f":"A149+Sheet2!G$11","v":{"v":-2.8251748251747997,"d":"-2.83"}},{"v":217.9778759312666,"d":"217.9779"},{"$nulls":9},{"v":-1.1468531468531087,"d":"-1.15"},8.272461220082668]
[{"$f":"A150+Sheet2!G$11","v":{"v":-2.8171828171827915,"d":"-2.82"}},{"v":216.32991092289163,"d":"216.3299"},{"$nulls":9},{"v":-2.3296703296702934,"d":"-2.33"},8.341437102675812]
[{"$f":"A151+Sheet2!G$11","v":{"v":-2.8091908091907833,"d":"-2.81"}},{"v":214.69342718628803,"d":"214.6934"},{"$nulls":9},{"v":-1.1388611388611007,"d":"-1.14"},8.364030874034569]
[{"$f":"A152+Sheet2!G$11","v":{"v":-2.801198801198775,"d":"-2.80"}},{"v":213.0683749425025,"d":"213.0684"},{"$nulls":9},{"v":-1.1308691308690928,"d":"-1.13"},8.455955924618141]
[{"$f":"A153+Sheet2!G$11","v":{"v":-2.793206793206767,"d":"-2.79"}},{"v":211.45470451049343,"d":"211.4547"},{"$nulls":9},{"v":-2.3376623376623016,"d":"-2.34"},8.51326575131786]
[{"$f":"A154+Sheet2!G$11","v":{"v":-2.785214785214759,"d":"-2.79"}},{"v":209.85236630713104,"d":"209.8524"},{"$nulls":9},{"v":-1.1228771228770849,"d":"-1.12"},8.548222468362741]
[{"$f":"A155+Sheet2!G$11","v":{"v":-2.7772227772227507,"d":"-2.78"}},{"v":208.26131084719734,"d":"208.2613"},{"$nulls":9},{"v":-1.114885114885077,"d":"-1.11"},8.640816699709497]
[{"$f":"A156+Sheet2!G$11","v":{"v":-2.7692307692307425,"d":"-2.77"}},{"v":206.68148874338604,"d":"206.6815"},{"$nulls":9},{"v":-2.3456543456543097,"d":"-2.35"},8.688644167927219]
[{"$f":"A157+Sheet2!G$11","v":{"v":-2.7612387612387344,"d":"-2.76"}},{"v":205.11285070630277,"d":"205.1129"},{"$nulls":9},{"v":-1.106893106893069,"d":"-1.11"},8.733724911011299]
[{"$f":"A158+Sheet2!G$11","v":{"v":-2.753246753246726,"d":"-2.75"}},{"v":203.55534754446467,"d":"203.5553"},{"$nulls":9},{"v":-1.098901098901061,"d":"-1.10"},8.826933492532797]
[{"$f":"A159+Sheet2!G$11","v":{"v":-2.745254745254718,"d":"-2.75"}},{"v":202.0089301643008,"d":"202.0089"},{"$nulls":9},{"v":-2.353646353646318,"d":"-2.35"},8.867601040651069]
[{"$f":"A160+Sheet2!G$11","v":{"v":-2.73726273726271,"d":"-2.74"}},{"v":200.47354957015202,"d":"200.4735"},{"$nulls":9},{"v":-1.090909090909053,"d":"-1.09"},8.920428932450413]
[{"$f":"A161+Sheet2!G$11","v":{"v":-2.7292707292707017,"d":"-2.73"}},{"v":198.9491568642709,"d":"198.9492"},{"$nulls":9},{"v":-1.0829170829170451,"d":"-1.08"},9.014197816852331]
[{"$f":"A162+Sheet2!G$11","v":{"v":-2.7212787212786935,"d":"-2.72"}},{"v":197.43570324682173,"d":"197.4357"},{"$nulls":9},{"v":-2.361638361638326,"d":"-2.36"},9.050165155548338]
[{"$f":"A163+Sheet2!G$11","v":{"v":-2.7132867132866854,"d":"-2.71"}},{"v":195.93314001588064,"d":"195.9331"},{"$nulls":9},{"v":-1.0749250749250372,"d":"-1.07"},9.108226829738499]
[{"$f":"A164+Sheet2!G$11","v":{"v":-2.705294705294677,"d":"-2.71"}},{"v":194.44141856743548,"d":"194.4414"},{"$nulls":9},{"v":-1.0669330669330293,"d":"-1.07"},9.202502753020633]
[{"$f":"A165+Sheet2!G$11","v":{"v":-2.697302697302669,"d":"-2.70"}},{"v":192.96049039538593,"d":"192.9605"},{"$nulls":9},{"v":-2.3696303696303342,"d":"-2.37"},9.236365396589726]
[{"$f":"A166+Sheet2!G$11","v":{"v":-2.689310689310661,"d":"-2.69"}},{"v":191.49030709154331,"d":"191.4903"},{"$nulls":9},{"v":-1.0589410589410213,"d":"-1.06"},9.297012466522212]
[{"$f":"A167+Sheet2!G$11","v":{"v":-2.6813186813186527,"d":"-2.68"}},{"v":190.03082034563084,"d":"190.0308"},{"$nulls":9},{"v":-1.0509490509490134,"d":"-1.05"},9.391742947978482]
[{"$f":"A168+Sheet2!G$11","v":{"v":-2.6733266733266445,"d":"-2.67"}},{"v":188.58198194528347,"d":"188.5820"},{"$nulls":9},{"v":-2.3776223776223424,"d":"-2.38"},9.426230745657701]
[{"$f":"A169+Sheet2!G$11","v":{"v":-2.6653346653346364,"d":"-2.67"}},{"v":187.1437437760478,"d":"187.1437"},{"$nulls":9},{"v":-1.0429570429570054,"d":"-1.04"},9.486681273036453]
[{"$f":"A170+Sheet2!G$11","v":{"v":-2.657342657342628,"d":"-2.66"}},{"v":185.71605782138238,"d":"185.7161"},{"$nulls":9},{"v":-1.0349650349649975,"d":"-1.03"},9.581814615254897]
[{"$f":"A171+Sheet2!G$11","v":{"v":-2.64935064935062,"d":"-2.65"}},{"v":184.29887616265736,"d":"184.2989"},{"$nulls":9},{"v":-2.3856143856143506,"d":"-2.39"},9.619790282546477]
[{"$f":"A172+Sheet2!G$11","v":{"v":-2.641358641358612,"d":"-2.64"}},{"v":182.89215097915482,"d":"182.8922"},{"$nulls":9},{"v":-1.0269730269729895,"d":"-1.03"},9.677130246104356]
[{"$f":"A173+Sheet2!G$11","v":{"v":-2.6333666333666037,"d":"-2.63"}},{"v":181.49583454806844,"d":"181.4958"},{"$nulls":9},{"v":-1.0189810189809816,"d":"-1.02"},9.772615534967136]
[{"$f":"A174+Sheet2!G$11","v":{"v":-2.6253746253745955,"d":"-2.63"}},{"v":180.10987924450373,"d":"180.1099"},{"$nulls":9},{"v":-2.3936063936063587,"d":"-2.39"},9.817073184962059]
[{"$f":"A175+Sheet2!G$11","v":{"v":-2.6173826173825874,"d":"-2.62"}},{"v":178.73423754147797,"d":"178.7342"},{"$nulls":9},{"v":-1.0109890109889736,"d":"-1.01"},9.868257949137305]
[{"$f":"A176+Sheet2!G$11","v":{"v":-2.609390609390579,"d":"-2.61"}},{"v":177.3688620099203,"d":"177.3689"},{"$nulls":9},{"v":-1.0029970029969657,"d":"-1.00"},9.9640450538207]
[{"$f":"A177+Sheet2!G$11","v":{"v":-2.601398601398571,"d":"-2.60"}},{"v":176.01370531867144,"d":"176.0137"},{"$nulls":9},{"v":-2.401598401598367,"d":"-2.40"},10.0181087285222]
[{"$f":"A178+Sheet2!G$11","v":{"v":-2.593406593406563,"d":"-2.59"}},{"v":174.66872023448397,"d":"174.6687"},{"$nulls":9},{"v":-0.9950049950049578,"d":"-1.00"},10.059964512134918]
[{"$f":"A179+Sheet2!G$11","v":{"v":-2.5854145854145547,"d":"-2.59"}},{"v":173.3338596220223,"d":"173.3339"},{"$nulls":9},{"v":-0.9870129870129498,"d":"-0.99"},10.156004085109329]
[{"$f":"A180+Sheet2!G$11","v":{"v":-2.5774225774225465,"d":"-2.58"}},{"v":172.00907644386245,"d":"172.0091"},{"$nulls":9},{"v":-2.409590409590375,"d":"-2.41"},10.22292628675643]
[{"$f":"A181+Sheet2!G$11","v":{"v":-2.5694305694305384,"d":"-2.57"}},{"v":170.6943237604924,"d":"170.6943"},{"$nulls":9},{"v":-0.9790209790209419,"d":"-0.98"},10.25215163168506]
[{"$f":"A182+Sheet2!G$11","v":{"v":-2.56143856143853,"d":"-2.56"}},{"v":169.38955473031166,"d":"169.3896"},{"$nulls":9},{"v":-0.9710289710289339,"d":"-0.97"},10.348395108715009]
[{"$f":"A183+Sheet2!G$11","v":{"v":-2.553446553446522,"d":"-2.55"}},{"v":168.09472260963176,"d":"168.0947"},{"$nulls":9},{"v":-2.4175824175823832,"d":"-2.42"},10.431555331106024]
[{"$f":"A184+Sheet2!G$11","v":{"v":-2.545454545454514,"d":"-2.55"}},{"v":166.80978075267575,"d":"166.8098"},{"$nulls":9},{"v":-0.963036963036926,"d":"-0.96"},10.444722570963833]
[{"$f":"A185+Sheet2!G$11","v":{"v":-2.5374625374625057,"d":"-2.54"}},{"v":165.5346826115787,"d":"165.5347"},{"$nulls":9},{"v":-0.955044955044918,"d":"-0.96"},10.54112217110796]
[{"$f":"A186+Sheet2!G$11","v":{"v":-2.5294705294704976,"d":"-2.53"}},{"v":164.2693817363872,"d":"164.2694"},{"$nulls":9},{"v":-0.9470529470529101,"d":"-0.95"},10.637582159735581]
[{"$f":"A187+Sheet2!G$11","v":{"v":-2.5214785214784894,"d":"-2.52"}},{"v":163.01383177505974,"d":"163.0138"},{"$nulls":9},{"v":-2.4255744255743914,"d":"-2.43"},10.644025430924057]
[{"$f":"A188+Sheet2!G$11","v":{"v":-2.513486513486481,"d":"-2.51"}},{"v":161.76798647346655,"d":"161.7680"},{"$nulls":9},{"v":-0.9390609390609022,"d":"-0.94"},10.734090885346653]
[{"$f":"A189+Sheet2!G$11","v":{"v":-2.505494505494473,"d":"-2.51"}},{"v":160.53179967538964,"d":"160.5318"},{"$nulls":9},{"v":-0.9310689310688942,"d":"-0.93"},10.830636794352891]
[{"$f":"A190+Sheet2!G$11","v":{"v":-2.497502497502465,"d":"-2.50"}},{"v":159.30522532252277,"d":"159.3052"},{"$nulls":9},{"v":-2.4335664335663996,"d":"-2.43"},10.86036625347532]
[{"$f":"A191+Sheet2!G$11","v":{"v":-2.4895104895104567,"d":"-2.49"}},{"v":158.08821745447142,"d":"158.0882"},{"$nulls":9},{"v":-0.9230769230768863,"d":"-0.92"},10.927208431077787]
[{"$f":"A192+Sheet2!G$11","v":{"v":-2.4815184815184486,"d":"-2.48"}},{"v":156.88073020875294,"d":"156.8807"},{"$nulls":9},{"v":-0.9150849150848783,"d":"-0.92"},11.023794437756592]
[{"$f":"A193+Sheet2!G$11","v":{"v":-2.4735264735264404,"d":"-2.47"}},{"v":155.68271782079637,"d":"155.6827"},{"$nulls":9},{"v":-2.4415584415584077,"d":"-2.44"},11.080607563936415]
[{"$f":"A194+Sheet2!G$11","v":{"v":-2.4655344655344322,"d":"-2.47"}},{"$f":"x^4-5*x^3+3*x+50","v":{"v":154.4941346239425,"d":"154.4941"}},{"$nulls":9},{"v":-0.9070929070928704,"d":"-0.91"},11.120383554536318]
[{"$f":"A195+Sheet2!G$11","v":{"v":-2.457542457542424,"d":"-2.46"}},{"v":153.3149350494439,"d":"153.3149"},{"$nulls":9},{"v":-0.8991008991008624,"d":"-0.90"},11.21696461947575]
[{"$f":"A196+Sheet2!G$11","v":{"v":-2.449550449550416,"d":"-2.45"}},{"v":152.14507362646503,"d":"152.1451"},{"$nulls":9},{"v":-2.449550449550416,"d":"-2.45"},11.304779225395686]
[{"$f":"A197+Sheet2!G$11","v":{"v":-2.4415584415584077,"d":"-2.44"}},{"v":150.98450498208183,"d":"150.9845"},{"$nulls":9},{"v":-0.8911088911088545,"d":"-0.89"},11.31352656854543]
[{"$f":"A198+Sheet2!G$11","v":{"v":-2.4335664335663996,"d":"-2.43"}},{"v":149.83318384128233,"d":"149.8332"},{"$nulls":9},{"v":-0.8831168831168466,"d":"-0.88"},11.410058435627676]
[{"$f":"A199+Sheet2!G$11","v":{"v":-2.4255744255743914,"d":"-2.43"}},{"v":148.69106502696616,"d":"148.6911"},{"$nulls":9},{"v":-0.8751248751248386,"d":"-0.88"},11.506549352516558]
[{"$f":"A200+Sheet2!G$11","v":{"v":-2.4175824175823832,"d":"-2.42"}},{"v":147.55810345994462,"d":"147.5581"},{"$nulls":9},{"v":-2.457542457542424,"d":"-2.46"},11.532911198853242]
[{"$f":"A201+Sheet2!G$11","v":{"v":-2.409590409590375,"d":"-2.41"}},{"v":146.43425415894097,"d":"146.4343"},{"$nulls":9},{"v":-0.8671328671328307,"d":"-0.87"},11.602988548917919]
[{"$f":"A202+Sheet2!G$11","v":{"v":-2.401598401598367,"d":"-2.40"}},{"v":145.31947224059013,"d":"145.3195"},{"$nulls":9},{"v":-0.8591408591408227,"d":"-0.86"},11.699365352449368]
[{"$f":"A203+Sheet2!G$11","v":{"v":-2.3936063936063587,"d":"-2.39"}},{"v":144.21371291943885,"d":"144.2137"},{"$nulls":9},{"v":-2.4655344655344322,"d":"-2.47"},11.765033543220973]
[{"$f":"A204+Sheet2!G$11","v":{"v":-2.3856143856143506,"d":"-2.39"}},{"v":143.1169315079455,"d":"143.1169"},{"$nulls":9},{"v":-0.8511488511488148,"d":"-0.85"},11.795669188640275]
[{"$f":"A205+Sheet2!G$11","v":{"v":-2.3776223776223424,"d":"-2.38"}},{"v":142.02908341648043,"d":"142.0291"},{"$nulls":9},{"v":-0.8431568431568068,"d":"-0.84"},11.891889580931776]
[{"$f":"A206+Sheet2!G$11","v":{"v":-2.3696303696303342,"d":"-2.37"}},{"v":140.95012415332556,"d":"140.9501"},{"$nulls":9},{"v":-0.8351648351647989,"d":"-0.84"},11.988016150676774]
[{"$f":"A207+Sheet2!G$11","v":{"v":-2.361638361638326,"d":"-2.36"}},{"v":139.8800093246747,"d":"139.8800"},{"$nulls":9},{"v":-2.4735264735264404,"d":"-2.47"},12.001176415322519]
[{"$f":"A208+Sheet2!G$11","v":{"v":-2.353646353646318,"d":"-2.35"}},{"v":138.81869463463332,"d":"138.8187"},{"$nulls":9},{"v":-0.827172827172791,"d":"-0.83"},12.084038617139935]
[{"$f":"A209+Sheet2!G$11","v":{"v":-2.3456543456543097,"d":"-2.35"}},{"v":137.76613588521877,"d":"137.7661"},{"$nulls":9},{"v":-0.819180819180783,"d":"-0.82"},12.179946797497692]
[{"$f":"A210+Sheet2!G$11","v":{"v":-2.3376623376623016,"d":"-2.34"}},{"v":136.72228897636012,"d":"136.7223"},{"$nulls":9},{"v":-2.4815184815184486,"d":"-2.48"},12.24137006989328]
[{"$f":"A211+Sheet2!G$11","v":{"v":-2.3296703296702934,"d":"-2.33"}},{"v":135.68710990589813,"d":"135.6871"},{"$nulls":9},{"v":-0.8111888111887751,"d":"-0.81"},12.275730606838243]
[{"$f":"A212+Sheet2!G$11","v":{"v":-2.3216783216782853,"d":"-2.32"}},{"v":134.66055476958547,"d":"134.6606"},{"$nulls":9},{"v":-0.8031968031967671,"d":"-0.80"},12.371380058161547]
[{"$f":"A213+Sheet2!G$11","v":{"v":-2.313686313686277,"d":"-2.31"}},{"v":133.6425797610865,"d":"133.6426"},{"$nulls":9},{"v":-0.7952047952047592,"d":"-0.80"},12.466885262379332]
[{"$f":"A214+Sheet2!G$11","v":{"v":-2.305694305694269,"d":"-2.31"}},{"v":132.63314117197723,"d":"132.6331"},{"$nulls":9},{"v":-2.4895104895104567,"d":"-2.49"},12.485644859580443]
[{"$f":"A215+Sheet2!G$11","v":{"v":-2.2977022977022608,"d":"-2.30"}},{"v":131.63219539174563,"d":"131.6322"},{"$nulls":9},{"v":-0.7872127872127512,"d":"-0.79"},12.562236428315092]
[{"$f":"A216+Sheet2!G$11","v":{"v":-2.2897102897102526,"d":"-2.29"}},{"v":130.63969890779134,"d":"130.6397"},{"$nulls":9},{"v":-0.7792207792207433,"d":"-0.78"},12.657423862704084]
[{"$f":"A217+Sheet2!G$11","v":{"v":-2.2817182817182444,"d":"-2.28"}},{"v":129.65560830542577,"d":"129.6556"},{"$nulls":9},{"v":-2.497502497502465,"d":"-2.50"},12.734031234942936]
[{"$f":"A218+Sheet2!G$11","v":{"v":-2.2737262737262363,"d":"-2.27"}},{"v":128.67988026787214,"d":"128.6799"},{"$nulls":9},{"v":-0.7712287712287353,"d":"-0.77"},12.752437970193329]
[{"$f":"A219+Sheet2!G$11","v":{"v":-2.265734265734228,"d":"-2.27"}},{"v":127.71247157626533,"d":"127.7125"},{"$nulls":9},{"v":-0.7632367632367274,"d":"-0.76"},12.847269253341615]
[{"$f":"A220+Sheet2!G$11","v":{"v":-2.25774225774222,"d":"-2.26"}},{"v":126.75333910965209,"d":"126.7533"},{"$nulls":9},{"v":-0.7552447552447195,"d":"-0.76"},12.941908312619496]
[{"$f":"A221+Sheet2!G$11","v":{"v":-2.2497502497502118,"d":"-2.25"}},{"v":125.80243984499089,"d":"125.8024"},{"$nulls":9},{"v":-2.505494505494473,"d":"-2.51"},12.986559744451462]
[{"$f":"A222+Sheet2!G$11","v":{"v":-2.2417582417582036,"d":"-2.24"}},{"v":124.85973085715196,"d":"124.8597"},{"$nulls":9},{"v":-0.7472527472527115,"d":"-0.75"},13.036345846409288]
[{"$f":"A223+Sheet2!G$11","v":{"v":-2.2337662337661954,"d":"-2.23"}},{"v":123.92516931891733,"d":"123.9252"},{"$nulls":9},{"v":-0.7392607392607036,"d":"-0.74"},13.130572651005075]
[{"$f":"A224+Sheet2!G$11","v":{"v":-2.2257742257741873,"d":"-2.23"}},{"v":122.99871250098076,"d":"122.9987"},{"$nulls":9},{"v":-0.7312687312686956,"d":"-0.73"},13.224579620612703]
[{"$f":"A225+Sheet2!G$11","v":{"v":-2.217782217782179,"d":"-2.22"}},{"v":122.08031777194779,"d":"122.0803"},{"$nulls":9},{"v":-2.513486513486481,"d":"-2.51"},13.2432610344885]
[{"$f":"A226+Sheet2!G$11","v":{"v":-2.209790209790171,"d":"-2.21"}},{"v":121.16994259833571,"d":"121.1699"},{"$nulls":9},{"v":-0.7232767232766877,"d":"-0.72"},13.318357747349786]
[{"$f":"A227+Sheet2!G$11","v":{"v":-2.2017982017981628,"d":"-2.20"}},{"v":120.26754454457358,"d":"120.2675"},{"$nulls":9},{"v":-0.7152847152846797,"d":"-0.72"},13.411898121245702]
[{"$f":"A228+Sheet2!G$11","v":{"v":-2.1938061938061546,"d":"-2.19"}},{"v":119.37308127300227,"d":"119.3731"},{"$nulls":9},{"v":-2.5214785214784894,"d":"-2.52"},13.504165849348286]
[{"$f":"A229+Sheet2!G$11","v":{"v":-2.1858141858141464,"d":"-2.19"}},{"v":118.48651054387433,"d":"118.4865"},{"$nulls":9},{"v":-0.7072927072926718,"d":"-0.71"},13.505191930241594]
[{"$f":"A230+Sheet2!G$11","v":{"v":-2.1778221778221383,"d":"-2.18"}},{"v":117.60779021535419,"d":"117.6078"},{"$nulls":9},{"v":-0.6993006993006639,"d":"-0.70"},13.59823046019037]
[{"$f":"A231+Sheet2!G$11","v":{"v":-2.16983016983013,"d":"-2.17"}},{"v":116.73687824351789,"d":"116.7369"},{"$nulls":9},{"v":-0.6913086913086559,"d":"-0.69"},13.691005094856704]
[{"$f":"A232+Sheet2!G$11","v":{"v":-2.161838161838122,"d":"-2.16"}},{"v":115.87373268235336,"d":"115.8737"},{"$nulls":9},{"v":-2.5294705294704976,"d":"-2.53"},13.769305031236808]
[{"$f":"A233+Sheet2!G$11","v":{"v":-2.1538461538461138,"d":"-2.15"}},{"v":115.0183116837603,"d":"115.0183"},{"$nulls":9},{"v":-0.683316683316648,"d":"-0.68"},13.783507315917035]
[{"$f":"A234+Sheet2!G$11","v":{"v":-2.1458541458541056,"d":"-2.15"}},{"v":114.17057349755008,"d":"114.1706"},{"$nulls":9},{"v":-0.67532467532464,"d":"-0.68"},13.875728702959563]
[{"$f":"A235+Sheet2!G$11","v":{"v":-2.1378621378620974,"d":"-2.14"}},{"v":113.3304764714459,"d":"113.3305"},{"$nulls":9},{"v":-0.6673326673326321,"d":"-0.67"},13.967660933484257]
[{"$f":"A236+Sheet2!G$11","v":{"v":-2.1298701298700893,"d":"-2.13"}},{"v":112.49797905108274,"d":"112.4980"},{"$nulls":9},{"v":-2.5374625374625057,"d":"-2.54"},14.038709520271826]
[{"$f":"A237+Sheet2!G$11","v":{"v":-2.121878121878081,"d":"-2.12"}},{"v":111.67303978000726,"d":"111.6730"},{"$nulls":9},{"v":-0.6593406593406241,"d":"-0.66"},14.059295782902854]
[{"$f":"A238+Sheet2!G$11","v":{"v":-2.113886113886073,"d":"-2.11"}},{"v":110.85561729967797,"d":"110.8556"},{"$nulls":9},{"v":-0.6513486513486162,"d":"-0.65"},14.150625124538848]
[{"$f":"A239+Sheet2!G$11","v":{"v":-2.105894105894065,"d":"-2.11"}},{"v":110.04567034946515,"d":"110.0457"},{"$nulls":9},{"v":-0.6433566433566082,"d":"-0.64"},14.241640929627508]
[{"$f":"A240+Sheet2!G$11","v":{"v":-2.0979020979020566,"d":"-2.10"}},{"v":109.24315776665077,"d":"109.2432"},{"$nulls":9},{"v":-2.545454545454514,"d":"-2.55"},14.312410354482891]
[{"$f":"A241+Sheet2!G$11","v":{"v":-2.0899100899100485,"d":"-2.09"}},{"v":108.44803848642864,"d":"108.4480"},{"$nulls":9},{"v":-0.6353646353646003,"d":"-0.64"},14.332335267315859]
[{"$f":"A242+Sheet2!G$11","v":{"v":-2.0819180819180403,"d":"-2.08"}},{"v":107.66027154190428,"d":"107.6603"},{"$nulls":9},{"v":-0.6273726273725924,"d":"-0.63"},14.422700304662694]
[{"$f":"A243+Sheet2!G$11","v":{"v":-2.073926073926032,"d":"-2.07"}},{"v":106.87981606409501,"d":"106.8798"},{"$nulls":9},{"v":-0.6193806193805844,"d":"-0.62"},14.512728306638575]
[{"$f":"A244+Sheet2!G$11","v":{"v":-2.065934065934024,"d":"-2.07"}},{"v":106.10663128192991,"d":"106.1066"},{"$nulls":9},{"v":-2.553446553446522,"d":"-2.55"},14.590438669811284]
[{"$f":"A245+Sheet2!G$11","v":{"v":-2.057942057942016,"d":"-2.06"}},{"v":105.3406765222498,"d":"105.3407"},{"$nulls":9},{"v":-0.6113886113885765,"d":"-0.61"},14.602411636125824]
[{"$f":"A246+Sheet2!G$11","v":{"v":-2.0499500499500076,"d":"-2.05"}},{"v":104.58191120980727,"d":"104.5819"},{"$nulls":9},{"v":-0.6033966033965685,"d":"-0.60"},14.691742753918529]
[{"$f":"A247+Sheet2!G$11","v":{"v":-2.0419580419579995,"d":"-2.04"}},{"v":103.83029486726673,"d":"103.8303"},{"$nulls":9},{"v":-0.5954045954045606,"d":"-0.60"},14.780714218722547]
[{"$f":"A248+Sheet2!G$11","v":{"v":-2.0339660339659913,"d":"-2.03"}},{"v":103.08578711520428,"d":"103.0858"},{"$nulls":9},{"v":-0.5874125874125526,"d":"-0.59"},14.869318687155497]
[{"$f":"A249+Sheet2!G$11","v":{"v":-2.025974025973983,"d":"-2.03"}},{"v":102.34834767210785,"d":"102.3483"},{"$nulls":9},{"v":-2.56143856143853,"d":"-2.56"},14.87282570011006]
[{"$f":"A250+Sheet2!G$11","v":{"v":-2.017982017981975,"d":"-2.02"}},{"v":101.61793635437708,"d":"101.6179"},{"$nulls":9},{"v":-0.5794205794205447,"d":"-0.58"},14.957548913746761]
[{"$f":"A251+Sheet2!G$11","v":{"v":-2.009990009989967,"d":"-2.01"}},{"v":100.89451307632339,"d":"100.8945"},{"$nulls":9},{"v":-0.5714285714285368,"d":"-0.57"},15.04539775093749]
[{"$f":"A252+Sheet2!G$11","v":{"v":-2.0019980019979586,"d":"-2.00"}},{"v":100.17803785017,"d":"100.1780"},{"$nulls":9},{"v":-0.5634365634365288,"d":"-0.56"},15.132858149080597]
[{"$f":"A253+Sheet2!G$11","v":{"v":-1.9940059940059507,"d":"-1.99"}},{"v":99.46847078605188,"d":"99.4685"},{"$nulls":9},{"v":-2.5694305694305384,"d":"-2.57"},15.159602777144066]
[{"$f":"A254+Sheet2!G$11","v":{"v":-1.9860139860139427,"d":"-1.99"}},{"v":98.76577209201572,"d":"98.7658"},{"$nulls":9},{"v":-0.5554445554445209,"d":"-0.56"},15.219923156440764]
[{"$f":"A255+Sheet2!G$11","v":{"v":-1.9780219780219348,"d":"-1.98"}},{"v":98.06990207402004,"d":"98.0699"},{"$nulls":9},{"v":-0.5474525474525129,"d":"-0.55"},15.306585919194433]
[{"$f":"A256+Sheet2!G$11","v":{"v":-1.9700299700299269,"d":"-1.97"}},{"v":97.38082113593507,"d":"97.3808"},{"$nulls":9},{"v":-0.539460539460505,"d":"-0.54"},15.392839681429813]
[{"$f":"A257+Sheet2!G$11","v":{"v":-1.962037962037919,"d":"-1.96"}},{"v":96.69848977954283,"d":"96.6985"},{"$nulls":9},{"v":-2.5774225774225465,"d":"-2.58"},15.450801330589863]
[{"$f":"A258+Sheet2!G$11","v":{"v":-1.954045954045911,"d":"-1.95"}},{"$f":"x^4-5*x^3+3*x+50","v":{"v":96.0228686045371,"d":"96.0229"}},{"$nulls":9},{"v":-0.531468531468497,"d":"-0.53"},15.478677785146882]
[{"$f":"A259+Sheet2!G$11","v":{"v":-1.946053946053903,"d":"-1.95"}},{"v":95.35391830852343,"d":"95.3539"},{"$nulls":9},{"v":-0.5234765234764891,"d":"-0.52"},15.564093670257378]
[{"$f":"A260+Sheet2!G$11","v":{"v":-1.938061938061895,"d":"-1.94"}},{"v":94.69159968701915,"d":"94.6916"},{"$nulls":9},{"v":-0.5154845154844812,"d":"-0.52"},15.649080874584806]
[{"$f":"A261+Sheet2!G$11","v":{"v":-1.9300699300698871,"d":"-1.93"}},{"v":94.03587363345333,"d":"94.0359"},{"$nulls":9},{"v":-0.5074925074924732,"d":"-0.51"},15.733633033864436]
[{"$f":"A262+Sheet2!G$11","v":{"v":-1.9220779220778792,"d":"-1.92"}},{"v":93.38670113916683,"d":"93.3867"},{"$nulls":9},{"v":-2.5854145854145547,"d":"-2.59"},15.746452888035815]
[{"$f":"A263+Sheet2!G$11","v":{"v":-1.9140859140858713,"d":"-1.91"}},{"v":92.74404329341223,"d":"92.7440"},{"$nulls":9},{"v":-0.4995004995004652,"d":"-0.50"},15.817743881743304]
[{"$f":"A264+Sheet2!G$11","v":{"v":-1.9060939060938633,"d":"-1.91"}},{"v":92.10786128335394,"d":"92.1079"},{"$nulls":9},{"v":-0.4915084915084572,"d":"-0.49"},15.90140724978021]
[{"$f":"A265+Sheet2!G$11","v":{"v":-1.8981018981018554,"d":"-1.90"}},{"v":91.47811639406805,"d":"91.4781"},{"$nulls":9},{"v":-0.4835164835164492,"d":"-0.48"},15.984617067445717]
[{"$f":"A266+Sheet2!G$11","v":{"v":-1.8901098901098474,"d":"-1.89"}},{"v":90.85477000854252,"d":"90.8548"},{"$nulls":9},{"v":-2.593406593406563,"d":"-2.59"},16.04658907498206]
[{"$f":"A267+Sheet2!G$11","v":{"v":-1.8821178821178395,"d":"-1.88"}},{"v":90.23778360767699,"d":"90.2378"},{"$nulls":9},{"v":-0.4755244755244412,"d":"-0.48"},16.06736736212216]
[{"$f":"A268+Sheet2!G$11","v":{"v":-1.8741258741258315,"d":"-1.87"}},{"v":89.62711877028289,"d":"89.6271"},{"$nulls":9},{"v":-0.4675324675324332,"d":"-0.47"},16.149652259103625]
[{"$f":"A269+Sheet2!G$11","v":{"v":-1.8661338661338236,"d":"-1.87"}},{"v":89.02273717308344,"d":"89.0227"},{"$nulls":9},{"v":-0.4595404595404252,"d":"-0.46"},16.23146598159598]
[{"$f":"A270+Sheet2!G$11","v":{"v":-1.8581418581418156,"d":"-1.86"}},{"v":88.4246005907136,"d":"88.4246"},{"$nulls":9},{"v":-0.4515484515484172,"d":"-0.45"},16.312802850716853]
[{"$f":"A271+Sheet2!G$11","v":{"v":-1.8501498501498077,"d":"-1.85"}},{"v":87.8326708957201,"d":"87.8327"},{"$nulls":9},{"v":-2.601398601398571,"d":"-2.60"},16.351241614840465]
[{"$f":"A272+Sheet2!G$11","v":{"v":-1.8421578421577998,"d":"-1.84"}},{"v":87.24691005856141,"d":"87.2469"},{"$nulls":9},{"v":-0.4435564435564092,"d":"-0.44"},16.393657285495628]
[{"$f":"A273+Sheet2!G$11","v":{"v":-1.8341658341657918,"d":"-1.83"}},{"v":86.66728014760783,"d":"86.6673"},{"$nulls":9},{"v":-0.4355644355644012,"d":"-0.44"},16.474023802873464]
[{"$f":"A274+Sheet2!G$11","v":{"v":-1.8261738261737839,"d":"-1.83"}},{"v":86.09374332914136,"d":"86.0937"},{"$nulls":9},{"v":-0.4275724275723932,"d":"-0.43"},16.55389701770328]
[{"$f":"A275+Sheet2!G$11","v":{"v":-1.818181818181776,"d":"-1.82"}},{"v":85.5262618673558,"d":"85.5263"},{"$nulls":9},{"v":-0.4195804195803852,"d":"-0.42"},16.633271642749765]
[{"$f":"A276+Sheet2!G$11","v":{"v":-1.810189810189768,"d":"-1.81"}},{"v":84.9647981243567,"d":"84.9648"},{"$nulls":9},{"v":-2.609390609390579,"d":"-2.61"},16.660442328934685]
[{"$f":"A277+Sheet2!G$11","v":{"v":-1.80219780219776,"d":"-1.80"}},{"v":84.4093145601614,"d":"84.4093"},{"$nulls":9},{"v":-0.4115884115883772,"d":"-0.41"},16.712142488689366]
[{"$f":"A278+Sheet2!G$11","v":{"v":-1.794205794205752,"d":"-1.79"}},{"v":83.85977373269895,"d":"83.8598"},{"$nulls":9},{"v":-0.4035964035963692,"d":"-0.40"},16.790504464110303]
[{"$f":"A279+Sheet2!G$11","v":{"v":-1.7862137862137442,"d":"-1.79"}},{"v":83.31613829781024,"d":"83.3161"},{"$nulls":9},{"v":-0.3956043956043612,"d":"-0.40"},16.868352575512553]
[{"$f":"A280+Sheet2!G$11","v":{"v":-1.7782217782217362,"d":"-1.78"}},{"v":82.77837100924788,"d":"82.7784"},{"$nulls":9},{"v":-0.3876123876123532,"d":"-0.39"},16.945681927307863]
[{"$f":"A281+Sheet2!G$11","v":{"v":-1.7702297702297283,"d":"-1.77"}},{"v":82.24643471867621,"d":"82.2464"},{"$nulls":9},{"v":-2.6173826173825874,"d":"-2.62"},16.97422313650012]
[{"$f":"A282+Sheet2!G$11","v":{"v":-1.7622377622377203,"d":"-1.76"}},{"v":81.72029237567142,"d":"81.7203"},{"$nulls":9},{"v":-0.3796203796203452,"d":"-0.38"},17.022487721819747]
[{"$f":"A283+Sheet2!G$11","v":{"v":-1.7542457542457124,"d":"-1.75"}},{"v":81.1999070277214,"d":"81.1999"},{"$nulls":9},{"v":-0.37162837162833723,"d":"-0.37"},17.09876525928348]
[{"$f":"A284+Sheet2!G$11","v":{"v":-1.7462537462537044,"d":"-1.75"}},{"v":80.68524182022583,"d":"80.6852"},{"$nulls":9},{"v":-0.36363636363632923,"d":"-0.36"},17.1745099378461]
[{"$f":"A285+Sheet2!G$11","v":{"v":-1.7382617382616965,"d":"-1.74"}},{"v":80.17625999649616,"d":"80.1763"},{"$nulls":9},{"v":-0.35564435564432123,"d":"-0.36"},17.249717253566416]
[{"$f":"A286+Sheet2!G$11","v":{"v":-1.7302697302696886,"d":"-1.73"}},{"v":79.67292489775559,"d":"79.6729"},{"$nulls":9},{"v":-2.6253746253745955,"d":"-2.63"},17.29261605468398]
[{"$f":"A287+Sheet2!G$11","v":{"v":-1.7222777222776806,"d":"-1.72"}},{"v":79.1751999631391,"d":"79.1752"},{"$nulls":9},{"v":-0.34765234765231323,"d":"-0.35"},17.324382800415002]
[{"$f":"A288+Sheet2!G$11","v":{"v":-1.7142857142856727,"d":"-1.71"}},{"v":78.68304872969341,"d":"78.6830"},{"$nulls":9},{"v":-0.33966033966030523,"d":"-0.34"},17.398502270274193]
[{"$f":"A289+Sheet2!G$11","v":{"v":-1.7062937062936647,"d":"-1.71"}},{"v":78.19643483237704,"d":"78.1964"},{"$nulls":9},{"v":-0.33166833166829723,"d":"-0.33"},17.47207145293809]
[{"$f":"A290+Sheet2!G$11","v":{"v":-1.6983016983016568,"d":"-1.70"}},{"v":77.71532200406024,"d":"77.7153"},{"$nulls":9},{"v":-0.32367632367628923,"d":"-0.32"},17.545086236112557]
[{"$f":"A291+Sheet2!G$11","v":{"v":-1.6903096903096488,"d":"-1.69"}},{"v":77.23967407552504,"d":"77.2397"},{"$nulls":9},{"v":-2.6333666333666037,"d":"-2.63"},17.61565319854519]
[{"$f":"A292+Sheet2!G$11","v":{"v":-1.682317682317641,"d":"-1.68"}},{"v":76.76945497546527,"d":"76.7695"},{"$nulls":9},{"v":-0.31568431568428124,"d":"-0.32"},17.61754260541523]
[{"$f":"A293+Sheet2!G$11","v":{"v":-1.674325674325633,"d":"-1.67"}},{"v":76.30462873048646,"d":"76.3046"},{"$nulls":9},{"v":-0.30769230769227324,"d":"-0.31"},17.689436644375505]
[{"$f":"A294+Sheet2!G$11","v":{"v":-1.666333666333625,"d":"-1.67"}},{"v":75.84515946510592,"d":"75.8452"},{"$nulls":9},{"v":-0.29970029970026524,"d":"-0.30"},17.760764534434543]
[{"$f":"A295+Sheet2!G$11","v":{"v":-1.658341658341617,"d":"-1.66"}},{"v":75.3910114017528,"d":"75.3910"},{"$nulls":9},{"v":-0.29170829170825724,"d":"-0.29"},17.831522554945273]
[{"$f":"A296+Sheet2!G$11","v":{"v":-1.6503496503496091,"d":"-1.65"}},{"v":74.94214886076792,"d":"74.9421"},{"$nulls":9},{"v":-0.28371628371624924,"d":"-0.28"},17.901707083172383]
[{"$f":"A297+Sheet2!G$11","v":{"v":-1.6423576423576012,"d":"-1.64"}},{"v":74.49853626040391,"d":"74.4985"},{"$nulls":9},{"v":-2.641358641358612,"d":"-2.64"},17.943366781054458]
[{"$f":"A298+Sheet2!G$11","v":{"v":-1.6343656343655932,"d":"-1.63"}},{"v":74.06013811682513,"d":"74.0601"},{"$nulls":9},{"v":-0.27572427572424124,"d":"-0.28"},17.971314594292338]
[{"$f":"A299+Sheet2!G$11","v":{"v":-1.6263736263735853,"d":"-1.63"}},{"v":73.62691904410778,"d":"73.6269"},{"$nulls":9},{"v":-0.26773226773223324,"d":"-0.27"},18.04034166139335]
[{"$f":"A300+Sheet2!G$11","v":{"v":-1.6183816183815773,"d":"-1.62"}},{"v":73.19884375423975,"d":"73.1988"},{"$nulls":9},{"v":-0.25974025974022524,"d":"-0.26"},18.10878495547541]
[{"$f":"A301+Sheet2!G$11","v":{"v":-1.6103896103895694,"d":"-1.61"}},{"v":72.77587705712072,"d":"72.7759"},{"$nulls":9},{"v":-0.25174825174821724,"d":"-0.25"},18.176641245450277]
[{"$f":"A302+Sheet2!G$11","v":{"v":-1.6023976023975615,"d":"-1.60"}},{"v":72.35798386056216,"d":"72.3580"},{"$nulls":9},{"v":-0.24375624375620925,"d":"-0.24"},18.243907398141463]
[{"$f":"A303+Sheet2!G$11","v":{"v":-1.5944055944055535,"d":"-1.59"}},{"v":71.94512917028726,"d":"71.9451"},{"$nulls":9},{"v":-2.64935064935062,"d":"-2.65"},18.275789113094273]
[{"$f":"A304+Sheet2!G$11","v":{"v":-1.5864135864135456,"d":"-1.59"}},{"v":71.53727808993101,"d":"71.5373"},{"$nulls":9},{"v":-0.23576423576420125,"d":"-0.24"},18.31058037828425]
[{"$f":"A305+Sheet2!G$11","v":{"v":-1.5784215784215376,"d":"-1.58"}},{"v":71.13439582104014,"d":"71.1344"},{"$nulls":9},{"v":-0.22777222777219325,"d":"-0.23"},18.376657248525685]
[{"$f":"A306+Sheet2!G$11","v":{"v":-1.5704295704295297,"d":"-1.57"}},{"v":70.73644766307318,"d":"70.7364"},{"$nulls":9},{"v":-0.21978021978018525,"d":"-0.22"},18.442135169424585]
[{"$f":"A307+Sheet2!G$11","v":{"v":-1.5624375624375217,"d":"-1.56"}},{"v":70.34339901340039,"d":"70.3434"},{"$nulls":9},{"v":-0.21178821178817725,"d":"-0.21"},18.507011399451525]
[{"$f":"A308+Sheet2!G$11","v":{"v":-1.5544455544455138,"d":"-1.55"}},{"v":69.9552153673038,"d":"69.9552"},{"$nulls":9},{"v":-0.20379620379616925,"d":"-0.20"},18.57128329498885]
[{"$f":"A309+Sheet2!G$11","v":{"v":-1.5464535464535059,"d":"-1.55"}},{"v":69.57186231797722,"d":"69.5719"},{"$nulls":9},{"v":-2.657342657342628,"d":"-2.66"},18.61295260345888]
[{"$f":"A310+Sheet2!G$11","v":{"v":-1.538461538461498,"d":"-1.54"}},{"v":69.19330555652623,"d":"69.1933"},{"$nulls":9},{"v":-0.19580419580416125,"d":"-0.20"},18.634948310330664]
[{"$f":"A311+Sheet2!G$11","v":{"v":-1.53046953046949,"d":"-1.53"}},{"v":68.81951087196813,"d":"68.8195"},{"$nulls":9},{"v":-0.18781218781215325,"d":"-0.19"},18.69800399768284]
[{"$f":"A312+Sheet2!G$11","v":{"v":-1.522477522477482,"d":"-1.52"}},{"v":68.45044415123206,"d":"68.4504"},{"$nulls":9},{"v":-0.17982017982014525,"d":"-0.18"},18.76044800716302]
[{"$f":"A313+Sheet2!G$11","v":{"v":-1.514485514485474,"d":"-1.51"}},{"v":68.08607137915888,"d":"68.0861"},{"$nulls":9},{"v":-0.17182817182813725,"d":"-0.17"},18.82227808680061]
[{"$f":"A314+Sheet2!G$11","v":{"v":-1.5064935064934661,"d":"-1.51"}},{"v":67.72635863850118,"d":"67.7264"},{"$nulls":9},{"v":-0.16383616383612926,"d":"-0.16"},18.88349208253677]
[{"$f":"A315+Sheet2!G$11","v":{"v":-1.4985014985014582,"d":"-1.50"}},{"v":67.3712721099234,"d":"67.3713"},{"$nulls":9},{"v":-0.15584415584412126,"d":"-0.16"},18.94408793822444]
[{"$f":"A316+Sheet2!G$11","v":{"v":-1.4905094905094503,"d":"-1.49"}},{"v":67.02077807200166,"d":"67.0208"},{"$nulls":9},{"v":-2.6653346653346364,"d":"-2.67"},18.95488975885426]
[{"$f":"A317+Sheet2!G$11","v":{"v":-1.4825174825174423,"d":"-1.48"}},{"v":66.67484290122391,"d":"66.6748"},{"$nulls":9},{"v":-0.14785214785211326,"d":"-0.15"},19.004063695628314]
[{"$f":"A318+Sheet2!G$11","v":{"v":-1.4745254745254344,"d":"-1.47"}},{"v":66.33343307198983,"d":"66.3334"},{"$nulls":9},{"v":-0.13986013986010526,"d":"-0.14"},19.063417494424858]
[{"$f":"A319+Sheet2!G$11","v":{"v":-1.4665334665334264,"d":"-1.47"}},{"v":65.99651515661087,"d":"65.9965"},{"$nulls":9},{"v":-0.13186813186809726,"d":"-0.13"},19.122147572202298]
[{"$f":"A320+Sheet2!G$11","v":{"v":-1.4585414585414185,"d":"-1.46"}},{"v":65.66405582531026,"d":"65.6641"},{"$nulls":9},{"v":-0.12387612387608926,"d":"-0.12"},19.180252264460634]
[{"$f":"A321+Sheet2!G$11","v":{"v":-1.4505494505494105,"d":"-1.45"}},{"v":65.33602184622298,"d":"65.3360"},{"$nulls":9},{"v":-0.11588411588408126,"d":"-0.12"},19.237730004611617]
[{"$f":"A322+Sheet2!G$11","v":{"v":-1.4425574425574026,"d":"-1.44"}},{"$f":"x^4-5*x^3+3*x+50","v":{"v":65.01238008539576,"d":"65.0124"}},{"$nulls":9},{"v":-0.10789210789207326,"d":"-0.11"},19.294579323978773]
[{"$f":"A323+Sheet2!G$11","v":{"v":-1.4345654345653946,"d":"-1.43"}},{"v":64.69309750678714,"d":"64.6931"},{"$nulls":9},{"v":-2.6733266733266445,"d":"-2.67"},19.30163318389821]
[{"$f":"A324+Sheet2!G$11","v":{"v":-1.4265734265733867,"d":"-1.43"}},{"v":64.37814117226739,"d":"64.3781"},{"$nulls":9},{"v":-0.09990009990006526,"d":"-0.10"},19.350798851797396]
[{"$f":"A325+Sheet2!G$11","v":{"v":-1.4185814185813788,"d":"-1.42"}},{"v":64.06747824161855,"d":"64.0675"},{"$nulls":9},{"v":-0.09190809190805727,"d":"-0.09"},19.406387315214534]
[{"$f":"A326+Sheet2!G$11","v":{"v":-1.4105894105893708,"d":"-1.41"}},{"v":63.76107597253444,"d":"63.7611"},{"$nulls":9},{"v":-0.08391608391604927,"d":"-0.08"},19.46134353928901]
[{"$f":"A327+Sheet2!G$11","v":{"v":-1.4025974025973629,"d":"-1.40"}},{"v":63.45890172062063,"d":"63.4589"},{"$nulls":9},{"v":-0.07592407592404127,"d":"-0.08"},19.515666446991407]
[{"$f":"A328+Sheet2!G$11","v":{"v":-1.394605394605355,"d":"-1.39"}},{"v":63.16092293939446,"d":"63.1609"},{"$nulls":9},{"v":-0.06793206793203327,"d":"-0.07"},19.56935505920407]
[{"$f":"A329+Sheet2!G$11","v":{"v":-1.386613386613347,"d":"-1.39"}},{"v":62.86710718028503,"d":"62.8671"},{"$nulls":9},{"v":-0.05994005994002528,"d":"-0.06"},19.62240849472112]
[{"$f":"A330+Sheet2!G$11","v":{"v":-1.378621378621339,"d":"-1.38"}},{"v":62.57742209263321,"d":"62.5774"},{"$nulls":9},{"v":-2.6813186813186527,"d":"-2.68"},19.653215581120243]
[{"$f":"A331+Sheet2!G$11","v":{"v":-1.370629370629331,"d":"-1.37"}},{"v":62.29183542369165,"d":"62.2918"},{"$nulls":9},{"v":-0.051948051948017285,"d":"-0.05"},19.674825970248435]
[{"$f":"A332+Sheet2!G$11","v":{"v":-1.3626373626373232,"d":"-1.36"}},{"v":62.01031501862474,"d":"62.0103"},{"$nulls":9},{"v":-0.04395604395600929,"d":"-0.04"},19.726606800403655]
[{"$f":"A333+Sheet2!G$11","v":{"v":-1.3546453546453152,"d":"-1.35"}},{"v":61.73282882050863,"d":"61.7328"},{"$nulls":9},{"v":-0.0359640359640013,"d":"-0.04"},19.77775039771619]
[{"$f":"A334+Sheet2!G$11","v":{"v":-1.3466533466533073,"d":"-1.35"}},{"v":61.45934487033127,"d":"61.4593"},{"$nulls":9},{"v":-0.02797202797199331,"d":"-0.03"},19.828256272627222]
[{"$f":"A335+Sheet2!G$11","v":{"v":-1.3386613386612993,"d":"-1.34"}},{"v":61.18983130699235,"d":"61.1898"},{"$nulls":9},{"v":-0.019980019979985317,"d":"-0.02"},19.878124033489684]
[{"$f":"A336+Sheet2!G$11","v":{"v":-1.3306693306692914,"d":"-1.33"}},{"v":60.92425636730333,"d":"60.9243"},{"$nulls":9},{"v":-0.011988011987977325,"d":"-0.01"},19.927353386568278]
[{"$f":"A337+Sheet2!G$11","v":{"v":-1.3226773226772834,"d":"-1.32"}},{"v":60.66258838598743,"d":"60.6626"},{"$nulls":9},{"v":-0.003996003995969333,"d":"-0.00"},19.975944136039484]
[{"$f":"A338+Sheet2!G$11","v":{"v":-1.3146853146852755,"d":"-1.31"}},{"v":60.40479579567966,"d":"60.4048"},{"$nulls":9},{"v":-2.689310689310661,"d":"-2.69"},20.00966975096168]
[{"$f":"A339+Sheet2!G$11","v":{"v":-1.3066933066932676,"d":"-1.31"}},{"v":60.15084712692675,"d":"60.1508"},{"$nulls":9},{"v":0.003996003996038659,"d":"0.00"},20.02389618399153]
[{"$f":"A340+Sheet2!G$11","v":{"v":-1.2987012987012596,"d":"-1.30"}},{"v":59.900711008187244,"d":"59.9007"},{"$nulls":9},{"v":0.011988011988046651,"d":"0.01"},20.071209530424415]
[{"$f":"A341+Sheet2!G$11","v":{"v":-1.2907092907092517,"d":"-1.29"}},{"v":59.6543561658314,"d":"59.6544"},{"$nulls":9},{"v":0.019980019980054643,"d":"0.02"},20.117884273249906]
[{"$f":"A342+Sheet2!G$11","v":{"v":-1.2827172827172437,"d":"-1.28"}},{"v":59.41175142414129,"d":"59.4118"},{"$nulls":9},{"v":0.027972027972062635,"d":"0.03"},20.163920608291537]
[{"$f":"A343+Sheet2!G$11","v":{"v":-1.2747252747252358,"d":"-1.27"}},{"v":59.17286570531073,"d":"59.1729"},{"$nulls":9},{"v":0.03596403596407063,"d":"0.04"},20.209318829284598]
[{"$f":"A344+Sheet2!G$11","v":{"v":-1.2667332667332278,"d":"-1.27"}},{"v":58.93766802944529,"d":"58.9377"},{"$nulls":9},{"v":0.04395604395607862,"d":"0.04"},20.254079327876152]
[{"$f":"A345+Sheet2!G$11","v":{"v":-1.25874125874122,"d":"-1.26"}},{"v":58.706127514562326,"d":"58.7061"},{"$nulls":9},{"v":0.05194805194808661,"d":"0.05"},20.29820259362502]
[{"$f":"A346+Sheet2!G$11","v":{"v":-1.250749250749212,"d":"-1.25"}},{"v":58.47821337659094,"d":"58.4782"},{"$nulls":9},{"v":0.0599400599400946,"d":"0.06"},20.3416892140018]
[{"$f":"A347+Sheet2!G$11","v":{"v":-1.242757242757204,"d":"-1.24"}},{"v":58.253894929372024,"d":"58.2539"},{"$nulls":9},{"v":-2.697302697302669,"d":"-2.70"},20.37102859177557]
[{"$f":"A348+Sheet2!G$11","v":{"v":-1.234765234765196,"d":"-1.23"}},{"v":58.033141584658196,"d":"58.0331"},{"$nulls":9},{"v":0.0679320679321026,"d":"0.07"},20.38453987438884]
[{"$f":"A349+Sheet2!G$11","v":{"v":-1.2267732267731881,"d":"-1.23"}},{"v":57.81592285211388,"d":"57.8159"},{"$nulls":9},{"v":0.0759240759241106,"d":"0.08"},20.426755358080264]
[{"$f":"A350+Sheet2!G$11","v":{"v":-1.2187812187811802,"d":"-1.22"}},{"v":57.60220833931524,"d":"57.6022"},{"$nulls":9},{"v":0.0839160839161186,"d":"0.08"},20.46833654628196]
[{"$f":"A351+Sheet2!G$11","v":{"v":-1.2107892107891722,"d":"-1.21"}},{"v":57.391967751750215,"d":"57.3920"},{"$nulls":9},{"v":0.0919080919081266,"d":"0.09"},20.509284418111577]
[{"$f":"A352+Sheet2!G$11","v":{"v":-1.2027972027971643,"d":"-1.20"}},{"v":57.185170892818505,"d":"57.1852"},{"$nulls":9},{"v":0.0999000999001346,"d":"0.10"},20.549600050598528]
[{"$f":"A353+Sheet2!G$11","v":{"v":-1.1948051948051563,"d":"-1.19"}},{"v":56.98178766383158,"d":"56.9818"},{"$nulls":9},{"v":0.1078921078921426,"d":"0.11"},20.589284618683998]
[{"$f":"A354+Sheet2!G$11","v":{"v":-1.1868131868131484,"d":"-1.19"}},{"v":56.78178806401267,"d":"56.7818"},{"$nulls":9},{"v":0.1158841158841506,"d":"0.12"},20.628339395220927]
[{"$f":"A355+Sheet2!G$11","v":{"v":-1.1788211788211405,"d":"-1.18"}},{"v":56.585142190496775,"d":"56.5851"},{"$nulls":9},{"v":0.1238761238761586,"d":"0.12"},20.666765750974033]
[{"$f":"A356+Sheet2!G$11","v":{"v":-1.1708291708291325,"d":"-1.17"}},{"v":56.39182023833065,"d":"56.3918"},{"$nulls":9},{"v":0.1318681318681666,"d":"0.13"},20.704565154619793]
[{"$f":"A357+Sheet2!G$11","v":{"v":-1.1628371628371246,"d":"-1.16"}},{"v":56.20179250047283,"d":"56.2018"},{"$nulls":9},{"v":-2.705294705294677,"d":"-2.71"},20.737325099826748]
[{"$f":"A358+Sheet2!G$11","v":{"v":-1.1548451548451166,"d":"-1.15"}},{"v":56.015029367793595,"d":"56.0150"},{"$nulls":9},{"v":0.1398601398601746,"d":"0.14"},20.741739172746442]
[{"$f":"A359+Sheet2!G$11","v":{"v":-1.1468531468531087,"d":"-1.15"}},{"v":55.83150132907502,"d":"55.8315"},{"$nulls":9},{"v":0.1478521478521826,"d":"0.15"},20.778289469853988]
[{"$f":"A360+Sheet2!G$11","v":{"v":-1.1388611388611007,"d":"-1.14"}},{"v":55.65117897101091,"d":"55.6512"},{"$nulls":9},{"v":0.1558441558441906,"d":"0.16"},20.814217808354204]
[{"$f":"A361+Sheet2!G$11","v":{"v":-1.1308691308690928,"d":"-1.13"}},{"v":55.47403297820686,"d":"55.4740"},{"$nulls":9},{"v":0.1638361638361986,"d":"0.16"},20.849526048570624]
[{"$f":"A362+Sheet2!G$11","v":{"v":-1.1228771228770849,"d":"-1.12"}},{"v":55.30003413318022,"d":"55.3000"},{"$nulls":9},{"v":0.1718281718282066,"d":"0.17"},20.884216148738556]
[{"$f":"A363+Sheet2!G$11","v":{"v":-1.114885114885077,"d":"-1.11"}},{"v":55.12915331636011,"d":"55.1292"},{"$nulls":9},{"v":0.1798201798202146,"d":"0.18"},20.918290165005057]
[{"$f":"A364+Sheet2!G$11","v":{"v":-1.106893106893069,"d":"-1.11"}},{"v":54.961361506087414,"d":"54.9614"},{"$nulls":9},{"v":0.1878121878122226,"d":"0.19"},20.95175025142897]
[{"$f":"A365+Sheet2!G$11","v":{"v":-1.098901098901061,"d":"-1.10"}},{"v":54.79662977861478,"d":"54.7966"},{"$nulls":9},{"v":0.19580419580423059,"d":"0.20"},20.98459865998088]
[{"$f":"A366+Sheet2!G$11","v":{"v":-1.090909090909053,"d":"-1.09"}},{"v":54.63492930810661,"d":"54.6349"},{"$nulls":9},{"v":0.20379620379623858,"d":"0.20"},21.016837740543156]
[{"$f":"A367+Sheet2!G$11","v":{"v":-1.0829170829170451,"d":"-1.08"}},{"v":54.4762313666391,"d":"54.4762"},{"$nulls":9},{"v":0.21178821178824658,"d":"0.21"},21.048469940909925]
[{"$f":"A368+Sheet2!G$11","v":{"v":-1.0749250749250372,"d":"-1.07"}},{"v":54.32050732420017,"d":"54.3205"},{"$nulls":9},{"v":0.21978021978025458,"d":"0.22"},21.079497806787074]
[{"$f":"A369+Sheet2!G$11","v":{"v":-1.0669330669330293,"d":"-1.07"}},{"v":54.16772864868955,"d":"54.1677"},{"$nulls":9},{"v":-2.7132867132866854,"d":"-2.71"},21.108592369291824]
[{"$f":"A370+Sheet2!G$11","v":{"v":-1.0589410589410213,"d":"-1.06"}},{"v":54.0178669059187,"d":"54.0179"},{"$nulls":9},{"v":0.22777222777226258,"d":"0.23"},21.109923981792267]
[{"$f":"A371+Sheet2!G$11","v":{"v":-1.0509490509490134,"d":"-1.05"}},{"v":53.870893759610865,"d":"53.8709"},{"$nulls":9},{"v":0.23576423576427058,"d":"0.24"},21.13975120745492]
[{"$f":"A372+Sheet2!G$11","v":{"v":-1.0429570429570054,"d":"-1.04"}},{"v":53.72678097140104,"d":"53.7268"},{"$nulls":9},{"v":0.24375624375627858,"d":"0.24"},21.168982323216223]
[{"$f":"A373+Sheet2!G$11","v":{"v":-1.0349650349649975,"d":"-1.03"}},{"v":53.585500400836004,"d":"53.5855"},{"$nulls":9},{"v":0.2517482517482866,"d":"0.25"},21.19762026642913]
[{"$f":"A374+Sheet2!G$11","v":{"v":-1.0269730269729895,"d":"-1.03"}},{"v":53.44702400537428,"d":"53.4470"},{"$nulls":9},{"v":0.2597402597402946,"d":"0.26"},21.225668072358356]
[{"$f":"A375+Sheet2!G$11","v":{"v":-1.0189810189809816,"d":"-1.02"}},{"v":53.31132384038618,"d":"53.3113"},{"$nulls":9},{"v":0.2677322677323026,"d":"0.27"},21.253128874180383]
[{"$f":"A376+Sheet2!G$11","v":{"v":-1.0109890109889736,"d":"-1.01"}},{"v":53.178372059153745,"d":"53.1784"},{"$nulls":9},{"v":0.2757242757243106,"d":"0.28"},21.28000590298346]
[{"$f":"A377+Sheet2!G$11","v":{"v":-1.0029970029969657,"d":"-1.00"}},{"v":53.04814091287082,"d":"53.0481"},{"$nulls":9},{"v":0.2837162837163186,"d":"0.28"},21.3063024877676]
[{"$f":"A378+Sheet2!G$11","v":{"v":-0.9950049950049578,"d":"-1.00"}},{"v":52.920602750643,"d":"52.9206"},{"$nulls":9},{"v":0.2917082917083266,"d":"0.29"},21.33202205544458]
[{"$f":"A379+Sheet2!G$11","v":{"v":-0.9870129870129498,"d":"-0.99"}},{"v":52.79573001948764,"d":"52.7957"},{"$nulls":9},{"v":0.29970029970033457,"d":"0.30"},21.35716813083794]
[{"$f":"A380+Sheet2!G$11","v":{"v":-0.9790209790209419,"d":"-0.98"}},{"v":52.67349526433386,"d":"52.6735"},{"$nulls":9},{"v":0.30769230769234257,"d":"0.31"},21.381744336682996]
[{"$f":"A381+Sheet2!G$11","v":{"v":-0.9710289710289339,"d":"-0.97"}},{"v":52.55387112802255,"d":"52.5539"},{"$nulls":9},{"v":0.31568431568435057,"d":"0.32"},21.40575439362681]
[{"$f":"A382+Sheet2!G$11","v":{"v":-0.963036963036926,"d":"-0.96"}},{"v":52.43683035130637,"d":"52.4368"},{"$nulls":9},{"v":0.32367632367635857,"d":"0.32"},21.42920212022823]
[{"$f":"A383+Sheet2!G$11","v":{"v":-0.955044955044918,"d":"-0.96"}},{"v":52.32234577284973,"d":"52.3223"},{"$nulls":9},{"v":0.33166833166836657,"d":"0.33"},21.45209143295785]
[{"$f":"A384+Sheet2!G$11","v":{"v":-0.9470529470529101,"d":"-0.95"}},{"v":52.21039032922882,"d":"52.2104"},{"$nulls":9},{"v":0.33966033966037457,"d":"0.34"},21.474426346198047]
[{"$f":"A385+Sheet2!G$11","v":{"v":-0.9390609390609022,"d":"-0.94"}},{"v":52.10093705493159,"d":"52.1009"},{"$nulls":9},{"v":-2.7212787212786935,"d":"-2.72"},21.484863592259146]
[{"$f":"A386+Sheet2!G$11","v":{"v":-0.9310689310688942,"d":"-0.93"}},{"$f":"x^4-5*x^3+3*x+50","v":{"v":51.993959082357755,"d":"51.9940"}},{"$nulls":9},{"v":0.34765234765238257,"d":"0.35"},21.49621097224295]
[{"$f":"A387+Sheet2!G$11","v":{"v":-0.9230769230768863,"d":"-0.92"}},{"v":51.889429641818786,"d":"51.8894"},{"$nulls":9},{"v":0.35564435564439056,"d":"0.36"},21.517449521298456]
[{"$f":"A388+Sheet2!G$11","v":{"v":-0.9150849150848783,"d":"-0.92"}},{"v":51.787322061537935,"d":"51.7873"},{"$nulls":9},{"v":0.36363636363639856,"d":"0.36"},21.53814630148223]
[{"$f":"A389+Sheet2!G$11","v":{"v":-0.9070929070928704,"d":"-0.91"}},{"v":51.687609767650216,"d":"51.6876"},{"$nulls":9},{"v":0.37162837162840656,"d":"0.37"},21.558305718823696]
[{"$f":"A390+Sheet2!G$11","v":{"v":-0.8991008991008624,"d":"-0.90"}},{"v":51.590266284202386,"d":"51.5903"},{"$nulls":9},{"v":0.37962037962041456,"d":"0.38"},21.577932277264058]
[{"$f":"A391+Sheet2!G$11","v":{"v":-0.8911088911088545,"d":"-0.89"}},{"v":51.495265233153,"d":"51.4953"},{"$nulls":9},{"v":0.38761238761242256,"d":"0.39"},21.597030578656266]
[{"$f":"A392+Sheet2!G$11","v":{"v":-0.8831168831168466,"d":"-0.88"}},{"v":51.40258033437236,"d":"51.4026"},{"$nulls":9},{"v":0.39560439560443056,"d":"0.40"},21.615605322765045]
[{"$f":"A393+Sheet2!G$11","v":{"v":-0.8751248751248386,"d":"-0.88"}},{"v":51.31218540564253,"d":"51.3122"},{"$nulls":9},{"v":0.40359640359643856,"d":"0.40"},21.633661307266888]
[{"$f":"A394+Sheet2!G$11","v":{"v":-0.8671328671328307,"d":"-0.87"}},{"v":51.224054362657355,"d":"51.2241"},{"$nulls":9},{"v":0.41158841158844656,"d":"0.41"},21.651203427750044]
[{"$f":"A395+Sheet2!G$11","v":{"v":-0.8591408591408227,"d":"-0.86"}},{"v":51.13816121902242,"d":"51.1382"},{"$nulls":9},{"v":0.41958041958045456,"d":"0.42"},21.668236677714535]
[{"$f":"A396+Sheet2!G$11","v":{"v":-0.8511488511488148,"d":"-0.85"}},{"v":51.05448008625511,"d":"51.0545"},{"$nulls":9},{"v":0.42757242757246255,"d":"0.43"},21.68476614857214]
[{"$f":"A397+Sheet2!G$11","v":{"v":-0.8431568431568068,"d":"-0.84"}},{"v":50.97298517378454,"d":"50.9730"},{"$nulls":9},{"v":0.43556443556447055,"d":"0.44"},21.700797029646417]
[{"$f":"A398+Sheet2!G$11","v":{"v":-0.8351648351647989,"d":"-0.84"}},{"v":50.893650788951604,"d":"50.8937"},{"$nulls":9},{"v":0.44355644355647855,"d":"0.44"},21.716334608172673]
[{"$f":"A399+Sheet2!G$11","v":{"v":-0.827172827172791,"d":"-0.83"}},{"v":50.81645133700897,"d":"50.8165"},{"$nulls":9},{"v":0.45154845154848655,"d":"0.45"},21.73138426929799]
[{"$f":"A400+Sheet2!G$11","v":{"v":-0.819180819180783,"d":"-0.82"}},{"v":50.74136132112107,"d":"50.7414"},{"$nulls":9},{"v":0.45954045954049455,"d":"0.46"},21.74595149608121]
[{"$f":"A401+Sheet2!G$11","v":{"v":-0.8111888111887751,"d":"-0.81"}},{"v":50.66835534236407,"d":"50.6684"},{"$nulls":9},{"v":0.46753246753250255,"d":"0.47"},21.760041869492944]
[{"$f":"A402+Sheet2!G$11","v":{"v":-0.8031968031967671,"d":"-0.80"}},{"v":50.59740809972595,"d":"50.5974"},{"$nulls":9},{"v":0.47552447552451055,"d":"0.48"},21.773661068415567]
[{"$f":"A403+Sheet2!G$11","v":{"v":-0.7952047952047592,"d":"-0.80"}},{"v":50.52849439010642,"d":"50.5285"},{"$nulls":9},{"v":0.48351648351651855,"d":"0.48"},21.78681486964322]
[{"$f":"A404+Sheet2!G$11","v":{"v":-0.7872127872127512,"d":"-0.79"}},{"v":50.461589108316964,"d":"50.4616"},{"$nulls":9},{"v":0.49150849150852655,"d":"0.49"},21.799509147881803]
[{"$f":"A405+Sheet2!G$11","v":{"v":-0.7792207792207433,"d":"-0.78"}},{"v":50.39666724708084,"d":"50.3967"},{"$nulls":9},{"v":0.49950049950053454,"d":"0.50"},21.81174987574899]
[{"$f":"A406+Sheet2!G$11","v":{"v":-0.7712287712287353,"d":"-0.77"}},{"v":50.333703897033054,"d":"50.3337"},{"$nulls":9},{"v":0.5074925074925425,"d":"0.51"},21.823543123774215]
[{"$f":"A407+Sheet2!G$11","v":{"v":-0.7632367632367274,"d":"-0.76"}},{"v":50.2726742467204,"d":"50.2727"},{"$nulls":9},{"v":0.5154845154845504,"d":"0.52"},21.834895060398676]
[{"$f":"A408+Sheet2!G$11","v":{"v":-0.7552447552447195,"d":"-0.76"}},{"v":50.213553582601406,"d":"50.2136"},{"$nulls":9},{"v":0.5234765234765584,"d":"0.52"},21.84581195197534]
[{"$f":"A409+Sheet2!G$11","v":{"v":-0.7472527472527115,"d":"-0.75"}},{"v":50.1563172890464,"d":"50.1563"},{"$nulls":9},{"v":0.5314685314685663,"d":"0.53"},21.856300162768935]
[{"$f":"A410+Sheet2!G$11","v":{"v":-0.7392607392607036,"d":"-0.74"}},{"v":50.10094084833745,"d":"50.1009"},{"$nulls":9},{"v":-2.7292707292707017,"d":"-2.73"},21.866172058728846]
[{"$f":"A411+Sheet2!G$11","v":{"v":-0.7312687312686956,"d":"-0.73"}},{"v":50.0473998406684,"d":"50.0474"},{"$nulls":9},{"v":0.5394605394605743,"d":"0.54"},21.86636615495596]
[{"$f":"A412+Sheet2!G$11","v":{"v":-0.7232767232766877,"d":"-0.72"}},{"v":49.99566994414485,"d":"49.9957"},{"$nulls":9},{"v":0.5474525474525822,"d":"0.55"},21.876016488624668]
[{"$f":"A413+Sheet2!G$11","v":{"v":-0.7152847152846797,"d":"-0.72"}},{"v":49.94572693478418,"d":"49.9457"},{"$nulls":9},{"v":0.5554445554445901,"d":"0.56"},21.88525782177509]
[{"$f":"A414+Sheet2!G$11","v":{"v":-0.7072927072926718,"d":"-0.71"}},{"v":49.897546686515525,"d":"49.8975"},{"$nulls":9},{"v":0.5634365634365981,"d":"0.56"},21.894096910319018]
[{"$f":"A415+Sheet2!G$11","v":{"v":-0.6993006993006639,"d":"-0.70"}},{"v":49.85110517117978,"d":"49.8511"},{"$nulls":9},{"v":0.571428571428606,"d":"0.57"},21.902540608080002]
[{"$f":"A416+Sheet2!G$11","v":{"v":-0.6913086913086559,"d":"-0.69"}},{"v":49.806378458529615,"d":"49.8064"},{"$nulls":9},{"v":0.579420579420614,"d":"0.58"},21.910595866793365]
[{"$f":"A417+Sheet2!G$11","v":{"v":-0.683316683316648,"d":"-0.68"}},{"v":49.76334271622947,"d":"49.7633"},{"$nulls":9},{"v":0.5874125874126219,"d":"0.59"},21.918269736106193]
[{"$f":"A418+Sheet2!G$11","v":{"v":-0.67532467532464,"d":"-0.68"}},{"v":49.72197420985552,"d":"49.7220"},{"$nulls":9},{"v":0.5954045954046299,"d":"0.60"},21.92556936357734]
[{"$f":"A419+Sheet2!G$11","v":{"v":-0.6673326673326321,"d":"-0.67"}},{"v":49.68224930289575,"d":"49.6822"},{"$nulls":9},{"v":0.6033966033966378,"d":"0.60"},21.93250199467741]
[{"$f":"A420+Sheet2!G$11","v":{"v":-0.6593406593406241,"d":"-0.66"}},{"v":49.64414445674987,"d":"49.6441"},{"$nulls":9},{"v":0.6113886113886458,"d":"0.61"},21.939074972788795]
[{"$f":"A421+Sheet2!G$11","v":{"v":-0.6513486513486162,"d":"-0.65"}},{"v":49.60763623072939,"d":"49.6076"},{"$nulls":9},{"v":0.6193806193806537,"d":"0.62"},21.94529573920564]
[{"$f":"A422+Sheet2!G$11","v":{"v":-0.6433566433566082,"d":"-0.64"}},{"v":49.57270128205755,"d":"49.5727"},{"$nulls":9},{"v":0.6273726273726616,"d":"0.63"},21.951171833133852]
[{"$f":"A423+Sheet2!G$11","v":{"v":-0.6353646353646003,"d":"-0.64"}},{"v":49.53931636586938,"d":"49.5393"},{"$nulls":9},{"v":0.6353646353646696,"d":"0.64"},21.95671089169111]
[{"$f":"A424+Sheet2!G$11","v":{"v":-0.6273726273725924,"d":"-0.63"}},{"v":49.507458335211666,"d":"49.5075"},{"$nulls":9},{"v":0.6433566433566775,"d":"0.64"},21.96192064990685]
[{"$f":"A425+Sheet2!G$11","v":{"v":-0.6193806193805844,"d":"-0.62"}},{"v":49.47710414104296,"d":"49.4771"},{"$nulls":9},{"v":0.6513486513486855,"d":"0.65"},21.966808940722284]
[{"$f":"A426+Sheet2!G$11","v":{"v":-0.6113886113885765,"d":"-0.61"}},{"v":49.44823083223358,"d":"49.4482"},{"$nulls":9},{"v":0.6593406593406934,"d":"0.66"},21.971383694990383]
[{"$f":"A427+Sheet2!G$11","v":{"v":-0.6033966033965685,"d":"-0.60"}},{"v":49.4208155555656,"d":"49.4208"},{"$nulls":9},{"v":0.6673326673327014,"d":"0.67"},21.97565294147588]
[{"$f":"A428+Sheet2!G$11","v":{"v":-0.5954045954045606,"d":"-0.60"}},{"v":49.39483555573289,"d":"49.3948"},{"$nulls":9},{"v":0.6753246753247093,"d":"0.68"},21.979624806855277]
[{"$f":"A429+Sheet2!G$11","v":{"v":-0.5874125874125526,"d":"-0.59"}},{"v":49.37026817534104,"d":"49.3703"},{"$nulls":9},{"v":0.6833166833167172,"d":"0.68"},21.983307515716838]
[{"$f":"A430+Sheet2!G$11","v":{"v":-0.5794205794205447,"d":"-0.58"}},{"v":49.347090854907435,"d":"49.3471"},{"$nulls":9},{"v":0.6913086913087252,"d":"0.69"},21.986709390560605]
[{"$f":"A431+Sheet2!G$11","v":{"v":-0.5714285714285368,"d":"-0.57"}},{"v":49.325281132861214,"d":"49.3253"},{"$nulls":9},{"v":0.6993006993007331,"d":"0.70"},21.989838851798364]
[{"$f":"A432+Sheet2!G$11","v":{"v":-0.5634365634365288,"d":"-0.56"}},{"v":49.3048166455433,"d":"49.3048"},{"$nulls":9},{"v":0.7072927072927411,"d":"0.71"},21.99270441775368]
[{"$f":"A433+Sheet2!G$11","v":{"v":-0.5554445554445209,"d":"-0.56"}},{"v":49.285675127206346,"d":"49.2857"},{"$nulls":9},{"v":0.715284715284749,"d":"0.72"},21.99531470466188]
[{"$f":"A434+Sheet2!G$11","v":{"v":-0.5474525474525129,"d":"-0.55"}},{"v":49.2678344100148,"d":"49.2678"},{"$nulls":9},{"v":0.723276723276757,"d":"0.72"},21.997678426670056]
[{"$f":"A435+Sheet2!G$11","v":{"v":-0.539460539460505,"d":"-0.54"}},{"v":49.25127242404486,"d":"49.2513"},{"$nulls":9},{"v":0.7312687312687649,"d":"0.73"},21.999804395837067]
[{"$f":"A436+Sheet2!G$11","v":{"v":-0.531468531468497,"d":"-0.53"}},{"v":49.23596719728451,"d":"49.2360"},{"$nulls":9},{"v":1.002997002997035,"d":"1.00"},22.000009089784285]
[{"$f":"A437+Sheet2!G$11","v":{"v":-0.5234765234764891,"d":"-0.52"}},{"v":49.22189685563347,"d":"49.2219"},{"$nulls":9},{"v":0.995004995005027,"d":"1.00"},22.00002445219441]
[{"$f":"A438+Sheet2!G$11","v":{"v":-0.5154845154844812,"d":"-0.52"}},{"v":49.20903962290323,"d":"49.2090"},{"$nulls":9},{"v":1.010989010989043,"d":"1.01"},22.00012608100499]
[{"$f":"A439+Sheet2!G$11","v":{"v":-0.5074925074924732,"d":"-0.51"}},{"v":49.19737382081706,"d":"49.1974"},{"$nulls":9},{"v":0.9870129870130191,"d":"0.99"},22.000159929264726]
[{"$f":"A440+Sheet2!G$11","v":{"v":-0.4995004995004652,"d":"-0.50"}},{"v":49.186877869010004,"d":"49.1869"},{"$nulls":9},{"v":1.0189810189810509,"d":"1.02"},22.000387762738917]
[{"$f":"A441+Sheet2!G$11","v":{"v":-0.4915084915084572,"d":"-0.49"}},{"v":49.17753028502884,"d":"49.1775"},{"$nulls":9},{"v":0.9790209790210112,"d":"0.98"},22.00040337993636]
[{"$f":"A442+Sheet2!G$11","v":{"v":-0.4835164835164492,"d":"-0.48"}},{"v":49.16930968433213,"d":"49.1693"},{"$nulls":9},{"v":0.9710289710290032,"d":"0.97"},22.00074276106221]
[{"$f":"A443+Sheet2!G$11","v":{"v":-0.4755244755244412,"d":"-0.48"}},{"v":49.162194780290186,"d":"49.1622"},{"$nulls":9},{"v":1.0269730269730588,"d":"1.03"},22.000806569780234]
[{"$f":"A444+Sheet2!G$11","v":{"v":-0.4675324675324332,"d":"-0.47"}},{"v":49.15616438418512,"d":"49.1562"},{"$nulls":9},{"v":0.9630369630369953,"d":"0.96"},22.00116612740694]
[{"$f":"A445+Sheet2!G$11","v":{"v":-0.4595404595404252,"d":"-0.46"}},{"v":49.151197405210766,"d":"49.1512"},{"$nulls":9},{"v":1.0349650349650668,"d":"1.03"},22.00139503483487]
[{"$f":"A446+Sheet2!G$11","v":{"v":-0.4515484515484172,"d":"-0.45"}},{"v":49.14727285047275,"d":"49.1473"},{"$nulls":9},{"v":0.9550449550449873,"d":"0.96"},22.00166163164697]
[{"$f":"A447+Sheet2!G$11","v":{"v":-0.4435564435564092,"d":"-0.44"}},{"v":49.14436982498846,"d":"49.1444"},{"$nulls":9},{"v":0.7392607392607728,"d":"0.74"},22.001701522133533]
[{"$f":"A448+Sheet2!G$11","v":{"v":-0.4355644355644012,"d":"-0.44"}},{"v":49.142467531687046,"d":"49.1425"},{"$nulls":9},{"v":1.0429570429570747,"d":"1.04"},22.002165788520525]
[{"$f":"A449+Sheet2!G$11","v":{"v":-0.4275724275723932,"d":"-0.43"}},{"v":49.141545271409406,"d":"49.1415"},{"$nulls":9},{"v":0.9470529470529794,"d":"0.95"},22.002217524370497]
[{"$f":"A450+Sheet2!G$11","v":{"v":-0.4195804195803852,"d":"-0.42"}},{"$f":"x^4-5*x^3+3*x+50","v":{"v":49.14158244290824,"d":"49.1416"}},{"$nulls":9},{"v":0.9390609390609714,"d":"0.94"},22.00282215407747]
[{"$f":"A451+Sheet2!G$11","v":{"v":-0.4115884115883772,"d":"-0.41"}},{"v":49.14255854284798,"d":"49.1426"},{"$nulls":9},{"v":1.0509490509490826,"d":"1.05"},22.00313155936665]
[{"$f":"A452+Sheet2!G$11","v":{"v":-0.4035964035963692,"d":"-0.40"}},{"v":49.14445316580484,"d":"49.1445"},{"$nulls":9},{"v":0.7472527472527808,"d":"0.75"},22.00337881344184]
[{"$f":"A453+Sheet2!G$11","v":{"v":-0.3956043956043612,"d":"-0.40"}},{"v":49.14724600426679,"d":"49.1472"},{"$nulls":9},{"v":0.9310689310689635,"d":"0.93"},22.003463967179616]
[{"$f":"A454+Sheet2!G$11","v":{"v":-0.3876123876123532,"d":"-0.39"}},{"v":49.15091684863357,"d":"49.1509"},{"$nulls":9},{"v":0.9230769230769555,"d":"0.92"},22.00413150800042]
[{"$f":"A455+Sheet2!G$11","v":{"v":-0.3796203796203452,"d":"-0.38"}},{"v":49.1554455872167,"d":"49.1554"},{"$nulls":9},{"v":1.0589410589410906,"d":"1.06"},22.00430517381448]
[{"$f":"A456+Sheet2!G$11","v":{"v":-0.37162837162833723,"d":"-0.37"}},{"v":49.16081220623942,"d":"49.1608"},{"$nulls":9},{"v":0.9150849150849476,"d":"0.92"},22.004813418775125]
[{"$f":"A457+Sheet2!G$11","v":{"v":-0.36363636363632923,"d":"-0.36"}},{"v":49.16699678983679,"d":"49.1670"},{"$nulls":9},{"v":0.7552447552447887,"d":"0.76"},22.00484537555614]
[{"$f":"A458+Sheet2!G$11","v":{"v":-0.35564435564432123,"d":"-0.36"}},{"v":49.173979520055596,"d":"49.1740"},{"$nulls":9},{"v":0.9070929070929397,"d":"0.91"},22.005498439650758]
[{"$f":"A459+Sheet2!G$11","v":{"v":-0.34765234765231323,"d":"-0.35"}},{"v":49.18174067685441,"d":"49.1817"},{"$nulls":9},{"v":1.0669330669330985,"d":"1.07"},22.005699556216996]
[{"$f":"A460+Sheet2!G$11","v":{"v":-0.33966033966030523,"d":"-0.34"}},{"v":49.19026063810356,"d":"49.1903"},{"$nulls":9},{"v":0.7632367632367967,"d":"0.76"},22.006110412182355]
[{"$f":"A461+Sheet2!G$11","v":{"v":-0.33166833166829723,"d":"-0.33"}},{"v":49.19951987958515,"d":"49.1995"},{"$nulls":9},{"v":0.8991008991009317,"d":"0.90"},22.006175408686094]
[{"$f":"A462+Sheet2!G$11","v":{"v":-0.32367632367628923,"d":"-0.32"}},{"v":49.20949897499302,"d":"49.2095"},{"$nulls":9},{"v":0.8911088911089238,"d":"0.89"},22.006833261851682]
[{"$f":"A463+Sheet2!G$11","v":{"v":-0.31568431568428124,"d":"-0.32"}},{"v":49.22017859593281,"d":"49.2202"},{"$nulls":9},{"v":0.7712287712288046,"d":"0.77"},22.00718322493816]
[{"$f":"A464+Sheet2!G$11","v":{"v":-0.30769230769227324,"d":"-0.31"}},{"v":49.2315395119219,"d":"49.2315"},{"$nulls":9},{"v":1.0749250749251065,"d":"1.07"},22.00732772883896]
[{"$f":"A465+Sheet2!G$11","v":{"v":-0.29970029970026524,"d":"-0.30"}},{"v":49.24356259038946,"d":"49.2436"},{"$nulls":9},{"v":0.8831168831169158,"d":"0.88"},22.007461033029827]
[{"$f":"A466+Sheet2!G$11","v":{"v":-0.29170829170825724,"d":"-0.29"}},{"v":49.256228796676396,"d":"49.2562"},{"$nulls":9},{"v":0.8751248751249079,"d":"0.88"},22.008047854014613]
[{"$f":"A467+Sheet2!G$11","v":{"v":-0.28371628371624924,"d":"-0.28"}},{"v":49.269519194035404,"d":"49.2695"},{"$nulls":9},{"v":0.7792207792208126,"d":"0.78"},22.00807321335301]
[{"$f":"A468+Sheet2!G$11","v":{"v":-0.27572427572424124,"d":"-0.28"}},{"v":49.28341494363093,"d":"49.2834"},{"$nulls":9},{"v":0.8671328671328999,"d":"0.87"},22.008582954511883]
[{"$f":"A469+Sheet2!G$11","v":{"v":-0.26773226773223324,"d":"-0.27"}},{"v":49.29789730453919,"d":"49.2979"},{"$nulls":9},{"v":0.7872127872128205,"d":"0.79"},22.008789874868114]
[{"$f":"A470+Sheet2!G$11","v":{"v":-0.25974025974022524,"d":"-0.26"}},{"v":49.312947633748166,"d":"49.3129"},{"$nulls":9},{"v":0.859140859140892,"d":"0.86"},22.00905566213924]
[{"$f":"A471+Sheet2!G$11","v":{"v":-0.25174825174821724,"d":"-0.25"}},{"v":49.3285473861576,"d":"49.3285"},{"$nulls":9},{"v":1.0829170829171144,"d":"1.08"},22.009202811856888]
[{"$f":"A472+Sheet2!G$11","v":{"v":-0.24375624375620925,"d":"-0.24"}},{"v":49.34467811457901,"d":"49.3447"},{"$nulls":9},{"v":0.7952047952048285,"d":"0.80"},22.009342804836447]
[{"$f":"A473+Sheet2!G$11","v":{"v":-0.23576423576420125,"d":"-0.24"}},{"v":49.361321469735664,"d":"49.3613"},{"$nulls":9},{"v":0.8511488511488841,"d":"0.85"},22.00945540242605]
[{"$f":"A474+Sheet2!G$11","v":{"v":-0.22777222777219325,"d":"-0.23"}},{"v":49.37845920026261,"d":"49.3785"},{"$nulls":9},{"v":0.8031968031968364,"d":"0.80"},22.009741696522756]
[{"$f":"A475+Sheet2!G$11","v":{"v":-0.21978021978018525,"d":"-0.22"}},{"v":49.39607315270665,"d":"49.3961"},{"$nulls":9},{"v":0.8431568431568761,"d":"0.84"},22.009771698813456]
[{"$f":"A476+Sheet2!G$11","v":{"v":-0.21178821178817725,"d":"-0.21"}},{"v":49.41414527152635,"d":"49.4141"},{"$nulls":9},{"v":0.8351648351648682,"d":"0.84"},22.00999417265436]
[{"$f":"A477+Sheet2!G$11","v":{"v":-0.20379620379616925,"d":"-0.20"}},{"v":49.43265759909205,"d":"49.4327"},{"$nulls":9},{"v":0.8111888111888443,"d":"0.81"},22.009996341103545]
[{"$f":"A478+Sheet2!G$11","v":{"v":-0.19580419580416125,"d":"-0.20"}},{"v":49.45159227568586,"d":"49.4516"},{"$nulls":9},{"v":0.8271728271728602,"d":"0.83"},22.010112543213427]
[{"$f":"A479+Sheet2!G$11","v":{"v":-0.18781218781215325,"d":"-0.19"}},{"v":49.47093153950164,"d":"49.4709"},{"$nulls":9},{"v":0.8191808191808523,"d":"0.82"},22.010116627667088]
[{"$f":"A480+Sheet2!G$11","v":{"v":-0.17982017982014525,"d":"-0.18"}},{"v":49.490657726645026,"d":"49.4907"},{"$nulls":9},{"v":1.0909090909091224,"d":"1.09"},22.01133802335907]
[{"$f":"A481+Sheet2!G$11","v":{"v":-0.17182817182813725,"d":"-0.17"}},{"v":49.5107532711334,"d":"49.5108"},{"$nulls":9},{"v":1.0989010989011303,"d":"1.10"},22.01374667934555]
[{"$f":"A482+Sheet2!G$11","v":{"v":-0.16383616383612926,"d":"-0.16"}},{"v":49.531200704895944,"d":"49.5312"},{"$nulls":9},{"v":1.1068931068931382,"d":"1.11"},22.01644219372815]
[{"$f":"A483+Sheet2!G$11","v":{"v":-0.15584415584412126,"d":"-0.16"}},{"v":49.551982657773564,"d":"49.5520"},{"$nulls":9},{"v":1.1148851148851462,"d":"1.11"},22.01943807833045]
[{"$f":"A484+Sheet2!G$11","v":{"v":-0.14785214785211326,"d":"-0.15"}},{"v":49.57308185751897,"d":"49.5731"},{"$nulls":9},{"v":1.1228771228771541,"d":"1.12"},22.02274794288779]
[{"$f":"A485+Sheet2!G$11","v":{"v":-0.13986013986010526,"d":"-0.14"}},{"v":49.59448112979661,"d":"49.5945"},{"$nulls":9},{"v":1.130869130869162,"d":"1.13"},22.026385495047286]
[{"$f":"A486+Sheet2!G$11","v":{"v":-0.13186813186809726,"d":"-0.13"}},{"v":49.61616339818271,"d":"49.6162"},{"$nulls":9},{"v":1.13886113886117,"d":"1.14"},22.030364540367813]
[{"$f":"A487+Sheet2!G$11","v":{"v":-0.12387612387608926,"d":"-0.12"}},{"v":49.638111684165246,"d":"49.6381"},{"$nulls":9},{"v":1.146853146853178,"d":"1.15"},22.034698982320013]
[{"$f":"A488+Sheet2!G$11","v":{"v":-0.11588411588408126,"d":"-0.12"}},{"v":49.66030910714398,"d":"49.6603"},{"$nulls":9},{"v":1.154845154845186,"d":"1.15"},22.03940282228629]
[{"$f":"A489+Sheet2!G$11","v":{"v":-0.10789210789207326,"d":"-0.11"}},{"v":49.68273888443043,"d":"49.6827"},{"$nulls":9},{"v":1.1628371628371938,"d":"1.16"},22.044490159560816]
[{"$f":"A490+Sheet2!G$11","v":{"v":-0.09990009990006526,"d":"-0.10"}},{"v":49.70538433124788,"d":"49.7054"},{"$nulls":9},{"v":1.1708291708292018,"d":"1.17"},22.049975191349525]
[{"$f":"A491+Sheet2!G$11","v":{"v":-0.09190809190805727,"d":"-0.09"}},{"v":49.72822886073136,"d":"49.7282"},{"$nulls":9},{"v":1.1788211788212097,"d":"1.18"},22.055872212770122]
[{"$f":"A492+Sheet2!G$11","v":{"v":-0.08391608391604927,"d":"-0.08"}},{"v":49.75125598392771,"d":"49.7513"},{"$nulls":9},{"v":1.1868131868132177,"d":"1.19"},22.062195616852073]
[{"$f":"A493+Sheet2!G$11","v":{"v":-0.07592407592404127,"d":"-0.08"}},{"v":49.774449309795486,"d":"49.7744"},{"$nulls":9},{"v":1.1948051948052256,"d":"1.19"},22.068959894536604]
[{"$f":"A494+Sheet2!G$11","v":{"v":-0.06793206793203327,"d":"-0.07"}},{"v":49.79779254520504,"d":"49.7978"},{"$nulls":9},{"v":1.2027972027972336,"d":"1.20"},22.07617963467672]
[{"$f":"A495+Sheet2!G$11","v":{"v":-0.05994005994002528,"d":"-0.06"}},{"v":49.82126949493848,"d":"49.8213"},{"$nulls":9},{"v":1.2107892107892415,"d":"1.21"},22.083869524037176]
[{"$f":"A496+Sheet2!G$11","v":{"v":-0.051948051948017285,"d":"-0.05"}},{"v":49.84486406168967,"d":"49.8449"},{"$nulls":9},{"v":1.2187812187812495,"d":"1.22"},22.0920443472945]
[{"$f":"A497+Sheet2!G$11","v":{"v":-0.04395604395600929,"d":"-0.04"}},{"v":49.86856024606426,"d":"49.8686"},{"$nulls":9},{"v":1.2267732267732574,"d":"1.23"},22.100718987036988]
[{"$f":"A498+Sheet2!G$11","v":{"v":-0.0359640359640013,"d":"-0.04"}},{"v":49.892342146579644,"d":"49.8923"},{"$nulls":9},{"v":1.2347652347652653,"d":"1.23"},22.109908423764693]
[{"$f":"A499+Sheet2!G$11","v":{"v":-0.02797202797199331,"d":"-0.03"}},{"v":49.916193959664994,"d":"49.9162"},{"$nulls":9},{"v":1.2427572427572733,"d":"1.24"},22.119627735889434]
[{"$f":"A500+Sheet2!G$11","v":{"v":-0.019980019979985317,"d":"-0.02"}},{"v":49.94009997966124,"d":"49.9401"},{"$nulls":9},{"v":1.2507492507492812,"d":"1.25"},22.129892099734803]
[{"$f":"A501+Sheet2!G$11","v":{"v":-0.011988011987977325,"d":"-0.01"}},{"v":49.96404459882108,"d":"49.9640"},{"$nulls":9},{"v":1.2587412587412892,"d":"1.26"},22.14071678953615]
[{"$f":"A502+Sheet2!G$11","v":{"v":-0.003996003995969333,"d":"-0.00"}},{"v":49.988012307308985,"d":"49.9880"},{"$nulls":9},{"v":1.2667332667332971,"d":"1.27"},22.152117177440598]
[{"$f":"A503+Sheet2!G$11","v":{"v":0.003996003996038659,"d":"0.00"}},{"v":50.01198769320118,"d":"50.0120"},{"$nulls":9},{"v":1.274725274725305,"d":"1.27"},22.16410873350702]
[{"$f":"A504+Sheet2!G$11","v":{"v":0.011988011988046651,"d":"0.01"}},{"v":50.03595544248565,"d":"50.0360"},{"$nulls":9},{"v":1.282717282717313,"d":"1.28"},22.176707025706065]
[{"$f":"A505+Sheet2!G$11","v":{"v":0.019980019980054643,"d":"0.02"}},{"v":50.05990033906216,"d":"50.0599"},{"$nulls":9},{"v":1.290709290709321,"d":"1.29"},22.18992771992015]
[{"$f":"A506+Sheet2!G$11","v":{"v":0.027972027972062635,"d":"0.03"}},{"v":50.083807264742234,"d":"50.0838"},{"$nulls":9},{"v":1.2987012987013289,"d":"1.30"},22.20378657994345]
[{"$f":"A507+Sheet2!G$11","v":{"v":0.03596403596407063,"d":"0.04"}},{"v":50.10766119924916,"d":"50.1077"},{"$nulls":9},{"v":1.3066933066933368,"d":"1.31"},22.218299467481906]
[{"$f":"A508+Sheet2!G$11","v":{"v":0.04395604395607862,"d":"0.04"}},{"v":50.13144722021799,"d":"50.1314"},{"$nulls":9},{"v":1.3146853146853448,"d":"1.31"},22.23348234215323]
[{"$f":"A509+Sheet2!G$11","v":{"v":0.05194805194808661,"d":"0.05"}},{"v":50.15515050319554,"d":"50.1552"},{"$nulls":9},{"v":1.3226773226773527,"d":"1.32"},22.24935126148689]
[{"$f":"A510+Sheet2!G$11","v":{"v":0.0599400599400946,"d":"0.06"}},{"v":50.17875632164041,"d":"50.1788"},{"$nulls":9},{"v":-2.73726273726271,"d":"-2.74"},22.25255115661281]
[{"$f":"A511+Sheet2!G$11","v":{"v":0.0679320679321026,"d":"0.07"}},{"v":50.20225004692293,"d":"50.2023"},{"$nulls":9},{"v":1.3306693306693607,"d":"1.33"},22.265922380924124]
[{"$f":"A512+Sheet2!G$11","v":{"v":0.0759240759241106,"d":"0.08"}},{"v":50.22561714832521,"d":"50.2256"},{"$nulls":9},{"v":1.3386613386613686,"d":"1.34"},22.28321195381794]
[{"$f":"A513+Sheet2!G$11","v":{"v":0.0839160839161186,"d":"0.08"}},{"v":50.248843193041154,"d":"50.2488"},{"$nulls":9},{"v":1.3466533466533765,"d":"1.35"},22.301236331433103]
[{"$f":"A514+Sheet2!G$11","v":{"v":0.0919080919081266,"d":"0.09"}},{"$f":"x^4-5*x^3+3*x+50","v":{"v":50.27191384617639,"d":"50.2719"}},{"$nulls":9},{"v":1.3546453546453845,"d":"1.35"},22.32001196294614]
[{"$f":"A515+Sheet2!G$11","v":{"v":0.0999000999001346,"d":"0.10"}},{"v":50.294814870748326,"d":"50.2948"},{"$nulls":9},{"v":1.3626373626373924,"d":"1.36"},22.33955539544536]
[{"$f":"A516+Sheet2!G$11","v":{"v":0.1078921078921426,"d":"0.11"}},{"v":50.31753212768614,"d":"50.3175"},{"$nulls":9},{"v":1.3706293706294004,"d":"1.37"},22.35988327393082]
[{"$f":"A517+Sheet2!G$11","v":{"v":0.1158841158841506,"d":"0.12"}},{"v":50.34005157583077,"d":"50.3401"},{"$nulls":9},{"v":1.3786213786214083,"d":"1.38"},22.381012341314346]
[{"$f":"A518+Sheet2!G$11","v":{"v":0.1238761238761586,"d":"0.12"}},{"v":50.36235927193493,"d":"50.3624"},{"$nulls":9},{"v":1.3866133866134163,"d":"1.39"},22.402959438419533]
[{"$f":"A519+Sheet2!G$11","v":{"v":0.1318681318681666,"d":"0.13"}},{"v":50.38444137066307,"d":"50.3844"},{"$nulls":9},{"v":1.3946053946054242,"d":"1.39"},22.425741503981744]
[{"$f":"A520+Sheet2!G$11","v":{"v":0.1398601398601746,"d":"0.14"}},{"v":50.40628412459144,"d":"50.4063"},{"$nulls":9},{"v":1.4025974025974322,"d":"1.40"},22.449375574648098]
[{"$f":"A521+Sheet2!G$11","v":{"v":0.1478521478521826,"d":"0.15"}},{"v":50.42787388420803,"d":"50.4279"},{"$nulls":9},{"v":1.41058941058944,"d":"1.41"},22.473878784977483]
[{"$f":"A522+Sheet2!G$11","v":{"v":0.1558441558441906,"d":"0.16"}},{"v":50.44919709791262,"d":"50.4492"},{"$nulls":9},{"v":1.418581418581448,"d":"1.42"},22.499268367440557]
[{"$f":"A523+Sheet2!G$11","v":{"v":0.1638361638361986,"d":"0.16"}},{"v":50.47024031201672,"d":"50.4702"},{"$nulls":9},{"v":1.426573426573456,"d":"1.43"},22.525561652419732]
[{"$f":"A524+Sheet2!G$11","v":{"v":0.1718281718282066,"d":"0.17"}},{"v":50.490990170743636,"d":"50.4910"},{"$nulls":9},{"v":1.434565434565464,"d":"1.43"},22.552776068209198]
[{"$f":"A525+Sheet2!G$11","v":{"v":0.1798201798202146,"d":"0.18"}},{"v":50.511433416228435,"d":"50.5114"},{"$nulls":9},{"v":1.4425574425574719,"d":"1.44"},22.5809291410149]
[{"$f":"A526+Sheet2!G$11","v":{"v":0.1878121878122226,"d":"0.19"}},{"v":50.531556888517926,"d":"50.5316"},{"$nulls":9},{"v":1.4505494505494798,"d":"1.45"},22.61003849495456]
[{"$f":"A527+Sheet2!G$11","v":{"v":0.19580419580423059,"d":"0.20"}},{"v":50.551347525570705,"d":"50.5513"},{"$nulls":9},{"v":1.4585414585414878,"d":"1.46"},22.640121852057643]
[{"$f":"A528+Sheet2!G$11","v":{"v":0.20379620379623858,"d":"0.20"}},{"v":50.570792363257134,"d":"50.5708"},{"$nulls":9},{"v":-2.745254745254718,"d":"-2.75"},22.644034371734705]
[{"$f":"A529+Sheet2!G$11","v":{"v":0.21178821178824658,"d":"0.21"}},{"v":50.58987853535933,"d":"50.5899"},{"$nulls":9},{"v":1.4665334665334957,"d":"1.47"},22.671197032265404]
[{"$f":"A530+Sheet2!G$11","v":{"v":0.21978021978025458,"d":"0.22"}},{"v":50.608593273571174,"d":"50.6086"},{"$nulls":9},{"v":1.4745254745255036,"d":"1.47"},22.703281953430846]
[{"$f":"A531+Sheet2!G$11","v":{"v":0.22777222777226258,"d":"0.23"}},{"v":50.626923907498316,"d":"50.6269"},{"$nulls":9},{"v":1.4825174825175116,"d":"1.48"},22.736394631318745]
[{"$f":"A532+Sheet2!G$11","v":{"v":0.23576423576427058,"d":"0.24"}},{"v":50.64485786465818,"d":"50.6449"},{"$nulls":9},{"v":1.4905094905095195,"d":"1.49"},22.770553179605642]
[{"$f":"A533+Sheet2!G$11","v":{"v":0.24375624375627858,"d":"0.24"}},{"v":50.66238267047994,"d":"50.6624"},{"$nulls":9},{"v":1.4985014985015275,"d":"1.50"},22.805775809879844]
[{"$f":"A534+Sheet2!G$11","v":{"v":0.2517482517482866,"d":"0.25"}},{"v":50.679485948304546,"d":"50.6795"},{"$nulls":9},{"v":1.5064935064935354,"d":"1.51"},22.84208083164141]
[{"$f":"A535+Sheet2!G$11","v":{"v":0.2597402597402946,"d":"0.26"}},{"v":50.6961554193847,"d":"50.6962"},{"$nulls":9},{"v":1.5144855144855434,"d":"1.51"},22.879486652302187]
[{"$f":"A536+Sheet2!G$11","v":{"v":0.2677322677323026,"d":"0.27"}},{"v":50.712378902884886,"d":"50.7124"},{"$nulls":9},{"v":1.5224775224775513,"d":"1.52"},22.91801177718577]
[{"$f":"A537+Sheet2!G$11","v":{"v":0.2757242757243106,"d":"0.28"}},{"v":50.728144315881345,"d":"50.7281"},{"$nulls":9},{"v":1.5304695304695592,"d":"1.53"},22.95767480952752]
[{"$f":"A538+Sheet2!G$11","v":{"v":0.2837162837163186,"d":"0.28"}},{"v":50.743439673362076,"d":"50.7434"},{"$nulls":9},{"v":1.5384615384615672,"d":"1.54"},22.998494450474574]
[{"$f":"A539+Sheet2!G$11","v":{"v":0.2917082917083266,"d":"0.29"}},{"v":50.75825308822686,"d":"50.7583"},{"$nulls":9},{"v":1.5464535464535751,"d":"1.55"},23.04048949908582]
[{"$f":"A540+Sheet2!G$11","v":{"v":0.29970029970033457,"d":"0.30"}},{"v":50.77257277128722,"d":"50.7726"},{"$nulls":9},{"v":-2.753246753246726,"d":"-2.75"},23.04065528782994]
[{"$f":"A541+Sheet2!G$11","v":{"v":0.30769230769234257,"d":"0.31"}},{"v":50.78638703126647,"d":"50.7864"},{"$nulls":9},{"v":1.554445554445583,"d":"1.55"},23.083678852331914]
[{"$f":"A542+Sheet2!G$11","v":{"v":0.31568431568435057,"d":"0.32"}},{"v":50.799684274799674,"d":"50.7997"},{"$nulls":9},{"v":1.562437562437591,"d":"1.56"},23.128081505095295]
[{"$f":"A543+Sheet2!G$11","v":{"v":0.32367632367635857,"d":"0.32"}},{"v":50.81245300643366,"d":"50.8125"},{"$nulls":9},{"v":1.570429570429599,"d":"1.57"},23.17371655017014]
[{"$f":"A544+Sheet2!G$11","v":{"v":0.33166833166836657,"d":"0.33"}},{"v":50.82468182862702,"d":"50.8247"},{"$nulls":9},{"v":1.578421578421607,"d":"1.58"},23.22060317826242]
[{"$f":"A545+Sheet2!G$11","v":{"v":0.33966033966037457,"d":"0.34"}},{"v":50.836359441750126,"d":"50.8364"},{"$nulls":9},{"v":1.5864135864136149,"d":"1.59"},23.268760677989835]
[{"$f":"A546+Sheet2!G$11","v":{"v":0.34765234765238257,"d":"0.35"}},{"v":50.847474644085096,"d":"50.8475"},{"$nulls":9},{"v":1.5944055944056228,"d":"1.59"},23.318208435881886]
[{"$f":"A547+Sheet2!G$11","v":{"v":0.35564435564439056,"d":"0.36"}},{"v":50.85801633182583,"d":"50.8580"},{"$nulls":9},{"v":1.6023976023976307,"d":"1.60"},23.368965936379812]
[{"$f":"A548+Sheet2!G$11","v":{"v":0.36363636363639856,"d":"0.36"}},{"v":50.867973499077976,"d":"50.8680"},{"$nulls":9},{"v":1.6103896103896387,"d":"1.61"},23.421052761836638]
[{"$f":"A549+Sheet2!G$11","v":{"v":0.37162837162840656,"d":"0.37"}},{"v":50.87733523785896,"d":"50.8773"},{"$nulls":9},{"v":-2.7612387612387344,"d":"-2.76"},23.442447586545697]
[{"$f":"A550+Sheet2!G$11","v":{"v":0.37962037962041456,"d":"0.38"}},{"v":50.88609073809797,"d":"50.8861"},{"$nulls":9},{"v":1.6183816183816466,"d":"1.62"},23.47448859251714]
[{"$f":"A551+Sheet2!G$11","v":{"v":0.38761238761242256,"d":"0.39"}},{"v":50.89422928763595,"d":"50.8942"},{"$nulls":9},{"v":1.6263736263736546,"d":"1.63"},23.529293206597863]
[{"$f":"A552+Sheet2!G$11","v":{"v":0.39560439560443056,"d":"0.40"}},{"v":50.90174027222563,"d":"50.9017"},{"$nulls":9},{"v":1.6343656343656625,"d":"1.63"},23.58548648016712]
[{"$f":"A553+Sheet2!G$11","v":{"v":0.40359640359643856,"d":"0.40"}},{"v":50.908613175531485,"d":"50.9086"},{"$nulls":9},{"v":1.6423576423576705,"d":"1.64"},23.643088387224985]
[{"$f":"A554+Sheet2!G$11","v":{"v":0.41158841158844656,"d":"0.41"}},{"v":50.91483757912977,"d":"50.9148"},{"$nulls":9},{"v":1.6503496503496784,"d":"1.65"},23.7021189996833]
[{"$f":"A555+Sheet2!G$11","v":{"v":0.41958041958045456,"d":"0.42"}},{"v":50.92040316250848,"d":"50.9204"},{"$nulls":9},{"v":1.6583416583416863,"d":"1.66"},23.762598487365672]
[{"$f":"A556+Sheet2!G$11","v":{"v":0.42757242757246255,"d":"0.43"}},{"v":50.92529970306741,"d":"50.9253"},{"$nulls":9},{"v":1.6663336663336943,"d":"1.67"},23.82454711800747]
[{"$f":"A557+Sheet2!G$11","v":{"v":0.43556443556447055,"d":"0.44"}},{"v":50.92951707611809,"d":"50.9295"},{"$nulls":9},{"v":-2.7692307692307425,"d":"-2.77"},23.849445047440938]
[{"$f":"A558+Sheet2!G$11","v":{"v":0.44355644355647855,"d":"0.44"}},{"v":50.93304525488384,"d":"50.9330"},{"$nulls":9},{"v":1.6743256743257022,"d":"1.67"},23.887985257255828]
[{"$f":"A559+Sheet2!G$11","v":{"v":0.45154845154848655,"d":"0.45"}},{"v":50.93587431049971,"d":"50.9359"},{"$nulls":9},{"v":1.6823176823177102,"d":"1.68"},23.952933368669655]
[{"$f":"A560+Sheet2!G$11","v":{"v":0.45954045954049455,"d":"0.46"}},{"v":50.93799441201257,"d":"50.9380"},{"$nulls":9},{"v":1.6903096903097181,"d":"1.69"},24.01941201371961]
[{"$f":"A561+Sheet2!G$11","v":{"v":0.46753246753250255,"d":"0.47"}},{"v":50.939395826381,"d":"50.9394"},{"$nulls":9},{"v":1.698301698301726,"d":"1.70"},24.08744185178812]
[{"$f":"A562+Sheet2!G$11","v":{"v":0.47552447552451055,"d":"0.48"}},{"v":50.940068918475376,"d":"50.9401"},{"$nulls":9},{"v":1.706293706293734,"d":"1.71"},24.157043640169395]
[{"$f":"A563+Sheet2!G$11","v":{"v":0.48351648351651855,"d":"0.48"}},{"v":50.94000415107782,"d":"50.9400"},{"$nulls":9},{"v":1.714285714285742,"d":"1.71"},24.228238234069387]
[{"$f":"A564+Sheet2!G$11","v":{"v":0.49150849150852655,"d":"0.49"}},{"v":50.93919208488225,"d":"50.9392"},{"$nulls":9},{"v":-2.7772227772227507,"d":"-2.78"},24.261681547986395]
[{"$f":"A565+Sheet2!G$11","v":{"v":0.49950049950053454,"d":"0.50"}},{"v":50.937623378494315,"d":"50.9376"},{"$nulls":9},{"v":1.72227772227775,"d":"1.72"},24.30104658660583]
[{"$f":"A566+Sheet2!G$11","v":{"v":0.5074925074925425,"d":"0.51"}},{"v":50.93528878843144,"d":"50.9353"},{"$nulls":9},{"v":1.7302697302697578,"d":"1.73"},24.3754897488082]
[{"$f":"A567+Sheet2!G$11","v":{"v":0.5154845154845504,"d":"0.52"}},{"v":50.93217916912283,"d":"50.9322"},{"$nulls":9},{"v":1.7382617382617658,"d":"1.74"},24.45158886961777]
[{"$f":"A568+Sheet2!G$11","v":{"v":0.5234765234765584,"d":"0.52"}},{"v":50.92828547290944,"d":"50.9283"},{"$nulls":9},{"v":1.7462537462537737,"d":"1.75"},24.529365195887557]
[{"$f":"A569+Sheet2!G$11","v":{"v":0.5314685314685663,"d":"0.53"}},{"v":50.923598750043986,"d":"50.9236"},{"$nulls":9},{"v":1.7542457542457817,"d":"1.75"},24.608840072382343]
[{"$f":"A570+Sheet2!G$11","v":{"v":0.5394605394605743,"d":"0.54"}},{"v":50.91811014869096,"d":"50.9181"},{"$nulls":9},{"v":-2.785214785214759,"d":"-2.79"},24.67919106356453]
[{"$f":"A571+Sheet2!G$11","v":{"v":0.5474525474525822,"d":"0.55"}},{"v":50.91181091492662,"d":"50.9118"},{"$nulls":9},{"v":1.7622377622377896,"d":"1.76"},24.690034941778684]
[{"$f":"A572+Sheet2!G$11","v":{"v":0.5554445554445901,"d":"0.56"}},{"v":50.90469239273898,"d":"50.9047"},{"$nulls":9},{"v":1.7702297702297976,"d":"1.77"},24.772971344664903]
[{"$f":"A573+Sheet2!G$11","v":{"v":0.5634365634365981,"d":"0.56"}},{"v":50.89674602402783,"d":"50.8967"},{"$nulls":9},{"v":1.7782217782218055,"d":"1.78"},24.85767091954107]
[{"$f":"A574+Sheet2!G$11","v":{"v":0.571428571428606,"d":"0.57"}},{"v":50.88796334860471,"d":"50.8880"},{"$nulls":9},{"v":1.7862137862138134,"d":"1.79"},24.944155402819042]
[{"$f":"A575+Sheet2!G$11","v":{"v":0.579420579420614,"d":"0.58"}},{"v":50.87833600419294,"d":"50.8783"},{"$nulls":9},{"v":1.7942057942058214,"d":"1.79"},25.032446628822424]
[{"$f":"A576+Sheet2!G$11","v":{"v":0.5874125874126219,"d":"0.59"}},{"v":50.86785572642759,"d":"50.8679"},{"$nulls":9},{"v":-2.793206793206767,"d":"-2.79"},25.10200766746959]
[{"$f":"A577+Sheet2!G$11","v":{"v":0.5954045954046299,"d":"0.60"}},{"v":50.85651434885552,"d":"50.8565"},{"$nulls":9},{"v":1.8021978021978293,"d":"1.80"},25.122566529786596]
[{"$f":"A578+Sheet2!G$11","v":{"v":0.6033966033966378,"d":"0.60"}},{"$f":"x^4-5*x^3+3*x+50","v":{"v":50.84430380293533,"d":"50.8443"}},{"$nulls":9},{"v":1.8101898101898373,"d":"1.81"},25.214537135858702]
[{"$f":"A579+Sheet2!G$11","v":{"v":0.6113886113886458,"d":"0.61"}},{"v":50.83121611803739,"d":"50.8312"},{"$nulls":9},{"v":1.8181818181818452,"d":"1.82"},25.30838057509765]
[{"$f":"A580+Sheet2!G$11","v":{"v":0.6193806193806537,"d":"0.62"}},{"v":50.81724342144384,"d":"50.8172"},{"$nulls":9},{"v":1.8261738261738532,"d":"1.83"},25.40411907347411]
[{"$f":"A581+Sheet2!G$11","v":{"v":0.6273726273726616,"d":"0.63"}},{"v":50.8023779383486,"d":"50.8024"},{"$nulls":9},{"v":1.834165834165861,"d":"1.83"},25.50177495487052]
[{"$f":"A582+Sheet2!G$11","v":{"v":0.6353646353646696,"d":"0.64"}},{"v":50.78661199185731,"d":"50.7866"},{"$nulls":9},{"v":-2.801198801198775,"d":"-2.80"},25.53016553090759]
[{"$f":"A583+Sheet2!G$11","v":{"v":0.6433566433566775,"d":"0.64"}},{"v":50.76993800298744,"d":"50.7699"},{"$nulls":9},{"v":1.842157842157869,"d":"1.84"},25.601370641081086]
[{"$f":"A584+Sheet2!G$11","v":{"v":0.6513486513486855,"d":"0.65"}},{"v":50.75234849066816,"d":"50.7523"},{"$nulls":9},{"v":1.850149850149877,"d":"1.85"},25.70292865181177]
[{"$f":"A585+Sheet2!G$11","v":{"v":0.6593406593406934,"d":"0.66"}},{"v":50.73383607174045,"d":"50.7338"},{"$nulls":9},{"v":1.858141858141885,"d":"1.86"},25.80647160468031]
[{"$f":"A586+Sheet2!G$11","v":{"v":0.6673326673327014,"d":"0.67"}},{"v":50.714393460957034,"d":"50.7144"},{"$nulls":9},{"v":1.8661338661338929,"d":"1.87"},25.9120222152162]
[{"$f":"A587+Sheet2!G$11","v":{"v":0.6753246753247093,"d":"0.68"}},{"v":50.694013470982405,"d":"50.6940"},{"$nulls":9},{"v":-2.8091908091907833,"d":"-2.81"},25.963698922996308]
[{"$f":"A588+Sheet2!G$11","v":{"v":0.6833166833167172,"d":"0.68"}},{"v":50.67268901239283,"d":"50.6727"},{"$nulls":9},{"v":1.8741258741259008,"d":"1.87"},26.01960329686071]
[{"$f":"A589+Sheet2!G$11","v":{"v":0.6913086913087252,"d":"0.69"}},{"v":50.650413093676335,"d":"50.6504"},{"$nulls":9},{"v":1.8821178821179088,"d":"1.88"},26.129237760966856]
[{"$f":"A590+Sheet2!G$11","v":{"v":0.6993006993007331,"d":"0.70"}},{"v":50.6271788212327,"d":"50.6272"},{"$nulls":9},{"v":1.8901098901099167,"d":"1.89"},26.240948616799443]
[{"$f":"A591+Sheet2!G$11","v":{"v":0.7072927072927411,"d":"0.71"}},{"v":50.60297939937348,"d":"50.6030"},{"$nulls":9},{"v":1.8981018981019246,"d":"1.90"},26.354758971535023]
[{"$f":"A592+Sheet2!G$11","v":{"v":0.715284715284749,"d":"0.72"}},{"v":50.57780813032201,"d":"50.5778"},{"$nulls":9},{"v":-2.8171828171827915,"d":"-2.82"},26.402642210765276]
[{"$f":"A593+Sheet2!G$11","v":{"v":0.723276723276757,"d":"0.72"}},{"v":50.551658414213364,"d":"50.5517"},{"$nulls":9},{"v":1.9060939060939326,"d":"1.91"},26.47069203026192]
[{"$f":"A594+Sheet2!G$11","v":{"v":0.7312687312687649,"d":"0.73"}},{"v":50.52452374909439,"d":"50.5245"},{"$nulls":9},{"v":1.9140859140859405,"d":"1.91"},26.588771095980228]
[{"$f":"A595+Sheet2!G$11","v":{"v":0.7392607392607728,"d":"0.74"}},{"v":50.49639773092371,"d":"50.4964"},{"$nulls":9},{"v":1.9220779220779485,"d":"1.92"},26.709019569601793]
[{"$f":"A596+Sheet2!G$11","v":{"v":0.7472527472527808,"d":"0.75"}},{"v":50.4672740535717,"d":"50.4673"},{"$nulls":9},{"v":1.9300699300699564,"d":"1.93"},26.831460949950234]
[{"$f":"A597+Sheet2!G$11","v":{"v":0.7552447552447887,"d":"0.76"}},{"v":50.43714650882051,"d":"50.4371"},{"$nulls":9},{"v":-2.8251748251747997,"d":"-2.83"},26.847029859155832]
[{"$f":"A598+Sheet2!G$11","v":{"v":0.7632367632367967,"d":"0.76"}},{"v":50.40600898636405,"d":"50.4060"},{"$nulls":9},{"v":1.9380619380619644,"d":"1.94"},26.956118833760936]
[{"$f":"A599+Sheet2!G$11","v":{"v":0.7712287712288046,"d":"0.77"}},{"v":50.37385547380799,"d":"50.3739"},{"$nulls":9},{"v":1.9460539460539723,"d":"1.95"},27.083016915681053]
[{"$f":"A600+Sheet2!G$11","v":{"v":0.7792207792208126,"d":"0.78"}},{"v":50.340680056669775,"d":"50.3407"},{"$nulls":9},{"v":1.9540459540459802,"d":"1.95"},27.212178988269493]
[{"$f":"A601+Sheet2!G$11","v":{"v":0.7872127872128205,"d":"0.79"}},{"v":50.306476918378614,"d":"50.3065"},{"$nulls":9},{"v":-2.833166833166808,"d":"-2.83"},27.29689643102102]
[{"$f":"A602+Sheet2!G$11","v":{"v":0.7952047952048285,"d":"0.80"}},{"v":50.271240340275476,"d":"50.2712"},{"$nulls":9},{"v":1.9620379620379882,"d":"1.96"},27.343628941996933]
[{"$f":"A603+Sheet2!G$11","v":{"v":0.8031968031968364,"d":"0.80"}},{"v":50.234964701613094,"d":"50.2350"},{"$nulls":9},{"v":1.9700299700299961,"d":"1.97"},27.477390765245826]
[{"$f":"A604+Sheet2!G$11","v":{"v":0.8111888111888443,"d":"0.81"}},{"v":50.19764447955596,"d":"50.1976"},{"$nulls":9},{"v":1.978021978022004,"d":"1.98"},27.61348854431038]
[{"$f":"A605+Sheet2!G$11","v":{"v":0.8191808191808523,"d":"0.82"}},{"v":50.15927424918036,"d":"50.1593"},{"$nulls":9},{"v":1.986013986014012,"d":"1.99"},27.751946463396553]
[{"$f":"A606+Sheet2!G$11","v":{"v":0.8271728271728602,"d":"0.83"}},{"v":50.11984868347432,"d":"50.1198"},{"$nulls":9},{"v":-2.841158841158816,"d":"-2.84"},27.75227658712566]
[{"$f":"A607+Sheet2!G$11","v":{"v":0.8351648351648682,"d":"0.84"}},{"v":50.07936255333763,"d":"50.0794"},{"$nulls":9},{"v":1.99400599400602,"d":"1.99"},27.8927888046221]
[{"$f":"A608+Sheet2!G$11","v":{"v":0.8431568431568761,"d":"0.84"}},{"v":50.03781072758185,"d":"50.0378"},{"$nulls":9},{"v":2.001998001998028,"d":"2.00"},28.036039948016523]
[{"$f":"A609+Sheet2!G$11","v":{"v":0.8511488511488841,"d":"0.85"}},{"v":49.99518817293031,"d":"49.9952"},{"$nulls":9},{"v":2.009990009990036,"d":"2.01"},28.181724371521092]
[{"$f":"A610+Sheet2!G$11","v":{"v":0.859140859140892,"d":"0.86"}},{"v":49.95148995401811,"d":"49.9515"},{"$nulls":9},{"v":-2.849150849150824,"d":"-2.85"},28.213205086146402]
[{"$f":"A611+Sheet2!G$11","v":{"v":0.8671328671328999,"d":"0.87"}},{"v":49.906711233392095,"d":"49.9067"},{"$nulls":9},{"v":2.0179820179820442,"d":"2.02"},28.329866650988837]
[{"$f":"A612+Sheet2!G$11","v":{"v":0.8751248751249079,"d":"0.88"}},{"v":49.860847271510885,"d":"49.8608"},{"$nulls":9},{"v":2.0259740259740524,"d":"2.03"},28.480491460184556]
[{"$f":"A613+Sheet2!G$11","v":{"v":0.8831168831169158,"d":"0.88"}},{"v":49.813893426744876,"d":"49.8139"},{"$nulls":9},{"v":2.0339660339660606,"d":"2.03"},28.633623570784827]
[{"$f":"A614+Sheet2!G$11","v":{"v":0.8911088911089238,"d":"0.89"}},{"v":49.76584515537622,"d":"49.7658"},{"$nulls":9},{"v":-2.8571428571428323,"d":"-2.86"},28.6797167846716]
[{"$f":"A615+Sheet2!G$11","v":{"v":0.8991008991009317,"d":"0.90"}},{"v":49.71669801159882,"d":"49.7167"},{"$nulls":9},{"v":2.0419580419580687,"d":"2.04"},28.78928785237796]
[{"$f":"A616+Sheet2!G$11","v":{"v":0.9070929070929397,"d":"0.91"}},{"v":49.666447647518375,"d":"49.6664"},{"$nulls":9},{"v":2.049950049950077,"d":"2.05"},28.947509272464064]
[{"$f":"A617+Sheet2!G$11","v":{"v":0.9150849150849476,"d":"0.92"}},{"v":49.61508981315232,"d":"49.6151"},{"$nulls":9},{"v":2.057942057942085,"d":"2.06"},29.108312896454997]
[{"$f":"A618+Sheet2!G$11","v":{"v":0.9230769230769555,"d":"0.92"}},{"v":49.56262035642988,"d":"49.5626"},{"$nulls":9},{"v":-2.8651348651348405,"d":"-2.87"},29.151846637201366]
[{"$f":"A619+Sheet2!G$11","v":{"v":0.9310689310689635,"d":"0.93"}},{"v":49.50903522319202,"d":"49.5090"},{"$nulls":9},{"v":2.0659340659340932,"d":"2.07"},29.271723887674376]
[{"$f":"A620+Sheet2!G$11","v":{"v":0.9390609390609714,"d":"0.94"}},{"v":49.45433045719149,"d":"49.4543"},{"$nulls":9},{"v":2.0739260739261014,"d":"2.07"},29.437767507357595]
[{"$f":"A621+Sheet2!G$11","v":{"v":0.9470529470529794,"d":"0.95"}},{"v":49.39850220009279,"d":"49.3985"},{"$nulls":9},{"v":2.0819180819181096,"d":"2.08"},29.606469114651812]
[{"$f":"A622+Sheet2!G$11","v":{"v":0.9550449550449873,"d":"0.96"}},{"v":49.3415466914722,"d":"49.3415"},{"$nulls":9},{"v":-2.8731268731268487,"d":"-2.87"},29.629629696147603]
[{"$f":"A623+Sheet2!G$11","v":{"v":0.9630369630369953,"d":"0.96"}},{"v":49.283460268817755,"d":"49.2835"},{"$nulls":9},{"v":2.0899100899101177,"d":"2.09"},29.777854166615946]
[{"$f":"A624+Sheet2!G$11","v":{"v":0.9710289710290032,"d":"0.97"}},{"v":49.22423936752926,"d":"49.2242"},{"$nulls":9},{"v":2.097902097902126,"d":"2.10"},29.951948218220686]
[{"$f":"A625+Sheet2!G$11","v":{"v":0.9790209790210112,"d":"0.98"}},{"v":49.16388052091827,"d":"49.1639"},{"$nulls":9},{"v":-2.881118881118857,"d":"-2.88"},30.113101111833995]
[{"$f":"A626+Sheet2!G$11","v":{"v":0.9870129870130191,"d":"0.99"}},{"v":49.10238036020813,"d":"49.1024"},{"$nulls":9},{"v":2.105894105894134,"d":"2.11"},30.128776922348468]
[{"$f":"A627+Sheet2!G$11","v":{"v":0.995004995005027,"d":"1.00"}},{"v":49.03973561453394,"d":"49.0397"},{"$nulls":9},{"v":2.1138861138861422,"d":"2.11"},30.30836602979352]
[{"$f":"A628+Sheet2!G$11","v":{"v":1.002997002997035,"d":"1.00"}},{"v":48.97594311094256,"d":"48.9759"},{"$nulls":9},{"v":2.1218781218781504,"d":"2.12"},30.490741389261817]
[{"$f":"A629+Sheet2!G$11","v":{"v":1.010989010989043,"d":"1.01"}},{"v":48.91099977439261,"d":"48.9110"},{"$nulls":9},{"v":-2.889110889110865,"d":"-2.89"},30.60229613249595]
[{"$f":"A630+Sheet2!G$11","v":{"v":1.0189810189810509,"d":"1.02"}},{"v":48.84490262775449,"d":"48.8449"},{"$nulls":9},{"v":2.1298701298701586,"d":"2.13"},30.675928947371112]
[{"$f":"A631+Sheet2!G$11","v":{"v":1.0269730269730588,"d":"1.03"}},{"v":48.777648791810364,"d":"48.7776"},{"$nulls":9},{"v":2.1378621378621667,"d":"2.14"},30.863954748650908]
[{"$f":"A632+Sheet2!G$11","v":{"v":1.0349650349650668,"d":"1.03"}},{"v":48.70923548525415,"d":"48.7092"},{"$nulls":9},{"v":2.145854145854175,"d":"2.15"},31.054844935542484]
[{"$f":"A633+Sheet2!G$11","v":{"v":1.0429570429570747,"d":"1.04"}},{"v":48.63966002469153,"d":"48.6397"},{"$nulls":9},{"v":-2.897102897102873,"d":"-2.90"},31.097250104280647]
[{"$f":"A634+Sheet2!G$11","v":{"v":1.0509490509490826,"d":"1.05"}},{"v":48.56891982463996,"d":"48.5689"},{"$nulls":9},{"v":2.153846153846183,"d":"2.15"},31.248625748398876]
[{"$f":"A635+Sheet2!G$11","v":{"v":1.0589410589410906,"d":"1.06"}},{"v":48.497012397528664,"d":"48.4970"},{"$nulls":9},{"v":2.161838161838191,"d":"2.16"},31.445323525484902]
[{"$f":"A636+Sheet2!G$11","v":{"v":1.0669330669330985,"d":"1.07"}},{"v":48.423935353698624,"d":"48.4239"},{"$nulls":9},{"v":-2.9050949050948813,"d":"-2.91"},31.597998471247084]
[{"$f":"A637+Sheet2!G$11","v":{"v":1.0749250749251065,"d":"1.07"}},{"v":48.34968640140259,"d":"48.3497"},{"$nulls":9},{"v":2.1698301698301994,"d":"2.17"},31.644964702977116]
[{"$f":"A638+Sheet2!G$11","v":{"v":1.0829170829171144,"d":"1.08"}},{"v":48.27426334680507,"d":"48.2743"},{"$nulls":9},{"v":2.1778221778222075,"d":"2.18"},31.847575814963868]
[{"$f":"A639+Sheet2!G$11","v":{"v":1.0909090909091224,"d":"1.09"}},{"v":48.19766409398235,"d":"48.1977"},{"$nulls":9},{"v":2.1858141858142157,"d":"2.19"},32.053183493445246]
[{"$f":"A640+Sheet2!G$11","v":{"v":1.0989010989011303,"d":"1.10"}},{"v":48.11988664492247,"d":"48.1199"},{"$nulls":9},{"v":-2.9130869130868895,"d":"-2.91"},32.10457677536595]
[{"$f":"A641+Sheet2!G$11","v":{"v":1.1068931068931382,"d":"1.11"}},{"v":48.04092909952523,"d":"48.0409"},{"$nulls":9},{"v":2.193806193806224,"d":"2.19"},32.26181446833313]
[{"$f":"A642+Sheet2!G$11","v":{"v":1.1148851148851462,"d":"1.11"}},{"$f":"x^4-5*x^3+3*x+50","v":{"v":47.96078965560222,"d":"47.9608"}},{"$nulls":9},{"v":2.201798201798232,"d":"2.20"},32.47349556745115]
[{"$f":"A643+Sheet2!G$11","v":{"v":1.1228771228771541,"d":"1.12"}},{"v":47.879466608876776,"d":"47.8795"},{"$nulls":9},{"v":-2.9210789210788977,"d":"-2.92"},32.617020656519756]
[{"$f":"A644+Sheet2!G$11","v":{"v":1.130869130869162,"d":"1.13"}},{"v":47.79695835298399,"d":"47.7970"},{"$nulls":9},{"v":2.20979020979024,"d":"2.21"},32.68825371653468]
[{"$f":"A645+Sheet2!G$11","v":{"v":1.13886113886117,"d":"1.14"}},{"v":47.713263379470746,"d":"47.7133"},{"$nulls":9},{"v":2.2177822177822484,"d":"2.22"},32.906115939230915]
[{"$f":"A646+Sheet2!G$11","v":{"v":1.146853146853178,"d":"1.15"}},{"v":47.62838027779567,"d":"47.6284"},{"$nulls":9},{"v":2.2257742257742565,"d":"2.23"},33.12710935709876]
[{"$f":"A647+Sheet2!G$11","v":{"v":1.154845154845186,"d":"1.15"}},{"v":47.54230773532916,"d":"47.5423"},{"$nulls":9},{"v":-2.929070929070906,"d":"-2.93"},33.13536585250275]
[{"$f":"A648+Sheet2!G$11","v":{"v":1.1628371628371938,"d":"1.16"}},{"v":47.45504453735339,"d":"47.4550"},{"$nulls":9},{"v":2.2337662337662647,"d":"2.23"},33.35126118960891]
[{"$f":"A649+Sheet2!G$11","v":{"v":1.1708291708292018,"d":"1.17"}},{"v":47.36658956706228,"d":"47.3666"},{"$nulls":9},{"v":2.241758241758273,"d":"2.24"},33.578598754143826]
[{"$f":"A650+Sheet2!G$11","v":{"v":1.1788211788212097,"d":"1.18"}},{"v":47.27694180556153,"d":"47.2769"},{"$nulls":9},{"v":-2.937062937062914,"d":"-2.94"},33.65964819902094]
[{"$f":"A651+Sheet2!G$11","v":{"v":1.1868131868132177,"d":"1.19"}},{"v":47.186100331868595,"d":"47.1861"},{"$nulls":9},{"v":2.249750249750281,"d":"2.25"},33.80914946599772]
[{"$f":"A652+Sheet2!G$11","v":{"v":1.1948051948052256,"d":"1.19"}},{"v":47.0940643229127,"d":"47.0941"},{"$nulls":9},{"v":2.257742257742289,"d":"2.26"},34.04294083837659]
[{"$f":"A653+Sheet2!G$11","v":{"v":1.2027972027972336,"d":"1.20"}},{"v":47.00083305353484,"d":"47.0008"},{"$nulls":9},{"v":-2.945054945054922,"d":"-2.95"},34.18990362969211]
[{"$f":"A654+Sheet2!G$11","v":{"v":1.2107892107892415,"d":"1.21"}},{"v":46.906405896487776,"d":"46.9064"},{"$nulls":9},{"v":2.2657342657342974,"d":"2.27"},34.28000048239818]
[{"$f":"A655+Sheet2!G$11","v":{"v":1.2187812187812495,"d":"1.22"}},{"v":46.81078232243601,"d":"46.8108"},{"$nulls":9},{"v":2.2737262737263055,"d":"2.27"},34.52035610709201]
[{"$f":"A656+Sheet2!G$11","v":{"v":1.2267732267732574,"d":"1.23"}},{"v":46.71396189995584,"d":"46.7140"},{"$nulls":9},{"v":-2.9530469530469303,"d":"-2.95"},34.72616817604581]
[{"$f":"A657+Sheet2!G$11","v":{"v":1.2347652347652653,"d":"1.23"}},{"v":46.615944295535314,"d":"46.6159"},{"$nulls":9},{"v":2.2817182817183137,"d":"2.28"},34.764035519399364]
[{"$f":"A658+Sheet2!G$11","v":{"v":1.2427572427572733,"d":"1.24"}},{"v":46.51672927357424,"d":"46.5167"},{"$nulls":9},{"v":2.289710289710322,"d":"2.29"},35.01106662417329]
[{"$f":"A659+Sheet2!G$11","v":{"v":1.2507492507492812,"d":"1.25"}},{"v":46.416316696384214,"d":"46.4163"},{"$nulls":9},{"v":2.29770229770233,"d":"2.30"},35.261477424178594]
[{"$f":"A660+Sheet2!G$11","v":{"v":1.2587412587412892,"d":"1.26"}},{"v":46.314706524188566,"d":"46.3147"},{"$nulls":9},{"v":-2.9610389610389385,"d":"-2.96"},35.26847796752337]
[{"$f":"A661+Sheet2!G$11","v":{"v":1.2667332667332971,"d":"1.27"}},{"v":46.21189881512242,"d":"46.2119"},{"$nulls":9},{"v":2.305694305694338,"d":"2.31"},35.51529602009185]
[{"$f":"A662+Sheet2!G$11","v":{"v":1.274725274725305,"d":"1.27"}},{"v":46.107893725232636,"d":"46.1079"},{"$nulls":9},{"v":2.3136863136863464,"d":"2.31"},35.77255061050141]
[{"$f":"A663+Sheet2!G$11","v":{"v":1.282717282717313,"d":"1.28"}},{"v":46.00269150847787,"d":"46.0027"},{"$nulls":9},{"v":-2.9690309690309467,"d":"-2.97"},35.81686923147785]
[{"$f":"A664+Sheet2!G$11","v":{"v":1.290709290709321,"d":"1.29"}},{"v":45.896292516728515,"d":"45.8963"},{"$nulls":9},{"v":2.3216783216783545,"d":"2.32"},36.03326949190739]
[{"$f":"A665+Sheet2!G$11","v":{"v":1.2987012987013289,"d":"1.30"}},{"v":45.788697199766744,"d":"45.7887"},{"$nulls":9},{"v":2.3296703296703627,"d":"2.33"},36.297481058721644]
[{"$f":"A666+Sheet2!G$11","v":{"v":1.3066933066933368,"d":"1.31"}},{"v":45.679906105286506,"d":"45.6799"},{"$nulls":9},{"v":-2.977022977022955,"d":"-2.98"},36.37137829317412]
[{"$f":"A667+Sheet2!G$11","v":{"v":1.3146853146853448,"d":"1.31"}},{"v":45.56991987889349,"d":"45.5699"},{"$nulls":9},{"v":2.337662337662371,"d":"2.34"},36.56521380326781]
[{"$f":"A668+Sheet2!G$11","v":{"v":1.3226773226773527,"d":"1.32"}},{"v":45.458739264105155,"d":"45.4587"},{"$nulls":9},{"v":2.345654345654379,"d":"2.35"},36.836496315781304]
[{"$f":"A669+Sheet2!G$11","v":{"v":1.3306693306693607,"d":"1.33"}},{"v":45.34636510235075,"d":"45.3464"},{"$nulls":9},{"v":-2.985014985014963,"d":"-2.99"},36.93204157578873]
[{"$f":"A670+Sheet2!G$11","v":{"v":1.3386613386613686,"d":"1.34"}},{"v":45.23279833297126,"d":"45.2328"},{"$nulls":9},{"v":2.353646353646387,"d":"2.35"},37.11135728440928]
[{"$f":"A671+Sheet2!G$11","v":{"v":1.3466533466533765,"d":"1.35"}},{"v":45.118039993219455,"d":"45.1180"},{"$nulls":9},{"v":2.3616383616383954,"d":"2.36"},37.38982549521068]
[{"$f":"A672+Sheet2!G$11","v":{"v":1.3546453546453845,"d":"1.35"}},{"v":45.00209121825985,"d":"45.0021"},{"$nulls":9},{"v":-2.993006993006971,"d":"-2.99"},37.49889560041011]
[{"$f":"A673+Sheet2!G$11","v":{"v":1.3626373626373924,"d":"1.36"}},{"v":44.88495324116874,"d":"44.8850"},{"$nulls":9},{"v":2.3696303696304035,"d":"2.37"},37.6719298321562]
[{"$f":"A674+Sheet2!G$11","v":{"v":1.3706293706294004,"d":"1.37"}},{"v":44.76662739293418,"d":"44.7666"},{"$nulls":9},{"v":2.3776223776224117,"d":"2.38"},37.9576992771283]
[{"$f":"A675+Sheet2!G$11","v":{"v":1.3786213786214083,"d":"1.38"}},{"v":44.647115102456006,"d":"44.6471"},{"$nulls":9},{"v":-3.0009990009989793,"d":"-3.00"},38.071976986038386]
[{"$f":"A676+Sheet2!G$11","v":{"v":1.3866133866134163,"d":"1.39"}},{"v":44.52641789654579,"d":"44.5264"},{"$nulls":9},{"v":2.38561438561442,"d":"2.39"},38.24716290992121]
[{"$f":"A677+Sheet2!G$11","v":{"v":1.3946053946054242,"d":"1.39"}},{"v":44.40453739992688,"d":"44.4045"},{"$nulls":9},{"v":2.393606393606428,"d":"2.39"},38.54034990824093]
[{"$f":"A678+Sheet2!G$11","v":{"v":1.4025974025974322,"d":"1.40"}},{"v":44.28147533523441,"d":"44.2815"},{"$nulls":9},{"v":-3.0089910089909875,"d":"-3.01"},38.651322449585436]
[{"$f":"A679+Sheet2!G$11","v":{"v":1.41058941058944,"d":"1.41"}},{"v":44.15723352301525,"d":"44.1572"},{"$nulls":9},{"v":2.401598401598436,"d":"2.40"},38.8372895477052]
[{"$f":"A680+Sheet2!G$11","v":{"v":1.418581418581448,"d":"1.42"}},{"v":44.03181388172804,"d":"44.0318"},{"$nulls":9},{"v":2.4095904095904443,"d":"2.41"},39.138011201843554]
[{"$f":"A681+Sheet2!G$11","v":{"v":1.426573426573456,"d":"1.43"}},{"v":43.905218427743215,"d":"43.9052"},{"$nulls":9},{"v":-3.0169830169829956,"d":"-3.02"},39.236968805874966]
[{"$f":"A682+Sheet2!G$11","v":{"v":1.434565434565464,"d":"1.43"}},{"v":43.77744927534293,"d":"43.7774"},{"$nulls":9},{"v":2.4175824175824525,"d":"2.42"},39.442544342097285]
[{"$f":"A683+Sheet2!G$11","v":{"v":1.4425574425574719,"d":"1.44"}},{"v":43.64850863672113,"d":"43.6485"},{"$nulls":9},{"v":2.4255744255744607,"d":"2.43"},39.750918537819445]
[{"$f":"A684+Sheet2!G$11","v":{"v":1.4505494505494798,"d":"1.45"}},{"v":43.51839882198354,"d":"43.5184"},{"$nulls":9},{"v":-3.024975024975004,"d":"-3.02"},39.828952967642394]
[{"$f":"A685+Sheet2!G$11","v":{"v":1.4585414585414878,"d":"1.46"}},{"v":43.387122239147615,"d":"43.3871"},{"$nulls":9},{"v":2.433566433566469,"d":"2.43"},40.06316345627484]
[{"$f":"A686+Sheet2!G$11","v":{"v":1.4665334665334957,"d":"1.47"}},{"v":43.254681394142594,"d":"43.2547"},{"$nulls":9},{"v":2.441558441558477,"d":"2.44"},40.379308862640066]
[{"$f":"A687+Sheet2!G$11","v":{"v":1.4745254745255036,"d":"1.47"}},{"v":43.12107889080949,"d":"43.1211"},{"$nulls":9},{"v":-3.032967032967012,"d":"-3.03"},40.42731194553491]
[{"$f":"A688+Sheet2!G$11","v":{"v":1.4825174825175116,"d":"1.48"}},{"v":42.98631743090106,"d":"42.9863"},{"$nulls":9},{"v":2.449550449550485,"d":"2.45"},40.69938462000347]
[{"$f":"A689+Sheet2!G$11","v":{"v":1.4905094905095195,"d":"1.49"}},{"v":42.85039981408184,"d":"42.8504"},{"$nulls":9},{"v":2.4575424575424933,"d":"2.46"},41.02342068936517]
[{"$f":"A690+Sheet2!G$11","v":{"v":1.4985014985015275,"d":"1.50"}},{"v":42.71332893792813,"d":"42.7133"},{"$nulls":9},{"v":-3.04095904095902,"d":"-3.04"},41.032082848111514]
[{"$f":"A691+Sheet2!G$11","v":{"v":1.5064935064935354,"d":"1.51"}},{"v":42.575107797927984,"d":"42.5751"},{"$nulls":9},{"v":2.4655344655345015,"d":"2.47"},41.35144712963703]
[{"$f":"A692+Sheet2!G$11","v":{"v":1.5144855144855434,"d":"1.51"}},{"v":42.43573948748125,"d":"42.4357"},{"$nulls":9},{"v":-3.0489510489510283,"d":"-3.05"},41.643302881842885]
[{"$f":"A693+Sheet2!G$11","v":{"v":1.5224775224775513,"d":"1.52"}},{"v":42.2952271978995,"d":"42.2952"},{"$nulls":9},{"v":2.4735264735265097,"d":"2.47"},41.68349409764269]
[{"$f":"A694+Sheet2!G$11","v":{"v":1.5304695304695592,"d":"1.53"}},{"v":42.1535742184061,"d":"42.1536"},{"$nulls":9},{"v":2.481518481518518,"d":"2.48"},42.01959184811759]
[{"$f":"A695+Sheet2!G$11","v":{"v":1.5384615384615672,"d":"1.54"}},{"v":42.01078393613618,"d":"42.0108"},{"$nulls":9},{"v":-3.0569430569430365,"d":"-3.06"},42.261009351111554]
[{"$f":"A696+Sheet2!G$11","v":{"v":1.5464535464535751,"d":"1.55"}},{"v":41.86685983613661,"d":"41.8669"},{"$nulls":9},{"v":2.489510489510526,"d":"2.49"},42.359770733708885]
[{"$f":"A697+Sheet2!G$11","v":{"v":1.554445554445583,"d":"1.55"}},{"v":41.72180550136606,"d":"41.7218"},{"$nulls":9},{"v":2.497502497502534,"d":"2.50"},42.70406120497551]
[{"$f":"A698+Sheet2!G$11","v":{"v":1.562437562437591,"d":"1.56"}},{"v":41.57562461269494,"d":"41.5756"},{"$nulls":9},{"v":-3.0649350649350446,"d":"-3.06"},42.88523965821175]
[{"$f":"A699+Sheet2!G$11","v":{"v":1.570429570429599,"d":"1.57"}},{"v":41.428320948905444,"d":"41.4283"},{"$nulls":9},{"v":2.5054945054945423,"d":"2.51"},43.05249381038818]
[{"$f":"A700+Sheet2!G$11","v":{"v":1.578421578421607,"d":"1.58"}},{"v":41.27989838669151,"d":"41.2799"},{"$nulls":9},{"v":2.5134865134865505,"d":"2.51"},43.40509919632935]
[{"$f":"A701+Sheet2!G$11","v":{"v":1.5864135864136149,"d":"1.59"}},{"v":41.13036090065885,"d":"41.1304"},{"$nulls":9},{"v":-3.072927072927053,"d":"-3.07"},43.516031303349536]
[{"$f":"A702+Sheet2!G$11","v":{"v":1.5944055944056228,"d":"1.59"}},{"v":40.97971256332495,"d":"40.9797"},{"$nulls":9},{"v":2.5214785214785587,"d":"2.52"},43.76190810709326]
[{"$f":"A703+Sheet2!G$11","v":{"v":1.6023976023976307,"d":"1.60"}},{"v":40.82795754511905,"d":"40.8280"},{"$nulls":9},{"v":2.529470529470567,"d":"2.53"},44.12295138488592]
[{"$f":"A704+Sheet2!G$11","v":{"v":1.6103896103896387,"d":"1.61"}},{"v":40.67510011438217,"d":"40.6751"},{"$nulls":9},{"v":-3.080919080919061,"d":"-3.08"},44.15342188464266]
[{"$f":"A705+Sheet2!G$11","v":{"v":1.6183816183816466,"d":"1.62"}},{"v":40.52114463736706,"d":"40.5211"},{"$nulls":9},{"v":2.537462537462575,"d":"2.54"},44.48825996982509]
[{"$f":"A706+Sheet2!G$11","v":{"v":1.6263736263736546,"d":"1.63"}},{"$f":"x^4-5*x^3+3*x+50","v":{"v":40.36609557823829,"d":"40.3661"}},{"$nulls":9},{"v":-3.088911088911069,"d":"-3.09"},44.79744909812074]
[{"$f":"A707+Sheet2!G$11","v":{"v":1.6343656343656625,"d":"1.63"}},{"v":40.20995749907212,"d":"40.2100"},{"$nulls":9},{"v":2.545454545454583,"d":"2.55"},44.85786489994028]
[{"$f":"A708+Sheet2!G$11","v":{"v":1.6423576423576705,"d":"1.64"}},{"v":40.052735059856666,"d":"40.0527"},{"$nulls":9},{"v":2.5534465534465913,"d":"2.55"},45.23179731117281]
[{"$f":"A709+Sheet2!G$11","v":{"v":1.6503496503496784,"d":"1.65"}},{"v":39.89443301849174,"d":"39.8944"},{"$nulls":9},{"v":-3.0969030969030773,"d":"-3.10"},45.448150737725015]
[{"$f":"A710+Sheet2!G$11","v":{"v":1.6583416583416863,"d":"1.66"}},{"v":39.735056230788935,"d":"39.7351"},{"$nulls":9},{"v":2.5614385614385995,"d":"2.56"},45.61008843737573]
[{"$f":"A711+Sheet2!G$11","v":{"v":1.6663336663336943,"d":"1.67"}},{"v":39.57460965047163,"d":"39.5746"},{"$nulls":9},{"v":2.5694305694306077,"d":"2.57"},45.99276961031387]
[{"$f":"A712+Sheet2!G$11","v":{"v":1.6743256743257022,"d":"1.67"}},{"v":39.41309832917495,"d":"39.4131"},{"$nulls":9},{"v":-3.1048951048950855,"d":"-3.10"},46.10556469530861]
[{"$f":"A713+Sheet2!G$11","v":{"v":1.6823176823177102,"d":"1.68"}},{"v":39.25052741644579,"d":"39.2505"},{"$nulls":9},{"v":2.577422577422616,"d":"2.58"},46.37987225966379]
[{"$f":"A714+Sheet2!G$11","v":{"v":1.6903096903097181,"d":"1.69"}},{"v":39.086902159742806,"d":"39.0869"},{"$nulls":9},{"v":-3.1128871128870936,"d":"-3.11"},46.7697289606364]
[{"$f":"A715+Sheet2!G$11","v":{"v":1.698301698301726,"d":"1.70"}},{"v":38.92222790443642,"d":"38.9222"},{"$nulls":9},{"v":2.585414585414624,"d":"2.59"},46.77142791301389]
[{"$f":"A716+Sheet2!G$11","v":{"v":1.706293706293734,"d":"1.71"}},{"v":38.75651009380883,"d":"38.7565"},{"$nulls":9},{"v":2.593406593406632,"d":"2.59"},47.167468195864274]
[{"$f":"A717+Sheet2!G$11","v":{"v":1.714285714285742,"d":"1.71"}},{"v":38.58975426905398,"d":"38.5898"},{"$nulls":9},{"v":-3.120879120879102,"d":"-3.12"},47.44068162138494]
[{"$f":"A718+Sheet2!G$11","v":{"v":1.72227772227775,"d":"1.72"}},{"v":38.4219660692776,"d":"38.4220"},{"$nulls":9},{"v":2.6013986013986403,"d":"2.60"},47.5680248316268]
[{"$f":"A719+Sheet2!G$11","v":{"v":1.7302697302697578,"d":"1.73"}},{"v":38.25315123149718,"d":"38.2532"},{"$nulls":9},{"v":2.6093906093906485,"d":"2.61"},47.973129641625164]
[{"$f":"A720+Sheet2!G$11","v":{"v":1.7382617382617658,"d":"1.74"}},{"v":38.08331559064196,"d":"38.0833"},{"$nulls":9},{"v":-3.12887112887111,"d":"-3.13"},48.11846086314267]
[{"$f":"A721+Sheet2!G$11","v":{"v":1.7462537462537737,"d":"1.75"}},{"v":37.912465079552945,"d":"37.9125"},{"$nulls":9},{"v":2.6173826173826567,"d":"2.62"},48.382814545094746]
[{"$f":"A722+Sheet2!G$11","v":{"v":1.7542457542457817,"d":"1.75"}},{"v":37.74060572898294,"d":"37.7406"},{"$nulls":9},{"v":2.625374625374665,"d":"2.63"},48.79711155918273]
[{"$f":"A723+Sheet2!G$11","v":{"v":1.7622377622377896,"d":"1.76"}},{"v":37.567743667596474,"d":"37.5677"},{"$nulls":9},{"v":-3.136863136863118,"d":"-3.14"},48.8031049694097]
[{"$f":"A724+Sheet2!G$11","v":{"v":1.7702297702297976,"d":"1.77"}},{"v":37.39388512196985,"d":"37.3939"},{"$nulls":9},{"v":2.633366633366673,"d":"2.63"},49.216052798948084]
[{"$f":"A725+Sheet2!G$11","v":{"v":1.7782217782218055,"d":"1.78"}},{"v":37.219036416591166,"d":"37.2190"},{"$nulls":9},{"v":-3.1448551448551263,"d":"-3.14"},49.49465232159797]
[{"$f":"A726+Sheet2!G$11","v":{"v":1.7862137862138134,"d":"1.79"}},{"v":37.04320397386026,"d":"37.0432"},{"$nulls":9},{"v":2.641358641358681,"d":"2.64"},49.63967047736149]
[{"$f":"A727+Sheet2!G$11","v":{"v":1.7942057942058214,"d":"1.79"}},{"v":36.86639431408871,"d":"36.8664"},{"$nulls":9},{"v":2.6493506493506893,"d":"2.65"},50.06799690530545]
[{"$f":"A728+Sheet2!G$11","v":{"v":1.8021978021978293,"d":"1.80"}},{"v":36.68861405549992,"d":"36.6886"},{"$nulls":9},{"v":-3.1528471528471345,"d":"-3.15"},50.1931413990311]
[{"$f":"A729+Sheet2!G$11","v":{"v":1.8101898101898373,"d":"1.81"}},{"v":36.509869914229,"d":"36.5099"},{"$nulls":9},{"v":2.6573426573426975,"d":"2.66"},50.5010644915742]
[{"$f":"A730+Sheet2!G$11","v":{"v":1.8181818181818452,"d":"1.82"}},{"v":36.33016870432286,"d":"36.3302"},{"$nulls":9},{"v":-3.1608391608391426,"d":"-3.16"},50.89861077894459]
[{"$f":"A731+Sheet2!G$11","v":{"v":1.8261738261738532,"d":"1.83"}},{"v":36.14951733774018,"d":"36.1495"},{"$nulls":9},{"v":2.6653346653347056,"d":"2.67"},50.938905742873715]
[{"$f":"A732+Sheet2!G$11","v":{"v":1.834165834165861,"d":"1.83"}},{"v":35.967922824351376,"d":"35.9679"},{"$nulls":9},{"v":2.673326673326714,"d":"2.67"},51.3815532638218]
[{"$f":"A733+Sheet2!G$11","v":{"v":1.842157842157869,"d":"1.84"}},{"v":35.78539227193865,"d":"35.7854"},{"$nulls":9},{"v":-3.168831168831151,"d":"-3.17"},51.61109913648561]
[{"$f":"A734+Sheet2!G$11","v":{"v":1.850149850149877,"d":"1.85"}},{"v":35.60193288619595,"d":"35.6019"},{"$nulls":9},{"v":2.681318681318722,"d":"2.68"},51.82903975694798]
[{"$f":"A735+Sheet2!G$11","v":{"v":1.858141858141885,"d":"1.86"}},{"v":35.417551970729015,"d":"35.4176"},{"$nulls":9},{"v":2.68931068931073,"d":"2.69"},52.281398022693544]
[{"$f":"A736+Sheet2!G$11","v":{"v":1.8661338661338929,"d":"1.87"}},{"v":35.23225692705533,"d":"35.2323"},{"$nulls":9},{"v":-3.176823176823159,"d":"-3.18"},52.33064524471314]
[{"$f":"A737+Sheet2!G$11","v":{"v":1.8741258741259008,"d":"1.87"}},{"v":35.046055254604155,"d":"35.0461"},{"$nulls":9},{"v":2.6973026973027383,"d":"2.70"},52.73866095941159]
[{"$f":"A738+Sheet2!G$11","v":{"v":1.8821178821179088,"d":"1.88"}},{"v":34.85895455071653,"d":"34.8590"},{"$nulls":9},{"v":-3.184815184815167,"d":"-3.18"},53.05728797459794]
[{"$f":"A739+Sheet2!G$11","v":{"v":1.8901098901099167,"d":"1.89"}},{"v":34.670962510645204,"d":"34.6710"},{"$nulls":9},{"v":2.7052947052947465,"d":"2.71"},53.200861563366914]
[{"$f":"A740+Sheet2!G$11","v":{"v":1.8981018981019246,"d":"1.90"}},{"v":34.48208692755476,"d":"34.4821"},{"$nulls":9},{"v":2.7132867132867546,"d":"2.71"},53.668032928736125]
[{"$f":"A741+Sheet2!G$11","v":{"v":1.9060939060939326,"d":"1.91"}},{"v":34.29233569252149,"d":"34.2923"},{"$nulls":9},{"v":-3.1928071928071753,"d":"-3.19"},53.79106629502246]
[{"$f":"A742+Sheet2!G$11","v":{"v":1.9140859140859405,"d":"1.91"}},{"v":34.101716794533495,"d":"34.1017"},{"$nulls":9},{"v":2.721278721278763,"d":"2.72"},54.140208247607575]
[{"$f":"A743+Sheet2!G$11","v":{"v":1.9220779220779485,"d":"1.92"}},{"v":33.91023832049062,"d":"33.9102"},{"$nulls":9},{"v":-3.2007992007991835,"d":"-3.20"},54.532019272781014]
[{"$f":"A744+Sheet2!G$11","v":{"v":1.9300699300699564,"d":"1.93"}},{"v":33.717908455204466,"d":"33.7179"},{"$nulls":9},{"v":2.729270729270771,"d":"2.73"},54.617420809981425]
[{"$f":"A745+Sheet2!G$11","v":{"v":1.9380619380619644,"d":"1.94"}},{"v":33.52473548139841,"d":"33.5247"},{"$nulls":9},{"v":2.737262737262779,"d":"2.74"},55.09970400376953]
[{"$f":"A746+Sheet2!G$11","v":{"v":1.9460539460539723,"d":"1.95"}},{"v":33.33072777970761,"d":"33.3307"},{"$nulls":9},{"v":-3.2087912087911916,"d":"-3.21"},55.2801860725796]
[{"$f":"A747+Sheet2!G$11","v":{"v":1.9540459540459802,"d":"1.95"}},{"v":33.13589382867896,"d":"33.1359"},{"$nulls":9},{"v":2.7452547452547873,"d":"2.75"},55.58709131479556]
[{"$f":"A748+Sheet2!G$11","v":{"v":1.9620379620379882,"d":"1.96"}},{"v":32.940242204771124,"d":"32.9402"},{"$nulls":9},{"v":-3.2167832167832,"d":"-3.22"},56.03560595703603]
[{"$f":"A749+Sheet2!G$11","v":{"v":1.9700299700299961,"d":"1.97"}},{"v":32.74378158235457,"d":"32.7438"},{"$nulls":9},{"v":2.7532467532467955,"d":"2.75"},56.07961632679494]
[{"$f":"A750+Sheet2!G$11","v":{"v":1.978021978022004,"d":"1.98"}},{"v":32.54652073371148,"d":"32.5465"},{"$nulls":9},{"v":2.7612387612388036,"d":"2.76"},56.577312721414856]
[{"$f":"A751+Sheet2!G$11","v":{"v":1.986013986014012,"d":"1.99"}},{"v":32.34846852903581,"d":"32.3485"},{"$nulls":9},{"v":-3.224775224775208,"d":"-3.22"},56.79831828667986]
[{"$f":"A752+Sheet2!G$11","v":{"v":1.99400599400602,"d":"1.99"}},{"v":32.14963393643332,"d":"32.1496"},{"$nulls":9},{"v":2.769230769230812,"d":"2.77"},57.080214278214235]
[{"$f":"A753+Sheet2!G$11","v":{"v":2.001998001998028,"d":"2.00"}},{"v":31.950026021921477,"d":"31.9500"},{"$nulls":9},{"v":-3.232767232767216,"d":"-3.23"},57.56836251995243]
[{"$f":"A754+Sheet2!G$11","v":{"v":2.009990009990036,"d":"2.01"}},{"v":31.749653949429565,"d":"31.7497"},{"$nulls":9},{"v":2.77722277722282,"d":"2.78"},57.58835487466383]
[{"$f":"A755+Sheet2!G$11","v":{"v":2.0179820179820442,"d":"2.02"}},{"v":31.54852698079859,"d":"31.5485"},{"$nulls":9},{"v":2.785214785214828,"d":"2.79"},58.10176848614611]
[{"$f":"A756+Sheet2!G$11","v":{"v":2.0259740259740524,"d":"2.03"}},{"v":31.346654475781385,"d":"31.3467"},{"$nulls":9},{"v":-3.2407592407592243,"d":"-3.24"},58.34577821320681]
[{"$f":"A757+Sheet2!G$11","v":{"v":2.0339660339660606,"d":"2.03"}},{"v":31.14404589204247,"d":"31.1440"},{"$nulls":9},{"v":2.7932067932068363,"d":"2.79"},58.6204891859553]
[{"$f":"A758+Sheet2!G$11","v":{"v":2.0419580419580687,"d":"2.04"}},{"v":30.94071078515819,"d":"30.9407"},{"$nulls":9},{"v":-3.2487512487512324,"d":"-3.25"},59.13060502070789]
[{"$f":"A759+Sheet2!G$11","v":{"v":2.049950049950077,"d":"2.05"}},{"v":30.73665880861661,"d":"30.7367"},{"$nulls":9},{"v":2.8011988011988445,"d":"2.80"},59.144551145297456]
[{"$f":"A760+Sheet2!G$11","v":{"v":2.057942057942085,"d":"2.06"}},{"v":30.531899713817616,"d":"30.5319"},{"$nulls":9},{"v":2.8091908091908526,"d":"2.81"},59.67398863329032]
[{"$f":"A761+Sheet2!G$11","v":{"v":2.0659340659340932,"d":"2.07"}},{"v":30.326443350072793,"d":"30.3264"},{"$nulls":9},{"v":-3.2567432567432406,"d":"-3.26"},59.92288269463224]
[{"$f":"A762+Sheet2!G$11","v":{"v":2.0739260739261014,"d":"2.07"}},{"v":30.12029966460556,"d":"30.1203"},{"$nulls":9},{"v":2.817182817182861,"d":"2.82"},60.20883601696343]
[{"$f":"A763+Sheet2!G$11","v":{"v":2.0819180819181096,"d":"2.08"}},{"v":29.91347870255104,"d":"29.9135"},{"$nulls":9},{"v":-3.2647352647352488,"d":"-3.26"},60.72265108506828]
[{"$f":"A764+Sheet2!G$11","v":{"v":2.0899100899101177,"d":"2.09"}},{"v":29.705990606956142,"d":"29.7060"},{"$nulls":9},{"v":2.825174825174869,"d":"2.83"},60.74912776125812]
[{"$f":"A765+Sheet2!G$11","v":{"v":2.097902097902126,"d":"2.10"}},{"v":29.497845618779557,"d":"29.4978"},{"$nulls":9},{"v":2.833166833166877,"d":"2.83"},61.29489842902744]
[{"$f":"A766+Sheet2!G$11","v":{"v":2.105894105894134,"d":"2.11"}},{"v":29.289054076891723,"d":"29.2891"},{"$nulls":9},{"v":-3.272727272727257,"d":"-3.27"},61.52995014001616]
[{"$f":"A767+Sheet2!G$11","v":{"v":2.1138861138861422,"d":"2.11"}},{"v":29.079626418074863,"d":"29.0796"},{"$nulls":9},{"v":2.8411588411588853,"d":"2.84"},61.84618268103627]
[{"$f":"A768+Sheet2!G$11","v":{"v":2.1218781218781504,"d":"2.12"}},{"v":28.86957317702293,"d":"28.8696"},{"$nulls":9},{"v":-3.280719280719265,"d":"-3.28"},62.34481990538781]
[{"$f":"A769+Sheet2!G$11","v":{"v":2.1298701298701586,"d":"2.13"}},{"v":28.658904986341675,"d":"28.6589"},{"$nulls":9},{"v":2.8491508491508934,"d":"2.85"},62.40301527596115]
[{"$f":"A770+Sheet2!G$11","v":{"v":2.1378621378621667,"d":"2.14"}},{"$f":"x^4-5*x^3+3*x+50","v":{"v":28.447632576548607,"d":"28.4476"}},{"$nulls":9},{"v":2.8571428571429016,"d":"2.86"},62.96543107039049]
[{"$f":"A771+Sheet2!G$11","v":{"v":2.145854145854175,"d":"2.15"}},{"v":28.23576677607298,"d":"28.2358"},{"$nulls":9},{"v":-3.2887112887112733,"d":"-3.29"},63.16730052500685]
[{"$f":"A772+Sheet2!G$11","v":{"v":2.153846153846183,"d":"2.15"}},{"v":28.023318511255827,"d":"28.0233"},{"$nulls":9},{"v":2.86513486513491,"d":"2.87"},63.5334650188244]
[{"$f":"A773+Sheet2!G$11","v":{"v":2.161838161838191,"d":"2.16"}},{"v":27.810298806349973,"d":"27.8103"},{"$nulls":9},{"v":-3.2967032967032814,"d":"-3.30"},63.9974322406088]
[{"$f":"A774+Sheet2!G$11","v":{"v":2.1698301698301994,"d":"2.17"}},{"v":27.596718783519954,"d":"27.5967"},{"$nulls":9},{"v":2.873126873126918,"d":"2.87"},64.10715217367478]
[{"$f":"A775+Sheet2!G$11","v":{"v":2.1778221778222075,"d":"2.18"}},{"v":27.38258966284211,"d":"27.3826"},{"$nulls":9},{"v":2.881118881118926,"d":"2.88"},64.6865276852653]
[{"$f":"A776+Sheet2!G$11","v":{"v":2.1858141858142157,"d":"2.19"}},{"v":27.167922762304542,"d":"27.1679"},{"$nulls":9},{"v":-3.3046953046952896,"d":"-3.30"},64.83525539184083]
[{"$f":"A777+Sheet2!G$11","v":{"v":2.193806193806224,"d":"2.19"}},{"v":26.952729497807102,"d":"26.9527"},{"$nulls":9},{"v":2.8891108891109343,"d":"2.89"},65.27162680183142]
[{"$f":"A778+Sheet2!G$11","v":{"v":2.201798201798232,"d":"2.20"}},{"v":26.737021383161412,"d":"26.7370"},{"$nulls":9},{"v":-3.3126873126872978,"d":"-3.31"},65.68081041626195]
[{"$f":"A779+Sheet2!G$11","v":{"v":2.20979020979024,"d":"2.21"}},{"v":26.52081003009087,"d":"26.5208"},{"$nulls":9},{"v":2.8971028971029424,"d":"2.90"},65.86248486952027]
[{"$f":"A780+Sheet2!G$11","v":{"v":2.2177822177822484,"d":"2.22"}},{"v":26.30410714823062,"d":"26.3041"},{"$nulls":9},{"v":2.9050949050949506,"d":"2.91"},66.45913733239087]
[{"$f":"A781+Sheet2!G$11","v":{"v":2.2257742257742565,"d":"2.23"}},{"v":26.086924545127594,"d":"26.0869"},{"$nulls":9},{"v":-3.320679320679306,"d":"-3.32"},66.53413784934286]
[{"$f":"A782+Sheet2!G$11","v":{"v":2.2337662337662647,"d":"2.23"}},{"v":25.869274126240462,"d":"25.8693"},{"$nulls":9},{"v":2.9130869130869588,"d":"2.91"},67.06161973241389]
[{"$f":"A783+Sheet2!G$11","v":{"v":2.241758241758273,"d":"2.24"}},{"v":25.6511678949397,"d":"25.6512"},{"$nulls":9},{"v":-3.328671328671314,"d":"-3.33"},67.39527832446609]
[{"$f":"A784+Sheet2!G$11","v":{"v":2.249750249750281,"d":"2.25"}},{"v":25.432617952507492,"d":"25.4326"},{"$nulls":9},{"v":2.921078921078967,"d":"2.92"},67.66996770947183]
[{"$f":"A785+Sheet2!G$11","v":{"v":2.257742257742289,"d":"2.26"}},{"v":25.213636498137838,"d":"25.2136"},{"$nulls":9},{"v":-3.3366633366633223,"d":"-3.34"},68.2642725729259]
[{"$f":"A786+Sheet2!G$11","v":{"v":2.2657342657342974,"d":"2.27"}},{"v":24.99423582893647,"d":"24.9942"},{"$nulls":9},{"v":2.929070929070975,"d":"2.93"},68.28421700135898]
[{"$f":"A787+Sheet2!G$11","v":{"v":2.2737262737263055,"d":"2.27"}},{"v":24.774428339920917,"d":"24.7744"},{"$nulls":9},{"v":2.9370629370629833,"d":"2.94"},68.90440344378132]
[{"$f":"A788+Sheet2!G$11","v":{"v":2.2817182817183137,"d":"2.28"}},{"v":24.554226524020425,"d":"24.5542"},{"$nulls":9},{"v":-3.3446553446553304,"d":"-3.34"},69.1411614239284]
[{"$f":"A789+Sheet2!G$11","v":{"v":2.289710289710322,"d":"2.29"}},{"v":24.33364297207606,"d":"24.3336"},{"$nulls":9},{"v":2.9450549450549914,"d":"2.95"},69.53056297035663]
[{"$f":"A790+Sheet2!G$11","v":{"v":2.29770229770233,"d":"2.30"}},{"v":24.112690372840632,"d":"24.1127"},{"$nulls":9},{"v":-3.3526473526473386,"d":"-3.35"},70.02598580459124]
[{"$f":"A791+Sheet2!G$11","v":{"v":2.305694305694338,"d":"2.31"}},{"v":23.891381512978683,"d":"23.8914"},{"$nulls":9},{"v":2.9530469530469996,"d":"2.95"},70.1627316126145]
[{"$f":"A792+Sheet2!G$11","v":{"v":2.3136863136863464,"d":"2.31"}},{"v":23.669729277066573,"d":"23.6697"},{"$nulls":9},{"v":2.9610389610390078,"d":"2.96"},70.80094549999617]
[{"$f":"A793+Sheet2!G$11","v":{"v":2.3216783216783545,"d":"2.32"}},{"v":23.447746647592385,"d":"23.4477"},{"$nulls":9},{"v":-3.3606393606393468,"d":"-3.36"},70.91878673994415]
[{"$f":"A794+Sheet2!G$11","v":{"v":2.3296703296703627,"d":"2.33"}},{"v":23.22544670495601,"d":"23.2254"},{"$nulls":9},{"v":2.969030969031016,"d":"2.97"},71.44524085985483]
[{"$f":"A795+Sheet2!G$11","v":{"v":2.337662337662371,"d":"2.34"}},{"v":23.00284262746905,"d":"23.0028"},{"$nulls":9},{"v":-3.368631368631355,"d":"-3.37"},71.81960535292838]
[{"$f":"A796+Sheet2!G$11","v":{"v":2.345654345654379,"d":"2.35"}},{"v":22.779947691354927,"d":"22.7799"},{"$nulls":9},{"v":2.977022977023024,"d":"2.98"},72.09565401745523]
[{"$f":"A797+Sheet2!G$11","v":{"v":2.353646353646387,"d":"2.35"}},{"v":22.556775270748787,"d":"22.5568"},{"$nulls":9},{"v":-3.376623376623363,"d":"-3.38"},72.72848286439702]
[{"$f":"A798+Sheet2!G$11","v":{"v":2.3616383616383954,"d":"2.36"}},{"v":22.33333883769756,"d":"22.3333"},{"$nulls":9},{"v":2.9850149850150323,"d":"2.99"},72.752221395974]
[{"$f":"A799+Sheet2!G$11","v":{"v":2.3696303696304035,"d":"2.37"}},{"v":22.109651962159912,"d":"22.1097"},{"$nulls":9},{"v":2.9930069930070404,"d":"2.99"},73.41497951649953]
[{"$f":"A800+Sheet2!G$11","v":{"v":2.3776223776224117,"d":"2.38"}},{"v":21.885728312006343,"d":"21.8857"},{"$nulls":9},{"v":-3.3846153846153713,"d":"-3.38"},73.64546059311493]
[{"$f":"A801+Sheet2!G$11","v":{"v":2.38561438561442,"d":"2.39"}},{"v":21.66158165301905,"d":"21.6616"},{"$nulls":9},{"v":3.0009990009990486,"d":"3.00"},74.08396499803197]
[{"$f":"A802+Sheet2!G$11","v":{"v":2.393606393606428,"d":"2.39"}},{"v":21.437225848892034,"d":"21.4372"},{"$nulls":9},{"v":-3.3926073926073794,"d":"-3.39"},74.5705799557588]
[{"$f":"A803+Sheet2!G$11","v":{"v":2.401598401598436,"d":"2.40"}},{"v":21.21267486123103,"d":"21.2127"},{"$nulls":9},{"v":3.0089910089910568,"d":"3.01"},74.75921455748318]
[{"$f":"A804+Sheet2!G$11","v":{"v":2.4095904095904443,"d":"2.41"}},{"v":20.987942749553543,"d":"20.9879"},{"$nulls":9},{"v":3.016983016983065,"d":"3.02"},75.44076500967687]
[{"$f":"A805+Sheet2!G$11","v":{"v":2.4175824175824525,"d":"2.42"}},{"v":20.763043671288894,"d":"20.7630"},{"$nulls":9},{"v":-3.4005994005993876,"d":"-3.40"},75.50388246691699]
[{"$f":"A806+Sheet2!G$11","v":{"v":2.4255744255744607,"d":"2.43"}},{"v":20.53799188177809,"d":"20.5380"},{"$nulls":9},{"v":3.024975024975073,"d":"3.02"},76.12865326734843]
[{"$f":"A807+Sheet2!G$11","v":{"v":2.433566433566469,"d":"2.43"}},{"v":20.312801734273982,"d":"20.3128"},{"$nulls":9},{"v":-3.4085914085913958,"d":"-3.41"},76.44540973908957]
[{"$f":"A808+Sheet2!G$11","v":{"v":2.441558441558477,"d":"2.44"}},{"v":20.08748767994112,"d":"20.0875"},{"$nulls":9},{"v":3.0329670329670813,"d":"3.03"},76.82291634114512]
[{"$f":"A809+Sheet2!G$11","v":{"v":2.449550449550485,"d":"2.45"}},{"v":19.86206426785584,"d":"19.8621"},{"$nulls":9},{"v":-3.416583416583404,"d":"-3.42"},77.39520348268861]
[{"$f":"A810+Sheet2!G$11","v":{"v":2.4575424575424933,"d":"2.46"}},{"v":19.63654614500626,"d":"19.6365"},{"$nulls":9},{"v":3.0409590409590894,"d":"3.04"},77.52359133962585]
[{"$f":"A811+Sheet2!G$11","v":{"v":2.4655344655345015,"d":"2.47"}},{"v":19.410948056292277,"d":"19.4109"},{"$nulls":9},{"v":3.0489510489510976,"d":"3.05"},78.23071546926138]
[{"$f":"A812+Sheet2!G$11","v":{"v":2.4735264735265097,"d":"2.47"}},{"v":19.185284844525476,"d":"19.1853"},{"$nulls":9},{"v":-3.424575424575412,"d":"-3.42"},78.35330550603774]
[{"$f":"A813+Sheet2!G$11","v":{"v":2.481518481518518,"d":"2.48"}},{"v":18.9595714504293,"d":"18.9596"},{"$nulls":9},{"v":3.0569430569431058,"d":"3.06"},78.94432603443421]
[{"$f":"A814+Sheet2!G$11","v":{"v":2.489510489510526,"d":"2.49"}},{"v":18.733822912638914,"d":"18.7338"},{"$nulls":9},{"v":-3.4325674325674203,"d":"-3.43"},79.31975771537238]
[{"$f":"A815+Sheet2!G$11","v":{"v":2.497502497502534,"d":"2.50"}},{"v":18.508054367701224,"d":"18.5081"},{"$nulls":9},{"v":3.064935064935114,"d":"3.06"},79.66446043743855]
[{"$f":"A816+Sheet2!G$11","v":{"v":2.5054945054945423,"d":"2.51"}},{"v":18.28228105007495,"d":"18.2823"},{"$nulls":9},{"v":-3.4405594405594284,"d":"-3.44"},80.29460211483975]
[{"$f":"A817+Sheet2!G$11","v":{"v":2.5134865134865505,"d":"2.51"}},{"v":18.056518292130548,"d":"18.0565"},{"$nulls":9},{"v":3.072927072927122,"d":"3.07"},80.39115617848051]
[{"$f":"A818+Sheet2!G$11","v":{"v":2.5214785214785587,"d":"2.52"}},{"v":17.830781524150247,"d":"17.8308"},{"$nulls":9},{"v":3.0809190809191302,"d":"3.08"},81.1244508556778]
[{"$f":"A819+Sheet2!G$11","v":{"v":2.529470529470567,"d":"2.53"}},{"v":17.605086274328045,"d":"17.6051"},{"$nulls":9},{"v":-3.4485514485514366,"d":"-3.45"},81.27788080649887]
[{"$f":"A820+Sheet2!G$11","v":{"v":2.537462537462575,"d":"2.54"}},{"v":17.37944816876967,"d":"17.3794"},{"$nulls":9},{"v":3.0889110889111384,"d":"3.09"},81.86438216506002]
[{"$f":"A821+Sheet2!G$11","v":{"v":2.545454545454583,"d":"2.55"}},{"v":17.153882931492674,"d":"17.1539"},{"$nulls":9},{"v":-3.4565434565434447,"d":"-3.46"},82.2696359903205]
[{"$f":"A822+Sheet2!G$11","v":{"v":2.5534465534465913,"d":"2.55"}},{"v":16.928406384426367,"d":"16.9284"},{"$nulls":9},{"v":3.0969030969031466,"d":"3.10"},82.61098790056843]
[{"$f":"A823+Sheet2!G$11","v":{"v":2.5614385614385995,"d":"2.56"}},{"v":16.703034447411753,"d":"16.7030"},{"$nulls":9},{"v":-3.464535464535453,"d":"-3.46"},83.2699099641871]
[{"$f":"A824+Sheet2!G$11","v":{"v":2.5694305694306077,"d":"2.57"}},{"v":16.477783138201687,"d":"16.4778"},{"$nulls":9},{"v":3.1048951048951547,"d":"3.10"},83.36430595405622]
[{"$f":"A825+Sheet2!G$11","v":{"v":2.577422577422616,"d":"2.58"}},{"v":16.252668572460713,"d":"16.2527"},{"$nulls":9},{"v":3.112887112887163,"d":"3.11"},84.12437431528815]
[{"$f":"A826+Sheet2!G$11","v":{"v":2.585414585414624,"d":"2.59"}},{"v":16.027706963765212,"d":"16.0277"},{"$nulls":9},{"v":-3.472527472527461,"d":"-3.47"},84.27874512389297]
[{"$f":"A827+Sheet2!G$11","v":{"v":2.593406593406632,"d":"2.59"}},{"v":15.802914623603293,"d":"15.8029"},{"$nulls":9},{"v":3.120879120879171,"d":"3.12"},84.89123107194087]
[{"$f":"A828+Sheet2!G$11","v":{"v":2.6013986013986403,"d":"2.60"}},{"v":15.578307961374819,"d":"15.5783"},{"$nulls":9},{"v":-3.4805194805194692,"d":"-3.48"},85.29618396314417]
[{"$f":"A829+Sheet2!G$11","v":{"v":2.6093906093906485,"d":"2.61"}},{"v":15.353903484391452,"d":"15.3539"},{"$nulls":9},{"v":3.1288711288711792,"d":"3.13"},85.66491440960273]
[{"$f":"A830+Sheet2!G$11","v":{"v":2.6173826173826567,"d":"2.62"}},{"v":15.129717797876602,"d":"15.1297"},{"$nulls":9},{"v":-3.4885114885114774,"d":"-3.49"},86.32226907355847]
[{"$f":"A831+Sheet2!G$11","v":{"v":2.625374625374665,"d":"2.63"}},{"v":14.905767604965419,"d":"14.9058"},{"$nulls":9},{"v":3.1368631368631874,"d":"3.14"},86.44546261177393]
[{"$f":"A832+Sheet2!G$11","v":{"v":2.633366633366673,"d":"2.63"}},{"v":14.682069706704858,"d":"14.6821"},{"$nulls":9},{"v":3.1448551448551956,"d":"3.14"},87.23291405986633]
[{"$f":"A833+Sheet2!G$11","v":{"v":2.641358641358681,"d":"2.64"}},{"v":14.458641002053632,"d":"14.4586"},{"$nulls":9},{"v":-3.4965034965034856,"d":"-3.50"},87.35704314466552]
[{"$f":"A834+Sheet2!G$11","v":{"v":2.6493506493506893,"d":"2.65"}},{"$f":"x^4-5*x^3+3*x+50","v":{"v":14.235498487882197,"d":"14.2355"}},{"$nulls":9},{"v":3.1528471528472037,"d":"3.15"},88.02730723320364]
[{"$f":"A835+Sheet2!G$11","v":{"v":2.6573426573426975,"d":"2.66"}},{"v":14.012659258972796,"d":"14.0127"},{"$nulls":9},{"v":-3.5044955044954937,"d":"-3.50"},88.40054896390657]
[{"$f":"A836+Sheet2!G$11","v":{"v":2.6653346653347056,"d":"2.67"}},{"v":13.790140508019391,"d":"13.7901"},{"$nulls":9},{"v":3.160839160839212,"d":"3.16"},88.82868070902128]
[{"$f":"A837+Sheet2!G$11","v":{"v":2.673326673326714,"d":"2.67"}},{"v":13.5679595256278,"d":"13.5680"},{"$nulls":9},{"v":-3.512487512487502,"d":"-3.51"},89.45282941663478]
[{"$f":"A838+Sheet2!G$11","v":{"v":2.681318681318722,"d":"2.68"}},{"v":13.34613370031552,"d":"13.3461"},{"$nulls":9},{"v":3.16883116883122,"d":"3.17"},89.63707316246646]
[{"$f":"A839+Sheet2!G$11","v":{"v":2.68931068931073,"d":"2.69"}},{"v":13.124680518511859,"d":"13.1247"},{"$nulls":9},{"v":3.1768231768232282,"d":"3.18"},90.45252336659814]
[{"$f":"A840+Sheet2!G$11","v":{"v":2.6973026973027383,"d":"2.70"}},{"v":12.90361756455787,"d":"12.9036"},{"$nulls":9},{"v":-3.52047952047951,"d":"-3.52"},90.51392748611501]
[{"$f":"A841+Sheet2!G$11","v":{"v":2.7052947052947465,"d":"2.71"}},{"v":12.682962520706383,"d":"12.6830"},{"$nulls":9},{"v":3.1848151848152364,"d":"3.18"},91.27507019238709]
[{"$f":"A842+Sheet2!G$11","v":{"v":2.7132867132867546,"d":"2.71"}},{"v":12.462733167121968,"d":"12.4627"},{"$nulls":9},{"v":-3.5284715284715182,"d":"-3.53"},91.58388625352387]
[{"$f":"A843+Sheet2!G$11","v":{"v":2.721278721278763,"d":"2.72"}},{"v":12.242947381881002,"d":"12.2429"},{"$nulls":9},{"v":3.1928071928072446,"d":"3.19"},92.10475260871578]
[{"$f":"A844+Sheet2!G$11","v":{"v":2.729270729270771,"d":"2.73"}},{"v":12.023623140971594,"d":"12.0236"},{"$nulls":9},{"v":-3.5364635364635264,"d":"-3.54"},92.66274889794978]
[{"$f":"A845+Sheet2!G$11","v":{"v":2.737262737262779,"d":"2.74"}},{"v":11.804778518293645,"d":"11.8048"},{"$nulls":9},{"v":3.2007992007992527,"d":"3.20"},92.9416096823785]
[{"$f":"A846+Sheet2!G$11","v":{"v":2.7452547452547873,"d":"2.75"}},{"v":11.586431685658773,"d":"11.5864"},{"$nulls":9},{"v":-3.5444555444555346,"d":"-3.54"},93.75055869639291]
[{"$f":"A847+Sheet2!G$11","v":{"v":2.7532467532467955,"d":"2.75"}},{"v":11.368600912790441,"d":"11.3686"},{"$nulls":9},{"v":3.208791208791261,"d":"3.21"},93.78568057808126]
[{"$f":"A848+Sheet2!G$11","v":{"v":2.7612387612388036,"d":"2.76"}},{"v":11.15130456732377,"d":"11.1513"},{"$nulls":9},{"v":3.216783216783269,"d":"3.22"},94.63700455844184]
[{"$f":"A849+Sheet2!G$11","v":{"v":2.769230769230812,"d":"2.77"}},{"v":10.934561114805753,"d":"10.9346"},{"$nulls":9},{"v":-3.5524475524475427,"d":"-3.55"},94.84735902376516]
[{"$f":"A850+Sheet2!G$11","v":{"v":2.77722277722282,"d":"2.78"}},{"v":10.718389118695079,"d":"10.7184"},{"$nulls":9},{"v":3.2247752247752772,"d":"3.22"},95.49562098398984]
[{"$f":"A851+Sheet2!G$11","v":{"v":2.785214785214828,"d":"2.79"}},{"v":10.50280724036223,"d":"10.5028"},{"$nulls":9},{"v":-3.560439560439551,"d":"-3.56"},95.95319335289027]
[{"$f":"A852+Sheet2!G$11","v":{"v":2.7932067932068363,"d":"2.79"}},{"v":10.28783423908942,"d":"10.2878"},{"$nulls":9},{"v":3.2327672327672854,"d":"3.23"},96.36156931316658]
[{"$f":"A853+Sheet2!G$11","v":{"v":2.8011988011988445,"d":"2.80"}},{"v":10.073488972070692,"d":"10.0735"},{"$nulls":9},{"v":-3.568431568431559,"d":"-3.57"},97.06810525450365]
[{"$f":"A854+Sheet2!G$11","v":{"v":2.8091908091908526,"d":"2.81"}},{"v":9.859790394411789,"d":"9.8598"},{"$nulls":9},{"v":3.2407592407592936,"d":"3.24"},97.23488910232511]
[{"$f":"A855+Sheet2!G$11","v":{"v":2.817182817182861,"d":"2.82"}},{"v":9.646757559130272,"d":"9.6468"},{"$nulls":9},{"v":3.2487512487513017,"d":"3.25"},98.11562000573034]
[{"$f":"A856+Sheet2!G$11","v":{"v":2.825174825174869,"d":"2.83"}},{"v":9.434409617155453,"d":"9.4344"},{"$nulls":9},{"v":-3.5764235764235672,"d":"-3.58"},98.19213839725256]
[{"$f":"A857+Sheet2!G$11","v":{"v":2.833166833166877,"d":"2.83"}},{"v":9.222765817328309,"d":"9.2228"},{"$nulls":9},{"v":3.25674325674331,"d":"3.26"},99.00380177555886]
[{"$f":"A858+Sheet2!G$11","v":{"v":2.8411588411588853,"d":"2.84"}},{"v":9.011845506401798,"d":"9.0118"},{"$nulls":9},{"v":-3.5844155844155754,"d":"-3.58"},99.32533654769598]
[{"$f":"A859+Sheet2!G$11","v":{"v":2.8491508491508934,"d":"2.85"}},{"v":8.801668129040436,"d":"8.8017"},{"$nulls":9},{"v":3.264735264735318,"d":"3.26"},99.89947426189907]
[{"$f":"A860+Sheet2!G$11","v":{"v":2.8571428571429016,"d":"2.86"}},{"v":8.592253227820585,"d":"8.5923"},{"$nulls":9},{"v":-3.5924075924075836,"d":"-3.59"},100.46774357030463]
[{"$f":"A861+Sheet2!G$11","v":{"v":2.86513486513491,"d":"2.87"}},{"v":8.383620443230384,"d":"8.3836"},{"$nulls":9},{"v":3.272727272727326,"d":"3.27"},100.8026774127511]
[{"$f":"A862+Sheet2!G$11","v":{"v":2.873126873126918,"d":"2.87"}},{"v":8.175789513669734,"d":"8.1758"},{"$nulls":9},{"v":-3.6003996003995917,"d":"-3.60"},101.6194034274611]
[{"$f":"A863+Sheet2!G$11","v":{"v":2.881118881118926,"d":"2.88"}},{"v":7.9687802754502854,"d":"7.9688"},{"$nulls":9},{"v":3.2807192807193344,"d":"3.28"},101.71345127402688]
[{"$f":"A864+Sheet2!G$11","v":{"v":2.8891108891109343,"d":"2.89"}},{"v":7.762612662795462,"d":"7.7626"},{"$nulls":9},{"v":3.2887112887113426,"d":"3.29"},102.63183598955011]
[{"$f":"A865+Sheet2!G$11","v":{"v":2.8971028971029424,"d":"2.90"}},{"v":7.557306707840432,"d":"7.5573"},{"$nulls":9},{"v":-3.6083916083916,"d":"-3.61"},102.78036017945963]
[{"$f":"A866+Sheet2!G$11","v":{"v":2.9050949050949506,"d":"2.91"}},{"v":7.35288254063218,"d":"7.3529"},{"$nulls":9},{"v":3.2967032967033507,"d":"3.30"},103.55787180105624]
[{"$f":"A867+Sheet2!G$11","v":{"v":2.9130869130869588,"d":"2.91"}},{"v":7.1493603891293915,"d":"7.1494"},{"$nulls":9},{"v":-3.616383616383608,"d":"-3.62"},103.95065798450624]
[{"$f":"A868+Sheet2!G$11","v":{"v":2.921078921078967,"d":"2.92"}},{"v":6.946760579202575,"d":"6.9468"},{"$nulls":9},{"v":3.304695304695359,"d":"3.30"},104.49159904819246]
[{"$f":"A869+Sheet2!G$11","v":{"v":2.929070929070975,"d":"2.93"}},{"v":6.745103534633927,"d":"6.7451"},{"$nulls":9},{"v":-3.6243756243756162,"d":"-3.62"},105.13034109871884]
[{"$f":"A870+Sheet2!G$11","v":{"v":2.9370629370629833,"d":"2.94"}},{"v":6.544409777117515,"d":"6.5444"},{"$nulls":9},{"v":3.312687312687367,"d":"3.31"},105.4330581685177]
[{"$f":"A871+Sheet2!G$11","v":{"v":2.9450549450549914,"d":"2.95"}},{"v":6.344699926259096,"d":"6.3447"},{"$nulls":9},{"v":-3.6323676323676244,"d":"-3.63"},106.31945387612691]
[{"$f":"A872+Sheet2!G$11","v":{"v":2.9530469530469996,"d":"2.95"}},{"v":6.145994699576228,"d":"6.1460"},{"$nulls":9},{"v":3.320679320679375,"d":"3.32"},106.38228969750278]
[{"$f":"A873+Sheet2!G$11","v":{"v":2.9610389610390078,"d":"2.96"}},{"v":5.948314912498162,"d":"5.9483"},{"$nulls":9},{"v":3.3286713286713834,"d":"3.33"},107.3393342685302]
[{"$f":"A874+Sheet2!G$11","v":{"v":2.969030969031016,"d":"2.97"}},{"v":5.751681478366038,"d":"5.7517"},{"$nulls":9},{"v":-3.6403596403596326,"d":"-3.64"},107.51804076867182]
[{"$f":"A875+Sheet2!G$11","v":{"v":2.977022977023024,"d":"2.98"}},{"v":5.556115408432639,"d":"5.5561"},{"$nulls":9},{"v":3.3366633366633915,"d":"3.34"},108.30423261289418]
[{"$f":"A876+Sheet2!G$11","v":{"v":2.9850149850150323,"d":"2.99"}},{"v":5.361637811862622,"d":"5.3616"},{"$nulls":9},{"v":-3.6483516483516407,"d":"-3.65"},108.72614632620675]
[{"$f":"A877+Sheet2!G$11","v":{"v":2.9930069930070404,"d":"2.99"}},{"v":5.168269895732287,"d":"5.1683"},{"$nulls":9},{"v":3.3446553446553997,"d":"3.34"},109.27702555980082]
[{"$f":"A878+Sheet2!G$11","v":{"v":3.0009990009990486,"d":"3.00"}},{"v":4.9760329650298445,"d":"4.9760"},{"$nulls":9},{"v":-3.656343656343649,"d":"-3.66"},109.94381519649649]
[{"$f":"A879+Sheet2!G$11","v":{"v":3.0089910089910568,"d":"3.01"}},{"v":4.784948422655106,"d":"4.7849"},{"$nulls":9},{"v":3.352647352647408,"d":"3.35"},110.25775403636788]
[{"$f":"A880+Sheet2!G$11","v":{"v":3.016983016983065,"d":"3.02"}},{"v":4.595037769419797,"d":"4.5950"},{"$nulls":9},{"v":-3.664335664335657,"d":"-3.66"},111.17109212521771]
[{"$f":"A881+Sheet2!G$11","v":{"v":3.024975024975073,"d":"3.02"}},{"v":4.406322604047361,"d":"4.4063"},{"$nulls":9},{"v":3.360639360639416,"d":"3.36"},111.24645906762493]
[{"$f":"A882+Sheet2!G$11","v":{"v":3.0329670329670813,"d":"3.03"}},{"v":4.218824623172914,"d":"4.2188"},{"$nulls":9},{"v":3.368631368631424,"d":"3.37"},112.24318177651332]
[{"$f":"A883+Sheet2!G$11","v":{"v":3.0409590409590894,"d":"3.04"}},{"v":4.0325656213434655,"d":"4.0326"},{"$nulls":9},{"v":-3.672327672327665,"d":"-3.67"},112.4080219559588]
[{"$f":"A884+Sheet2!G$11","v":{"v":3.0489510489510976,"d":"3.05"}},{"v":3.8475674910177133,"d":"3.8476"},{"$nulls":9},{"v":3.3766233766234324,"d":"3.38"},113.24796338388612]
[{"$f":"A885+Sheet2!G$11","v":{"v":3.0569430569431058,"d":"3.06"}},{"v":3.663852222566206,"d":"3.6639"},{"$nulls":9},{"v":-3.6803196803196734,"d":"-3.68"},113.65464963021998]
[{"$f":"A886+Sheet2!G$11","v":{"v":3.064935064935114,"d":"3.06"}},{"v":3.481441904271122,"d":"3.4814"},{"$nulls":9},{"v":3.3846153846154405,"d":"3.38"},114.26084520850821]
[{"$f":"A887+Sheet2!G$11","v":{"v":3.072927072927122,"d":"3.07"}},{"v":3.3003587223265,"d":"3.3004"},{"$nulls":9},{"v":-3.6883116883116815,"d":"-3.69"},114.91102018741316]
[{"$f":"A888+Sheet2!G$11","v":{"v":3.0809190809191302,"d":"3.08"}},{"v":3.120624960838157,"d":"3.1206"},{"$nulls":9},{"v":3.3926073926074487,"d":"3.39"},115.28186866705624]
[{"$f":"A889+Sheet2!G$11","v":{"v":3.0889110889111384,"d":"3.09"}},{"v":2.942263001823619,"d":"2.9423"},{"$nulls":9},{"v":-3.6963036963036897,"d":"-3.70"},116.17717876486205]
[{"$f":"A890+Sheet2!G$11","v":{"v":3.0969030969031466,"d":"3.10"}},{"v":2.7652953252121506,"d":"2.7653"},{"$nulls":9},{"v":3.400599400599457,"d":"3.40"},116.31107527411858]
[{"$f":"A891+Sheet2!G$11","v":{"v":3.1048951048951547,"d":"3.10"}},{"v":2.589744508844916,"d":"2.5897"},{"$nulls":9},{"v":3.408591408591465,"d":"3.41"},117.34850664219537]
[{"$f":"A892+Sheet2!G$11","v":{"v":3.112887112887163,"d":"3.11"}},{"v":2.4156332284746824,"d":"2.4156"},{"$nulls":9},{"v":-3.704295704295698,"d":"-3.70"},117.45317059780203]
[{"$f":"A893+Sheet2!G$11","v":{"v":3.120879120879171,"d":"3.12"}},{"v":2.242984257766139,"d":"2.2430"},{"$nulls":9},{"v":3.416583416583473,"d":"3.42"},118.39420448169858]
[{"$f":"A894+Sheet2!G$11","v":{"v":3.1288711288711792,"d":"3.13"}},{"v":2.071820468295577,"d":"2.0718"},{"$nulls":9},{"v":-3.712287712287706,"d":"-3.71"},118.73904101938045]
[{"$f":"A895+Sheet2!G$11","v":{"v":3.1368631368631874,"d":"3.14"}},{"v":1.9021648295511966,"d":"1.9022"},{"$nulls":9},{"v":3.4245754245754814,"d":"3.42"},119.44821060095184]
[{"$f":"A896+Sheet2!G$11","v":{"v":3.1448551448551956,"d":"3.14"}},{"v":1.7340404089328558,"d":"1.7340"},{"$nulls":9},{"v":-3.720279720279714,"d":"-3.72"},120.03483546065627]
[{"$f":"A897+Sheet2!G$11","v":{"v":3.1528471528472037,"d":"3.15"}},{"v":1.5674703717522718,"d":"1.5675"},{"$nulls":9},{"v":3.4325674325674895,"d":"3.43"},120.51056690619066]
[{"$f":"A898+Sheet2!G$11","v":{"v":3.160839160839212,"d":"3.16"}},{"$f":"x^4-5*x^3+3*x+50","v":{"v":1.4024779812328347,"d":"1.4025"}},{"$nulls":9},{"v":-3.7282717282717224,"d":"-3.73"},121.34059945060017]
[{"$f":"A899+Sheet2!G$11","v":{"v":3.16883116883122,"d":"3.17"}},{"v":1.2390865985097363,"d":"1.2391"},{"$nulls":9},{"v":3.4405594405594977,"d":"3.44"},121.58131540156222]
[{"$f":"A900+Sheet2!G$11","v":{"v":3.1768231768232282,"d":"3.18"}},{"v":1.0773196826300193,"d":"1.0773"},{"$nulls":9},{"v":-3.7362637362637305,"d":"-3.74"},122.65637861609483]
[{"$f":"A901+Sheet2!G$11","v":{"v":3.1848151848152364,"d":"3.18"}},{"v":0.9172007905523003,"d":"0.9172"},{"$nulls":9},{"v":3.448551448551506,"d":"3.45"},122.6604981891255]
[{"$f":"A902+Sheet2!G$11","v":{"v":3.1928071928072446,"d":"3.19"}},{"v":0.7587535771471252,"d":"0.7588"},{"$nulls":9},{"v":3.456543456543514,"d":"3.46"},123.74815746885129]
[{"$f":"A903+Sheet2!G$11","v":{"v":3.2007992007992527,"d":"3.20"}},{"v":0.6020017951968271,"d":"0.6020"},{"$nulls":9},{"v":-3.7442557442557387,"d":"-3.74"},123.9822186819344]
[{"$f":"A904+Sheet2!G$11","v":{"v":3.208791208791261,"d":"3.21"}},{"v":0.4469692953952986,"d":"0.4470"},{"$nulls":9},{"v":3.464535464535522,"d":"3.46"},124.84433553862205]
[{"$f":"A905+Sheet2!G$11","v":{"v":3.216783216783269,"d":"3.22"}},{"v":0.2936800263484116,"d":"0.2937"},{"$nulls":9},{"v":-3.752247752247747,"d":"-3.75"},125.31816547082497]
[{"$f":"A906+Sheet2!G$11","v":{"v":3.2247752247752772,"d":"3.22"}},{"v":0.14215803457373966,"d":"0.1422"},{"$nulls":9},{"v":3.4725274725275304,"d":"3.47"},125.9490747942321]
[{"$f":"A907+Sheet2!G$11","v":{"v":3.2327672327672854,"d":"3.23"}},{"v":-7.572535499498656E-3,"d":"-0.0076"},{"$nulls":9},{"v":-3.760239760239755,"d":"-3.76"},126.66426490338444]
[{"$f":"A908+Sheet2!G$11","v":{"v":3.2407592407592936,"d":"3.24"}},{"v":-0.15548744153007021,"d":"-0.1555"},{"$nulls":9},{"v":3.4805194805195385,"d":"3.48"},127.06241772938745]
[{"$f":"A909+Sheet2!G$11","v":{"v":3.2487512487513017,"d":"3.25"}},{"v":-0.30156234326529585,"d":"-0.3016"},{"$nulls":9},{"v":-3.768231768231763,"d":"-3.77"},128.02056299814228]
[{"$f":"A910+Sheet2!G$11","v":{"v":3.25674325674331,"d":"3.26"}},{"v":-0.4457728025404606,"d":"-0.4458"},{"$nulls":9},{"v":3.4885114885115467,"d":"3.49"},128.18440693570597]
[{"$f":"A911+Sheet2!G$11","v":{"v":3.264735264735318,"d":"3.26"}},{"v":-0.5880942832791618,"d":"-0.5881"},{"$nulls":9},{"v":3.496503496503555,"d":"3.50"},129.31508510271718]
[{"$f":"A912+Sheet2!G$11","v":{"v":3.272727272727326,"d":"3.27"}},{"v":-0.7285021514933234,"d":"-0.7285"},{"$nulls":9},{"v":-3.7762237762237714,"d":"-3.78"},129.38710587153997]
[{"$f":"A913+Sheet2!G$11","v":{"v":3.2807192807193344,"d":"3.28"}},{"v":-0.8669716752829828,"d":"-0.8670"},{"$nulls":9},{"v":3.504495504495563,"d":"3.50"},130.4544950178624]
[{"$f":"A914+Sheet2!G$11","v":{"v":3.2887112887113426,"d":"3.29"}},{"v":-1.0034780248365038,"d":"-1.0035"},{"$nulls":9},{"v":-3.7842157842157795,"d":"-3.78"},130.76393973793049]
[{"$f":"A915+Sheet2!G$11","v":{"v":3.2967032967033507,"d":"3.30"}},{"v":-1.1379962724304278,"d":"-1.1380"},{"$nulls":9},{"v":3.512487512487571,"d":"3.51"},131.60267956649483]
[{"$f":"A916+Sheet2!G$11","v":{"v":3.304695304695359,"d":"3.30"}},{"v":-1.2705013924295656,"d":"-1.2705"},{"$nulls":9},{"v":-3.7922077922077877,"d":"-3.79"},132.15111090957885]
[{"$f":"A917+Sheet2!G$11","v":{"v":3.312687312687367,"d":"3.31"}},{"v":-1.4009682612868914,"d":"-1.4010"},{"$nulls":9},{"v":3.5204795204795793,"d":"3.52"},132.7596817318792]
[{"$f":"A918+Sheet2!G$11","v":{"v":3.320679320679375,"d":"3.32"}},{"v":-1.5293716575437344,"d":"-1.5294"},{"$nulls":9},{"v":-3.800199800199796,"d":"-3.80"},133.5486657966616]
[{"$f":"A919+Sheet2!G$11","v":{"v":3.3286713286713834,"d":"3.33"}},{"v":-1.6556862618295511,"d":"-1.6557"},{"$nulls":9},{"v":3.5284715284715875,"d":"3.53"},133.9255445951922]
[{"$f":"A920+Sheet2!G$11","v":{"v":3.3366633366633915,"d":"3.34"}},{"v":-1.7798866568621463,"d":"-1.7799"},{"$nulls":9},{"v":-3.808191808191804,"d":"-3.81"},134.9566509072672]
[{"$f":"A921+Sheet2!G$11","v":{"v":3.3446553446553997,"d":"3.34"}},{"v":-1.9019473274473881,"d":"-1.9019"},{"$nulls":9},{"v":3.5364635364635957,"d":"3.54"},135.10031133552235]
[{"$f":"A922+Sheet2!G$11","v":{"v":3.352647352647408,"d":"3.35"}},{"v":-2.0218426604795496,"d":"-2.0218"},{"$nulls":9},{"v":3.544455544455604,"d":"3.54"},136.28402522986963]
[{"$f":"A923+Sheet2!G$11","v":{"v":3.360639360639416,"d":"3.36"}},{"v":-2.139546944941074,"d":"-2.1395"},{"$nulls":9},{"v":-3.816183816183812,"d":"-3.82"},136.37511284739583]
[{"$f":"A924+Sheet2!G$11","v":{"v":3.368631368631424,"d":"3.37"}},{"v":-2.2550343719025463,"d":"-2.2550"},{"$nulls":9},{"v":3.552447552447612,"d":"3.55"},137.47672965314607]
[{"$f":"A925+Sheet2!G$11","v":{"v":3.3766233766234324,"d":"3.38"}},{"v":-2.3682790345229847,"d":"-2.3683"},{"$nulls":9},{"v":-3.8241758241758204,"d":"-3.82"},137.80409832095935]
[{"$f":"A926+Sheet2!G$11","v":{"v":3.3846153846154405,"d":"3.38"}},{"v":-2.4792549280495066,"d":"-2.4793"},{"$nulls":9},{"v":3.56043956043962,"d":"3.56"},138.6784680781753]
[{"$f":"A927+Sheet2!G$11","v":{"v":3.3926073926074487,"d":"3.39"}},{"v":-2.5879359498174495,"d":"-2.5879"},{"$nulls":9},{"v":-3.8321678321678285,"d":"-3.83"},139.24365412978153]
[{"$f":"A928+Sheet2!G$11","v":{"v":3.400599400599457,"d":"3.40"}},{"v":-2.6942958992504487,"d":"-2.6943"},{"$nulls":9},{"v":3.5684315684316283,"d":"3.57"},139.8892840756929]
[{"$f":"A929+Sheet2!G$11","v":{"v":3.408591408591465,"d":"3.41"}},{"v":-2.798308477860381,"d":"-2.7983"},{"$nulls":9},{"v":-3.8401598401598367,"d":"-3.84"},140.69382717359792]
[{"$f":"A930+Sheet2!G$11","v":{"v":3.416583416583473,"d":"3.42"}},{"v":-2.8999472892472937,"d":"-2.8999"},{"$nulls":9},{"v":3.5764235764236365,"d":"3.58"},141.10922131434597]
[{"$f":"A931+Sheet2!G$11","v":{"v":3.4245754245754814,"d":"3.42"}},{"v":-2.999185839099546,"d":"-2.9992"},{"$nulls":9},{"v":-3.848151848151845,"d":"-3.85"},142.15466445005563]
[{"$f":"A932+Sheet2!G$11","v":{"v":3.4325674325674895,"d":"3.43"}},{"v":-3.095997535193618,"d":"-3.0960"},{"$nulls":9},{"v":3.5844155844156447,"d":"3.58"},142.33832356069354]
[{"$f":"A933+Sheet2!G$11","v":{"v":3.4405594405594977,"d":"3.44"}},{"v":-3.1903556873943444,"d":"-3.1904"},{"$nulls":9},{"v":3.592407592407653,"d":"3.59"},143.5766346792064]
[{"$f":"A934+Sheet2!G$11","v":{"v":3.448551448551506,"d":"3.45"}},{"v":-3.282233507654773,"d":"-3.2822"},{"$nulls":9},{"v":-3.856143856143853,"d":"-3.86"},143.62621305471373]
[{"$f":"A935+Sheet2!G$11","v":{"v":3.456543456543514,"d":"3.46"}},{"v":-3.3716041100160936,"d":"-3.3716"},{"$nulls":9},{"v":3.600399600399661,"d":"3.60"},144.82419863226704]
[{"$f":"A936+Sheet2!G$11","v":{"v":3.464535464535522,"d":"3.46"}},{"v":-3.4584405106078933,"d":"-3.4584"},{"$nulls":9},{"v":-3.864135864135861,"d":"-3.86"},145.10852018104302]
[{"$f":"A937+Sheet2!G$11","v":{"v":3.4725274725275304,"d":"3.47"}},{"v":-3.542715627647823,"d":"-3.5427"},{"$nulls":9},{"v":3.608391608391669,"d":"3.61"},146.08105948016976]
[{"$f":"A938+Sheet2!G$11","v":{"v":3.4805194805195385,"d":"3.48"}},{"v":-3.624402281441945,"d":"-3.6244"},{"$nulls":9},{"v":-3.8721278721278694,"d":"-3.87"},146.6016331204259]
[{"$f":"A939+Sheet2!G$11","v":{"v":3.4885114885115467,"d":"3.49"}},{"v":-3.70347319438428,"d":"-3.7035"},{"$nulls":9},{"v":3.6163836163836773,"d":"3.62"},147.34726138112055]
[{"$f":"A940+Sheet2!G$11","v":{"v":3.496503496503555,"d":"3.50"}},{"v":-3.779900990957387,"d":"-3.7799"},{"$nulls":9},{"v":-3.8801198801198775,"d":"-3.88"},148.10559926215677]
[{"$f":"A941+Sheet2!G$11","v":{"v":3.504495504495563,"d":"3.50"}},{"v":-3.8536581977319386,"d":"-3.8537"},{"$nulls":9},{"v":3.6243756243756855,"d":"3.62"},148.62284859123733]
[{"$f":"A942+Sheet2!G$11","v":{"v":3.512487512487571,"d":"3.51"}},{"v":-3.924717243366814,"d":"-3.9247"},{"$nulls":9},{"v":-3.8881118881118857,"d":"-3.89"},149.62046609344173]
[{"$f":"A943+Sheet2!G$11","v":{"v":3.5204795204795793,"d":"3.52"}},{"v":-3.9930504586091047,"d":"-3.9931"},{"$nulls":9},{"v":3.6323676323676937,"d":"3.63"},149.90786546454962]
[{"$f":"A944+Sheet2!G$11","v":{"v":3.5284715284715875,"d":"3.53"}},{"v":-4.058630076294257,"d":"-4.0586"},{"$nulls":9},{"v":-3.896103896103894,"d":"-3.90"},151.14628119939852]
[{"$f":"A945+Sheet2!G$11","v":{"v":3.5364635364635957,"d":"3.54"}},{"v":-4.12142823134586,"d":"-4.1214"},{"$nulls":9},{"v":3.640359640359702,"d":"3.64"},151.20235645299869]
[{"$f":"A946+Sheet2!G$11","v":{"v":3.544455544455604,"d":"3.54"}},{"v":-4.1814169607756995,"d":"-4.1814"},{"$nulls":9},{"v":3.64835164835171,"d":"3.65"},152.50636610643778]
[{"$f":"A947+Sheet2!G$11","v":{"v":3.552447552447612,"d":"3.55"}},{"v":-4.23856820368394,"d":"-4.2386"},{"$nulls":9},{"v":-3.904095904095902,"d":"-3.90"},152.68309226305675]
[{"$f":"A948+Sheet2!G$11","v":{"v":3.56043956043962,"d":"3.56"}},{"v":-4.292853801258872,"d":"-4.2929"},{"$nulls":9},{"v":3.656343656343718,"d":"3.66"},153.81993907263168]
[{"$f":"A949+Sheet2!G$11","v":{"v":3.5684315684316283,"d":"3.57"}},{"v":-4.3442454967769635,"d":"-4.3442"},{"$nulls":9},{"v":-3.91208791208791,"d":"-3.91"},154.23094706535778]
[{"$f":"A950+Sheet2!G$11","v":{"v":3.5764235764236365,"d":"3.58"}},{"v":-4.392714935603053,"d":"-4.3927"},{"$nulls":9},{"v":3.6643356643357263,"d":"3.66"},155.1431200972571]
[{"$f":"A951+Sheet2!G$11","v":{"v":3.5844155844156447,"d":"3.58"}},{"v":-4.4382336651901895,"d":"-4.4382"},{"$nulls":9},{"v":-3.9200799200799183,"d":"-3.92"},155.78989348515475]
[{"$f":"A952+Sheet2!G$11","v":{"v":3.592407592407653,"d":"3.59"}},{"v":-4.48077313507963,"d":"-4.4808"},{"$nulls":9},{"v":3.6723276723277345,"d":"3.67"},156.4759540239024]
[{"$f":"A953+Sheet2!G$11","v":{"v":3.600399600399661,"d":"3.60"}},{"v":-4.52030469690078,"d":"-4.5203"},{"$nulls":9},{"v":-3.9280719280719265,"d":"-3.93"},157.35997949921256]
[{"$f":"A954+Sheet2!G$11","v":{"v":3.608391608391669,"d":"3.61"}},{"v":-4.556799604371363,"d":"-4.5568"},{"$nulls":9},{"v":3.6803196803197427,"d":"3.68"},157.81848579406778]
[{"$f":"A955+Sheet2!G$11","v":{"v":3.6163836163836773,"d":"3.62"}},{"v":-4.5902290132975025,"d":"-4.5902"},{"$nulls":9},{"v":-3.9360639360639347,"d":"-3.94"},158.94125318220784]
[{"$f":"A956+Sheet2!G$11","v":{"v":3.6243756243756855,"d":"3.62"}},{"v":-4.620563981573163,"d":"-4.6206"},{"$nulls":9},{"v":3.688311688311751,"d":"3.69"},159.1707604471651]
[{"$f":"A957+Sheet2!G$11","v":{"v":3.6323676323676937,"d":"3.63"}},{"v":-4.647775469180914,"d":"-4.6478"},{"$nulls":9},{"v":3.696303696303759,"d":"3.70"},160.53282312051815]
[{"$f":"A958+Sheet2!G$11","v":{"v":3.640359640359702,"d":"3.64"}},{"v":-4.671834338191381,"d":"-4.6718"},{"$nulls":9},{"v":-3.944055944055943,"d":"-3.94"},{"v":160.53376270672905,"d":"160.5338"}]
[{"$f":"A959+Sheet2!G$11","v":{"v":3.64835164835171,"d":"3.65"}},{"v":-4.692711352763425,"d":"-4.6927"},{"$nulls":9},{"v":3.704295704295767,"d":"3.70"},161.90471904936237]
[{"$f":"A960+Sheet2!G$11","v":{"v":3.656343656343718,"d":"3.66"}},{"v":-4.710377179144288,"d":"-4.7104"},{"$nulls":9},{"v":-3.952047952047951,"d":"-3.95"},{"v":162.1375563432763,"d":"162.1376"}]
[{"$f":"A961+Sheet2!G$11","v":{"v":3.6643356643357263,"d":"3.66"}},{"v":-4.724802385669172,"d":"-4.7248"},{"$nulls":9},{"v":3.7122877122877753,"d":"3.71"},163.28649356684494]
[{"$f":"A962+Sheet2!G$11","v":{"v":3.6723276723277345,"d":"3.67"}},{"$f":"x^4-5*x^3+3*x+50","v":{"v":-4.735957442761816,"d":"-4.7360"}},{"$nulls":9},{"v":-3.960039960039959,"d":"-3.96"},{"v":163.75268246026155,"d":"163.7527"}]
[{"$f":"A963+Sheet2!G$11","v":{"v":3.6803196803197427,"d":"3.68"}},{"v":-4.74381272293396,"d":"-4.7438"},{"$nulls":9},{"v":3.7202797202797835,"d":"3.72"},164.67819210402493]
[{"$f":"A964+Sheet2!G$11","v":{"v":3.688311688311751,"d":"3.69"}},{"v":-4.748338500785778,"d":"-4.7483"},{"$nulls":9},{"v":-3.9680319680319673,"d":"-3.97"},{"v":165.37918952400855,"d":"165.3792"}]
[{"$f":"A965+Sheet2!G$11","v":{"v":3.696303696303759,"d":"3.70"}},{"v":-4.749504953005513,"d":"-4.7495"},{"$nulls":9},{"v":3.7282717282717917,"d":"3.73"},166.07986018987305]
[{"$f":"A966+Sheet2!G$11","v":{"v":3.704295704295767,"d":"3.70"}},{"v":-4.74728215836965,"d":"-4.7473"},{"$nulls":9},{"v":-3.9760239760239755,"d":"-3.98"},{"v":167.01712609875275,"d":"167.0171"}]
[{"$f":"A967+Sheet2!G$11","v":{"v":3.7122877122877753,"d":"3.71"}},{"v":-4.741640097743073,"d":"-4.7416"},{"$nulls":9},{"v":3.7362637362638,"d":"3.74"},167.49154345127187]
[{"$f":"A968+Sheet2!G$11","v":{"v":3.7202797202797835,"d":"3.72"}},{"v":-4.73254865407872,"d":"-4.7325"},{"$nulls":9},{"v":-3.9840159840159837,"d":"-3.98"},{"v":168.66654084664148,"d":"168.6665"}]
[{"$f":"A969+Sheet2!G$11","v":{"v":3.7282717282717917,"d":"3.73"}},{"v":-4.719977612417907,"d":"-4.7200"},{"$nulls":9},{"v":3.744255744255808,"d":"3.74"},168.91328761301565]
[{"$f":"A970+Sheet2!G$11","v":{"v":3.7362637362638,"d":"3.74"}},{"v":-4.703896659890049,"d":"-4.7039"},{"$nulls":9},{"v":-3.992007992007992,"d":"-3.99"},{"v":170.32748252773357,"d":"170.3275"}]
[{"$f":"A971+Sheet2!G$11","v":{"v":3.744255744255808,"d":"3.74"}},{"v":-4.684275385712887,"d":"-4.6843"},{"$nulls":9},{"v":3.752247752247816,"d":"3.75"},170.3451384978104]
[{"$f":"A972+Sheet2!G$11","v":{"v":3.752247752247816,"d":"3.75"}},{"v":-4.6610832811923615,"d":"-4.6611"},{"$nulls":9},{"v":3.7602397602398243,"d":"3.76"},171.787142026274]
[{"$f":"A973+Sheet2!G$11","v":{"v":3.7602397602398243,"d":"3.76"}},{"v":-4.6342897397226395,"d":"-4.6343"},{"$nulls":9},{"v":-4,"d":"-4.00"},{"v":172,"d":"172.0000"}]
[{"$f":"A974+Sheet2!G$11","v":{"v":3.7682317682318325,"d":"3.77"}},{"v":-4.603864056786179,"d":"-4.6039"},{"$nulls":9},{"v":3.7682317682318325,"d":"3.77"},173.23934421693608]
[{"$f":"A975+Sheet2!G$11","v":{"v":3.7762237762238406,"d":"3.78"}},{"v":-4.56977542995368,"d":"-4.5698"},{"$nulls":9},{"v":3.7762237762238406,"d":"3.78"},174.70179118623795]
[{"$f":"A976+Sheet2!G$11","v":{"v":3.784215784215849,"d":"3.78"}},{"v":-4.531992958883912,"d":"-4.5320"},{"$nulls":9},{"v":3.784215784215849,"d":"3.78"},176.1745291485327]
[{"$f":"A977+Sheet2!G$11","v":{"v":3.792207792207857,"d":"3.79"}},{"v":-4.490485645324014,"d":"-4.4905"},{"$nulls":9},{"v":3.792207792207857,"d":"3.79"},177.65760441608518]
[{"$f":"A978+Sheet2!G$11","v":{"v":3.800199800199865,"d":"3.80"}},{"v":-4.445222393109496,"d":"-4.4452"},{"$nulls":9},{"v":3.800199800199865,"d":"3.80"},179.15106339907214]
[{"$f":"A979+Sheet2!G$11","v":{"v":3.8081918081918733,"d":"3.81"}},{"v":-4.396172008163816,"d":"-4.3962"},{"$nulls":9},{"v":3.8081918081918733,"d":"3.81"},180.6549526055819]
[{"$f":"A980+Sheet2!G$11","v":{"v":3.8161838161838815,"d":"3.82"}},{"v":-4.343303198498845,"d":"-4.3433"},{"$nulls":9},{"v":3.8161838161838815,"d":"3.82"},182.16931864161467]
[{"$f":"A981+Sheet2!G$11","v":{"v":3.8241758241758896,"d":"3.82"}},{"v":-4.286584574214572,"d":"-4.2866"},{"$nulls":9},{"v":3.8241758241758896,"d":"3.82"},183.69420821108247]
[{"$f":"A982+Sheet2!G$11","v":{"v":3.832167832167898,"d":"3.83"}},{"v":-4.225984647499445,"d":"-4.2260"},{"$nulls":9},{"v":3.832167832167898,"d":"3.83"},185.22966811580886]
[{"$f":"A983+Sheet2!G$11","v":{"v":3.840159840159906,"d":"3.84"}},{"v":-4.161471832629864,"d":"-4.1615"},{"$nulls":9},{"v":3.840159840159906,"d":"3.84"},186.77574525552944]
[{"$f":"A984+Sheet2!G$11","v":{"v":3.848151848151914,"d":"3.85"}},{"v":-4.093014445970695,"d":"-4.0930"},{"$nulls":9},{"v":3.848151848151914,"d":"3.85"},188.33248662789134]
[{"$f":"A985+Sheet2!G$11","v":{"v":3.8561438561439223,"d":"3.86"}},{"v":-4.020580705974865,"d":"-4.0206"},{"$nulls":9},{"v":3.8561438561439223,"d":"3.86"},189.89993932845363]
[{"$f":"A986+Sheet2!G$11","v":{"v":3.8641358641359305,"d":"3.86"}},{"v":-3.9441387331837063,"d":"-3.9441"},{"$nulls":9},{"v":3.8641358641359305,"d":"3.86"},191.47815055068708]
[{"$f":"A987+Sheet2!G$11","v":{"v":3.8721278721279386,"d":"3.87"}},{"v":-3.863656550226665,"d":"-3.8637"},{"$nulls":9},{"v":3.8721278721279386,"d":"3.87"},193.06716758597415]
[{"$f":"A988+Sheet2!G$11","v":{"v":3.880119880119947,"d":"3.88"}},{"v":-3.7791020818213426,"d":"-3.7791"},{"$nulls":9},{"v":3.880119880119947,"d":"3.88"},194.66703782360923]
[{"$f":"A989+Sheet2!G$11","v":{"v":3.888111888111955,"d":"3.89"}},{"v":-3.690443154773746,"d":"-3.6904"},{"$nulls":9},{"v":3.888111888111955,"d":"3.89"},196.27780875079836]
[{"$f":"A990+Sheet2!G$11","v":{"v":3.896103896103963,"d":"3.90"}},{"v":-3.5976474979780804,"d":"-3.5976"},{"$nulls":9},{"v":3.896103896103963,"d":"3.90"},197.89952795265935]
[{"$f":"A991+Sheet2!G$11","v":{"v":3.9040959040959713,"d":"3.90"}},{"v":-3.5006827424167852,"d":"-3.5007"},{"$nulls":9},{"v":3.9040959040959713,"d":"3.90"},199.53224311222178]
[{"$f":"A992+Sheet2!G$11","v":{"v":3.9120879120879795,"d":"3.91"}},{"v":-3.399516421160456,"d":"-3.3995"},{"$nulls":9},{"v":3.9120879120879795,"d":"3.91"},201.176002010427]
[{"$f":"A993+Sheet2!G$11","v":{"v":3.9200799200799876,"d":"3.92"}},{"v":-3.2941159693680433,"d":"-3.2941"},{"$nulls":9},{"v":3.9200799200799876,"d":"3.92"},202.83085252612818]
[{"$f":"A994+Sheet2!G$11","v":{"v":3.928071928071996,"d":"3.93"}},{"v":-3.184448724286611,"d":"-3.1844"},{"$nulls":9},{"v":3.928071928071996,"d":"3.93"},204.49684263609015]
[{"$f":"A995+Sheet2!G$11","v":{"v":3.936063936064004,"d":"3.94"}},{"v":-3.0704819252514213,"d":"-3.0705"},{"$nulls":9},{"v":3.936063936064004,"d":"3.94"},206.17402041498966]
[{"$f":"A996+Sheet2!G$11","v":{"v":3.944055944056012,"d":"3.94"}},{"v":-2.9521827136862555,"d":"-2.9522"},{"$nulls":9},{"v":3.944055944056012,"d":"3.94"},207.862434035415]
[{"$f":"A997+Sheet2!G$11","v":{"v":3.9520479520480203,"d":"3.95"}},{"v":-2.829518133102823,"d":"-2.8295"},{"$nulls":9},{"v":3.9520479520480203,"d":"3.95"},209.56213176786645]
[{"$f":"A998+Sheet2!G$11","v":{"v":3.9600399600400285,"d":"3.96"}},{"v":-2.7024551291012173,"d":"-2.7025"},{"$nulls":9},{"v":3.9600399600400285,"d":"3.96"},211.27316198075593]
[{"$f":"A999+Sheet2!G$11","v":{"v":3.9680319680320366,"d":"3.97"}},{"v":-2.5709605493696728,"d":"-2.5710"},{"$nulls":9},{"v":3.9680319680320366,"d":"3.97"},212.99557314040715]
[{"$f":"A1000+Sheet2!G$11","v":{"v":3.976023976024045,"d":"3.98"}},{"v":-2.4350011436847367,"d":"-2.4350"},{"$nulls":9},{"v":3.976023976024045,"d":"3.98"},214.7294138110556]
[{"$f":"A1001+Sheet2!G$11","v":{"v":3.984015984016053,"d":"3.98"}},{"v":-2.294543563911276,"d":"-2.2945"},{"$nulls":9},{"v":3.984015984016053,"d":"3.98"},216.47473265484842]
[{"$f":"A1002+Sheet2!G$11","v":{"v":3.992007992008061,"d":"3.99"}},{"v":-2.1495543640021424,"d":"-2.1496"},{"$nulls":9},{"v":3.992007992008061,"d":"3.99"},218.2315784318448]
[{"$f":"A1003+Sheet2!G$11","v":{"v":4.000000000000069,"d":"4.00"}},{"v":-1.999999999998657,"d":"-2.0000"},{"$nulls":9},{"v":4.000000000000069,"d":"4.00"},218.2315784318448]

{"sheet":"Defining Function","index":2,"n_rows":12,"n_cols":1,"rows_kept":12}
["                                                     Defining a Function in Excel"]
[]
["Computers have very specific rules you must follow when defining a function.  If you don't, the program will either not work at all or will work incorrectly."]
[]
["1. The Variable used should be the one named in the instruction, usually x, though sometimes y, t, Q (for an angle theta), "]
[" or even x and y (for a function of two variables). "]
[]
["2.  Order of Operations:  There five arithmetic operations, addition (+), subtraction (-), multiplication (*), division (/), and  exponentiation or power (^).  When computers see any of these operation symbols, they perform the indicated steps in a very particular order.  First, the power is done.  Second, products and quotients of adjacent terms is done.  Third, and last, sums and differences of adjacent terms are done.  So, in 10*x^3 + 5*x – 7, say with x = 2, the first pass only calculates 2^3 and ignores the multiplications and the sums and differences to calculate 2^3 = 8.  The second pass looks at 10*8 + 5*2 – 7 and only does the multiplications, so it produces 80 + 10 -  7.  The third pass looks at the +’s and –‘s to produce 80 + 10 – 7 = 83.  "]
[]
["3.    Parentheses  If you need an operation involving more than two adjacent terms, as in Ö4^3 + 6^2, the computer would take the square root of  4 to produce 2^3 + 6^2;  it would then cube the 2 and square the 6 to produce 8 + 36; and finally it would add the 8 and the 36 to get 44.  If you actually wanted the square root of the entire expression, you would need to use parentheses, as in Ö(4^3 + 6^2) to tell the computer to do all the operations inside the parentheses before taking the square root.  Therefore, it would calculate (4^3 + 6^2) = 64 + 36 = 100 and then take the square root of Ö100  =  10."]
[]
["4.  Built-In Functions  Computer programs have built-in functions for most common algebraic functions.  In Excel, the square root function is denoted by SQRT(…), so SQRT(100) = 10.  Alternatively, you could enter it as 100^.5 or 100^(1/2); notice that parentheses are needed to have the ½ done first.  The common trig functions are SIN (…), COS (…), and TAN (…), where the arguments are automatically interpreted as being in radians, not degrees.  The logarithm to the base 10 is represented by LOG (…) and the logarithm with the base e, known as the natural logarithm, is LN (…). The corresponding exponential function with base e is EXP (x).  If x is the variable, then each of these would be SQRT (x), SIN (x), COS (x), TAN (x), LOG (x) (for log with base 10 ), LN (x) (for log with base e ), and EXP (x)."]

{"sheet":"Sheet3","index":3,"n_rows":0,"n_cols":0,"rows_kept":0}