{"text_format":"3","workbook":"xlsx","n_sheets":5,"sheets":["Find c","Slide line","Sheet3","Defining Function","Sheet4"],"not_rendered":{"charts":2,"images":3,"macros":1,"external_links":1,"defined_names":18,"comments":2},"read":"whole","date_system":"1900"}

{"sheet":"Find c","index":0,"n_rows":33,"n_cols":17,"rows_kept":33,"merged":[[26,2,26,3]]}
[null,"      The Mean Value Theorem"]
[]
[null,"This graphing utility lets you investigate "]
[null,null,"the Mean Value Theorem:"]
[null,"There is a number c between x = a and x = b "]
[{"$nulls":3},"where"]
[null,"        f '(c )  = [ f(b) - f(a) ]/(b - a)"]
[]
["Enter the function in terms of x:   f(x)  =  ",{"$nulls":4},"x^4-3*x^2+6*x-2"]
[]
["Now enter the interval for x:  "]
[null,null,"xMin =",-4]
[null,null,"xMax =",4]
[]
[]
[]
[]
[]
["Click each item below for suggestions and investigations",{"$nulls":11},"The graph of the function y = ",null,null,{"$f":"F9","v":"x^4-3*x^2+6*x-2"}]
[null,"   Item 1"]
[null,"   Item 2",{"$nulls":9},"       The slope of the secant line is ",{"$nulls":3},{"$f":"Sheet3!F6","v":{"v":5.768742235300654,"d":"5.769"}}]
[null,"   Item 3"]
[{"$nulls":11},"Move the green tangent line until it is parallel to the red secant line"]
[]
[]
["To access/download all the DIGMath Apps for Calculus",{"$nulls":13},41,{"$f":"D12+O26*(D13-D12)/200","v":-2.3600000000000003}]
["    Click this link:",null,"DIGMath for Calculus"]
[{"$nulls":13},"   The point of tangency is c =",null,null,{"$f":"P26","v":-2.3600000000000003}]
["Created by:  Sheldon P. Gordon   "]
["                      Farmingdale State College    ",{"$nulls":11},"The slope of the tangent line at x = c is",{"$nulls":3},{"$f":"LOOKUP(Q28,Sheet3!A3:A1002,Sheet3!C3:C1002)","v":-32.27390430709061}]
["Development of this module was supported by the "]
["NSF's Division of Undergraduate Education  "]
["under grants DUE-0310123 and DUE-0442160."]

{"sheet":"Slide line","index":1,"n_rows":31,"n_cols":13,"rows_kept":31,"merged":[[24,2,24,3]]}
[null,"   The Mean Value Theorem"]
[]
[null,"This graphing utility lets you investigate "]
[null,null,"the Mean Value Theorem:"]
[null,"There is a number c between x = a and x = b "]
[{"$nulls":3},"where"]
[null,"        f '( c )  = [ f(b) - f(a) ] / (b - a)"]
[]
[]
["First move the line parallel to the secant line "]
[null,"to find where it is tangent to the curve"]
[]
["Then find the point x = c on the curve."]
[]
[]
[]
[{"$nulls":8},"The graph of the function y",null,null,"=x^4-5*x^2+6*x+1"]
[]
["Click each item below for suggestions and investigations",{"$nulls":6},"First move the green line until it is tangent to the curve"]
["   Item 1"]
["   Item 2",{"$nulls":10},13,{"$f":"Sheet3!F13+L21*(Sheet3!F14-Sheet3!F13)/100","v":18.570620431732124}]
["   Item 3"]
[]
["To access/download all the DIGMath Apps for Calculus",{"$nulls":6}," Then locate the point of tangency c =",{"$nulls":3},{"$f":"M26","v":1.5999999999999996}]
["    Click this link:",null,"DIGMath for Calculus"]
[{"$nulls":11},70,{"$f":"'Find c'!D12+L26*('Find c'!D13-'Find c'!D12)/100","v":1.5999999999999996}]
["Created by:  Sheldon P. Gordon"]
["                     Farmingdale StateCollege"]
["Development of this module was supported by the "]
["NSF's Division of Undergraduate Education  "]
["under grants DUE-0310123 and DUE-0442160."]

{"sheet":"Sheet3","index":2,"n_rows":1004,"n_cols":13,"rows_kept":1004}
["x","f(x)","slope",null,"move line","xl=",{"$f":"IF('Find c'!$P$26<'Find c'!D12+150*Sheet3!G11,'Find c'!D12,'Find c'!P$26-150*Sheet3!G11)","v":-3.5588011988011994},{"$f":"LOOKUP('Find c'!P26,Sheet3!A3:A1002,Sheet3!B3:B1002)+LOOKUP('Find c'!P26,Sheet3!A3:A1002,Sheet3!C3:C1002)*(G1-'Find c'!P26)","v":36.894831831207256},"\"=yl"]
[null,{"$f":"'Find c'!#REF!","v":{"$error":"#REF!"}},{"$nulls":3},"xr=",{"$f":"IF('Find c'!$P$26>'Find c'!D13-150*Sheet3!G11,'Find c'!D13,'Find c'!P$26+150*Sheet3!G11)","v":-1.1611988011988015},{"$f":"LOOKUP('Find c'!P26,Sheet3!A3:A1003,Sheet3!B3:B1003)+LOOKUP('Find c'!P26,Sheet3!A3:A1003,Sheet3!C3:C1003)*(G2-'Find c'!P26)","v":-40.48515851546354},"\"=yR",null,null,"sorted values by y"]
[{"$f":"'Find c'!D12","v":{"v":-4,"d":"-4.00"}},{"$f":"x^4-3*x^2+6*x-2","v":{"v":182,"d":"182.0000"}},{"$f":"(B4-B3)/Sheet3!$G$11","v":-225.2577647013546},{"$nulls":8},-1.8261738261737839,-15.509966840612133]
[{"$f":"A3+Sheet3!G$11","v":{"v":-3.992007992007992,"d":"-3.99"}},{"v":180.19973814424492,"d":"180.1997"},{"$f":"(B5-B4)/Sheet3!$G$11","v":-223.7773757986953},null,"secant line","xL =",{"$f":"A3","v":{"v":-4,"d":"-4.00"}},{"$f":"B3","v":182},{"$nulls":3},-1.818181818181776,-15.509801243084482]
[{"$f":"A4+Sheet3!G$11","v":{"v":-3.9840159840159837,"d":"-3.98"}},{"v":178.41130756843117,"d":"178.4113"},{"$f":"(B6-B5)/Sheet3!$G$11","v":-222.30310024966033},null,null,"xR =",{"$f":"A1003","v":{"v":3.992007992008061,"d":"3.99"}},{"$f":"B1003","v":228.10383404835727},{"$nulls":3},-1.8341658341657918,-15.508215055119834]
[{"$f":"A5+Sheet3!G$11","v":{"v":-3.9760239760239755,"d":"-3.98"}},{"v":176.63465941458773,"d":"176.6347"},{"$f":"(B7-B6)/Sheet3!$G$11","v":-220.83492580297596},null,"slope =",{"$f":"(H5-H4)/(G5-G4)","v":5.768742235300654},{"$nulls":5},-1.810189810189768,-15.507740586419317]
[{"$f":"A6+Sheet3!G$11","v":{"v":-3.9680319680319673,"d":"-3.97"}},{"v":174.86974492265585,"d":"174.8697"},{"$f":"(B8-B7)/Sheet3!$G$11","v":-219.37284020748942},{"$nulls":8},-1.8421578421577998,-15.504523464813385]
[{"$f":"A7+Sheet3!G$11","v":{"v":-3.960039960039959,"d":"-3.96"}},{"v":173.1165154304881,"d":"173.1165"},{"$f":"(B9-B8)/Sheet3!$G$11","v":-217.916831211959},null,"Point display",null,{"$f":"'Slide line'!L24","v":1.5999999999999996},{"$f":"LOOKUP(G8,A3:A1003,B3:B1003)","v":6.4024668348257805},{"$nulls":3},-1.80219780219776,-15.503807096587312]
[{"$f":"A8+Sheet3!G$11","v":{"v":-3.952047952047951,"d":"-3.95"}},{"v":171.37492237384907,"d":"171.3749"},{"$f":"(B10-B9)/Sheet3!$G$11","v":-216.4668865651821},{"$nulls":3},{"$f":"'Slide line'!L24","v":1.5999999999999996},{"$f":"LOOKUP(G9,A3:A1003,B3:B1003)","v":6.4024668348257805},{"$nulls":3},-1.8501498501498077,-15.498869549986814]
[{"$f":"A9+Sheet3!G$11","v":{"v":-3.944055944055943,"d":"-3.94"}},{"v":169.64491728641505,"d":"169.6449"},{"$f":"(B11-B10)/Sheet3!$G$11","v":-215.02299401595263},{"$nulls":8},-1.794205794205752,-15.498022901647374]
[{"$f":"A10+Sheet3!G$11","v":{"v":-3.9360639360639347,"d":"-3.94"}},{"v":167.92645179977407,"d":"167.9265"},{"$f":"(B12-B11)/Sheet3!$G$11","v":-213.58514131305373},null,null,"delta x = ",{"$f":"('Find c'!D13-'Find c'!D12)/1001","v":7.992007992007992E-3},{"$nulls":4},-1.8581418581418156,-15.491230693022388]
[{"$f":"A11+Sheet3!G$11","v":{"v":-3.9280719280719265,"d":"-3.93"}},{"v":166.219477643426,"d":"166.2195"},{"$f":"(B13-B12)/Sheet3!$G$11","v":-212.15331620528997},{"$nulls":8},-1.7862137862137442,-15.490410031746649]
[{"$f":"A12+Sheet3!G$11","v":{"v":-3.9200799200799183,"d":"-3.92"}},{"v":164.5239466447823,"d":"164.5239"},{"$f":"(B14-B13)/Sheet3!$G$11","v":-210.7275064414338},null,"Fmin =",{"$f":"MIN(B3:B1003)","v":{"v":-12.738940223625658,"d":"-12.7389"}},{"$f":"LOOKUP(F13,M3:M1003,L3:L1003)","v":-1.3386613386612993},"=x",{"$nulls":3},-1.8661338661338236,-15.481584178390605]
[{"$f":"A13+Sheet3!G$11","v":{"v":-3.91208791208791,"d":"-3.91"}},{"v":162.83981072916646,"d":"162.8398"},{"$f":"(B15-B14)/Sheet3!$G$11","v":-209.3076997702863},null,"Fmax =",{"$f":"MAX(B3:B1003)","v":228.10383404835727},{"$f":"LOOKUP(F14,M3:M1003,L3:L1003)","v":3.992007992008061},"=x",{"$nulls":3},-1.7782217782217362,-15.480990419120506]
[{"$f":"A14+Sheet3!G$11","v":{"v":-3.904095904095902,"d":"-3.90"}},{"v":161.16702191981352,"d":"161.1670"},{"$f":"(B16-B15)/Sheet3!$G$11","v":-207.8938839406341},null,"F value =",{"$f":"'Slide line'!M21","v":18.570620431732124},{"$nulls":5},-1.8741258741258315,-15.469907192650211]
[{"$f":"A15+Sheet3!G$11","v":{"v":-3.896103896103894,"d":"-3.90"}},{"v":159.5055323378704,"d":"159.5055"},{"$f":"(B17-B16)/Sheet3!$G$11","v":-206.4860467012747},null,"x Mid =",{"$f":"(a+b)/2","v":-0.003996003995969444},{"$nulls":5},-1.7702297702297283,-15.469785898092564]
[{"$f":"A16+Sheet3!G$11","v":{"v":-3.8881118881118857,"d":"-3.89"}},{"v":157.85529420239567,"d":"157.8553"},{"$f":"(B18-B17)/Sheet3!$G$11","v":-205.08417580099126},{"$nulls":8},-1.7622377622377203,-15.456818205074669]
[{"$f":"A17+Sheet3!G$11","v":{"v":-3.8801198801198775,"d":"-3.88"}},{"v":156.21625983035977,"d":"156.2163"},{"$f":"(B19-B18)/Sheet3!$G$11","v":-203.6882589885741},null,"Sheet 2 line segment:",{"$nulls":6},-1.8821178821178395,-15.456176824448178]
[{"$f":"A18+Sheet3!G$11","v":{"v":-3.8721278721278694,"d":"-3.87"}},{"v":154.5883816366449,"d":"154.5884"},{"$f":"(B20-B19)/Sheet3!$G$11","v":-202.2982840128135},null,null,"xL=",{"$f":"IF(m=0,G$4,(IF(AND(m>0,J19<Fmin),F$16+F$28,(IF(AND(m<0,J19>Fmax),F$16+xL,a)))))","v":-4},{"$f":"Fvalue+m*(xL-xMid)","v":-4.481296592446512},"\"=yL",{"$f":"IF(m=0,Fvalue,IF(m>0,Fmin,Fmax))","v":-12.738940223625658},null,-1.7542457542457124,-15.4421089785669]
[{"$f":"A19+Sheet3!G$11","v":{"v":-3.864135864135861,"d":"-3.86"}},{"v":152.971612134045,"d":"152.9716"},{"$f":"(B21-B20)/Sheet3!$G$11","v":-200.91423862250687},null,null,"xR=",{"$f":"IF(m=0,G$5,(IF(AND(m>0,J20>Fmax),F$16+F$29,(IF(AND(F$6<0,J20<Fmin),F$16+F$28,b)))))","v":3.992007992008061},{"$f":"Fvalue+m*(xR-xMid)","v":41.62253745591076},"\"=yR",{"$f":"IF(m=0,F16,IF(m>0,Fmax,Fvalue))","v":228.10383404835727},null,-1.8901098901098474,-15.440370064519705]
[{"$f":"A20+Sheet3!G$11","v":{"v":-3.856143856143853,"d":"-3.86"}},{"v":151.3659039332657,"d":"151.3659"},{"$f":"(B22-B21)/Sheet3!$G$11","v":-199.53611056643746},{"$nulls":8},-1.7462537462537044,-15.425679759157578]
[{"$f":"A21+Sheet3!G$11","v":{"v":-3.848151848151845,"d":"-3.85"}},{"v":149.77120974292455,"d":"149.7712"},{"$f":"(B23-B22)/Sheet3!$G$11","v":-198.16388759339551},{"$nulls":3},"fix xL and xR",{"$nulls":4},-1.8981018981018554,-15.422463805688235]
[{"$f":"A22+Sheet3!G$11","v":{"v":-3.8401598401598367,"d":"-3.84"}},{"v":148.18748236955076,"d":"148.1875"},{"$f":"(B24-B23)/Sheet3!$G$11","v":-196.79755745218202},{"$nulls":8},-1.7382617382616965,-15.407551989523256]
[{"$f":"A23+Sheet3!G$11","v":{"v":-3.8321678321678285,"d":"-3.83"}},{"v":146.61467471758527,"d":"146.6147"},{"$f":"(B25-B24)/Sheet3!$G$11","v":-195.43710789156236},{"$nulls":8},-1.9060939060938633,-15.402434842865453]
[{"$f":"A24+Sheet3!G$11","v":{"v":-3.8241758241758204,"d":"-3.82"}},{"v":145.05273978938098,"d":"145.0527"},{"$f":"(B26-B25)/Sheet3!$G$11","v":-194.08252666035892},{"$nulls":8},-1.7302697302696886,-15.387747014428715]
[{"$f":"A25+Sheet3!G$11","v":{"v":-3.816183816183812,"d":"-3.82"}},{"v":143.5016306852023,"d":"143.5016"},{"$f":"(B27-B26)/Sheet3!$G$11","v":-192.7338015073406},{"$nulls":8},-1.9140859140858713,-15.380259873051259]
[{"$f":"A26+Sheet3!G$11","v":{"v":-3.808191808191804,"d":"-3.81"}},{"v":141.96130060322554,"d":"141.9613"},{"$f":"(B28-B27)/Sheet3!$G$11","v":-191.39092018131194},{"$nulls":8},-1.7222777222776806,-15.36628608072698]
[{"$f":"A27+Sheet3!G$11","v":{"v":-3.800199800199796,"d":"-3.80"}},{"v":140.43170283953873,"d":"140.4317"},{"$f":"(B29-B28)/Sheet3!$G$11","v":-190.05387043104548},null,"Ratio1=",{"$f":"(Fmin-'Slide line'!M21)/m","v":-5.427450105807336},{"$nulls":5},-1.9220779220778792,-15.35591549533381]
[{"$f":"A28+Sheet3!G$11","v":{"v":-3.7922077922077877,"d":"-3.79"}},{"v":138.91279078814176,"d":"138.9128"},{"$f":"(B30-B29)/Sheet3!$G$11","v":-188.72264000534574},null,"Ratio2=",{"$f":"(Fmax-'Slide line'!M21)/m","v":36.32216609271063},{"$nulls":5},-1.7142857142856727,-15.34319033735931]
[{"$f":"A29+Sheet3!G$11","v":{"v":-3.7842157842157795,"d":"-3.78"}},{"v":137.4045179409462,"d":"137.4045"},{"$f":"(B31-B30)/Sheet3!$G$11","v":-187.39721665299592},{"$nulls":8},-1.9300699300698871,-15.329378210889484]
[{"$f":"A30+Sheet3!G$11","v":{"v":-3.7762237762237714,"d":"-3.78"}},{"v":135.9068378877754,"d":"135.9068"},{"$f":"(B32-B31)/Sheet3!$G$11","v":-186.07758812279343},{"$nulls":8},-1.7062937062936647,-15.318480835355192]
[{"$f":"A31+Sheet3!G$11","v":{"v":-3.768231768231763,"d":"-3.77"}},{"v":134.41970431636446,"d":"134.4197"},{"$f":"(B33-B32)/Sheet3!$G$11","v":-184.76374216352144},{"$nulls":8},-1.938061938061895,-15.300624422982896]
[{"$f":"A32+Sheet3!G$11","v":{"v":-3.760239760239755,"d":"-3.76"}},{"v":132.9430710123603,"d":"132.9431"},{"$f":"(B34-B33)/Sheet3!$G$11","v":-183.45566652397738},{"$nulls":8},-1.6983016983016568,-15.292178527832355]
[{"$f":"A33+Sheet3!G$11","v":{"v":-3.752247752247747,"d":"-3.75"}},{"v":131.4768918593215,"d":"131.4769"},{"$f":"(B35-B34)/Sheet3!$G$11","v":-182.1533489529409},{"$nulls":8},-1.946053946053903,-15.269630436966892]
[{"$f":"A34+Sheet3!G$11","v":{"v":-3.7442557442557387,"d":"-3.74"}},{"v":130.0211208387186,"d":"130.0211"},{"$f":"(B36-B35)/Sheet3!$G$11","v":-180.8567771992165},{"$nulls":8},-1.6903096903096488,-15.264304269996764]
[{"$f":"A35+Sheet3!G$11","v":{"v":-3.7362637362637305,"d":"-3.74"}},{"v":128.57571202993364,"d":"128.5757"},{"$f":"(B37-B36)/Sheet3!$G$11","v":-179.5659390115874},{"$nulls":8},-1.954045954045911,-15.236372460282567]
[{"$f":"A36+Sheet3!G$11","v":{"v":-3.7282717282717224,"d":"-3.73"}},{"v":127.14061961026061,"d":"127.1406"},{"$f":"(B38-B37)/Sheet3!$G$11","v":-178.28082213883678},{"$nulls":8},-1.682317682317641,-15.234878819142608]
[{"$f":"A37+Sheet3!G$11","v":{"v":-3.720279720279714,"d":"-3.72"}},{"v":125.71579785490528,"d":"125.7158"},{"$f":"(B39-B38)/Sheet3!$G$11","v":-177.00141432977094},{"$nulls":8},-1.674325674325633,-15.203922834652325]
[{"$f":"A38+Sheet3!G$11","v":{"v":-3.712287712287706,"d":"-3.71"}},{"v":124.30120113698503,"d":"124.3012"},{"$f":"(B40-B39)/Sheet3!$G$11","v":-175.72770333316595},{"$nulls":8},-1.962037962037919,-15.200826602459237]
[{"$f":"A39+Sheet3!G$11","v":{"v":-3.704295704295698,"d":"-3.70"}},{"v":122.89678392752916,"d":"122.8968"},{"$f":"(B41-B40)/Sheet3!$G$11","v":-174.45967689781747},{"$nulls":8},-1.666333666333625,-15.171456877996576]
[{"$f":"A40+Sheet3!G$11","v":{"v":-3.6963036963036897,"d":"-3.70"}},{"v":121.50250079547867,"d":"121.5025"},{"$f":"(B42-B41)/Sheet3!$G$11","v":-173.19732277251936},{"$nulls":8},-1.9700299700299269,-15.162968875114466]
[{"$f":"A41+Sheet3!G$11","v":{"v":-3.6883116883116815,"d":"-3.69"}},{"v":120.1183064076863,"d":"120.1183"},{"$f":"(B43-B42)/Sheet3!$G$11","v":-171.9406287060637},{"$nulls":8},-1.658341658341617,-15.137501412734263]
[{"$f":"A42+Sheet3!G$11","v":{"v":-3.6803196803196734,"d":"-3.68"}},{"v":118.74415552891656,"d":"118.7442"},{"$f":"(B44-B43)/Sheet3!$G$11","v":-170.68958244722478},{"$nulls":8},-1.9780219780219348,-15.122775191954034]
[{"$f":"A43+Sheet3!G$11","v":{"v":-3.672327672327665,"d":"-3.67"}},{"v":117.38000302184584,"d":"117.3800"},{"$f":"(B45-B44)/Sheet3!$G$11","v":-169.44417174480535},{"$nulls":8},-1.6503496503496091,-15.102076804512528]
[{"$f":"A44+Sheet3!G$11","v":{"v":-3.664335664335657,"d":"-3.66"}},{"v":116.02580384706218,"d":"116.0258"},{"$f":"(B46-B45)/Sheet3!$G$11","v":-168.20438434760104},{"$nulls":8},-1.9860139860139427,-15.080221368771973]
[{"$f":"A45+Sheet3!G$11","v":{"v":-3.656343656343649,"d":"-3.66"}},{"v":114.68151306306537,"d":"114.6815"},{"$f":"(B47-B46)/Sheet3!$G$11","v":-166.97020800439506},{"$nulls":8},-1.6423576423576012,-15.065203321066733]
[{"$f":"A46+Sheet3!G$11","v":{"v":-3.6483516483516407,"d":"-3.65"}},{"v":113.347085826267,"d":"113.3471"},{"$f":"(B48-B47)/Sheet3!$G$11","v":-165.74163046397948},{"$nulls":8},-1.9940059940059507,-15.03528312345054]
[{"$f":"A47+Sheet3!G$11","v":{"v":-3.6403596403596326,"d":"-3.64"}},{"v":112.02247739099045,"d":"112.0225"},{"$f":"(B49-B48)/Sheet3!$G$11","v":-164.5186394751375},{"$nulls":8},-1.6343656343655932,-15.026901132220491]
[{"$f":"A48+Sheet3!G$11","v":{"v":-3.6323676323676244,"d":"-3.63"}},{"v":110.70764310947087,"d":"110.7076"},{"$f":"(B50-B49)/Sheet3!$G$11","v":-163.30122278667187},{"$nulls":8},-2.0019980019979586,-14.987936075960233]
[{"$f":"A49+Sheet3!G$11","v":{"v":-3.6243756243756162,"d":"-3.62"}},{"v":109.4025384318551,"d":"109.4025"},{"$f":"(B51-B50)/Sheet3!$G$11","v":-162.08936814736754},{"$nulls":8},-1.6263736263735853,-14.98719030988564]
[{"$f":"A50+Sheet3!G$11","v":{"v":-3.616383616383608,"d":"-3.62"}},{"v":108.10711890620182,"d":"108.1071"},{"$f":"(B52-B51)/Sheet3!$G$11","v":-160.88306330600773},{"$nulls":8},-1.6183816183815773,-14.946090828062259]
[{"$f":"A51+Sheet3!G$11","v":{"v":-3.6083916083916,"d":"-3.61"}},{"v":106.82134017848148,"d":"106.8213"},{"$f":"(B53-B52)/Sheet3!$G$11","v":-159.68229601140405},{"$nulls":8},-2.009990009989967,-14.938155748359787]
[{"$f":"A52+Sheet3!G$11","v":{"v":-3.6003996003995917,"d":"-3.60"}},{"v":105.54515799257615,"d":"105.5452"},{"$f":"(B54-B53)/Sheet3!$G$11","v":-158.48705401231481},{"$nulls":8},-1.6103896103895694,-14.903622562838652]
[{"$f":"A53+Sheet3!G$11","v":{"v":-3.5924075924075836,"d":"-3.59"}},{"v":104.27852819027993,"d":"104.2785"},{"$f":"(B55-B54)/Sheet3!$G$11","v":-157.29732505755345},{"$nulls":8},-2.017982017981975,-14.88591756479616]
[{"$f":"A54+Sheet3!G$11","v":{"v":-3.5844155844155754,"d":"-3.58"}},{"v":103.02140671129848,"d":"103.0214"},{"$f":"(B56-B55)/Sheet3!$G$11","v":-156.11309689591027},{"$nulls":8},-1.6023976023975615,-14.859805292391371]
[{"$f":"A55+Sheet3!G$11","v":{"v":-3.5764235764235672,"d":"-3.58"}},{"v":101.77374959324925,"d":"101.7737"},{"$f":"(B57-B56)/Sheet3!$G$11","v":-154.9343572761684},{"$nulls":8},-2.025974025973983,-14.831196851504558]
[{"$f":"A56+Sheet3!G$11","v":{"v":-3.568431568431559,"d":"-3.57"}},{"v":100.53551297166149,"d":"100.5355"},{"$f":"(B58-B57)/Sheet3!$G$11","v":-153.76109394711824},{"$nulls":8},-1.5944055944055535,-14.814658696985195]
[{"$f":"A57+Sheet3!G$11","v":{"v":-3.560439560439551,"d":"-3.56"}},{"v":99.30665307997623,"d":"99.3067"},{"$f":"(B59-B58)/Sheet3!$G$11","v":-152.59329465755357},{"$nulls":8},-2.0339660339659913,-14.773968836808413]
[{"$f":"A58+Sheet3!G$11","v":{"v":-3.5524475524475427,"d":"-3.55"}},{"v":98.08712624954623,"d":"98.0871"},{"$f":"(B60-B59)/Sheet3!$G$11","v":-151.43094715625764},{"$nulls":8},-1.5864135864135456,-14.768202358973134]
[{"$f":"A59+Sheet3!G$11","v":{"v":-3.5444555444555346,"d":"-3.54"}},{"v":96.87688890963608,"d":"96.8769"},{"$f":"(B61-B60)/Sheet3!$G$11","v":-150.2740391920367},{"$nulls":8},-1.5784215784215376,-14.720455762796444]
[{"$f":"A60+Sheet3!G$11","v":{"v":-3.5364635364635264,"d":"-3.54"}},{"v":95.675897587422,"d":"95.6759"},{"$f":"(B62-B61)/Sheet3!$G$11","v":-149.12255851365975},{"$nulls":8},-2.0419580419579995,-14.714208651119392]
[{"$f":"A61+Sheet3!G$11","v":{"v":-3.5284715284715182,"d":"-3.53"}},{"v":94.48410890799215,"d":"94.4841"},{"$f":"(B63-B62)/Sheet3!$G$11","v":-147.97649286993666},{"$nulls":8},-1.5704295704295297,-14.671438294984611]
[{"$f":"A62+Sheet3!G$11","v":{"v":-3.52047952047951,"d":"-3.52"}},{"v":93.3014795943463,"d":"93.3015"},{"$f":"(B64-B63)/Sheet3!$G$11","v":-146.83583000964705},{"$nulls":8},-2.0499500499500076,-14.65189132693741]
[{"$f":"A63+Sheet3!G$11","v":{"v":-3.512487512487502,"d":"-3.51"}},{"v":92.12796646739608,"d":"92.1280"},{"$f":"(B65-B64)/Sheet3!$G$11","v":-145.70055768158656},{"$nulls":8},-1.5624375624375217,-14.621169244155356]
[{"$f":"A64+Sheet3!G$11","v":{"v":-3.5044955044954937,"d":"-3.50"}},{"v":90.96352644596482,"d":"90.9635"},{"$f":"(B66-B65)/Sheet3!$G$11","v":-144.57066363453302},{"$nulls":8},-2.057942057942016,-14.586991798850597]
[{"$f":"A65+Sheet3!G$11","v":{"v":-3.4965034965034856,"d":"-3.50"}},{"v":89.80811654678773,"d":"89.8081"},{"$f":"(B67-B66)/Sheet3!$G$11","v":-143.44613561730168},{"$nulls":8},-1.5544455544455138,-14.56966780101463]
[{"$f":"A66+Sheet3!G$11","v":{"v":-3.4885114885114774,"d":"-3.49"}},{"$f":"x^4-3*x^2+6*x-2","v":{"v":88.66169388451159,"d":"88.6617"}},{"$f":"(B68-B67)/Sheet3!$G$11","v":-142.3269613786508},{"$nulls":8},-2.065934065934024,-14.519484903535341]
[{"$f":"A67+Sheet3!G$11","v":{"v":-3.4805194805194692,"d":"-3.48"}},{"v":87.5242156716952,"d":"87.5242"},{"$f":"(B69-B68)/Sheet3!$G$11","v":-141.21312866739916},{"$nulls":8},-1.5464535464535059,-14.516953058356622]
[{"$f":"A68+Sheet3!G$11","v":{"v":-3.472527472527461,"d":"-3.47"}},{"v":86.3956392188089,"d":"86.3956"},{"$f":"(B70-B69)/Sheet3!$G$11","v":-140.1046252323246},{"$nulls":8},-1.538461538461498,-14.463044011063761]
[{"$f":"A69+Sheet3!G$11","v":{"v":-3.464535464535453,"d":"-3.46"}},{"v":85.27592193423487,"d":"85.2759"},{"$f":"(B71-B70)/Sheet3!$G$11","v":-139.0014388222174},{"$nulls":8},-2.073926073926032,-14.449345379756242]
[{"$f":"A70+Sheet3!G$11","v":{"v":-3.4565434565434447,"d":"-3.46"}},{"v":84.1650213242671,"d":"84.1650"},{"$f":"(B72-B71)/Sheet3!$G$11","v":-137.90355718587145},{"$nulls":8},-1.53046953046949,-14.407959556106707]
[{"$f":"A71+Sheet3!G$11","v":{"v":-3.4485514485514366,"d":"-3.45"}},{"v":83.06289499311129,"d":"83.0629"},{"$f":"(B73-B72)/Sheet3!$G$11","v":-136.81096807206816},{"$nulls":8},-2.0819180819180403,-14.376547868366146]
[{"$f":"A72+Sheet3!G$11","v":{"v":-3.4405594405594284,"d":"-3.44"}},{"v":81.96950064288497,"d":"81.9695"},{"$f":"(B74-B73)/Sheet3!$G$11","v":-135.7236592296103},{"$nulls":8},-1.522477522477482,-14.351718492544354]
[{"$f":"A73+Sheet3!G$11","v":{"v":-3.4325674325674203,"d":"-3.43"}},{"v":80.88479607361735,"d":"80.8848"},{"$f":"(B75-B74)/Sheet3!$G$11","v":-134.64161840728278},{"$nulls":8},-2.0899100899100485,-14.30106691230613]
[{"$f":"A74+Sheet3!G$11","v":{"v":-3.424575424575412,"d":"-3.42"}},{"v":79.80873918324946,"d":"79.8087"},{"$f":"(B76-B75)/Sheet3!$G$11","v":-133.56483335387776},{"$nulls":8},-1.514485514485474,-14.29433952152383]
[{"$f":"A75+Sheet3!G$11","v":{"v":-3.416583416583404,"d":"-3.42"}},{"v":78.74128796763405,"d":"78.7413"},{"$f":"(B77-B76)/Sheet3!$G$11","v":-132.49329181817836},{"$nulls":8},-1.5064935064934661,-14.2358412462805]
[{"$f":"A76+Sheet3!G$11","v":{"v":-3.4085914085913958,"d":"-3.41"}},{"v":77.68240052053572,"d":"77.6824"},{"$f":"(B78-B77)/Sheet3!$G$11","v":-131.4269815489767},{"$nulls":8},-2.0979020979020566,-14.22287695660552]
[{"$f":"A77+Sheet3!G$11","v":{"v":-3.4005994005993876,"d":"-3.40"}},{"v":76.63203503363081,"d":"76.6320"},{"$f":"(B79-B78)/Sheet3!$G$11","v":-130.36589029508085},{"$nulls":8},-1.4985014985014582,-14.176242172137966]
[{"$f":"A78+Sheet3!G$11","v":{"v":-3.3926073926073794,"d":"-3.39"}},{"v":75.59014979650729,"d":"75.5901"},{"$f":"(B80-B79)/Sheet3!$G$11","v":-129.31000580526157},{"$nulls":8},-2.105894105894065,-14.141952348381857]
[{"$f":"A79+Sheet3!G$11","v":{"v":-3.3846153846153713,"d":"-3.38"}},{"v":74.55670319666504,"d":"74.5567"},{"$f":"(B81-B80)/Sheet3!$G$11","v":-128.25931582830378},{"$nulls":8},-1.4905094905094503,-14.11556070650806]
[{"$f":"A80+Sheet3!G$11","v":{"v":-3.376623376623363,"d":"-3.38"}},{"v":73.53165371951576,"d":"73.5317"},{"$f":"(B82-B81)/Sheet3!$G$11","v":-127.21380811302454},{"$nulls":8},-2.113886113886073,-14.058267336840927]
[{"$f":"A81+Sheet3!G$11","v":{"v":-3.368631368631355,"d":"-3.37"}},{"v":72.5149599483827,"d":"72.5150"},{"$f":"(B83-B82)/Sheet3!$G$11","v":-126.17347040819276},{"$nulls":8},-1.4825174825174423,-14.053815158890854]
[{"$f":"A82+Sheet3!G$11","v":{"v":-3.3606393606393468,"d":"-3.36"}},{"v":71.50658056450104,"d":"71.5066"},{"$f":"(B84-B83)/Sheet3!$G$11","v":-125.13829046260585},{"$nulls":8},-1.4745254745254344,-13.991023740874653]
[{"$f":"A83+Sheet3!G$11","v":{"v":-3.3526473526473386,"d":"-3.35"}},{"v":70.50647434701767,"d":"70.5065"},{"$f":"(B85-B84)/Sheet3!$G$11","v":-124.10825602504704},{"$nulls":8},-2.121878121878081,-13.971796073276746]
[{"$f":"A84+Sheet3!G$11","v":{"v":-3.3446553446553304,"d":"-3.34"}},{"v":69.51460017299132,"d":"69.5146"},{"$f":"(B86-B85)/Sheet3!$G$11","v":-123.0833548443226},{"$nulls":8},-1.4665334665334264,-13.927204566135991]
[{"$f":"A85+Sheet3!G$11","v":{"v":-3.3366633366633223,"d":"-3.34"}},{"v":68.53091701739234,"d":"68.5309"},{"$f":"(B87-B86)/Sheet3!$G$11","v":-122.06357466920507},{"$nulls":8},-2.1298701298700893,-13.882512611071578]
[{"$f":"A86+Sheet3!G$11","v":{"v":-3.328671328671314,"d":"-3.33"}},{"v":67.55538395310299,"d":"67.5554"},{"$f":"(B88-B87)/Sheet3!$G$11","v":-121.0489032484954},{"$nulls":8},-1.4585414585414185,-13.862375650439645]
[{"$f":"A87+Sheet3!G$11","v":{"v":-3.320679320679306,"d":"-3.32"}},{"v":66.58796015091721,"d":"66.5880"},{"$f":"(B89-B88)/Sheet3!$G$11","v":-120.03932833098038},{"$nulls":8},-1.4505494505494105,-13.796554911638626]
[{"$f":"A88+Sheet3!G$11","v":{"v":-3.3126873126872978,"d":"-3.31"}},{"v":65.62860487954075,"d":"65.6286"},{"$f":"(B90-B89)/Sheet3!$G$11","v":-119.03483766545918},{"$nulls":8},-2.1378621378620974,-13.790390905695904]
[{"$f":"A89+Sheet3!G$11","v":{"v":-3.3046953046952896,"d":"-3.30"}},{"v":64.67727750559102,"d":"64.6773"},{"$f":"(B91-B90)/Sheet3!$G$11","v":-118.03541900070431},{"$nulls":8},-1.4425574425574026,-13.729760169674176]
[{"$f":"A90+Sheet3!G$11","v":{"v":-3.2967032967032814,"d":"-3.30"}},{"v":63.73393749359738,"d":"63.7339"},{"$f":"(B92-B91)/Sheet3!$G$11","v":-117.04106008552387},{"$nulls":8},-2.1458541458541056,-13.69540481470845]
[{"$f":"A91+Sheet3!G$11","v":{"v":-3.2887112887112733,"d":"-3.29"}},{"v":62.79854440600079,"d":"62.7985"},{"$f":"(B93-B92)/Sheet3!$G$11","v":-116.05174866869571},{"$nulls":8},-1.4345654345653946,-13.662009146575777]
[{"$f":"A92+Sheet3!G$11","v":{"v":-3.280719280719265,"d":"-3.28"}},{"v":61.87105790315407,"d":"61.8711"},{"$f":"(B94-B93)/Sheet3!$G$11","v":-115.06747249901903},{"$nulls":8},-2.1538461538461138,-13.597528097756179]
[{"$f":"A93+Sheet3!G$11","v":{"v":-3.272727272727257,"d":"-3.27"}},{"v":60.95143774332175,"d":"60.9514"},{"$f":"(B95-B94)/Sheet3!$G$11","v":-114.08821932528058},{"$nulls":8},-1.4265734265733867,-13.59331946646114]
[{"$f":"A94+Sheet3!G$11","v":{"v":-3.2647352647352488,"d":"-3.26"}},{"v":60.039643782680145,"d":"60.0396"},{"$f":"(B96-B95)/Sheet3!$G$11","v":-113.11397689626621},{"$nulls":8},-1.4185814185813788,-13.523708655536211]
[{"$f":"A95+Sheet3!G$11","v":{"v":-3.2567432567432406,"d":"-3.26"}},{"v":59.13563597531738,"d":"59.1356"},{"$f":"(B97-B96)/Sheet3!$G$11","v":-112.14473296077422},{"$nulls":8},-2.161838161838122,-13.496734416574283]
[{"$f":"A96+Sheet3!G$11","v":{"v":-3.2487512487512324,"d":"-3.25"}},{"v":58.23937437323327,"d":"58.2394"},{"$f":"(B98-B97)/Sheet3!$G$11","v":-111.18047526759493},{"$nulls":8},-1.4105894105893708,-13.453194142095183]
[{"$f":"A97+Sheet3!G$11","v":{"v":-3.2407592407592243,"d":"-3.24"}},{"v":57.3508191263394,"d":"57.3508"},{"$f":"(B99-B98)/Sheet3!$G$11","v":-110.22119156550619},{"$nulls":8},-2.16983016983013,-13.392997334986187]
[{"$f":"A98+Sheet3!G$11","v":{"v":-3.232767232767216,"d":"-3.23"}},{"v":56.46993048245923,"d":"56.4699"},{"$f":"(B100-B99)/Sheet3!$G$11","v":-109.26686960331519},{"$nulls":8},-1.4025974025973629,-13.381793256520467]
[{"$f":"A99+Sheet3!G$11","v":{"v":-3.224775224775208,"d":"-3.22"}},{"v":55.59666878732784,"d":"55.5967"},{"$f":"(B101-B100)/Sheet3!$G$11","v":-108.31749712980157},{"$nulls":8},-1.394605394605355,-13.309523231282716]
[{"$f":"A100+Sheet3!G$11","v":{"v":-3.2167832167832,"d":"-3.22"}},{"v":54.730994484592166,"d":"54.7310"},{"$f":"(B102-B101)/Sheet3!$G$11","v":-107.37306189375829},{"$nulls":8},-2.1778221778221383,-13.28629031890356]
[{"$f":"A101+Sheet3!G$11","v":{"v":-3.2087912087911916,"d":"-3.21"}},{"v":53.87286811581088,"d":"53.8729"},{"$f":"(B103-B102)/Sheet3!$G$11","v":-106.433551643981},{"$nulls":8},-1.386613386613347,-13.236401200940824]
[{"$f":"A102+Sheet3!G$11","v":{"v":-3.2007992007991835,"d":"-3.20"}},{"v":53.02225032045439,"d":"53.0223"},{"$f":"(B104-B103)/Sheet3!$G$11","v":-105.49895412925112},{"$nulls":8},-2.1858141858141464,-13.176586736326303]
[{"$f":"A103+Sheet3!G$11","v":{"v":-3.1928071928071753,"d":"-3.19"}},{"v":52.17910183590493,"d":"52.1791"},{"$f":"(B105-B104)/Sheet3!$G$11","v":-104.56925709836338},{"$nulls":8},-1.378621378621339,-13.16244420214191]
[{"$f":"A104+Sheet3!G$11","v":{"v":-3.184815184815167,"d":"-3.18"}},{"v":51.34338349745647,"d":"51.3434"},{"$f":"(B106-B105)/Sheet3!$G$11","v":-103.64444830011254},{"$nulls":8},-1.370629370629331,-13.087669173621336]
[{"$f":"A105+Sheet3!G$11","v":{"v":-3.176823176823159,"d":"-3.18"}},{"v":50.51505623831471,"d":"50.5151"},{"$f":"(B107-B106)/Sheet3!$G$11","v":-102.72451548327734},{"$nulls":8},-2.1938061938061546,-13.063859857342544]
[{"$f":"A106+Sheet3!G$11","v":{"v":-3.168831168831151,"d":"-3.17"}},{"v":49.69408108959721,"d":"49.6941"},{"$f":"(B108-B107)/Sheet3!$G$11","v":-101.80944639666409},{"$nulls":8},-1.3626373626373232,-13.012092956202691]
[{"$f":"A107+Sheet3!G$11","v":{"v":-3.1608391608391426,"d":"-3.16"}},{"v":48.88041918033316,"d":"48.8804"},{"$f":"(B109-B108)/Sheet3!$G$11","v":-100.8992287890471},{"$nulls":8},-2.2017982017981628,-12.948082854128657]
[{"$f":"A108+Sheet3!G$11","v":{"v":-3.1528471528471345,"d":"-3.15"}},{"v":48.074031737463656,"d":"48.0740"},{"$f":"(B110-B109)/Sheet3!$G$11","v":-99.99385040922377},{"$nulls":8},-1.3546453546453152,-12.935732292797805]
[{"$f":"A109+Sheet3!G$11","v":{"v":-3.1448551448551263,"d":"-3.14"}},{"v":47.27488008584149,"d":"47.2749"},{"$f":"(B111-B110)/Sheet3!$G$11","v":-99.09329900599418},{"$nulls":8},-1.3466533466533073,-12.858603828406746]
[{"$f":"A110+Sheet3!G$11","v":{"v":-3.136863136863118,"d":"-3.14"}},{"v":46.482925648231145,"d":"46.4829"},{"$f":"(B112-B111)/Sheet3!$G$11","v":-98.19756232813177},{"$nulls":8},-2.209790209790171,-12.829228800949242]
[{"$f":"A111+Sheet3!G$11","v":{"v":-3.12887112887111,"d":"-3.13"}},{"v":45.69812994530901,"d":"45.6981"},{"$f":"(B113-B112)/Sheet3!$G$11","v":-97.30662812443481},{"$nulls":8},-1.3386613386612993,-12.780724110117806]
[{"$f":"A112+Sheet3!G$11","v":{"v":-3.120879120879102,"d":"-3.12"}},{"v":44.92045459566318,"d":"44.9205"},{"$f":"(B114-B113)/Sheet3!$G$11","v":-96.4204841436954},{"$nulls":8},-2.217782217782179,-12.707270674157137]
[{"$f":"A113+Sheet3!G$11","v":{"v":-3.1128871128870936,"d":"-3.11"}},{"v":44.14986131579349,"d":"44.1499"},{"$f":"(B115-B114)/Sheet3!$G$11","v":-95.53911813470384},{"$nulls":8},-1.3306693306692914,-12.702109587107516]
[{"$f":"A114+Sheet3!G$11","v":{"v":-3.1048951048950855,"d":"-3.10"}},{"v":43.38631192011154,"d":"43.3863"},{"$f":"(B116-B115)/Sheet3!$G$11","v":-94.66251784624421},{"$nulls":8},-1.3226773226772834,-12.622776610640651]
[{"$f":"A115+Sheet3!G$11","v":{"v":-3.0969030969030773,"d":"-3.10"}},{"v":42.629768320940755,"d":"42.6298"},{"$f":"(B117-B116)/Sheet3!$G$11","v":-93.79067102711305},{"$nulls":8},-2.2257742257741873,-12.582181352193418]
[{"$f":"A116+Sheet3!G$11","v":{"v":-3.088911088911069,"d":"-3.09"}},{"v":41.880192528516275,"d":"41.8802"},{"$f":"(B118-B117)/Sheet3!$G$11","v":-92.92356542610509},{"$nulls":8},-1.3146853146852755,-12.542741434070212]
[{"$f":"A117+Sheet3!G$11","v":{"v":-3.080919080919061,"d":"-3.08"}},{"v":41.137546650984966,"d":"41.1375"},{"$f":"(B119-B118)/Sheet3!$G$11","v":-92.06118879199464},{"$nulls":8},-1.3066933066932676,-12.462020212837434]
[{"$f":"A118+Sheet3!G$11","v":{"v":-3.072927072927053,"d":"-3.07"}},{"v":40.40179289440559,"d":"40.4018"},{"$f":"(B120-B119)/Sheet3!$G$11","v":-91.20352887359066},{"$nulls":8},-2.2337662337661954,-12.453933615587395]
[{"$f":"A119+Sheet3!G$11","v":{"v":-3.0649350649350446,"d":"-3.06"}},{"v":39.67289356274852,"d":"39.6729"},{"$f":"(B121-B120)/Sheet3!$G$11","v":-90.35057341966925},{"$nulls":8},-1.2987012987012596,-12.380629004471789]
[{"$f":"A120+Sheet3!G$11","v":{"v":-3.0569430569430365,"d":"-3.06"}},{"v":38.95081105789602,"d":"38.9508"},{"$f":"(B122-B121)/Sheet3!$G$11","v":-89.50231017903047},{"$nulls":8},-2.2417582417582036,-12.322500146956607]
[{"$f":"A121+Sheet3!G$11","v":{"v":-3.0489510489510283,"d":"-3.05"}},{"v":38.23550787964203,"d":"38.2355"},{"$f":"(B123-B122)/Sheet3!$G$11","v":-88.65872690045754},{"$nulls":8},-1.2907092907092517,-12.298583768590987]
[{"$f":"A122+Sheet3!G$11","v":{"v":-3.04095904095902,"d":"-3.04"}},{"v":37.52694662569232,"d":"37.5269"},{"$f":"(B124-B123)/Sheet3!$G$11","v":-87.81981133274874},{"$nulls":8},-1.2827172827172437,-12.215900366900971]
[{"$f":"A123+Sheet3!G$11","v":{"v":-3.032967032967012,"d":"-3.03"}},{"v":36.825089991664356,"d":"36.8251"},{"$f":"(B125-B124)/Sheet3!$G$11","v":-86.98555122468727},{"$nulls":8},-2.2497502497502118,-12.187853531006834]
[{"$f":"A124+Sheet3!G$11","v":{"v":-3.024975024975004,"d":"-3.02"}},{"v":36.129900771087435,"d":"36.1299"},{"$f":"(B126-B125)/Sheet3!$G$11","v":-86.15593432506522},{"$nulls":8},-1.2747252747252358,-12.132594563195918]
[{"$f":"A125+Sheet3!G$11","v":{"v":-3.0169830169829956,"d":"-3.02"}},{"v":35.4413418554026,"d":"35.4413"},{"$f":"(B127-B126)/Sheet3!$G$11","v":-85.33094838267465},{"$nulls":8},-2.25774225774222,-12.049966254532093]
[{"$f":"A126+Sheet3!G$11","v":{"v":-3.0089910089909875,"d":"-3.01"}},{"v":34.75937623396264,"d":"34.7594"},{"$f":"(B128-B127)/Sheet3!$G$11","v":-84.51058114630499},{"$nulls":8},-1.2667332667332278,-12.048682023358237]
[{"$f":"A127+Sheet3!G$11","v":{"v":-3.0009990009989793,"d":"-3.00"}},{"v":34.08396699403213,"d":"34.0840"},{"$f":"(B129-B128)/Sheet3!$G$11","v":-83.6948203647501},{"$nulls":8},-1.25874125874122,-11.96417831535858]
[{"$f":"A128+Sheet3!G$11","v":{"v":-2.993006993006971,"d":"-2.99"}},{"v":33.415077320787375,"d":"33.4151"},{"$f":"(B130-B129)/Sheet3!$G$11","v":-82.88365378679494},{"$nulls":8},-2.265734265734228,-11.908810706414627]
[{"$f":"A129+Sheet3!G$11","v":{"v":-2.985014985014963,"d":"-2.99"}},{"v":32.75267049731649,"d":"32.7527"},{"$f":"(B131-B130)/Sheet3!$G$11","v":-82.07706916122983},{"$nulls":8},-1.250749250749212,-11.87909890925583]
[{"$f":"A130+Sheet3!G$11","v":{"v":-2.977022977022955,"d":"-2.98"}},{"$f":"x^4-3*x^2+6*x-2","v":{"v":32.096709904619345,"d":"32.0967"}},{"$f":"(B132-B131)/Sheet3!$G$11","v":-81.27505423685305},{"$nulls":8},-1.242757242757204,-11.7934591771971]
[{"$f":"A131+Sheet3!G$11","v":{"v":-2.9690309690309467,"d":"-2.97"}},{"v":31.447159021607533,"d":"31.4472"},{"$f":"(B133-B132)/Sheet3!$G$11","v":-80.47759676244426},{"$nulls":8},-2.2737262737262363,-11.764359177624918]
[{"$f":"A132+Sheet3!G$11","v":{"v":-2.9610389610389385,"d":"-2.96"}},{"v":30.80398142510448,"d":"30.8040"},{"$f":"(B134-B133)/Sheet3!$G$11","v":-79.68468448680176},{"$nulls":8},-1.234765234765196,-11.707274393417743]
[{"$f":"A133+Sheet3!G$11","v":{"v":-2.9530469530469303,"d":"-2.95"}},{"v":30.167140789845327,"d":"30.1671"},{"$f":"(B135-B134)/Sheet3!$G$11","v":-78.89630515871006},{"$nulls":8},-1.2267732267731881,-11.620559734241347]
[{"$f":"A134+Sheet3!G$11","v":{"v":-2.945054945054922,"d":"-2.95"}},{"v":29.536600888477015,"d":"29.5366"},{"$f":"(B136-B135)/Sheet3!$G$11","v":-78.1124465269657},{"$nulls":8},-2.2817182817182444,-11.616583861221695]
[{"$f":"A135+Sheet3!G$11","v":{"v":-2.937062937062914,"d":"-2.94"}},{"v":28.912325591558208,"d":"28.9123"},{"$f":"(B137-B136)/Sheet3!$G$11","v":-77.3330963403572},{"$nulls":8},-1.2187812187811802,-11.533330278079735]
[{"$f":"A136+Sheet3!G$11","v":{"v":-2.929070929070906,"d":"-2.93"}},{"v":28.29427886755935,"d":"28.2943"},{"$f":"(B138-B137)/Sheet3!$G$11","v":-76.55824234767265},{"$nulls":8},-2.2897102897102526,-11.465456852351897]
[{"$f":"A137+Sheet3!G$11","v":{"v":-2.9210789210788977,"d":"-2.92"}},{"v":27.682424782862665,"d":"27.6824"},{"$f":"(B139-B138)/Sheet3!$G$11","v":-75.787872297701},{"$nulls":8},-1.2107892107891722,-11.445601005432959]
[{"$f":"A138+Sheet3!G$11","v":{"v":-2.9130869130868895,"d":"-2.91"}},{"v":27.076727501762157,"d":"27.0767"},{"$f":"(B140-B139)/Sheet3!$G$11","v":-75.02197393923745},{"$nulls":8},-1.2027972027971643,-11.357386798889316]
[{"$f":"A139+Sheet3!G$11","v":{"v":-2.9050949050948813,"d":"-2.91"}},{"v":26.477151286463556,"d":"26.4772"},{"$f":"(B141-B140)/Sheet3!$G$11","v":-74.26053502107143},{"$nulls":8},-2.2977022977022608,-11.310950148250722]
[{"$f":"A140+Sheet3!G$11","v":{"v":-2.897102897102873,"d":"-2.90"}},{"v":25.883660497084364,"d":"25.8837"},{"$f":"(B142-B141)/Sheet3!$G$11","v":-73.50354329198747},{"$nulls":8},-1.1948051948051563,-11.268702443125331]
[{"$f":"A141+Sheet3!G$11","v":{"v":-2.889110889110865,"d":"-2.89"}},{"v":25.296219591653895,"d":"25.2962"},{"$f":"(B143-B142)/Sheet3!$G$11","v":-72.75098650078606},{"$nulls":8},-1.1868131868131484,-11.179562624905767]
[{"$f":"A142+Sheet3!G$11","v":{"v":-2.881118881118857,"d":"-2.88"}},{"v":24.714793126113147,"d":"24.7148"},{"$f":"(B144-B143)/Sheet3!$G$11","v":-72.00285239625175},{"$nulls":8},-2.305694305694269,-11.153035648241588]
[{"$f":"A143+Sheet3!G$11","v":{"v":-2.8731268731268487,"d":"-2.87"}},{"v":24.13934575431493,"d":"24.1393"},{"$f":"(B145-B144)/Sheet3!$G$11","v":-71.25912872717129},{"$nulls":8},-1.1788211788211405,-11.089981933083617]
[{"$f":"A144+Sheet3!G$11","v":{"v":-2.8651348651348405,"d":"-2.87"}},{"v":23.56984222802385,"d":"23.5698"},{"$f":"(B146-B145)/Sheet3!$G$11","v":-70.51980324234343},{"$nulls":8},-1.1708291708291325,-10.999974858600115]
[{"$f":"A145+Sheet3!G$11","v":{"v":-2.8571428571428323,"d":"-2.86"}},{"v":23.006247396916212,"d":"23.0062"},{"$f":"(B147-B146)/Sheet3!$G$11","v":-69.78486369055179},{"$nulls":8},-2.313686313686277,-10.991685153736146]
[{"$f":"A146+Sheet3!G$11","v":{"v":-2.849150849150824,"d":"-2.85"}},{"v":22.448526208580134,"d":"22.4485"},{"$f":"(B148-B147)/Sheet3!$G$11","v":-69.0542978205898},{"$nulls":8},-1.1628371628371246,-10.909555794484724]
[{"$f":"A147+Sheet3!G$11","v":{"v":-2.841158841158816,"d":"-2.84"}},{"v":21.89664370851548,"d":"21.8966"},{"$f":"(B149-B148)/Sheet3!$G$11","v":-68.32809338124596},{"$nulls":8},-2.3216783216782853,-10.826870368234305]
[{"$f":"A148+Sheet3!G$11","v":{"v":-2.833166833166808,"d":"-2.83"}},{"v":21.350565040133894,"d":"21.3506"},{"$f":"(B150-B149)/Sheet3!$G$11","v":-67.6062381213155},{"$nulls":8},-1.1548451548451166,-10.818739035855153]
[{"$f":"A149+Sheet3!G$11","v":{"v":-2.8251748251747997,"d":"-2.83"}},{"v":20.810255444758745,"d":"20.8103"},{"$f":"(B151-B150)/Sheet3!$G$11","v":-66.88871978958294},{"$nulls":8},-1.1468531468531087,-10.727538779917332]
[{"$f":"A150+Sheet3!G$11","v":{"v":-2.8171828171827915,"d":"-2.82"}},{"v":20.275680261625215,"d":"20.2757"},{"$f":"(B152-B151)/Sheet3!$G$11","v":-66.17552613483988},{"$nulls":8},-2.3296703296702934,-10.658562897324188]
[{"$f":"A151+Sheet3!G$11","v":{"v":-2.8091908091907833,"d":"-2.81"}},{"v":19.74680492788024,"d":"19.7468"},{"$f":"(B153-B152)/Sheet3!$G$11","v":-65.46664490588022},{"$nulls":8},-1.1388611388611007,-10.635969125965431]
[{"$f":"A152+Sheet3!G$11","v":{"v":-2.801198801198775,"d":"-2.80"}},{"v":19.223594978582497,"d":"19.2236"},{"$f":"(B154-B153)/Sheet3!$G$11","v":-64.76206385149024},{"$nulls":8},-1.1308691308690928,-10.544044075381859]
[{"$f":"A153+Sheet3!G$11","v":{"v":-2.793206793206767,"d":"-2.79"}},{"v":18.706016046702455,"d":"18.7060"},{"$f":"(B155-B154)/Sheet3!$G$11","v":-64.06177072046425},{"$nulls":8},-2.3376623376623016,-10.48673424868214]
[{"$f":"A154+Sheet3!G$11","v":{"v":-2.785214785214759,"d":"-2.79"}},{"v":18.19403386312232,"d":"18.1940"},{"$f":"(B156-B155)/Sheet3!$G$11","v":-63.365753261589454},{"$nulls":8},-1.1228771228770849,-10.451777531637259]
[{"$f":"A155+Sheet3!G$11","v":{"v":-2.7772227772227507,"d":"-2.78"}},{"v":17.687614256636092,"d":"17.6876"},{"$f":"(B157-B156)/Sheet3!$G$11","v":-62.673999223657916},{"$nulls":8},-1.114885114885077,-10.359183300290503]
[{"$f":"A156+Sheet3!G$11","v":{"v":-2.7692307692307425,"d":"-2.77"}},{"v":17.186723153949515,"d":"17.1867"},{"$f":"(B158-B157)/Sheet3!$G$11","v":-61.98649635545595},{"$nulls":8},-2.3456543456543097,-10.311355832072781]
[{"$f":"A157+Sheet3!G$11","v":{"v":-2.7612387612387344,"d":"-2.76"}},{"v":16.691326579680137,"d":"16.6913"},{"$f":"(B159-B158)/Sheet3!$G$11","v":-61.30323240578052},{"$nulls":8},-1.106893106893069,-10.266275088988701]
[{"$f":"A158+Sheet3!G$11","v":{"v":-2.753246753246726,"d":"-2.75"}},{"v":16.201390656357216,"d":"16.2014"},{"$f":"(B160-B159)/Sheet3!$G$11","v":-60.62419512341971},{"$nulls":8},-1.098901098901061,-10.173066507467203]
[{"$f":"A159+Sheet3!G$11","v":{"v":-2.745254745254718,"d":"-2.75"}},{"v":15.716881604421793,"d":"15.7169"},{"$f":"(B161-B160)/Sheet3!$G$11","v":-59.94937225716116},{"$nulls":8},-2.353646353646318,-10.132398959348931]
[{"$f":"A160+Sheet3!G$11","v":{"v":-2.73726273726271,"d":"-2.74"}},{"v":15.2377657422267,"d":"15.2378"},{"$f":"(B162-B161)/Sheet3!$G$11","v":-59.27875155579827},{"$nulls":8},-1.090909090909053,-10.079571067549587]
[{"$f":"A161+Sheet3!G$11","v":{"v":-2.7292707292707017,"d":"-2.73"}},{"v":14.764009486036503,"d":"14.7640"},{"$f":"(B163-B162)/Sheet3!$G$11","v":-58.612320768120036},{"$nulls":8},-1.0829170829170451,-9.985802183147669]
[{"$f":"A162+Sheet3!G$11","v":{"v":-2.7212787212786935,"d":"-2.72"}},{"v":14.295579350027552,"d":"14.2956"},{"$f":"(B164-B163)/Sheet3!$G$11","v":-57.95006764291718},{"$nulls":8},-2.361638361638326,-9.949834844451662]
[{"$f":"A163+Sheet3!G$11","v":{"v":-2.7132867132866854,"d":"-2.71"}},{"v":13.832441946287954,"d":"13.8324"},{"$f":"(B165-B164)/Sheet3!$G$11","v":-57.291979928980474},{"$nulls":8},-1.0749250749250372,-9.891773170261501]
[{"$f":"A164+Sheet3!G$11","v":{"v":-2.705294705294677,"d":"-2.71"}},{"v":13.37456398481758,"d":"13.3746"},{"$f":"(B166-B165)/Sheet3!$G$11","v":-56.63804537509931},{"$nulls":8},-1.0669330669330293,-9.797497246979367]
[{"$f":"A165+Sheet3!G$11","v":{"v":-2.697302697302669,"d":"-2.70"}},{"v":12.921912273528076,"d":"12.9219"},{"$f":"(B167-B166)/Sheet3!$G$11","v":-55.98825173006445},{"$nulls":8},-2.3696303696303342,-9.763634603410274]
[{"$f":"A166+Sheet3!G$11","v":{"v":-2.689310689310661,"d":"-2.69"}},{"v":12.474453718242845,"d":"12.4745"},{"$f":"(B168-B167)/Sheet3!$G$11","v":-55.342586742668416},{"$nulls":8},-1.0589410589410213,-9.702987533477788]
[{"$f":"A167+Sheet3!G$11","v":{"v":-2.6813186813186527,"d":"-2.68"}},{"v":12.032155322697044,"d":"12.0322"},{"$f":"(B169-B168)/Sheet3!$G$11","v":-54.7010381616984},{"$nulls":8},-1.0509490509490134,-9.608257052021518]
[{"$f":"A168+Sheet3!G$11","v":{"v":-2.6733266733266445,"d":"-2.67"}},{"v":11.594984188537616,"d":"11.5950"},{"$f":"(B170-B169)/Sheet3!$G$11","v":-54.06359373594648},{"$nulls":8},-2.3776223776223424,-9.573769254342299]
[{"$f":"A169+Sheet3!G$11","v":{"v":-2.6653346653346364,"d":"-2.67"}},{"v":11.162907515323258,"d":"11.1629"},{"$f":"(B171-B170)/Sheet3!$G$11","v":-53.430241214202525},{"$nulls":8},-1.0429570429570054,-9.513318726963547]
[{"$f":"A170+Sheet3!G$11","v":{"v":-2.657342657342628,"d":"-2.66"}},{"v":10.735892600524437,"d":"10.7359"},{"$f":"(B172-B171)/Sheet3!$G$11","v":-52.800968345257274},{"$nulls":8},-1.0349650349649975,-9.418185384745103]
[{"$f":"A171+Sheet3!G$11","v":{"v":-2.64935064935062,"d":"-2.65"}},{"v":10.31390683952338,"d":"10.3139"},{"$f":"(B173-B172)/Sheet3!$G$11","v":-52.17576287790081},{"$nulls":8},-2.3856143856143506,-9.380209717453523]
[{"$f":"A172+Sheet3!G$11","v":{"v":-2.641358641358612,"d":"-2.64"}},{"v":9.896917725614083,"d":"9.8969"},{"$f":"(B174-B173)/Sheet3!$G$11","v":-51.55461256092299},{"$nulls":8},-1.0269730269729895,-9.322869753895644]
[{"$f":"A173+Sheet3!G$11","v":{"v":-2.6333666333666037,"d":"-2.63"}},{"v":9.48489285000231,"d":"9.4849"},{"$f":"(B175-B174)/Sheet3!$G$11","v":-50.93750514311679},{"$nulls":8},-1.0189810189809816,-9.227384465032864]
[{"$f":"A174+Sheet3!G$11","v":{"v":-2.6253746253745955,"d":"-2.63"}},{"v":9.077799901805573,"d":"9.0778"},{"$f":"(B176-B175)/Sheet3!$G$11","v":-50.324428373269846},{"$nulls":8},-2.3936063936063587,-9.182926815037941]
[{"$f":"A175+Sheet3!G$11","v":{"v":-2.6173826173825874,"d":"-2.62"}},{"v":8.675606668053167,"d":"8.6756"},{"$f":"(B177-B176)/Sheet3!$G$11","v":-49.71537000017157},{"$nulls":8},-1.0109890109889736,-9.131742050862695]
[{"$f":"A176+Sheet3!G$11","v":{"v":-2.609390609390579,"d":"-2.61"}},{"v":8.278281033686161,"d":"8.2783"},{"$f":"(B178-B177)/Sheet3!$G$11","v":-49.11031777261804},{"$nulls":8},-1.0029970029969657,-9.0359549461793]
[{"$f":"A177+Sheet3!G$11","v":{"v":-2.601398601398571,"d":"-2.60"}},{"v":7.885790981557346,"d":"7.8858"},{"$f":"(B179-B178)/Sheet3!$G$11","v":-48.50925943939334},{"$nulls":8},-2.401598401598367,-8.9818912714778]
[{"$f":"A178+Sheet3!G$11","v":{"v":-2.593406593406563,"d":"-2.59"}},{"v":7.498104592431325,"d":"7.4981"},{"$f":"(B180-B179)/Sheet3!$G$11","v":-47.91218274929089},{"$nulls":8},-0.9950049950049578,-8.940035487865082]
[{"$f":"A179+Sheet3!G$11","v":{"v":-2.5854145854145547,"d":"-2.59"}},{"v":7.115190044984445,"d":"7.1152"},{"$f":"(B181-B180)/Sheet3!$G$11","v":-47.31907545109966},{"$nulls":8},-0.9870129870129498,-8.843995914890671]
[{"$f":"A180+Sheet3!G$11","v":{"v":-2.5774225774225465,"d":"-2.58"}},{"v":6.737015615804827,"d":"6.7370"},{"$f":"(B182-B181)/Sheet3!$G$11","v":-46.729925293611274},{"$nulls":8},-2.409590409590375,-8.77707371324357]
[{"$f":"A181+Sheet3!G$11","v":{"v":-2.5694305694305384,"d":"-2.57"}},{"v":6.363549679392349,"d":"6.3635"},{"$f":"(B183-B182)/Sheet3!$G$11","v":-46.14472002561827},{"$nulls":8},-0.9790209790209419,-8.74784836831494]
[{"$f":"A182+Sheet3!G$11","v":{"v":-2.56143856143853,"d":"-2.56"}},{"v":5.994760708158637,"d":"5.9948"},{"$f":"(B184-B183)/Sheet3!$G$11","v":-45.56344739590473},{"$nulls":8},-0.9710289710289339,-8.651604891284991]
[{"$f":"A183+Sheet3!G$11","v":{"v":-2.553446553446522,"d":"-2.55"}},{"v":5.630617272427131,"d":"5.6306"},{"$f":"(B185-B184)/Sheet3!$G$11","v":-44.98609515326806},{"$nulls":8},-2.4175824175823832,-8.568444668893976]
[{"$f":"A184+Sheet3!G$11","v":{"v":-2.545454545454514,"d":"-2.55"}},{"v":5.27108804043298,"d":"5.2711"},{"$f":"(B186-B185)/Sheet3!$G$11","v":-44.41265104649324},{"$nulls":8},-0.963036963036926,-8.555277429036167]
[{"$f":"A185+Sheet3!G$11","v":{"v":-2.5374625374625057,"d":"-2.54"}},{"v":4.916141778323144,"d":"4.9161"},{"$f":"(B187-B186)/Sheet3!$G$11","v":-43.843102824373226},{"$nulls":8},-0.955044955044918,-8.45887782889204]
[{"$f":"A186+Sheet3!G$11","v":{"v":-2.5294705294704976,"d":"-2.53"}},{"v":4.565747350156325,"d":"4.5657"},{"$f":"(B188-B187)/Sheet3!$G$11","v":-43.27743823569878},{"$nulls":8},-0.9470529470529101,-8.362417840264419]
[{"$f":"A187+Sheet3!G$11","v":{"v":-2.5214785214784894,"d":"-2.52"}},{"v":4.219873717902988,"d":"4.2199"},{"$f":"(B189-B188)/Sheet3!$G$11","v":-42.71564502926153},{"$nulls":8},-2.4255744255743914,-8.355974569075943]
[{"$f":"A188+Sheet3!G$11","v":{"v":-2.513486513486481,"d":"-2.51"}},{"v":3.8784899414453538,"d":"3.8785"},{"$f":"(B190-B189)/Sheet3!$G$11","v":-42.157710953846454},{"$nulls":8},-0.9390609390609022,-8.265909114653347]
[{"$f":"A189+Sheet3!G$11","v":{"v":-2.505494505494473,"d":"-2.51"}},{"v":3.54156517857745,"d":"3.5416"},{"$f":"(B191-B190)/Sheet3!$G$11","v":-41.60362375824785},{"$nulls":8},-0.9310689310688942,-8.169363205647109]
[{"$f":"A190+Sheet3!G$11","v":{"v":-2.497502497502465,"d":"-2.50"}},{"v":3.2090686850050396,"d":"3.2091"},{"$f":"(B192-B191)/Sheet3!$G$11","v":-41.05337119125869},{"$nulls":8},-2.4335664335663996,-8.13963374652468]
[{"$f":"A191+Sheet3!G$11","v":{"v":-2.4895104895104567,"d":"-2.49"}},{"v":2.8809698143456295,"d":"2.8810"},{"$f":"(B193-B192)/Sheet3!$G$11","v":-40.50694100166439},{"$nulls":8},-0.9230769230768863,-8.072791568922213]
[{"$f":"A192+Sheet3!G$11","v":{"v":-2.4815184815184486,"d":"-2.48"}},{"v":2.5572380181285315,"d":"2.5572"},{"$f":"(B194-B193)/Sheet3!$G$11","v":-39.96432093825614},{"$nulls":8},-0.9150849150848783,-7.976205562243408]
[{"$f":"A193+Sheet3!G$11","v":{"v":-2.4735264735264404,"d":"-2.47"}},{"v":2.237842845794816,"d":"2.2378"},{"$f":"(B195-B194)/Sheet3!$G$11","v":-39.425498749827796},{"$nulls":8},-2.4415584415584077,-7.9193924360635854]
[{"$f":"A194+Sheet3!G$11","v":{"v":-2.4655344655344322,"d":"-2.47"}},{"$f":"x^4-3*x^2+6*x-2","v":{"v":1.9227539446972912,"d":"1.9228"}},{"$f":"(B196-B195)/Sheet3!$G$11","v":-38.890462185166555},{"$nulls":8},-0.9070929070928704,-7.879616445463682]
[{"$f":"A195+Sheet3!G$11","v":{"v":-2.457542457542424,"d":"-2.46"}},{"v":1.6119410601005555,"d":"1.6119"},{"$f":"(B197-B196)/Sheet3!$G$11","v":-38.35919899306228},{"$nulls":8},-0.8991008991008624,-7.78303538052425]
[{"$f":"A196+Sheet3!G$11","v":{"v":-2.449550449550416,"d":"-2.45"}},{"v":1.3053740351809768,"d":"1.3054"},{"$f":"(B198-B197)/Sheet3!$G$11","v":-37.83169692230926},{"$nulls":8},-2.449550449550416,-7.695220774604314]
[{"$f":"A197+Sheet3!G$11","v":{"v":-2.4415584415584077,"d":"-2.44"}},{"v":1.003022811026657,"d":"1.0030"},{"$f":"(B199-B198)/Sheet3!$G$11","v":-37.30794372169471},{"$nulls":8},-0.8911088911088545,-7.686473431454569]
[{"$f":"A198+Sheet3!G$11","v":{"v":-2.4335664335663996,"d":"-2.43"}},{"v":0.7048574266374885,"d":"0.7049"},{"$f":"(B200-B199)/Sheet3!$G$11","v":-36.78792714000847},{"$nulls":8},-0.8831168831168466,-7.5899415643723245]
[{"$f":"A199+Sheet3!G$11","v":{"v":-2.4255744255743914,"d":"-2.43"}},{"v":0.4108480189251331,"d":"0.4108"},{"$f":"(B201-B200)/Sheet3!$G$11","v":-36.271634926045294},{"$nulls":8},-0.8751248751248386,-7.493450647483442]
[{"$f":"A200+Sheet3!G$11","v":{"v":-2.4175824175823832,"d":"-2.42"}},{"v":0.12096482271298292,"d":"0.1210"},{"$f":"(B202-B201)/Sheet3!$G$11","v":-35.759054828588376},{"$nulls":8},-2.457542457542424,-7.467088801146758]
[{"$f":"A201+Sheet3!G$11","v":{"v":-2.409590409590375,"d":"-2.41"}},{"v":-0.16482182926374733,"d":"-0.1648"},{"$f":"(B203-B202)/Sheet3!$G$11","v":-35.25017459643557},{"$nulls":8},-0.8671328671328307,-7.397011451082081]
[{"$f":"A202+Sheet3!G$11","v":{"v":-2.401598401598367,"d":"-2.40"}},{"v":-0.4465415063581375,"d":"-0.4465"},{"$f":"(B204-B203)/Sheet3!$G$11","v":-34.74498197837274},{"$nulls":8},-0.8591408591408227,-7.300634647550632]
[{"$f":"A203+Sheet3!G$11","v":{"v":-2.3936063936063587,"d":"-2.39"}},{"v":-0.7242236800114661,"d":"-0.7242"},{"$f":"(B205-B204)/Sheet3!$G$11","v":-34.243464723191074},{"$nulls":8},-2.4655344655344322,-7.234966456779027]
[{"$f":"A204+Sheet3!G$11","v":{"v":-2.3856143856143506,"d":"-2.39"}},{"v":-0.9978977237532529,"d":"-0.9979"},{"$f":"(B206-B205)/Sheet3!$G$11","v":-33.745610579681774},{"$nulls":8},-0.8511488511488148,-7.204330811359725]
[{"$f":"A205+Sheet3!G$11","v":{"v":-2.3776223776223424,"d":"-2.38"}},{"v":-1.267592913201259,"d":"-1.2676"},{"$f":"(B207-B206)/Sheet3!$G$11","v":-33.25140729663558},{"$nulls":8},-0.8431568431568068,-7.108110419068224]
[{"$f":"A206+Sheet3!G$11","v":{"v":-2.3696303696303342,"d":"-2.37"}},{"v":-1.5333384260614835,"d":"-1.5333"},{"$f":"(B208-B207)/Sheet3!$G$11","v":-32.76084262284102},{"$nulls":8},-0.8351648351647989,-7.011983849323226]
[{"$f":"A207+Sheet3!G$11","v":{"v":-2.361638361638326,"d":"-2.36"}},{"v":-1.795163342128145,"d":"-1.7952"},{"$f":"(B209-B208)/Sheet3!$G$11","v":-32.27390430709061},{"$nulls":8},-2.4735264735264404,-6.998823584677481]
[{"$f":"A208+Sheet3!G$11","v":{"v":-2.353646353646318,"d":"-2.35"}},{"v":-2.0530966432837143,"d":"-2.0531"},{"$f":"(B210-B209)/Sheet3!$G$11","v":-31.790580098173784},{"$nulls":8},-0.827172827172791,-6.915961382860065]
[{"$f":"A209+Sheet3!G$11","v":{"v":-2.3456543456543097,"d":"-2.35"}},{"v":-2.3071672134988894,"d":"-2.3072"},{"$f":"(B211-B210)/Sheet3!$G$11","v":-31.310857744878607},{"$nulls":8},-0.819180819180783,-6.820053202502307]
[{"$f":"A210+Sheet3!G$11","v":{"v":-2.3376623376623016,"d":"-2.34"}},{"v":-2.5574038388325846,"d":"-2.5574"},{"$f":"(B212-B211)/Sheet3!$G$11","v":-30.83472499600206},{"$nulls":8},-2.4815184815184486,-6.75862993010672]
[{"$f":"A211+Sheet3!G$11","v":{"v":-2.3296703296702934,"d":"-2.33"}},{"v":-2.8038352074320017,"d":"-2.8038"},{"$f":"(B213-B212)/Sheet3!$G$11","v":-30.362169600325547},{"$nulls":8},-0.8111888111887751,-6.724269393161757]
[{"$f":"A212+Sheet3!G$11","v":{"v":-2.3216783216782853,"d":"-2.32"}},{"v":-3.0464899095325055,"d":"-3.0465"},{"$f":"(B214-B213)/Sheet3!$G$11","v":-29.893179306647383},{"$nulls":8},-0.8031968031967671,-6.628619941838453]
[{"$f":"A213+Sheet3!G$11","v":{"v":-2.313686313686277,"d":"-2.31"}},{"v":-3.2853964374577593,"d":"-3.2854"},{"$f":"(B215-B214)/Sheet3!$G$11","v":-29.427741863754306},{"$nulls":8},-0.7952047952047592,-6.533114737620668]
[{"$f":"A214+Sheet3!G$11","v":{"v":-2.305694305694269,"d":"-2.31"}},{"v":-3.520583185619632,"d":"-3.5206"},{"$f":"(B216-B215)/Sheet3!$G$11","v":-28.96584502043618},{"$nulls":8},-2.4895104895104567,-6.514355140419557]
[{"$f":"A215+Sheet3!G$11","v":{"v":-2.2977022977022608,"d":"-2.30"}},{"v":-3.7520784505182228,"d":"-3.7521"},{"$f":"(B217-B216)/Sheet3!$G$11","v":-28.507476525485085},{"$nulls":8},-0.7872127872127512,-6.437763571684908]
[{"$f":"A216+Sheet3!G$11","v":{"v":-2.2897102897102526,"d":"-2.29"}},{"v":-3.97991043074188,"d":"-3.9799"},{"$f":"(B218-B217)/Sheet3!$G$11","v":-28.052624127690436},{"$nulls":8},-0.7792207792207433,-6.342576137295916]
[{"$f":"A217+Sheet3!G$11","v":{"v":-2.2817182817182444,"d":"-2.28"}},{"v":-4.204107226967178,"d":"-4.2041"},{"$f":"(B219-B218)/Sheet3!$G$11","v":-27.60127557584254},{"$nulls":8},-2.497502497502465,-6.265968765057064]
[{"$f":"A218+Sheet3!G$11","v":{"v":-2.2737262737262363,"d":"-2.27"}},{"v":-4.4246968419589265,"d":"-4.4247"},{"$f":"(B220-B219)/Sheet3!$G$11","v":-27.153418618733248},{"$nulls":8},-0.7712287712287353,-6.247562029806671]
[{"$f":"A219+Sheet3!G$11","v":{"v":-2.265734265734228,"d":"-2.27"}},{"v":-4.641707180570181,"d":"-4.6417"},{"$f":"(B221-B220)/Sheet3!$G$11","v":-26.709041005151537},{"$nulls":8},-0.7632367632367274,-6.152730746658385]
[{"$f":"A220+Sheet3!G$11","v":{"v":-2.25774225774222,"d":"-2.26"}},{"v":-4.8551660497422215,"d":"-4.8552"},{"$f":"(B222-B221)/Sheet3!$G$11","v":-26.26813048388704},{"$nulls":8},-0.7552447552447195,-6.058091687380504]
[{"$f":"A221+Sheet3!G$11","v":{"v":-2.2497502497502118,"d":"-2.25"}},{"v":-5.065101158504556,"d":"-5.0651"},{"$f":"(B223-B222)/Sheet3!$G$11","v":-25.83067480373229},{"$nulls":8},-2.505494505494473,-6.013440255548538]
[{"$f":"A222+Sheet3!G$11","v":{"v":-2.2417582417582036,"d":"-2.24"}},{"v":-5.2715401179749435,"d":"-5.2715"},{"$f":"(B224-B223)/Sheet3!$G$11","v":-25.39666171347647},{"$nulls":8},-0.7472527472527115,-5.963654153590712]
[{"$f":"A223+Sheet3!G$11","v":{"v":-2.2337662337661954,"d":"-2.23"}},{"v":-5.474510441359371,"d":"-5.4745"},{"$f":"(B225-B224)/Sheet3!$G$11","v":-24.966078961909},{"$nulls":8},-0.7392607392607036,-5.869427348994925]
[{"$f":"A224+Sheet3!G$11","v":{"v":-2.2257742257741873,"d":"-2.23"}},{"v":-5.67403954395205,"d":"-5.6740"},{"$f":"(B226-B225)/Sheet3!$G$11","v":-24.53891429782329},{"$nulls":8},-0.7312687312686956,-5.775420379387297]
[{"$f":"A225+Sheet3!G$11","v":{"v":-2.217782217782179,"d":"-2.22"}},{"v":-5.870154743135453,"d":"-5.8702"},{"$f":"(B227-B226)/Sheet3!$G$11","v":-24.115155470006982},{"$nulls":8},-2.513486513486481,-5.7567389655115]
[{"$f":"A226+Sheet3!G$11","v":{"v":-2.209790209790171,"d":"-2.21"}},{"v":-6.062883258380264,"d":"-6.0629"},{"$f":"(B228-B227)/Sheet3!$G$11","v":-23.694790227251712},{"$nulls":8},-0.7232767232766877,-5.681642252650214]
[{"$f":"A227+Sheet3!G$11","v":{"v":-2.2017982017981628,"d":"-2.20"}},{"v":-6.252252211245413,"d":"-6.2523"},{"$f":"(B229-B228)/Sheet3!$G$11","v":-23.277806318346446},{"$nulls":8},-0.7152847152846797,-5.588101878754298]
[{"$f":"A228+Sheet3!G$11","v":{"v":-2.1938061938061546,"d":"-2.19"}},{"v":-6.438288625378052,"d":"-6.4383"},{"$f":"(B230-B229)/Sheet3!$G$11","v":-22.864191492083716},{"$nulls":8},-2.5214785214784894,-5.495834150651714]
[{"$f":"A229+Sheet3!G$11","v":{"v":-2.1858141858141464,"d":"-2.19"}},{"v":-6.621019426513586,"d":"-6.6210"},{"$f":"(B231-B230)/Sheet3!$G$11","v":-22.45393349725204},{"$nulls":8},-0.7072927072926718,-5.494808069758405]
[{"$f":"A230+Sheet3!G$11","v":{"v":-2.1778221778221383,"d":"-2.18"}},{"v":-6.80047144247564,"d":"-6.8005"},{"$f":"(B232-B231)/Sheet3!$G$11","v":-22.04702008264284},{"$nulls":8},-0.6993006993006639,-5.40176953980963]
[{"$f":"A231+Sheet3!G$11","v":{"v":-2.16983016983013,"d":"-2.17"}},{"v":-6.976671403176082,"d":"-6.9767"},{"$f":"(B233-B232)/Sheet3!$G$11","v":-21.64343899704731},{"$nulls":8},-0.6913086913086559,-5.308994905143296]
[{"$f":"A232+Sheet3!G$11","v":{"v":-2.161838161838122,"d":"-2.16"}},{"v":-7.149645940615022,"d":"-7.1496"},{"$f":"(B234-B233)/Sheet3!$G$11","v":-21.2431779892533},{"$nulls":8},-2.5294705294704976,-5.230694968763192]
[{"$f":"A233+Sheet3!G$11","v":{"v":-2.1538461538461138,"d":"-2.15"}},{"v":-7.3194215888807825,"d":"-7.3194"},{"$f":"(B235-B234)/Sheet3!$G$11","v":-20.846224808053787},{"$nulls":8},-0.683316683316648,-5.216492684082966]
[{"$f":"A234+Sheet3!G$11","v":{"v":-2.1458541458541056,"d":"-2.15"}},{"v":-7.486024784149944,"d":"-7.4860"},{"$f":"(B236-B235)/Sheet3!$G$11","v":-20.452567202237514},{"$nulls":8},-0.67532467532464,-5.124271297040438]
[{"$f":"A235+Sheet3!G$11","v":{"v":-2.1378621378620974,"d":"-2.14"}},{"v":-7.649481864687306,"d":"-7.6495"},{"$f":"(B237-B236)/Sheet3!$G$11","v":-20.062192920595677},{"$nulls":8},-0.6673326673326321,-5.0323390665157435]
[{"$f":"A236+Sheet3!G$11","v":{"v":-2.1298701298700893,"d":"-2.13"}},{"v":-7.809819070845913,"d":"-7.8098"},{"$f":"(B238-B237)/Sheet3!$G$11","v":-19.675089711918577},{"$nulls":8},-2.5374625374625057,-4.961290479728174]
[{"$f":"A237+Sheet3!G$11","v":{"v":-2.121878121878081,"d":"-2.12"}},{"v":-7.967062545067041,"d":"-7.9671"},{"$f":"(B239-B238)/Sheet3!$G$11","v":-19.291245324996524},{"$nulls":8},-0.6593406593406241,-4.940704217097147]
[{"$f":"A238+Sheet3!G$11","v":{"v":-2.113886113886073,"d":"-2.11"}},{"v":-8.1212383318802,"d":"-8.1212"},{"$f":"(B240-B239)/Sheet3!$G$11","v":-18.91064750861937},{"$nulls":8},-0.6513486513486162,-4.849374875461151]
[{"$f":"A239+Sheet3!G$11","v":{"v":-2.105894105894065,"d":"-2.11"}},{"v":-8.272372377903132,"d":"-8.2724"},{"$f":"(B241-B240)/Sheet3!$G$11","v":-18.53328401157853},{"$nulls":8},-0.6433566433566082,-4.758359070372492]
[{"$f":"A240+Sheet3!G$11","v":{"v":-2.0979020979020566,"d":"-2.10"}},{"v":-8.420490531841821,"d":"-8.4205"},{"$f":"(B242-B241)/Sheet3!$G$11","v":-18.1591425826632},{"$nulls":8},-2.545454545454514,-4.687589645517109]
[{"$f":"A241+Sheet3!G$11","v":{"v":-2.0899100899100485,"d":"-2.09"}},{"v":-8.565618544490478,"d":"-8.5656"},{"$f":"(B243-B242)/Sheet3!$G$11","v":-17.788210970665457},{"$nulls":8},-0.6353646353646003,-4.667664732684142]
[{"$f":"A242+Sheet3!G$11","v":{"v":-2.0819180819180403,"d":"-2.08"}},{"v":-8.70778206873156,"d":"-8.7078"},{"$f":"(B244-B243)/Sheet3!$G$11","v":-17.4204769243745},{"$nulls":8},-0.6273726273725924,-4.577299695337306]
[{"$f":"A243+Sheet3!G$11","v":{"v":-2.073926073926032,"d":"-2.07"}},{"v":-8.847006659535753,"d":"-8.8470"},{"$f":"(B245-B244)/Sheet3!$G$11","v":-17.055928192579515},{"$nulls":8},-0.6193806193805844,-4.487271693361425]
[{"$f":"A244+Sheet3!G$11","v":{"v":-2.065934065934024,"d":"-2.07"}},{"v":-8.983317773961963,"d":"-8.9833"},{"$f":"(B246-B245)/Sheet3!$G$11","v":-16.694552524074144},{"$nulls":8},-2.553446553446522,-4.4095613301887155]
[{"$f":"A245+Sheet3!G$11","v":{"v":-2.057942057942016,"d":"-2.06"}},{"v":-9.11674077115736,"d":"-9.1167"},{"$f":"(B247-B246)/Sheet3!$G$11","v":-16.33633766764646},{"$nulls":8},-0.6113886113885765,-4.397588363874176]
[{"$f":"A246+Sheet3!G$11","v":{"v":-2.0499500499500076,"d":"-2.05"}},{"v":-9.247300912357332,"d":"-9.2473"},{"$f":"(B248-B247)/Sheet3!$G$11","v":-15.981271372087},{"$nulls":8},-0.6033966033965685,-4.30825724608147]
[{"$f":"A247+Sheet3!G$11","v":{"v":-2.0419580419579995,"d":"-2.04"}},{"v":-9.3750233608855,"d":"-9.3750"},{"$f":"(B249-B248)/Sheet3!$G$11","v":-15.629341386186503},{"$nulls":8},-0.5954045954045606,-4.219285781277452]
[{"$f":"A248+Sheet3!G$11","v":{"v":-2.0339660339659913,"d":"-2.03"}},{"v":-9.499933182153724,"d":"-9.4999"},{"$f":"(B250-B249)/Sheet3!$G$11","v":-15.280535458735278},{"$nulls":8},-0.5874125874125526,-4.130681312844503]
[{"$f":"A249+Sheet3!G$11","v":{"v":-2.025974025973983,"d":"-2.03"}},{"v":-9.622055343662097,"d":"-9.6221"},{"$f":"(B251-B250)/Sheet3!$G$11","v":-14.93484133852407},{"$nulls":8},-2.56143856143853,-4.127174299889941]
[{"$f":"A250+Sheet3!G$11","v":{"v":-2.017982017981975,"d":"-2.02"}},{"v":-9.741414714998953,"d":"-9.7414"},{"$f":"(B252-B251)/Sheet3!$G$11","v":-14.592246774342739},{"$nulls":8},-0.5794205794205447,-4.042451086253239]
[{"$f":"A251+Sheet3!G$11","v":{"v":-2.009990009989967,"d":"-2.01"}},{"v":-9.858036067840853,"d":"-9.8580"},{"$f":"(B253-B252)/Sheet3!$G$11","v":-14.252739514982032},{"$nulls":8},-0.5714285714285368,-3.9546022490625106]
[{"$f":"A252+Sheet3!G$11","v":{"v":-2.0019980019979586,"d":"-2.00"}},{"v":-9.971944075952598,"d":"-9.9719"},{"$f":"(B254-B253)/Sheet3!$G$11","v":-13.916307309232254},{"$nulls":8},-0.5634365634365288,-3.8671418509194027]
[{"$f":"A253+Sheet3!G$11","v":{"v":-1.9940059940059507,"d":"-1.99"}},{"v":-10.083163315187221,"d":"-10.0832"},{"$f":"(B255-B254)/Sheet3!$G$11","v":-13.582937905884151},{"$nulls":8},-2.5694305694305384,-3.840397222855934]
[{"$f":"A254+Sheet3!G$11","v":{"v":-1.9860139860139427,"d":"-1.99"}},{"v":-10.191718263485996,"d":"-10.1917"},{"$f":"(B256-B255)/Sheet3!$G$11","v":-13.252619053726695},{"$nulls":8},-0.5554445554445209,-3.780076843559237]
[{"$f":"A255+Sheet3!G$11","v":{"v":-1.9780219780219348,"d":"-1.98"}},{"v":-10.297633300878417,"d":"-10.2976"},{"$f":"(B257-B256)/Sheet3!$G$11","v":-12.925338501552856},{"$nulls":8},-0.5474525474525129,-3.693414080805568]
[{"$f":"A256+Sheet3!G$11","v":{"v":-1.9700299700299269,"d":"-1.97"}},{"v":-10.400932709482236,"d":"-10.4009"},{"$f":"(B258-B257)/Sheet3!$G$11","v":-12.601083998150493},{"$nulls":8},-0.539460539460505,-3.6071603185701866]
[{"$f":"A257+Sheet3!G$11","v":{"v":-1.962037962037919,"d":"-1.96"}},{"v":-10.501640673503418,"d":"-10.5016"},{"$f":"(B259-B258)/Sheet3!$G$11","v":-12.279843292311687},{"$nulls":8},-2.5774225774225465,-3.5491986694101367]
[{"$f":"A258+Sheet3!G$11","v":{"v":-1.954045954045911,"d":"-1.95"}},{"$f":"x^4-3*x^2+6*x-2","v":{"v":-10.59978127923618,"d":"-10.5998"}},{"$f":"(B260-B259)/Sheet3!$G$11","v":-11.961604132825629},{"$nulls":8},-0.531468531468497,-3.521322214853118]
[{"$f":"A259+Sheet3!G$11","v":{"v":-1.946053946053903,"d":"-1.95"}},{"v":-10.695378515062957,"d":"-10.6954"},{"$f":"(B261-B260)/Sheet3!$G$11","v":-11.64635426848396},{"$nulls":8},-0.5234765234764891,-3.435906329742622]
[{"$f":"A260+Sheet3!G$11","v":{"v":-1.938061938061895,"d":"-1.94"}},{"v":-10.788456271454438,"d":"-10.7885"},{"$f":"(B262-B261)/Sheet3!$G$11","v":-11.334081448075423},{"$nulls":8},-0.5154845154844812,-3.350919125415194]
[{"$f":"A261+Sheet3!G$11","v":{"v":-1.9300699300698871,"d":"-1.93"}},{"v":-10.879038340969526,"d":"-10.8790"},{"$f":"(B263-B262)/Sheet3!$G$11","v":-11.024773420392323},{"$nulls":8},-0.5074925074924732,-3.266366966135563]
[{"$f":"A262+Sheet3!G$11","v":{"v":-1.9220779220778792,"d":"-1.92"}},{"v":-10.967148418255379,"d":"-10.9671"},{"$f":"(B264-B263)/Sheet3!$G$11","v":-10.718417934222966},{"$nulls":8},-2.5854145854145547,-3.253547111964185]
[{"$f":"A263+Sheet3!G$11","v":{"v":-1.9140859140858713,"d":"-1.91"}},{"v":-11.05281010004737,"d":"-11.0528"},{"$f":"(B265-B264)/Sheet3!$G$11","v":-10.415002738360098},{"$nulls":8},-0.4995004995004652,-3.1822561182566957]
[{"$f":"A264+Sheet3!G$11","v":{"v":-1.9060939060938633,"d":"-1.91"}},{"v":-11.13604688516913,"d":"-11.1360"},{"$f":"(B266-B265)/Sheet3!$G$11","v":-10.114515581592245},{"$nulls":8},-0.4915084915084572,-3.0985927502197903]
[{"$f":"A265+Sheet3!G$11","v":{"v":-1.8981018981018554,"d":"-1.90"}},{"v":-11.216882174532504,"d":"-11.2169"},{"$f":"(B267-B266)/Sheet3!$G$11","v":-9.816944212710599},{"$nulls":8},-0.4835164835164492,-3.0153829325542834]
[{"$f":"A266+Sheet3!G$11","v":{"v":-1.8901098901098474,"d":"-1.89"}},{"v":-11.295339271137584,"d":"-11.2953"},{"$f":"(B268-B267)/Sheet3!$G$11","v":-9.522276380505687},{"$nulls":8},-2.593406593406563,-2.9534109250179412]
[{"$f":"A267+Sheet3!G$11","v":{"v":-1.8821178821178395,"d":"-1.88"}},{"v":-11.371441380072694,"d":"-11.3714"},{"$f":"(B269-B268)/Sheet3!$G$11","v":-9.23049983376692},{"$nulls":8},-0.4755244755244412,-2.9326326378778425]
[{"$f":"A268+Sheet3!G$11","v":{"v":-1.8741258741258315,"d":"-1.87"}},{"v":-11.445211608514388,"d":"-11.4452"},{"$f":"(B270-B269)/Sheet3!$G$11","v":-8.941602321285941},{"$nulls":8},-0.4675324675324332,-2.8503477408963738]
[{"$f":"A269+Sheet3!G$11","v":{"v":-1.8661338661338236,"d":"-1.87"}},{"v":-11.516672965727462,"d":"-11.5167"},{"$f":"(B271-B270)/Sheet3!$G$11","v":-8.655571591852604},{"$nulls":8},-0.4595404595404252,-2.768534018404017]
[{"$f":"A270+Sheet3!G$11","v":{"v":-1.8581418581418156,"d":"-1.86"}},{"v":-11.585848363064946,"d":"-11.5858"},{"$f":"(B272-B271)/Sheet3!$G$11","v":-8.372395394257214},{"$nulls":8},-0.4515484515484172,-2.687197149283146]
[{"$f":"A271+Sheet3!G$11","v":{"v":-1.8501498501498077,"d":"-1.85"}},{"v":-11.6527606139681,"d":"-11.6528"},{"$f":"(B273-B272)/Sheet3!$G$11","v":-8.092061477289853},{"$nulls":8},-2.601398601398571,-2.6487583851595353]
[{"$f":"A272+Sheet3!G$11","v":{"v":-1.8421578421577998,"d":"-1.84"}},{"v":-11.71743243396642,"d":"-11.7174"},{"$f":"(B274-B273)/Sheet3!$G$11","v":-7.814557589741935},{"$nulls":8},-0.4435564435564092,-2.6063427145043705]
[{"$f":"A273+Sheet3!G$11","v":{"v":-1.8341658341657918,"d":"-1.83"}},{"v":-11.779886440677645,"d":"-11.7799"},{"$f":"(B275-B274)/Sheet3!$G$11","v":-7.539871480403097},{"$nulls":8},-0.4355644355644012,-2.5259761971265347]
[{"$f":"A274+Sheet3!G$11","v":{"v":-1.8261738261737839,"d":"-1.83"}},{"v":-11.84014515380774,"d":"-11.8401"},{"$f":"(B276-B275)/Sheet3!$G$11","v":-7.267990898063641},{"$nulls":8},-0.4275724275723932,-2.446102982296718]
[{"$f":"A275+Sheet3!G$11","v":{"v":-1.818181818181776,"d":"-1.82"}},{"v":-11.898230995150906,"d":"-11.8982"},{"$f":"(B277-B276)/Sheet3!$G$11","v":-6.998903591514319},{"$nulls":8},-0.4195804195803852,-2.366728357250234]
[{"$f":"A276+Sheet3!G$11","v":{"v":-1.810189810189768,"d":"-1.81"}},{"v":-11.954166288589581,"d":"-11.9542"},{"$f":"(B278-B277)/Sheet3!$G$11","v":-6.732597309545207},{"$nulls":8},-2.609390609390579,-2.3395576710653163]
[{"$f":"A277+Sheet3!G$11","v":{"v":-1.80219780219776,"d":"-1.80"}},{"v":-12.007973260094438,"d":"-12.0080"},{"$f":"(B279-B278)/Sheet3!$G$11","v":-6.469059800947725},{"$nulls":8},-0.4115884115883772,-2.2878575113106323]
[{"$f":"A278+Sheet3!G$11","v":{"v":-1.794205794205752,"d":"-1.79"}},{"v":-12.05967403772439,"d":"-12.0597"},{"$f":"(B280-B279)/Sheet3!$G$11","v":-6.208278814510172},{"$nulls":8},-0.4035964035963692,-2.2094955358896966]
[{"$f":"A279+Sheet3!G$11","v":{"v":-1.7862137862137442,"d":"-1.79"}},{"v":-12.10929065162657,"d":"-12.1093"},{"$f":"(B281-B280)/Sheet3!$G$11","v":-5.950242099024854},{"$nulls":8},-0.3956043956043612,-2.1316474244874466]
[{"$f":"A280+Sheet3!G$11","v":{"v":-1.7782217782217362,"d":"-1.78"}},{"v":-12.156845034036358,"d":"-12.1568"},{"$f":"(B282-B281)/Sheet3!$G$11","v":-5.69493740328163},{"$nulls":8},-0.3876123876123532,-2.054318072692136]
[{"$f":"A281+Sheet3!G$11","v":{"v":-1.7702297702297283,"d":"-1.77"}},{"v":-12.20235901927737,"d":"-12.2024"},{"$f":"(B283-B282)/Sheet3!$G$11","v":-5.44235247607058},{"$nulls":8},-2.6173826173825874,-2.0257768634998783]
[{"$f":"A282+Sheet3!G$11","v":{"v":-1.7622377622377203,"d":"-1.76"}},{"v":-12.24585434376145,"d":"-12.2459"},{"$f":"(B284-B283)/Sheet3!$G$11","v":-5.192475066182674},{"$nulls":8},-0.3796203796203452,-1.9775122781802525]
[{"$f":"A283+Sheet3!G$11","v":{"v":-1.7542457542457124,"d":"-1.75"}},{"v":-12.287352645988685,"d":"-12.2874"},{"$f":"(B285-B284)/Sheet3!$G$11","v":-4.945292922407329},{"$nulls":8},-0.37162837162833723,-1.9012347407165207]
[{"$f":"A284+Sheet3!G$11","v":{"v":-1.7462537462537044,"d":"-1.75"}},{"v":-12.326875466547385,"d":"-12.3269"},{"$f":"(B286-B285)/Sheet3!$G$11","v":-4.700793793535958},{"$nulls":8},-0.36363636363632923,-1.8254900621538996]
[{"$f":"A285+Sheet3!G$11","v":{"v":-1.7382617382616965,"d":"-1.74"}},{"v":-12.364444248114106,"d":"-12.3644"},{"$f":"(B287-B286)/Sheet3!$G$11","v":-4.45896542835842},{"$nulls":8},-0.35564435564432123,-1.750282746433582]
[{"$f":"A286+Sheet3!G$11","v":{"v":-1.7302697302696886,"d":"-1.73"}},{"v":-12.400080335453634,"d":"-12.4001"},{"$f":"(B288-B287)/Sheet3!$G$11","v":-4.219795575665019},{"$nulls":8},-2.6253746253745955,-1.7073839453160211]
[{"$f":"A287+Sheet3!G$11","v":{"v":-1.7222777222776806,"d":"-1.72"}},{"v":-12.433804975418989,"d":"-12.4338"},{"$f":"(B289-B288)/Sheet3!$G$11","v":-3.9832719842469473},{"$nulls":8},-0.34765234765231323,-1.6756171995849964]
[{"$f":"A288+Sheet3!G$11","v":{"v":-1.7142857142856727,"d":"-1.71"}},{"v":-12.465639316951432,"d":"-12.4656"},{"$f":"(B290-B289)/Sheet3!$G$11","v":-3.7493824028933966},{"$nulls":8},-0.33966033966030523,-1.6014977297258066]
[{"$f":"A289+Sheet3!G$11","v":{"v":-1.7062937062936647,"d":"-1.71"}},{"v":-12.49560441108045,"d":"-12.4956"},{"$f":"(B291-B290)/Sheet3!$G$11","v":-3.5181145803955602},{"$nulls":8},-0.33166833166829723,-1.5279285470619106]
[{"$f":"A290+Sheet3!G$11","v":{"v":-1.6983016983016568,"d":"-1.70"}},{"v":-12.523721210923771,"d":"-12.5237"},{"$f":"(B292-B291)/Sheet3!$G$11","v":-3.289456265544186},{"$nulls":8},-0.32367632367628923,-1.4549137638874425]
[{"$f":"A291+Sheet3!G$11","v":{"v":-1.6903096903096488,"d":"-1.69"}},{"v":-12.550010571687361,"d":"-12.5500"},{"$f":"(B293-B292)/Sheet3!$G$11","v":-3.063395207128466},{"$nulls":8},-2.6333666333666037,-1.3843468014548108]
[{"$f":"A292+Sheet3!G$11","v":{"v":-1.682317682317641,"d":"-1.68"}},{"v":-12.57449325066541,"d":"-12.5745"},{"$f":"(B294-B293)/Sheet3!$G$11","v":-2.8399191539393702},{"$nulls":8},-0.31568431568428124,-1.382457394584769]
[{"$f":"A293+Sheet3!G$11","v":{"v":-1.674325674325633,"d":"-1.67"}},{"v":-12.59718990724035,"d":"-12.5972"},{"$f":"(B295-B294)/Sheet3!$G$11","v":-2.619015854768092},{"$nulls":8},-0.30769230769227324,-1.310563355624494]
[{"$f":"A294+Sheet3!G$11","v":{"v":-1.666333666333625,"d":"-1.67"}},{"v":-12.618121102882853,"d":"-12.6181"},{"$f":"(B296-B295)/Sheet3!$G$11","v":-2.4006730584038225},{"$nulls":8},-0.29970029970026524,-1.2392354655654563]
[{"$f":"A295+Sheet3!G$11","v":{"v":-1.658341658341617,"d":"-1.66"}},{"v":-12.637307301151814,"d":"-12.6373"},{"$f":"(B297-B296)/Sheet3!$G$11","v":-2.184878513637533},{"$nulls":8},-0.29170829170825724,-1.1684774450547275]
[{"$f":"A296+Sheet3!G$11","v":{"v":-1.6503496503496091,"d":"-1.65"}},{"v":-12.654768867694372,"d":"-12.6548"},{"$f":"(B298-B297)/Sheet3!$G$11","v":-1.971619969259304},{"$nulls":8},-0.28371628371624924,-1.0982929168276159]
[{"$f":"A297+Sheet3!G$11","v":{"v":-1.6423576423576012,"d":"-1.64"}},{"v":-12.670526070245895,"d":"-12.6705"},{"$f":"(B299-B298)/Sheet3!$G$11","v":-1.760885174060773},{"$nulls":8},-2.641358641358612,-1.0566332189455405]
[{"$f":"A298+Sheet3!G$11","v":{"v":-1.6343656343655932,"d":"-1.63"}},{"v":-12.684599078629997,"d":"-12.6846"},{"$f":"(B300-B299)/Sheet3!$G$11","v":-1.5526618768300207},{"$nulls":8},-0.27572427572424124,-1.0286854057076642]
[{"$f":"A299+Sheet3!G$11","v":{"v":-1.6263736263735853,"d":"-1.63"}},{"v":-12.697007964758509,"d":"-12.6970"},{"$f":"(B301-B300)/Sheet3!$G$11","v":-1.346937826359351},{"$nulls":8},-0.26773226773223324,-0.9596583386066508]
[{"$f":"A300+Sheet3!G$11","v":{"v":-1.6183816183815773,"d":"-1.62"}},{"v":-12.70777270263151,"d":"-12.7078"},{"$f":"(B302-B301)/Sheet3!$G$11","v":-1.143700771438623},{"$nulls":8},-0.25974025974022524,-0.8912150445245879]
[{"$f":"A301+Sheet3!G$11","v":{"v":-1.6103896103895694,"d":"-1.61"}},{"v":-12.716913168337314,"d":"-12.7169"},{"$f":"(B303-B302)/Sheet3!$G$11","v":-0.9429384608581399},{"$nulls":8},-0.25174825174821724,-0.8233587545497225]
[{"$f":"A302+Sheet3!G$11","v":{"v":-1.6023976023975615,"d":"-1.60"}},{"v":-12.724449140052464,"d":"-12.7244"},{"$f":"(B304-B303)/Sheet3!$G$11","v":-0.7446386434082055},{"$nulls":8},-0.24375624375620925,-0.7560926018585379]
[{"$f":"A303+Sheet3!G$11","v":{"v":-1.5944055944055535,"d":"-1.59"}},{"v":-12.73040029804174,"d":"-12.7304"},{"$f":"(B305-B304)/Sheet3!$G$11","v":-0.5487890678793454},{"$nulls":8},-2.64935064935062,-0.7242108869057269]
[{"$f":"A304+Sheet3!G$11","v":{"v":-1.5864135864135456,"d":"-1.59"}},{"v":-12.734786224658158,"d":"-12.7348"},{"$f":"(B306-B305)/Sheet3!$G$11","v":-0.35537748306186323},{"$nulls":8},-0.23576423576420125,-0.6894196217157509]
[{"$f":"A305+Sheet3!G$11","v":{"v":-1.5784215784215376,"d":"-1.58"}},{"v":-12.737626404342969,"d":"-12.7376"},{"$f":"(B307-B306)/Sheet3!$G$11","v":-0.1643916377465069},{"$nulls":8},-0.22777222777219325,-0.6233427514743144]
[{"$f":"A306+Sheet3!G$11","v":{"v":-1.5704295704295297,"d":"-1.57"}},{"v":-12.738940223625658,"d":"-12.7389"},{"$f":"(B308-B307)/Sheet3!$G$11","v":0.024180719276642337},{"$nulls":8},-0.21978021978018525,-0.557864830575415]
[{"$f":"A307+Sheet3!G$11","v":{"v":-1.5624375624375217,"d":"-1.56"}},{"v":-12.738746971123946,"d":"-12.7387"},{"$f":"(B309-B308)/Sheet3!$G$11","v":0.21035183921728096},{"$nulls":8},-0.21178821178817725,-0.49298860054847515]
[{"$f":"A308+Sheet3!G$11","v":{"v":-1.5544455544455138,"d":"-1.55"}},{"v":-12.737065837543788,"d":"-12.7371"},{"$f":"(B310-B309)/Sheet3!$G$11","v":0.39413397328532773},{"$nulls":8},-0.20379620379616925,-0.4287167050111522]
[{"$f":"A309+Sheet3!G$11","v":{"v":-1.5464535464535059,"d":"-1.55"}},{"v":-12.73391591567937,"d":"-12.7339"},{"$f":"(B311-B310)/Sheet3!$G$11","v":0.5755393726891456},{"$nulls":8},-2.657342657342628,-0.38704739654112075]
[{"$f":"A310+Sheet3!G$11","v":{"v":-1.538461538461498,"d":"-1.54"}},{"v":-12.729316200413123,"d":"-12.7293"},{"$f":"(B312-B311)/Sheet3!$G$11","v":0.7545802886395423},{"$nulls":8},-0.19580419580416125,-0.3650516896693379]
[{"$f":"A311+Sheet3!G$11","v":{"v":-1.53046953046949,"d":"-1.53"}},{"v":-12.723285588715704,"d":"-12.7233"},{"$f":"(B313-B312)/Sheet3!$G$11","v":0.9312689723453254},{"$nulls":8},-0.18781218781215325,-0.30199600231715906]
[{"$f":"A312+Sheet3!G$11","v":{"v":-1.522477522477482,"d":"-1.52"}},{"v":-12.715842879646011,"d":"-12.7158"},{"$f":"(B314-B313)/Sheet3!$G$11","v":1.1056176750175248},{"$nulls":8},-0.17982017982014525,-0.2395519928369776]
[{"$f":"A313+Sheet3!G$11","v":{"v":-1.514485514485474,"d":"-1.51"}},{"v":-12.707006774351166,"d":"-12.7070"},{"$f":"(B315-B314)/Sheet3!$G$11","v":1.2776386478636146},{"$nulls":8},-0.17182817182813725,-0.17772191319939057]
[{"$f":"A314+Sheet3!G$11","v":{"v":-1.5064935064934661,"d":"-1.51"}},{"v":-12.696795876066542,"d":"-12.6968"},{"$f":"(B316-B315)/Sheet3!$G$11","v":1.447344142094847},{"$nulls":8},-0.16383616383612926,-0.11650791746322953]
[{"$f":"A315+Sheet3!G$11","v":{"v":-1.4985014985014582,"d":"-1.50"}},{"v":-12.685228690115734,"d":"-12.6852"},{"$f":"(B317-B316)/Sheet3!$G$11","v":1.6147464089200294},{"$nulls":8},-0.15584415584412126,-0.05591206177556107]
[{"$f":"A316+Sheet3!G$11","v":{"v":-1.4905094905094503,"d":"-1.49"}},{"v":-12.672323623910579,"d":"-12.6723"},{"$f":"(B318-B317)/Sheet3!$G$11","v":1.779857699549303},{"$nulls":8},-2.6653346653346364,-0.04511024114573914]
[{"$f":"A317+Sheet3!G$11","v":{"v":-1.4825174825174423,"d":"-1.48"}},{"v":-12.658098986951144,"d":"-12.6581"},{"$f":"(B319-B318)/Sheet3!$G$11","v":1.942690265191475},{"$nulls":8},-0.14785214785211326,0.004063695628313435]
[{"$f":"A318+Sheet3!G$11","v":{"v":-1.4745254745254344,"d":"-1.47"}},{"v":-12.642572990825737,"d":"-12.6426"},{"$f":"(B320-B319)/Sheet3!$G$11","v":2.1032563570573535},{"$nulls":8},-0.13986013986010526,0.06341749442485733]
[{"$f":"A319+Sheet3!G$11","v":{"v":-1.4665334665334264,"d":"-1.47"}},{"v":-12.625763749210893,"d":"-12.6258"},{"$f":"(B321-B320)/Sheet3!$G$11","v":2.2615682263555237},{"$nulls":8},-0.13186813186809726,0.1221475722022991]
[{"$f":"A320+Sheet3!G$11","v":{"v":-1.4585414585414185,"d":"-1.46"}},{"v":-12.607689277871389,"d":"-12.6077"},{"$f":"(B322-B321)/Sheet3!$G$11","v":2.417638124295904},{"$nulls":8},-0.12387612387608926,0.1802522644606327]
[{"$f":"A321+Sheet3!G$11","v":{"v":-1.4505494505494105,"d":"-1.45"}},{"v":-12.588367494660233,"d":"-12.5884"},{"$f":"(B323-B322)/Sheet3!$G$11","v":2.571478302088191},{"$nulls":8},-0.11588411588408126,0.23773000461161675]
[{"$f":"A322+Sheet3!G$11","v":{"v":-1.4425574425574026,"d":"-1.44"}},{"$f":"x^4-3*x^2+6*x-2","v":{"v":-12.567816219518669,"d":"-12.5678"}},{"$f":"(B324-B323)/Sheet3!$G$11","v":2.7231010109416367},{"$nulls":8},-0.10789210789207326,0.29457932397877507]
[{"$f":"A323+Sheet3!G$11","v":{"v":-1.4345654345653946,"d":"-1.43"}},{"v":-12.546053174476178,"d":"-12.5461"},{"$f":"(B325-B324)/Sheet3!$G$11","v":2.8725185020666046},{"$nulls":8},-2.6733266733266445,0.30163318389821114]
[{"$f":"A324+Sheet3!G$11","v":{"v":-1.4265734265733867,"d":"-1.43"}},{"v":-12.523095983650471,"d":"-12.5231"},{"$f":"(B326-B325)/Sheet3!$G$11","v":3.019743026671902},{"$nulls":8},-0.09990009990006526,0.35079885179739667]
[{"$f":"A325+Sheet3!G$11","v":{"v":-1.4185814185813788,"d":"-1.42"}},{"v":-12.498962173247499,"d":"-12.4990"},{"$f":"(B327-B326)/Sheet3!$G$11","v":3.1647868359672255},{"$nulls":8},-0.09190809190805727,0.4063873152145354]
[{"$f":"A326+Sheet3!G$11","v":{"v":-1.4105894105893708,"d":"-1.41"}},{"v":-12.473669171561447,"d":"-12.4737"},{"$f":"(B328-B327)/Sheet3!$G$11","v":3.3076621811631606},{"$nulls":8},-0.08391608391604927,0.4613435392890106]
[{"$f":"A327+Sheet3!G$11","v":{"v":-1.4025974025973629,"d":"-1.40"}},{"v":-12.447234308974728,"d":"-12.4472"},{"$f":"(B329-B328)/Sheet3!$G$11","v":3.44838131346807},{"$nulls":8},-0.07592407592404127,0.5156664469914061]
[{"$f":"A328+Sheet3!G$11","v":{"v":-1.394605394605355,"d":"-1.39"}},{"v":-12.419674817958,"d":"-12.4197"},{"$f":"(B330-B329)/Sheet3!$G$11","v":3.586956484091873},{"$nulls":8},-0.06793206793203327,0.5693550592040713]
[{"$f":"A329+Sheet3!G$11","v":{"v":-1.386613386613347,"d":"-1.39"}},{"v":-12.391007833070153,"d":"-12.3910"},{"$f":"(B331-B330)/Sheet3!$G$11","v":3.723399944244932},{"$nulls":8},-0.05994005994002528,0.6224084947211204]
[{"$f":"A330+Sheet3!G$11","v":{"v":-1.378621378621339,"d":"-1.38"}},{"v":-12.361250390958306,"d":"-12.3613"},{"$f":"(B332-B331)/Sheet3!$G$11","v":3.8577239451353886},{"$nulls":8},-2.6813186813186527,0.6532155811202429]
[{"$f":"A331+Sheet3!G$11","v":{"v":-1.370629370629331,"d":"-1.37"}},{"v":-12.330419430357823,"d":"-12.3304"},{"$f":"(B333-B332)/Sheet3!$G$11","v":3.9899407379744947},{"$nulls":8},-0.051948051948017285,0.6748259702484329]
[{"$f":"A332+Sheet3!G$11","v":{"v":-1.3626373626373232,"d":"-1.36"}},{"v":-12.298531792092293,"d":"-12.2985"},{"$f":"(B334-B333)/Sheet3!$G$11","v":4.120062573971058},{"$nulls":8},-0.04395604395600929,0.7266068004036532]
[{"$f":"A333+Sheet3!G$11","v":{"v":-1.3546453546453152,"d":"-1.35"}},{"v":-12.265604219073543,"d":"-12.2656"},{"$f":"(B335-B334)/Sheet3!$G$11","v":4.248101704334108},{"$nulls":8},-0.0359640359640013,0.7777503977161909]
[{"$f":"A334+Sheet3!G$11","v":{"v":-1.3466533466533073,"d":"-1.35"}},{"v":-12.231653356301642,"d":"-12.2317"},{"$f":"(B336-B335)/Sheet3!$G$11","v":4.374070380274897},{"$nulls":8},-0.02797202797199331,0.8282562726272206]
[{"$f":"A335+Sheet3!G$11","v":{"v":-1.3386613386612993,"d":"-1.34"}},{"v":-12.19669575086488,"d":"-12.1967"},{"$f":"(B337-B336)/Sheet3!$G$11","v":4.497980853000898},{"$nulls":8},-0.019980019979985317,0.8781240334896818]
[{"$f":"A336+Sheet3!G$11","v":{"v":-1.3306693306692914,"d":"-1.33"}},{"v":-12.160747851939798,"d":"-12.1607"},{"$f":"(B338-B337)/Sheet3!$G$11","v":4.619845373723587},{"$nulls":8},-0.011988011987977325,0.9273533865682796]
[{"$f":"A337+Sheet3!G$11","v":{"v":-1.3226773226772834,"d":"-1.32"}},{"v":-12.123826010791158,"d":"-12.1238"},{"$f":"(B339-B338)/Sheet3!$G$11","v":4.739676193651326},{"$nulls":8},-0.003996003995969333,0.9759441360394836]
[{"$f":"A338+Sheet3!G$11","v":{"v":-1.3146853146852755,"d":"-1.31"}},{"v":-12.085946480771966,"d":"-12.0859"},{"$f":"(B340-B339)/Sheet3!$G$11","v":4.857485563994258},{"$nulls":8},-2.689310689310661,1.009669750961681]
[{"$f":"A339+Sheet3!G$11","v":{"v":-1.3066933066932676,"d":"-1.31"}},{"v":-12.04712541732346,"d":"-12.0471"},{"$f":"(B341-B340)/Sheet3!$G$11","v":4.973285735962299},{"$nulls":8},0.003996003996038659,1.0238961839915288]
[{"$f":"A340+Sheet3!G$11","v":{"v":-1.2987012987012596,"d":"-1.30"}},{"v":-12.00737887797511,"d":"-12.0074"},{"$f":"(B342-B341)/Sheet3!$G$11","v":5.087088960764036},{"$nulls":8},0.011988011988046651,1.0712095304244151]
[{"$f":"A341+Sheet3!G$11","v":{"v":-1.2907092907092517,"d":"-1.29"}},{"v":-11.966722822344629,"d":"-11.9667"},{"$f":"(B343-B342)/Sheet3!$G$11","v":5.198907489610498},{"$nulls":8},0.019980019980054643,1.1178842732499077]
[{"$f":"A342+Sheet3!G$11","v":{"v":-1.2827172827172437,"d":"-1.28"}},{"v":-11.925173112137951,"d":"-11.9252"},{"$f":"(B344-B343)/Sheet3!$G$11","v":5.308753573709826},{"$nulls":8},0.027972027972062635,1.1639206082915368]
[{"$f":"A343+Sheet3!G$11","v":{"v":-1.2747252747252358,"d":"-1.27"}},{"v":-11.882745511149261,"d":"-11.8827"},{"$f":"(B345-B344)/Sheet3!$G$11","v":5.416639464272606},{"$nulls":8},0.03596403596407063,1.2093188292845976]
[{"$f":"A344+Sheet3!G$11","v":{"v":-1.2667332667332278,"d":"-1.27"}},{"v":-11.839455685260969,"d":"-11.8395"},{"$f":"(B346-B345)/Sheet3!$G$11","v":5.52257741250809},{"$nulls":8},0.04395604395607862,1.2540793278761502]
[{"$f":"A345+Sheet3!G$11","v":{"v":-1.25874125874122,"d":"-1.26"}},{"v":-11.795319202443721,"d":"-11.7953"},{"$f":"(B347-B346)/Sheet3!$G$11","v":5.626579669625974},{"$nulls":8},0.05194805194808661,1.2982025936250203]
[{"$f":"A346+Sheet3!G$11","v":{"v":-1.250749250749212,"d":"-1.25"}},{"v":-11.750351532756401,"d":"-11.7504"},{"$f":"(B348-B347)/Sheet3!$G$11","v":5.728658486835954},{"$nulls":8},0.0599400599400946,1.3416892140017982]
[{"$f":"A347+Sheet3!G$11","v":{"v":-1.242757242757204,"d":"-1.24"}},{"v":-11.704568048346124,"d":"-11.7046"},{"$f":"(B349-B348)/Sheet3!$G$11","v":5.828826115347283},{"$nulls":8},-2.697302697302669,1.3710285917755698]
[{"$f":"A348+Sheet3!G$11","v":{"v":-1.234765234765196,"d":"-1.23"}},{"v":-11.657984023448243,"d":"-11.6580"},{"$f":"(B350-B349)/Sheet3!$G$11","v":5.927094806369658},{"$nulls":8},0.0679320679321026,1.3845398743888395]
[{"$f":"A349+Sheet3!G$11","v":{"v":-1.2267732267731881,"d":"-1.23"}},{"v":-11.610614634386348,"d":"-11.6106"},{"$f":"(B351-B350)/Sheet3!$G$11","v":6.023476811113218},{"$nulls":8},0.0759240759241106,1.4267553580802648]
[{"$f":"A350+Sheet3!G$11","v":{"v":-1.2187812187811802,"d":"-1.22"}},{"v":-11.562474959572256,"d":"-11.5625"},{"$f":"(B352-B351)/Sheet3!$G$11","v":6.117984380786994},{"$nulls":8},0.0839160839161186,1.4683365462819598]
[{"$f":"A351+Sheet3!G$11","v":{"v":-1.2107892107891722,"d":"-1.21"}},{"v":-11.513579979506027,"d":"-11.5136"},{"$f":"(B353-B352)/Sheet3!$G$11","v":6.2106297666006824},{"$nulls":8},0.0919080919081266,1.5092844181115752]
[{"$f":"A352+Sheet3!G$11","v":{"v":-1.2027972027971643,"d":"-1.20"}},{"v":-11.463944576775951,"d":"-11.4639"},{"$f":"(B354-B353)/Sheet3!$G$11","v":6.30142521976398},{"$nulls":8},0.0999000999001346,1.549600050598527]
[{"$f":"A353+Sheet3!G$11","v":{"v":-1.1948051948051563,"d":"-1.19"}},{"v":-11.413583536058557,"d":"-11.4136"},{"$f":"(B355-B354)/Sheet3!$G$11","v":6.390382991486583},{"$nulls":8},0.1078921078921426,1.5892846186839957]
[{"$f":"A354+Sheet3!G$11","v":{"v":-1.1868131868131484,"d":"-1.19"}},{"v":-11.362511544118604,"d":"-11.3625"},{"$f":"(B356-B355)/Sheet3!$G$11","v":6.4775153329777435},{"$nulls":8},0.1158841158841506,1.628339395220928]
[{"$f":"A355+Sheet3!G$11","v":{"v":-1.1788211788211405,"d":"-1.18"}},{"v":-11.310743189809092,"d":"-11.3107"},{"$f":"(B357-B356)/Sheet3!$G$11","v":6.562834495448047},{"$nulls":8},0.1238761238761586,1.6667657509740343]
[{"$f":"A356+Sheet3!G$11","v":{"v":-1.1708291708291325,"d":"-1.17"}},{"v":-11.258292964071245,"d":"-11.2583"},{"$f":"(B358-B357)/Sheet3!$G$11","v":6.646352730105411},{"$nulls":8},0.1318681318681666,1.7045651546197915]
[{"$f":"A357+Sheet3!G$11","v":{"v":-1.1628371628371246,"d":"-1.16"}},{"v":-11.205175259934538,"d":"-11.2052"},{"$f":"(B359-B358)/Sheet3!$G$11","v":6.728082288160866},{"$nulls":8},-2.705294705294677,1.737325099826748]
[{"$f":"A358+Sheet3!G$11","v":{"v":-1.1548451548451166,"d":"-1.15"}},{"v":-11.15140437251667,"d":"-11.1514"},{"$f":"(B360-B359)/Sheet3!$G$11","v":6.808035420823443},{"$nulls":8},0.1398601398601746,1.7417391727464402]
[{"$f":"A359+Sheet3!G$11","v":{"v":-1.1468531468531087,"d":"-1.15"}},{"v":-11.096994499023575,"d":"-11.0970"},{"$f":"(B361-B360)/Sheet3!$G$11","v":6.8862243793032825},{"$nulls":8},0.1478521478521826,1.7782894698539868]
[{"$f":"A360+Sheet3!G$11","v":{"v":-1.1388611388611007,"d":"-1.14"}},{"v":-11.041959738749423,"d":"-11.0420"},{"$f":"(B362-B361)/Sheet3!$G$11","v":6.962661414808968},{"$nulls":8},0.1558441558441906,1.814217808354203]
[{"$f":"A361+Sheet3!G$11","v":{"v":-1.1308691308690928,"d":"-1.13"}},{"v":-10.986314093076624,"d":"-10.9863"},{"$f":"(B363-B362)/Sheet3!$G$11","v":7.037358778550866},{"$nulls":8},0.1638361638361986,1.8495260485706253]
[{"$f":"A362+Sheet3!G$11","v":{"v":-1.1228771228770849,"d":"-1.12"}},{"v":-10.930071465475818,"d":"-10.9301"},{"$f":"(B364-B363)/Sheet3!$G$11","v":7.110328721738447},{"$nulls":8},0.1718281718282066,1.8842161487385547]
[{"$f":"A363+Sheet3!G$11","v":{"v":-1.114885114885077,"d":"-1.11"}},{"v":-10.87324566150588,"d":"-10.8732"},{"$f":"(B365-B364)/Sheet3!$G$11","v":7.1815834955816324},{"$nulls":8},0.1798201798202146,1.9182901650050583]
[{"$f":"A364+Sheet3!G$11","v":{"v":-1.106893106893069,"d":"-1.11"}},{"v":-10.815850388813919,"d":"-10.8159"},{"$f":"(B366-B365)/Sheet3!$G$11","v":7.2511353512892285},{"$nulls":8},0.1878121878122226,1.9517502514289677]
[{"$f":"A365+Sheet3!G$11","v":{"v":-1.098901098901061,"d":"-1.10"}},{"v":-10.757899257135284,"d":"-10.7579"},{"$f":"(B367-B366)/Sheet3!$G$11","v":7.318996540071377},{"$nulls":8},0.19580419580423059,1.9845986599808796]
[{"$f":"A366+Sheet3!G$11","v":{"v":-1.090909090909053,"d":"-1.09"}},{"v":-10.699405778293555,"d":"-10.6994"},{"$f":"(B368-B367)/Sheet3!$G$11","v":7.385179313137773},{"$nulls":8},0.20379620379623858,2.0168377405431555]
[{"$f":"A367+Sheet3!G$11","v":{"v":-1.0829170829170451,"d":"-1.08"}},{"v":-10.640383366200545,"d":"-10.6404"},{"$f":"(B369-B368)/Sheet3!$G$11","v":7.449695921697671},{"$nulls":8},0.21178821178824658,2.0484699409099236]
[{"$f":"A368+Sheet3!G$11","v":{"v":-1.0749250749250372,"d":"-1.07"}},{"v":-10.580845336856308,"d":"-10.5808"},{"$f":"(B370-B369)/Sheet3!$G$11","v":7.5125586169609875},{"$nulls":8},0.21978021978025458,2.0794978067870744]
[{"$f":"A369+Sheet3!G$11","v":{"v":-1.0669330669330293,"d":"-1.07"}},{"v":-10.520804908349128,"d":"-10.5208"},{"$f":"(B371-B370)/Sheet3!$G$11","v":7.573779650137198},{"$nulls":8},-2.7132867132866854,2.1085923692918236]
[{"$f":"A370+Sheet3!G$11","v":{"v":-1.0589410589410213,"d":"-1.06"}},{"v":-10.460275200855524,"d":"-10.4603"},{"$f":"(B372-B371)/Sheet3!$G$11","v":7.633371272435554},{"$nulls":8},0.22777222777226258,2.109923981792266]
[{"$f":"A371+Sheet3!G$11","v":{"v":-1.0509490509490134,"d":"-1.05"}},{"v":-10.399269236640254,"d":"-10.3993"},{"$f":"(B373-B372)/Sheet3!$G$11","v":7.6913457350664185},{"$nulls":8},0.23576423576427058,2.1397512074549203]
[{"$f":"A372+Sheet3!G$11","v":{"v":-1.0429570429570054,"d":"-1.04"}},{"v":-10.337799940056307,"d":"-10.3378"},{"$f":"(B374-B373)/Sheet3!$G$11","v":7.747715289239044},{"$nulls":8},0.24375624375627858,2.168982323216224]
[{"$f":"A373+Sheet3!G$11","v":{"v":-1.0349650349649975,"d":"-1.03"}},{"v":-10.275880137544906,"d":"-10.2759"},{"$f":"(B375-B374)/Sheet3!$G$11","v":7.802492186162682},{"$nulls":8},0.2517482517482866,2.1976202664291304]
[{"$f":"A374+Sheet3!G$11","v":{"v":-1.0269730269729895,"d":"-1.03"}},{"v":-10.213522557635514,"d":"-10.2135"},{"$f":"(B376-B375)/Sheet3!$G$11","v":7.855688677047251},{"$nulls":8},0.2597402597402946,2.225668072358356]
[{"$f":"A375+Sheet3!G$11","v":{"v":-1.0189810189809816,"d":"-1.02"}},{"v":-10.150739830945826,"d":"-10.1507"},{"$f":"(B377-B376)/Sheet3!$G$11","v":7.907317013102448},{"$nulls":8},0.2677322677323026,2.2531288741803834]
[{"$f":"A376+Sheet3!G$11","v":{"v":-1.0109890109889736,"d":"-1.01"}},{"v":-10.08754449018177,"d":"-10.0875"},{"$f":"(B378-B377)/Sheet3!$G$11","v":7.95738944553797},{"$nulls":8},0.2757242757243106,2.280005902983461]
[{"$f":"A377+Sheet3!G$11","v":{"v":-1.0029970029969657,"d":"-1.00"}},{"v":-10.02394897013751,"d":"-10.0239"},{"$f":"(B379-B378)/Sheet3!$G$11","v":8.005918225562846},{"$nulls":8},0.2837162837163186,2.3063024877676006]
[{"$f":"A378+Sheet3!G$11","v":{"v":-0.9950049950049578,"d":"-1.00"}},{"v":-9.95996560769545,"d":"-9.9600"},{"$f":"(B380-B379)/Sheet3!$G$11","v":8.052915604387218},{"$nulls":8},0.2917082917083266,2.33202205544458]
[{"$f":"A379+Sheet3!G$11","v":{"v":-0.9870129870129498,"d":"-0.99"}},{"v":-9.895606641826221,"d":"-9.8956"},{"$f":"(B381-B380)/Sheet3!$G$11","v":8.098393833220781},{"$nulls":8},0.29970029970033457,2.3571681308379424]
[{"$f":"A380+Sheet3!G$11","v":{"v":-0.9790209790209419,"d":"-0.98"}},{"v":-9.830884213588693,"d":"-9.8309"},{"$f":"(B382-B381)/Sheet3!$G$11","v":8.142365163272565},{"$nulls":8},0.30769230769234257,2.381744336682995]
[{"$f":"A381+Sheet3!G$11","v":{"v":-0.9710289710289339,"d":"-0.97"}},{"v":-9.76581036612997,"d":"-9.7658"},{"$f":"(B383-B382)/Sheet3!$G$11","v":8.18484184575249},{"$nulls":8},0.31568431568435057,2.405754393626812]
[{"$f":"A382+Sheet3!G$11","v":{"v":-0.963036963036926,"d":"-0.96"}},{"v":-9.700397044685396,"d":"-9.7004"},{"$f":"(B384-B383)/Sheet3!$G$11","v":8.225836131870029},{"$nulls":8},0.32367632367635857,2.4292021202282297]
[{"$f":"A383+Sheet3!G$11","v":{"v":-0.955044955044918,"d":"-0.96"}},{"v":-9.634656096578542,"d":"-9.6347"},{"$f":"(B385-B384)/Sheet3!$G$11","v":8.265360272835546},{"$nulls":8},0.33166833166836657,2.452091432957852]
[{"$f":"A384+Sheet3!G$11","v":{"v":-0.9470529470529101,"d":"-0.95"}},{"v":-9.568599271221215,"d":"-9.5686"},{"$f":"(B386-B385)/Sheet3!$G$11","v":8.303426519857625},{"$nulls":8},0.33966033966037457,2.4744263461980474]
[{"$f":"A385+Sheet3!G$11","v":{"v":-0.9390609390609022,"d":"-0.94"}},{"v":-9.502238220113462,"d":"-9.5022"},{"$f":"(B387-B386)/Sheet3!$G$11","v":8.340047124146187},{"$nulls":8},-2.7212787212786935,2.4848635922591455]
[{"$f":"A386+Sheet3!G$11","v":{"v":-0.9310689310688942,"d":"-0.93"}},{"$f":"x^4-3*x^2+6*x-2","v":{"v":-9.435584496843562,"d":"-9.4356"}},{"$f":"(B388-B387)/Sheet3!$G$11","v":8.37523433691115},{"$nulls":8},0.34765234765238257,2.496210972242949]
[{"$f":"A387+Sheet3!G$11","v":{"v":-0.9230769230768863,"d":"-0.92"}},{"v":-9.368649557088029,"d":"-9.3686"},{"$f":"(B389-B388)/Sheet3!$G$11","v":8.409000409361987},{"$nulls":8},0.35564435564439056,2.5174495212984547]
[{"$f":"A388+Sheet3!G$11","v":{"v":-0.9150849150848783,"d":"-0.92"}},{"v":-9.30144475861161,"d":"-9.3014"},{"$f":"(B390-B389)/Sheet3!$G$11","v":8.441357592707726},{"$nulls":8},0.36363636363639856,2.5381463014822283]
[{"$f":"A389+Sheet3!G$11","v":{"v":-0.9070929070928704,"d":"-0.91"}},{"v":-9.233981361267292,"d":"-9.2340"},{"$f":"(B391-B390)/Sheet3!$G$11","v":8.472318138158736},{"$nulls":8},0.37162837162840656,2.558305718823698]
[{"$f":"A390+Sheet3!G$11","v":{"v":-0.8991008991008624,"d":"-0.90"}},{"v":-9.166270526996293,"d":"-9.1663"},{"$f":"(B392-B391)/Sheet3!$G$11","v":8.501894296924487},{"$nulls":8},0.37962037962041456,2.5779322772640585]
[{"$f":"A391+Sheet3!G$11","v":{"v":-0.8911088911088545,"d":"-0.89"}},{"v":-9.098323319828065,"d":"-9.0983"},{"$f":"(B393-B392)/Sheet3!$G$11","v":8.530098320214453},{"$nulls":8},0.38761238761242256,2.5970305786562666]
[{"$f":"A392+Sheet3!G$11","v":{"v":-0.8831168831168466,"d":"-0.88"}},{"v":-9.030150705880297,"d":"-9.0302"},{"$f":"(B394-B393)/Sheet3!$G$11","v":8.55694245923811},{"$nulls":8},0.39560439560443056,2.6156053227650466]
[{"$f":"A393+Sheet3!G$11","v":{"v":-0.8751248751248386,"d":"-0.88"}},{"v":-8.961763553358914,"d":"-8.9618"},{"$f":"(B395-B394)/Sheet3!$G$11","v":8.582438965205155},{"$nulls":8},0.40359640359643856,2.633661307266888]
[{"$f":"A394+Sheet3!G$11","v":{"v":-0.8671328671328307,"d":"-0.87"}},{"v":-8.893172632558073,"d":"-8.8932"},{"$f":"(B396-B395)/Sheet3!$G$11","v":8.60660008932506},{"$nulls":8},0.41158841158844656,2.6512034277500445]
[{"$f":"A395+Sheet3!G$11","v":{"v":-0.8591408591408227,"d":"-0.86"}},{"v":-8.82438861586017,"d":"-8.8244"},{"$f":"(B397-B396)/Sheet3!$G$11","v":8.629438082807967},{"$nulls":8},0.41958041958045456,2.668236677714534]
[{"$f":"A396+Sheet3!G$11","v":{"v":-0.8511488511488148,"d":"-0.85"}},{"v":-8.755422077735831,"d":"-8.7554"},{"$f":"(B398-B397)/Sheet3!$G$11","v":8.650965196863128},{"$nulls":8},0.42757242757246255,2.684766148572142]
[{"$f":"A397+Sheet3!G$11","v":{"v":-0.8431568431568068,"d":"-0.84"}},{"v":-8.686283494743918,"d":"-8.6863"},{"$f":"(B399-B398)/Sheet3!$G$11","v":8.671193682699574},{"$nulls":8},0.43556443556447055,2.700797029646417]
[{"$f":"A398+Sheet3!G$11","v":{"v":-0.8351648351647989,"d":"-0.84"}},{"v":-8.616983245531534,"d":"-8.6170"},{"$f":"(B400-B399)/Sheet3!$G$11","v":8.690135791527888},{"$nulls":8},0.44355644355647855,2.716334608172673]
[{"$f":"A399+Sheet3!G$11","v":{"v":-0.827172827172791,"d":"-0.83"}},{"v":-8.547531610834008,"d":"-8.5475"},{"$f":"(B401-B400)/Sheet3!$G$11","v":8.707803774557101},{"$nulls":8},0.45154845154848655,2.731384269297989]
[{"$f":"A400+Sheet3!G$11","v":{"v":-0.819180819180783,"d":"-0.82"}},{"v":-8.47793877347491,"d":"-8.4779"},{"$f":"(B402-B401)/Sheet3!$G$11","v":8.724209882997355},{"$nulls":8},0.45954045954049455,2.7459514960812097]
[{"$f":"A401+Sheet3!G$11","v":{"v":-0.8111888111887751,"d":"-0.81"}},{"v":-8.40821481836604,"d":"-8.4082"},{"$f":"(B403-B402)/Sheet3!$G$11","v":8.739366368057235},{"$nulls":8},0.46753246753250255,2.7600418694929445]
[{"$f":"A402+Sheet3!G$11","v":{"v":-0.8031968031967671,"d":"-0.80"}},{"v":-8.338369732507442,"d":"-8.3384"},{"$f":"(B404-B403)/Sheet3!$G$11","v":8.753285480947547},{"$nulls":8},0.47552447552451055,2.773661068415568]
[{"$f":"A403+Sheet3!G$11","v":{"v":-0.7952047952047592,"d":"-0.80"}},{"v":-8.268413404987381,"d":"-8.2684"},{"$f":"(B405-B404)/Sheet3!$G$11","v":8.765979472876877},{"$nulls":8},0.48351648351651855,2.7868148696432193]
[{"$f":"A404+Sheet3!G$11","v":{"v":-0.7872127872127512,"d":"-0.79"}},{"v":-8.198355626982371,"d":"-8.1984"},{"$f":"(B406-B405)/Sheet3!$G$11","v":8.777460595055812},{"$nulls":8},0.49150849150852655,2.799509147881804]
[{"$f":"A405+Sheet3!G$11","v":{"v":-0.7792207792207433,"d":"-0.78"}},{"v":-8.12820609175715,"d":"-8.1282"},{"$f":"(B407-B406)/Sheet3!$G$11","v":8.787741098692713},{"$nulls":8},0.49950049950053454,2.8117498757489914]
[{"$f":"A406+Sheet3!G$11","v":{"v":-0.7712287712287353,"d":"-0.77"}},{"v":-8.0579743946647,"d":"-8.0580"},{"$f":"(B408-B407)/Sheet3!$G$11","v":8.796833234998388},{"$nulls":8},0.5074925074925425,2.8235431237742157]
[{"$f":"A407+Sheet3!G$11","v":{"v":-0.7632367632367274,"d":"-0.76"}},{"v":-7.987670033146232,"d":"-7.9877"},{"$f":"(B409-B408)/Sheet3!$G$11","v":8.80474925518198},{"$nulls":8},0.5154845154845504,2.8348950603986767]
[{"$f":"A408+Sheet3!G$11","v":{"v":-0.7552447552447195,"d":"-0.76"}},{"v":-7.917302406731191,"d":"-7.9173"},{"$f":"(B410-B409)/Sheet3!$G$11","v":8.81150141045296},{"$nulls":8},0.5234765234765584,2.8458119519753398]
[{"$f":"A409+Sheet3!G$11","v":{"v":-0.7472527472527115,"d":"-0.75"}},{"v":-7.8468808170372615,"d":"-7.8469"},{"$f":"(B411-B410)/Sheet3!$G$11","v":8.817101952020804},{"$nulls":8},0.5314685314685663,2.8563001627689353]
[{"$f":"A410+Sheet3!G$11","v":{"v":-0.7392607392607036,"d":"-0.74"}},{"v":-7.776414467770362,"d":"-7.7764"},{"$f":"(B412-B411)/Sheet3!$G$11","v":8.821563131095655},{"$nulls":8},-2.7292707292707017,2.8661720587288464]
[{"$f":"A411+Sheet3!G$11","v":{"v":-0.7312687312686956,"d":"-0.73"}},{"v":-7.705912464724642,"d":"-7.7059"},{"$f":"(B413-B412)/Sheet3!$G$11","v":8.824897198886873},{"$nulls":8},0.5394605394605743,2.8663661549559585]
[{"$f":"A412+Sheet3!G$11","v":{"v":-0.7232767232766877,"d":"-0.72"}},{"v":-7.63538381578249,"d":"-7.6354"},{"$f":"(B414-B413)/Sheet3!$G$11","v":8.827116406603933},{"$nulls":8},0.5474525474525822,2.8760164886246686]
[{"$f":"A413+Sheet3!G$11","v":{"v":-0.7152847152846797,"d":"-0.72"}},{"v":-7.564837430914526,"d":"-7.5648"},{"$f":"(B415-B414)/Sheet3!$G$11","v":8.828233005456308},{"$nulls":8},0.5554445554445901,2.8852578217750917]
[{"$f":"A414+Sheet3!G$11","v":{"v":-0.7072927072926718,"d":"-0.71"}},{"v":-7.4942821221796105,"d":"-7.4943"},{"$f":"(B416-B415)/Sheet3!$G$11","v":8.828259246653921},{"$nulls":8},0.5634365634365981,2.8940969103190177]
[{"$f":"A415+Sheet3!G$11","v":{"v":-0.6993006993006639,"d":"-0.70"}},{"v":-7.423726603724834,"d":"-7.4237"},{"$f":"(B417-B416)/Sheet3!$G$11","v":8.827207381406353},{"$nulls":8},0.571428571428606,2.9025406080800025]
[{"$f":"A416+Sheet3!G$11","v":{"v":-0.6913086913086559,"d":"-0.69"}},{"v":-7.353179491785522,"d":"-7.3532"},{"$f":"(B418-B417)/Sheet3!$G$11","v":8.825089660923192},{"$nulls":8},0.579420579420614,2.910595866793366]
[{"$f":"A417+Sheet3!G$11","v":{"v":-0.683316683316648,"d":"-0.68"}},{"v":-7.282649304685237,"d":"-7.2826"},{"$f":"(B419-B418)/Sheet3!$G$11","v":8.821918336413688},{"$nulls":8},0.5874125874126219,2.918269736106194]
[{"$f":"A418+Sheet3!G$11","v":{"v":-0.67532467532464,"d":"-0.68"}},{"v":-7.212144462835777,"d":"-7.2121"},{"$f":"(B420-B419)/Sheet3!$G$11","v":8.817705659087872},{"$nulls":8},0.5954045954046299,2.925569363577337]
[{"$f":"A419+Sheet3!G$11","v":{"v":-0.6673326673326321,"d":"-0.67"}},{"v":-7.141673288737173,"d":"-7.1417"},{"$f":"(B421-B420)/Sheet3!$G$11","v":8.812463880155441},{"$nulls":8},0.6033966033966378,2.932501994677411]
[{"$f":"A420+Sheet3!G$11","v":{"v":-0.6593406593406241,"d":"-0.66"}},{"v":-7.071244006977689,"d":"-7.0712"},{"$f":"(B422-B421)/Sheet3!$G$11","v":8.806205250825535},{"$nulls":8},0.6113886113886458,2.939074972788797]
[{"$f":"A421+Sheet3!G$11","v":{"v":-0.6513486513486162,"d":"-0.65"}},{"v":-7.000864744233828,"d":"-7.0009"},{"$f":"(B423-B422)/Sheet3!$G$11","v":8.798942022307962},{"$nulls":8},0.6193806193806537,2.94529573920564]
[{"$f":"A422+Sheet3!G$11","v":{"v":-0.6433566433566082,"d":"-0.64"}},{"v":-6.930543529270328,"d":"-6.9305"},{"$f":"(B424-B423)/Sheet3!$G$11","v":8.790686445812417},{"$nulls":8},0.6273726273726616,2.9511718331338517]
[{"$f":"A423+Sheet3!G$11","v":{"v":-0.6353646353646003,"d":"-0.64"}},{"v":-6.860288292940159,"d":"-6.8603"},{"$f":"(B425-B424)/Sheet3!$G$11","v":8.781450772548489},{"$nulls":8},0.6353646353646696,2.956710891691108]
[{"$f":"A424+Sheet3!G$11","v":{"v":-0.6273726273725924,"d":"-0.63"}},{"v":-6.790106868184527,"d":"-6.7901"},{"$f":"(B426-B425)/Sheet3!$G$11","v":8.771247253725647},{"$nulls":8},0.6433566433566775,2.9619206499068502]
[{"$f":"A425+Sheet3!G$11","v":{"v":-0.6193806193805844,"d":"-0.62"}},{"v":-6.720006990032873,"d":"-6.7200"},{"$f":"(B427-B426)/Sheet3!$G$11","v":8.760088140553815},{"$nulls":8},0.6513486513486855,2.966808940722284]
[{"$f":"A426+Sheet3!G$11","v":{"v":-0.6113886113885765,"d":"-0.61"}},{"v":-6.649996295602873,"d":"-6.6500"},{"$f":"(B428-B427)/Sheet3!$G$11","v":8.747985684242131},{"$nulls":8},0.6593406593406934,2.9713836949903816]
[{"$f":"A427+Sheet3!G$11","v":{"v":-0.6033966033965685,"d":"-0.60"}},{"v":-6.580082324100438,"d":"-6.5801"},{"$f":"(B429-B428)/Sheet3!$G$11","v":8.734952136000514},{"$nulls":8},0.6673326673327014,2.9756529414758783]
[{"$f":"A428+Sheet3!G$11","v":{"v":-0.5954045954045606,"d":"-0.60"}},{"v":-6.510272516819715,"d":"-6.5103"},{"$f":"(B430-B429)/Sheet3!$G$11","v":8.720999747038551},{"$nulls":8},0.6753246753247093,2.9796248068552753]
[{"$f":"A429+Sheet3!G$11","v":{"v":-0.5874125874125526,"d":"-0.59"}},{"v":-6.440574217143083,"d":"-6.4406"},{"$f":"(B431-B430)/Sheet3!$G$11","v":8.706140768565714},{"$nulls":8},0.6833166833167172,2.9833075157168394]
[{"$f":"A430+Sheet3!G$11","v":{"v":-0.5794205794205447,"d":"-0.58"}},{"v":-6.370994670541159,"d":"-6.3710"},{"$f":"(B432-B431)/Sheet3!$G$11","v":8.690387451791699},{"$nulls":8},0.6913086913087252,2.986709390560604]
[{"$f":"A431+Sheet3!G$11","v":{"v":-0.5714285714285368,"d":"-0.57"}},{"v":-6.301541024572794,"d":"-6.3015"},{"$f":"(B433-B432)/Sheet3!$G$11","v":8.673752047926206},{"$nulls":8},0.6993006993007331,2.989838851798364]
[{"$f":"A432+Sheet3!G$11","v":{"v":-0.5634365634365288,"d":"-0.56"}},{"v":-6.232220328885072,"d":"-6.2322"},{"$f":"(B434-B433)/Sheet3!$G$11","v":8.656246808178706},{"$nulls":8},0.7072927072927411,2.99270441775368]
[{"$f":"A433+Sheet3!G$11","v":{"v":-0.5554445554445209,"d":"-0.56"}},{"v":-6.163039535213314,"d":"-6.1630"},{"$f":"(B435-B434)/Sheet3!$G$11","v":8.637883983758785},{"$nulls":8},0.715284715284749,2.9953147046618804]
[{"$f":"A434+Sheet3!G$11","v":{"v":-0.5474525474525129,"d":"-0.55"}},{"v":-6.094005497381076,"d":"-6.0940"},{"$f":"(B436-B435)/Sheet3!$G$11","v":8.61867582587603},{"$nulls":8},0.723276723276757,2.997678426670058]
[{"$f":"A435+Sheet3!G$11","v":{"v":-0.539460539460505,"d":"-0.54"}},{"v":-6.025124971300149,"d":"-6.0251"},{"$f":"(B437-B436)/Sheet3!$G$11","v":8.598634585740248},{"$nulls":8},0.7312687312687649,2.9998043958370686]
[{"$f":"A436+Sheet3!G$11","v":{"v":-0.531468531468497,"d":"-0.53"}},{"v":-5.956404614970556,"d":"-5.9564"},{"$f":"(B438-B437)/Sheet3!$G$11","v":8.5777725145608},{"$nulls":8},1.002997002997035,3.000009089784287]
[{"$f":"A437+Sheet3!G$11","v":{"v":-0.5234765234764891,"d":"-0.52"}},{"v":-5.88785098848056,"d":"-5.8879"},{"$f":"(B439-B438)/Sheet3!$G$11","v":8.556101863547608},{"$nulls":8},0.995004995005027,3.000024452194411]
[{"$f":"A438+Sheet3!G$11","v":{"v":-0.5154845154844812,"d":"-0.52"}},{"v":-5.819470554006653,"d":"-5.8195"},{"$f":"(B440-B439)/Sheet3!$G$11","v":8.53363488390981},{"$nulls":8},1.010989010989043,3.00012608100499]
[{"$f":"A439+Sheet3!G$11","v":{"v":-0.5074925074924732,"d":"-0.51"}},{"v":-5.7512696758135675,"d":"-5.7513"},{"$f":"(B441-B440)/Sheet3!$G$11","v":8.510383826857439},{"$nulls":8},0.9870129870130191,3.0001599292647256]
[{"$f":"A440+Sheet3!G$11","v":{"v":-0.4995004995004652,"d":"-0.50"}},{"v":-5.683254620254267,"d":"-5.6833"},{"$f":"(B442-B441)/Sheet3!$G$11","v":8.486360943599966},{"$nulls":8},1.0189810189810509,3.000387762738918]
[{"$f":"A441+Sheet3!G$11","v":{"v":-0.4915084915084572,"d":"-0.49"}},{"v":-5.615431555769952,"d":"-5.6154"},{"$f":"(B443-B442)/Sheet3!$G$11","v":8.461578485346756},{"$nulls":8},0.9790209790210112,3.00040337993636]
[{"$f":"A442+Sheet3!G$11","v":{"v":-0.4835164835164492,"d":"-0.48"}},{"v":-5.547806552890058,"d":"-5.5478"},{"$f":"(B444-B443)/Sheet3!$G$11","v":8.436048703307836},{"$nulls":8},0.9710289710290032,3.000742761062211]
[{"$f":"A443+Sheet3!G$11","v":{"v":-0.4755244755244412,"d":"-0.48"}},{"v":-5.480385584232253,"d":"-5.4804"},{"$f":"(B445-B444)/Sheet3!$G$11","v":8.409783848692463},{"$nulls":8},1.0269730269730588,3.0008065697802353]
[{"$f":"A444+Sheet3!G$11","v":{"v":-0.4675324675324332,"d":"-0.47"}},{"v":-5.413174524502443,"d":"-5.4132"},{"$f":"(B446-B445)/Sheet3!$G$11","v":8.382796172710552},{"$nulls":8},0.9630369630369953,3.0011661274069397]
[{"$f":"A445+Sheet3!G$11","v":{"v":-0.4595404595404252,"d":"-0.46"}},{"v":-5.346179150494766,"d":"-5.3462"},{"$f":"(B447-B446)/Sheet3!$G$11","v":8.355097926571245},{"$nulls":8},1.0349650349650668,3.0013950348348732]
[{"$f":"A446+Sheet3!G$11","v":{"v":-0.4515484515484172,"d":"-0.45"}},{"v":-5.279405141091599,"d":"-5.2794"},{"$f":"(B448-B447)/Sheet3!$G$11","v":8.326701361484574},{"$nulls":8},0.9550449550449873,3.0016616316469724]
[{"$f":"A447+Sheet3!G$11","v":{"v":-0.4435564435564092,"d":"-0.44"}},{"v":-5.212858077263551,"d":"-5.2129"},{"$f":"(B449-B448)/Sheet3!$G$11","v":8.29761872866023},{"$nulls":8},0.7392607392607728,3.0017015221335326]
[{"$f":"A448+Sheet3!G$11","v":{"v":-0.4355644355644012,"d":"-0.44"}},{"v":-5.146543442069463,"d":"-5.1465"},{"$f":"(B450-B449)/Sheet3!$G$11","v":8.267862279307137},{"$nulls":8},1.0429570429570747,3.002165788520525]
[{"$f":"A449+Sheet3!G$11","v":{"v":-0.4275724275723932,"d":"-0.43"}},{"v":-5.080466620656419,"d":"-5.0805"},{"$f":"(B451-B450)/Sheet3!$G$11","v":8.237444264635768},{"$nulls":8},0.9470529470529794,3.0022175243704967]
[{"$f":"A450+Sheet3!G$11","v":{"v":-0.4195804195803852,"d":"-0.42"}},{"$f":"x^4-3*x^2+6*x-2","v":{"v":-5.01463290025973,"d":"-5.0146"}},{"$f":"(B452-B451)/Sheet3!$G$11","v":8.206376935855149},{"$nulls":8},0.9390609390609714,3.0028221540774713]
[{"$f":"A451+Sheet3!G$11","v":{"v":-0.4115884115883772,"d":"-0.41"}},{"v":-4.949047470202945,"d":"-4.9490"},{"$f":"(B453-B452)/Sheet3!$G$11","v":8.174672544174982},{"$nulls":8},1.0509490509490826,3.0031315593666523]
[{"$f":"A452+Sheet3!G$11","v":{"v":-0.4035964035963692,"d":"-0.40"}},{"v":-4.8837154218978505,"d":"-4.8837"},{"$f":"(B454-B453)/Sheet3!$G$11","v":8.142343340805072},{"$nulls":8},0.7472527472527808,3.0033788134418398]
[{"$f":"A453+Sheet3!G$11","v":{"v":-0.3956043956043612,"d":"-0.40"}},{"v":-4.818641748844463,"d":"-4.8186"},{"$f":"(B455-B454)/Sheet3!$G$11","v":8.109401576954893},{"$nulls":8},0.9310689310689635,3.0034639671796164]
[{"$f":"A454+Sheet3!G$11","v":{"v":-0.3876123876123532,"d":"-0.39"}},{"v":-4.753831346631038,"d":"-4.7538"},{"$f":"(B456-B455)/Sheet3!$G$11","v":8.07585950383403},{"$nulls":8},0.9230769230769555,3.004131508000418]
[{"$f":"A455+Sheet3!G$11","v":{"v":-0.3796203796203452,"d":"-0.38"}},{"v":-4.689289012934062,"d":"-4.6893"},{"$f":"(B457-B456)/Sheet3!$G$11","v":8.04172937265207},{"$nulls":8},1.0589410589410906,3.0043051738144797]
[{"$f":"A456+Sheet3!G$11","v":{"v":-0.37162837162833723,"d":"-0.37"}},{"v":-4.6250194475182616,"d":"-4.6250"},{"$f":"(B458-B457)/Sheet3!$G$11","v":8.007023434618597},{"$nulls":8},0.9150849150849476,3.004813418775126]
[{"$f":"A457+Sheet3!G$11","v":{"v":-0.36363636363632923,"d":"-0.36"}},{"v":-4.561027252236594,"d":"-4.5610"},{"$f":"(B459-B458)/Sheet3!$G$11","v":7.97175394094342},{"$nulls":8},0.7552447552447887,3.0048453755561417]
[{"$f":"A458+Sheet3!G$11","v":{"v":-0.35564435564432123,"d":"-0.36"}},{"v":-4.497316931030253,"d":"-4.4973"},{"$f":"(B460-B459)/Sheet3!$G$11","v":7.935933142836123},{"$nulls":8},0.9070929070929397,3.005498439650757]
[{"$f":"A459+Sheet3!G$11","v":{"v":-0.34765234765231323,"d":"-0.35"}},{"v":-4.433892889928666,"d":"-4.4339"},{"$f":"(B461-B460)/Sheet3!$G$11","v":7.899573291505847},{"$nulls":8},1.0669330669330985,3.005699556216996]
[{"$f":"A460+Sheet3!G$11","v":{"v":-0.33966033966030523,"d":"-0.34"}},{"v":-4.370759437049498,"d":"-4.3708"},{"$f":"(B462-B461)/Sheet3!$G$11","v":7.862686638162733},{"$nulls":8},0.7632367632367967,3.006110412182355]
[{"$f":"A461+Sheet3!G$11","v":{"v":-0.33166833166829723,"d":"-0.33"}},{"v":-4.307920782598647,"d":"-4.3079"},{"$f":"(B463-B462)/Sheet3!$G$11","v":7.825285434016146},{"$nulls":8},0.8991008991009317,3.006175408686093]
[{"$f":"A462+Sheet3!G$11","v":{"v":-0.32367632367628923,"d":"-0.32"}},{"v":-4.245381038870247,"d":"-4.2454"},{"$f":"(B464-B463)/Sheet3!$G$11","v":7.787381930275891},{"$nulls":8},0.8911088911089238,3.00683326185168]
[{"$f":"A463+Sheet3!G$11","v":{"v":-0.31568431568428124,"d":"-0.32"}},{"v":-4.183144220246663,"d":"-4.1831"},{"$f":"(B465-B464)/Sheet3!$G$11","v":7.748988378151221},{"$nulls":8},0.7712287712288046,3.007183224938162]
[{"$f":"A464+Sheet3!G$11","v":{"v":-0.30769230769227324,"d":"-0.31"}},{"v":-4.1212142431985015,"d":"-4.1212"},{"$f":"(B466-B465)/Sheet3!$G$11","v":7.710117028852167},{"$nulls":8},1.0749250749251065,3.00732772883896]
[{"$f":"A465+Sheet3!G$11","v":{"v":-0.29970029970026524,"d":"-0.30"}},{"v":-4.059594926284598,"d":"-4.0596"},{"$f":"(B467-B466)/Sheet3!$G$11","v":7.6707801335878125},{"$nulls":8},0.8831168831169158,3.0074610330298284]
[{"$f":"A466+Sheet3!G$11","v":{"v":-0.29170829170825724,"d":"-0.29"}},{"v":-3.998289990152028,"d":"-3.9983"},{"$f":"(B468-B467)/Sheet3!$G$11","v":7.6309899435682995},{"$nulls":8},0.8751248751249079,3.008047854014615]
[{"$f":"A467+Sheet3!G$11","v":{"v":-0.28371628371624924,"d":"-0.28"}},{"v":-3.9373030575360977,"d":"-3.9373"},{"$f":"(B469-B468)/Sheet3!$G$11","v":7.590758710002991},{"$nulls":8},0.7792207792208126,3.0080732133530104]
[{"$f":"A468+Sheet3!G$11","v":{"v":-0.27572427572424124,"d":"-0.28"}},{"v":-3.8766376532603495,"d":"-3.8766"},{"$f":"(B470-B469)/Sheet3!$G$11","v":7.5500986841013615},{"$nulls":8},0.8671328671328999,3.0085829545118825]
[{"$f":"A469+Sheet3!G$11","v":{"v":-0.26773226773223324,"d":"-0.27"}},{"v":-3.8162972042365624,"d":"-3.8163"},{"$f":"(B471-B470)/Sheet3!$G$11","v":7.509022117073218},{"$nulls":8},0.7872127872128205,3.008789874868113]
[{"$f":"A470+Sheet3!G$11","v":{"v":-0.25974025974022524,"d":"-0.26"}},{"v":-3.7562850394647485,"d":"-3.7563"},{"$f":"(B472-B471)/Sheet3!$G$11","v":7.4675412601281455},{"$nulls":8},0.859140859140892,3.0090556621392377]
[{"$f":"A471+Sheet3!G$11","v":{"v":-0.25174825174821724,"d":"-0.25"}},{"v":-3.696604390033155,"d":"-3.6966"},{"$f":"(B473-B472)/Sheet3!$G$11","v":7.425668364475619},{"$nulls":8},1.0829170829171144,3.0092028118568894]
[{"$f":"A472+Sheet3!G$11","v":{"v":-0.24375624375620925,"d":"-0.24"}},{"v":-3.637258389118265,"d":"-3.6373"},{"$f":"(B474-B473)/Sheet3!$G$11","v":7.383415681325391},{"$nulls":8},0.7952047952048285,3.009342804836447]
[{"$f":"A473+Sheet3!G$11","v":{"v":-0.23576423576420125,"d":"-0.24"}},{"v":-3.578250071984795,"d":"-3.5783"},{"$f":"(B475-B474)/Sheet3!$G$11","v":7.34079546188699},{"$nulls":8},0.8511488511488841,3.0094554024260485]
[{"$f":"A474+Sheet3!G$11","v":{"v":-0.22777222777219325,"d":"-0.23"}},{"v":-3.5195823759856983,"d":"-3.5196"},{"$f":"(B476-B475)/Sheet3!$G$11","v":7.297819957370002},{"$nulls":8},0.8031968031968364,3.0097416965227546]
[{"$f":"A475+Sheet3!G$11","v":{"v":-0.21978021978018525,"d":"-0.22"}},{"v":-3.461258140562162,"d":"-3.4613"},{"$f":"(B477-B476)/Sheet3!$G$11","v":7.254501418984125},{"$nulls":8},0.8431568431568761,3.009771698813455]
[{"$f":"A476+Sheet3!G$11","v":{"v":-0.21178821178817725,"d":"-0.21"}},{"v":-3.4032801072436074,"d":"-3.4033"},{"$f":"(B478-B477)/Sheet3!$G$11","v":7.210852097938831},{"$nulls":8},0.8351648351648682,3.009994172654359]
[{"$f":"A477+Sheet3!G$11","v":{"v":-0.20379620379616925,"d":"-0.20"}},{"v":-3.3456509196476927,"d":"-3.3457"},{"$f":"(B479-B478)/Sheet3!$G$11","v":7.166884245443817},{"$nulls":8},0.8111888111888443,3.009996341103544]
[{"$f":"A478+Sheet3!G$11","v":{"v":-0.19580419580416125,"d":"-0.20"}},{"v":-3.2883731234803095,"d":"-3.2884"},{"$f":"(B480-B479)/Sheet3!$G$11","v":7.122610112708781},{"$nulls":8},0.8271728271728602,3.0101125432134266]
[{"$f":"A479+Sheet3!G$11","v":{"v":-0.18781218781215325,"d":"-0.19"}},{"v":-3.231449166535584,"d":"-3.2314"},{"$f":"(B481-B480)/Sheet3!$G$11","v":7.078041950943083},{"$nulls":8},0.8191808191808523,3.0101166276670894]
[{"$f":"A480+Sheet3!G$11","v":{"v":-0.17982017982014525,"d":"-0.18"}},{"v":-3.174881398695879,"d":"-3.1749"},{"$f":"(B482-B481)/Sheet3!$G$11","v":7.033192011356534},{"$nulls":8},1.0909090909091224,3.0113380233590687]
[{"$f":"A481+Sheet3!G$11","v":{"v":-0.17182817182813725,"d":"-0.17"}},{"v":-3.118672071931791,"d":"-3.1187"},{"$f":"(B483-B482)/Sheet3!$G$11","v":6.988072545158607},{"$nulls":8},1.0989010989011303,3.01374667934555]
[{"$f":"A482+Sheet3!G$11","v":{"v":-0.16383616383612926,"d":"-0.16"}},{"v":-3.0628233403021516,"d":"-3.0628"},{"$f":"(B484-B483)/Sheet3!$G$11","v":6.942695803558998},{"$nulls":8},1.1068931068931382,3.0164421937281505]
[{"$f":"A483+Sheet3!G$11","v":{"v":-0.15584415584412126,"d":"-0.16"}},{"v":-3.007337259954028,"d":"-3.0073"},{"$f":"(B485-B484)/Sheet3!$G$11","v":6.897074037767347},{"$nulls":8},1.1148851148851462,3.0194380783304497]
[{"$f":"A484+Sheet3!G$11","v":{"v":-0.14785214785211326,"d":"-0.15"}},{"v":-2.9522157891227203,"d":"-2.9522"},{"$f":"(B486-B485)/Sheet3!$G$11","v":6.851219498993131},{"$nulls":8},1.1228771228771541,3.02274794288779]
[{"$f":"A485+Sheet3!G$11","v":{"v":-0.13986013986010526,"d":"-0.14"}},{"v":-2.897460788131766,"d":"-2.8975"},{"$f":"(B487-B486)/Sheet3!$G$11","v":6.805144438445989},{"$nulls":8},1.130869130869162,3.026385495047286]
[{"$f":"A486+Sheet3!G$11","v":{"v":-0.13186813186809726,"d":"-0.13"}},{"v":-2.843074019392937,"d":"-2.8431"},{"$f":"(B488-B487)/Sheet3!$G$11","v":6.758861107335618},{"$nulls":8},1.13886113886117,3.030364540367814]
[{"$f":"A487+Sheet3!G$11","v":{"v":-0.12387612387608926,"d":"-0.12"}},{"v":-2.789057147406239,"d":"-2.7891"},{"$f":"(B489-B488)/Sheet3!$G$11","v":6.712381756871547},{"$nulls":8},1.146853146853178,3.0346989823200134]
[{"$f":"A488+Sheet3!G$11","v":{"v":-0.11588411588408126,"d":"-0.12"}},{"v":-2.735411738759913,"d":"-2.7354"},{"$f":"(B490-B489)/Sheet3!$G$11","v":6.665718638263363},{"$nulls":8},1.154845154845186,3.0394028222862897]
[{"$f":"A489+Sheet3!G$11","v":{"v":-0.10789210789207326,"d":"-0.11"}},{"v":-2.6821392621304354,"d":"-2.6821"},{"$f":"(B491-B490)/Sheet3!$G$11","v":6.618884002720762},{"$nulls":8},1.1628371628371938,3.044490159560814]
[{"$f":"A490+Sheet3!G$11","v":{"v":-0.09990009990006526,"d":"-0.10"}},{"v":-2.6292410882825172,"d":"-2.6292"},{"$f":"(B492-B491)/Sheet3!$G$11","v":6.571890101453216},{"$nulls":8},1.1708291708292018,3.0499751913495254]
[{"$f":"A491+Sheet3!G$11","v":{"v":-0.09190809190805727,"d":"-0.09"}},{"v":-2.576718490069105,"d":"-2.5767"},{"$f":"(B493-B492)/Sheet3!$G$11","v":6.524749185670536},{"$nulls":8},1.1788211788212097,3.0558722127701223]
[{"$f":"A492+Sheet3!G$11","v":{"v":-0.08391608391604927,"d":"-0.08"}},{"v":-2.5245726424313784,"d":"-2.5246"},{"$f":"(B494-B493)/Sheet3!$G$11","v":6.477473506582028},{"$nulls":8},1.1868131868132177,3.0621956168520708]
[{"$f":"A493+Sheet3!G$11","v":{"v":-0.07592407592404127,"d":"-0.08"}},{"v":-2.4728046223987548,"d":"-2.4728"},{"$f":"(B495-B494)/Sheet3!$G$11","v":6.43007531539761},{"$nulls":8},1.1948051948052256,3.0689598945366043]
[{"$f":"A494+Sheet3!G$11","v":{"v":-0.06793206793203327,"d":"-0.07"}},{"v":-2.4214154090888838,"d":"-2.4214"},{"$f":"(B496-B495)/Sheet3!$G$11","v":6.3825668633266455},{"$nulls":8},1.2027972027972336,3.07617963467672]
[{"$f":"A495+Sheet3!G$11","v":{"v":-0.05994005994002528,"d":"-0.06"}},{"v":-2.370405883707652,"d":"-2.3704"},{"$f":"(B497-B496)/Sheet3!$G$11","v":6.334960401578888},{"$nulls":8},1.2107892107892415,3.0838695240371763]
[{"$f":"A496+Sheet3!G$11","v":{"v":-0.051948051948017285,"d":"-0.05"}},{"v":-2.319776829549179,"d":"-2.3198"},{"$f":"(B498-B497)/Sheet3!$G$11","v":6.287268181363865},{"$nulls":8},1.2187812187812495,3.092044347294501]
[{"$f":"A497+Sheet3!G$11","v":{"v":-0.04395604395600929,"d":"-0.04"}},{"v":-2.2695289319958216,"d":"-2.2695"},{"$f":"(B499-B498)/Sheet3!$G$11","v":6.239502453891276},{"$nulls":8},1.2267732267732574,3.100718987036987]
[{"$f":"A498+Sheet3!G$11","v":{"v":-0.0359640359640013,"d":"-0.04"}},{"v":-2.219662778518169,"d":"-2.2197"},{"$f":"(B500-B499)/Sheet3!$G$11","v":6.191675470370592},{"$nulls":8},1.2347652347652653,3.1099084237646917]
[{"$f":"A499+Sheet3!G$11","v":{"v":-0.02797202797199331,"d":"-0.03"}},{"v":-2.1701788586750475,"d":"-2.1702"},{"$f":"(B501-B500)/Sheet3!$G$11","v":6.143799482011511},{"$nulls":8},1.2427572427572733,3.119627735889435]
[{"$f":"A500+Sheet3!G$11","v":{"v":-0.019980019979985317,"d":"-0.02"}},{"v":-2.121077564113517,"d":"-2.1211"},{"$f":"(B502-B501)/Sheet3!$G$11","v":6.095886740023619},{"$nulls":8},1.2507492507492812,3.1298920997348043]
[{"$f":"A501+Sheet3!G$11","v":{"v":-0.011988011987977325,"d":"-0.01"}},{"v":-2.0723591885688726,"d":"-2.0724"},{"$f":"(B503-B502)/Sheet3!$G$11","v":6.047949495616501},{"$nulls":8},1.2587412587412892,3.1407167895361514]
[{"$f":"A502+Sheet3!G$11","v":{"v":-0.003996003995969333,"d":"-0.00"}},{"v":-2.024023927864645,"d":"-2.0240"},{"$f":"(B504-B503)/Sheet3!$G$11","v":5.999999999999797},{"$nulls":8},1.2667332667332971,3.152117177440598]
[{"$f":"A503+Sheet3!G$11","v":{"v":0.003996003996038659,"d":"0.00"}},{"v":-1.9760718799125985,"d":"-1.9761"},{"$f":"(B505-B504)/Sheet3!$G$11","v":5.952050504383065},{"$nulls":8},1.274725274725305,3.1641087335070193]
[{"$f":"A504+Sheet3!G$11","v":{"v":0.011988011988046651,"d":"0.01"}},{"v":-1.9285030447127338,"d":"-1.9285"},{"$f":"(B506-B505)/Sheet3!$G$11","v":5.904113259975975},{"$nulls":8},1.282717282717313,3.1767070257060652]
[{"$f":"A505+Sheet3!G$11","v":{"v":0.019980019980054643,"d":"0.02"}},{"v":-1.8813173243532855,"d":"-1.8813"},{"$f":"(B507-B506)/Sheet3!$G$11","v":5.856200517988082},{"$nulls":8},1.290709290709321,3.189927719920151]
[{"$f":"A506+Sheet3!G$11","v":{"v":0.027972027972062635,"d":"0.03"}},{"v":-1.8345145230107234,"d":"-1.8345"},{"$f":"(B508-B507)/Sheet3!$G$11","v":5.808324529628973},{"$nulls":8},1.2987012987013289,3.2037865799434497]
[{"$f":"A507+Sheet3!G$11","v":{"v":0.03596403596407063,"d":"0.04"}},{"v":-1.7880943469497526,"d":"-1.7881"},{"$f":"(B509-B508)/Sheet3!$G$11","v":5.760497546108346},{"$nulls":8},1.3066933066933368,3.2182994674819074]
[{"$f":"A508+Sheet3!G$11","v":{"v":0.04395604395607862,"d":"0.04"}},{"v":-1.7420564045233122,"d":"-1.7421"},{"$f":"(B510-B509)/Sheet3!$G$11","v":5.7127318186357},{"$nulls":8},1.3146853146853448,3.2334823421532306]
[{"$f":"A509+Sheet3!G$11","v":{"v":0.05194805194808661,"d":"0.05"}},{"v":-1.6964002061725774,"d":"-1.6964"},{"$f":"(B511-B510)/Sheet3!$G$11","v":5.665039598420678},{"$nulls":8},1.3226773226773527,3.24935126148689]
[{"$f":"A510+Sheet3!G$11","v":{"v":0.0599400599400946,"d":"0.06"}},{"v":-1.6511251644269576,"d":"-1.6511"},{"$f":"(B512-B511)/Sheet3!$G$11","v":5.617433136672948},{"$nulls":8},-2.73726273726271,3.2525511566128102]
[{"$f":"A511+Sheet3!G$11","v":{"v":0.0679320679321026,"d":"0.07"}},{"v":-1.6062305939040968,"d":"-1.6062"},{"$f":"(B513-B512)/Sheet3!$G$11","v":5.569924684602012},{"$nulls":8},1.3306693306693607,3.265922380924126]
[{"$f":"A512+Sheet3!G$11","v":{"v":0.0759240759241106,"d":"0.08"}},{"v":-1.561715711309875,"d":"-1.5617"},{"$f":"(B514-B513)/Sheet3!$G$11","v":5.522526493417538},{"$nulls":8},1.3386613386613686,3.2832119538179407]
[{"$f":"A513+Sheet3!G$11","v":{"v":0.0839160839161186,"d":"0.08"}},{"v":-1.5175796354384061,"d":"-1.5176"},{"$f":"(B515-B514)/Sheet3!$G$11","v":5.475250814329113},{"$nulls":8},1.3466533466533765,3.3012363314331026]
[{"$f":"A514+Sheet3!G$11","v":{"v":0.0919080919081266,"d":"0.09"}},{"$f":"x^4-3*x^2+6*x-2","v":{"v":-1.4738213871720396,"d":"-1.4738"}},{"$f":"(B516-B515)/Sheet3!$G$11","v":5.428109898546349},{"$nulls":8},1.3546453546453845,3.3200119629461406]
[{"$f":"A515+Sheet3!G$11","v":{"v":0.0999000999001346,"d":"0.10"}},{"v":-1.4304398894813595,"d":"-1.4304"},{"$f":"(B517-B516)/Sheet3!$G$11","v":5.38111599727886},{"$nulls":8},1.3626373626373924,3.339555395445359]
[{"$f":"A516+Sheet3!G$11","v":{"v":0.1078921078921426,"d":"0.11"}},{"v":-1.3874339674251848,"d":"-1.3874"},{"$f":"(B518-B517)/Sheet3!$G$11","v":5.33428136173623},{"$nulls":8},1.3706293706294004,3.3598832739308175]
[{"$f":"A517+Sheet3!G$11","v":{"v":0.1158841158841506,"d":"0.12"}},{"v":-1.3448023481505695,"d":"-1.3448"},{"$f":"(B519-B518)/Sheet3!$G$11","v":5.287618243128074},{"$nulls":8},1.3786213786214083,3.381012341314344]
[{"$f":"A518+Sheet3!G$11","v":{"v":0.1238761238761586,"d":"0.12"}},{"v":-1.3025436608928027,"d":"-1.3025"},{"$f":"(B520-B519)/Sheet3!$G$11","v":5.241138892663976},{"$nulls":8},1.3866133866134163,3.4029594384195336]
[{"$f":"A519+Sheet3!G$11","v":{"v":0.1318681318681666,"d":"0.13"}},{"v":-1.2606564369754083,"d":"-1.2607"},{"$f":"(B521-B520)/Sheet3!$G$11","v":5.194855561553605},{"$nulls":8},1.3946053946054242,3.425741503981744]
[{"$f":"A520+Sheet3!G$11","v":{"v":0.1398601398601746,"d":"0.14"}},{"v":-1.2191391098101447,"d":"-1.2191"},{"$f":"(B522-B521)/Sheet3!$G$11","v":5.148780501006518},{"$nulls":8},1.4025974025974322,3.449375574648097]
[{"$f":"A521+Sheet3!G$11","v":{"v":0.1478521478521826,"d":"0.15"}},{"v":-1.1779900148970057,"d":"-1.1780"},{"$f":"(B523-B522)/Sheet3!$G$11","v":5.102925962232302},{"$nulls":8},1.41058941058944,3.473878784977484]
[{"$f":"A522+Sheet3!G$11","v":{"v":0.1558441558441906,"d":"0.16"}},{"v":-1.13720738982422,"d":"-1.1372"},{"$f":"(B524-B523)/Sheet3!$G$11","v":5.0573041964405965},{"$nulls":8},1.418581418581448,3.499268367440556]
[{"$f":"A523+Sheet3!G$11","v":{"v":0.1638361638361986,"d":"0.16"}},{"v":-1.0967893742682513,"d":"-1.0968"},{"$f":"(B525-B524)/Sheet3!$G$11","v":5.01192745484096},{"$nulls":8},1.426573426573456,3.525561652419734]
[{"$f":"A524+Sheet3!G$11","v":{"v":0.1718281718282066,"d":"0.17"}},{"v":-1.056734009993798,"d":"-1.0567"},{"$f":"(B526-B525)/Sheet3!$G$11","v":4.966807988643115},{"$nulls":8},1.434565434565464,3.5527760682091998]
[{"$f":"A525+Sheet3!G$11","v":{"v":0.1798201798202146,"d":"0.18"}},{"v":-1.0170392408537932,"d":"-1.0170"},{"$f":"(B527-B526)/Sheet3!$G$11","v":4.921958049056566},{"$nulls":8},1.4425574425574719,3.5809291410149005]
[{"$f":"A526+Sheet3!G$11","v":{"v":0.1878121878122226,"d":"0.19"}},{"v":-0.977702912789405,"d":"-0.9777"},{"$f":"(B528-B527)/Sheet3!$G$11","v":4.877389887290869},{"$nulls":8},1.4505494505494798,3.6100384949545568]
[{"$f":"A527+Sheet3!G$11","v":{"v":0.19580419580423059,"d":"0.20"}},{"v":-0.9387227738300374,"d":"-0.9387"},{"$f":"(B529-B528)/Sheet3!$G$11","v":4.833115754555749},{"$nulls":8},1.4585414585414878,3.640121852057642]
[{"$f":"A528+Sheet3!G$11","v":{"v":0.20379620379623858,"d":"0.20"}},{"v":-0.9000964740933282,"d":"-0.9001"},{"$f":"(B530-B529)/Sheet3!$G$11","v":4.78914790206079},{"$nulls":8},-2.745254745254718,3.644034371734705]
[{"$f":"A529+Sheet3!G$11","v":{"v":0.21178821178824658,"d":"0.21"}},{"v":-0.86182156578515,"d":"-0.8618"},{"$f":"(B531-B530)/Sheet3!$G$11","v":4.745498581015524},{"$nulls":8},1.4665334665334957,3.671197032265402]
[{"$f":"A530+Sheet3!G$11","v":{"v":0.21978021978025458,"d":"0.22"}},{"v":-0.8238955031996114,"d":"-0.8239"},{"$f":"(B532-B531)/Sheet3!$G$11","v":4.702180042629618},{"$nulls":8},1.4745254745255036,3.703281953430845]
[{"$f":"A531+Sheet3!G$11","v":{"v":0.22777222777226258,"d":"0.23"}},{"v":-0.786315642719055,"d":"-0.7863"},{"$f":"(B533-B532)/Sheet3!$G$11","v":4.659204538112631},{"$nulls":8},1.4825174825175116,3.7363946313187437]
[{"$f":"A532+Sheet3!G$11","v":{"v":0.23576423576427058,"d":"0.24"}},{"v":-0.7490792428140589,"d":"-0.7491"},{"$f":"(B534-B533)/Sheet3!$G$11","v":4.6165843186742865},{"$nulls":8},1.4905094905095195,3.770553179605642]
[{"$f":"A533+Sheet3!G$11","v":{"v":0.24375624375627858,"d":"0.24"}},{"v":-0.7121834640434352,"d":"-0.7122"},{"$f":"(B535-B534)/Sheet3!$G$11","v":4.57433163552403},{"$nulls":8},1.4985014985015275,3.8057758098798438]
[{"$f":"A534+Sheet3!G$11","v":{"v":0.2517482517482866,"d":"0.25"}},{"v":-0.6756253690542322,"d":"-0.6756"},{"$f":"(B536-B535)/Sheet3!$G$11","v":4.532458739871504},{"$nulls":8},1.5064935064935354,3.842080831641413]
[{"$f":"A535+Sheet3!G$11","v":{"v":0.2597402597402946,"d":"0.26"}},{"v":-0.6394019225817327,"d":"-0.6394"},{"$f":"(B537-B536)/Sheet3!$G$11","v":4.490977882926404},{"$nulls":8},1.5144855144855434,3.8794866523021883]
[{"$f":"A536+Sheet3!G$11","v":{"v":0.2677322677323026,"d":"0.27"}},{"v":-0.6035099914494537,"d":"-0.6035"},{"$f":"(B538-B537)/Sheet3!$G$11","v":4.4499013158982885},{"$nulls":8},1.5224775224775513,3.9180117771857708]
[{"$f":"A537+Sheet3!G$11","v":{"v":0.2757242757243106,"d":"0.28"}},{"v":-0.5679463445691477,"d":"-0.5679"},{"$f":"(B539-B538)/Sheet3!$G$11","v":4.409241289996742},{"$nulls":8},1.5304695304695592,3.9576748095275223]
[{"$f":"A538+Sheet3!G$11","v":{"v":0.2837162837163186,"d":"0.28"}},{"v":-0.5327076529408021,"d":"-0.5327"},{"$f":"(B540-B539)/Sheet3!$G$11","v":4.36901005643135},{"$nulls":8},1.5384615384615672,3.998494450474573]
[{"$f":"A539+Sheet3!G$11","v":{"v":0.2917082917083266,"d":"0.29"}},{"v":-0.4977904896526395,"d":"-0.4978"},{"$f":"(B541-B540)/Sheet3!$G$11","v":4.329219866411753},{"$nulls":8},1.5464535464535751,4.040489499085818]
[{"$f":"A540+Sheet3!G$11","v":{"v":0.29970029970033457,"d":"0.30"}},{"v":-0.463191329881117,"d":"-0.4632"},{"$f":"(B542-B541)/Sheet3!$G$11","v":4.289882971147621},{"$nulls":8},-2.753246753246726,4.040655287829939]
[{"$f":"A541+Sheet3!G$11","v":{"v":0.30769230769234257,"d":"0.31"}},{"v":-0.4289065508909262,"d":"-0.4289"},{"$f":"(B543-B542)/Sheet3!$G$11","v":4.251011621848428},{"$nulls":8},1.554445554445583,4.083678852331916]
[{"$f":"A542+Sheet3!G$11","v":{"v":0.31568431568435057,"d":"0.32"}},{"v":-0.39493243203499473,"d":"-0.3949"},{"$f":"(B544-B543)/Sheet3!$G$11","v":4.212618069723813},{"$nulls":8},1.562437562437591,4.128081505095296]
[{"$f":"A543+Sheet3!G$11","v":{"v":0.32367632367635857,"d":"0.32"}},{"v":-0.36126515475448473,"d":"-0.3613"},{"$f":"(B545-B544)/Sheet3!$G$11","v":4.174714565983448},{"$nulls":8},1.570429570429599,4.173716550170143]
[{"$f":"A544+Sheet3!G$11","v":{"v":0.33166833166836657,"d":"0.33"}},{"v":-0.32790080257879284,"d":"-0.3279"},{"$f":"(B546-B545)/Sheet3!$G$11","v":4.137313361836972},{"$nulls":8},1.578421578421607,4.220603178262418]
[{"$f":"A545+Sheet3!G$11","v":{"v":0.33966033966037457,"d":"0.34"}},{"v":-0.2948353611255503,"d":"-0.2948"},{"$f":"(B547-B546)/Sheet3!$G$11","v":4.100426708493803},{"$nulls":8},1.5864135864136149,4.268760677989835]
[{"$f":"A546+Sheet3!G$11","v":{"v":0.34765234765238257,"d":"0.35"}},{"v":-0.2620647181006248,"d":"-0.2621"},{"$f":"(B548-B547)/Sheet3!$G$11","v":4.064066857163693},{"$nulls":8},1.5944055944056228,4.318208435881885]
[{"$f":"A547+Sheet3!G$11","v":{"v":0.35564435564439056,"d":"0.36"}},{"v":-0.22958466329811777,"d":"-0.2296"},{"$f":"(B549-B548)/Sheet3!$G$11","v":4.028246059056258},{"$nulls":8},1.6023976023976307,4.368965936379813]
[{"$f":"A548+Sheet3!G$11","v":{"v":0.36363636363639856,"d":"0.36"}},{"v":-0.19739088860036547,"d":"-0.1974"},{"$f":"(B550-B549)/Sheet3!$G$11","v":3.9929765653810523},{"$nulls":8},1.6103896103896387,4.421052761836639]
[{"$f":"A549+Sheet3!G$11","v":{"v":0.37162837162840656,"d":"0.37"}},{"v":-0.16547898797793947,"d":"-0.1655"},{"$f":"(B551-B550)/Sheet3!$G$11","v":3.958270627347663},{"$nulls":8},-2.7612387612387344,4.442447586545697]
[{"$f":"A550+Sheet3!G$11","v":{"v":0.37962037962041456,"d":"0.38"}},{"v":-0.13384445748964646,"d":"-0.1338"},{"$f":"(B552-B551)/Sheet3!$G$11","v":3.924140496165758},{"$nulls":8},1.6183816183816466,4.474488592517139]
[{"$f":"A551+Sheet3!G$11","v":{"v":0.38761238761242256,"d":"0.39"}},{"v":-0.10248269528252751,"d":"-0.1025"},{"$f":"(B553-B552)/Sheet3!$G$11","v":3.8905984230447848},{"$nulls":8},1.6263736263736546,4.529293206597864]
[{"$f":"A552+Sheet3!G$11","v":{"v":0.39560439560443056,"d":"0.40"}},{"v":-0.0713890015918599,"d":"-0.0714"},{"$f":"(B554-B553)/Sheet3!$G$11","v":3.857656659194689},{"$nulls":8},1.6343656343656625,4.58548648016712]
[{"$f":"A553+Sheet3!G$11","v":{"v":0.40359640359643856,"d":"0.40"}},{"v":-0.040558578741153095,"d":"-0.0406"},{"$f":"(B555-B554)/Sheet3!$G$11","v":3.8253274558246955},{"$nulls":8},1.6423576423576705,4.643088387224985]
[{"$f":"A554+Sheet3!G$11","v":{"v":0.41158841158844656,"d":"0.41"}},{"v":-0.009986531142154531,"d":"-0.0100"},{"$f":"(B556-B555)/Sheet3!$G$11","v":3.793623064144583},{"$nulls":8},1.6503496503496784,4.702118999683302]
[{"$f":"A555+Sheet3!G$11","v":{"v":0.41958041958045456,"d":"0.42"}},{"v":0.020332134705154825,"d":"0.0203"},{"$f":"(B557-B556)/Sheet3!$G$11","v":3.7625557353639936},{"$nulls":8},1.6583416583416863,4.762598487365673]
[{"$f":"A556+Sheet3!G$11","v":{"v":0.42757242757246255,"d":"0.43"}},{"v":0.05040251021255937,"d":"0.0504"},{"$f":"(B558-B557)/Sheet3!$G$11","v":3.732137720692512},{"$nulls":8},1.6663336663336943,4.8245471180074695]
[{"$f":"A557+Sheet3!G$11","v":{"v":0.43556443556447055,"d":"0.44"}},{"v":0.08022978470360842,"d":"0.0802"},{"$f":"(B559-B558)/Sheet3!$G$11","v":3.7023812713396964},{"$nulls":8},-2.7692307692307425,4.849445047440938]
[{"$f":"A558+Sheet3!G$11","v":{"v":0.44355644355647855,"d":"0.44"}},{"v":0.10981924541361598,"d":"0.1098"},{"$f":"(B560-B559)/Sheet3!$G$11","v":3.673298638515132},{"$nulls":8},1.6743256743257022,4.8879852572558296]
[{"$f":"A559+Sheet3!G$11","v":{"v":0.45154845154848655,"d":"0.45"}},{"v":0.139176277489661,"d":"0.1392"},{"$f":"(B561-B560)/Sheet3!$G$11","v":3.6449020734284034},{"$nulls":8},1.6823176823177102,4.952933368669653]
[{"$f":"A560+Sheet3!G$11","v":{"v":0.45954045954049455,"d":"0.46"}},{"v":0.1683063639905873,"d":"0.1683"},{"$f":"(B562-B561)/Sheet3!$G$11","v":3.6172038272893743},{"$nulls":8},1.6903096903097181,5.019412013719608]
[{"$f":"A561+Sheet3!G$11","v":{"v":0.46753246753250255,"d":"0.47"}},{"v":0.19721508588700587,"d":"0.1972"},{"$f":"(B563-B562)/Sheet3!$G$11","v":3.590216151307297},{"$nulls":8},1.698301698301726,5.087441851788121]
[{"$f":"A562+Sheet3!G$11","v":{"v":0.47552447552451055,"d":"0.48"}},{"v":0.22590812206128996,"d":"0.2259"},{"$f":"(B564-B563)/Sheet3!$G$11","v":3.5639512966919233},{"$nulls":8},1.706293706293734,5.157043640169395]
[{"$f":"A563+Sheet3!G$11","v":{"v":0.48351648351651855,"d":"0.48"}},{"v":0.25439124930757906,"d":"0.2544"},{"$f":"(B565-B564)/Sheet3!$G$11","v":3.538421514653005},{"$nulls":8},1.714285714285742,5.228238234069385]
[{"$f":"A564+Sheet3!G$11","v":{"v":0.49150849150852655,"d":"0.49"}},{"v":0.2826703423317789,"d":"0.2827"},{"$f":"(B566-B565)/Sheet3!$G$11","v":3.513639056399906},{"$nulls":8},-2.7772227772227507,5.261681547986395]
[{"$f":"A565+Sheet3!G$11","v":{"v":0.49950049950053454,"d":"0.50"}},{"v":0.31075137375155837,"d":"0.3108"},{"$f":"(B567-B566)/Sheet3!$G$11","v":3.489616173142266},{"$nulls":8},1.72227772227775,5.3010465866058265]
[{"$f":"A566+Sheet3!G$11","v":{"v":0.5074925074925425,"d":"0.51"}},{"v":0.3386404140963517,"d":"0.3386"},{"$f":"(B568-B567)/Sheet3!$G$11","v":3.466365116089894},{"$nulls":8},1.7302697302697578,5.375489748808201]
[{"$f":"A567+Sheet3!G$11","v":{"v":0.5154845154845504,"d":"0.52"}},{"v":0.36634363180735985,"d":"0.3663"},{"$f":"(B569-B568)/Sheet3!$G$11","v":3.4438981364522077},{"$nulls":8},1.7382617382617658,5.451588869617769]
[{"$f":"A568+Sheet3!G$11","v":{"v":0.5234765234765584,"d":"0.52"}},{"v":0.3938672932375473,"d":"0.3939"},{"$f":"(B570-B569)/Sheet3!$G$11","v":3.422227485438904},{"$nulls":8},1.7462537462537737,5.529365195887555]
[{"$f":"A569+Sheet3!G$11","v":{"v":0.5314685314685663,"d":"0.53"}},{"v":0.42121776265164446,"d":"0.4212"},{"$f":"(B571-B570)/Sheet3!$G$11","v":3.401365414259512},{"$nulls":8},1.7542457542457817,5.608840072382344]
[{"$f":"A570+Sheet3!G$11","v":{"v":0.5394605394605743,"d":"0.54"}},{"v":0.44840150222614605,"d":"0.4484"},{"$f":"(B572-B571)/Sheet3!$G$11","v":3.38132417412373},{"$nulls":8},-2.785214785214759,5.679191063564531]
[{"$f":"A571+Sheet3!G$11","v":{"v":0.5474525474525822,"d":"0.55"}},{"v":0.4754250720493127,"d":"0.4754"},{"$f":"(B573-B572)/Sheet3!$G$11","v":3.3621160162409747},{"$nulls":8},1.7622377622377896,5.690034941778686]
[{"$f":"A572+Sheet3!G$11","v":{"v":0.5554445554445901,"d":"0.56"}},{"v":0.5022951301211687,"d":"0.5023"},{"$f":"(B574-B573)/Sheet3!$G$11","v":3.34375319182111},{"$nulls":8},1.7702297702297976,5.772971344664901]
[{"$f":"A573+Sheet3!G$11","v":{"v":0.5634365634365981,"d":"0.56"}},{"v":0.5290184323535052,"d":"0.5290"},{"$f":"(B575-B574)/Sheet3!$G$11","v":3.3262479520735546},{"$nulls":8},1.7782217782218055,5.85767091954107]
[{"$f":"A574+Sheet3!G$11","v":{"v":0.571428571428606,"d":"0.57"}},{"v":0.5556018325698773,"d":"0.5556"},{"$f":"(B576-B575)/Sheet3!$G$11","v":3.3096125482080057},{"$nulls":8},1.7862137862138134,5.944155402819041]
[{"$f":"A575+Sheet3!G$11","v":{"v":0.579420579420614,"d":"0.58"}},{"v":0.5820522825056056,"d":"0.5821"},{"$f":"(B577-B576)/Sheet3!$G$11","v":3.293859231434103},{"$nulls":8},1.7942057942058214,6.032446628822424]
[{"$f":"A576+Sheet3!G$11","v":{"v":0.5874125874126219,"d":"0.59"}},{"v":0.6083768318077762,"d":"0.6084"},{"$f":"(B578-B577)/Sheet3!$G$11","v":3.2790002529612656},{"$nulls":8},-2.793206793206767,6.102007667469589]
[{"$f":"A577+Sheet3!G$11","v":{"v":0.5954045954046299,"d":"0.60"}},{"v":0.6345826280352389,"d":"0.6346"},{"$f":"(B579-B578)/Sheet3!$G$11","v":3.265047863999302},{"$nulls":8},1.8021978021978293,6.122566529786596]
[{"$f":"A578+Sheet3!G$11","v":{"v":0.6033966033966378,"d":"0.60"}},{"$f":"x^4-3*x^2+6*x-2","v":{"v":0.66067691665861,"d":"0.6607"}},{"$f":"(B580-B579)/Sheet3!$G$11","v":3.252014315757685},{"$nulls":8},1.8101898101898373,6.214537135858702]
[{"$f":"A579+Sheet3!G$11","v":{"v":0.6113886113886458,"d":"0.61"}},{"v":0.6866670410602698,"d":"0.6867"},{"$f":"(B581-B580)/Sheet3!$G$11","v":3.2399118594461123},{"$nulls":8},1.8181818181818452,6.308380575097649]
[{"$f":"A580+Sheet3!G$11","v":{"v":0.6193806193806537,"d":"0.62"}},{"v":0.7125604425343646,"d":"0.7126"},{"$f":"(B582-B581)/Sheet3!$G$11","v":3.228752746274113},{"$nulls":8},1.8261738261738532,6.40411907347411]
[{"$f":"A581+Sheet3!G$11","v":{"v":0.6273726273726616,"d":"0.63"}},{"v":0.738364660286805,"d":"0.7384"},{"$f":"(B583-B582)/Sheet3!$G$11","v":3.218549227451328},{"$nulls":8},1.834165834165861,6.50177495487052]
[{"$f":"A582+Sheet3!G$11","v":{"v":0.6353646353646696,"d":"0.64"}},{"v":0.7640873314352672,"d":"0.7641"},{"$f":"(B584-B583)/Sheet3!$G$11","v":3.209313554187399},{"$nulls":8},-2.801198801198775,6.530165530907588]
[{"$f":"A583+Sheet3!G$11","v":{"v":0.6433566433566775,"d":"0.64"}},{"v":0.7897361910091925,"d":"0.7897"},{"$f":"(B585-B584)/Sheet3!$G$11","v":3.20105797769191},{"$nulls":8},1.842157842157869,6.601370641081086]
[{"$f":"A584+Sheet3!G$11","v":{"v":0.6513486513486855,"d":"0.65"}},{"v":0.8153190719497871,"d":"0.8153"},{"$f":"(B586-B585)/Sheet3!$G$11","v":3.1937947491743928},{"$nulls":8},1.850149850149877,6.702928651811771]
[{"$f":"A585+Sheet3!G$11","v":{"v":0.6593406593406934,"d":"0.66"}},{"v":0.840843905110022,"d":"0.8408"},{"$f":"(B587-B586)/Sheet3!$G$11","v":3.1875361198445975},{"$nulls":8},1.858141858141885,6.806471604680311]
[{"$f":"A586+Sheet3!G$11","v":{"v":0.6673326673327014,"d":"0.67"}},{"v":0.8663187192546342,"d":"0.8663"},{"$f":"(B588-B587)/Sheet3!$G$11","v":3.1822943409118327},{"$nulls":8},1.8661338661338929,6.912022215216201]
[{"$f":"A587+Sheet3!G$11","v":{"v":0.6753246753247093,"d":"0.68"}},{"v":0.8917516410601234,"d":"0.8918"},{"$f":"(B589-B588)/Sheet3!$G$11","v":3.1780816635860725},{"$nulls":8},-2.8091908091907833,6.963698922996308]
[{"$f":"A588+Sheet3!G$11","v":{"v":0.6833166833167172,"d":"0.68"}},{"v":0.9171508951147573,"d":"0.9172"},{"$f":"(B590-B589)/Sheet3!$G$11","v":3.1749103390768467},{"$nulls":8},1.8741258741259008,7.019603296860707]
[{"$f":"A589+Sheet3!G$11","v":{"v":0.6913086913087252,"d":"0.69"}},{"v":0.9425248039185683,"d":"0.9425"},{"$f":"(B591-B590)/Sheet3!$G$11","v":3.1727926185936295},{"$nulls":8},1.8821178821179088,7.129237760966856]
[{"$f":"A590+Sheet3!G$11","v":{"v":0.6993006993007331,"d":"0.70"}},{"v":0.9678817878833526,"d":"0.9679"},{"$f":"(B592-B591)/Sheet3!$G$11","v":3.1717407533458397},{"$nulls":8},1.8901098901099167,7.240948616799441]
[{"$f":"A591+Sheet3!G$11","v":{"v":0.7072927072927411,"d":"0.71"}},{"v":0.99323036533267,"d":"0.9932"},{"$f":"(B593-B592)/Sheet3!$G$11","v":3.1717669945435625},{"$nulls":8},1.8981018981019246,7.3547589715350234]
[{"$f":"A592+Sheet3!G$11","v":{"v":0.715284715284749,"d":"0.72"}},{"v":1.0185791525018493,"d":"1.0186"},{"$f":"(B594-B593)/Sheet3!$G$11","v":3.1728835933962167},{"$nulls":8},-2.8171828171827915,7.402642210765276]
[{"$f":"A593+Sheet3!G$11","v":{"v":0.723276723276757,"d":"0.72"}},{"v":1.0439368635379829,"d":"1.0439"},{"$f":"(B595-B594)/Sheet3!$G$11","v":3.175102801113166},{"$nulls":8},1.9060939060939326,7.470692030261919]
[{"$f":"A594+Sheet3!G$11","v":{"v":0.7312687312687649,"d":"0.73"}},{"v":1.0693123104999263,"d":"1.0693"},{"$f":"(B596-B595)/Sheet3!$G$11","v":3.178436868904161},{"$nulls":8},1.9140859140859405,7.588771095980228]
[{"$f":"A595+Sheet3!G$11","v":{"v":0.7392607392607728,"d":"0.74"}},{"v":1.0947144033583012,"d":"1.0947"},{"$f":"(B597-B596)/Sheet3!$G$11","v":3.1828980479790108},{"$nulls":8},1.9220779220779485,7.709019569601793]
[{"$f":"A596+Sheet3!G$11","v":{"v":0.7472527472527808,"d":"0.75"}},{"v":1.120152149995496,"d":"1.1202"},{"$f":"(B598-B597)/Sheet3!$G$11","v":3.188498589547189},{"$nulls":8},1.9300699300699564,7.831460949950234]
[{"$f":"A597+Sheet3!G$11","v":{"v":0.7552447552447887,"d":"0.76"}},{"v":1.1456346562056634,"d":"1.1456"},{"$f":"(B599-B598)/Sheet3!$G$11","v":3.195250744818114},{"$nulls":8},-2.8251748251747997,7.847029859155832]
[{"$f":"A598+Sheet3!G$11","v":{"v":0.7632367632367967,"d":"0.76"}},{"v":1.1711711256947193,"d":"1.1712"},{"$f":"(B600-B599)/Sheet3!$G$11","v":3.203166765001483},{"$nulls":8},1.9380619380619644,7.956118833760936]
[{"$f":"A599+Sheet3!G$11","v":{"v":0.7712287712288046,"d":"0.77"}},{"v":1.1967708600803455,"d":"1.1968"},{"$f":"(B601-B600)/Sheet3!$G$11","v":3.2122589013071035},{"$nulls":8},1.9460539460539723,8.083016915681053]
[{"$f":"A600+Sheet3!G$11","v":{"v":0.7792207792208126,"d":"0.78"}},{"v":1.2224432588919907,"d":"1.2224"},{"$f":"(B602-B601)/Sheet3!$G$11","v":3.222539404944449},{"$nulls":8},1.9540459540459802,8.212178988269494]
[{"$f":"A601+Sheet3!G$11","v":{"v":0.7872127872128205,"d":"0.79"}},{"v":1.2481978195708674,"d":"1.2482"},{"$f":"(B603-B602)/Sheet3!$G$11","v":3.2340205271231053},{"$nulls":8},-2.833166833166808,8.296896431021018]
[{"$f":"A602+Sheet3!G$11","v":{"v":0.7952047952048285,"d":"0.80"}},{"v":1.2740441374699532,"d":"1.2740"},{"$f":"(B604-B603)/Sheet3!$G$11","v":3.2467145190526026},{"$nulls":8},1.9620379620379882,8.343628941996935]
[{"$f":"A603+Sheet3!G$11","v":{"v":0.8031968031968364,"d":"0.80"}},{"v":1.29999190585399,"d":"1.3000"},{"$f":"(B605-B604)/Sheet3!$G$11","v":3.2606336319425817},{"$nulls":8},1.9700299700299961,8.477390765245826]
[{"$f":"A604+Sheet3!G$11","v":{"v":0.8111888111888443,"d":"0.81"}},{"v":1.326050915899485,"d":"1.3261"},{"$f":"(B606-B605)/Sheet3!$G$11","v":3.275790117002961},{"$nulls":8},1.978021978022004,8.613488544310377]
[{"$f":"A605+Sheet3!G$11","v":{"v":0.8191808191808523,"d":"0.82"}},{"v":1.3522310566947136,"d":"1.3522"},{"$f":"(B607-B606)/Sheet3!$G$11","v":3.292196225442937},{"$nulls":8},1.986013986014012,8.751946463396553]
[{"$f":"A606+Sheet3!G$11","v":{"v":0.8271728271728602,"d":"0.83"}},{"v":1.378542315239712,"d":"1.3785"},{"$f":"(B608-B607)/Sheet3!$G$11","v":3.3098642084720393},{"$nulls":8},-2.841158841158816,8.75227658712566]
[{"$f":"A607+Sheet3!G$11","v":{"v":0.8351648351648682,"d":"0.84"}},{"v":1.4049947764462818,"d":"1.4050"},{"$f":"(B609-B608)/Sheet3!$G$11","v":3.3288063173003537},{"$nulls":8},1.99400599400602,8.892788804622098]
[{"$f":"A608+Sheet3!G$11","v":{"v":0.8431568431568761,"d":"0.84"}},{"v":1.431598623137993,"d":"1.4316"},{"$f":"(B610-B609)/Sheet3!$G$11","v":3.349034803137299},{"$nulls":8},2.001998001998028,9.036039948016521]
[{"$f":"A609+Sheet3!G$11","v":{"v":0.8511488511488841,"d":"0.85"}},{"v":1.4583641360501791,"d":"1.4584"},{"$f":"(B611-B610)/Sheet3!$G$11","v":3.370561917192238},{"$nulls":8},2.009990009990036,9.181724371521092]
[{"$f":"A610+Sheet3!G$11","v":{"v":0.859140859140892,"d":"0.86"}},{"v":1.4853016938299373,"d":"1.4853"},{"$f":"(B612-B611)/Sheet3!$G$11","v":3.3933999106748676},{"$nulls":8},-2.849150849150824,9.213205086146402]
[{"$f":"A611+Sheet3!G$11","v":{"v":0.8671328671328999,"d":"0.87"}},{"v":1.51242177303613,"d":"1.5124"},{"$f":"(B613-B612)/Sheet3!$G$11","v":3.417561034794995},{"$nulls":8},2.0179820179820442,9.329866650988837]
[{"$f":"A612+Sheet3!G$11","v":{"v":0.8751248751249079,"d":"0.88"}},{"v":1.5397349481393867,"d":"1.5397"},{"$f":"(B614-B613)/Sheet3!$G$11","v":3.4430575407620947},{"$nulls":8},2.0259740259740524,9.480491460184556]
[{"$f":"A613+Sheet3!G$11","v":{"v":0.8831168831169158,"d":"0.88"}},{"v":1.5672518915221008,"d":"1.5673"},{"$f":"(B615-B614)/Sheet3!$G$11","v":3.469901679785863},{"$nulls":8},2.0339660339660606,9.633623570784826]
[{"$f":"A614+Sheet3!G$11","v":{"v":0.8911088911089238,"d":"0.89"}},{"v":1.5949833734784313,"d":"1.5950"},{"$f":"(B616-B615)/Sheet3!$G$11","v":3.498105703075663},{"$nulls":8},-2.8571428571428323,9.679716784671601]
[{"$f":"A615+Sheet3!G$11","v":{"v":0.8991008991009317,"d":"0.90"}},{"v":1.6229402622143008,"d":"1.6229"},{"$f":"(B617-B616)/Sheet3!$G$11","v":3.5276818618412467},{"$nulls":8},2.0419580419580687,9.78928785237796]
[{"$f":"A616+Sheet3!G$11","v":{"v":0.9070929070929397,"d":"0.91"}},{"v":1.6511335238473976,"d":"1.6511"},{"$f":"(B618-B617)/Sheet3!$G$11","v":3.558642407292367},{"$nulls":8},2.049950049950077,9.947509272464064]
[{"$f":"A617+Sheet3!G$11","v":{"v":0.9150849150849476,"d":"0.92"}},{"v":1.6795742224071768,"d":"1.6796"},{"$f":"(B619-B618)/Sheet3!$G$11","v":3.590999590638497},{"$nulls":8},2.057942057942085,10.108312896454997]
[{"$f":"A618+Sheet3!G$11","v":{"v":0.9230769230769555,"d":"0.92"}},{"v":1.708273519834857,"d":"1.7083"},{"$f":"(B620-B619)/Sheet3!$G$11","v":3.6247656630889997},{"$nulls":8},-2.8651348651348405,10.151846637201366]
[{"$f":"A619+Sheet3!G$11","v":{"v":0.9310689310689635,"d":"0.93"}},{"v":1.7372426759834205,"d":"1.7372"},{"$f":"(B621-B620)/Sheet3!$G$11","v":3.6599528758540174},{"$nulls":8},2.0659340659340932,10.271723887674375]
[{"$f":"A620+Sheet3!G$11","v":{"v":0.9390609390609714,"d":"0.94"}},{"v":1.7664930486176185,"d":"1.7665"},{"$f":"(B622-B621)/Sheet3!$G$11","v":3.69657348014269},{"$nulls":8},2.0739260739261014,10.437767507357595]
[{"$f":"A621+Sheet3!G$11","v":{"v":0.9470529470529794,"d":"0.95"}},{"v":1.7960360934139636,"d":"1.7960"},{"$f":"(B623-B622)/Sheet3!$G$11","v":3.7346397271649368},{"$nulls":8},2.0819180819181096,10.606469114651812]
[{"$f":"A622+Sheet3!G$11","v":{"v":0.9550449550449873,"d":"0.96"}},{"v":1.8258833639607364,"d":"1.8259"},{"$f":"(B624-B623)/Sheet3!$G$11","v":3.774163868129898},{"$nulls":8},-2.8731268731268487,10.629629696147603]
[{"$f":"A623+Sheet3!G$11","v":{"v":0.9630369630369953,"d":"0.96"}},{"v":1.8560465117579783,"d":"1.8560"},{"$f":"(B625-B624)/Sheet3!$G$11","v":3.815158154247715},{"$nulls":8},2.0899100899101177,10.777854166615946]
[{"$f":"A624+Sheet3!G$11","v":{"v":0.9710289710290032,"d":"0.97"}},{"v":1.8865372862175005,"d":"1.8865"},{"$f":"(B626-B625)/Sheet3!$G$11","v":3.8576348367278617},{"$nulls":8},2.097902097902126,10.951948218220684]
[{"$f":"A625+Sheet3!G$11","v":{"v":0.9790209790210112,"d":"0.98"}},{"v":1.917367534662878,"d":"1.9174"},{"$f":"(B627-B626)/Sheet3!$G$11","v":3.901606166779813},{"$nulls":8},-2.881118881118857,11.113101111833995]
[{"$f":"A626+Sheet3!G$11","v":{"v":0.9870129870130191,"d":"0.99"}},{"v":1.94854920232945,"d":"1.9485"},{"$f":"(B628-B627)/Sheet3!$G$11","v":3.947084395612987},{"$nulls":8},2.105894105894134,11.128776922348468]
[{"$f":"A627+Sheet3!G$11","v":{"v":0.995004995005027,"d":"1.00"}},{"v":1.980094332364319,"d":"1.9801"},{"$f":"(B629-B628)/Sheet3!$G$11","v":3.9940817744373587},{"$nulls":8},2.1138861138861422,11.308366029793518]
[{"$f":"A628+Sheet3!G$11","v":{"v":1.002997002997035,"d":"1.00"}},{"v":2.012015065826356,"d":"2.0120"},{"$f":"(B630-B629)/Sheet3!$G$11","v":4.042610554462624},{"$nulls":8},2.1218781218781504,11.490741389261817]
[{"$f":"A629+Sheet3!G$11","v":{"v":1.010989010989043,"d":"1.01"}},{"v":2.044323641686197,"d":"2.0443"},{"$f":"(B631-B630)/Sheet3!$G$11","v":4.092682986897812},{"$nulls":8},-2.889110889110865,11.602296132495951]
[{"$f":"A630+Sheet3!G$11","v":{"v":1.0189810189810509,"d":"1.02"}},{"v":2.0770323968262394,"d":"2.0770"},{"$f":"(B632-B631)/Sheet3!$G$11","v":4.14431132295301},{"$nulls":8},2.1298701298701586,11.67592894737111]
[{"$f":"A631+Sheet3!G$11","v":{"v":1.0269730269730588,"d":"1.03"}},{"v":2.110153766040649,"d":"2.1102"},{"$f":"(B633-B632)/Sheet3!$G$11","v":4.1975078138376904},{"$nulls":8},2.1378621378621667,11.863954748650908]
[{"$f":"A632+Sheet3!G$11","v":{"v":1.0349650349650668,"d":"1.03"}},{"v":2.143700282035356,"d":"2.1437"},{"$f":"(B634-B633)/Sheet3!$G$11","v":4.2522847107615505},{"$nulls":8},2.145854145854175,12.054844935542484]
[{"$f":"A633+Sheet3!G$11","v":{"v":1.0429570429570747,"d":"1.04"}},{"v":2.1776845754280556,"d":"2.1777"},{"$f":"(B635-B634)/Sheet3!$G$11","v":4.308654264933954},{"$nulls":8},-2.897102897102873,12.097250104280647]
[{"$f":"A634+Sheet3!G$11","v":{"v":1.0509490509490826,"d":"1.05"}},{"v":2.212119374748207,"d":"2.2121"},{"$f":"(B636-B635)/Sheet3!$G$11","v":4.366628727564707},{"$nulls":8},2.153846153846183,12.248625748398876]
[{"$f":"A635+Sheet3!G$11","v":{"v":1.0589410589410906,"d":"1.06"}},{"v":2.247017506437036,"d":"2.2470"},{"$f":"(B637-B636)/Sheet3!$G$11","v":4.426220349863285},{"$nulls":8},2.161838161838191,12.4453235254849]
[{"$f":"A636+Sheet3!G$11","v":{"v":1.0669330669330985,"d":"1.07"}},{"v":2.2823918948475317,"d":"2.2824"},{"$f":"(B638-B637)/Sheet3!$G$11","v":4.487441383039606},{"$nulls":8},-2.9050949050948813,12.597998471247084]
[{"$f":"A637+Sheet3!G$11","v":{"v":1.0749250749251065,"d":"1.07"}},{"v":2.3182555622444516,"d":"2.3183"},{"$f":"(B639-B638)/Sheet3!$G$11","v":4.550304078302812},{"$nulls":8},2.1698301698301994,12.644964702977116]
[{"$f":"A638+Sheet3!G$11","v":{"v":1.0829170829171144,"d":"1.08"}},{"v":2.3546216288043142,"d":"2.3546"},{"$f":"(B640-B639)/Sheet3!$G$11","v":4.614820686862709},{"$nulls":8},2.1778221778222075,12.847575814963868]
[{"$f":"A639+Sheet3!G$11","v":{"v":1.0909090909091224,"d":"1.09"}},{"v":2.391503312615405,"d":"2.3915"},{"$f":"(B641-B640)/Sheet3!$G$11","v":4.681003459928995},{"$nulls":8},2.1858141858142157,13.053183493445246]
[{"$f":"A640+Sheet3!G$11","v":{"v":1.0989010989011303,"d":"1.10"}},{"v":2.4289139296777744,"d":"2.4289"},{"$f":"(B642-B641)/Sheet3!$G$11","v":4.748864648711366},{"$nulls":8},-2.9130869130868895,13.104576775365949]
[{"$f":"A641+Sheet3!G$11","v":{"v":1.1068931068931382,"d":"1.11"}},{"v":2.46686689390324,"d":"2.4669"},{"$f":"(B643-B642)/Sheet3!$G$11","v":4.818416504419073},{"$nulls":8},2.193806193806224,13.26181446833313]
[{"$f":"A642+Sheet3!G$11","v":{"v":1.1148851148851462,"d":"1.11"}},{"$f":"x^4-3*x^2+6*x-2","v":{"v":2.5053757171153803,"d":"2.5054"}},{"$f":"(B644-B643)/Sheet3!$G$11","v":4.8896712782619245},{"$nulls":8},2.201798201798232,13.473495567451149]
[{"$f":"A643+Sheet3!G$11","v":{"v":1.1228771228771541,"d":"1.12"}},{"v":2.5444540090495416,"d":"2.5445"},{"$f":"(B645-B644)/Sheet3!$G$11","v":4.962641221449617},{"$nulls":8},-2.9210789210788977,13.617020656519752]
[{"$f":"A644+Sheet3!G$11","v":{"v":1.130869130869162,"d":"1.13"}},{"v":2.584115477352835,"d":"2.5841"},{"$f":"(B646-B645)/Sheet3!$G$11","v":5.037338585191625},{"$nulls":8},2.20979020979024,13.688253716534682]
[{"$f":"A645+Sheet3!G$11","v":{"v":1.13886113886117,"d":"1.14"}},{"v":2.624373927584137,"d":"2.6244"},{"$f":"(B647-B646)/Sheet3!$G$11","v":5.113775620697534},{"$nulls":8},2.2177822177822484,13.906115939230915]
[{"$f":"A646+Sheet3!G$11","v":{"v":1.146853146853178,"d":"1.15"}},{"v":2.665243263214087,"d":"2.6652"},{"$f":"(B648-B647)/Sheet3!$G$11","v":5.191964579177039},{"$nulls":8},2.2257742257742565,14.127109357098758]
[{"$f":"A647+Sheet3!G$11","v":{"v":1.154845154845186,"d":"1.15"}},{"v":2.7067374856250925,"d":"2.7067"},{"$f":"(B649-B648)/Sheet3!$G$11","v":5.271917711839617},{"$nulls":8},-2.929070929070906,14.135365852502751]
[{"$f":"A648+Sheet3!G$11","v":{"v":1.1628371628371938,"d":"1.16"}},{"v":2.7488706941113232,"d":"2.7489"},{"$f":"(B650-B649)/Sheet3!$G$11","v":5.353647269895183},{"$nulls":8},2.2337662337662647,14.351261189608913]
[{"$f":"A649+Sheet3!G$11","v":{"v":1.1708291708292018,"d":"1.17"}},{"v":2.7916570858787173,"d":"2.7917"},{"$f":"(B651-B650)/Sheet3!$G$11","v":5.4371655045529925},{"$nulls":8},2.241758241758273,14.578598754143822]
[{"$f":"A650+Sheet3!G$11","v":{"v":1.1788211788212097,"d":"1.18"}},{"v":2.835110956044975,"d":"2.8351"},{"$f":"(B652-B651)/Sheet3!$G$11","v":5.52248466702274},{"$nulls":8},-2.937062937062914,14.659648199020943]
[{"$f":"A651+Sheet3!G$11","v":{"v":1.1868131868132177,"d":"1.19"}},{"v":2.8792466976395623,"d":"2.8792"},{"$f":"(B653-B652)/Sheet3!$G$11","v":5.609617008514122},{"$nulls":8},2.249750249750281,14.809149465997717]
[{"$f":"A652+Sheet3!G$11","v":{"v":1.1948051948052256,"d":"1.19"}},{"v":2.924078801603711,"d":"2.9241"},{"$f":"(B654-B653)/Sheet3!$G$11","v":5.698574780236725},{"$nulls":8},2.257742257742289,15.042940838376586]
[{"$f":"A653+Sheet3!G$11","v":{"v":1.2027972027972336,"d":"1.20"}},{"v":2.9696218567904182,"d":"2.9696"},{"$f":"(B655-B654)/Sheet3!$G$11","v":5.789370233400023},{"$nulls":8},-2.945054945054922,15.189903629692115]
[{"$f":"A654+Sheet3!G$11","v":{"v":1.2107892107892415,"d":"1.21"}},{"v":3.0158905499644444,"d":"3.0159"},{"$f":"(B656-B655)/Sheet3!$G$11","v":5.882015619213822},{"$nulls":8},2.2657342657342974,15.28000048239818]
[{"$f":"A655+Sheet3!G$11","v":{"v":1.2187812187812495,"d":"1.22"}},{"v":3.062899665802317,"d":"3.0629"},{"$f":"(B657-B656)/Sheet3!$G$11","v":5.976523188887487},{"$nulls":8},2.2737262737263055,15.520356107092013]
[{"$f":"A656+Sheet3!G$11","v":{"v":1.2267732267732574,"d":"1.23"}},{"v":3.110664086892327,"d":"3.1107"},{"$f":"(B658-B657)/Sheet3!$G$11","v":6.072905193631159},{"$nulls":8},-2.9530469530469303,15.72616817604581]
[{"$f":"A657+Sheet3!G$11","v":{"v":1.2347652347652653,"d":"1.23"}},{"v":3.159198793734534,"d":"3.1592"},{"$f":"(B659-B658)/Sheet3!$G$11","v":6.171173884653533},{"$nulls":8},2.2817182817183137,15.764035519399364]
[{"$f":"A658+Sheet3!G$11","v":{"v":1.2427572427572733,"d":"1.24"}},{"v":3.208518864740756,"d":"3.2085"},{"$f":"(B660-B659)/Sheet3!$G$11","v":6.271341513164862},{"$nulls":8},2.289710289710322,16.01106662417329]
[{"$f":"A659+Sheet3!G$11","v":{"v":1.2507492507492812,"d":"1.25"}},{"v":3.258639476234581,"d":"3.2586"},{"$f":"(B661-B660)/Sheet3!$G$11","v":6.373420330374731},{"$nulls":8},2.29770229770233,16.261477424178594]
[{"$f":"A660+Sheet3!G$11","v":{"v":1.2587412587412892,"d":"1.26"}},{"v":3.3095759024513622,"d":"3.3096"},{"$f":"(B662-B661)/Sheet3!$G$11","v":6.477422587492838},{"$nulls":8},-2.9610389610389385,16.268477967523367]
[{"$f":"A661+Sheet3!G$11","v":{"v":1.2667332667332971,"d":"1.27"}},{"v":3.361343515538218,"d":"3.3613"},{"$f":"(B663-B662)/Sheet3!$G$11","v":6.583360535728099},{"$nulls":8},2.305694305694338,16.515296020091856]
[{"$f":"A662+Sheet3!G$11","v":{"v":1.274725274725305,"d":"1.27"}},{"v":3.413957785554027,"d":"3.4140"},{"$f":"(B664-B663)/Sheet3!$G$11","v":6.691246426291102},{"$nulls":8},2.3136863136863464,16.772550610501415]
[{"$f":"A663+Sheet3!G$11","v":{"v":1.282717282717313,"d":"1.28"}},{"v":3.4674342804694405,"d":"3.4674"},{"$f":"(B665-B664)/Sheet3!$G$11","v":6.80109251039043},{"$nulls":8},-2.9690309690309467,16.81686923147785]
[{"$f":"A664+Sheet3!G$11","v":{"v":1.290709290709321,"d":"1.29"}},{"v":3.5217886661668665,"d":"3.5218"},{"$f":"(B666-B665)/Sheet3!$G$11","v":6.91291103923678},{"$nulls":8},2.3216783216783545,17.03326949190739]
[{"$f":"A665+Sheet3!G$11","v":{"v":1.2987012987013289,"d":"1.30"}},{"v":3.577036706440487,"d":"3.5770"},{"$f":"(B667-B666)/Sheet3!$G$11","v":7.026714264038739},{"$nulls":8},2.3296703296703627,17.297481058721644]
[{"$f":"A666+Sheet3!G$11","v":{"v":1.3066933066933368,"d":"1.31"}},{"v":3.6331942629962413,"d":"3.6332"},{"$f":"(B668-B667)/Sheet3!$G$11","v":7.142514436006558},{"$nulls":8},-2.977022977022955,17.371378293174118]
[{"$f":"A667+Sheet3!G$11","v":{"v":1.3146853146853448,"d":"1.31"}},{"v":3.690277295451838,"d":"3.6903"},{"$f":"(B669-B668)/Sheet3!$G$11","v":7.26032380634949},{"$nulls":8},2.337662337662371,17.56521380326781]
[{"$f":"A668+Sheet3!G$11","v":{"v":1.3226773226773527,"d":"1.32"}},{"v":3.748301861336749,"d":"3.7483"},{"$f":"(B670-B669)/Sheet3!$G$11","v":7.380154626277562},{"$nulls":8},2.345654345654379,17.8364963157813]
[{"$f":"A669+Sheet3!G$11","v":{"v":1.3306693306693607,"d":"1.33"}},{"v":3.807284116092214,"d":"3.8073"},{"$f":"(B671-B670)/Sheet3!$G$11","v":7.502019147000141},{"$nulls":8},-2.985014985014963,17.932041575788734]
[{"$f":"A670+Sheet3!G$11","v":{"v":1.3386613386613686,"d":"1.34"}},{"v":3.8672403130712363,"d":"3.8672"},{"$f":"(B672-B671)/Sheet3!$G$11","v":7.625929619726365},{"$nulls":8},2.353646353646387,18.11135728440928]
[{"$f":"A671+Sheet3!G$11","v":{"v":1.3466533466533765,"d":"1.35"}},{"v":3.92818680353858,"d":"3.9282"},{"$f":"(B673-B672)/Sheet3!$G$11","v":7.751898295666598},{"$nulls":8},2.3616383616383954,18.38982549521068]
[{"$f":"A672+Sheet3!G$11","v":{"v":1.3546453546453845,"d":"1.35"}},{"v":3.9901400366707804,"d":"3.9901"},{"$f":"(B674-B673)/Sheet3!$G$11","v":7.879937426030092},{"$nulls":8},-2.993006993006971,18.49889560041011]
[{"$f":"A673+Sheet3!G$11","v":{"v":1.3626373626373924,"d":"1.36"}},{"v":4.053116559556136,"d":"4.0531"},{"$f":"(B675-B674)/Sheet3!$G$11","v":8.010059262026655},{"$nulls":8},2.3696303696304035,18.671929832156202]
[{"$f":"A674+Sheet3!G$11","v":{"v":1.3706293706294004,"d":"1.37"}},{"v":4.1171330171947105,"d":"4.1171"},{"$f":"(B676-B675)/Sheet3!$G$11","v":8.142276054865317},{"$nulls":8},2.3776223776224117,18.9576992771283]
[{"$f":"A675+Sheet3!G$11","v":{"v":1.3786213786214083,"d":"1.38"}},{"v":4.182206152498329,"d":"4.1822"},{"$f":"(B677-B676)/Sheet3!$G$11","v":8.276600055756328},{"$nulls":8},-3.0009990009989793,19.071976986038386]
[{"$f":"A676+Sheet3!G$11","v":{"v":1.3866133866134163,"d":"1.39"}},{"v":4.248352806290588,"d":"4.2484"},{"$f":"(B678-B677)/Sheet3!$G$11","v":8.413043515909166},{"$nulls":8},2.38561438561442,19.247162909921208]
[{"$f":"A677+Sheet3!G$11","v":{"v":1.3946053946054242,"d":"1.39"}},{"v":4.315589917306845,"d":"4.3156"},{"$f":"(B679-B678)/Sheet3!$G$11","v":8.551618686533303},{"$nulls":8},2.393606393606428,19.540349908240927]
[{"$f":"A678+Sheet3!G$11","v":{"v":1.4025974025974322,"d":"1.40"}},{"v":4.383934522194224,"d":"4.3839"},{"$f":"(B680-B679)/Sheet3!$G$11","v":8.692337818838322},{"$nulls":8},-3.0089910089909875,19.65132244958544]
[{"$f":"A679+Sheet3!G$11","v":{"v":1.41058941058944,"d":"1.41"}},{"v":4.453403755511613,"d":"4.4534"},{"$f":"(B681-B680)/Sheet3!$G$11","v":8.83521316403348},{"$nulls":8},2.401598401598436,19.837289547705193]
[{"$f":"A680+Sheet3!G$11","v":{"v":1.418581418581448,"d":"1.42"}},{"v":4.524014849729663,"d":"4.5240"},{"$f":"(B682-B681)/Sheet3!$G$11","v":8.98025697332936},{"$nulls":8},2.4095904095904443,20.138011201843554]
[{"$f":"A681+Sheet3!G$11","v":{"v":1.426573426573456,"d":"1.43"}},{"v":4.595785135230797,"d":"4.5958"},{"$f":"(B683-B682)/Sheet3!$G$11","v":9.127481497934767},{"$nulls":8},-3.0169830169829956,20.236968805874966]
[{"$f":"A682+Sheet3!G$11","v":{"v":1.434565434565464,"d":"1.43"}},{"v":4.668732040309196,"d":"4.6687"},{"$f":"(B684-B683)/Sheet3!$G$11","v":9.27689898905929},{"$nulls":8},2.4175824175824525,20.442544342097285]
[{"$f":"A683+Sheet3!G$11","v":{"v":1.4425574425574719,"d":"1.44"}},{"v":4.742873091170809,"d":"4.7429"},{"$f":"(B685-B684)/Sheet3!$G$11","v":9.428521697913181},{"$nulls":8},2.4255744255744607,20.75091853781944]
[{"$f":"A684+Sheet3!G$11","v":{"v":1.4505494505494798,"d":"1.45"}},{"v":4.818225911933352,"d":"4.8182"},{"$f":"(B686-B685)/Sheet3!$G$11","v":9.582361875705358},{"$nulls":8},-3.024975024975004,20.828952967642394]
[{"$f":"A685+Sheet3!G$11","v":{"v":1.4585414585414878,"d":"1.46"}},{"v":4.894808224626302,"d":"4.8948"},{"$f":"(B687-B686)/Sheet3!$G$11","v":9.73843177364596},{"$nulls":8},2.433566433566469,21.063163456274843]
[{"$f":"A686+Sheet3!G$11","v":{"v":1.4665334665334957,"d":"1.47"}},{"v":4.972637849190905,"d":"4.9726"},{"$f":"(B688-B687)/Sheet3!$G$11","v":9.896743642944129},{"$nulls":8},2.441558441558477,21.379308862640066]
[{"$f":"A687+Sheet3!G$11","v":{"v":1.4745254745255036,"d":"1.47"}},{"v":5.051732703480169,"d":"5.0517"},{"$f":"(B689-B688)/Sheet3!$G$11","v":10.057309734809452},{"$nulls":8},-3.032967032967012,21.427311945534914]
[{"$f":"A688+Sheet3!G$11","v":{"v":1.4825174825175116,"d":"1.48"}},{"v":5.132110803258866,"d":"5.1321"},{"$f":"(B690-B689)/Sheet3!$G$11","v":10.22014230045207},{"$nulls":8},2.449550449550485,21.69938462000347]
[{"$f":"A689+Sheet3!G$11","v":{"v":1.4905094905095195,"d":"1.49"}},{"v":5.2137902622035375,"d":"5.2138"},{"$f":"(B691-B690)/Sheet3!$G$11","v":10.385253591081343},{"$nulls":8},2.4575424575424933,22.023420689365164]
[{"$f":"A690+Sheet3!G$11","v":{"v":1.4985014985015275,"d":"1.50"}},{"v":5.296789291902489,"d":"5.2968"},{"$f":"(B692-B691)/Sheet3!$G$11","v":10.552655857906414},{"$nulls":8},-3.04095904095902,22.032082848111514]
[{"$f":"A691+Sheet3!G$11","v":{"v":1.5064935064935354,"d":"1.51"}},{"v":5.381126201855787,"d":"5.3811"},{"$f":"(B693-B692)/Sheet3!$G$11","v":10.722361352137868},{"$nulls":8},2.4655344655345015,22.35144712963703]
[{"$f":"A692+Sheet3!G$11","v":{"v":1.5144855144855434,"d":"1.51"}},{"v":5.466819399475271,"d":"5.4668"},{"$f":"(B694-B693)/Sheet3!$G$11","v":10.894382324984292},{"$nulls":8},-3.0489510489510283,22.64330288184288]
[{"$f":"A693+Sheet3!G$11","v":{"v":1.5224775224775513,"d":"1.52"}},{"v":5.553887390084536,"d":"5.5539"},{"$f":"(B695-B694)/Sheet3!$G$11","v":11.068731027655824},{"$nulls":8},2.4735264735265097,22.683494097642697]
[{"$f":"A694+Sheet3!G$11","v":{"v":1.5304695304695592,"d":"1.53"}},{"v":5.642348776918948,"d":"5.6423"},{"$f":"(B696-B695)/Sheet3!$G$11","v":11.245419711362052},{"$nulls":8},2.481518481518518,23.019591848117592]
[{"$f":"A695+Sheet3!G$11","v":{"v":1.5384615384615672,"d":"1.54"}},{"v":5.732222261125638,"d":"5.7322"},{"$f":"(B697-B696)/Sheet3!$G$11","v":11.424460627312115},{"$nulls":8},-3.0569430569430365,23.261009351111554]
[{"$f":"A696+Sheet3!G$11","v":{"v":1.5464535464535751,"d":"1.55"}},{"v":5.823526641763497,"d":"5.8235"},{"$f":"(B698-B697)/Sheet3!$G$11","v":11.60586602671649},{"$nulls":8},2.489510489510526,23.35977073370889]
[{"$f":"A697+Sheet3!G$11","v":{"v":1.554445554445583,"d":"1.55"}},{"v":5.916280815803189,"d":"5.9163"},{"$f":"(B699-B698)/Sheet3!$G$11","v":11.789648160784092},{"$nulls":8},2.497502497502534,23.70406120497551]
[{"$f":"A698+Sheet3!G$11","v":{"v":1.562437562437591,"d":"1.56"}},{"v":6.010503778127138,"d":"6.0105"},{"$f":"(B700-B699)/Sheet3!$G$11","v":11.97581928072473},{"$nulls":8},-3.0649350649350446,23.885239658211752]
[{"$f":"A699+Sheet3!G$11","v":{"v":1.570429570429599,"d":"1.57"}},{"v":6.106214621529533,"d":"6.1062"},{"$f":"(B701-B700)/Sheet3!$G$11","v":12.164391637748102},{"$nulls":8},2.5054945054945423,24.052493810388178]
[{"$f":"A700+Sheet3!G$11","v":{"v":1.578421578421607,"d":"1.58"}},{"v":6.203432536716331,"d":"6.2034"},{"$f":"(B702-B701)/Sheet3!$G$11","v":12.35537748306368},{"$nulls":8},2.5134865134865505,24.405099196329353]
[{"$f":"A701+Sheet3!G$11","v":{"v":1.5864135864136149,"d":"1.59"}},{"v":6.302176812305252,"d":"6.3022"},{"$f":"(B703-B702)/Sheet3!$G$11","v":12.548789067881161},{"$nulls":8},-3.072927072927053,24.516031303349532]
[{"$f":"A702+Sheet3!G$11","v":{"v":1.5944055944056228,"d":"1.59"}},{"v":6.4024668348257805,"d":"6.4025"},{"$f":"(B704-B703)/Sheet3!$G$11","v":12.744638643409578},{"$nulls":8},2.5214785214785587,24.761908107093266]
[{"$f":"A703+Sheet3!G$11","v":{"v":1.6023976023976307,"d":"1.60"}},{"v":6.504322088719164,"d":"6.5043"},{"$f":"(B705-B704)/Sheet3!$G$11","v":12.942938460859734},{"$nulls":8},2.529470529470567,25.12295138488592]
[{"$f":"A704+Sheet3!G$11","v":{"v":1.6103896103896387,"d":"1.61"}},{"v":6.607762156338422,"d":"6.6078"},{"$f":"(B706-B705)/Sheet3!$G$11","v":13.14370077144044},{"$nulls":8},-3.080919080919061,25.15342188464266]
[{"$f":"A705+Sheet3!G$11","v":{"v":1.6183816183816466,"d":"1.62"}},{"v":6.712806717948336,"d":"6.7128"},{"$f":"(B707-B706)/Sheet3!$G$11","v":13.346937826360945},{"$nulls":8},2.537462537462575,25.488259969825087]
[{"$f":"A706+Sheet3!G$11","v":{"v":1.6263736263736546,"d":"1.63"}},{"$f":"x^4-3*x^2+6*x-2","v":{"v":6.819475551725446,"d":"6.8195"}},{"$f":"(B708-B707)/Sheet3!$G$11","v":13.552661876831838},{"$nulls":8},-3.088911088911069,25.797449098120737]
[{"$f":"A707+Sheet3!G$11","v":{"v":1.6343656343656625,"d":"1.63"}},{"v":6.9277885337580685,"d":"6.9278"},{"$f":"(B709-B708)/Sheet3!$G$11","v":13.760885174062144},{"$nulls":8},2.545454545454583,25.85786489994028]
[{"$f":"A708+Sheet3!G$11","v":{"v":1.6423576423576705,"d":"1.64"}},{"v":7.037765638046277,"d":"7.0378"},{"$f":"(B710-B709)/Sheet3!$G$11","v":13.971619969261342},{"$nulls":8},2.5534465534465913,26.23179731117281]
[{"$f":"A709+Sheet3!G$11","v":{"v":1.6503496503496784,"d":"1.65"}},{"v":7.1494269365019125,"d":"7.1494"},{"$f":"(B711-B710)/Sheet3!$G$11","v":14.184878513639127},{"$nulls":8},-3.0969030969030773,26.44815073772502]
[{"$f":"A710+Sheet3!G$11","v":{"v":1.6583416583416863,"d":"1.66"}},{"v":7.262792598948579,"d":"7.2628"},{"$f":"(B712-B711)/Sheet3!$G$11","v":14.400673058406083},{"$nulls":8},2.5614385614385995,26.61008843737573]
[{"$f":"A711+Sheet3!G$11","v":{"v":1.6663336663336943,"d":"1.67"}},{"v":7.3778828931216545,"d":"7.3779"},{"$f":"(B713-B712)/Sheet3!$G$11","v":14.619015854769463},{"$nulls":8},2.5694305694306077,26.992769610313868]
[{"$f":"A712+Sheet3!G$11","v":{"v":1.6743256743257022,"d":"1.67"}},{"v":7.494718184668264,"d":"7.4947"},{"$f":"(B714-B713)/Sheet3!$G$11","v":14.839919153941631},{"$nulls":8},-3.1048951048950855,27.10556469530861]
[{"$f":"A713+Sheet3!G$11","v":{"v":1.6823176823177102,"d":"1.68"}},{"v":7.6133189371473176,"d":"7.6133"},{"$f":"(B715-B714)/Sheet3!$G$11","v":15.063395207130283},{"$nulls":8},2.577422577422616,27.37987225966379]
[{"$f":"A714+Sheet3!G$11","v":{"v":1.6903096903097181,"d":"1.69"}},{"v":7.733705712029478,"d":"7.7337"},{"$f":"(B716-B715)/Sheet3!$G$11","v":15.289456265545558},{"$nulls":8},-3.1128871128870936,27.769728960636396]
[{"$f":"A715+Sheet3!G$11","v":{"v":1.698301698301726,"d":"1.70"}},{"v":7.855899168697174,"d":"7.8559"},{"$f":"(B717-B716)/Sheet3!$G$11","v":15.518114580397821},{"$nulls":8},2.585414585414624,27.771427913013888]
[{"$f":"A716+Sheet3!G$11","v":{"v":1.706293706293734,"d":"1.71"}},{"v":7.9799200644446096,"d":"7.9799"},{"$f":"(B718-B717)/Sheet3!$G$11","v":15.749382402895435},{"$nulls":8},2.593406593406632,28.16746819586427]
[{"$f":"A717+Sheet3!G$11","v":{"v":1.714285714285742,"d":"1.71"}},{"v":8.10578925447774,"d":"8.1058"},{"$f":"(B719-B718)/Sheet3!$G$11","v":15.983271984248987},{"$nulls":8},-3.120879120879102,28.44068162138494]
[{"$f":"A718+Sheet3!G$11","v":{"v":1.72227772227775,"d":"1.72"}},{"v":8.233527691914295,"d":"8.2335"},{"$f":"(B720-B719)/Sheet3!$G$11","v":16.219795575667057},{"$nulls":8},2.6013986013986403,28.5680248316268]
[{"$f":"A719+Sheet3!G$11","v":{"v":1.7302697302697578,"d":"1.73"}},{"v":8.363156427783762,"d":"8.3632"},{"$f":"(B721-B720)/Sheet3!$G$11","v":16.458965428360237},{"$nulls":8},2.6093906093906485,28.973129641625164]
[{"$f":"A720+Sheet3!G$11","v":{"v":1.7382617382617658,"d":"1.74"}},{"v":8.4946966110274,"d":"8.4947"},{"$f":"(B722-B721)/Sheet3!$G$11","v":16.700793793538217},{"$nulls":8},-3.12887112887111,29.118460863142673]
[{"$f":"A721+Sheet3!G$11","v":{"v":1.7462537462537737,"d":"1.75"}},{"v":8.628169488498235,"d":"8.6282"},{"$f":"(B723-B722)/Sheet3!$G$11","v":16.94529292240937},{"$nulls":8},2.6173826173826567,29.382814545094742]
[{"$f":"A722+Sheet3!G$11","v":{"v":1.7542457542457817,"d":"1.75"}},{"v":8.763596404961048,"d":"8.7636"},{"$f":"(B724-B723)/Sheet3!$G$11","v":17.19247506618427},{"$nulls":8},2.625374625374665,29.79711155918273]
[{"$f":"A723+Sheet3!G$11","v":{"v":1.7622377622377896,"d":"1.76"}},{"v":8.90099880309239,"d":"8.9010"},{"$f":"(B725-B724)/Sheet3!$G$11","v":17.44235247607284},{"$nulls":8},-3.136863136863118,29.8031049694097]
[{"$f":"A724+Sheet3!G$11","v":{"v":1.7702297702297976,"d":"1.77"}},{"v":9.040398223480585,"d":"9.0404"},{"$f":"(B726-B725)/Sheet3!$G$11","v":17.69493740328389},{"$nulls":8},2.633366633366673,30.216052798948088]
[{"$f":"A725+Sheet3!G$11","v":{"v":1.7782217782218055,"d":"1.78"}},{"v":9.18181630462571,"d":"9.1818"},{"$f":"(B727-B726)/Sheet3!$G$11","v":17.950242099027115},{"$nulls":8},-3.1448551448551263,30.494652321597968]
[{"$f":"A726+Sheet3!G$11","v":{"v":1.7862137862138134,"d":"1.79"}},{"v":9.325274782939614,"d":"9.3253"},{"$f":"(B728-B727)/Sheet3!$G$11","v":18.208278814512433},{"$nulls":8},2.641358641358681,30.63967047736149]
[{"$f":"A727+Sheet3!G$11","v":{"v":1.7942057942058214,"d":"1.79"}},{"v":9.470795492745907,"d":"9.4708"},{"$f":"(B729-B728)/Sheet3!$G$11","v":18.469059800949317},{"$nulls":8},2.6493506493506893,31.06799690530545]
[{"$f":"A728+Sheet3!G$11","v":{"v":1.8021978021978293,"d":"1.80"}},{"v":9.618400366279968,"d":"9.6184"},{"$f":"(B730-B729)/Sheet3!$G$11","v":18.732597309547693},{"$nulls":8},-3.1528471528471345,31.1931413990311]
[{"$f":"A729+Sheet3!G$11","v":{"v":1.8101898101898373,"d":"1.81"}},{"v":9.76811143368894,"d":"9.7681"},{"$f":"(B731-B730)/Sheet3!$G$11","v":18.9989035915168},{"$nulls":8},2.6573426573426975,31.501064491574194]
[{"$f":"A730+Sheet3!G$11","v":{"v":1.8181818181818452,"d":"1.82"}},{"v":9.919950823031732,"d":"9.9200"},{"$f":"(B732-B731)/Sheet3!$G$11","v":19.26799089806568},{"$nulls":8},-3.1608391608391426,31.898610778944583]
[{"$f":"A731+Sheet3!G$11","v":{"v":1.8261738261738532,"d":"1.83"}},{"v":10.07394076027901,"d":"10.0739"},{"$f":"(B733-B732)/Sheet3!$G$11","v":19.539871480405356},{"$nulls":8},2.6653346653347056,31.938905742873715]
[{"$f":"A732+Sheet3!G$11","v":{"v":1.834165834165861,"d":"1.83"}},{"v":10.230103569313219,"d":"10.2301"},{"$f":"(B734-B733)/Sheet3!$G$11","v":19.814557589744197},{"$nulls":8},2.673326673326714,32.3815532638218]
[{"$f":"A733+Sheet3!G$11","v":{"v":1.842157842157869,"d":"1.84"}},{"v":10.388461671928557,"d":"10.3885"},{"$f":"(B735-B734)/Sheet3!$G$11","v":20.092061477292557},{"$nulls":8},-3.168831168831151,32.61109913648561]
[{"$f":"A734+Sheet3!G$11","v":{"v":1.850149850149877,"d":"1.85"}},{"v":10.549037587830995,"d":"10.5490"},{"$f":"(B736-B735)/Sheet3!$G$11","v":20.372395394259474},{"$nulls":8},2.681318681318722,32.82903975694798]
[{"$f":"A735+Sheet3!G$11","v":{"v":1.858141858141885,"d":"1.86"}},{"v":10.711853934638263,"d":"10.7119"},{"$f":"(B737-B736)/Sheet3!$G$11","v":20.655571591854642},{"$nulls":8},2.68931068931073,33.281398022693544]
[{"$f":"A736+Sheet3!G$11","v":{"v":1.8661338661338929,"d":"1.87"}},{"v":10.876933427879859,"d":"10.8769"},{"$f":"(B738-B737)/Sheet3!$G$11","v":20.941602321288425},{"$nulls":8},-3.176823176823159,33.33064524471314]
[{"$f":"A737+Sheet3!G$11","v":{"v":1.8741258741259008,"d":"1.87"}},{"v":11.044298880997049,"d":"11.0443"},{"$f":"(B739-B738)/Sheet3!$G$11","v":21.230499833769848},{"$nulls":8},2.6973026973027383,33.73866095941159]
[{"$f":"A738+Sheet3!G$11","v":{"v":1.8821178821179088,"d":"1.88"}},{"v":11.213973205342862,"d":"11.2140"},{"$f":"(B740-B739)/Sheet3!$G$11","v":21.522276380507503},{"$nulls":8},-3.184815184815167,34.05728797459794]
[{"$f":"A739+Sheet3!G$11","v":{"v":1.8901098901099167,"d":"1.89"}},{"v":11.385979410182083,"d":"11.3860"},{"$f":"(B741-B740)/Sheet3!$G$11","v":21.816944212713306},{"$nulls":8},2.7052947052947465,34.200861563366914]
[{"$f":"A740+Sheet3!G$11","v":{"v":1.8981018981019246,"d":"1.90"}},{"v":11.56034060269128,"d":"11.5603"},{"$f":"(B742-B741)/Sheet3!$G$11","v":22.114515581594727},{"$nulls":8},2.7132867132867546,34.668032928736125]
[{"$f":"A741+Sheet3!G$11","v":{"v":1.9060939060939326,"d":"1.91"}},{"v":11.73707998795877,"d":"11.7371"},{"$f":"(B743-B742)/Sheet3!$G$11","v":22.415002738362805},{"$nulls":8},-3.1928071928071753,34.79106629502246]
[{"$f":"A742+Sheet3!G$11","v":{"v":1.9140859140859405,"d":"1.91"}},{"v":11.916220868984647,"d":"11.9162"},{"$f":"(B744-B743)/Sheet3!$G$11","v":22.718417934226117},{"$nulls":8},2.721278721278763,35.140208247607575]
[{"$f":"A743+Sheet3!G$11","v":{"v":1.9220779220779485,"d":"1.92"}},{"v":12.09778664668076,"d":"12.0978"},{"$f":"(B745-B744)/Sheet3!$G$11","v":23.024773420394364},{"$nulls":8},-3.2007992007991835,35.532019272781014]
[{"$f":"A744+Sheet3!G$11","v":{"v":1.9300699300699564,"d":"1.93"}},{"v":12.281800819870725,"d":"12.2818"},{"$f":"(B746-B745)/Sheet3!$G$11","v":23.33408144807835},{"$nulls":8},2.729270729270771,35.617420809981425]
[{"$f":"A745+Sheet3!G$11","v":{"v":1.9380619380619644,"d":"1.94"}},{"v":12.468286985289932,"d":"12.4683"},{"$f":"(B747-B746)/Sheet3!$G$11","v":23.64635426848622},{"$nulls":8},2.737262737262779,36.09970400376953]
[{"$f":"A746+Sheet3!G$11","v":{"v":1.9460539460539723,"d":"1.95"}},{"v":12.657268837585526,"d":"12.6573"},{"$f":"(B748-B747)/Sheet3!$G$11","v":23.96160413282856},{"$nulls":8},-3.2087912087911916,36.2801860725796]
[{"$f":"A747+Sheet3!G$11","v":{"v":1.9540459540459802,"d":"1.95"}},{"v":12.848770169316424,"d":"12.8488"},{"$f":"(B749-B748)/Sheet3!$G$11","v":24.27984329231417},{"$nulls":8},2.7452547452547873,36.58709131479556]
[{"$f":"A748+Sheet3!G$11","v":{"v":1.9620379620379882,"d":"1.96"}},{"v":13.0428148709533,"d":"13.0428"},{"$f":"(B750-B749)/Sheet3!$G$11","v":24.60108399815342},{"$nulls":8},-3.2167832167832,37.03560595703603]
[{"$f":"A749+Sheet3!G$11","v":{"v":1.9700299700299961,"d":"1.97"}},{"v":13.239426930878603,"d":"13.2394"},{"$f":"(B751-B750)/Sheet3!$G$11","v":24.92533850155556},{"$nulls":8},2.7532467532467955,37.07961632679494]
[{"$f":"A750+Sheet3!G$11","v":{"v":1.978021978022004,"d":"1.98"}},{"v":13.43863043538654,"d":"13.4386"},{"$f":"(B752-B751)/Sheet3!$G$11","v":25.252619053729845},{"$nulls":8},2.7612387612388036,37.577312721414856]
[{"$f":"A751+Sheet3!G$11","v":{"v":1.986013986014012,"d":"1.99"}},{"v":13.640449568683081,"d":"13.6404"},{"$f":"(B753-B752)/Sheet3!$G$11","v":25.582937905886634},{"$nulls":8},-3.224775224775208,37.79831828667986]
[{"$f":"A752+Sheet3!G$11","v":{"v":1.99400599400602,"d":"1.99"}},{"v":13.844908612885972,"d":"13.8449"},{"$f":"(B754-B753)/Sheet3!$G$11","v":25.91630730923496},{"$nulls":8},2.769230769230812,38.080214278214235]
[{"$f":"A753+Sheet3!G$11","v":{"v":2.001998001998028,"d":"2.00"}},{"v":14.052031948024712,"d":"14.0520"},{"$f":"(B755-B754)/Sheet3!$G$11","v":26.252739514985404},{"$nulls":8},-3.232767232767216,38.56836251995243]
[{"$f":"A754+Sheet3!G$11","v":{"v":2.009990009990036,"d":"2.01"}},{"v":14.26184405204058,"d":"14.2618"},{"$f":"(B756-B755)/Sheet3!$G$11","v":26.592246774346332},{"$nulls":8},2.77722277722282,38.58835487466383]
[{"$f":"A755+Sheet3!G$11","v":{"v":2.0179820179820442,"d":"2.02"}},{"v":14.474369500786604,"d":"14.4744"},{"$f":"(B757-B756)/Sheet3!$G$11","v":26.934841338526777},{"$nulls":8},2.785214785214828,39.10176848614611]
[{"$f":"A756+Sheet3!G$11","v":{"v":2.0259740259740524,"d":"2.03"}},{"v":14.689632968027578,"d":"14.6896"},{"$f":"(B758-B757)/Sheet3!$G$11","v":27.280535458739095},{"$nulls":8},-3.2407592407592243,39.34577821320681]
[{"$f":"A757+Sheet3!G$11","v":{"v":2.0339660339660606,"d":"2.03"}},{"v":14.907659225440078,"d":"14.9077"},{"$f":"(B759-B758)/Sheet3!$G$11","v":27.62934138618943},{"$nulls":8},2.7932067932068363,39.6204891859553]
[{"$f":"A758+Sheet3!G$11","v":{"v":2.0419580419580687,"d":"2.04"}},{"v":15.128473142612421,"d":"15.1285"},{"$f":"(B760-B759)/Sheet3!$G$11","v":27.98127137209015},{"$nulls":8},-3.2487512487512324,40.13060502070789]
[{"$f":"A759+Sheet3!G$11","v":{"v":2.049950049950077,"d":"2.05"}},{"v":15.35209968704471,"d":"15.3521"},{"$f":"(B761-B760)/Sheet3!$G$11","v":28.336337667649612},{"$nulls":8},2.8011988011988445,40.144551145297456]
[{"$f":"A760+Sheet3!G$11","v":{"v":2.057942057942085,"d":"2.06"}},{"v":15.578563924148803,"d":"15.5786"},{"$f":"(B762-B761)/Sheet3!$G$11","v":28.694552524077515},{"$nulls":8},2.8091908091908526,40.67398863329032]
[{"$f":"A761+Sheet3!G$11","v":{"v":2.0659340659340932,"d":"2.07"}},{"v":15.807891017248323,"d":"15.8079"},{"$f":"(B763-B762)/Sheet3!$G$11","v":29.055928192583554},{"$nulls":8},-3.2567432567432406,40.92288269463224]
[{"$f":"A762+Sheet3!G$11","v":{"v":2.0739260739261014,"d":"2.07"}},{"v":16.04010622757866,"d":"16.0401"},{"$f":"(B764-B763)/Sheet3!$G$11","v":29.42047692437743},{"$nulls":8},2.817182817182861,41.20883601696343]
[{"$f":"A763+Sheet3!G$11","v":{"v":2.0819180819181096,"d":"2.08"}},{"v":16.275234914286973,"d":"16.2752"},{"$f":"(B765-B764)/Sheet3!$G$11","v":29.788210970668832},{"$nulls":8},-3.2647352647352488,41.72265108506828]
[{"$f":"A764+Sheet3!G$11","v":{"v":2.0899100899101177,"d":"2.09"}},{"v":16.513302534432178,"d":"16.5133"},{"$f":"(B766-B765)/Sheet3!$G$11","v":30.15914258266746},{"$nulls":8},2.825174825174869,41.74912776125812]
[{"$f":"A765+Sheet3!G$11","v":{"v":2.097902097902126,"d":"2.10"}},{"v":16.754334642984965,"d":"16.7543"},{"$f":"(B767-B766)/Sheet3!$G$11","v":30.533284011581678},{"$nulls":8},2.833166833166877,42.29489842902744]
[{"$f":"A766+Sheet3!G$11","v":{"v":2.105894105894134,"d":"2.11"}},{"v":16.998356892827776,"d":"16.9984"},{"$f":"(B768-B767)/Sheet3!$G$11","v":30.910647508622517},{"$nulls":8},-3.272727272727257,42.52995014001616]
[{"$f":"A767+Sheet3!G$11","v":{"v":2.1138861138861422,"d":"2.11"}},{"v":17.24539503475483,"d":"17.2454"},{"$f":"(B769-B768)/Sheet3!$G$11","v":31.291245325000116},{"$nulls":8},2.8411588411588853,42.84618268103627]
[{"$f":"A768+Sheet3!G$11","v":{"v":2.1218781218781504,"d":"2.12"}},{"v":17.495474917472112,"d":"17.4955"},{"$f":"(B770-B769)/Sheet3!$G$11","v":31.675089711922396},{"$nulls":8},-3.280719280719265,43.34481990538781]
[{"$f":"A769+Sheet3!G$11","v":{"v":2.1298701298701586,"d":"2.13"}},{"v":17.748622487597366,"d":"17.7486"},{"$f":"(B771-B770)/Sheet3!$G$11","v":32.062192920599045},{"$nulls":8},2.8491508491508934,43.40301527596115]
[{"$f":"A770+Sheet3!G$11","v":{"v":2.1378621378621667,"d":"2.14"}},{"$f":"x^4-3*x^2+6*x-2","v":{"v":18.004863789660096,"d":"18.0049"}},{"$f":"(B772-B771)/Sheet3!$G$11","v":32.45256720224155},{"$nulls":8},2.8571428571429016,43.96543107039049]
[{"$f":"A771+Sheet3!G$11","v":{"v":2.145854145854175,"d":"2.15"}},{"v":18.264224966101587,"d":"18.2642"},{"$f":"(B773-B772)/Sheet3!$G$11","v":32.84622480805694},{"$nulls":8},-3.2887112887112733,44.16730052500685]
[{"$f":"A772+Sheet3!G$11","v":{"v":2.153846153846183,"d":"2.15"}},{"v":18.52673225727487,"d":"18.5267"},{"$f":"(B774-B773)/Sheet3!$G$11","v":33.24317798925756},{"$nulls":8},2.86513486513491,44.5334650188244]
[{"$f":"A773+Sheet3!G$11","v":{"v":2.161838161838191,"d":"2.16"}},{"v":18.79241200144476,"d":"18.7924"},{"$f":"(B775-B774)/Sheet3!$G$11","v":33.64343899705046},{"$nulls":8},-3.2967032967032814,44.9974322406088]
[{"$f":"A774+Sheet3!G$11","v":{"v":2.1698301698301994,"d":"2.17"}},{"v":19.06129063478782,"d":"19.0613"},{"$f":"(B776-B775)/Sheet3!$G$11","v":34.0470200826471},{"$nulls":8},2.873126873126918,45.10715217367478]
[{"$f":"A775+Sheet3!G$11","v":{"v":2.1778221778222075,"d":"2.18"}},{"v":19.333394691392392,"d":"19.3334"},{"$f":"(B777-B776)/Sheet3!$G$11","v":34.45393349725586},{"$nulls":8},2.881118881118926,45.68652768526531]
[{"$f":"A776+Sheet3!G$11","v":{"v":2.1858141858142157,"d":"2.19"}},{"v":19.608750803258573,"d":"19.6088"},{"$f":"(B778-B777)/Sheet3!$G$11","v":34.86419149208731},{"$nulls":8},-3.3046953046952896,45.83525539184083]
[{"$f":"A777+Sheet3!G$11","v":{"v":2.193806193806224,"d":"2.19"}},{"v":19.887385700298232,"d":"19.8874"},{"$f":"(B779-B778)/Sheet3!$G$11","v":35.27780631835115},{"$nulls":8},2.8891108891109343,46.27162680183142]
[{"$f":"A778+Sheet3!G$11","v":{"v":2.201798201798232,"d":"2.20"}},{"v":20.169326210335004,"d":"20.1693"},{"$f":"(B780-B779)/Sheet3!$G$11","v":35.694790227254416},{"$nulls":8},-3.3126873126872978,46.68081041626195]
[{"$f":"A779+Sheet3!G$11","v":{"v":2.20979020979024,"d":"2.21"}},{"v":20.45459925910427,"d":"20.4546"},{"$f":"(B781-B780)/Sheet3!$G$11","v":36.115155470011246},{"$nulls":8},2.8971028971029424,46.862484869520266]
[{"$f":"A780+Sheet3!G$11","v":{"v":2.2177822177822484,"d":"2.22"}},{"v":20.74323187025321,"d":"20.7432"},{"$f":"(B782-B781)/Sheet3!$G$11","v":36.538914297826885},{"$nulls":8},2.9050949050949506,47.45913733239087]
[{"$f":"A781+Sheet3!G$11","v":{"v":2.2257742257742565,"d":"2.23"}},{"v":21.03525116534074,"d":"21.0353"},{"$f":"(B783-B782)/Sheet3!$G$11","v":36.96607896191415},{"$nulls":8},-3.320679320679306,47.534137849342855]
[{"$f":"A782+Sheet3!G$11","v":{"v":2.2337662337662647,"d":"2.23"}},{"v":21.330684363837555,"d":"21.3307"},{"$f":"(B784-B783)/Sheet3!$G$11","v":37.39666171348051},{"$nulls":8},2.9130869130869588,48.06161973241389]
[{"$f":"A783+Sheet3!G$11","v":{"v":2.241758241758273,"d":"2.24"}},{"v":21.62955878312611,"d":"21.6296"},{"$f":"(B785-B784)/Sheet3!$G$11","v":37.83067480373522},{"$nulls":8},-3.328671328671314,48.39527832446609]
[{"$f":"A784+Sheet3!G$11","v":{"v":2.249750249750281,"d":"2.25"}},{"v":21.931901838500618,"d":"21.9319"},{"$f":"(B786-B785)/Sheet3!$G$11","v":38.268130483891525},{"$nulls":8},2.921078921078967,48.669967709471834]
[{"$f":"A785+Sheet3!G$11","v":{"v":2.257742257742289,"d":"2.26"}},{"v":22.237741043167084,"d":"22.2377"},{"$f":"(B787-B786)/Sheet3!$G$11","v":38.709041005155576},{"$nulls":8},-3.3366633366633223,49.26427257292591]
[{"$f":"A786+Sheet3!G$11","v":{"v":2.2657342657342974,"d":"2.27"}},{"v":22.547104008243252,"d":"22.5471"},{"$f":"(B788-B787)/Sheet3!$G$11","v":39.15341861873662},{"$nulls":8},2.929070929070975,49.28421700135898]
[{"$f":"A787+Sheet3!G$11","v":{"v":2.2737262737263055,"d":"2.27"}},{"v":22.86001844275863,"d":"22.8600"},{"$f":"(B789-B788)/Sheet3!$G$11","v":39.60127557584747},{"$nulls":8},2.9370629370629833,49.90440344378132]
[{"$f":"A788+Sheet3!G$11","v":{"v":2.2817182817183137,"d":"2.28"}},{"v":23.176512153654514,"d":"23.1765"},{"$f":"(B790-B789)/Sheet3!$G$11","v":40.05262412769425},{"$nulls":8},-3.3446553446553304,50.14116142392839]
[{"$f":"A789+Sheet3!G$11","v":{"v":2.289710289710322,"d":"2.29"}},{"v":23.49661304578394,"d":"23.4966"},{"$f":"(B791-B790)/Sheet3!$G$11","v":40.507476525489345},{"$nulls":8},2.9450549450549914,50.53056297035663]
[{"$f":"A790+Sheet3!G$11","v":{"v":2.29770229770233,"d":"2.30"}},{"v":23.820349121911725,"d":"23.8203"},{"$f":"(B792-B791)/Sheet3!$G$11","v":40.96584502044111},{"$nulls":8},-3.3526473526473386,51.025985804591244]
[{"$f":"A791+Sheet3!G$11","v":{"v":2.305694305694338,"d":"2.31"}},{"v":24.14774848271445,"d":"24.1477"},{"$f":"(B793-B792)/Sheet3!$G$11","v":41.427741863757014},{"$nulls":8},2.9530469530469996,51.16273161261449]
[{"$f":"A792+Sheet3!G$11","v":{"v":2.3136863136863464,"d":"2.31"}},{"v":24.47883932678044,"d":"24.4788"},{"$f":"(B794-B793)/Sheet3!$G$11","v":41.89317930665209},{"$nulls":8},2.9610389610390078,51.80094549999618]
[{"$f":"A793+Sheet3!G$11","v":{"v":2.3216783216783545,"d":"2.32"}},{"v":24.81364995060983,"d":"24.8136"},{"$f":"(B795-B794)/Sheet3!$G$11","v":42.36216960033159},{"$nulls":8},-3.3606393606393468,51.91878673994415]
[{"$f":"A794+Sheet3!G$11","v":{"v":2.3296703296703627,"d":"2.33"}},{"v":25.152208748614477,"d":"25.1522"},{"$f":"(B796-B795)/Sheet3!$G$11","v":42.834724996004766},{"$nulls":8},2.969030969031016,52.44524085985484]
[{"$f":"A795+Sheet3!G$11","v":{"v":2.337662337662371,"d":"2.34"}},{"v":25.49454421311801,"d":"25.4945"},{"$f":"(B797-B796)/Sheet3!$G$11","v":43.31085774488398},{"$nulls":8},-3.368631368631355,52.81960535292838]
[{"$f":"A796+Sheet3!G$11","v":{"v":2.345654345654379,"d":"2.35"}},{"v":25.840684934355846,"d":"25.8407"},{"$f":"(B798-B797)/Sheet3!$G$11","v":43.79058009817805},{"$nulls":8},2.977022977023024,53.09565401745523]
[{"$f":"A797+Sheet3!G$11","v":{"v":2.353646353646387,"d":"2.35"}},{"v":26.19065960047515,"d":"26.1907"},{"$f":"(B799-B798)/Sheet3!$G$11","v":44.273904307094874},{"$nulls":8},-3.376623376623363,53.72848286439703]
[{"$f":"A798+Sheet3!G$11","v":{"v":2.3616383616383954,"d":"2.36"}},{"v":26.54449699753485,"d":"26.5445"},{"$f":"(B800-B799)/Sheet3!$G$11","v":44.76084262284594},{"$nulls":8},2.9850149850150323,53.752221395974004]
[{"$f":"A799+Sheet3!G$11","v":{"v":2.3696303696304035,"d":"2.37"}},{"v":26.902226009505647,"d":"26.9022"},{"$f":"(B801-B800)/Sheet3!$G$11","v":45.25140729663962},{"$nulls":8},2.9930069930070404,54.41497951649953]
[{"$f":"A800+Sheet3!G$11","v":{"v":2.3776223776224117,"d":"2.38"}},{"v":27.26387561827,"d":"27.2639"},{"$f":"(B802-B801)/Sheet3!$G$11","v":45.74561057968648},{"$nulls":8},-3.3846153846153713,54.64546059311494]
[{"$f":"A801+Sheet3!G$11","v":{"v":2.38561438561442,"d":"2.39"}},{"v":27.62947490362214,"d":"27.6295"},{"$f":"(B803-B802)/Sheet3!$G$11","v":46.243464723197114},{"$nulls":8},3.0009990009990486,55.08396499803197]
[{"$f":"A802+Sheet3!G$11","v":{"v":2.393606393606428,"d":"2.39"}},{"v":27.99905304326807,"d":"27.9991"},{"$f":"(B804-B803)/Sheet3!$G$11","v":46.74498197837634},{"$nulls":8},-3.3926073926073794,55.5705799557588]
[{"$f":"A803+Sheet3!G$11","v":{"v":2.401598401598436,"d":"2.40"}},{"v":28.372639312825523,"d":"28.3726"},{"$f":"(B805-B804)/Sheet3!$G$11","v":47.250174596440054},{"$nulls":8},3.0089910089910568,55.75921455748318]
[{"$f":"A804+Sheet3!G$11","v":{"v":2.4095904095904443,"d":"2.41"}},{"v":28.750263085824045,"d":"28.7503"},{"$f":"(B806-B805)/Sheet3!$G$11","v":47.759054828594415},{"$nulls":8},3.016983016983065,56.440765009676866]
[{"$f":"A805+Sheet3!G$11","v":{"v":2.4175824175824525,"d":"2.42"}},{"v":29.13195383370492,"d":"29.1320"},{"$f":"(B807-B806)/Sheet3!$G$11","v":48.27163492604866},{"$nulls":8},-3.4005994005993876,56.50388246691699]
[{"$f":"A806+Sheet3!G$11","v":{"v":2.4255744255744607,"d":"2.43"}},{"v":29.517741125821193,"d":"29.5177"},{"$f":"(B808-B807)/Sheet3!$G$11","v":48.78792714001384},{"$nulls":8},3.024975024975073,57.128653267348426]
[{"$f":"A807+Sheet3!G$11","v":{"v":2.433566433566469,"d":"2.43"}},{"v":29.907654629437687,"d":"29.9077"},{"$f":"(B809-B808)/Sheet3!$G$11","v":49.30794372169875},{"$nulls":8},-3.4085914085913958,57.44540973908957]
[{"$f":"A808+Sheet3!G$11","v":{"v":2.441558441558477,"d":"2.44"}},{"v":30.301724109730984,"d":"30.3017"},{"$f":"(B810-B809)/Sheet3!$G$11","v":49.831696922313974},{"$nulls":8},3.0329670329670813,57.82291634114512]
[{"$f":"A809+Sheet3!G$11","v":{"v":2.449550449550485,"d":"2.45"}},{"v":30.699979429789437,"d":"30.7000"},{"$f":"(B811-B810)/Sheet3!$G$11","v":50.35919899306788},{"$nulls":8},-3.416583416583404,58.395203482688615]
[{"$f":"A810+Sheet3!G$11","v":{"v":2.4575424575424933,"d":"2.46"}},{"v":31.102450550613156,"d":"31.1025"},{"$f":"(B812-B811)/Sheet3!$G$11","v":50.890462185171934},{"$nulls":8},3.0409590409590894,58.52359133962585]
[{"$f":"A811+Sheet3!G$11","v":{"v":2.4655344655345015,"d":"2.47"}},{"v":31.50916753111403,"d":"31.5092"},{"$f":"(B813-B812)/Sheet3!$G$11","v":51.4254987498305},{"$nulls":8},3.0489510489510976,59.230715469261376]
[{"$f":"A812+Sheet3!G$11","v":{"v":2.4735264735265097,"d":"2.47"}},{"v":31.920160528115673,"d":"31.9202"},{"$f":"(B814-B813)/Sheet3!$G$11","v":51.964320938262176},{"$nulls":8},-3.424575424575412,59.35330550603775]
[{"$f":"A813+Sheet3!G$11","v":{"v":2.481518481518518,"d":"2.48"}},{"v":32.33545979635353,"d":"32.3355"},{"$f":"(B815-B814)/Sheet3!$G$11","v":52.50694100166954},{"$nulls":8},3.0569430569431058,59.94432603443421]
[{"$f":"A814+Sheet3!G$11","v":{"v":2.489510489510526,"d":"2.49"}},{"v":32.75509568847477,"d":"32.7551"},{"$f":"(B816-B815)/Sheet3!$G$11","v":53.053371191262286},{"$nulls":8},-3.4325674325674203,60.319757715372376]
[{"$f":"A815+Sheet3!G$11","v":{"v":2.497502497502534,"d":"2.50"}},{"v":33.1790986550383,"d":"33.1791"},{"$f":"(B817-B816)/Sheet3!$G$11","v":53.60362375825456},{"$nulls":8},3.064935064935114,60.66446043743855]
[{"$f":"A816+Sheet3!G$11","v":{"v":2.5054945054945423,"d":"2.51"}},{"v":33.60749924451486,"d":"33.6075"},{"$f":"(B818-B817)/Sheet3!$G$11","v":54.157710953851605},{"$nulls":8},-3.4405594405594284,61.29460211483975]
[{"$f":"A817+Sheet3!G$11","v":{"v":2.5134865134865505,"d":"2.51"}},{"v":34.0403281032869,"d":"34.0403"},{"$f":"(B819-B818)/Sheet3!$G$11","v":54.715645029264905},{"$nulls":8},3.072927072927122,61.39115617848051]
[{"$f":"A818+Sheet3!G$11","v":{"v":2.5214785214785587,"d":"2.52"}},{"v":34.47761597564866,"d":"34.4776"},{"$f":"(B820-B819)/Sheet3!$G$11","v":55.27743823570415},{"$nulls":8},3.0809190809191302,62.12445085567779]
[{"$f":"A819+Sheet3!G$11","v":{"v":2.529470529470567,"d":"2.53"}},{"v":34.919393703806136,"d":"34.9194"},{"$f":"(B821-B820)/Sheet3!$G$11","v":55.84310282437993},{"$nulls":8},-3.4485514485514366,62.27788080649887]
[{"$f":"A820+Sheet3!G$11","v":{"v":2.537462537462575,"d":"2.54"}},{"v":35.365692227877105,"d":"35.3657"},{"$f":"(B822-B821)/Sheet3!$G$11","v":56.412651046497494},{"$nulls":8},3.0889110889111384,62.864382165060015]
[{"$f":"A821+Sheet3!G$11","v":{"v":2.545454545454583,"d":"2.55"}},{"v":35.81654258589107,"d":"35.8165"},{"$f":"(B823-B822)/Sheet3!$G$11","v":56.98609515327365},{"$nulls":8},-3.4565434565434447,63.269635990320495]
[{"$f":"A822+Sheet3!G$11","v":{"v":2.5534465534465913,"d":"2.55"}},{"v":36.27197591378936,"d":"36.2720"},{"$f":"(B824-B823)/Sheet3!$G$11","v":57.56344739591099},{"$nulls":8},3.0969030969031466,63.61098790056844]
[{"$f":"A823+Sheet3!G$11","v":{"v":2.5614385614385995,"d":"2.56"}},{"v":36.732023445425014,"d":"36.7320"},{"$f":"(B825-B824)/Sheet3!$G$11","v":58.14472002562275},{"$nulls":8},-3.464535464535453,64.2699099641871]
[{"$f":"A824+Sheet3!G$11","v":{"v":2.5694305694306077,"d":"2.57"}},{"v":37.19671651256286,"d":"37.1967"},{"$f":"(B826-B825)/Sheet3!$G$11","v":58.72992529361687},{"$nulls":8},3.1048951048951547,64.36430595405622]
[{"$f":"A825+Sheet3!G$11","v":{"v":2.577422577422616,"d":"2.58"}},{"v":37.66608654487948,"d":"37.6661"},{"$f":"(B827-B826)/Sheet3!$G$11","v":59.31907545110481},{"$nulls":8},3.112887112887163,65.12437431528815]
[{"$f":"A826+Sheet3!G$11","v":{"v":2.585414585414624,"d":"2.59"}},{"v":38.14016506996323,"d":"38.1402"},{"$f":"(B828-B827)/Sheet3!$G$11","v":59.912182749296264},{"$nulls":8},-3.472527472527461,65.27874512389297]
[{"$f":"A827+Sheet3!G$11","v":{"v":2.593406593406632,"d":"2.59"}},{"v":38.61898371331425,"d":"38.6190"},{"$f":"(B829-B828)/Sheet3!$G$11","v":60.50925943939827},{"$nulls":8},3.120879120879171,65.89123107194087]
[{"$f":"A828+Sheet3!G$11","v":{"v":2.6013986013986403,"d":"2.60"}},{"v":39.102574198344406,"d":"39.1026"},{"$f":"(B830-B829)/Sheet3!$G$11","v":61.11031777262319},{"$nulls":8},-3.4805194805194692,66.29618396314417]
[{"$f":"A829+Sheet3!G$11","v":{"v":2.6093906093906485,"d":"2.61"}},{"v":39.59096834637736,"d":"39.5910"},{"$f":"(B831-B830)/Sheet3!$G$11","v":61.715370000178936},{"$nulls":8},3.1288711288711792,66.66491440960273]
[{"$f":"A830+Sheet3!G$11","v":{"v":2.6173826173826567,"d":"2.62"}},{"v":40.08419807664852,"d":"40.0842"},{"$f":"(B832-B831)/Sheet3!$G$11","v":62.32442837327433},{"$nulls":8},-3.4885114885114774,67.32226907355847]
[{"$f":"A831+Sheet3!G$11","v":{"v":2.625374625374665,"d":"2.63"}},{"v":40.58229540630506,"d":"40.5823"},{"$f":"(B833-B832)/Sheet3!$G$11","v":62.937505143123495},{"$nulls":8},3.1368631368631874,67.44546261177393]
[{"$f":"A832+Sheet3!G$11","v":{"v":2.633366633366673,"d":"2.63"}},{"v":41.085292450405944,"d":"41.0853"},{"$f":"(B834-B833)/Sheet3!$G$11","v":63.55461256092814},{"$nulls":8},3.1448551448551956,68.23291405986633]
[{"$f":"A833+Sheet3!G$11","v":{"v":2.641358641358681,"d":"2.64"}},{"v":41.593221421921854,"d":"41.5932"},{"$f":"(B835-B834)/Sheet3!$G$11","v":64.17576287790685},{"$nulls":8},-3.4965034965034856,68.35704314466552]
[{"$f":"A834+Sheet3!G$11","v":{"v":2.6493506493506893,"d":"2.65"}},{"$f":"x^4-3*x^2+6*x-2","v":{"v":42.106114631735295,"d":"42.1061"}},{"$f":"(B836-B835)/Sheet3!$G$11","v":64.80096834526309},{"$nulls":8},3.1528471528472037,69.02730723320364]
[{"$f":"A835+Sheet3!G$11","v":{"v":2.6573426573426975,"d":"2.66"}},{"v":42.624004488640495,"d":"42.6240"},{"$f":"(B837-B836)/Sheet3!$G$11","v":65.43024121420746},{"$nulls":8},-3.5044955044954937,69.40054896390657]
[{"$f":"A836+Sheet3!G$11","v":{"v":2.6653346653347056,"d":"2.67"}},{"v":43.14692349934345,"d":"43.1469"},{"$f":"(B838-B837)/Sheet3!$G$11","v":66.0635937359523},{"$nulls":8},3.160839160839212,69.82868070902128]
[{"$f":"A837+Sheet3!G$11","v":{"v":2.673326673326714,"d":"2.67"}},{"v":43.67490426846195,"d":"43.6749"},{"$f":"(B839-B838)/Sheet3!$G$11","v":66.70103816170378},{"$nulls":8},-3.512487512487502,70.45282941663478]
[{"$f":"A838+Sheet3!G$11","v":{"v":2.681318681318722,"d":"2.68"}},{"v":44.20797949852552,"d":"44.2080"},{"$f":"(B840-B839)/Sheet3!$G$11","v":67.34258674267335},{"$nulls":8},3.16883116883122,70.63707316246646]
[{"$f":"A839+Sheet3!G$11","v":{"v":2.68931068931073,"d":"2.69"}},{"v":44.746181989975454,"d":"44.7462"},{"$f":"(B841-B840)/Sheet3!$G$11","v":67.9882517300716},{"$nulls":8},3.1768231768232282,71.45252336659814]
[{"$f":"A840+Sheet3!G$11","v":{"v":2.6973026973027383,"d":"2.70"}},{"v":45.28954464116484,"d":"45.2895"},{"$f":"(B842-B841)/Sheet3!$G$11","v":68.63804537510558},{"$nulls":8},-3.52047952047951,71.51392748611501]
[{"$f":"A841+Sheet3!G$11","v":{"v":2.7052947052947465,"d":"2.71"}},{"v":45.83810044835849,"d":"45.8381"},{"$f":"(B843-B842)/Sheet3!$G$11","v":69.29197992898584},{"$nulls":8},3.1848151848152364,72.27507019238709]
[{"$f":"A842+Sheet3!G$11","v":{"v":2.7132867132867546,"d":"2.71"}},{"v":46.391882505733,"d":"46.3919"},{"$f":"(B844-B843)/Sheet3!$G$11","v":69.95006764292211},{"$nulls":8},-3.5284715284715182,72.58388625352387]
[{"$f":"A843+Sheet3!G$11","v":{"v":2.721278721278763,"d":"2.72"}},{"v":46.950924005376734,"d":"46.9509"},{"$f":"(B845-B844)/Sheet3!$G$11","v":70.61232076812674},{"$nulls":8},3.1928071928072446,73.10475260871578]
[{"$f":"A844+Sheet3!G$11","v":{"v":2.729270729270771,"d":"2.73"}},{"v":47.515258237289835,"d":"47.5153"},{"$f":"(B846-B845)/Sheet3!$G$11","v":71.27875155580409},{"$nulls":8},-3.5364635364635264,73.66274889794978]
[{"$f":"A845+Sheet3!G$11","v":{"v":2.737262737262779,"d":"2.74"}},{"v":48.08491858938417,"d":"48.0849"},{"$f":"(B847-B846)/Sheet3!$G$11","v":71.9493722571683},{"$nulls":8},3.2007992007992527,73.9416096823785]
[{"$f":"A846+Sheet3!G$11","v":{"v":2.7452547452547873,"d":"2.75"}},{"v":48.65993854748342,"d":"48.6599"},{"$f":"(B848-B847)/Sheet3!$G$11","v":72.62419512342464},{"$nulls":8},-3.5444555444555346,74.75055869639291]
[{"$f":"A847+Sheet3!G$11","v":{"v":2.7532467532467955,"d":"2.75"}},{"v":49.24035169532298,"d":"49.2404"},{"$f":"(B849-B848)/Sheet3!$G$11","v":73.30323240578723},{"$nulls":8},3.208791208791261,74.78568057808126]
[{"$f":"A848+Sheet3!G$11","v":{"v":2.7612387612388036,"d":"2.76"}},{"v":49.82619171455005,"d":"49.8262"},{"$f":"(B850-B849)/Sheet3!$G$11","v":73.98649635546398},{"$nulls":8},3.216783216783269,75.63700455844184]
[{"$f":"A849+Sheet3!G$11","v":{"v":2.769230769230812,"d":"2.77"}},{"v":50.41749238472359,"d":"50.4175"},{"$f":"(B851-B850)/Sheet3!$G$11","v":74.67399922366285},{"$nulls":8},-3.5524475524475427,75.84735902376516]
[{"$f":"A850+Sheet3!G$11","v":{"v":2.77722277722282,"d":"2.78"}},{"v":51.0142875833143,"d":"51.0143"},{"$f":"(B852-B851)/Sheet3!$G$11","v":75.36575326159617},{"$nulls":8},3.2247752247752772,76.49562098398984]
[{"$f":"A851+Sheet3!G$11","v":{"v":2.785214785214828,"d":"2.79"}},{"v":51.61661128570468,"d":"51.6166"},{"$f":"(B853-B852)/Sheet3!$G$11","v":76.06177072046741},{"$nulls":8},-3.560439560439551,76.95319335289027]
[{"$f":"A852+Sheet3!G$11","v":{"v":2.7932067932068363,"d":"2.79"}},{"v":52.22449756518893,"d":"52.2245"},{"$f":"(B854-B853)/Sheet3!$G$11","v":76.76206385149872},{"$nulls":8},3.2327672327672854,77.36156931316658]
[{"$f":"A853+Sheet3!G$11","v":{"v":2.8011988011988445,"d":"2.80"}},{"v":52.83798059297314,"d":"52.8380"},{"$f":"(B855-B854)/Sheet3!$G$11","v":77.46664490588736},{"$nulls":8},-3.568431568431559,78.06810525450365]
[{"$f":"A854+Sheet3!G$11","v":{"v":2.8091908091908526,"d":"2.81"}},{"v":53.457094638175036,"d":"53.4571"},{"$f":"(B856-B855)/Sheet3!$G$11","v":78.1755261348457},{"$nulls":8},3.2407592407592936,78.23488910232511]
[{"$f":"A855+Sheet3!G$11","v":{"v":2.817182817182861,"d":"2.82"}},{"v":54.08187406782415,"d":"54.0819"},{"$f":"(B857-B856)/Sheet3!$G$11","v":78.88871978958964},{"$nulls":8},3.2487512487513017,79.11562000573034]
[{"$f":"A856+Sheet3!G$11","v":{"v":2.825174825174869,"d":"2.83"}},{"v":54.71235334686183,"d":"54.7124"},{"$f":"(B858-B857)/Sheet3!$G$11","v":79.60623812131821},{"$nulls":8},-3.5764235764235672,79.19213839725256]
[{"$f":"A857+Sheet3!G$11","v":{"v":2.833166833166877,"d":"2.83"}},{"v":55.3485670381411,"d":"55.3486"},{"$f":"(B859-B858)/Sheet3!$G$11","v":80.32809338125712},{"$nulls":8},3.25674325674331,80.00380177555886]
[{"$f":"A858+Sheet3!G$11","v":{"v":2.8411588411588853,"d":"2.84"}},{"v":55.99054980242687,"d":"55.9905"},{"$f":"(B860-B859)/Sheet3!$G$11","v":81.05429782059561},{"$nulls":8},-3.5844155844155754,80.32533654769598]
[{"$f":"A859+Sheet3!G$11","v":{"v":2.8491508491508934,"d":"2.85"}},{"v":56.638336398395666,"d":"56.6383"},{"$f":"(B861-B860)/Sheet3!$G$11","v":81.7848636905585},{"$nulls":8},3.264735264735318,80.89947426189907]
[{"$f":"A860+Sheet3!G$11","v":{"v":2.8571428571429016,"d":"2.86"}},{"v":57.29196168263589,"d":"57.2920"},{"$f":"(B862-B861)/Sheet3!$G$11","v":82.51980324234835},{"$nulls":8},-3.5924075924075836,81.46774357030463]
[{"$f":"A861+Sheet3!G$11","v":{"v":2.86513486513491,"d":"2.87"}},{"v":57.95146060964767,"d":"57.9515"},{"$f":"(B863-B862)/Sheet3!$G$11","v":83.25912872717845},{"$nulls":8},3.272727272727326,81.8026774127511]
[{"$f":"A862+Sheet3!G$11","v":{"v":2.873126873126918,"d":"2.87"}},{"v":58.6168682318429,"d":"58.6169"},{"$f":"(B864-B863)/Sheet3!$G$11","v":84.00285239625757},{"$nulls":8},-3.6003996003995917,82.6194034274611]
[{"$f":"A863+Sheet3!G$11","v":{"v":2.881118881118926,"d":"2.88"}},{"v":59.28821969954526,"d":"59.2882"},{"$f":"(B865-B864)/Sheet3!$G$11","v":84.75098650079454},{"$nulls":8},3.2807192807193344,82.71345127402688]
[{"$f":"A864+Sheet3!G$11","v":{"v":2.8891108891109343,"d":"2.89"}},{"v":59.96555026099017,"d":"59.9656"},{"$f":"(B866-B865)/Sheet3!$G$11","v":85.50354329199462},{"$nulls":8},3.2887112887113426,83.63183598955011]
[{"$f":"A865+Sheet3!G$11","v":{"v":2.8971028971029424,"d":"2.90"}},{"v":60.64889526232479,"d":"60.6489"},{"$f":"(B867-B866)/Sheet3!$G$11","v":86.26053502107992},{"$nulls":8},-3.6083916083916,83.78036017945963]
[{"$f":"A866+Sheet3!G$11","v":{"v":2.9050949050949506,"d":"2.91"}},{"v":61.33829014760815,"d":"61.3383"},{"$f":"(B868-B867)/Sheet3!$G$11","v":87.02197393924506},{"$nulls":8},3.2967032967033507,84.55787180105624]
[{"$f":"A867+Sheet3!G$11","v":{"v":2.9130869130869588,"d":"2.91"}},{"v":62.033770458810906,"d":"62.0338"},{"$f":"(B869-B868)/Sheet3!$G$11","v":87.78787229770681},{"$nulls":8},-3.616383616383608,84.95065798450624]
[{"$f":"A868+Sheet3!G$11","v":{"v":2.921078921078967,"d":"2.92"}},{"v":62.735371835815556,"d":"62.7354"},{"$f":"(B870-B869)/Sheet3!$G$11","v":88.55824234767935},{"$nulls":8},3.304695304695359,85.49159904819246]
[{"$f":"A869+Sheet3!G$11","v":{"v":2.929070929070975,"d":"2.93"}},{"v":63.44313001641639,"d":"63.4431"},{"$f":"(B871-B870)/Sheet3!$G$11","v":89.33309634036347},{"$nulls":8},-3.6243756243756162,86.13034109871884]
[{"$f":"A870+Sheet3!G$11","v":{"v":2.9370629370629833,"d":"2.94"}},{"v":64.1570808363194,"d":"64.1571"},{"$f":"(B872-B871)/Sheet3!$G$11","v":90.1124465269724},{"$nulls":8},3.312687312687367,86.4330581685177]
[{"$f":"A871+Sheet3!G$11","v":{"v":2.9450549450549914,"d":"2.95"}},{"v":64.87726022914235,"d":"64.8773"},{"$f":"(B873-B872)/Sheet3!$G$11","v":90.89630515871943},{"$nulls":8},-3.6323676323676244,87.31945387612691]
[{"$f":"A872+Sheet3!G$11","v":{"v":2.9530469530469996,"d":"2.95"}},{"v":65.60370422641483,"d":"65.6037"},{"$f":"(B874-B873)/Sheet3!$G$11","v":91.68468448680535},{"$nulls":8},3.320679320679375,87.38228969750278]
[{"$f":"A873+Sheet3!G$11","v":{"v":2.9610389610390078,"d":"2.96"}},{"v":66.33644895757811,"d":"66.3364"},{"$f":"(B875-B874)/Sheet3!$G$11","v":92.47759676245586},{"$nulls":8},3.3286713286713834,88.3393342685302]
[{"$f":"A874+Sheet3!G$11","v":{"v":2.969030969031016,"d":"2.97"}},{"v":67.07553064998535,"d":"67.0755"},{"$f":"(B876-B875)/Sheet3!$G$11","v":93.27505423685577},{"$nulls":8},-3.6403596403596326,88.51804076867182]
[{"$f":"A875+Sheet3!G$11","v":{"v":2.977022977023024,"d":"2.98"}},{"v":67.82098562890128,"d":"67.8210"},{"$f":"(B877-B876)/Sheet3!$G$11","v":94.07706916123965},{"$nulls":8},3.3366633366633915,89.30423261289418]
[{"$f":"A876+Sheet3!G$11","v":{"v":2.9850149850150323,"d":"2.99"}},{"v":68.5728503175026,"d":"68.5729"},{"$f":"(B878-B877)/Sheet3!$G$11","v":94.88365378679943},{"$nulls":8},-3.6483516483516407,89.72614632620675]
[{"$f":"A877+Sheet3!G$11","v":{"v":2.9930069930070404,"d":"2.99"}},{"v":69.33116123687762,"d":"69.3312"},{"$f":"(B879-B878)/Sheet3!$G$11","v":95.69482036475902},{"$nulls":8},3.3446553446553997,90.27702555980082]
[{"$f":"A878+Sheet3!G$11","v":{"v":3.0009990009990486,"d":"3.00"}},{"v":70.09595500602654,"d":"70.0960"},{"$f":"(B880-B879)/Sheet3!$G$11","v":96.51058114631213},{"$nulls":8},-3.656343656343649,90.94381519649649]
[{"$f":"A879+Sheet3!G$11","v":{"v":3.0089910089910568,"d":"3.01"}},{"v":70.8672683418612,"d":"70.8673"},{"$f":"(B881-B880)/Sheet3!$G$11","v":97.33094838268447},{"$nulls":8},3.352647352647408,91.25775403636788]
[{"$f":"A880+Sheet3!G$11","v":{"v":3.016983016983065,"d":"3.02"}},{"v":71.64513805920534,"d":"71.6451"},{"$f":"(B882-B881)/Sheet3!$G$11","v":98.15593432507147},{"$nulls":8},-3.664335664335657,92.17109212521771]
[{"$f":"A881+Sheet3!G$11","v":{"v":3.024975024975073,"d":"3.02"}},{"v":72.42960107079432,"d":"72.4296"},{"$f":"(B883-B882)/Sheet3!$G$11","v":98.98555122469531},{"$nulls":8},3.360639360639416,92.24645906762493]
[{"$f":"A882+Sheet3!G$11","v":{"v":3.0329670329670813,"d":"3.03"}},{"v":73.2206943872754,"d":"73.2207"},{"$f":"(B884-B883)/Sheet3!$G$11","v":99.819811332755},{"$nulls":8},3.368631368631424,93.24318177651332]
[{"$f":"A883+Sheet3!G$11","v":{"v":3.0409590409590894,"d":"3.04"}},{"v":74.01845511720751,"d":"74.0185"},{"$f":"(B885-B884)/Sheet3!$G$11","v":100.65872690046558},{"$nulls":8},-3.672327672327665,93.4080219559588]
[{"$f":"A884+Sheet3!G$11","v":{"v":3.0489510489510976,"d":"3.05"}},{"v":74.82292046706138,"d":"74.8229"},{"$f":"(B886-B885)/Sheet3!$G$11","v":101.50231017903852},{"$nulls":8},3.3766233766234324,94.24796338388612]
[{"$f":"A885+Sheet3!G$11","v":{"v":3.0569430569431058,"d":"3.06"}},{"v":75.63412774121953,"d":"75.6341"},{"$f":"(B887-B886)/Sheet3!$G$11","v":102.35057341967462},{"$nulls":8},-3.6803196803196734,94.65464963021998]
[{"$f":"A886+Sheet3!G$11","v":{"v":3.064935064935114,"d":"3.06"}},{"v":76.45211434197617,"d":"76.4521"},{"$f":"(B888-B887)/Sheet3!$G$11","v":103.20352887360137},{"$nulls":8},3.3846153846154405,95.26084520850821]
[{"$f":"A887+Sheet3!G$11","v":{"v":3.072927072927122,"d":"3.07"}},{"v":77.27691776953742,"d":"77.2769"},{"$f":"(B889-B888)/Sheet3!$G$11","v":104.06118879200179},{"$nulls":8},-3.6883116883116815,95.91102018741316]
[{"$f":"A888+Sheet3!G$11","v":{"v":3.0809190809191302,"d":"3.08"}},{"v":78.10857562202095,"d":"78.1086"},{"$f":"(B890-B889)/Sheet3!$G$11","v":104.92356542611223},{"$nulls":8},3.3926073926074487,96.28186866705624]
[{"$f":"A889+Sheet3!G$11","v":{"v":3.0889110889111384,"d":"3.09"}},{"v":78.94712559545641,"d":"78.9471"},{"$f":"(B891-B890)/Sheet3!$G$11","v":105.79067102711754},{"$nulls":8},-3.6963036963036897,97.17717876486205]
[{"$f":"A890+Sheet3!G$11","v":{"v":3.0969030969031466,"d":"3.10"}},{"v":79.79260548378502,"d":"79.7926"},{"$f":"(B892-B891)/Sheet3!$G$11","v":106.66251784625581},{"$nulls":8},3.400599400599457,97.31107527411858]
[{"$f":"A891+Sheet3!G$11","v":{"v":3.1048951048951547,"d":"3.10"}},{"v":80.64505317886,"d":"80.6451"},{"$f":"(B893-B892)/Sheet3!$G$11","v":107.53911813471188},{"$nulls":8},3.408591408591465,98.34850664219537]
[{"$f":"A892+Sheet3!G$11","v":{"v":3.112887112887163,"d":"3.11"}},{"v":81.5045066704461,"d":"81.5045"},{"$f":"(B894-B893)/Sheet3!$G$11","v":108.42048414370433},{"$nulls":8},-3.704295704295698,98.45317059780203]
[{"$f":"A893+Sheet3!G$11","v":{"v":3.120879120879171,"d":"3.12"}},{"v":82.37100404621997,"d":"82.3710"},{"$f":"(B895-B894)/Sheet3!$G$11","v":109.30662812444108},{"$nulls":8},3.416583416583473,99.39420448169858]
[{"$f":"A894+Sheet3!G$11","v":{"v":3.1288711288711792,"d":"3.13"}},{"v":83.24458349176994,"d":"83.2446"},{"$f":"(B896-B895)/Sheet3!$G$11","v":110.19756232813891},{"$nulls":8},-3.712287712287706,99.73904101938045]
[{"$f":"A895+Sheet3!G$11","v":{"v":3.1368631368631874,"d":"3.14"}},{"v":84.12528329059623,"d":"84.1253"},{"$f":"(B897-B896)/Sheet3!$G$11","v":111.09329900600045},{"$nulls":8},3.4245754245754814,100.44821060095184]
[{"$f":"A896+Sheet3!G$11","v":{"v":3.1448551448551956,"d":"3.14"}},{"v":85.01314182411072,"d":"85.0131"},{"$f":"(B898-B897)/Sheet3!$G$11","v":111.99385040923536},{"$nulls":8},-3.720279720279714,101.03483546065627]
[{"$f":"A897+Sheet3!G$11","v":{"v":3.1528471528472037,"d":"3.15"}},{"v":85.90819757163707,"d":"85.9082"},{"$f":"(B899-B898)/Sheet3!$G$11","v":112.89922878905692},{"$nulls":8},3.4325674325674895,101.51056690619066]
[{"$f":"A898+Sheet3!G$11","v":{"v":3.160839160839212,"d":"3.16"}},{"$f":"x^4-3*x^2+6*x-2","v":{"v":86.81048911041076,"d":"86.8105"}},{"$f":"(B900-B899)/Sheet3!$G$11","v":113.80944639666768},{"$nulls":8},-3.7282717282717224,102.34059945060017]
[{"$f":"A899+Sheet3!G$11","v":{"v":3.16883116883122,"d":"3.17"}},{"v":87.72005511557893,"d":"87.7201"},{"$f":"(B901-B900)/Sheet3!$G$11","v":114.72451548328627},{"$nulls":8},3.4405594405594977,102.58131540156222]
[{"$f":"A900+Sheet3!G$11","v":{"v":3.1768231768232282,"d":"3.18"}},{"v":88.6369343602006,"d":"88.6369"},{"$f":"(B902-B901)/Sheet3!$G$11","v":115.64444830012057},{"$nulls":8},-3.7362637362637305,103.65637861609483]
[{"$f":"A901+Sheet3!G$11","v":{"v":3.1848151848152364,"d":"3.18"}},{"v":89.56116571524652,"d":"89.5612"},{"$f":"(B903-B902)/Sheet3!$G$11","v":116.56925709836963},{"$nulls":8},3.448551448551506,103.6604981891255]
[{"$f":"A902+Sheet3!G$11","v":{"v":3.1928071928072446,"d":"3.19"}},{"v":90.49278814959912,"d":"90.4928"},{"$f":"(B904-B903)/Sheet3!$G$11","v":117.49895412926449},{"$nulls":8},3.456543456543514,104.74815746885129]
[{"$f":"A903+Sheet3!G$11","v":{"v":3.2007992007992527,"d":"3.20"}},{"v":91.43184073005278,"d":"91.4318"},{"$f":"(B905-B904)/Sheet3!$G$11","v":118.43355164398638},{"$nulls":8},-3.7442557442557387,104.9822186819344]
[{"$f":"A904+Sheet3!G$11","v":{"v":3.208791208791261,"d":"3.21"}},{"v":92.37836262131341,"d":"92.3784"},{"$f":"(B906-B905)/Sheet3!$G$11","v":119.37306189376633},{"$nulls":8},3.464535464535522,105.84433553862205]
[{"$f":"A905+Sheet3!G$11","v":{"v":3.216783216783269,"d":"3.22"}},{"v":93.33239308599886,"d":"93.3324"},{"$f":"(B907-B906)/Sheet3!$G$11","v":120.31749712981227},{"$nulls":8},-3.752247752247747,106.31816547082497]
[{"$f":"A906+Sheet3!G$11","v":{"v":3.2247752247752772,"d":"3.22"}},{"v":94.29397148463872,"d":"94.2940"},{"$f":"(B908-B907)/Sheet3!$G$11","v":121.266869603325},{"$nulls":8},3.4725274725275304,106.9490747942321]
[{"$f":"A907+Sheet3!G$11","v":{"v":3.2327672327672854,"d":"3.23"}},{"v":95.26313727567428,"d":"95.2631"},{"$f":"(B909-B908)/Sheet3!$G$11","v":122.22119156551601},{"$nulls":8},-3.760239760239755,107.66426490338444]
[{"$f":"A908+Sheet3!G$11","v":{"v":3.2407592407592936,"d":"3.24"}},{"v":96.23993001545863,"d":"96.2399"},{"$f":"(B910-B909)/Sheet3!$G$11","v":123.18047526759675},{"$nulls":8},3.4805194805195385,108.06241772938745]
[{"$f":"A909+Sheet3!G$11","v":{"v":3.2487512487513017,"d":"3.25"}},{"v":97.2243893582566,"d":"97.2244"},{"$f":"(B911-B910)/Sheet3!$G$11","v":124.14473296078582},{"$nulls":8},-3.768231768231763,109.02056299814228]
[{"$f":"A910+Sheet3!G$11","v":{"v":3.25674325674331,"d":"3.26"}},{"v":98.2165550562449,"d":"98.2166"},{"$f":"(B912-B911)/Sheet3!$G$11","v":125.11397689627691},{"$nulls":8},3.4885114885115467,109.18440693570598]
[{"$f":"A911+Sheet3!G$11","v":{"v":3.264735264735318,"d":"3.26"}},{"v":99.21646695951185,"d":"99.2165"},{"$f":"(B913-B912)/Sheet3!$G$11","v":126.08821932528507},{"$nulls":8},3.496503496503555,110.31508510271718]
[{"$f":"A912+Sheet3!G$11","v":{"v":3.272727272727326,"d":"3.27"}},{"v":100.22416501605758,"d":"100.2242"},{"$f":"(B914-B913)/Sheet3!$G$11","v":127.0674724990253},{"$nulls":8},-3.7762237762237714,110.38710587153996]
[{"$f":"A913+Sheet3!G$11","v":{"v":3.2807192807193344,"d":"3.28"}},{"v":101.23968927179405,"d":"101.2397"},{"$f":"(B915-B914)/Sheet3!$G$11","v":128.05174866870732},{"$nulls":8},3.504495504495563,111.4544950178624]
[{"$f":"A914+Sheet3!G$11","v":{"v":3.2887112887113426,"d":"3.29"}},{"v":102.26307987054496,"d":"102.2631"},{"$f":"(B916-B915)/Sheet3!$G$11","v":129.0410600855319},{"$nulls":8},-3.7842157842157795,111.76393973793049]
[{"$f":"A915+Sheet3!G$11","v":{"v":3.2967032967033507,"d":"3.30"}},{"v":103.29437705404571,"d":"103.2944"},{"$f":"(B917-B916)/Sheet3!$G$11","v":130.0354190007159},{"$nulls":8},3.512487512487571,112.60267956649481]
[{"$f":"A916+Sheet3!G$11","v":{"v":3.304695304695359,"d":"3.30"}},{"v":104.33362116194354,"d":"104.3336"},{"$f":"(B918-B917)/Sheet3!$G$11","v":131.03483766546543},{"$nulls":8},-3.7922077922077877,113.15111090957883]
[{"$f":"A917+Sheet3!G$11","v":{"v":3.312687312687367,"d":"3.31"}},{"v":105.38085263179741,"d":"105.3809"},{"$f":"(B919-B918)/Sheet3!$G$11","v":132.039328330992},{"$nulls":8},3.5204795204795793,113.7596817318792]
[{"$f":"A918+Sheet3!G$11","v":{"v":3.320679320679375,"d":"3.32"}},{"v":106.43611199907807,"d":"106.4361"},{"$f":"(B920-B919)/Sheet3!$G$11","v":133.04890324850524},{"$nulls":8},-3.800199800199796,114.5486657966616]
[{"$f":"A919+Sheet3!G$11","v":{"v":3.3286713286713834,"d":"3.33"}},{"v":107.49943989716802,"d":"107.4994"},{"$f":"(B921-B920)/Sheet3!$G$11","v":134.0635746692131},{"$nulls":8},3.5284715284715875,114.92554459519222]
[{"$f":"A920+Sheet3!G$11","v":{"v":3.3366633366633915,"d":"3.34"}},{"v":108.57087705736153,"d":"108.5709"},{"$f":"(B922-B921)/Sheet3!$G$11","v":135.0833548443324},{"$nulls":8},-3.808191808191804,115.9566509072672]
[{"$f":"A921+Sheet3!G$11","v":{"v":3.3446553446553997,"d":"3.34"}},{"v":109.65046430886468,"d":"109.6505"},{"$f":"(B923-B922)/Sheet3!$G$11","v":136.10825602505864},{"$nulls":8},3.5364635364635957,116.10031133552233]
[{"$f":"A922+Sheet3!G$11","v":{"v":3.352647352647408,"d":"3.35"}},{"v":110.73824257879522,"d":"110.7382"},{"$f":"(B924-B923)/Sheet3!$G$11","v":137.13829046261034},{"$nulls":8},3.544455544455604,117.28402522986963]
[{"$f":"A923+Sheet3!G$11","v":{"v":3.360639360639416,"d":"3.36"}},{"v":111.83425289218272,"d":"111.8343"},{"$f":"(B925-B924)/Sheet3!$G$11","v":138.17347040820434},{"$nulls":8},-3.816183816183812,117.37511284739581]
[{"$f":"A924+Sheet3!G$11","v":{"v":3.368631368631424,"d":"3.37"}},{"v":112.93853637196857,"d":"112.9385"},{"$f":"(B926-B925)/Sheet3!$G$11","v":139.21380811303257},{"$nulls":8},3.552447552447612,118.47672965314607]
[{"$f":"A925+Sheet3!G$11","v":{"v":3.3766233766234324,"d":"3.38"}},{"v":114.05113423900579,"d":"114.0511"},{"$f":"(B927-B926)/Sheet3!$G$11","v":140.25931582831538},{"$nulls":8},-3.8241758241758204,118.80409832095935]
[{"$f":"A926+Sheet3!G$11","v":{"v":3.3846153846154405,"d":"3.38"}},{"v":115.17208781205926,"d":"115.1721"},{"$f":"(B928-B927)/Sheet3!$G$11","v":141.31000580526958},{"$nulls":8},3.56043956043962,119.67846807817531]
[{"$f":"A927+Sheet3!G$11","v":{"v":3.3926073926074487,"d":"3.39"}},{"v":116.30143850780567,"d":"116.3014"},{"$f":"(B929-B928)/Sheet3!$G$11","v":142.3658902950889},{"$nulls":8},-3.8321678321678285,120.24365412978155]
[{"$f":"A928+Sheet3!G$11","v":{"v":3.400599400599457,"d":"3.40"}},{"v":117.43922784083335,"d":"117.4392"},{"$f":"(B930-B929)/Sheet3!$G$11","v":143.42698154899006},{"$nulls":8},3.5684315684316283,120.8892840756929]
[{"$f":"A929+Sheet3!G$11","v":{"v":3.408591408591465,"d":"3.41"}},{"v":118.58549742364247,"d":"118.5855"},{"$f":"(B931-B930)/Sheet3!$G$11","v":144.49329181818996},{"$nulls":8},-3.8401598401598367,121.69382717359792]
[{"$f":"A930+Sheet3!G$11","v":{"v":3.416583416583473,"d":"3.42"}},{"v":119.74028896664498,"d":"119.7403"},{"$f":"(B932-B931)/Sheet3!$G$11","v":145.56483335388222},{"$nulls":8},3.5764235764236365,122.10922131434599]
[{"$f":"A931+Sheet3!G$11","v":{"v":3.4245754245754814,"d":"3.42"}},{"v":120.90364427816452,"d":"120.9036"},{"$f":"(B933-B932)/Sheet3!$G$11","v":146.64161840729082},{"$nulls":8},-3.848151848151845,123.15466445005563]
[{"$f":"A932+Sheet3!G$11","v":{"v":3.4325674325674895,"d":"3.43"}},{"v":122.07560526443658,"d":"122.0756"},{"$f":"(B934-B933)/Sheet3!$G$11","v":147.7236592296219},{"$nulls":8},3.5844155844156447,123.33832356069355]
[{"$f":"A933+Sheet3!G$11","v":{"v":3.4405594405594977,"d":"3.44"}},{"v":123.25621392960838,"d":"123.2562"},{"$f":"(B935-B934)/Sheet3!$G$11","v":148.81096807207976},{"$nulls":8},3.592407592407653,124.5766346792064]
[{"$f":"A934+Sheet3!G$11","v":{"v":3.448551448551506,"d":"3.45"}},{"v":124.44551237573889,"d":"124.4455"},{"$f":"(B936-B935)/Sheet3!$G$11","v":149.90355718587773},{"$nulls":8},-3.856143856143853,124.62621305471373]
[{"$f":"A935+Sheet3!G$11","v":{"v":3.456543456543514,"d":"3.46"}},{"v":125.64354280279885,"d":"125.6435"},{"$f":"(B937-B936)/Sheet3!$G$11","v":151.00143882222542},{"$nulls":8},3.600399600399661,125.82419863226704]
[{"$f":"A936+Sheet3!G$11","v":{"v":3.464535464535522,"d":"3.46"}},{"v":126.85034750867078,"d":"126.8503"},{"$f":"(B938-B937)/Sheet3!$G$11","v":152.1046252323362},{"$nulls":8},-3.864135864135861,126.10852018104302]
[{"$f":"A937+Sheet3!G$11","v":{"v":3.4725274725275304,"d":"3.47"}},{"v":128.065968889149,"d":"128.0660"},{"$f":"(B939-B938)/Sheet3!$G$11","v":153.2131286674072},{"$nulls":8},3.608391608391669,127.08105948016976]
[{"$f":"A938+Sheet3!G$11","v":{"v":3.4805194805195385,"d":"3.48"}},{"v":129.29044943793946,"d":"129.2904"},{"$f":"(B940-B939)/Sheet3!$G$11","v":154.32696137866773},{"$nulls":8},-3.8721278721278694,127.60163312042592]
[{"$f":"A939+Sheet3!G$11","v":{"v":3.4885114885115467,"d":"3.49"}},{"v":130.52383174666008,"d":"130.5238"},{"$f":"(B941-B940)/Sheet3!$G$11","v":155.44613561730617},{"$nulls":8},3.6163836163836773,128.34726138112055]
[{"$f":"A940+Sheet3!G$11","v":{"v":3.496503496503555,"d":"3.50"}},{"v":131.76615850484035,"d":"131.7662"},{"$f":"(B942-B941)/Sheet3!$G$11","v":156.57066363454285},{"$nulls":8},-3.8801198801198775,129.10559926215677]
[{"$f":"A941+Sheet3!G$11","v":{"v":3.504495504495563,"d":"3.50"}},{"v":133.0174724999216,"d":"133.0175"},{"$f":"(B943-B942)/Sheet3!$G$11","v":157.70055768159816},{"$nulls":8},3.6243756243756855,129.62284859123733]
[{"$f":"A942+Sheet3!G$11","v":{"v":3.512487512487571,"d":"3.51"}},{"v":134.27781661725706,"d":"134.2778"},{"$f":"(B944-B943)/Sheet3!$G$11","v":158.83583000965686},{"$nulls":8},-3.8881118881118857,130.62046609344173]
[{"$f":"A943+Sheet3!G$11","v":{"v":3.5204795204795793,"d":"3.52"}},{"v":135.54723384011146,"d":"135.5472"},{"$f":"(B945-B944)/Sheet3!$G$11","v":159.97649286994647},{"$nulls":8},3.6323676323676937,130.90786546454962]
[{"$f":"A944+Sheet3!G$11","v":{"v":3.5284715284715875,"d":"3.53"}},{"v":136.82576724966148,"d":"136.8258"},{"$f":"(B946-B945)/Sheet3!$G$11","v":161.1225585136767},{"$nulls":8},-3.896103896103894,132.14628119939852]
[{"$f":"A945+Sheet3!G$11","v":{"v":3.5364635364635957,"d":"3.54"}},{"v":138.11346002499556,"d":"138.1135"},{"$f":"(B947-B946)/Sheet3!$G$11","v":162.27403919203942},{"$nulls":8},3.640359640359702,132.20235645299869]
[{"$f":"A946+Sheet3!G$11","v":{"v":3.544455544455604,"d":"3.54"}},{"v":139.41035544311376,"d":"139.4104"},{"$f":"(B948-B947)/Sheet3!$G$11","v":163.4309471562728},{"$nulls":8},3.64835164835171,133.50636610643778]
[{"$f":"A947+Sheet3!G$11","v":{"v":3.552447552447612,"d":"3.55"}},{"v":140.71649687892813,"d":"140.7165"},{"$f":"(B949-B948)/Sheet3!$G$11","v":164.59329465755806},{"$nulls":8},-3.904095904095902,133.68309226305675]
[{"$f":"A948+Sheet3!G$11","v":{"v":3.56043956043962,"d":"3.56"}},{"v":142.03192780526226,"d":"142.0319"},{"$f":"(B950-B949)/Sheet3!$G$11","v":165.7610939471334},{"$nulls":8},3.656343656343718,134.81993907263168]
[{"$f":"A949+Sheet3!G$11","v":{"v":3.5684315684316283,"d":"3.57"}},{"v":143.35669179285173,"d":"143.3567"},{"$f":"(B951-B950)/Sheet3!$G$11","v":166.93435727617646},{"$nulls":8},-3.91208791208791,135.23094706535778]
[{"$f":"A950+Sheet3!G$11","v":{"v":3.5764235764236365,"d":"3.58"}},{"v":144.69083251034365,"d":"144.6908"},{"$f":"(B952-B951)/Sheet3!$G$11","v":168.1130968959183},{"$nulls":8},3.6643356643357263,136.1431200972571]
[{"$f":"A951+Sheet3!G$11","v":{"v":3.5844155844156447,"d":"3.58"}},{"v":146.03439372429705,"d":"146.0344"},{"$f":"(B953-B952)/Sheet3!$G$11","v":169.29732505756505},{"$nulls":8},-3.9200799200799183,136.78989348515475]
[{"$f":"A952+Sheet3!G$11","v":{"v":3.592407592407653,"d":"3.59"}},{"v":147.38741929918268,"d":"147.3874"},{"$f":"(B954-B953)/Sheet3!$G$11","v":170.48705401232996},{"$nulls":8},3.6723276723277345,137.4759540239024]
[{"$f":"A953+Sheet3!G$11","v":{"v":3.600399600399661,"d":"3.60"}},{"v":148.74995319738312,"d":"148.7500"},{"$f":"(B955-B954)/Sheet3!$G$11","v":171.6822960114121},{"$nulls":8},-3.9280719280719265,138.35997949921256]
[{"$f":"A954+Sheet3!G$11","v":{"v":3.608391608391669,"d":"3.61"}},{"v":150.1220394791926,"d":"150.1220"},{"$f":"(B956-B955)/Sheet3!$G$11","v":172.88306330601753},{"$nulls":8},3.6803196803197427,138.81848579406778]
[{"$f":"A955+Sheet3!G$11","v":{"v":3.6163836163836773,"d":"3.62"}},{"v":151.50372230281712,"d":"151.5037"},{"$f":"(B957-B956)/Sheet3!$G$11","v":174.08936814737734},{"$nulls":8},-3.9360639360639347,139.94125318220784]
[{"$f":"A956+Sheet3!G$11","v":{"v":3.6243756243756855,"d":"3.62"}},{"v":152.89504592437459,"d":"152.8950"},{"$f":"(B958-B957)/Sheet3!$G$11","v":175.30122278668702},{"$nulls":8},3.688311688311751,140.1707604471651]
[{"$f":"A957+Sheet3!G$11","v":{"v":3.6323676323676937,"d":"3.63"}},{"v":154.29605469789456,"d":"154.2961"},{"$f":"(B959-B958)/Sheet3!$G$11","v":176.5186394751491},{"$nulls":8},3.696303696303759,141.53282312051815]
[{"$f":"A958+Sheet3!G$11","v":{"v":3.640359640359702,"d":"3.64"}},{"v":155.70679307531833,"d":"155.7068"},{"$f":"(B960-B959)/Sheet3!$G$11","v":177.74163046399107},{"$nulls":8},{"v":-3.944055944055943,"d":"-3.94"},{"v":141.53376270672905,"d":"141.5338"}]
[{"$f":"A959+Sheet3!G$11","v":{"v":3.64835164835171,"d":"3.65"}},{"v":157.12730560649908,"d":"157.1273"},{"$f":"(B961-B960)/Sheet3!$G$11","v":178.97020800440131},{"$nulls":8},3.704295704295767,142.90471904936237]
[{"$f":"A960+Sheet3!G$11","v":{"v":3.656343656343718,"d":"3.66"}},{"v":158.5576369392016,"d":"158.5576"},{"$f":"(B962-B961)/Sheet3!$G$11","v":180.20438434761442},{"$nulls":8},{"v":-3.952047952047951,"d":"-3.95"},{"v":143.1375563432763,"d":"143.1376"}]
[{"$f":"A961+Sheet3!G$11","v":{"v":3.6643356643357263,"d":"3.66"}},{"v":159.9978318191026,"d":"159.9978"},{"$f":"(B963-B962)/Sheet3!$G$11","v":181.44417174482226},{"$nulls":8},3.7122877122877753,144.28649356684494]
[{"$f":"A962+Sheet3!G$11","v":{"v":3.6723276723277345,"d":"3.67"}},{"$f":"x^4-3*x^2+6*x-2","v":{"v":161.4479350897905,"d":"161.4479"}},{"$f":"(B964-B963)/Sheet3!$G$11","v":182.68958244723459},{"$nulls":8},{"v":-3.960039960039959,"d":"-3.96"},{"v":144.75268246026155,"d":"144.7527"}]
[{"$f":"A963+Sheet3!G$11","v":{"v":3.6803196803197427,"d":"3.68"}},{"v":162.9079916927654,"d":"162.9080"},{"$f":"(B965-B964)/Sheet3!$G$11","v":183.9406287060682},{"$nulls":8},3.7202797202797835,145.67819210402493]
[{"$f":"A964+Sheet3!G$11","v":{"v":3.688311688311751,"d":"3.69"}},{"v":164.37804666743926,"d":"164.3780"},{"$f":"(B966-B965)/Sheet3!$G$11","v":185.1973227725292},{"$nulls":8},{"v":-3.9680319680319673,"d":"-3.97"},{"v":146.37918952400855,"d":"146.3792"}]
[{"$f":"A965+Sheet3!G$11","v":{"v":3.696303696303759,"d":"3.70"}},{"v":165.8581451511358,"d":"165.8581"},{"$f":"(B967-B966)/Sheet3!$G$11","v":186.4596768978344},{"$nulls":8},3.7282717282717917,147.07986018987305]
[{"$f":"A966+Sheet3!G$11","v":{"v":3.704295704295767,"d":"3.70"}},{"v":167.34833237909052,"d":"167.3483"},{"$f":"(B968-B967)/Sheet3!$G$11","v":187.72770333317223},{"$nulls":8},{"v":-3.9760239760239755,"d":"-3.98"},{"v":148.01712609875275,"d":"148.0171"}]
[{"$f":"A967+Sheet3!G$11","v":{"v":3.7122877122877753,"d":"3.71"}},{"v":168.84865368445054,"d":"168.8487"},{"$f":"(B969-B968)/Sheet3!$G$11","v":189.00141432978074},{"$nulls":8},3.7362637362638,148.49154345127187]
[{"$f":"A968+Sheet3!G$11","v":{"v":3.7202797202797835,"d":"3.72"}},{"v":170.35915449827496,"d":"170.3592"},{"$f":"(B970-B969)/Sheet3!$G$11","v":190.28082213885548},{"$nulls":8},{"v":-3.9840159840159837,"d":"-3.98"},{"v":149.66654084664148,"d":"149.6665"}]
[{"$f":"A969+Sheet3!G$11","v":{"v":3.7282717282717917,"d":"3.73"}},{"v":171.87988034953455,"d":"171.8799"},{"$f":"(B971-B970)/Sheet3!$G$11","v":191.5659390115919},{"$nulls":8},3.744255744255808,149.91328761301565]
[{"$f":"A970+Sheet3!G$11","v":{"v":3.7362637362638,"d":"3.74"}},{"v":173.4108768651117,"d":"173.4109"},{"$f":"(B972-B971)/Sheet3!$G$11","v":192.8567771992352},{"$nulls":8},{"v":-3.992007992007992,"d":"-3.99"},{"v":151.32748252773357,"d":"151.3275"}]
[{"$f":"A971+Sheet3!G$11","v":{"v":3.744255744255808,"d":"3.74"}},{"v":174.9521897698009,"d":"174.9522"},{"$f":"(B973-B972)/Sheet3!$G$11","v":194.15334895294893},{"$nulls":8},3.752247752247816,151.3451384978104]
[{"$f":"A972+Sheet3!G$11","v":{"v":3.752247752247816,"d":"3.75"}},{"v":176.50386488630798,"d":"176.5039"},{"$f":"(B974-B973)/Sheet3!$G$11","v":195.45566652398898},{"$nulls":8},3.7602397602398243,152.787142026274]
[{"$f":"A973+Sheet3!G$11","v":{"v":3.7602397602398243,"d":"3.76"}},{"v":178.06594813525095,"d":"178.0659"},{"$f":"(B975-B974)/Sheet3!$G$11","v":196.76374216353304},{"$nulls":8},{"v":-4,"d":"-4.00"},{"v":153,"d":"153.0000"}]
[{"$f":"A974+Sheet3!G$11","v":{"v":3.7682317682318325,"d":"3.77"}},{"v":179.6384855351593,"d":"179.6385"},{"$f":"(B976-B975)/Sheet3!$G$11","v":198.07758812280503},{"$nulls":8},3.7682317682318325,154.23934421693608]
[{"$f":"A975+Sheet3!G$11","v":{"v":3.7762237762238406,"d":"3.78"}},{"v":181.22152320247443,"d":"181.2215"},{"$f":"(B977-B976)/Sheet3!$G$11","v":199.39721665301107},{"$nulls":8},3.7762237762238406,155.70179118623795]
[{"$f":"A976+Sheet3!G$11","v":{"v":3.784215784215849,"d":"3.78"}},{"v":182.81510735154944,"d":"182.8151"},{"$f":"(B978-B977)/Sheet3!$G$11","v":200.72264000535378},{"$nulls":8},3.784215784215849,157.1745291485327]
[{"$f":"A977+Sheet3!G$11","v":{"v":3.792207792207857,"d":"3.79"}},{"v":184.41928429464917,"d":"184.4193"},{"$f":"(B979-B978)/Sheet3!$G$11","v":202.05387043105708},{"$nulls":8},3.792207792207857,158.65760441608518]
[{"$f":"A978+Sheet3!G$11","v":{"v":3.800199800199865,"d":"3.80"}},{"v":186.03410044195033,"d":"186.0341"},{"$f":"(B980-B979)/Sheet3!$G$11","v":203.39092018131998},{"$nulls":8},3.800199800199865,160.15106339907214]
[{"$f":"A979+Sheet3!G$11","v":{"v":3.8081918081918733,"d":"3.81"}},{"v":187.6596023015413,"d":"187.6596"},{"$f":"(B981-B980)/Sheet3!$G$11","v":204.73380150734863},{"$nulls":8},3.8081918081918733,161.6549526055819]
[{"$f":"A980+Sheet3!G$11","v":{"v":3.8161838161838815,"d":"3.82"}},{"v":189.2958364794222,"d":"189.2958"},{"$f":"(B982-B981)/Sheet3!$G$11","v":206.08252666038118},{"$nulls":8},3.8161838161838815,163.16931864161467]
[{"$f":"A981+Sheet3!G$11","v":{"v":3.8241758241758896,"d":"3.82"}},{"v":190.94284967950517,"d":"190.9428"},{"$f":"(B983-B982)/Sheet3!$G$11","v":207.43710789157754},{"$nulls":8},3.8241758241758896,164.69420821108247]
[{"$f":"A982+Sheet3!G$11","v":{"v":3.832167832167898,"d":"3.83"}},{"v":192.60068870361368,"d":"192.6007"},{"$f":"(B984-B983)/Sheet3!$G$11","v":208.79755745218648},{"$nulls":8},3.832167832167898,166.22966811580886]
[{"$f":"A983+Sheet3!G$11","v":{"v":3.840159840159906,"d":"3.84"}},{"v":194.2694004514833,"d":"194.2694"},{"$f":"(B985-B984)/Sheet3!$G$11","v":210.16388759341422},{"$nulls":8},3.840159840159906,167.77574525552944]
[{"$f":"A984+Sheet3!G$11","v":{"v":3.848151848151914,"d":"3.85"}},{"v":195.94903192076134,"d":"195.9490"},{"$f":"(B986-B985)/Sheet3!$G$11","v":211.5361105664455},{"$nulls":8},3.848151848151914,169.33248662789134]
[{"$f":"A985+Sheet3!G$11","v":{"v":3.8561438561439223,"d":"3.86"}},{"v":197.63963020700666,"d":"197.6396"},{"$f":"(B987-B986)/Sheet3!$G$11","v":212.91423862251847},{"$nulls":8},3.8561438561439223,170.89993932845363]
[{"$f":"A986+Sheet3!G$11","v":{"v":3.8641358641359305,"d":"3.86"}},{"v":199.34124250369013,"d":"199.3412"},{"$f":"(B988-B987)/Sheet3!$G$11","v":214.2982840128251},{"$nulls":8},3.8641358641359305,172.47815055068708]
[{"$f":"A987+Sheet3!G$11","v":{"v":3.8721278721279386,"d":"3.87"}},{"v":201.05391610219422,"d":"201.0539"},{"$f":"(B989-B988)/Sheet3!$G$11","v":215.68825898858924},{"$nulls":8},3.8721278721279386,174.06716758597415]
[{"$f":"A988+Sheet3!G$11","v":{"v":3.880119880119947,"d":"3.88"}},{"v":202.77769839181332,"d":"202.7777"},{"$f":"(B990-B989)/Sheet3!$G$11","v":217.0841758009993},{"$nulls":8},3.880119880119947,175.66703782360923]
[{"$f":"A989+Sheet3!G$11","v":{"v":3.888111888111955,"d":"3.89"}},{"v":204.51263685975337,"d":"204.5126"},{"$f":"(B991-B990)/Sheet3!$G$11","v":218.48604670128987},{"$nulls":8},3.888111888111955,177.27780875079836]
[{"$f":"A990+Sheet3!G$11","v":{"v":3.896103896103963,"d":"3.90"}},{"v":206.2587790911323,"d":"206.2588"},{"$f":"(B992-B991)/Sheet3!$G$11","v":219.89388394064926},{"$nulls":8},3.896103896103963,178.89952795265935]
[{"$f":"A991+Sheet3!G$11","v":{"v":3.9040959040959713,"d":"3.90"}},{"v":208.01617276897966,"d":"208.0162"},{"$f":"(B993-B992)/Sheet3!$G$11","v":221.3076997702979},{"$nulls":8},3.9040959040959713,180.53224311222178]
[{"$f":"A992+Sheet3!G$11","v":{"v":3.9120879120879795,"d":"3.91"}},{"v":209.78486567423678,"d":"209.7849"},{"$f":"(B994-B993)/Sheet3!$G$11","v":222.72750644144185},{"$nulls":8},3.9120879120879795,182.176002010427]
[{"$f":"A993+Sheet3!G$11","v":{"v":3.9200799200799876,"d":"3.92"}},{"v":211.5649056857568,"d":"211.5649"},{"$f":"(B995-B994)/Sheet3!$G$11","v":224.15331620529798},{"$nulls":8},3.9200799200799876,183.83085252612818]
[{"$f":"A994+Sheet3!G$11","v":{"v":3.928071928071996,"d":"3.93"}},{"v":213.35634078030463,"d":"213.3563"},{"$f":"(B996-B995)/Sheet3!$G$11","v":225.585141313076},{"$nulls":8},3.928071928071996,185.49684263609015]
[{"$f":"A995+Sheet3!G$11","v":{"v":3.936063936064004,"d":"3.94"}},{"v":215.159219032557,"d":"215.1592"},{"$f":"(B997-B996)/Sheet3!$G$11","v":227.02299401596068},{"$nulls":8},3.936063936064004,187.17402041498966]
[{"$f":"A996+Sheet3!G$11","v":{"v":3.944055944056012,"d":"3.94"}},{"v":216.97358861510213,"d":"216.9736"},{"$f":"(B998-B997)/Sheet3!$G$11","v":228.4668865651937},{"$nulls":8},3.944055944056012,188.862434035415]
[{"$f":"A997+Sheet3!G$11","v":{"v":3.9520479520480203,"d":"3.95"}},{"v":218.79949779844034,"d":"218.7995"},{"$f":"(B999-B998)/Sheet3!$G$11","v":229.91683121197414},{"$nulls":8},3.9520479520480203,190.56213176786645]
[{"$f":"A998+Sheet3!G$11","v":{"v":3.9600399600400285,"d":"3.96"}},{"v":220.6369949509836,"d":"220.6370"},{"$f":"(B1000-B999)/Sheet3!$G$11","v":231.372840207501},{"$nulls":8},3.9600399600400285,192.27316198075593]
[{"$f":"A999+Sheet3!G$11","v":{"v":3.9680319680320366,"d":"3.97"}},{"v":222.48612853905553,"d":"222.4861"},{"$f":"(B1001-B1000)/Sheet3!$G$11","v":232.8349258029982},{"$nulls":8},3.9680319680320366,193.99557314040715]
[{"$f":"A1000+Sheet3!G$11","v":{"v":3.976023976024045,"d":"3.98"}},{"v":224.34694712689168,"d":"224.3469"},{"$f":"(B1002-B1001)/Sheet3!$G$11","v":234.3031002496648},{"$nulls":8},3.976023976024045,195.7294138110556]
[{"$f":"A1001+Sheet3!G$11","v":{"v":3.984015984016053,"d":"3.98"}},{"v":226.21949937663925,"d":"226.2195"},{"$f":"(B1003-B1002)/Sheet3!$G$11","v":235.77737579871757},{"$nulls":8},3.984015984016053,197.47473265484842]
[{"$f":"A1002+Sheet3!G$11","v":{"v":3.992007992008061,"d":"3.99"}},{"v":228.10383404835727,"d":"228.1038"},{"$nulls":9},3.992007992008061,199.2315784318448]
[{"$f":"A1003+Sheet3!G$11","v":{"v":4.000000000000069,"d":"4.00"}},{"v":230.0000000000165,"d":"230.0000"}]

{"sheet":"Defining Function","index":3,"n_rows":12,"n_cols":1,"rows_kept":12}
["                                                     Defining a Function in Excel"]
[]
["Computers have very specific rules you must follow when defining a function.  If you don't, the program will either not work at all or will work incorrectly."]
[]
["1. The Variable used should be the one named in the instruction, usually x, though sometimes y, t, Q (for an angle theta), "]
[" or even x and y (for a function of two variables). "]
[]
["2.  Order of Operations:  There five arithmetic operations, addition (+), subtraction (-), multiplication (*), division (/), and  exponentiation or power (^).  When computers see any of these operation symbols, they perform the indicated steps in a very particular order.  First, the power is done.  Second, products and quotients of adjacent terms is done.  Third, and last, sums and differences of adjacent terms are done.  So, in 10*x^3 + 5*x – 7, say with x = 2, the first pass only calculates 2^3 and ignores the multiplications and the sums and differences to calculate 2^3 = 8.  The second pass looks at 10*8 + 5*2 – 7 and only does the multiplications, so it produces 80 + 10 -  7.  The third pass looks at the +’s and –‘s to produce 80 + 10 – 7 = 83.  "]
[]
["3.    Parentheses  If you need an operation involving more than two adjacent terms, as in Ö4^3 + 6^2, the computer would take the square root of  4 to produce 2^3 + 6^2;  it would then cube the 2 and square the 6 to produce 8 + 36; and finally it would add the 8 and the 36 to get 44.  If you actually wanted the square root of the entire expression, you would need to use parentheses, as in Ö(4^3 + 6^2) to tell the computer to do all the operations inside the parentheses before taking the square root.  Therefore, it would calculate (4^3 + 6^2) = 64 + 36 = 100 and then take the square root of Ö100  =  10."]
[]
["4.  Built-In Functions  Computer programs have built-in functions for most common algebraic functions.  In Excel, the square root function is denoted by SQRT(…), so SQRT(100) = 10.  Alternatively, you could enter it as 100^.5 or 100^(1/2); notice that parentheses are needed to have the ½ done first.  The common trig functions are SIN (…), COS (…), and TAN (…), where the arguments are automatically interpreted as being in radians, not degrees.  The logarithm to the base 10 is represented by LOG (…) and the logarithm with the base e, known as the natural logarithm, is LN (…). The corresponding exponential function with base e is EXP (x).  If x is the variable, then each of these would be SQRT (x), SIN (x), COS (x), TAN (x), LOG (x) (for log with base 10 ), LN (x) (for log with base e ), and EXP (x)."]

{"sheet":"Sheet4","index":4,"n_rows":0,"n_cols":0,"rows_kept":0}