{"text_format":"3","workbook":"xlsx","n_sheets":4,"sheets":["Sheet1","Sheet2","Defining Function","Sheet3"],"not_rendered":{"charts":1,"images":2,"macros":1,"external_links":1,"defined_names":12,"comments":1},"read":"whole","date_system":"1900"}

{"sheet":"Sheet1","index":0,"n_rows":37,"n_cols":16,"rows_kept":37}
[null,"      Monte Carlo Integration"]
[]
[null,"This program applies Monte Carlo methods"]
[null,"         to approximate the definite integral"]
[null,"               of any desired positive function"]
[{"$nulls":3},"y = f(x)"]
[null,"       on an interval from x = a  to x = b."]
[]
[]
["  Enter the function in terms of x:    f(x)  =",{"$nulls":4},"sin(x)"]
[]
["Now enter the interval for x:  "]
[null,null,"xMin =",0]
[null,null,"xMax =",3.14]
[]
[]
[{"$nulls":3},0,{"$nulls":5},"The graph of the function y =",null,null,{"$f":"F10","v":"sin(x)"}]
[]
[]
[{"$nulls":8},"How many random points? (500 - 2500)"]
["Click each item below for suggestions and investigations",{"$nulls":8},{"$f":"M21+500","v":2000},null,null,1500]
[null,"   Item 1"]
[null,"   Item 2",{"$nulls":6},{"$f":"\"Of the \"&TEXT(n,\"0\")&\" random points, \"& TEXT(hits,\"0\") &\"  (or \" & TEXT(100*hits/n,\"0.00\")  & \"%), fell under the curve\"","v":"Of the 2000 random points, 1305  (or 65.25%), fell under the curve"}]
[null,"   Item 3"]
[null,"   Item 4",{"$nulls":6},{"$f":"\"So the area under the curve is approximately \" & TEXT(100*hits/n,\"0.00\") & \"% of  the total area\"","v":"So the area under the curve is approximately 65.25% of  the total area"}]
[null,"   Item 5"]
[{"$nulls":9},{"$f":"\"     or approximately \" & TEXT(100*hits/n,\"0.00\") & \"% of  \"&TEXT(xMax-xMin,\"0.00\") &\" by \" &TEXT(fmax-fmin,\"0.00\") & \" = \"","v":"     or approximately 65.25% of  3.14 by 1.00 = "},{"$nulls":5},{"$f":"(xMax-xMin)*(fmax-fmin)","v":{"v":3.139999004405961,"d":"3.140"}}]
[]
[{"$nulls":9},"which is about ",{"$f":"hits/n*(xMax-xMin)*(fmax-fmin)","v":{"v":2.0488493503748892,"d":"2.049"}},"square units."]
["To access/download all the DIGMath Apps for Calculus"]
["        Click this link:",null,"DIGMath for Calculus",{"$nulls":5},"           The actual area under the curve is about ",{"$nulls":5},{"$f":"Sheet2!S3","v":{"v":1.9999987317286168,"d":"2.000"}},"square units."]
[]
["Created by:  Sheldon P. Gordon   "]
["                      Farmingdale State College    "]
["Development of this module was supported by the "]
["NSF's Division of Undergraduate Education  "]
["under grants DUE-0310123 and DUE-0442160."]

{"sheet":"Sheet2","index":1,"n_rows":2503,"n_cols":19,"rows_kept":2503}
["fmin =",{"$f":"MIN(E3:E1003)","v":0},"i","x","y = f(x)","random","random","corresp","random","height","1 if under","   under the curve",null,"  over the curve",{"$nulls":3},"Simpson"]
["fmax =",{"$f":"MAX(E3:E1003)","v":0.9999996829318346},{"$nulls":3},"integer","integer","x","y","f(x)","curve",{"$nulls":7},"Simp ="]
[null,null,1,{"$f":"Sheet1!D13","v":0},{"$f":"SIN(x)","v":0},{"$f":"INT(1000*ABS(RAND()))+1","v":327},{"$f":"IF(F3>0,F3,-F3)","v":327},{"$f":"LOOKUP(G3,C$3:C$1003,D$3:D$1003)","v":1.0236400000000028},{"$f":"fmin+(fmax-fmin)*ABS(RAND())","v":0.8697655910131242},{"$f":"LOOKUP(H3,D$3:D$1003,E$3:E$1003)","v":0.8540074247660693},{"$f":"IF(I3>J3,0,1)","v":0},{"$f":"IF(K3=1,H3,xMin)","v":0},{"$f":"IF(K3=1,I3,fmax)","v":0.9999996829318346},{"$f":"IF(K3=0,H3,xMax)","v":1.0236400000000028},{"$f":"IF(K3=0,I3,0)","v":0.8697655910131242},"hits =",{"$f":"SUM(K3:K2503)","v":1305},{"$f":"E3","v":0},{"$f":"SUM(R3:R1003)*B20/3","v":{"v":1.9999987317286168,"d":"2.000"}}]
["verticals",null,2,{"$f":"D3+Sheet2!B$20","v":3.14E-3},3.1399948401452105E-3,{"$f":"INT(1000*ABS(RAND()))+1","v":945},{"$f":"IF(F4>0,F4,-F4)","v":945},{"$f":"LOOKUP(G4,C$3:C$1003,D$3:D$1003)","v":2.964160000000022},0.1609571126075661,{"$f":"LOOKUP(H4,D$3:D$1003,E$3:E$1003)","v":0.17650311861210735},{"$f":"IF(I4>J4,0,1)","v":1},2.964160000000022,0.1609571126075661,3.14,{"$f":"IF(K4=0,I4,0)","v":0},"% =",{"$f":"hits/n*100","v":65.25},{"$f":"4*E4","v":0.012559979360580842}]
[{"$f":"xMin","v":0},{"$f":"fmin","v":0},3,{"$f":"D4+Sheet2!B$20","v":6.28E-3},0.006279958721222732,{"$f":"INT(1000*ABS(RAND()))+1","v":922},{"$f":"IF(F5>0,F5,-F5)","v":922},2.8919400000000186,0.05234442323225954,0.24706739608520098,1,2.8919400000000186,0.05234442323225954,3.14,0,null,null,{"$f":"2*E5","v":0.012559917442445464}]
[{"$f":"xMin","v":0},{"$f":"fmax","v":0.9999996829318346},4,{"$f":"D5+Sheet2!B$20","v":0.00942},0.009419860684470118,416,416,1.3030999999999957,0.9670164120152599,0.9643828005643793,0,0,0.9999996829318346,1.3030999999999957,0.9670164120152599,null,null,{"$f":"4*E6","v":0.03767944273788047}]
[null,null,5,{"$f":"D6+Sheet2!B$20","v":0.01256},0.012559669771735412,808,808,2.5339800000000023,0.2006946204113188,0.5709090457000187,1,2.5339800000000023,0.2006946204113188,3.14,0,null,null,{"$f":"2*E7","v":0.025119339543470825}]
[{"$f":"xMax","v":3.14},{"$f":"fmin","v":0},6,{"$f":"D7+Sheet2!B$20","v":0.0157},0.015699355025782367,924,924,2.898220000000019,0.049216336048092627,0.2409772548165826,1,2.898220000000019,0.049216336048092627,3.14,0,null,null,{"$f":"4*E8","v":0.06279742010312947}]
[{"$f":"xMax","v":3.14},{"$f":"fmax","v":0.9999996829318346},7,{"$f":"D8+Sheet2!B$20","v":0.01884},0.018838885490595692,421,421,1.3187999999999953,0.04053008869063316,0.9684165921729674,1,1.3187999999999953,0.04053008869063316,3.14,0,null,null,{"$f":"2*E9","v":0.037677770981191384}]
[null,null,8,{"$f":"D9+Sheet2!B$20","v":0.02198},0.02197823021168625,756,756,2.370699999999995,0.5641892291110133,0.6967758067277791,1,2.370699999999995,0.5641892291110133,3.14,0,null,null,{"$f":"4*E10","v":0.087912920846745}]
[{"$f":"xMin","v":0},{"$f":"fmax","v":0.9999996829318346},9,{"$f":"D10+Sheet2!B$20","v":0.02512},0.025117358236396256,763,763,2.392679999999996,0.7539360912563415,0.6808427579568699,0,0,0.9999996829318346,2.392679999999996,0.7539360912563415,null,null,0.05023471647279251]
[{"$f":"xMax","v":3.14},{"$f":"fmax","v":0.9999996829318346},10,{"$f":"D11+Sheet2!B$20","v":0.02826},0.028256238614204468,199,199,0.6217199999999995,0.11791885825347057,0.5824341713255371,1,0.6217199999999995,0.11791885825347057,3.14,0,null,null,0.11302495445681787]
[null,null,11,{"$f":"D12+Sheet2!B$20","v":0.0314},0.03139484039703134,373,373,1.1680799999999991,0.6332227616701104,0.9199998098355247,1,1.1680799999999991,0.6332227616701104,3.14,0,null,null,0.06278968079406268]
[{"$f":"xMin","v":0},{"$f":"fmin","v":0},12,{"$f":"D13+Sheet2!B$20","v":0.034539999999999994},0.03453313263954416,166,166,0.5180999999999985,0.8697206548090595,0.4952303855260306,0,0,0.9999996829318346,0.5180999999999985,0.8697206548090595,null,null,0.13813253055817665]
[{"$f":"xMax","v":3.14},{"$f":"fmin","v":0},13,{"$f":"D14+Sheet2!B$20","v":0.03767999999999999},0.037671084399462165,237,237,0.7410400000000007,0.5320459154135555,0.6750555541359085,1,0.7410400000000007,0.5320459154135555,3.14,0,null,null,0.07534216879892433]
[null,null,14,{"$f":"D15+Sheet2!B$20","v":0.04081999999999999},0.04080866473786159,798,798,2.502580000000001,0.38865154049877176,0.5964032040350337,1,2.502580000000001,0.38865154049877176,3.14,0,null,null,0.16323465895144637]
[null,null,15,{"$f":"D16+Sheet2!B$20","v":0.043959999999999985},0.04394584271948076,928,928,2.9107800000000195,0.4143038808434912,0.22876870166039845,0,0,0.9999996829318346,2.9107800000000195,0.4143038808434912,null,null,0.08789168543896152]
[null,null,16,{"$f":"D17+Sheet2!B$20","v":0.04709999999999998},0.04708258741302506,442,442,1.3847399999999936,0.24424400223482523,0.9827413946211642,1,1.3847399999999936,0.24424400223482523,3.14,0,null,null,0.18833034965210024]
[null,null,17,{"$f":"D18+Sheet2!B$20","v":0.05023999999999998},0.05021886789147191,900,900,2.8228600000000155,0.317109492295752,0.3133632982154257,0,0,0.9999996829318346,2.8228600000000155,0.317109492295752,null,null,0.10043773578294382]
["delta x = ",{"$f":"(Sheet1!D14-Sheet1!D13)/1000","v":3.14E-3},18,{"$f":"D19+Sheet2!B$20","v":0.053379999999999976},0.053354653232375725,856,856,2.684700000000009,0.887348433382039,0.4411616226433953,0,0,0.9999996829318346,2.684700000000009,0.887348433382039,null,null,0.2134186129295029]
[null,null,19,{"$f":"D20+Sheet2!B$20","v":0.05651999999999997},0.05648991251817275,976,976,3.0615000000000263,0.37662255215998397,0.08000705088239393,0,0,0.9999996829318346,3.0615000000000263,0.37662255215998397,null,null,0.1129798250363455]
["n =",{"$f":"Sheet1!J21","v":2000},20,{"$f":"D21+Sheet2!B$20","v":0.05965999999999997},0.059624614836485935,156,156,0.4866999999999984,0.19792691938519535,0.46771163246683745,1,0.4866999999999984,0.19792691938519535,3.14,0,null,null,0.23849845934594374]
[null,null,21,{"$f":"D22+Sheet2!B$20","v":0.06279999999999997},0.0627587292804297,423,423,1.3250799999999952,0.28079926954482004,0.9699633264923766,1,1.3250799999999952,0.28079926954482004,3.14,0,null,null,0.1255174585608594]
[null,null,22,{"$f":"D23+Sheet2!B$20","v":0.06593999999999997},0.06589222494891467,874,874,2.7412200000000118,0.6852561542801939,0.3897615519471309,0,0,0.9999996829318346,2.7412200000000118,0.6852561542801939,null,null,0.2635688997956587]
[null,null,23,{"$f":"D24+Sheet2!B$20","v":0.06907999999999997},0.06902507094695232,500,500,1.566859999999989,0.11431113821206615,0.9999922526756854,1,1.566859999999989,0.11431113821206615,3.14,0,null,null,0.13805014189390463]
[null,null,24,{"$f":"D25+Sheet2!B$20","v":0.07221999999999998},0.07215723638595962,408,408,1.2779799999999963,0.6402342006887906,0.9574347414163443,1,1.2779799999999963,0.6402342006887906,3.14,0,null,null,0.2886289455438385]
[null,null,25,{"$f":"D26+Sheet2!B$20","v":0.07535999999999998},0.0752886903840636,900,900,2.8228600000000155,0.8349513840236198,0.3133632982154257,0,0,0.9999996829318346,2.8228600000000155,0.8349513840236198,null,null,0.1505773807681272]
[null,null,26,{"$f":"D27+Sheet2!B$20","v":0.07849999999999999},0.07841940206640578,630,630,1.9750599999999787,0.45015504219825436,0.919392274552372,1,1.9750599999999787,0.45015504219825436,3.14,0,null,null,0.31367760826562313]
[null,null,27,{"$f":"D28+Sheet2!B$20","v":0.08163999999999999},0.08154934056544663,635,635,1.9907599999999783,0.8255306561821898,0.9131037523401866,1,1.9907599999999783,0.8255306561821898,3.14,0,null,null,0.16309868113089326]
[null,null,28,{"$f":"D29+Sheet2!B$20","v":0.08478},0.08467847502126986,201,201,0.6279999999999996,0.06692483569391952,0.5875275257138916,1,0.6279999999999996,0.06692483569391952,3.14,0,null,null,0.33871390008507946]
[null,null,29,{"$f":"D30+Sheet2!B$20","v":0.08792},0.08780677458188675,851,851,2.6690000000000085,0.8457860860141612,0.45519628839578913,0,0,0.9999996829318346,2.6690000000000085,0.8457860860141612,null,null,0.1756135491637735]
[null,null,30,{"$f":"D31+Sheet2!B$20","v":0.09106},0.09093420840354029,82,82,0.2543400000000002,0.5465910819562124,0.25160669596654234,0,0,0.9999996829318346,0.2543400000000002,0.5465910819562124,null,null,0.36373683361416115]
[null,null,31,{"$f":"D32+Sheet2!B$20","v":0.0942},0.09406074565100932,397,397,1.2434399999999972,0.6953938671811145,0.9468957004551473,1,1.2434399999999972,0.6953938671811145,3.14,0,null,null,0.18812149130201863]
[null,null,32,{"$f":"D33+Sheet2!B$20","v":0.09734000000000001},0.0971863554979125,482,482,1.5103399999999905,0.3682383366349898,0.9981730728235517,1,1.5103399999999905,0.3682383366349898,3.14,0,null,null,0.38874542199165]
[null,null,33,{"$f":"D34+Sheet2!B$20","v":0.10048000000000001},0.10031100712701232,602,602,1.887139999999981,0.3590715156779717,0.9503792286372532,1,1.887139999999981,0.3590715156779717,3.14,0,null,null,0.20062201425402465]
[null,null,34,{"$f":"D35+Sheet2!B$20","v":0.10362000000000002},0.1034346697305189,116,116,0.36109999999999937,0.6787078904687434,0.35330350644763237,0,0,0.9999996829318346,0.36109999999999937,0.6787078904687434,null,null,0.4137386789220756]
[null,null,35,{"$f":"D36+Sheet2!B$20","v":0.10676000000000002},0.10655731251039371,175,175,0.5463599999999987,0.616911572087985,0.5195805838284954,0,0,0.9999996829318346,0.5463599999999987,0.616911572087985,null,null,0.21311462502078743]
[null,null,36,{"$f":"D37+Sheet2!B$20","v":0.10990000000000003},0.10967890467865332,807,807,2.530840000000002,0.2988937853786698,0.5734842088041335,1,2.530840000000002,0.2988937853786698,3.14,0,null,null,0.4387156187146133]
[null,null,37,{"$f":"D38+Sheet2!B$20","v":0.11304000000000003},0.11279941545767286,548,548,1.7175799999999852,0.2050379722072481,0.9892466046826357,1,1.7175799999999852,0.2050379722072481,3.14,0,null,null,0.22559883091534572]
[null,null,38,{"$f":"D39+Sheet2!B$20","v":0.11618000000000003},0.11591881408048954,62,62,0.19154000000000013,0.5944556587944055,0.19037095695199152,0,0,0.9999996829318346,0.19154000000000013,0.5944556587944055,null,null,0.46367525632195816]
[null,null,39,{"$f":"D40+Sheet2!B$20","v":0.11932000000000004},0.11903706979110598,531,531,1.6641999999999866,0.2565431207622804,0.9956410473467534,1,1.6641999999999866,0.2565431207622804,3.14,0,null,null,0.23807413958221196]
[null,null,40,{"$f":"D41+Sheet2!B$20","v":0.12246000000000004},0.1221541518447934,264,264,0.8258200000000016,0.04309353753355909,0.7351039519410848,1,0.8258200000000016,0.04309353753355909,3.14,0,null,null,0.4886166073791736]
[null,null,41,{"$f":"D42+Sheet2!B$20","v":0.12560000000000004},0.1252700295083949,932,932,2.92334000000002,0.9624898721985878,0.2165240598923895,0,0,0.9999996829318346,2.92334000000002,0.9624898721985878,null,null,0.2505400590167898]
[null,null,42,{"$f":"D43+Sheet2!B$20","v":0.12874000000000005},0.12838467206062823,732,732,2.2953399999999915,0.588857134240574,0.7488019504952347,1,2.2953399999999915,0.588857134240574,3.14,0,null,null,0.5135386882425129]
[null,null,43,{"$f":"D44+Sheet2!B$20","v":0.13188000000000005},0.13149804879238897,455,455,1.4255599999999926,0.6458725160396648,0.9894717308077838,1,1.4255599999999926,0.6458725160396648,3.14,0,null,null,0.26299609758477793]
[null,null,44,{"$f":"D45+Sheet2!B$20","v":0.13502000000000006},0.13461012900705308,387,387,1.212039999999998,0.15383101274232056,0.9363342138032692,1,1.212039999999998,0.15383101274232056,3.14,0,null,null,0.5384405160282123]
[null,null,45,{"$f":"D46+Sheet2!B$20","v":0.13816000000000006},0.1377208820207797,104,104,0.32341999999999965,0.8060972934938805,0.31781109977109323,0,0,0.9999996829318346,0.32341999999999965,0.8060972934938805,null,null,0.2754417640415594]
[null,null,46,{"$f":"D47+Sheet2!B$20","v":0.14130000000000006},0.14083027716281366,973,973,3.052080000000026,0.6249713269791751,0.08939316455465884,0,0,0.9999996829318346,3.052080000000026,0.6249713269791751,null,null,0.5633211086512546]
[null,null,47,{"$f":"D48+Sheet2!B$20","v":0.14444000000000007},0.14393828377578774,948,948,2.9735800000000223,0.7016679118842902,0.16722331791122544,0,0,0.9999996829318346,2.9735800000000223,0.7016679118842902,null,null,0.2878765675515755]
[null,null,48,{"$f":"D49+Sheet2!B$20","v":0.14758000000000007},0.14704487121602514,671,671,2.103799999999983,0.15612326116487166,0.861284723704258,1,2.103799999999983,0.15612326116487166,3.14,0,null,null,0.5881794848641005]
[null,null,49,{"$f":"D50+Sheet2!B$20","v":0.15072000000000008},0.15015000885384153,178,178,0.5557799999999988,0.03983036839527814,0.5276060621833467,1,0.5557799999999988,0.03983036839527814,3.14,0,null,null,0.30030001770768305]
[null,null,50,{"$f":"D51+Sheet2!B$20","v":0.15386000000000008},0.15325366607384697,930,930,2.9170600000000197,0.7627330033220616,0.22265077125705304,0,0,0.9999996829318346,2.9170600000000197,0.7627330033220616,null,null,0.6130146642953879]
[null,null,51,{"$f":"D52+Sheet2!B$20","v":0.15700000000000008},0.15635581227524786,434,434,1.3596199999999943,0.23201233141878758,0.9777850211423663,1,1.3596199999999943,0.23201233141878758,3.14,0,null,null,0.3127116245504957]
[null,null,52,{"$f":"D53+Sheet2!B$20","v":0.1601400000000001},0.15945641687214873,177,177,0.5526399999999988,0.11524020497452966,0.5249360695951265,1,0.5526399999999988,0.11524020497452966,3.14,0,null,null,0.6378256674885949]
[null,null,53,{"$f":"D54+Sheet2!B$20","v":0.1632800000000001},0.16255544929385354,142,142,0.44273999999999875,0.5631962656927375,0.4284168826307442,0,0,0.9999996829318346,0.44273999999999875,0.5631962656927375,null,null,0.3251108985877071]
[null,null,54,{"$f":"D55+Sheet2!B$20","v":0.1664200000000001},0.16565287898516734,378,378,1.1837799999999987,0.3154697767187409,0.9260392992527526,1,1.1837799999999987,0.3154697767187409,3.14,0,null,null,0.6626115159406694]
[null,null,55,{"$f":"D56+Sheet2!B$20","v":0.1695600000000001},0.16874867540669744,467,467,1.4632399999999917,0.15335849423925496,0.9942213922597716,1,1.4632399999999917,0.15335849423925496,3.14,0,null,null,0.3374973508133949]
[null,null,56,{"$f":"D57+Sheet2!B$20","v":0.1727000000000001},0.17184280803515456,299,299,0.9357200000000027,0.6137999450119189,0.8050264187899476,1,0.9357200000000027,0.6137999450119189,3.14,0,null,null,0.6873712321406182]
[null,null,57,{"$f":"D58+Sheet2!B$20","v":0.1758400000000001},0.17493524636365365,290,290,0.9074600000000024,0.4161058852448199,0.787942280382704,1,0.9074600000000024,0.4161058852448199,3.14,0,null,null,0.3498704927273073]
[null,null,58,{"$f":"D59+Sheet2!B$20","v":0.1789800000000001},0.17802595990201484,314,314,0.9828200000000031,0.2608336312475991,0.8320648697704546,1,0.9828200000000031,0.2608336312475991,3.14,0,null,null,0.7121038396080593]
[null,null,59,{"$f":"D60+Sheet2!B$20","v":0.18212000000000012},0.18111491817706396,692,692,2.169739999999986,0.23235477136663066,0.8259316013073994,1,2.169739999999986,0.23235477136663066,3.14,0,null,null,0.3622298363541279]
[null,null,60,{"$f":"D61+Sheet2!B$20","v":0.18526000000000012},0.18420209073293303,987,987,3.096040000000028,0.8068382759120971,0.045536901262216135,0,0,0.9999996829318346,3.096040000000028,0.8068382759120971,null,null,0.7368083629317321]
[null,null,61,{"$f":"D62+Sheet2!B$20","v":0.18840000000000012},0.18728744713136053,677,677,2.1226399999999837,0.18408990617307644,0.8515594092460148,1,2.1226399999999837,0.18408990617307644,3.14,0,null,null,0.37457489426272106]
[null,null,62,{"$f":"D63+Sheet2!B$20","v":0.19154000000000013},0.19037095695199152,813,813,2.549680000000003,0.009922867842590334,0.5579493059647503,1,2.549680000000003,0.009922867842590334,3.14,0,null,null,0.7614838278079661]
[null,null,63,{"$f":"D64+Sheet2!B$20","v":0.19468000000000013},0.19345258979267752,879,879,2.7569200000000125,0.32785034524161055,0.37525573249134136,1,2.7569200000000125,0.32785034524161055,3.14,0,null,null,0.38690517958535503]
[null,null,64,{"$f":"D65+Sheet2!B$20","v":0.19782000000000013},0.19653231526977635,708,708,2.219979999999988,0.1787395017585653,0.7965775631222011,1,2.219979999999988,0.1787395017585653,3.14,0,null,null,0.7861292610791054]
[null,null,65,{"$f":"D66+Sheet2!B$20","v":0.20096000000000014},{"$f":"SIN(x)","v":0.19961010301845164},686,686,2.150899999999985,{"$f":"fmin+(fmax-fmin)*ABS(RAND())","v":0.07838813034492652},0.8364058300220902,1,{"$f":"IF(K67=1,H67,xMin)","v":2.150899999999985},{"$f":"IF(K67=1,I67,fmax)","v":0.07838813034492652},{"$f":"IF(K67=0,H67,xMax)","v":3.14},0,null,null,0.3992202060369033]
[null,null,66,{"$f":"D67+Sheet2!B$20","v":0.20410000000000014},0.20268592269297228,773,773,{"$f":"LOOKUP(G68,C$3:C$1003,D$3:D$1003)","v":2.4240799999999973},0.37051534606750264,{"$f":"LOOKUP(H68,D$3:D$1003,E$3:E$1003)","v":0.657512632848294},{"$f":"IF(I68>J68,0,1)","v":1},2.4240799999999973,0.37051534606750264,3.14,{"$f":"IF(K68=0,I68,0)","v":0},null,null,0.8107436907718891]
[null,null,67,{"$f":"D68+Sheet2!B$20","v":0.20724000000000015},0.20575974396701147,{"$f":"INT(1000*ABS(RAND()))+1","v":563},{"$f":"IF(F69>0,F69,-F69)","v":563},1.764679999999984,0.08427950319233841,0.9812633649959536,1,1.764679999999984,0.08427950319233841,3.14,0,null,null,0.41151948793402293]
[null,null,68,{"$f":"D69+Sheet2!B$20","v":0.21038000000000015},0.2088315365339459,189,189,0.5903199999999992,0.04091051683186683,0.556626895439873,1,0.5903199999999992,0.04091051683186683,3.14,0,null,null,0.8353261461357836]
[null,null,69,{"$f":"D70+Sheet2!B$20","v":0.21352000000000015},0.21190127010715445,619,619,1.9405199999999796,0.22114144328832394,0.9324272340434451,1,1.9405199999999796,0.22114144328832394,3.14,0,null,null,0.4238025402143089]
[null,null,70,{"$f":"D71+Sheet2!B$20","v":0.21666000000000016},0.21496891442031685,46,46,0.14130000000000006,0.3245552947306249,0.14083027716281366,0,0,0.9999996829318346,0.14130000000000006,0.3245552947306249,null,null,0.8598756576812674]
[null,null,71,{"$f":"D72+Sheet2!B$20","v":0.21980000000000016},0.2180344392277121,370,370,1.1586599999999994,0.36520565833186996,0.9162671708567964,1,1.1586599999999994,0.36520565833186996,3.14,0,null,null,{"$f":"2*E73","v":0.4360688784554242}]
[null,null,72,{"$f":"D73+Sheet2!B$20","v":0.22294000000000017},0.22109781430451664,4,4,0.00942,0.030677576866684795,0.009419860684470118,0,0,0.9999996829318346,0.00942,0.030677576866684795,null,null,{"$f":"4*E74","v":0.8843912572180666}]
[null,null,73,{"$f":"D74+Sheet2!B$20","v":0.22608000000000017},0.22415900944710238,546,546,1.7112999999999854,0.6683344306715495,0.9901455864854977,1,1.7112999999999854,0.6683344306715495,3.14,0,null,null,0.44831801889420475]
[null,null,74,{"$f":"D75+Sheet2!B$20","v":0.22922000000000017},0.22721799447333446,668,668,2.0943799999999824,0.16541332932824215,0.8660329548822824,1,2.0943799999999824,0.16541332932824215,3.14,0,null,null,0.9088719778933378]
[null,null,75,{"$f":"D76+Sheet2!B$20","v":0.23236000000000018},0.23027473922286892,564,564,1.767819999999984,0.300718691259813,0.9806535408537311,1,1.767819999999984,0.300718691259813,3.14,0,null,null,0.46054947844573785]
[null,null,76,{"$f":"D77+Sheet2!B$20","v":0.23550000000000018},0.23332921355744998,449,449,1.406719999999993,0.5528689115116157,0.9865696500094607,1,1.406719999999993,0.5528689115116157,3.14,0,null,null,0.9333168542297999]
[null,null,77,{"$f":"D78+Sheet2!B$20","v":0.23864000000000019},0.23638138736120726,913,913,2.8636800000000173,0.002379047895203727,0.2743489923590254,1,2.8636800000000173,0.002379047895203727,3.14,0,null,null,0.4727627747224145]
[null,null,78,{"$f":"D79+Sheet2!B$20","v":0.2417800000000002},0.2394312305409526,592,592,1.8557399999999817,0.30364268300145214,0.9596774878331276,1,1.8557399999999817,0.30364268300145214,3.14,0,null,null,0.9577249221638104]
[null,null,79,{"$f":"D80+Sheet2!B$20","v":0.2449200000000002},0.24247871302647697,493,493,1.5448799999999896,0.12592423857951482,0.9996641907990496,1,1.5448799999999896,0.12592423857951482,3.14,0,null,null,0.48495742605295394]
[null,null,80,{"$f":"D81+Sheet2!B$20","v":0.2480600000000002},0.24552380477084668,299,299,0.9357200000000027,0.1856052977718048,0.8050264187899476,1,0.9357200000000027,0.1856052977718048,3.14,0,null,null,0.9820952190833867]
[null,null,81,{"$f":"D82+Sheet2!B$20","v":0.2512000000000002},0.24856647575069984,740,740,2.3204599999999926,0.10568725144842811,0.7319180808661861,1,2.3204599999999926,0.10568725144842811,3.14,0,null,null,0.4971329515013997]
[null,null,82,{"$f":"D83+Sheet2!B$20","v":0.2543400000000002},0.25160669596654234,578,578,1.8117799999999828,0.2271274133910794,0.9711036832457671,1,1.8117799999999828,0.2271274133910794,3.14,0,null,null,1.0064267838661693]
[null,null,83,{"$f":"D84+Sheet2!B$20","v":0.25748000000000015},0.2546444354430435,451,451,1.412999999999993,0.11942571936301366,0.9875759712809216,1,1.412999999999993,0.11942571936301366,3.14,0,null,null,0.509288870886087]
[null,null,84,{"$f":"D85+Sheet2!B$20","v":0.26062000000000013},0.2576796642293318,101,101,0.3139999999999997,0.29928595937692504,0.30886552009893187,1,0.3139999999999997,0.29928595937692504,3.14,0,null,null,1.0307186569173272]
[null,null,85,{"$f":"D86+Sheet2!B$20","v":0.2637600000000001},0.2607123523992902,417,417,1.3062399999999956,0.9196763077246224,0.9652086080147073,1,1.3062399999999956,0.9196763077246224,3.14,0,null,null,0.5214247047985804]
[null,null,86,{"$f":"D87+Sheet2!B$20","v":0.2669000000000001},0.26374247005185086,110,110,0.3422599999999995,0.5738437685485333,0.33561686421220455,0,0,0.9999996829318346,0.3422599999999995,0.5738437685485333,null,null,1.0549698802074035]
[null,null,87,{"$f":"D88+Sheet2!B$20","v":0.27004000000000006},0.26676998731129037,763,763,2.392679999999996,0.38824386973908126,0.6808427579568699,1,2.392679999999996,0.38824386973908126,3.14,0,null,null,0.5335399746225807]
[null,null,88,{"$f":"D89+Sheet2!B$20","v":0.27318000000000003},0.26979487432752414,914,914,2.8668200000000175,0.150608478442939,0.27132812602656714,1,2.8668200000000175,0.150608478442939,3.14,0,null,null,1.0791794973100965]
[null,null,89,{"$f":"D90+Sheet2!B$20","v":0.27632},0.2728171012764005,281,281,0.8792000000000021,0.04889849473835053,0.7702289114015539,1,0.8792000000000021,0.04889849473835053,3.14,0,null,null,0.545634202552801]
[null,null,90,{"$f":"D91+Sheet2!B$20","v":0.27946},0.2758366383599953,12,12,0.034539999999999994,0.011502361386175115,0.03453313263954416,1,0.034539999999999994,0.011502361386175115,3.14,0,null,null,1.1033465534399811]
[null,null,91,{"$f":"D92+Sheet2!B$20","v":0.28259999999999996},0.27885345580690496,841,841,2.637600000000007,0.4973932917532011,0.4829255911369341,0,0,0.9999996829318346,2.637600000000007,0.4973932917532011,null,null,0.5577069116138099]
[null,null,92,{"$f":"D93+Sheet2!B$20","v":0.28573999999999994},0.2818675238725408,11,11,0.0314,0.8224937450133475,0.03139484039703134,0,0,0.9999996829318346,0.0314,0.8224937450133475,null,null,1.1274700954901633]
[null,null,93,{"$f":"D94+Sheet2!B$20","v":0.2888799999999999},0.2848788128394217,657,657,2.059839999999981,0.7288678098319569,0.8827825272152047,1,2.059839999999981,0.7288678098319569,3.14,0,null,null,0.5697576256788434]
[null,null,94,{"$f":"D95+Sheet2!B$20","v":0.2920199999999999},0.28788729301746724,777,777,2.436639999999998,0.8483888201707618,0.6479977692363312,0,0,0.9999996829318346,2.436639999999998,0.8483888201707618,null,null,1.151549172069869]
[null,null,95,{"$f":"D96+Sheet2!B$20","v":0.29515999999999987},0.29089293474429073,976,976,3.0615000000000263,0.09735949915305694,0.08000705088239393,0,0,0.9999996829318346,3.0615000000000263,0.09735949915305694,null,null,0.5817858694885815]
[null,null,96,{"$f":"D97+Sheet2!B$20","v":0.29829999999999984},0.29389570838549134,51,51,0.15700000000000008,0.3912894402356946,0.15635581227524786,0,0,0.9999996829318346,0.15700000000000008,0.3912894402356946,null,null,1.1755828335419654]
[null,null,97,{"$f":"D98+Sheet2!B$20","v":0.3014399999999998},0.29689558433494645,223,223,0.6970800000000003,0.19245765943597487,0.6419816047976502,1,0.6970800000000003,0.19245765943597487,3.14,0,null,null,0.5937911686698929]
[null,null,98,{"$f":"D99+Sheet2!B$20","v":0.3045799999999998},0.2998925330151033,888,888,2.7851800000000138,0.10274605666576819,0.34891458764970995,1,2.7851800000000138,0.10274605666576819,3.14,0,null,null,1.1995701320604133]
[null,null,99,{"$f":"D100+Sheet2!B$20","v":0.30771999999999977},0.30288652487727113,404,404,1.2654199999999967,0.7559716449089234,0.9537338766594503,1,1.2654199999999967,0.7559716449089234,3.14,0,null,null,0.6057730497545423]
[null,null,100,{"$f":"D101+Sheet2!B$20","v":0.31085999999999975},0.3058775304019119,408,408,1.2779799999999963,0.8469459767346835,0.9574347414163443,1,1.2779799999999963,0.8469459767346835,3.14,0,null,null,1.2235101216076476]
[null,null,101,{"$f":"D102+Sheet2!B$20","v":0.3139999999999997},0.30886552009893187,427,427,1.3376399999999948,0.3930562819751175,0.9729419746115275,1,1.3376399999999948,0.3930562819751175,3.14,0,null,null,0.6177310401978637]
[null,null,102,{"$f":"D103+Sheet2!B$20","v":0.3171399999999997},0.311850464507972,901,901,2.8260000000000156,0.10189031321343392,0.3103799096720269,1,2.8260000000000156,0.10189031321343392,3.14,0,null,null,1.247401858031888]
[null,null,103,{"$f":"D104+Sheet2!B$20","v":0.3202799999999997},0.3148323341986985,731,731,2.2921999999999914,0.5882203895326105,0.7508794282082207,1,2.2921999999999914,0.5882203895326105,3.14,0,null,null,0.629664668397397]
[null,null,104,{"$f":"D105+Sheet2!B$20","v":0.32341999999999965},0.31781109977109323,899,899,2.8197200000000153,0.5960815899201024,0.316343597124588,0,0,0.9999996829318346,2.8197200000000153,0.5960815899201024,null,null,1.271244399084373]
[null,null,105,{"$f":"D106+Sheet2!B$20","v":0.32655999999999963},0.3207867318557432,455,455,1.4255599999999926,0.8519338883621975,0.9894717308077838,1,1.4255599999999926,0.8519338883621975,3.14,0,null,null,0.6415734637114864]
[null,null,106,{"$f":"D107+Sheet2!B$20","v":0.3296999999999996},0.3237592011141305,492,492,1.5417399999999897,0.18632342939790636,0.9995778946354266,1,1.5417399999999897,0.18632342939790636,3.14,0,null,null,1.295036804456522]
[null,null,107,{"$f":"D108+Sheet2!B$20","v":0.3328399999999996},0.3267284782389212,62,62,0.19154000000000013,0.845137730285747,0.19037095695199152,0,0,0.9999996829318346,0.19154000000000013,0.845137730285747,null,null,0.6534569564778424]
[null,null,108,{"$f":"D109+Sheet2!B$20","v":0.33597999999999956},0.3296945339542547,181,181,0.5651999999999989,0.3358307622187067,0.5355847230218247,1,0.5651999999999989,0.3358307622187067,3.14,0,null,null,1.3187781358170187]
[null,null,109,{"$f":"D110+Sheet2!B$20","v":0.33911999999999953},0.33265733901603206,59,59,0.18212000000000012,0.5453582797028919,0.18111491817706396,0,0,0.9999996829318346,0.18212000000000012,0.5453582797028919,null,null,0.6653146780320641]
[null,null,110,{"$f":"D111+Sheet2!B$20","v":0.3422599999999995},0.33561686421220455,114,114,0.3548199999999994,0.9448460925539625,0.34742158323774375,0,0,0.9999996829318346,0.3548199999999994,0.9448460925539625,null,null,1.3424674568488182]
[null,null,111,{"$f":"D112+Sheet2!B$20","v":0.3453999999999995},0.33857308036306144,630,630,1.9750599999999787,0.21390167263540255,0.919392274552372,1,1.9750599999999787,0.21390167263540255,3.14,0,null,null,0.6771461607261229]
[null,null,112,{"$f":"D113+Sheet2!B$20","v":0.34853999999999946},0.34152595832151794,501,501,1.569999999999989,0.8005937616100178,0.9999996829318346,1,1.569999999999989,0.8005937616100178,3.14,0,null,null,1.3661038332860718]
[null,null,113,{"$f":"D114+Sheet2!B$20","v":0.35167999999999944},0.3444754689734025,128,128,0.3987799999999991,0.2579483214262258,0.38829435836962284,1,0.3987799999999991,0.2579483214262258,3.14,0,null,null,0.688950937946805]
[null,null,114,{"$f":"D115+Sheet2!B$20","v":0.3548199999999994},0.34742158323774375,919,919,2.882520000000018,0.2141078857545966,0.25618426320255405,1,2.882520000000018,0.2141078857545966,3.14,0,null,null,1.389686332950975]
[null,null,115,{"$f":"D116+Sheet2!B$20","v":0.3579599999999994},0.35036427206705734,171,171,0.5337999999999986,0.6582946083226189,0.5088083502358179,0,0,0.9999996829318346,0.5337999999999986,0.6582946083226189,null,null,0.7007285441341147]
[null,null,116,{"$f":"D117+Sheet2!B$20","v":0.36109999999999937},0.35330350644763237,281,281,0.8792000000000021,0.4151012460519789,0.7702289114015539,1,0.8792000000000021,0.4151012460519789,3.14,0,null,null,1.4132140257905295]
[null,null,117,{"$f":"D118+Sheet2!B$20","v":0.36423999999999934},0.3562392573998173,143,143,0.4458799999999987,0.13048663807209088,0.43125201091065846,1,0.4458799999999987,0.13048663807209088,3.14,0,null,null,0.7124785147996346]
[null,null,118,{"$f":"D119+Sheet2!B$20","v":0.3673799999999993},0.3591714959783059,775,775,2.4303599999999976,0.8381394997479723,0.6527680730641946,0,0,0.9999996829318346,2.4303599999999976,0.8381394997479723,null,null,1.4366859839132236]
[null,null,119,{"$f":"D120+Sheet2!B$20","v":0.3705199999999993},0.3621001932724224,870,870,2.728660000000011,0.012919155321676474,0.4012972076924471,1,2.728660000000011,0.012919155321676474,3.14,0,null,null,0.7242003865448448]
[null,null,120,{"$f":"D121+Sheet2!B$20","v":0.37365999999999927},0.3650253204064066,751,751,2.354999999999994,0.6109630086844754,0.7079509086484362,1,2.354999999999994,0.6109630086844754,3.14,0,null,null,1.4601012816256265]
[null,null,121,{"$f":"D122+Sheet2!B$20","v":0.37679999999999925},0.36794684853969883,363,363,1.13668,0.5540695166260122,0.9072420772533505,1,1.13668,0.5540695166260122,3.14,0,null,null,0.7358936970793977]
[null,null,122,{"$f":"D123+Sheet2!B$20","v":0.3799399999999992},0.3708647488672239,758,758,2.376979999999995,0.25461661567747784,0.6922575217506828,1,2.376979999999995,0.25461661567747784,3.14,0,null,null,1.4834589954688957]
[null,null,123,{"$f":"D124+Sheet2!B$20","v":0.3830799999999992},0.37377899261967545,760,760,2.3832599999999955,0.514430998489634,0.6877119353342678,1,2.3832599999999955,0.514430998489634,3.14,0,null,null,0.7475579852393509]
[null,null,124,{"$f":"D125+Sheet2!B$20","v":0.3862199999999992},0.37668955106379937,451,451,1.412999999999993,0.9541671505192706,0.9875759712809216,1,1.412999999999993,0.9541671505192706,3.14,0,null,null,1.5067582042551975]
[null,null,125,{"$f":"D126+Sheet2!B$20","v":0.38935999999999915},0.3795963955026771,247,247,0.772440000000001,0.9511153159311594,0.697884866668703,0,0,0.9999996829318346,0.772440000000001,0.9511153159311594,null,null,0.7591927910053542]
[null,null,126,{"$f":"D127+Sheet2!B$20","v":0.3924999999999991},0.38249949727600885,931,931,2.92020000000002,0.7175326872557182,0.21958849810120976,0,0,0.9999996829318346,2.92020000000002,0.7175326872557182,null,null,1.5299979891040354]
[null,null,127,{"$f":"D128+Sheet2!B$20","v":0.3956399999999991},0.38539882776039586,880,880,2.7600600000000126,0.021925523283674784,0.3723433543921464,1,2.7600600000000126,0.021925523283674784,3.14,0,null,null,0.7707976555207917]
[null,null,128,{"$f":"D129+Sheet2!B$20","v":0.3987799999999991},0.38829435836962284,608,608,1.9059799999999805,0.5997957464152456,0.9443499076155786,1,1.9059799999999805,0.5997957464152456,3.14,0,null,null,1.5531774334784914]
[null,null,129,{"$f":"D130+Sheet2!B$20","v":0.40191999999999906},{"$f":"SIN(x)","v":0.39118606055493954},584,584,1.8306199999999824,{"$f":"fmin+(fmax-fmin)*ABS(RAND())","v":0.8526136490599512},0.9664352933009459,1,{"$f":"IF(K131=1,H131,xMin)","v":1.8306199999999824},{"$f":"IF(K131=1,I131,fmax)","v":0.8526136490599512},{"$f":"IF(K131=0,H131,xMax)","v":3.14},0,null,null,0.7823721211098791]
[null,null,130,{"$f":"D131+Sheet2!B$20","v":0.40505999999999903},0.39407390580534263,1,1,{"$f":"LOOKUP(G132,C$3:C$1003,D$3:D$1003)","v":0},0.01201398245019458,{"$f":"LOOKUP(H132,D$3:D$1003,E$3:E$1003)","v":0},{"$f":"IF(I132>J132,0,1)","v":0},0,0.9999996829318346,0,{"$f":"IF(K132=0,I132,0)","v":0.01201398245019458},null,null,1.5762956232213705]
[null,null,131,{"$f":"D132+Sheet2!B$20","v":0.408199999999999},0.3969578656478564,{"$f":"INT(1000*ABS(RAND()))+1","v":786},{"$f":"IF(F133>0,F133,-F133)","v":786},2.464899999999999,0.6947953511971635,0.6262178873311012,0,0,0.9999996829318346,2.464899999999999,0.6947953511971635,null,null,0.7939157312957128]
[null,null,132,{"$f":"D133+Sheet2!B$20","v":0.411339999999999},0.3998379116478138,755,755,2.367559999999995,0.3210671054651655,0.6990246554489108,1,2.367559999999995,0.3210671054651655,3.14,0,null,null,1.5993516465912552]
[null,null,133,{"$f":"D134+Sheet2!B$20","v":0.41447999999999896},0.40271401540913654,98,98,0.3045799999999998,0.3230197680352125,0.2998925330151033,0,0,0.9999996829318346,0.3045799999999998,0.3230197680352125,null,null,0.8054280308182731]
[null,null,134,{"$f":"D135+Sheet2!B$20","v":0.41761999999999894},0.4055861485746154,369,369,1.1555199999999994,0.7697311609705978,0.915004873377313,1,1.1555199999999994,0.7697311609705978,3.14,0,null,null,1.6223445942984616]
[null,null,135,{"$f":"D136+Sheet2!B$20","v":0.4207599999999989},0.40845428282618934,750,750,2.351859999999994,0.8084348319846743,0.7101650765154417,0,0,0.9999996829318346,2.351859999999994,0.8084348319846743,null,null,{"$f":"2*E137","v":0.8169085656523787}]
[null,null,136,{"$f":"D137+Sheet2!B$20","v":0.4238999999999989},0.41131838988522523,513,513,1.607679999999988,0.3230410641134785,0.9993198744345664,1,1.607679999999988,0.3230410641134785,3.14,0,null,null,{"$f":"4*E138","v":1.645273559540901}]
[null,null,137,{"$f":"D138+Sheet2!B$20","v":0.42703999999999886},0.4141784415127963,13,13,0.03767999999999999,0.8463685490199827,0.037671084399462165,0,0,0.9999996829318346,0.03767999999999999,0.8463685490199827,null,null,0.8283568830255926]
[null,null,138,{"$f":"D139+Sheet2!B$20","v":0.43017999999999884},0.4170344095099607,310,310,0.970260000000003,0.28747309031917057,0.8250326633337606,1,0.970260000000003,0.28747309031917057,3.14,0,null,null,1.6681376380398427]
[null,null,139,{"$f":"D140+Sheet2!B$20","v":0.4333199999999988},0.41988626571803944,124,124,0.3862199999999992,0.5524724351129866,0.37668955106379937,0,0,0.9999996829318346,0.3862199999999992,0.5524724351129866,null,null,0.8397725314360789]
[null,null,140,{"$f":"D141+Sheet2!B$20","v":0.4364599999999988},0.4227339820188942,451,451,1.412999999999993,0.5789582857546476,0.9875759712809216,1,1.412999999999993,0.5789582857546476,3.14,0,null,null,1.690935928075577]
[null,null,141,{"$f":"D142+Sheet2!B$20","v":0.43959999999999877},0.42557753033520446,508,508,1.5919799999999884,0.08295541041556134,0.9997756343852602,1,1.5919799999999884,0.08295541041556134,3.14,0,null,null,0.8511550606704089]
[null,null,142,{"$f":"D143+Sheet2!B$20","v":0.44273999999999875},0.4284168826307442,650,650,2.03785999999998,0.8866538460960024,0.8928942648643446,1,2.03785999999998,0.8866538460960024,3.14,0,null,null,1.7136675305229767]
[null,null,143,{"$f":"D144+Sheet2!B$20","v":0.4458799999999987},0.43125201091065846,863,863,2.70668000000001,0.7944813609442403,0.42133118791646734,0,0,0.9999996829318346,2.70668000000001,0.7944813609442403,null,null,0.8625040218213169]
[null,null,144,{"$f":"D145+Sheet2!B$20","v":0.4490199999999987},0.4340828872217396,744,744,2.333019999999993,0.6576809747833309,0.7233022837897605,1,2.333019999999993,0.6576809747833309,3.14,0,null,null,1.7363315488869584]
[null,null,145,{"$f":"D146+Sheet2!B$20","v":0.4521599999999987},0.4369094836527023,794,794,2.4900200000000003,0.31402380581787925,0.6064376208782849,1,2.4900200000000003,0.31402380581787925,3.14,0,null,null,0.8738189673054046]
[null,null,146,{"$f":"D147+Sheet2!B$20","v":0.45529999999999865},0.4397317723344594,833,833,2.612480000000006,0.8022183406150482,0.5047675335242598,0,0,0.9999996829318346,2.612480000000006,0.8022183406150482,null,null,1.7589270893378377]
[null,null,147,{"$f":"D148+Sheet2!B$20","v":0.4584399999999986},0.44254972544039634,497,497,1.5574399999999893,0.6718905082523973,0.9999108055932457,1,1.5574399999999893,0.6718905082523973,3.14,0,null,null,0.8850994508807927]
[null,null,148,{"$f":"D149+Sheet2!B$20","v":0.4615799999999986},0.4453633151866453,593,593,1.8588799999999817,0.07823199517538047,0.9587900936053696,1,1.8588799999999817,0.07823199517538047,3.14,0,null,null,1.7814532607465812]
[null,null,149,{"$f":"D150+Sheet2!B$20","v":0.4647199999999986},0.4481725138323598,411,411,1.287399999999996,0.6590578054599185,0.9601113031220161,1,1.287399999999996,0.6590578054599185,3.14,0,null,null,0.8963450276647196]
[null,null,150,{"$f":"D151+Sheet2!B$20","v":0.46785999999999855},0.45097729367998746,240,240,0.7504600000000008,0.3107715818174149,0.6819752647737672,1,0.7504600000000008,0.3107715818174149,3.14,0,null,null,1.8039091747199498]
[null,null,151,{"$f":"D152+Sheet2!B$20","v":0.47099999999999853},0.4537776270755438,922,922,2.8919400000000186,0.5581948515191072,0.24706739608520098,0,0,0.9999996829318346,2.8919400000000186,0.5581948515191072,null,null,0.9075552541510876]
[null,null,152,{"$f":"D153+Sheet2!B$20","v":0.4741399999999985},0.45657348640888423,15,15,0.043959999999999985,0.6678845395620054,0.04394584271948076,0,0,0.9999996829318346,0.043959999999999985,0.6678845395620054,null,null,1.826293945635537]
[null,null,153,{"$f":"D154+Sheet2!B$20","v":0.4772799999999985},0.4593648441139767,846,846,2.6533000000000078,0.8727676401434891,0.4691187551197462,0,0,0.9999996829318346,2.6533000000000078,0.8727676401434891,null,null,0.9187296882279534]
[null,null,154,{"$f":"D155+Sheet2!B$20","v":0.48041999999999846},0.4621516726691735,489,489,1.53231999999999,0.3441944222594073,0.9992598774531064,1,1.53231999999999,0.3441944222594073,3.14,0,null,null,1.848606690676694]
[null,null,155,{"$f":"D156+Sheet2!B$20","v":0.48355999999999844},0.46493394459748233,990,990,3.1054600000000283,0.2483387071205894,0.03612479182632531,0,0,0.9999996829318346,3.1054600000000283,0.2483387071205894,null,null,0.9298678891949647]
[null,null,156,{"$f":"D157+Sheet2!B$20","v":0.4866999999999984},0.46771163246683745,711,711,2.2293999999999885,0.6749825771458862,0.7908475725729215,1,2.2293999999999885,0.6749825771458862,3.14,0,null,null,1.8708465298673498]
[null,null,157,{"$f":"D158+Sheet2!B$20","v":0.4898399999999984},0.47048470889037,745,745,2.3361599999999934,0.9514195916855759,0.7211304525878768,0,0,0.9999996829318346,2.3361599999999934,0.9514195916855759,null,null,0.94096941778074]
[null,null,158,{"$f":"D159+Sheet2!B$20","v":0.49297999999999836},0.4732531465266781,657,657,2.059839999999981,0.7777542087017683,0.8827825272152047,1,2.059839999999981,0.7777542087017683,3.14,0,null,null,1.8930125861067124]
[null,null,159,{"$f":"D160+Sheet2!B$20","v":0.49611999999999834},0.4760169180800966,255,255,0.7975600000000013,0.29144637137025475,0.7156539927909821,1,0.7975600000000013,0.29144637137025475,3.14,0,null,null,0.9520338361601932]
[null,null,160,{"$f":"D161+Sheet2!B$20","v":0.4992599999999983},0.47877599630096573,254,254,0.7944200000000012,0.7808920153667799,0.7134573197216512,0,0,0.9999996829318346,0.7944200000000012,0.7808920153667799,null,null,1.915103985203863]
[null,null,161,{"$f":"D162+Sheet2!B$20","v":0.5023999999999983},0.48153035398590033,899,899,2.8197200000000153,0.10397122315289282,0.316343597124588,1,2.8197200000000153,0.10397122315289282,3.14,0,null,null,0.9630607079718007]
[null,null,162,{"$f":"D163+Sheet2!B$20","v":0.5055399999999983},0.48427996397805767,226,226,0.7065000000000003,0.28440803613862875,0.6491755173969226,1,0.7065000000000003,0.28440803613862875,3.14,0,null,null,1.9371198559122307]
[null,null,163,{"$f":"D164+Sheet2!B$20","v":0.5086799999999984},0.4870247991674053,372,372,1.1649399999999992,0.6026388438527012,0.9187646513979717,1,1.1649399999999992,0.6026388438527012,3.14,0,null,null,0.9740495983348106]
[null,null,164,{"$f":"D165+Sheet2!B$20","v":0.5118199999999984},0.48976483249098846,493,493,1.5448799999999896,0.38888220279889874,0.9996641907990496,1,1.5448799999999896,0.38888220279889874,3.14,0,null,null,1.9590593299639538]
[null,null,165,{"$f":"D166+Sheet2!B$20","v":0.5149599999999984},0.4925000369331967,663,663,2.0786799999999817,0.7818618004295634,0.8737756950223999,1,2.0786799999999817,0.7818618004295634,3.14,0,null,null,0.9850000738663934]
[null,null,166,{"$f":"D167+Sheet2!B$20","v":0.5180999999999985},0.4952303855260306,51,51,0.15700000000000008,0.07614018055045148,0.15635581227524786,1,0.15700000000000008,0.07614018055045148,3.14,0,null,null,1.9809215421041224]
[null,null,167,{"$f":"D168+Sheet2!B$20","v":0.5212399999999985},0.4979558513493672,364,364,1.1398199999999998,0.7397852144615488,0.908558314385714,1,1.1398199999999998,0.7397852144615488,3.14,0,null,null,0.9959117026987344]
[null,null,168,{"$f":"D169+Sheet2!B$20","v":0.5243799999999985},0.5006764075312258,791,791,2.4806,0.32038600667409833,0.6139007383984155,1,2.4806,0.32038600667409833,3.14,0,null,null,2.002705630124903]
[null,null,169,{"$f":"D170+Sheet2!B$20","v":0.5275199999999985},0.5033920272480326,691,691,2.1665999999999856,0.07297194983265996,0.827697765574214,1,2.1665999999999856,0.07297194983265996,3.14,0,null,null,1.0067840544960651]
[null,null,170,{"$f":"D171+Sheet2!B$20","v":0.5306599999999986},0.5061026837248855,408,408,1.2779799999999963,0.2064850110361603,0.9574347414163443,1,1.2779799999999963,0.2064850110361603,3.14,0,null,null,2.024410734899542]
[null,null,171,{"$f":"D172+Sheet2!B$20","v":0.5337999999999986},0.5088083502358179,668,668,2.0943799999999824,0.2869586353184144,0.8660329548822824,1,2.0943799999999824,0.2869586353184144,3.14,0,null,null,1.0176167004716359]
[null,null,172,{"$f":"D173+Sheet2!B$20","v":0.5369399999999986},0.5115090001040622,802,802,2.5151400000000015,0.46741408014013563,0.5862747036761387,1,2.5151400000000015,0.46741408014013563,3.14,0,null,null,2.046036000416249]
[null,null,173,{"$f":"D174+Sheet2!B$20","v":0.5400799999999987},0.5142046067023127,821,821,2.574800000000004,0.6827480211383161,0.5369290096789497,0,0,0.9999996829318346,2.574800000000004,0.6827480211383161,null,null,1.0284092134046254]
[null,null,174,{"$f":"D175+Sheet2!B$20","v":0.5432199999999987},0.5168951434529886,782,782,2.4523399999999986,0.02602481277162594,0.6359606165734454,1,2.4523399999999986,0.02602481277162594,3.14,0,null,null,2.0675805738119544]
[null,null,175,{"$f":"D176+Sheet2!B$20","v":0.5463599999999987},0.5195805838284954,528,528,1.6547799999999868,0.4879533884323316,0.9964754436818505,1,1.6547799999999868,0.4879533884323316,3.14,0,null,null,1.0391611676569907]
[null,null,176,{"$f":"D177+Sheet2!B$20","v":0.5494999999999988},0.5222609013514871,949,949,2.9767200000000225,0.8943083093077011,0.16412671282243402,0,0,0.9999996829318346,2.9767200000000225,0.8943083093077011,null,null,2.0890436054059482]
[null,null,177,{"$f":"D178+Sheet2!B$20","v":0.5526399999999988},0.5249360695951265,65,65,0.20096000000000014,0.3340500059375727,0.19961010301845164,0,0,0.9999996829318346,0.20096000000000014,0.3340500059375727,null,null,1.049872139190253]
[null,null,178,{"$f":"D179+Sheet2!B$20","v":0.5557799999999988},0.5276060621833467,784,784,2.458619999999999,0.27431066907878165,0.6311016967319513,1,2.458619999999999,0.27431066907878165,3.14,0,null,null,2.110424248733387]
[null,null,179,{"$f":"D180+Sheet2!B$20","v":0.5589199999999989},0.5302708527911103,59,59,0.18212000000000012,0.8543699833118853,0.18111491817706396,0,0,0.9999996829318346,0.18212000000000012,0.8543699833118853,null,null,1.0605417055822206]
[null,null,180,{"$f":"D181+Sheet2!B$20","v":0.5620599999999989},0.5329304151446694,234,234,0.7316200000000006,0.7574493789929275,0.6680759419413318,0,0,0.9999996829318346,0.7316200000000006,0.7574493789929275,null,null,2.1317216605786777]
[null,null,181,{"$f":"D182+Sheet2!B$20","v":0.5651999999999989},0.5355847230218247,402,402,1.2591399999999968,0.16230849010236928,0.9518269869987422,1,1.2591399999999968,0.16230849010236928,3.14,0,null,null,1.0711694460436494]
[null,null,182,{"$f":"D183+Sheet2!B$20","v":0.568339999999999},0.5382337502521836,306,306,0.9577000000000029,0.9588883758280177,0.8178703067352929,0,0,0.9999996829318346,0.9577000000000029,0.9588883758280177,null,null,2.1529350010087343]
[null,null,183,{"$f":"D184+Sheet2!B$20","v":0.571479999999999},0.5408774707174188,914,914,2.8668200000000175,0.7360853013432433,0.27132812602656714,0,0,0.9999996829318346,2.8668200000000175,0.7360853013432433,null,null,1.0817549414348375]
[null,null,184,{"$f":"D185+Sheet2!B$20","v":0.574619999999999},0.5435158583515252,319,319,0.9985200000000033,0.38187455223243677,0.8406704161082836,1,0.9985200000000033,0.38187455223243677,3.14,0,null,null,2.1740634334061006]
[null,null,185,{"$f":"D186+Sheet2!B$20","v":0.577759999999999},0.5461488871410777,691,691,2.1665999999999856,0.5570960116590059,0.827697765574214,1,2.1665999999999856,0.5570960116590059,3.14,0,null,null,1.0922977742821554]
[null,null,186,{"$f":"D187+Sheet2!B$20","v":0.5808999999999991},0.5487765311254869,123,123,0.3830799999999992,0.32179906707586803,0.37377899261967545,1,0.3830799999999992,0.32179906707586803,3.14,0,null,null,2.1951061245019474]
[null,null,187,{"$f":"D188+Sheet2!B$20","v":0.5840399999999991},0.5513987643972553,439,439,1.3753199999999939,0.6327714284309494,0.9809552620669244,1,1.3753199999999939,0.6327714284309494,3.14,0,null,null,1.1027975287945107]
[null,null,188,{"$f":"D189+Sheet2!B$20","v":0.5871799999999991},0.5540155611022333,113,113,0.35167999999999944,0.43055916319838444,0.3444754689734025,0,0,0.9999996829318346,0.35167999999999944,0.43055916319838444,null,null,2.216062244408933]
[null,null,189,{"$f":"D190+Sheet2!B$20","v":0.5903199999999992},0.556626895439873,883,883,2.769480000000013,0.3795648048818556,0.36358430821357274,0,0,0.9999996829318346,2.769480000000013,0.3795648048818556,null,null,1.113253790879746]
[null,null,190,{"$f":"D191+Sheet2!B$20","v":0.5934599999999992},0.5592327416634837,696,696,2.1822999999999864,0.622612041933136,0.8187856860947917,1,2.1822999999999864,0.622612041933136,3.14,0,null,null,2.2369309666539348]
[null,null,191,{"$f":"D192+Sheet2!B$20","v":0.5965999999999992},0.561833074080485,902,902,2.8291400000000158,0.5586602205408129,0.307393460909385,0,0,0.9999996829318346,2.8291400000000158,0.5586602205408129,null,null,1.12366614816097]
[null,null,192,{"$f":"D193+Sheet2!B$20","v":0.5997399999999993},0.5644278670526605,539,539,1.689319999999986,0.5771806310135891,0.9929842881956945,1,1.689319999999986,0.5771806310135891,3.14,0,null,null,2.257711468210642]
[null,null,193,{"$f":"D194+Sheet2!B$20","v":0.6028799999999993},{"$f":"SIN(x)","v":0.5670170949964103},363,363,1.13668,{"$f":"fmin+(fmax-fmin)*ABS(RAND())","v":0.5825499714565253},0.9072420772533505,1,{"$f":"IF(K195=1,H195,xMin)","v":1.13668},{"$f":"IF(K195=1,I195,fmax)","v":0.5825499714565253},{"$f":"IF(K195=0,H195,xMax)","v":3.14},0,null,null,1.1340341899928206]
[null,null,194,{"$f":"D195+Sheet2!B$20","v":0.6060199999999993},0.5696007323830038,164,164,{"$f":"LOOKUP(G196,C$3:C$1003,D$3:D$1003)","v":0.5118199999999984},0.03365351432479177,{"$f":"LOOKUP(H196,D$3:D$1003,E$3:E$1003)","v":0.48976483249098846},{"$f":"IF(I196>J196,0,1)","v":1},0.5118199999999984,0.03365351432479177,3.14,{"$f":"IF(K196=0,I196,0)","v":0},null,null,2.278402929532015]
[null,null,195,{"$f":"D196+Sheet2!B$20","v":0.6091599999999994},0.5721787537388306,{"$f":"INT(1000*ABS(RAND()))+1","v":22},{"$f":"IF(F197>0,F197,-F197)","v":22},0.06593999999999997,0.04659024356348806,0.06589222494891467,1,0.06593999999999997,0.04659024356348806,3.14,0,null,null,1.1443575074776613]
[null,null,196,{"$f":"D197+Sheet2!B$20","v":0.6122999999999994},0.5747511336456522,299,299,0.9357200000000027,0.7388936275310712,0.8050264187899476,1,0.9357200000000027,0.7388936275310712,3.14,0,null,null,2.299004534582609]
[null,null,197,{"$f":"D198+Sheet2!B$20","v":0.6154399999999994},0.5773178467408526,108,108,0.33597999999999956,0.651667483224197,0.3296945339542547,0,0,0.9999996829318346,0.33597999999999956,0.651667483224197,null,null,1.1546356934817052]
[null,null,198,{"$f":"D199+Sheet2!B$20","v":0.6185799999999995},0.5798788677176882,266,266,0.8321000000000016,0.9235053313300173,0.7393469820263676,0,0,0.9999996829318346,0.8321000000000016,0.9235053313300173,null,null,2.3195154708707526]
[null,null,199,{"$f":"D200+Sheet2!B$20","v":0.6217199999999995},0.5824341713255371,408,408,1.2779799999999963,0.40466623888827397,0.9574347414163443,1,1.2779799999999963,0.40466623888827397,3.14,0,null,null,{"$f":"2*E201","v":1.1648683426510742}]
[null,null,200,{"$f":"D201+Sheet2!B$20","v":0.6248599999999995},0.5849837323701487,7,7,0.01884,0.3896369554162685,0.018838885490595692,0,0,0.9999996829318346,0.01884,0.3896369554162685,null,null,{"$f":"4*E202","v":2.3399349294805947}]
[null,null,201,{"$f":"D202+Sheet2!B$20","v":0.6279999999999996},0.5875275257138916,241,241,0.7536000000000008,0.8282541430188352,0.6842684172472769,0,0,0.9999996829318346,0.7536000000000008,0.8282541430188352,null,null,1.175055051427783]
[null,null,202,{"$f":"D203+Sheet2!B$20","v":0.6311399999999996},0.5900655262760014,650,650,2.03785999999998,0.963870361003548,0.8928942648643446,0,0,0.9999996829318346,2.03785999999998,0.963870361003548,null,null,2.3602621051040056]
[null,null,203,{"$f":"D204+Sheet2!B$20","v":0.6342799999999996},0.5925977090328285,873,873,2.7380800000000116,0.6651288073739161,0.39265130139981297,0,0,0.9999996829318346,2.7380800000000116,0.6651288073739161,null,null,1.185195418065657]
[null,null,204,{"$f":"D205+Sheet2!B$20","v":0.6374199999999997},0.5951240490180842,632,632,1.9813399999999786,0.23879960097944303,0.9169039740748233,1,1.9813399999999786,0.23879960097944303,3.14,0,null,null,2.380496196072337]
[null,null,205,{"$f":"D206+Sheet2!B$20","v":0.6405599999999997},0.5976445213230874,674,674,2.1132199999999832,0.34504372038641534,0.8564600657856325,1,2.1132199999999832,0.34504372038641534,3.14,0,null,null,1.1952890426461749]
[null,null,206,{"$f":"D207+Sheet2!B$20","v":0.6436999999999997},0.6001591010970097,377,377,1.1806399999999988,0.18402978552105395,0.924849614919667,1,1.1806399999999988,0.18402978552105395,3.14,0,null,null,2.4006364043880386]
[null,null,207,{"$f":"D208+Sheet2!B$20","v":0.6468399999999997},0.6026677635471206,570,570,1.7866599999999835,0.02601311537580448,0.976791767393908,1,1.7866599999999835,0.02601311537580448,3.14,0,null,null,1.2053355270942412]
[null,null,208,{"$f":"D209+Sheet2!B$20","v":0.6499799999999998},0.6051704839390322,731,731,2.2921999999999914,0.11066499247479784,0.7508794282082207,1,2.2921999999999914,0.11066499247479784,3.14,0,null,null,2.4206819357561287]
[null,null,209,{"$f":"D210+Sheet2!B$20","v":0.6531199999999998},0.6076672375969429,68,68,0.21038000000000015,0.21993432914008565,0.2088315365339459,0,0,0.9999996829318346,0.21038000000000015,0.21993432914008565,null,null,1.2153344751938857]
[null,null,210,{"$f":"D211+Sheet2!B$20","v":0.6562599999999998},0.6101579999038804,76,76,0.23550000000000018,0.074709968766931,0.23332921355744998,1,0.23550000000000018,0.074709968766931,3.14,0,null,null,2.4406319996155217]
[null,null,211,{"$f":"D212+Sheet2!B$20","v":0.6593999999999999},0.6126427463019449,402,402,1.2591399999999968,0.9110283241783884,0.9518269869987422,1,1.2591399999999968,0.9110283241783884,3.14,0,null,null,1.2252854926038899]
[null,null,212,{"$f":"D213+Sheet2!B$20","v":0.6625399999999999},0.6151214522925511,736,736,2.307899999999992,0.05423950296470332,0.7404184167483303,1,2.307899999999992,0.05423950296470332,3.14,0,null,null,2.4604858091702044]
[null,null,213,{"$f":"D214+Sheet2!B$20","v":0.6656799999999999},0.6175940934366693,888,888,2.7851800000000138,0.9990105648679696,0.34891458764970995,0,0,0.9999996829318346,2.7851800000000138,0.9990105648679696,null,null,1.2351881868733385]
[null,null,214,{"$f":"D215+Sheet2!B$20","v":0.66882},0.6200606453550669,853,853,2.6752800000000088,0.9375465464324805,0.4495956928659003,0,0,0.9999996829318346,2.6752800000000088,0.9375465464324805,null,null,2.4802425814202675]
[null,null,215,{"$f":"D216+Sheet2!B$20","v":0.67196},0.6225210837285488,812,812,2.546540000000003,0.6251644508857688,0.5605523587130901,0,0,0.9999996829318346,2.546540000000003,0.6251644508857688,null,null,1.2450421674570975]
[null,null,216,{"$f":"D217+Sheet2!B$20","v":0.6751},0.6249753842981964,441,441,1.3815999999999937,0.8946490191690037,0.9821556988007228,1,1.3815999999999937,0.8946490191690037,3.14,0,null,null,2.4999015371927857]
[null,null,217,{"$f":"D218+Sheet2!B$20","v":0.6782400000000001},0.627423522865608,334,334,1.0456200000000022,0.7673967558523922,0.8652355508887725,1,1.0456200000000022,0.7673967558523922,3.14,0,null,null,1.254847045731216]
[null,null,218,{"$f":"D219+Sheet2!B$20","v":0.6813800000000001},0.6298654752931363,663,663,2.0786799999999817,0.4878763251173672,0.8737756950223999,1,2.0786799999999817,0.4878763251173672,3.14,0,null,null,2.519461901172545]
[null,null,219,{"$f":"D220+Sheet2!B$20","v":0.6845200000000001},0.6323012175041268,141,141,0.43959999999999877,0.24928404225805062,0.42557753033520446,1,0.43959999999999877,0.24928404225805062,3.14,0,null,null,1.2646024350082536]
[null,null,220,{"$f":"D221+Sheet2!B$20","v":0.6876600000000002},0.6347307254831556,973,973,3.052080000000026,0.8147042786118436,0.08939316455465884,0,0,0.9999996829318346,3.052080000000026,0.8147042786118436,null,null,2.5389229019326223]
[null,null,221,{"$f":"D222+Sheet2!B$20","v":0.6908000000000002},0.6371539752762654,726,726,2.2764999999999906,0.7463001164685203,0.761155359199606,1,2.2764999999999906,0.7463001164685203,3.14,0,null,null,1.2743079505525308]
[null,null,222,{"$f":"D223+Sheet2!B$20","v":0.6939400000000002},0.639570942991202,722,722,2.26393999999999,0.9108380358012741,0.7692411424231733,0,0,0.9999996829318346,2.26393999999999,0.9108380358012741,null,null,2.558283771964808]
[null,null,223,{"$f":"D224+Sheet2!B$20","v":0.6970800000000003},0.6419816047976502,557,557,1.7458399999999845,0.2482403710720258,0.9847189341054268,1,1.7458399999999845,0.2482403710720258,3.14,0,null,null,1.2839632095953004]
[null,null,224,{"$f":"D225+Sheet2!B$20","v":0.7002200000000003},0.6443859369274686,805,805,2.524560000000002,0.040628574568244626,0.5786175467172772,1,2.524560000000002,0.040628574568244626,3.14,0,null,null,2.5775437477098744]
[null,null,225,{"$f":"D226+Sheet2!B$20","v":0.7033600000000003},0.6467839156749232,146,146,0.45529999999999865,0.11155681289145973,0.4397317723344594,1,0.45529999999999865,0.11155681289145973,3.14,0,null,null,1.2935678313498464]
[null,null,226,{"$f":"D227+Sheet2!B$20","v":0.7065000000000003},0.6491755173969226,323,323,1.011080000000003,0.643667990192394,0.8474057602131522,1,1.011080000000003,0.643667990192394,3.14,0,null,null,2.5967020695876903]
[null,null,227,{"$f":"D228+Sheet2!B$20","v":0.7096400000000004},0.6515607185132495,59,59,0.18212000000000012,0.24066705657917836,0.18111491817706396,0,0,0.9999996829318346,0.18212000000000012,0.24066705657917836,null,null,1.303121437026499]
[null,null,228,{"$f":"D229+Sheet2!B$20","v":0.7127800000000004},0.6539394955067944,828,828,2.596780000000005,0.12766681711667202,0.5182578763793575,1,2.596780000000005,0.12766681711667202,3.14,0,null,null,2.6157579820271777]
[null,null,229,{"$f":"D230+Sheet2!B$20","v":0.7159200000000004},0.656311824923787,511,511,1.6013999999999882,0.4962166225317794,0.9995317441416667,1,1.6013999999999882,0.4962166225317794,3.14,0,null,null,1.312623649847574]
[null,null,230,{"$f":"D231+Sheet2!B$20","v":0.7190600000000005},0.6586776833740274,530,530,1.6610599999999867,0.6819964549305138,0.9959289998260439,1,1.6610599999999867,0.6819964549305138,3.14,0,null,null,2.6347107334961097]
[null,null,231,{"$f":"D232+Sheet2!B$20","v":0.7222000000000005},0.6610370475311167,131,131,0.408199999999999,0.227036001334168,0.3969578656478564,1,0.408199999999999,0.227036001334168,3.14,0,null,null,1.3220740950622334]
[null,null,232,{"$f":"D233+Sheet2!B$20","v":0.7253400000000005},0.6633898941326872,971,971,3.0458000000000256,0.3832706679922648,0.09564621818228664,0,0,0.9999996829318346,3.0458000000000256,0.3832706679922648,null,null,2.653559576530749]
[null,null,233,{"$f":"D234+Sheet2!B$20","v":0.7284800000000006},0.6657361999806316,1,1,0,0.9304323076011155,0,0,0,0.9999996829318346,0,0.9304323076011155,null,null,1.3314723999612632]
[null,null,234,{"$f":"D235+Sheet2!B$20","v":0.7316200000000006},0.6680759419413318,510,510,1.5982599999999882,0.7088182379318997,0.999622897030534,1,1.5982599999999882,0.7088182379318997,3.14,0,null,null,2.672303767765327]
[null,null,235,{"$f":"D236+Sheet2!B$20","v":0.7347600000000006},0.6704090969458869,848,848,2.659580000000008,0.07985142185690153,0.46356345257035414,1,2.659580000000008,0.07985142185690153,3.14,0,null,null,1.3408181938917738]
[null,null,236,{"$f":"D237+Sheet2!B$20","v":0.7379000000000007},0.6727356419903406,217,217,0.6782400000000001,0.15690518360108754,0.627423522865608,1,0.6782400000000001,0.15690518360108754,3.14,0,null,null,2.6909425679613626]
[null,null,237,{"$f":"D238+Sheet2!B$20","v":0.7410400000000007},0.6750555541359085,533,533,1.6704799999999864,0.07669453209326994,0.9950356954808399,1,1.6704799999999864,0.07669453209326994,3.14,0,null,null,1.350111108271817]
[null,null,238,{"$f":"D239+Sheet2!B$20","v":0.7441800000000007},0.6773688105092034,90,90,0.27946,0.043978239794461554,0.2758366383599953,1,0.27946,0.043978239794461554,3.14,0,null,null,2.7094752420368136]
[null,null,239,{"$f":"D240+Sheet2!B$20","v":0.7473200000000008},0.6796753883024615,972,972,3.0489400000000257,0.9098410531821969,0.092520147473921,0,0,0.9999996829318346,3.0489400000000257,0.9098410531821969,null,null,1.359350776604923]
[null,null,240,{"$f":"D241+Sheet2!B$20","v":0.7504600000000008},0.6819752647737672,947,947,2.970440000000022,0.9533035082175483,0.17031827424634627,0,0,0.9999996829318346,2.970440000000022,0.9533035082175483,null,null,2.727901059095069]
[null,null,241,{"$f":"D242+Sheet2!B$20","v":0.7536000000000008},0.6842684172472769,739,739,2.3173199999999925,0.5032237512820661,0.7340540420171068,1,2.3173199999999925,0.5032237512820661,3.14,0,null,null,1.3685368344945539]
[null,null,242,{"$f":"D243+Sheet2!B$20","v":0.7567400000000009},0.6865548231134433,644,644,2.019019999999979,0.29762603063373577,0.9012183222728579,1,2.019019999999979,0.29762603063373577,3.14,0,null,null,2.746219292453773]
[null,null,243,{"$f":"D244+Sheet2!B$20","v":0.7598800000000009},0.6888344598292374,621,621,1.9467999999999794,0.0506294245363139,0.930139535372839,1,1.9467999999999794,0.0506294245363139,3.14,0,null,null,1.3776689196584748]
[null,null,244,{"$f":"D245+Sheet2!B$20","v":0.7630200000000009},0.6911073049183717,336,336,1.051900000000002,0.2914134746430531,0.8683670443177545,1,1.051900000000002,0.2914134746430531,3.14,0,null,null,2.7644292196734868]
[null,null,245,{"$f":"D246+Sheet2!B$20","v":0.766160000000001},0.693373335971521,228,228,0.7127800000000004,0.7699720306345791,0.6539394955067944,0,0,0.9999996829318346,0.7127800000000004,0.7699720306345791,null,null,1.386746671943042]
[null,null,246,{"$f":"D247+Sheet2!B$20","v":0.769300000000001},0.6956325306465438,107,107,0.3328399999999996,0.11725944418127715,0.3267284782389212,1,0.3328399999999996,0.11725944418127715,3.14,0,null,null,2.7825301225861754]
[null,null,247,{"$f":"D248+Sheet2!B$20","v":0.772440000000001},0.697884866668703,792,792,2.48374,0.12684314128557353,0.6114190527247628,1,2.48374,0.12684314128557353,3.14,0,null,null,1.395769733337406]
[null,null,248,{"$f":"D249+Sheet2!B$20","v":0.775580000000001},0.7001303218308841,525,525,1.645359999999987,0.7291986298617216,0.9972214170272513,1,1.645359999999987,0.7291986298617216,3.14,0,null,null,2.8005212873235363]
[null,null,249,{"$f":"D250+Sheet2!B$20","v":0.7787200000000011},0.702368873993816,996,996,3.124300000000029,0.612721927035023,0.017291791748703697,0,0,0.9999996829318346,3.124300000000029,0.612721927035023,null,null,1.404737747987632]
[null,null,250,{"$f":"D251+Sheet2!B$20","v":0.7818600000000011},0.7046005010862876,983,983,3.0834800000000273,0.3747105809108334,0.058079950594009805,0,0,0.9999996829318346,3.0834800000000273,0.3747105809108334,null,null,2.8184020043451503]
[null,null,251,{"$f":"D252+Sheet2!B$20","v":0.7850000000000011},0.7068251811053667,655,655,2.0535599999999805,0.4844686433048276,0.8857153302872764,1,2.0535599999999805,0.4844686433048276,3.14,0,null,null,1.4136503622107335]
[null,null,252,{"$f":"D253+Sheet2!B$20","v":0.7881400000000012},0.7090428921166162,834,834,2.615620000000006,0.22467594557076,0.5020544278917194,1,2.615620000000006,0.22467594557076,3.14,0,null,null,2.836171568466465]
[null,null,253,{"$f":"D254+Sheet2!B$20","v":0.7912800000000012},0.7112536122543105,666,666,2.088099999999982,0.41313295581127074,0.8691557746856846,1,2.088099999999982,0.41313295581127074,3.14,0,null,null,1.422507224508621]
[null,null,254,{"$f":"D255+Sheet2!B$20","v":0.7944200000000012},0.7134573197216512,162,162,0.5055399999999983,0.07296000612694374,0.48427996397805767,1,0.5055399999999983,0.07296000612694374,3.14,0,null,null,2.8538292788866046]
[null,null,255,{"$f":"D256+Sheet2!B$20","v":0.7975600000000013},0.7156539927909821,126,126,0.3924999999999991,0.5561450821895569,0.38249949727600885,0,0,0.9999996829318346,0.3924999999999991,0.5561450821895569,null,null,1.4313079855819641]
[null,null,256,{"$f":"D257+Sheet2!B$20","v":0.8007000000000013},0.7178436098040032,350,350,1.095860000000001,2.5094162634271E-3,0.8893218400251783,1,1.095860000000001,2.5094162634271E-3,3.14,0,null,null,2.8713744392160128]
[null,null,257,{"$f":"D258+Sheet2!B$20","v":0.8038400000000013},{"$f":"SIN(x)","v":0.7200261491719843},403,403,1.2622799999999967,{"$f":"fmin+(fmax-fmin)*ABS(RAND())","v":0.5038460778833268},0.9527851288653654,1,{"$f":"IF(K259=1,H259,xMin)","v":1.2622799999999967},{"$f":"IF(K259=1,I259,fmax)","v":0.5038460778833268},{"$f":"IF(K259=0,H259,xMax)","v":3.14},0,null,null,1.4400522983439685]
[null,null,258,{"$f":"D259+Sheet2!B$20","v":0.8069800000000014},0.7222015893759779,667,667,{"$f":"LOOKUP(G260,C$3:C$1003,D$3:D$1003)","v":2.0912399999999822},0.13546012829978643,{"$f":"LOOKUP(H260,D$3:D$1003,E$3:E$1003)","v":0.867598641868254},{"$f":"IF(I260>J260,0,1)","v":1},2.0912399999999822,0.13546012829978643,3.14,{"$f":"IF(K260=0,I260,0)","v":0},null,null,2.8888063575039116]
[null,null,259,{"$f":"D260+Sheet2!B$20","v":0.8101200000000014},0.7243699089670315,{"$f":"INT(1000*ABS(RAND()))+1","v":754},{"$f":"IF(F261>0,F261,-F261)","v":754},2.3644199999999946,0.6234643810831143,0.7012666120722123,1,2.3644199999999946,0.6234643810831143,3.14,0,null,null,1.448739817934063]
[null,null,260,{"$f":"D261+Sheet2!B$20","v":0.8132600000000014},0.7265310865663986,256,256,0.8007000000000013,0.7601676995836135,0.7178436098040032,0,0,0.9999996829318346,0.8007000000000013,0.7601676995836135,null,null,2.9061243462655946]
[null,null,261,{"$f":"D262+Sheet2!B$20","v":0.8164000000000015},0.7286851008657503,854,854,2.678420000000009,0.7778555614846695,0.4467887320399879,0,0,0.9999996829318346,2.678420000000009,0.7778555614846695,null,null,1.4573702017315007]
[null,null,262,{"$f":"D263+Sheet2!B$20","v":0.8195400000000015},0.7308319306273846,36,36,0.10990000000000003,0.41202957020638936,0.10967890467865332,0,0,0.9999996829318346,0.10990000000000003,0.41202957020638936,null,null,2.9233277225095384]
[null,null,263,{"$f":"D264+Sheet2!B$20","v":0.8226800000000015},0.7329715546844361,295,295,0.9231600000000025,0.03173756665319883,0.7975120362688412,1,0.9231600000000025,0.03173756665319883,3.14,0,null,null,{"$f":"2*E265","v":1.4659431093688722}]
[null,null,264,{"$f":"D265+Sheet2!B$20","v":0.8258200000000016},0.7351039519410848,372,372,1.1649399999999992,0.2664597042469813,0.9187646513979717,1,1.1649399999999992,0.2664597042469813,3.14,0,null,null,{"$f":"4*E266","v":2.940415807764339}]
[null,null,265,{"$f":"D266+Sheet2!B$20","v":0.8289600000000016},0.7372291013727641,356,356,1.1147000000000005,0.7714713519302022,0.8977786941406216,1,1.1147000000000005,0.7714713519302022,3.14,0,null,null,1.4744582027455282]
[null,null,266,{"$f":"D267+Sheet2!B$20","v":0.8321000000000016},0.7393469820263676,535,535,1.6767599999999863,0.1851703896669363,0.9943911011281259,1,1.6767599999999863,0.1851703896669363,3.14,0,null,null,2.9573879281054705]
[null,null,267,{"$f":"D268+Sheet2!B$20","v":0.8352400000000016},0.7414575730204567,884,884,2.772620000000013,0.18104587986038312,0.3606574181499954,1,2.772620000000013,0.18104587986038312,3.14,0,null,null,1.4829151460409133]
[null,null,268,{"$f":"D269+Sheet2!B$20","v":0.8383800000000017},0.7435608535454653,623,623,1.9530799999999793,0.11332193068691306,0.9278151536077415,1,1.9530799999999793,0.11332193068691306,3.14,0,null,null,2.9742434141818612]
[null,null,269,{"$f":"D270+Sheet2!B$20","v":0.8415200000000017},0.7456568028639058,312,312,0.9765400000000031,0.06358159141098926,0.8285651051394314,1,0.9765400000000031,0.06358159141098926,3.14,0,null,null,1.4913136057278116]
[null,null,270,{"$f":"D271+Sheet2!B$20","v":0.8446600000000017},0.7477454003105735,938,938,2.942180000000021,0.7869570059244861,0.19809365797382372,0,0,0.9999996829318346,2.942180000000021,0.7869570059244861,null,null,2.990981601242294]
[null,null,271,{"$f":"D272+Sheet2!B$20","v":0.8478000000000018},0.7498266252927496,162,162,0.5055399999999983,0.5744248714129295,0.48427996397805767,0,0,0.9999996829318346,0.5055399999999983,0.5744248714129295,null,null,1.4996532505854991]
[null,null,272,{"$f":"D273+Sheet2!B$20","v":0.8509400000000018},0.7519004572904053,357,357,1.1178400000000004,0.5999007227131445,0.8991572690708314,1,1.1178400000000004,0.5999007227131445,3.14,0,null,null,3.0076018291616213]
[null,null,273,{"$f":"D274+Sheet2!B$20","v":0.8540800000000018},0.7539668758564035,46,46,0.14130000000000006,0.9258074538273355,0.14083027716281366,0,0,0.9999996829318346,0.14130000000000006,0.9258074538273355,null,null,1.507933751712807]
[null,null,274,{"$f":"D275+Sheet2!B$20","v":0.8572200000000019},0.7560258606167003,682,682,2.1383399999999844,0.5655757101123621,0.8432239466691603,1,2.1383399999999844,0.5655757101123621,3.14,0,null,null,3.024103442466801]
[null,null,275,{"$f":"D276+Sheet2!B$20","v":0.8603600000000019},0.7580773912705464,169,169,0.5275199999999985,0.381890022352026,0.5033920272480326,1,0.5275199999999985,0.381890022352026,3.14,0,null,null,1.5161547825410928]
[null,null,276,{"$f":"D277+Sheet2!B$20","v":0.8635000000000019},0.7601214475906866,99,99,0.30771999999999977,0.9341333886379515,0.30288652487727113,0,0,0.9999996829318346,0.30771999999999977,0.9341333886379515,null,null,3.0404857903627462]
[null,null,277,{"$f":"D278+Sheet2!B$20","v":0.866640000000002},0.7621580094235599,374,374,1.171219999999999,0.484185254637374,0.9212258974504054,1,1.171219999999999,0.484185254637374,3.14,0,null,null,1.5243160188471199]
[null,null,278,{"$f":"D279+Sheet2!B$20","v":0.869780000000002},0.7641870566894977,274,274,0.8572200000000019,0.3268363880699634,0.7560258606167003,1,0.8572200000000019,0.3268363880699634,3.14,0,null,null,3.056748226757991]
[null,null,279,{"$f":"D280+Sheet2!B$20","v":0.872920000000002},0.766208569382922,943,943,2.9578800000000216,0.4295845422341475,0.1826810020001529,0,0,0.9999996829318346,2.9578800000000216,0.4295845422341475,null,null,1.532417138765844]
[null,null,280,{"$f":"D281+Sheet2!B$20","v":0.8760600000000021},0.7682225275725427,929,929,2.9139200000000196,0.52797837049685,0.22571084916715572,0,0,0.9999996829318346,2.9139200000000196,0.52797837049685,null,null,3.072890110290171]
[null,null,281,{"$f":"D282+Sheet2!B$20","v":0.8792000000000021},0.7702289114015539,20,20,0.05965999999999997,0.5870352105475348,0.059624614836485935,0,0,0.9999996829318346,0.05965999999999997,0.5870352105475348,null,null,1.5404578228031078]
[null,null,282,{"$f":"D283+Sheet2!B$20","v":0.8823400000000021},0.7722277010878298,707,707,2.216839999999988,0.2199988219032943,0.7984718771444679,1,2.216839999999988,0.2199988219032943,3.14,0,null,null,3.088910804351319]
[null,null,283,{"$f":"D284+Sheet2!B$20","v":0.8854800000000022},0.7742188769241198,251,251,0.7850000000000011,0.40949455354278685,0.7068251811053667,1,0.7850000000000011,0.40949455354278685,3.14,0,null,null,1.5484377538482397]
[null,null,284,{"$f":"D285+Sheet2!B$20","v":0.8886200000000022},0.776202419278243,882,882,2.766340000000013,0.8913139555302176,0.3665076134842502,0,0,0.9999996829318346,2.766340000000013,0.8913139555302176,null,null,3.104809677112972]
[null,null,285,{"$f":"D286+Sheet2!B$20","v":0.8917600000000022},0.778178308593281,173,173,0.5400799999999987,0.4529155103155128,0.5142046067023127,1,0.5400799999999987,0.4529155103155128,3.14,0,null,null,1.556356617186562]
[null,null,286,{"$f":"D287+Sheet2!B$20","v":0.8949000000000022},0.7801465253877715,343,343,1.0738800000000015,0.9077849405886064,0.8790567787538691,0,0,0.9999996829318346,1.0738800000000015,0.9077849405886064,null,null,3.120586101551086]
[null,null,287,{"$f":"D288+Sheet2!B$20","v":0.8980400000000023},0.7821070502559002,10,10,0.02826,0.5467179694996499,0.028256238614204468,0,0,0.9999996829318346,0.02826,0.5467179694996499,null,null,1.5642141005118004]
[null,null,288,{"$f":"D289+Sheet2!B$20","v":0.9011800000000023},0.7840598638676922,758,758,2.376979999999995,0.40183457865179384,0.6922575217506828,1,2.376979999999995,0.40183457865179384,3.14,0,null,null,3.136239455470769]
[null,null,289,{"$f":"D290+Sheet2!B$20","v":0.9043200000000023},0.786004946969202,19,19,0.05651999999999997,0.4750557247964094,0.05648991251817275,0,0,0.9999996829318346,0.05651999999999997,0.4750557247964094,null,null,1.572009893938404]
[null,null,290,{"$f":"D291+Sheet2!B$20","v":0.9074600000000024},0.787942280382704,300,300,0.9388600000000027,0.1610683658469987,0.8068852174510164,1,0.9388600000000027,0.1610683658469987,3.14,0,null,null,3.151769121530816]
[null,null,291,{"$f":"D292+Sheet2!B$20","v":0.9106000000000024},0.7898718450068815,832,832,2.6093400000000058,0.7820487682195119,0.5074756623549158,0,0,0.9999996829318346,2.6093400000000058,0.7820487682195119,null,null,1.579743690013763]
[null,null,292,{"$f":"D293+Sheet2!B$20","v":0.9137400000000024},0.7917936218170146,841,841,2.637600000000007,0.6198464606553906,0.4829255911369341,0,0,0.9999996829318346,2.637600000000007,0.6198464606553906,null,null,3.1671744872680585]
[null,null,293,{"$f":"D294+Sheet2!B$20","v":0.9168800000000025},0.7937075918651685,916,916,2.8731000000000178,0.496141253717447,0.2652783976187561,0,0,0.9999996829318346,2.8731000000000178,0.496141253717447,null,null,1.587415183730337]
[null,null,294,{"$f":"D295+Sheet2!B$20","v":0.9200200000000025},0.7956137362803792,418,418,1.3093799999999955,0.025390913214012868,0.966024898902063,1,1.3093799999999955,0.025390913214012868,3.14,0,null,null,3.182454945121517]
[null,null,295,{"$f":"D296+Sheet2!B$20","v":0.9231600000000025},0.7975120362688412,190,190,0.5934599999999992,0.96747076761228,0.5592327416634837,0,0,0.9999996829318346,0.5934599999999992,0.96747076761228,null,null,1.5950240725376823]
[null,null,296,{"$f":"D297+Sheet2!B$20","v":0.9263000000000026},0.7994024731140909,286,286,0.8949000000000022,0.7792878193461982,0.7801465253877715,1,0.8949000000000022,0.7792878193461982,3.14,0,null,null,3.1976098924563634]
[null,null,297,{"$f":"D298+Sheet2!B$20","v":0.9294400000000026},0.8012850281771926,66,66,0.20410000000000014,0.12512110651285904,0.20268592269297228,1,0.20410000000000014,0.12512110651285904,3.14,0,null,null,1.6025700563543852]
[null,null,298,{"$f":"D299+Sheet2!B$20","v":0.9325800000000026},0.8031596828969216,725,725,2.2733599999999905,0.28584726302663654,0.7631881120398141,1,2.2733599999999905,0.28584726302663654,3.14,0,null,null,3.2126387315876865]
[null,null,299,{"$f":"D300+Sheet2!B$20","v":0.9357200000000027},0.8050264187899476,883,883,2.769480000000013,0.533143488361295,0.36358430821357274,0,0,0.9999996829318346,2.769480000000013,0.533143488361295,null,null,1.6100528375798953]
[null,null,300,{"$f":"D301+Sheet2!B$20","v":0.9388600000000027},0.8068852174510164,153,153,0.4772799999999985,0.02611642693354437,0.4593648441139767,1,0.4772799999999985,0.02611642693354437,3.14,0,null,null,3.2275408698040655]
[null,null,301,{"$f":"D302+Sheet2!B$20","v":0.9420000000000027},0.8087360605531317,938,938,2.942180000000021,0.8483806288223048,0.19809365797382372,0,0,0.9999996829318346,2.942180000000021,0.8483806288223048,null,null,1.6174721211062635]
[null,null,302,{"$f":"D303+Sheet2!B$20","v":0.9451400000000028},0.810578929847736,154,154,0.48041999999999846,0.8649273796338451,0.4621516726691735,0,0,0.9999996829318346,0.48041999999999846,0.8649273796338451,null,null,3.242315719390944]
[null,null,303,{"$f":"D304+Sheet2!B$20","v":0.9482800000000028},0.8124138071648901,958,958,3.0049800000000237,0.7312219212665323,0.13618811589237503,0,0,0.9999996829318346,3.0049800000000237,0.7312219212665323,null,null,1.6248276143297802]
[null,null,304,{"$f":"D305+Sheet2!B$20","v":0.9514200000000028},0.8142406744134523,49,49,0.15072000000000008,0.8658393625368811,0.15015000885384153,0,0,0.9999996829318346,0.15072000000000008,0.8658393625368811,null,null,3.256962697653809]
[null,null,305,{"$f":"D306+Sheet2!B$20","v":0.9545600000000029},0.8160595135812573,497,497,1.5574399999999893,0.9819728852031343,0.9999108055932457,1,1.5574399999999893,0.9819728852031343,3.14,0,null,null,1.6321190271625146]
[null,null,306,{"$f":"D307+Sheet2!B$20","v":0.9577000000000029},0.8178703067352929,220,220,0.6876600000000002,0.08145884203435155,0.6347307254831556,1,0.6876600000000002,0.08145884203435155,3.14,0,null,null,3.2714812269411717]
[null,null,307,{"$f":"D308+Sheet2!B$20","v":0.9608400000000029},0.8196730360218779,670,670,2.1006599999999827,0.45321181973246766,0.8628759802370436,1,2.1006599999999827,0.45321181973246766,3.14,0,null,null,1.6393460720437558]
[null,null,308,{"$f":"D309+Sheet2!B$20","v":0.963980000000003},0.8214676836668371,574,574,1.7992199999999832,0.5196199463172914,0.9740245522496555,1,1.7992199999999832,0.5196199463172914,3.14,0,null,null,3.2858707346673484]
[null,null,309,{"$f":"D310+Sheet2!B$20","v":0.967120000000003},0.823254231975677,392,392,1.2277399999999976,0.6138162126398724,0.9417310183845448,1,1.2277399999999976,0.6138162126398724,3.14,0,null,null,1.646508463951354]
[null,null,310,{"$f":"D311+Sheet2!B$20","v":0.970260000000003},0.8250326633337606,353,353,1.1052800000000007,0.7053437709206527,0.8935899137657353,1,1.1052800000000007,0.7053437709206527,3.14,0,null,null,3.3001306533350423]
[null,null,311,{"$f":"D312+Sheet2!B$20","v":0.973400000000003},0.8268029602064803,59,59,0.18212000000000012,0.9840789123451145,0.18111491817706396,0,0,0.9999996829318346,0.18212000000000012,0.9840789123451145,null,null,1.6536059204129605]
[null,null,312,{"$f":"D313+Sheet2!B$20","v":0.9765400000000031},0.8285651051394314,20,20,0.05965999999999997,0.660263845667172,0.059624614836485935,0,0,0.9999996829318346,0.05965999999999997,0.660263845667172,null,null,3.3142604205577255]
[null,null,313,{"$f":"D314+Sheet2!B$20","v":0.9796800000000031},0.8303190807585841,815,815,2.5559600000000033,0.3717096690898668,0.5527267227299762,1,2.5559600000000033,0.3717096690898668,3.14,0,null,null,1.6606381615171681]
[null,null,314,{"$f":"D315+Sheet2!B$20","v":0.9828200000000031},0.8320648697704546,996,996,3.124300000000029,0.17733597167789106,0.017291791748703697,0,0,0.9999996829318346,3.124300000000029,0.17733597167789106,null,null,3.3282594790818183]
[null,null,315,{"$f":"D316+Sheet2!B$20","v":0.9859600000000032},0.8338024549622756,192,192,0.5997399999999993,0.8656255784839644,0.5644278670526605,0,0,0.9999996829318346,0.5997399999999993,0.8656255784839644,null,null,1.6676049099245511]
[null,null,316,{"$f":"D317+Sheet2!B$20","v":0.9891000000000032},0.8355318192021662,906,906,2.8417000000000163,0.4603833209070461,0.2954176530161969,0,0,0.9999996829318346,2.8417000000000163,0.4603833209070461,null,null,3.342127276808665]
[null,null,317,{"$f":"D318+Sheet2!B$20","v":0.9922400000000032},0.8372529454393008,625,625,1.9593599999999791,0.3393945572145458,0.9254541804177491,1,1.9593599999999791,0.3393945572145458,3.14,0,null,null,1.6745058908786017]
[null,null,318,{"$f":"D319+Sheet2!B$20","v":0.9953800000000033},0.8389658167040772,979,979,3.0709200000000267,0.9307702057964622,0.07061383772495791,0,0,0.9999996829318346,3.0709200000000267,0.9307702057964622,null,null,3.355863266816309]
[null,null,319,{"$f":"D320+Sheet2!B$20","v":0.9985200000000033},0.8406704161082836,776,776,2.4334999999999978,0.951871556368792,0.6503861274211595,0,0,0.9999996829318346,2.4334999999999978,0.951871556368792,null,null,1.6813408322165673]
[null,null,320,{"$f":"D321+Sheet2!B$20","v":1.0016600000000033},0.8423667268452657,683,683,2.1414799999999845,0.3306724553589418,0.8415318464626226,1,2.1414799999999845,0.3306724553589418,3.14,0,null,null,3.369466907381063]
[null,null,321,{"$f":"D322+Sheet2!B$20","v":1.0048000000000032},{"$f":"SIN(x)","v":0.8440547321900916},485,485,1.5197599999999902,{"$f":"fmin+(fmax-fmin)*ABS(RAND())","v":0.5175785304192001},0.9986979293364634,1,{"$f":"IF(K323=1,H323,xMin)","v":1.5197599999999902},{"$f":"IF(K323=1,I323,fmax)","v":0.5175785304192001},{"$f":"IF(K323=0,H323,xMax)","v":3.14},0,null,null,1.6881094643801833]
[null,null,322,{"$f":"D323+Sheet2!B$20","v":1.0079400000000032},0.8457344154997178,133,133,{"$f":"LOOKUP(G324,C$3:C$1003,D$3:D$1003)","v":0.41447999999999896},0.3799089260055862,{"$f":"LOOKUP(H324,D$3:D$1003,E$3:E$1003)","v":0.40271401540913654},{"$f":"IF(I324>J324,0,1)","v":1},0.41447999999999896,0.3799089260055862,3.14,{"$f":"IF(K324=0,I324,0)","v":0},null,null,3.3829376619988714]
[null,null,323,{"$f":"D324+Sheet2!B$20","v":1.011080000000003},0.8474057602131522,{"$f":"INT(1000*ABS(RAND()))+1","v":533},{"$f":"IF(F325>0,F325,-F325)","v":533},1.6704799999999864,0.06288893707612433,0.9950356954808399,1,1.6704799999999864,0.06288893707612433,3.14,0,null,null,1.6948115204263043]
[null,null,324,{"$f":"D325+Sheet2!B$20","v":1.014220000000003},0.8490687498516178,775,775,2.4303599999999976,0.9122158409812843,0.6527680730641946,0,0,0.9999996829318346,2.4303599999999976,0.9122158409812843,null,null,3.3962749994064714]
[null,null,325,{"$f":"D326+Sheet2!B$20","v":1.017360000000003},0.8507233680187158,410,410,1.2842599999999962,0.9193792056692726,0.9592285705568254,1,1.2842599999999962,0.9193792056692726,3.14,0,null,null,1.7014467360374317]
[null,null,326,{"$f":"D327+Sheet2!B$20","v":1.0205000000000028},0.8523695984005862,146,146,0.45529999999999865,0.3594092639877985,0.4397317723344594,1,0.45529999999999865,0.3594092639877985,3.14,0,null,null,3.409478393602345]
[null,null,327,{"$f":"D328+Sheet2!B$20","v":1.0236400000000028},0.8540074247660693,133,133,0.41447999999999896,0.25444899654132125,0.40271401540913654,1,0.41447999999999896,0.25444899654132125,3.14,0,null,null,{"$f":"2*E329","v":1.7080148495321386}]
[null,null,328,{"$f":"D329+Sheet2!B$20","v":1.0267800000000027},0.8556368309668654,165,165,0.5149599999999984,0.5446116491796852,0.4925000369331967,0,0,0.9999996829318346,0.5149599999999984,0.5446116491796852,null,null,{"$f":"4*E330","v":3.4225473238674615}]
[null,null,329,{"$f":"D330+Sheet2!B$20","v":1.0299200000000026},0.8572578009376943,584,584,1.8306199999999824,0.9032473384189417,0.9664352933009459,1,1.8306199999999824,0.9032473384189417,3.14,0,null,null,1.7145156018753887]
[null,null,330,{"$f":"D331+Sheet2!B$20","v":1.0330600000000025},0.8588703186964537,572,572,1.7929399999999833,0.6860123390373903,0.9754273944064423,1,1.7929399999999833,0.6860123390373903,3.14,0,null,null,3.4354812747858148]
[null,null,331,{"$f":"D332+Sheet2!B$20","v":1.0362000000000025},0.8604743683443766,529,529,1.6579199999999867,0.5134779625439443,0.9962071328518356,1,1.6579199999999867,0.5134779625439443,3.14,0,null,null,1.7209487366887533]
[null,null,332,{"$f":"D333+Sheet2!B$20","v":1.0393400000000024},0.8620699340661881,387,387,1.212039999999998,0.5811901684045853,0.9363342138032692,1,1.212039999999998,0.5811901684045853,3.14,0,null,null,3.4482797362647526]
[null,null,333,{"$f":"D334+Sheet2!B$20","v":1.0424800000000023},0.8636570001302613,474,474,1.485219999999991,0.6717998450386274,0.9963405802188815,1,1.485219999999991,0.6717998450386274,3.14,0,null,null,1.7273140002605225]
[null,null,334,{"$f":"D335+Sheet2!B$20","v":1.0456200000000022},0.8652355508887725,904,904,2.835420000000016,0.5450030870848659,0.30141150053691856,0,0,0.9999996829318346,2.835420000000016,0.5450030870848659,null,null,3.46094220355509]
[null,null,335,{"$f":"D336+Sheet2!B$20","v":1.0487600000000021},0.8668055707778552,728,728,2.282779999999991,0.47691932883593563,0.757067359591656,1,2.282779999999991,0.47691932883593563,3.14,0,null,null,1.7336111415557105]
[null,null,336,{"$f":"D337+Sheet2!B$20","v":1.051900000000002},0.8683670443177545,266,266,0.8321000000000016,0.17418407920715787,0.7393469820263676,1,0.8321000000000016,0.17418407920715787,3.14,0,null,null,3.473468177271018]
[null,null,337,{"$f":"D338+Sheet2!B$20","v":1.055040000000002},0.8699199561129781,523,523,1.6390799999999872,0.7540948217337494,0.9976695756959713,1,1.6390799999999872,0.7540948217337494,3.14,0,null,null,1.7398399122259562]
[null,null,338,{"$f":"D339+Sheet2!B$20","v":1.058180000000002},0.8714642908524497,892,892,2.7977400000000143,0.0978625365560701,0.33711671534072296,1,2.7977400000000143,0.0978625365560701,3.14,0,null,null,3.485857163409799]
[null,null,339,{"$f":"D340+Sheet2!B$20","v":1.0613200000000018},0.8730000333096588,210,210,0.6562599999999998,0.9842841651866878,0.6101579999038804,0,0,0.9999996829318346,0.6562599999999998,0.9842841651866878,null,null,1.7460000666193176]
[null,null,340,{"$f":"D341+Sheet2!B$20","v":1.0644600000000017},0.8745271683428117,549,549,1.7207199999999852,0.41760255830677345,0.9887824811895393,1,1.7207199999999852,0.41760255830677345,3.14,0,null,null,3.498108673371247]
[null,null,341,{"$f":"D342+Sheet2!B$20","v":1.0676000000000017},0.8760456808949801,94,94,0.2920199999999999,0.8530876060885516,0.28788729301746724,0,0,0.9999996829318346,0.2920199999999999,0.8530876060885516,null,null,1.7520913617899603]
[null,null,342,{"$f":"D343+Sheet2!B$20","v":1.0707400000000016},0.8775555559942501,851,851,2.6690000000000085,0.5977381489679988,0.45519628839578913,0,0,0.9999996829318346,2.6690000000000085,0.5977381489679988,null,null,3.5102222239770002]
[null,null,343,{"$f":"D344+Sheet2!B$20","v":1.0738800000000015},0.8790567787538691,723,723,2.26707999999999,0.2830216585624867,0.7672310235823266,1,2.26707999999999,0.2830216585624867,3.14,0,null,null,1.7581135575077382]
[null,null,344,{"$f":"D345+Sheet2!B$20","v":1.0770200000000014},0.8805493343723936,942,942,2.9547400000000215,0.6171033921873529,0.18576725717747214,0,0,0.9999996829318346,2.9547400000000215,0.6171033921873529,null,null,3.5221973374895743]
[null,null,345,{"$f":"D346+Sheet2!B$20","v":1.0801600000000013},0.8820332081338342,349,349,1.092720000000001,0.3086558448927948,0.8878815932879804,1,1.092720000000001,0.3086558448927948,3.14,0,null,null,1.7640664162676685]
[null,null,346,{"$f":"D347+Sheet2!B$20","v":1.0833000000000013},0.8835083854078013,547,547,1.7144399999999853,0.5383110671821044,0.9897009746079225,1,1.7144399999999853,0.5383110671821044,3.14,0,null,null,3.534033541631205]
[null,null,347,{"$f":"D348+Sheet2!B$20","v":1.0864400000000012},0.8849748516496488,506,506,1.5856999999999886,0.019407790737816368,0.9998889423181936,1,1.5856999999999886,0.019407790737816368,3.14,0,null,null,1.7699497032992977]
[null,null,348,{"$f":"D349+Sheet2!B$20","v":1.089580000000001},0.8864325924006182,258,258,0.8069800000000014,0.553558348658271,0.7222015893759779,1,0.8069800000000014,0.553558348658271,3.14,0,null,null,3.545730369602473]
[null,null,349,{"$f":"D350+Sheet2!B$20","v":1.092720000000001},0.8878815932879804,177,177,0.5526399999999988,0.35765770695251115,0.5249360695951265,1,0.5526399999999988,0.35765770695251115,3.14,0,null,null,1.7757631865759609]
[null,null,350,{"$f":"D351+Sheet2!B$20","v":1.095860000000001},0.8893218400251783,592,592,1.8557399999999817,0.45366761670697225,0.9596774878331276,1,1.8557399999999817,0.45366761670697225,3.14,0,null,null,3.5572873601007133]
[null,null,351,{"$f":"D352+Sheet2!B$20","v":1.0990000000000009},0.8907533184119666,48,48,0.14758000000000007,0.5899453315681238,0.14704487121602514,0,0,0.9999996829318346,0.14758000000000007,0.5899453315681238,null,null,1.7815066368239332]
[null,null,352,{"$f":"D353+Sheet2!B$20","v":1.1021400000000008},0.8921760143345526,764,764,2.395819999999996,0.26714271239990484,0.6785395763333983,1,2.395819999999996,0.26714271239990484,3.14,0,null,null,3.5687040573382105]
[null,null,353,{"$f":"D354+Sheet2!B$20","v":1.1052800000000007},0.8935899137657353,673,673,2.110079999999983,0.04239653016562524,0.8580767506639,1,2.110079999999983,0.04239653016562524,3.14,0,null,null,1.7871798275314705]
[null,null,354,{"$f":"D355+Sheet2!B$20","v":1.1084200000000006},0.8949950027650431,894,894,2.8040200000000146,0.2162563976647456,0.3311977197806714,1,2.8040200000000146,0.2162563976647456,3.14,0,null,null,3.5799800110601723]
[null,null,355,{"$f":"D356+Sheet2!B$20","v":1.1115600000000005},0.8963912674788719,242,242,0.7567400000000009,0.5853698330605577,0.6865548231134433,1,0.7567400000000009,0.5853698330605577,3.14,0,null,null,1.7927825349577438]
[null,null,356,{"$f":"D357+Sheet2!B$20","v":1.1147000000000005},0.8977786941406216,95,95,0.29515999999999987,0.14660295571751086,0.29089293474429073,1,0.29515999999999987,0.14660295571751086,3.14,0,null,null,3.5911147765624865]
[null,null,357,{"$f":"D358+Sheet2!B$20","v":1.1178400000000004},0.8991572690708314,22,22,0.06593999999999997,0.3569646238458452,0.06589222494891467,0,0,0.9999996829318346,0.06593999999999997,0.3569646238458452,null,null,1.7983145381416628]
[null,null,358,{"$f":"D359+Sheet2!B$20","v":1.1209800000000003},0.9005269786773151,216,216,0.6751,0.5162398705602401,0.6249753842981964,1,0.6751,0.5162398705602401,3.14,0,null,null,3.6021079147092605]
[null,null,359,{"$f":"D360+Sheet2!B$20","v":1.1241200000000002},0.901887809455295,756,756,2.370699999999995,0.19588733594860858,0.6967758067277791,1,2.370699999999995,0.19588733594860858,3.14,0,null,null,1.80377561891059]
[null,null,360,{"$f":"D361+Sheet2!B$20","v":1.1272600000000002},0.9032397479875349,207,207,0.6468399999999997,0.9801391791685418,0.6026677635471206,0,0,0.9999996829318346,0.6468399999999997,0.9801391791685418,null,null,3.6129589919501397]
[null,null,361,{"$f":"D362+Sheet2!B$20","v":1.1304},0.9045827809444728,660,660,2.0692599999999812,0.6310152484331307,0.8783180802228832,1,2.0692599999999812,0.6310152484331307,3.14,0,null,null,1.8091655618889455]
[null,null,362,{"$f":"D363+Sheet2!B$20","v":1.13354},0.9059168950843516,199,199,0.6217199999999995,0.44815774453834534,0.5824341713255371,1,0.6217199999999995,0.44815774453834534,3.14,0,null,null,3.6236675803374063]
[null,null,363,{"$f":"D364+Sheet2!B$20","v":1.13668},0.9072420772533505,985,985,3.0897600000000276,0.05733791205336527,0.05180944756561375,0,0,0.9999996829318346,3.0897600000000276,0.05733791205336527,null,null,1.814484154506701]
[null,null,364,{"$f":"D365+Sheet2!B$20","v":1.1398199999999998},0.908558314385714,223,223,0.6970800000000003,0.23393012135858235,0.6419816047976502,1,0.6970800000000003,0.23393012135858235,3.14,0,null,null,3.634233257542856]
[null,null,365,{"$f":"D366+Sheet2!B$20","v":1.1429599999999998},0.9098655935038812,415,415,1.2999599999999958,0.5668411686538302,0.9635474846932032,1,1.2999599999999958,0.5668411686538302,3.14,0,null,null,1.8197311870077624]
[null,null,366,{"$f":"D367+Sheet2!B$20","v":1.1460999999999997},0.9111639017186135,334,334,1.0456200000000022,0.29055484149978167,0.8652355508887725,1,1.0456200000000022,0.29055484149978167,3.14,0,null,null,3.644655606874454]
[null,null,367,{"$f":"D368+Sheet2!B$20","v":1.1492399999999996},0.9124532262291217,13,13,0.03767999999999999,0.4012390890397448,0.037671084399462165,0,0,0.9999996829318346,0.03767999999999999,0.4012390890397448,null,null,1.8249064524582435]
[null,null,368,{"$f":"D369+Sheet2!B$20","v":1.1523799999999995},0.9137335543231924,699,699,2.191719999999987,0.5368805672857828,0.8133414229406368,1,2.191719999999987,0.5368805672857828,3.14,0,null,null,3.6549342172927695]
[null,null,369,{"$f":"D370+Sheet2!B$20","v":1.1555199999999994},0.915004873377313,350,350,1.095860000000001,0.14473517305232725,0.8893218400251783,1,1.095860000000001,0.14473517305232725,3.14,0,null,null,1.830009746754626]
[null,null,370,{"$f":"D371+Sheet2!B$20","v":1.1586599999999994},0.9162671708567964,150,150,0.46785999999999855,0.7504274374532611,0.45097729367998746,0,0,0.9999996829318346,0.46785999999999855,0.7504274374532611,null,null,3.6650686834271857]
[null,null,371,{"$f":"D372+Sheet2!B$20","v":1.1617999999999993},0.9175204343159048,442,442,1.3847399999999936,0.7219666378584537,0.9827413946211642,1,1.3847399999999936,0.7219666378584537,3.14,0,null,null,1.8350408686318096]
[null,null,372,{"$f":"D373+Sheet2!B$20","v":1.1649399999999992},0.9187646513979717,808,808,2.5339800000000023,0.6729274094777036,0.5709090457000187,0,0,0.9999996829318346,2.5339800000000023,0.6729274094777036,null,null,3.675058605591887]
[null,null,373,{"$f":"D374+Sheet2!B$20","v":1.1680799999999991},0.9199998098355247,126,126,0.3924999999999991,0.742279934538121,0.38249949727600885,0,0,0.9999996829318346,0.3924999999999991,0.742279934538121,null,null,1.8399996196710493]
[null,null,374,{"$f":"D375+Sheet2!B$20","v":1.171219999999999},0.9212258974504054,72,72,0.22294000000000017,0.2913691160621304,0.22109781430451664,0,0,0.9999996829318346,0.22294000000000017,0.2913691160621304,null,null,3.6849035898016216]
[null,null,375,{"$f":"D376+Sheet2!B$20","v":1.174359999999999},0.9224429021538906,247,247,0.772440000000001,0.5981229631684168,0.697884866668703,1,0.772440000000001,0.5981229631684168,3.14,0,null,null,1.8448858043077812]
[null,null,376,{"$f":"D377+Sheet2!B$20","v":1.1774999999999989},0.9236508119468102,12,12,0.034539999999999994,0.5566964551284916,0.03453313263954416,0,0,0.9999996829318346,0.034539999999999994,0.5566964551284916,null,null,3.694603247787241]
[null,null,377,{"$f":"D378+Sheet2!B$20","v":1.1806399999999988},0.924849614919667,195,195,0.6091599999999994,0.16346996014143458,0.5721787537388306,1,0.6091599999999994,0.16346996014143458,3.14,0,null,null,1.849699229839334]
[null,null,378,{"$f":"D379+Sheet2!B$20","v":1.1837799999999987},0.9260392992527526,651,651,2.04099999999998,0.30461572634999834,0.8914760289023221,1,2.04099999999998,0.30461572634999834,3.14,0,null,null,3.7041571970110105]
[null,null,379,{"$f":"D380+Sheet2!B$20","v":1.1869199999999986},0.9272198532162651,203,203,0.6342799999999996,0.3411341421680273,0.5925977090328285,1,0.6342799999999996,0.3411341421680273,3.14,0,null,null,1.8544397064325302]
[null,null,380,{"$f":"D381+Sheet2!B$20","v":1.1900599999999986},0.9283912651704243,976,976,3.0615000000000263,0.5105021949515998,0.08000705088239393,0,0,0.9999996829318346,3.0615000000000263,0.5105021949515998,null,null,3.713565060681697]
[null,null,381,{"$f":"D382+Sheet2!B$20","v":1.1931999999999985},0.9295535235655862,999,999,3.1337200000000296,0.8579301712698381,0.007872572267243218,0,0,0.9999996829318346,3.1337200000000296,0.8579301712698381,null,null,1.8591070471311724]
[null,null,382,{"$f":"D383+Sheet2!B$20","v":1.1963399999999984},0.9307066169423575,345,345,1.0801600000000013,0.1592582080678022,0.8820332081338342,1,1.0801600000000013,0.1592582080678022,3.14,0,null,null,3.72282646776943]
[null,null,383,{"$f":"D384+Sheet2!B$20","v":1.1994799999999983},0.931850533931708,421,421,1.3187999999999953,0.11601241471051019,0.9684165921729674,1,1.3187999999999953,0.11601241471051019,3.14,0,null,null,1.863701067863416]
[null,null,384,{"$f":"D385+Sheet2!B$20","v":1.2026199999999982},0.9329852632550831,651,651,2.04099999999998,0.5403972562446357,0.8914760289023221,1,2.04099999999998,0.5403972562446357,3.14,0,null,null,3.7319410530203325]
[null,null,385,{"$f":"D386+Sheet2!B$20","v":1.2057599999999982},{"$f":"SIN(x)","v":0.9341107937245147},555,555,1.7395599999999847,{"$f":"fmin+(fmax-fmin)*ABS(RAND())","v":0.7575816733453462},0.9857931782926479,1,{"$f":"IF(K387=1,H387,xMin)","v":1.7395599999999847},{"$f":"IF(K387=1,I387,fmax)","v":0.7575816733453462},{"$f":"IF(K387=0,H387,xMax)","v":3.14},0,null,null,1.8682215874490293]
[null,null,386,{"$f":"D387+Sheet2!B$20","v":1.208899999999998},0.9352271142427316,996,996,{"$f":"LOOKUP(G388,C$3:C$1003,D$3:D$1003)","v":3.124300000000029},0.5901402572756586,{"$f":"LOOKUP(H388,D$3:D$1003,E$3:E$1003)","v":0.017291791748703697},{"$f":"IF(I388>J388,0,1)","v":0},0,0.9999996829318346,3.124300000000029,{"$f":"IF(K388=0,I388,0)","v":0.5901402572756586},null,null,3.7409084569709266]
[null,null,387,{"$f":"D388+Sheet2!B$20","v":1.212039999999998},0.9363342138032692,{"$f":"INT(1000*ABS(RAND()))+1","v":963},{"$f":"IF(F389>0,F389,-F389)","v":963},3.0206800000000245,0.960403086123005,0.12061824767226438,0,0,0.9999996829318346,3.0206800000000245,0.960403086123005,null,null,1.8726684276065384]
[null,null,388,{"$f":"D389+Sheet2!B$20","v":1.215179999999998},0.9374320814905777,395,395,1.2371599999999974,0.8607255189609717,0.9448577650865625,1,1.2371599999999974,0.8607255189609717,3.14,0,null,null,3.7497283259623106]
[null,null,389,{"$f":"D390+Sheet2!B$20","v":1.2183199999999978},0.9385207064801295,746,746,2.3392999999999935,0.7788199290773783,0.7189515113340246,0,0,0.9999996829318346,2.3392999999999935,0.7788199290773783,null,null,1.877041412960259]
[null,null,390,{"$f":"D391+Sheet2!B$20","v":1.2214599999999978},0.9396000780385267,840,840,2.634460000000007,0.03136903446098816,0.48567278266487984,1,2.634460000000007,0.03136903446098816,3.14,0,null,null,3.758400312154107]
[null,null,391,{"$f":"D392+Sheet2!B$20","v":1.2245999999999977},0.9406701855236062,642,642,2.0127399999999787,0.012136873903250649,0.90392206760148,1,2.0127399999999787,0.012136873903250649,3.14,0,null,null,{"$f":"2*E393","v":1.8813403710472123}]
[null,null,392,{"$f":"D393+Sheet2!B$20","v":1.2277399999999976},0.9417310183845448,596,596,1.8682999999999814,0.14907347371818863,0.9560712267111767,1,1.8682999999999814,0.14907347371818863,3.14,0,null,null,{"$f":"4*E394","v":3.766924073538179}]
[null,null,393,{"$f":"D394+Sheet2!B$20","v":1.2308799999999975},0.9427825661619634,586,586,1.8368999999999822,0.034728116837223946,0.9648028509116993,1,1.8368999999999822,0.034728116837223946,3.14,0,null,null,1.8855651323239269]
[null,null,394,{"$f":"D395+Sheet2!B$20","v":1.2340199999999975},0.9438248184880302,413,413,1.293679999999996,0.05127969815443527,0.9618483607254693,1,1.293679999999996,0.05127969815443527,3.14,0,null,null,3.775299273952121]
[null,null,395,{"$f":"D396+Sheet2!B$20","v":1.2371599999999974},0.9448577650865625,297,297,0.9294400000000026,0.9665603738118775,0.8012850281771926,0,0,0.9999996829318346,0.9294400000000026,0.9665603738118775,null,null,1.889715530173125]
[null,null,396,{"$f":"D397+Sheet2!B$20","v":1.2402999999999973},0.9458813957731285,201,201,0.6279999999999996,0.7349009248935647,0.5875275257138916,0,0,0.9999996829318346,0.6279999999999996,0.7349009248935647,null,null,3.783525583092514]
[null,null,397,{"$f":"D398+Sheet2!B$20","v":1.2434399999999972},0.9468957004551473,141,141,0.43959999999999877,0.4537986087093049,0.42557753033520446,0,0,0.9999996829318346,0.43959999999999877,0.4537986087093049,null,null,1.8937914009102945]
[null,null,398,{"$f":"D399+Sheet2!B$20","v":1.2465799999999971},0.9479006691319886,311,311,0.973400000000003,0.35781936702835726,0.8268029602064803,1,0.973400000000003,0.35781936702835726,3.14,0,null,null,3.7916026765279542]
[null,null,399,{"$f":"D400+Sheet2!B$20","v":1.249719999999997},0.9488962918950714,894,894,2.8040200000000146,0.5546370365374848,0.3311977197806714,0,0,0.9999996829318346,2.8040200000000146,0.5546370365374848,null,null,1.8977925837901428]
[null,null,400,{"$f":"D401+Sheet2!B$20","v":1.252859999999997},0.9498825589279617,606,606,1.8996999999999806,0.44581701214668334,0.9463970319725213,1,1.8996999999999806,0.44581701214668334,3.14,0,null,null,3.799530235711847]
[null,null,401,{"$f":"D402+Sheet2!B$20","v":1.255999999999997},0.950859460506469,197,197,0.6154399999999994,0.45992418879296243,0.5773178467408526,1,0.6154399999999994,0.45992418879296243,3.14,0,null,null,1.901718921012938]
[null,null,402,{"$f":"D403+Sheet2!B$20","v":1.2591399999999968},0.9518269869987422,925,925,2.901360000000019,0.8435377368226068,0.2379286052586819,0,0,0.9999996829318346,2.901360000000019,0.8435377368226068,null,null,3.807307947994969]
[null,null,403,{"$f":"D404+Sheet2!B$20","v":1.2622799999999967},0.9527851288653654,981,981,3.077200000000027,0.4889865210486125,0.0643481630496104,0,0,0.9999996829318346,3.077200000000027,0.4889865210486125,null,null,1.9055702577307307]
[null,null,404,{"$f":"D405+Sheet2!B$20","v":1.2654199999999967},0.9537338766594503,394,394,1.2340199999999975,0.10820903617623523,0.9438248184880302,1,1.2340199999999975,0.10820903617623523,3.14,0,null,null,3.8149355066378012]
[null,null,405,{"$f":"D406+Sheet2!B$20","v":1.2685599999999966},0.9546732210267311,534,534,1.6736199999999863,0.26569472719703957,0.9947183020627394,1,1.6736199999999863,0.26569472719703957,3.14,0,null,null,1.9093464420534623]
[null,null,406,{"$f":"D407+Sheet2!B$20","v":1.2716999999999965},0.9556031527056557,863,863,2.70668000000001,0.33477756475532094,0.42133118791646734,1,2.70668000000001,0.33477756475532094,3.14,0,null,null,3.8224126108226226]
[null,null,407,{"$f":"D408+Sheet2!B$20","v":1.2748399999999964},0.9565236625274771,1,1,0,0.47854716262143354,0,0,0,0.9999996829318346,0,0.47854716262143354,null,null,1.9130473250549542]
[null,null,408,{"$f":"D409+Sheet2!B$20","v":1.2779799999999963},0.9574347414163443,800,800,2.508860000000001,0.42506186500655946,0.591350614778305,1,2.508860000000001,0.42506186500655946,3.14,0,null,null,3.8297389656653773]
[null,null,409,{"$f":"D410+Sheet2!B$20","v":1.2811199999999963},0.9583363803893912,679,679,2.128919999999984,0.9388953163079676,0.8482502979011608,0,0,0.9999996829318346,2.128919999999984,0.9388953163079676,null,null,1.9166727607787823]
[null,null,410,{"$f":"D411+Sheet2!B$20","v":1.2842599999999962},0.9592285705568254,165,165,0.5149599999999984,0.4626254143841099,0.4925000369331967,1,0.5149599999999984,0.4626254143841099,3.14,0,null,null,3.8369142822273017]
[null,null,411,{"$f":"D412+Sheet2!B$20","v":1.287399999999996},0.9601113031220161,79,79,0.2449200000000002,0.7292342694314393,0.24247871302647697,0,0,0.9999996829318346,0.2449200000000002,0.7292342694314393,null,null,1.9202226062440322]
[null,null,412,{"$f":"D413+Sheet2!B$20","v":1.290539999999996},0.9609845693815804,234,234,0.7316200000000006,0.9893405752248717,0.6680759419413318,0,0,0.9999996829318346,0.7316200000000006,0.9893405752248717,null,null,3.8439382775263216]
[null,null,413,{"$f":"D414+Sheet2!B$20","v":1.293679999999996},0.9618483607254693,969,969,3.0395200000000253,0.6401499191803223,0.1018954996885005,0,0,0.9999996829318346,3.0395200000000253,0.6401499191803223,null,null,1.9236967214509386]
[null,null,414,{"$f":"D415+Sheet2!B$20","v":1.2968199999999959},0.9627026686370527,775,775,2.4303599999999976,0.8360016016606058,0.6527680730641946,0,0,0.9999996829318346,2.4303599999999976,0.8360016016606058,null,null,3.8508106745482107]
[null,null,415,{"$f":"D416+Sheet2!B$20","v":1.2999599999999958},0.9635474846932032,830,830,2.6030600000000055,0.6464830079459707,0.5128768828557266,0,0,0.9999996829318346,2.6030600000000055,0.6464830079459707,null,null,1.9270949693864063]
[null,null,416,{"$f":"D417+Sheet2!B$20","v":1.3030999999999957},0.9643828005643793,989,989,3.102320000000028,0.16045557340126354,0.039262559062194065,0,0,0.9999996829318346,3.102320000000028,0.16045557340126354,null,null,3.8575312022575172]
[null,null,417,{"$f":"D418+Sheet2!B$20","v":1.3062399999999956},0.9652086080147073,30,30,0.09106,0.9295625584084342,0.09093420840354029,0,0,0.9999996829318346,0.09106,0.9295625584084342,null,null,1.9304172160294146]
[null,null,418,{"$f":"D419+Sheet2!B$20","v":1.3093799999999955},0.966024898902063,145,145,0.4521599999999987,0.3417530320158905,0.4369094836527023,1,0.4521599999999987,0.3417530320158905,3.14,0,null,null,3.864099595608252]
[null,null,419,{"$f":"D420+Sheet2!B$20","v":1.3125199999999955},0.9668316651781512,179,179,0.5589199999999989,0.44054682576521226,0.5302708527911103,1,0.5589199999999989,0.44054682576521226,3.14,0,null,null,1.9336633303563024]
[null,null,420,{"$f":"D421+Sheet2!B$20","v":1.3156599999999954},0.9676288988885856,411,411,1.287399999999996,0.5216768480947168,0.9601113031220161,1,1.287399999999996,0.5216768480947168,3.14,0,null,null,3.8705155955543424]
[null,null,421,{"$f":"D422+Sheet2!B$20","v":1.3187999999999953},0.9684165921729674,56,56,0.1727000000000001,0.7711520309605417,0.17184280803515456,0,0,0.9999996829318346,0.1727000000000001,0.7711520309605417,null,null,1.9368331843459348]
[null,null,422,{"$f":"D423+Sheet2!B$20","v":1.3219399999999952},0.9691947372649621,836,836,2.6219000000000063,0.04885978026763124,0.496613393270248,1,2.6219000000000063,0.04885978026763124,3.14,0,null,null,3.8767789490598483]
[null,null,423,{"$f":"D424+Sheet2!B$20","v":1.3250799999999952},0.9699633264923766,82,82,0.2543400000000002,0.19634664328164386,0.25160669596654234,1,0.2543400000000002,0.19634664328164386,3.14,0,null,null,1.9399266529847532]
[null,null,424,{"$f":"D425+Sheet2!B$20","v":1.328219999999995},0.9707223522772349,772,772,2.420939999999997,0.4216114201835312,0.6598752002099351,1,2.420939999999997,0.4216114201835312,3.14,0,null,null,3.8828894091089396]
[null,null,425,{"$f":"D426+Sheet2!B$20","v":1.331359999999995},0.9714718071358525,829,829,2.5999200000000053,0.894212708209523,0.5155699212720517,0,0,0.9999996829318346,2.5999200000000053,0.894212708209523,null,null,1.942943614271705]
[null,null,426,{"$f":"D427+Sheet2!B$20","v":1.334499999999995},0.9722116836789102,166,166,0.5180999999999985,0.9547596969063785,0.4952303855260306,0,0,0.9999996829318346,0.5180999999999985,0.9547596969063785,null,null,3.888846734715641]
[null,null,427,{"$f":"D428+Sheet2!B$20","v":1.3376399999999948},0.9729419746115275,113,113,0.35167999999999944,0.0522330325000961,0.3444754689734025,1,0.35167999999999944,0.0522330325000961,3.14,0,null,null,1.945883949223055]
[null,null,428,{"$f":"D429+Sheet2!B$20","v":1.3407799999999948},0.9736626727333337,296,296,0.9263000000000026,0.18248909604350586,0.7994024731140909,1,0.9263000000000026,0.18248909604350586,3.14,0,null,null,3.894650690933335]
[null,null,429,{"$f":"D430+Sheet2!B$20","v":1.3439199999999947},0.9743737709385394,567,567,1.7772399999999837,0.7229457570582244,0.9787660798918835,1,1.7772399999999837,0.7229457570582244,3.14,0,null,null,1.9487475418770788]
[null,null,430,{"$f":"D431+Sheet2!B$20","v":1.3470599999999946},0.9750752622160065,145,145,0.4521599999999987,0.9145504422026944,0.4369094836527023,0,0,0.9999996829318346,0.4521599999999987,0.9145504422026944,null,null,3.900301048864026]
[null,null,431,{"$f":"D432+Sheet2!B$20","v":1.3501999999999945},0.9757671396493174,996,996,3.124300000000029,0.868021776521032,0.017291791748703697,0,0,0.9999996829318346,3.124300000000029,0.868021776521032,null,null,1.9515342792986348]
[null,null,432,{"$f":"D433+Sheet2!B$20","v":1.3533399999999944},0.9764493964168428,529,529,1.6579199999999867,0.38742153702692517,0.9962071328518356,1,1.6579199999999867,0.38742153702692517,3.14,0,null,null,3.9057975856673712]
[null,null,433,{"$f":"D434+Sheet2!B$20","v":1.3564799999999944},0.9771220257918095,498,498,1.5605799999999892,0.08849757253966459,0.9999478137873162,1,1.5605799999999892,0.08849757253966459,3.14,0,null,null,1.954244051583619]
[null,null,434,{"$f":"D435+Sheet2!B$20","v":1.3596199999999943},0.9777850211423663,430,430,1.3470599999999946,0.9982355709325379,0.9750752622160065,0,0,0.9999996829318346,1.3470599999999946,0.9982355709325379,null,null,3.9111400845694653]
[null,null,435,{"$f":"D436+Sheet2!B$20","v":1.3627599999999942},0.9784383759316497,550,550,1.723859999999985,0.5697588358376708,0.9883086087047014,1,1.723859999999985,0.5697588358376708,3.14,0,null,null,1.9568767518632995]
[null,null,436,{"$f":"D437+Sheet2!B$20","v":1.3658999999999941},0.9790820837178481,986,986,3.0929000000000277,0.24728195786085821,0.04867341436391592,0,0,0.9999996829318346,3.0929000000000277,0.24728195786085821,null,null,3.9163283348713924]
[null,null,437,{"$f":"D438+Sheet2!B$20","v":1.369039999999994},0.9797161381542654,92,92,0.28573999999999994,0.9831733767039958,0.2818675238725408,0,0,0.9999996829318346,0.28573999999999994,0.9831733767039958,null,null,1.9594322763085308]
[null,null,438,{"$f":"D439+Sheet2!B$20","v":1.372179999999994},0.9803405329893836,70,70,0.21666000000000016,0.5093438745064727,0.21496891442031685,0,0,0.9999996829318346,0.21666000000000016,0.5093438745064727,null,null,3.9213621319575345]
[null,null,439,{"$f":"D440+Sheet2!B$20","v":1.3753199999999939},0.9809552620669244,178,178,0.5557799999999988,0.202015002552481,0.5276060621833467,1,0.5557799999999988,0.202015002552481,3.14,0,null,null,1.9619105241338488]
[null,null,440,{"$f":"D441+Sheet2!B$20","v":1.3784599999999938},0.98156031932591,136,136,0.4238999999999989,0.11256030337479736,0.41131838988522523,1,0.4238999999999989,0.11256030337479736,3.14,0,null,null,3.92624127730364]
[null,null,441,{"$f":"D442+Sheet2!B$20","v":1.3815999999999937},0.9821556988007228,635,635,1.9907599999999783,0.7901296984529315,0.9131037523401866,1,1.9907599999999783,0.7901296984529315,3.14,0,null,null,1.9643113976014457]
[null,null,442,{"$f":"D443+Sheet2!B$20","v":1.3847399999999936},0.9827413946211642,317,317,0.9922400000000032,0.5113154692701132,0.8372529454393008,1,0.9922400000000032,0.5113154692701132,3.14,0,null,null,3.9309655784846567]
[null,null,443,{"$f":"D444+Sheet2!B$20","v":1.3878799999999936},0.9833174010125123,268,268,0.8383800000000017,0.4795950051149424,0.7435608535454653,1,0.8383800000000017,0.4795950051149424,3.14,0,null,null,1.9666348020250246]
[null,null,444,{"$f":"D445+Sheet2!B$20","v":1.3910199999999935},0.9838837122955791,883,883,2.769480000000013,0.7927502280546387,0.36358430821357274,0,0,0.9999996829318346,2.769480000000013,0.7927502280546387,null,null,3.9355348491823166]
[null,null,445,{"$f":"D446+Sheet2!B$20","v":1.3941599999999934},0.9844403228867667,283,283,0.8854800000000022,0.878760682079333,0.7742188769241198,0,0,0.9999996829318346,0.8854800000000022,0.878760682079333,null,null,1.9688806457735335]
[null,null,446,{"$f":"D447+Sheet2!B$20","v":1.3972999999999933},0.9849872272981217,943,943,2.9578800000000216,0.6411278235565135,0.1826810020001529,0,0,0.9999996829318346,2.9578800000000216,0.6411278235565135,null,null,3.939948909192487]
[null,null,447,{"$f":"D448+Sheet2!B$20","v":1.4004399999999932},0.9855244201373897,924,924,2.898220000000019,0.22094582759352033,0.2409772548165826,1,2.898220000000019,0.22094582759352033,3.14,0,null,null,1.9710488402747794]
[null,null,448,{"$f":"D449+Sheet2!B$20","v":1.4035799999999932},0.9860518961080686,317,317,0.9922400000000032,0.3153899603114937,0.8372529454393008,1,0.9922400000000032,0.3153899603114937,3.14,0,null,null,3.9442075844322746]
[null,null,449,{"$f":"D450+Sheet2!B$20","v":1.406719999999993},{"$f":"SIN(x)","v":0.9865696500094607},116,116,0.36109999999999937,{"$f":"fmin+(fmax-fmin)*ABS(RAND())","v":0.6688194698632611},0.35330350644763237,0,{"$f":"IF(K451=1,H451,xMin)","v":0},{"$f":"IF(K451=1,I451,fmax)","v":0.9999996829318346},{"$f":"IF(K451=0,H451,xMax)","v":0.36109999999999937},0.6688194698632611,null,null,1.9731393000189215]
[null,null,450,{"$f":"D451+Sheet2!B$20","v":1.409859999999993},0.9870776767367238,490,490,{"$f":"LOOKUP(G452,C$3:C$1003,D$3:D$1003)","v":1.5354599999999898},0.33787129852357967,{"$f":"LOOKUP(H452,D$3:D$1003,E$3:E$1003)","v":0.9993757369658589},{"$f":"IF(I452>J452,0,1)","v":1},1.5354599999999898,0.33787129852357967,3.14,{"$f":"IF(K452=0,I452,0)","v":0},null,null,3.948310706946895]
[null,null,451,{"$f":"D452+Sheet2!B$20","v":1.412999999999993},0.9875759712809216,{"$f":"INT(1000*ABS(RAND()))+1","v":395},{"$f":"IF(F453>0,F453,-F453)","v":395},1.2371599999999974,0.8977664004785033,0.9448577650865625,1,1.2371599999999974,0.8977664004785033,3.14,0,null,null,1.9751519425618431]
[null,null,452,{"$f":"D453+Sheet2!B$20","v":1.4161399999999928},0.9880645287290731,139,139,0.4333199999999988,0.2448490389059424,0.41988626571803944,1,0.4333199999999988,0.2448490389059424,3.14,0,null,null,3.9522581149162925]
[null,null,453,{"$f":"D454+Sheet2!B$20","v":1.4192799999999928},0.9885433442642017,986,986,3.0929000000000277,0.7899883214334654,0.04867341436391592,0,0,0.9999996829318346,3.0929000000000277,0.7899883214334654,null,null,1.9770866885284033]
[null,null,454,{"$f":"D455+Sheet2!B$20","v":1.4224199999999927},0.9890124131653811,629,629,1.9719199999999788,0.8581054819724724,0.9206228336533062,1,1.9719199999999788,0.8581054819724724,3.14,0,null,null,3.9560496526615245]
[null,null,455,{"$f":"D456+Sheet2!B$20","v":1.4255599999999926},0.9894717308077838,856,856,2.684700000000009,0.7327575715519192,0.4411616226433953,0,0,0.9999996829318346,2.684700000000009,0.7327575715519192,null,null,{"$f":"2*E457","v":1.9789434616155677}]
[null,null,456,{"$f":"D457+Sheet2!B$20","v":1.4286999999999925},0.9899212926627251,727,727,2.279639999999991,0.4793737824024667,0.7591151016781845,1,2.279639999999991,0.4793737824024667,3.14,0,null,null,{"$f":"4*E458","v":3.9596851706509004}]
[null,null,457,{"$f":"D458+Sheet2!B$20","v":1.4318399999999925},0.9903610942977085,219,219,0.6845200000000001,0.7314039447198623,0.6323012175041268,0,0,0.9999996829318346,0.6845200000000001,0.7314039447198623,null,null,1.980722188595417]
[null,null,458,{"$f":"D459+Sheet2!B$20","v":1.4349799999999924},0.9907911313764695,986,986,3.0929000000000277,0.221628256059015,0.04867341436391592,0,0,0.9999996829318346,3.0929000000000277,0.221628256059015,null,null,3.963164525505878]
[null,null,459,{"$f":"D460+Sheet2!B$20","v":1.4381199999999923},0.9912113996590179,829,829,2.5999200000000053,0.9175973983784247,0.5155699212720517,0,0,0.9999996829318346,2.5999200000000053,0.9175973983784247,null,null,1.9824227993180359]
[null,null,460,{"$f":"D461+Sheet2!B$20","v":1.4412599999999922},0.9916218950016801,342,342,1.0707400000000016,0.4695523138011415,0.8775555559942501,1,1.0707400000000016,0.4695523138011415,3.14,0,null,null,3.9664875800067203]
[null,null,461,{"$f":"D462+Sheet2!B$20","v":1.4443999999999921},0.9920226133571394,460,460,1.4412599999999922,0.5845011308291621,0.9916218950016801,1,1.4412599999999922,0.5845011308291621,3.14,0,null,null,1.9840452267142787]
[null,null,462,{"$f":"D463+Sheet2!B$20","v":1.447539999999992},0.9924135507744763,222,222,0.6939400000000002,0.6805388485588736,0.639570942991202,0,0,0.9999996829318346,0.6939400000000002,0.6805388485588736,null,null,3.9696542030979054]
[null,null,463,{"$f":"D464+Sheet2!B$20","v":1.450679999999992},0.9927947033992077,748,748,2.345579999999994,0.6482288944126214,0.7145723846741912,1,2.345579999999994,0.6482288944126214,3.14,0,null,null,1.9855894067984154]
[null,null,464,{"$f":"D465+Sheet2!B$20","v":1.453819999999992},0.9931660674733239,64,64,0.19782000000000013,0.29551677095696227,0.19653231526977635,0,0,0.9999996829318346,0.19782000000000013,0.29551677095696227,null,null,3.9726642698932957]
[null,null,465,{"$f":"D466+Sheet2!B$20","v":1.4569599999999918},0.993527639335327,678,678,2.125779999999984,0.1121262102987155,0.8499090434517477,1,2.125779999999984,0.1121262102987155,3.14,0,null,null,1.987055278670654]
[null,null,466,{"$f":"D467+Sheet2!B$20","v":1.4600999999999917},0.9938794154202657,647,647,2.0284399999999794,0.2547903906439309,0.8970960958132725,1,2.0284399999999794,0.2547903906439309,3.14,0,null,null,3.975517661681063]
[null,null,467,{"$f":"D468+Sheet2!B$20","v":1.4632399999999917},0.9942213922597716,537,537,1.683039999999986,0.483485983636136,0.9937072897102975,1,1.683039999999986,0.483485983636136,3.14,0,null,null,1.9884427845195431]
[null,null,468,{"$f":"D469+Sheet2!B$20","v":1.4663799999999916},0.9945535664820925,321,321,1.0048000000000032,0.7878579299925783,0.8440547321900916,1,1.0048000000000032,0.7878579299925783,3.14,0,null,null,3.97821426592837]
[null,null,469,{"$f":"D470+Sheet2!B$20","v":1.4695199999999915},0.9948759348121261,709,709,2.223119999999988,0.2611282330726803,0.794675395170246,1,2.223119999999988,0.2611282330726803,3.14,0,null,null,1.9897518696242522]
[null,null,470,{"$f":"D471+Sheet2!B$20","v":1.4726599999999914},0.9951884940714524,560,560,1.7552599999999843,0.44080015516475524,0.9830347647112154,1,1.7552599999999843,0.44080015516475524,3.14,0,null,null,3.9807539762858095]
[null,null,471,{"$f":"D472+Sheet2!B$20","v":1.4757999999999913},0.9954912411783645,656,656,2.0566999999999807,0.852764961249961,0.8842532879395177,1,2.0566999999999807,0.852764961249961,3.14,0,null,null,1.990982482356729]
[null,null,472,{"$f":"D473+Sheet2!B$20","v":1.4789399999999913},0.9957841731478996,658,658,2.062979999999981,0.9490142403767725,0.8813030626154376,0,0,0.9999996829318346,2.062979999999981,0.9490142403767725,null,null,3.9831366925915983]
[null,null,473,{"$f":"D474+Sheet2!B$20","v":1.4820799999999912},0.9960672870918679,749,749,2.348719999999994,0.8867218263072312,0.7123722424446118,0,0,0.9999996829318346,2.348719999999994,0.8867218263072312,null,null,1.9921345741837357]
[null,null,474,{"$f":"D475+Sheet2!B$20","v":1.485219999999991},0.9963405802188815,24,24,0.07221999999999998,0.05700753323662589,0.07215723638595962,1,0.07221999999999998,0.05700753323662589,3.14,0,null,null,3.985362320875526]
[null,null,475,{"$f":"D476+Sheet2!B$20","v":1.488359999999991},0.9966040498343817,69,69,0.21352000000000015,0.8017228566352628,0.21190127010715445,0,0,0.9999996829318346,0.21352000000000015,0.8017228566352628,null,null,1.9932080996687633]
[null,null,476,{"$f":"D477+Sheet2!B$20","v":1.491499999999991},0.9968576933406655,88,88,0.27318000000000003,0.3498599619235006,0.26979487432752414,0,0,0.9999996829318346,0.27318000000000003,0.3498599619235006,null,null,3.987430773362662]
[null,null,477,{"$f":"D478+Sheet2!B$20","v":1.4946399999999909},0.9971015082369118,993,993,3.1148800000000287,0.7209362238537012,0.026709476830161324,0,0,0.9999996829318346,3.1148800000000287,0.7209362238537012,null,null,1.9942030164738236]
[null,null,478,{"$f":"D479+Sheet2!B$20","v":1.4977799999999908},0.9973354921192048,97,97,0.3014399999999998,0.4002986982464981,0.29689558433494645,0,0,0.9999996829318346,0.3014399999999998,0.4002986982464981,null,null,3.989341968476819]
[null,null,479,{"$f":"D480+Sheet2!B$20","v":1.5009199999999907},0.9975596426805592,480,480,1.5040599999999906,0.2642382695709614,0.9977739577109417,1,1.5040599999999906,0.2642382695709614,3.14,0,null,null,1.9951192853611184]
[null,null,480,{"$f":"D481+Sheet2!B$20","v":1.5040599999999906},0.9977739577109417,960,960,3.011260000000024,0.296733743864747,0.12996398206448,0,0,0.9999996829318346,3.011260000000024,0.296733743864747,null,null,3.9910958308437667]
[null,null,481,{"$f":"D482+Sheet2!B$20","v":1.5071999999999905},0.9979784350972938,318,318,0.9953800000000033,0.3882778074984358,0.8389658167040772,1,0.9953800000000033,0.3882778074984358,3.14,0,null,null,1.9959568701945876]
[null,null,482,{"$f":"D483+Sheet2!B$20","v":1.5103399999999905},0.9981730728235517,913,913,2.8636800000000173,0.5461926049118341,0.2743489923590254,0,0,0.9999996829318346,2.8636800000000173,0.5461926049118341,null,null,3.992692291294207]
[null,null,483,{"$f":"D484+Sheet2!B$20","v":1.5134799999999904},0.9983578689706671,94,94,0.2920199999999999,0.7697428181248934,0.28788729301746724,0,0,0.9999996829318346,0.2920199999999999,0.7697428181248934,null,null,1.9967157379413343]
[null,null,484,{"$f":"D485+Sheet2!B$20","v":1.5166199999999903},0.9985328217166253,508,508,1.5919799999999884,0.6721090008497225,0.9997756343852602,1,1.5919799999999884,0.6721090008497225,3.14,0,null,null,3.994131286866501]
[null,null,485,{"$f":"D486+Sheet2!B$20","v":1.5197599999999902},0.9986979293364634,537,537,1.683039999999986,0.5296144404241242,0.9937072897102975,1,1.683039999999986,0.5296144404241242,3.14,0,null,null,1.9973958586729268]
[null,null,486,{"$f":"D487+Sheet2!B$20","v":1.5228999999999902},0.998853190202288,804,804,2.5214200000000018,0.4320176687026155,0.581175670913689,1,2.5214200000000018,0.4320176687026155,3.14,0,null,null,3.995412760809152]
[null,null,487,{"$f":"D488+Sheet2!B$20","v":1.52603999999999},0.9989986027832901,177,177,0.5526399999999988,0.1503433196461599,0.5249360695951265,1,0.5526399999999988,0.1503433196461599,3.14,0,null,null,1.9979972055665802]
[null,null,488,{"$f":"D489+Sheet2!B$20","v":1.52917999999999},0.9991341656457611,193,193,0.6028799999999993,0.17167396741655286,0.5670170949964103,1,0.6028799999999993,0.17167396741655286,3.14,0,null,null,3.9965366625830443]
[null,null,489,{"$f":"D490+Sheet2!B$20","v":1.53231999999999},0.9992598774531064,409,409,1.2811199999999963,0.9835753765206796,0.9583363803893912,0,0,0.9999996829318346,1.2811199999999963,0.9835753765206796,null,null,1.9985197549062128]
[null,null,490,{"$f":"D491+Sheet2!B$20","v":1.5354599999999898},0.9993757369658589,560,560,1.7552599999999843,0.971848680683593,0.9830347647112154,1,1.7552599999999843,0.971848680683593,3.14,0,null,null,3.9975029478634356]
[null,null,491,{"$f":"D492+Sheet2!B$20","v":1.5385999999999898},0.9994817430416912,644,644,2.019019999999979,0.4100545197546573,0.9012183222728579,1,2.019019999999979,0.4100545197546573,3.14,0,null,null,1.9989634860833825]
[null,null,492,{"$f":"D493+Sheet2!B$20","v":1.5417399999999897},0.9995778946354266,498,498,1.5605799999999892,0.09648383685045749,0.9999478137873162,1,1.5605799999999892,0.09648383685045749,3.14,0,null,null,3.9983115785417063]
[null,null,493,{"$f":"D494+Sheet2!B$20","v":1.5448799999999896},0.9996641907990496,19,19,0.05651999999999997,0.006156814023714374,0.05648991251817275,1,0.05651999999999997,0.006156814023714374,3.14,0,null,null,1.9993283815980991]
[null,null,494,{"$f":"D495+Sheet2!B$20","v":1.5480199999999895},0.9997406306817153,596,596,1.8682999999999814,0.5852928681239363,0.9560712267111767,1,1.8682999999999814,0.5852928681239363,3.14,0,null,null,3.998962522726861]
[null,null,495,{"$f":"D496+Sheet2!B$20","v":1.5511599999999894},0.9998072135297574,10,10,0.02826,0.9002000303792471,0.028256238614204468,0,0,0.9999996829318346,0.02826,0.9002000303792471,null,null,1.9996144270595149]
[null,null,496,{"$f":"D497+Sheet2!B$20","v":1.5542999999999894},0.9998639386866967,333,333,1.0424800000000023,0.8337725160665066,0.8636570001302613,1,1.0424800000000023,0.8337725160665066,3.14,0,null,null,3.9994557547467866]
[null,null,497,{"$f":"D498+Sheet2!B$20","v":1.5574399999999893},0.9999108055932457,486,486,1.5228999999999902,0.9620942756351526,0.998853190202288,1,1.5228999999999902,0.9620942756351526,3.14,0,null,null,1.9998216111864915]
[null,null,498,{"$f":"D499+Sheet2!B$20","v":1.5605799999999892},0.9999478137873162,244,244,0.7630200000000009,0.753461844466795,0.6911073049183717,0,0,0.9999996829318346,0.7630200000000009,0.753461844466795,null,null,3.999791255149265]
[null,null,499,{"$f":"D500+Sheet2!B$20","v":1.5637199999999891},0.9999749629040225,60,60,0.18526000000000012,0.24594205778114375,0.18420209073293303,0,0,0.9999996829318346,0.18526000000000012,0.24594205778114375,null,null,1.999949925808045]
[null,null,500,{"$f":"D501+Sheet2!B$20","v":1.566859999999989},0.9999922526756854,19,19,0.05651999999999997,0.29834915605069656,0.05648991251817275,0,0,0.9999996829318346,0.05651999999999997,0.29834915605069656,null,null,3.9999690107027415]
[null,null,501,{"$f":"D502+Sheet2!B$20","v":1.569999999999989},0.9999996829318346,514,514,1.610819999999988,0.5465310724695518,0.9991991597052822,{"$f":"IF(OR(C503>n,I503>J503),0,1)","v":1},1.610819999999988,0.5465310724695518,3.14,0,null,null,1.9999993658636692]
[null,null,502,{"$f":"D503+Sheet2!B$20","v":1.5731399999999889},0.999997253599211,627,627,{"$f":"LOOKUP(G504,C$3:C$1003,D$3:D$1003)","v":1.965639999999979},0.8371732838272709,{"$f":"LOOKUP(H504,D$3:D$1003,E$3:E$1003)","v":0.9230567089155609},1,{"$f":"IF($C504>n,L503,(IF($K504=1,$H504,xMin)))","v":1.965639999999979},{"$f":"IF($C504>n,fmin,(IF($K504=1,I504,fmax)))","v":0.8371732838272709},{"$f":"IF($C504>n,xMin,(IF($K504=0,$H504,xMax)))","v":3.14},{"$f":"IF($C504>n,fmin,(IF($K504=0,K504,fmin)))","v":0},null,null,3.999989014396844]
[null,null,503,{"$f":"D504+Sheet2!B$20","v":1.5762799999999888},0.9999849647017667,495,495,1.5511599999999894,0.4299694804161025,0.9998072135297574,1,{"$f":"IF($C505>n,L504,(IF($K505=1,$H505,xMin)))","v":1.5511599999999894},0.4299694804161025,3.14,0,null,null,1.9999699294035334]
[null,null,504,{"$f":"D505+Sheet2!B$20","v":1.5794199999999887},0.9999628163606653,661,661,2.0723999999999814,0.10399950142766444,0.8768125918608041,1,2.0723999999999814,0.10399950142766444,3.14,0,null,null,3.9998512654426612]
[null,null,505,{"$f":"D506+Sheet2!B$20","v":1.5825599999999886},0.9999308087942804,635,635,1.9907599999999783,0.6910470920477754,0.9131037523401866,1,1.9907599999999783,0.6910470920477754,3.14,0,null,null,1.9998616175885608]
[null,null,506,{"$f":"D507+Sheet2!B$20","v":1.5856999999999886},0.9998889423181936,740,740,2.3204599999999926,0.06195359283892533,0.7319180808661861,1,2.3204599999999926,0.06195359283892533,3.14,0,null,null,3.9995557692727743]
[null,null,507,{"$f":"D508+Sheet2!B$20","v":1.5888399999999885},0.999837217345191,550,550,1.723859999999985,0.2744306677475298,0.9883086087047014,1,1.723859999999985,0.2744306677475298,3.14,0,null,null,1.999674434690382]
[null,null,508,{"$f":"D509+Sheet2!B$20","v":1.5919799999999884},0.9997756343852602,127,127,0.3956399999999991,0.11511879055820616,0.38539882776039586,1,0.3956399999999991,0.11511879055820616,3.14,0,null,null,3.9991025375410407]
[null,null,509,{"$f":"D510+Sheet2!B$20","v":1.5951199999999883},0.9997041940455835,870,870,2.728660000000011,0.8590602249753932,0.4012972076924471,0,0,0.9999996829318346,2.728660000000011,0,null,null,1.999408388091167]
[null,null,510,{"$f":"D511+Sheet2!B$20","v":1.5982599999999882},0.999622897030534,24,24,0.07221999999999998,0.2566360220930244,0.07215723638595962,0,0,0.9999996829318346,0.07221999999999998,0,null,null,3.998491588122136]
[null,null,511,{"$f":"D512+Sheet2!B$20","v":1.6013999999999882},0.9995317441416667,861,861,2.70040000000001,0.7764017732639482,0.42701821719626765,0,0,0.9999996829318346,2.70040000000001,0,null,null,1.9990634882833334]
[null,null,512,{"$f":"D513+Sheet2!B$20","v":1.604539999999988},0.9994307362777121,350,350,1.095860000000001,0.5605278533174082,0.8893218400251783,1,1.095860000000001,0.5605278533174082,3.14,0,null,null,3.9977229451108482]
[null,null,513,{"$f":"D514+Sheet2!B$20","v":1.607679999999988},{"$f":"SIN(x)","v":0.9993198744345664},329,329,1.0299200000000026,{"$f":"fmin+(fmax-fmin)*ABS(RAND())","v":0.7011157469401591},0.8572578009376943,1,1.0299200000000026,0.7011157469401591,3.14,0,null,null,1.9986397488691328]
[null,null,514,{"$f":"D515+Sheet2!B$20","v":1.610819999999988},0.9991991597052822,532,532,1.6673399999999865,0.7493493277026717,0.9953432782530581,1,1.6673399999999865,0.7493493277026717,3.14,0,null,null,3.9967966388211287]
[null,null,515,{"$f":"D516+Sheet2!B$20","v":1.6139599999999878},0.9990685932800575,{"$f":"INT(1000*ABS(RAND()))+1","v":607},{"$f":"IF(F517>0,F517,-F517)","v":607},1.9028399999999805,0.5773759261116105,0.9453781303153276,1,1.9028399999999805,0.5773759261116105,3.14,0,null,null,1.998137186560115]
[null,null,516,{"$f":"D517+Sheet2!B$20","v":1.6170999999999878},0.9989281764462239,608,608,1.9059799999999805,0.9640272818062955,0.9443499076155786,0,0,0.9999996829318346,1.9059799999999805,0,null,null,3.9957127057848956]
[null,null,517,{"$f":"D518+Sheet2!B$20","v":1.6202399999999877},0.9987779105882341,172,172,0.5369399999999986,0.48766505810629934,0.5115090001040622,1,0.5369399999999986,0.48766505810629934,3.14,0,null,null,1.9975558211764681]
[null,null,518,{"$f":"D519+Sheet2!B$20","v":1.6233799999999876},0.9986177971876481,485,485,1.5197599999999902,0.8440551895455263,0.9986979293364634,1,1.5197599999999902,0.8440551895455263,3.14,0,null,null,3.9944711887505924]
[null,null,519,{"$f":"D520+Sheet2!B$20","v":1.6265199999999875},0.9984478378231187,429,429,1.3439199999999947,0.4058989405529922,0.9743737709385394,1,1.3439199999999947,0.4058989405529922,3.14,0,null,null,{"$f":"2*E521","v":1.9968956756462375}]
[null,null,520,{"$f":"D521+Sheet2!B$20","v":1.6296599999999875},0.998268034170376,117,117,0.36423999999999934,0.04604021736334764,0.3562392573998173,1,0.36423999999999934,0.04604021736334764,3.14,0,null,null,{"$f":"4*E522","v":3.993072136681504}]
[null,null,521,{"$f":"D522+Sheet2!B$20","v":1.6327999999999874},0.9980783880022105,711,711,2.2293999999999885,0.5479380314751556,0.7908475725729215,1,2.2293999999999885,0.5479380314751556,3.14,0,null,null,1.996156776004421]
[null,null,522,{"$f":"D523+Sheet2!B$20","v":1.6359399999999873},0.9978789011884561,335,335,1.0487600000000021,0.8737587476392654,0.8668055707778552,0,0,0.9999996829318346,1.0487600000000021,0,null,null,3.9915156047538245]
[null,null,523,{"$f":"D524+Sheet2!B$20","v":1.6390799999999872},0.9976695756959713,678,678,2.125779999999984,0.5071126805526832,0.8499090434517477,1,2.125779999999984,0.5071126805526832,3.14,0,null,null,1.9953391513919425]
[null,null,524,{"$f":"D525+Sheet2!B$20","v":1.6422199999999871},0.9974504135886201,823,823,2.5810800000000045,0.8086168651445454,0.5316204764744815,0,0,0.9999996829318346,2.5810800000000045,0,null,null,3.9898016543544803]
[null,null,525,{"$f":"D526+Sheet2!B$20","v":1.645359999999987},0.9972214170272513,375,375,1.174359999999999,0.3328504368114772,0.9224429021538906,1,1.174359999999999,0.3328504368114772,3.14,0,null,null,1.9944428340545026]
[null,null,526,{"$f":"D527+Sheet2!B$20","v":1.648499999999987},0.9969825882696778,780,780,2.4460599999999983,0.3431554467906452,0.6407944552281892,1,2.4460599999999983,0.3431554467906452,3.14,0,null,null,3.987930353078711]
[null,null,527,{"$f":"D528+Sheet2!B$20","v":1.651639999999987},0.9967339296706533,309,309,0.967120000000003,0.8447177351048684,0.823254231975677,0,0,0.9999996829318346,0.967120000000003,0,null,null,1.9934678593413067]
[null,null,528,{"$f":"D529+Sheet2!B$20","v":1.6547799999999868},0.9964754436818505,652,652,2.04413999999998,0.38440329890743163,0.890049003350467,1,2.04413999999998,0.38440329890743163,3.14,0,null,null,3.985901774727402]
[null,null,529,{"$f":"D530+Sheet2!B$20","v":1.6579199999999867},0.9962071328518356,717,717,2.2482399999999894,0.005486106581888018,0.7791775768136868,1,2.2482399999999894,0.005486106581888018,3.14,0,null,null,1.9924142657036712]
[null,null,530,{"$f":"D531+Sheet2!B$20","v":1.6610599999999867},0.9959289998260439,578,578,1.8117799999999828,0.3166366287405506,0.9711036832457671,1,1.8117799999999828,0.3166366287405506,3.14,0,null,null,3.9837159993041755]
[null,null,531,{"$f":"D532+Sheet2!B$20","v":1.6641999999999866},0.9956410473467534,187,187,0.5840399999999991,0.04556645212596565,0.5513987643972553,1,0.5840399999999991,0.04556645212596565,3.14,0,null,null,1.9912820946935068]
[null,null,532,{"$f":"D533+Sheet2!B$20","v":1.6673399999999865},0.9953432782530581,610,610,1.9122599999999803,0.084651167729609,0.9422655397316416,1,1.9122599999999803,0.084651167729609,3.14,0,null,null,3.9813731130122325]
[null,null,533,{"$f":"D534+Sheet2!B$20","v":1.6704799999999864},0.9950356954808399,809,809,2.5371200000000025,0.24629851740172837,0.5683282536657018,1,2.5371200000000025,0.24629851740172837,3.14,0,null,null,1.9900713909616798]
[null,null,534,{"$f":"D535+Sheet2!B$20","v":1.6736199999999863},0.9947183020627394,789,789,2.4743199999999996,0.5037489490377111,0.6188459269047498,1,2.4743199999999996,0.5037489490377111,3.14,0,null,null,3.9788732082509575]
[null,null,535,{"$f":"D536+Sheet2!B$20","v":1.6767599999999863},0.9943911011281259,983,983,3.0834800000000273,0.29773013776958973,0.058079950594009805,0,0,0.9999996829318346,3.0834800000000273,0,null,null,1.9887822022562518]
[null,null,536,{"$f":"D537+Sheet2!B$20","v":1.6798999999999862},0.9940540959030673,643,643,2.015879999999979,0.053965399518840586,0.9025746444459952,1,2.015879999999979,0.053965399518840586,3.14,0,null,null,3.976216383612269]
[null,null,537,{"$f":"D538+Sheet2!B$20","v":1.683039999999986},0.9937072897102975,622,622,1.9499399999999794,0.8647901271600424,0.9289819241816172,1,1.9499399999999794,0.8647901271600424,3.14,0,null,null,1.987414579420595]
[null,null,538,{"$f":"D539+Sheet2!B$20","v":1.686179999999986},0.9933506859691841,956,956,2.9987000000000235,0.40646242263194243,0.14240687869653235,0,0,0.9999996829318346,2.9987000000000235,0,null,null,3.9734027438767363]
[null,null,539,{"$f":"D540+Sheet2!B$20","v":1.689319999999986},0.9929842881956945,448,448,1.4035799999999932,0.9358653435416918,0.9860518961080686,1,1.4035799999999932,0.9358653435416918,3.14,0,null,null,1.985968576391389]
[null,null,540,{"$f":"D541+Sheet2!B$20","v":1.6924599999999859},0.992608100002361,76,76,0.23550000000000018,0.6568888016870752,0.23332921355744998,0,0,0.9999996829318346,0.23550000000000018,0,null,null,3.970432400009444]
[null,null,541,{"$f":"D542+Sheet2!B$20","v":1.6955999999999858},0.9922221250982459,771,771,2.417799999999997,0.26125499385269535,0.6622312614713978,1,2.417799999999997,0.26125499385269535,3.14,0,null,null,1.9844442501964918]
[null,null,542,{"$f":"D543+Sheet2!B$20","v":1.6987399999999857},0.9918263672889042,946,946,2.967300000000022,0.7964075481908138,0.17341155131279007,0,0,0.9999996829318346,2.967300000000022,0,null,null,3.9673054691556167]
[null,null,543,{"$f":"D544+Sheet2!B$20","v":1.7018799999999856},0.9914208304763462,455,455,1.4255599999999926,0.9696702696693856,0.9894717308077838,1,1.4255599999999926,0.9696702696693856,3.14,0,null,null,1.9828416609526924]
[null,null,544,{"$f":"D545+Sheet2!B$20","v":1.7050199999999855},0.9910055186589997,210,210,0.6562599999999998,0.7087979221851861,0.6101579999038804,0,0,0.9999996829318346,0.6562599999999998,0,null,null,3.9640220746359986]
[null,null,545,{"$f":"D546+Sheet2!B$20","v":1.7081599999999855},0.9905804359316693,267,267,0.8352400000000016,0.49661376108884975,0.7414575730204567,1,0.8352400000000016,0.49661376108884975,3.14,0,null,null,1.9811608718633387]
[null,null,546,{"$f":"D547+Sheet2!B$20","v":1.7112999999999854},0.9901455864854977,135,135,0.4207599999999989,0.8797182399917244,0.40845428282618934,0,0,0.9999996829318346,0.4207599999999989,0,null,null,3.9605823459419907]
[null,null,547,{"$f":"D548+Sheet2!B$20","v":1.7144399999999853},0.9897009746079225,302,302,0.9451400000000028,0.7411424583870062,0.810578929847736,1,0.9451400000000028,0.7411424583870062,3.14,0,null,null,1.979401949215845]
[null,null,548,{"$f":"D549+Sheet2!B$20","v":1.7175799999999852},0.9892466046826357,282,282,0.8823400000000021,0.7888286293160452,0.7722277010878298,0,0,0.9999996829318346,0.8823400000000021,0,null,null,3.956986418730543]
[null,null,549,{"$f":"D550+Sheet2!B$20","v":1.7207199999999852},0.9887824811895393,785,785,2.461759999999999,0.7517981604426996,0.6286628912113009,0,0,0.9999996829318346,2.461759999999999,0,null,null,1.9775649623790785]
[null,null,550,{"$f":"D551+Sheet2!B$20","v":1.723859999999985},0.9883086087047014,659,659,2.066119999999981,0.9757357143014571,0.8798149087271336,0,0,0.9999996829318346,2.066119999999981,0,null,null,3.9532344348188055]
[null,null,551,{"$f":"D552+Sheet2!B$20","v":1.726999999999985},0.9878249919003114,373,373,1.1680799999999991,0.6455405576971909,0.9199998098355247,1,1.1680799999999991,0.6455405576971909,3.14,0,null,null,1.9756499838006227]
[null,null,552,{"$f":"D553+Sheet2!B$20","v":1.730139999999985},0.9873316355446335,541,541,1.6955999999999858,0.6472189098747887,0.9922221250982459,1,1.6955999999999858,0.6472189098747887,3.14,0,null,null,3.949326542178534]
[null,null,553,{"$f":"D554+Sheet2!B$20","v":1.7332799999999848},0.9868285445019602,527,527,1.651639999999987,0.26255361089182977,0.9967339296706533,1,1.651639999999987,0.26255361089182977,3.14,0,null,null,1.9736570890039205]
[null,null,554,{"$f":"D555+Sheet2!B$20","v":1.7364199999999848},0.9863157237325639,430,430,1.3470599999999946,0.661239613779397,0.9750752622160065,1,1.3470599999999946,0.661239613779397,3.14,0,null,null,3.9452628949302557]
[null,null,555,{"$f":"D556+Sheet2!B$20","v":1.7395599999999847},0.9857931782926479,446,446,1.3972999999999933,0.7271452455720838,0.9849872272981217,1,1.3972999999999933,0.7271452455720838,3.14,0,null,null,1.9715863565852958]
[null,null,556,{"$f":"D557+Sheet2!B$20","v":1.7426999999999846},0.9852609133342971,392,392,1.2277399999999976,0.5688146774732,0.9417310183845448,1,1.2277399999999976,0.5688146774732,3.14,0,null,null,3.9410436533371884]
[null,null,557,{"$f":"D558+Sheet2!B$20","v":1.7458399999999845},0.9847189341054268,312,312,0.9765400000000031,0.4123093204828257,0.8285651051394314,1,0.9765400000000031,0.4123093204828257,3.14,0,null,null,1.9694378682108535]
[null,null,558,{"$f":"D559+Sheet2!B$20","v":1.7489799999999844},0.9841672459497309,818,818,2.5653800000000038,0.04689410339428984,0.5448520401299902,1,2.5653800000000038,0.04689410339428984,3.14,0,null,null,3.9366689837989237]
[null,null,559,{"$f":"D560+Sheet2!B$20","v":1.7521199999999844},0.9836058543066296,888,888,2.7851800000000138,0.23516402699607847,0.34891458764970995,1,2.7851800000000138,0.23516402699607847,3.14,0,null,null,1.9672117086132592]
[null,null,560,{"$f":"D561+Sheet2!B$20","v":1.7552599999999843},0.9830347647112154,957,957,3.0018400000000236,0.3488461390157612,0.139298184006077,0,0,0.9999996829318346,3.0018400000000236,0,null,null,3.9321390588448617]
[null,null,561,{"$f":"D562+Sheet2!B$20","v":1.7583999999999842},0.9824539827941985,133,133,0.41447999999999896,0.25807763493535885,0.40271401540913654,1,0.41447999999999896,0.25807763493535885,3.14,0,null,null,1.964907965588397]
[null,null,562,{"$f":"D563+Sheet2!B$20","v":1.7615399999999841},0.9818635142818517,944,944,2.9610200000000217,0.02455721779653621,0.1795929456627062,1,2.9610200000000217,0.02455721779653621,3.14,0,null,null,3.927454057127407]
[null,null,563,{"$f":"D564+Sheet2!B$20","v":1.764679999999984},0.9812633649959536,505,505,1.5825599999999886,0.5480811854563128,0.9999308087942804,1,1.5825599999999886,0.5480811854563128,3.14,0,null,null,1.9625267299919071]
[null,null,564,{"$f":"D565+Sheet2!B$20","v":1.767819999999984},0.9806535408537311,198,198,0.6185799999999995,0.4093859015813115,0.5798788677176882,1,0.6185799999999995,0.4093859015813115,3.14,0,null,null,3.9226141634149245]
[null,null,565,{"$f":"D566+Sheet2!B$20","v":1.7709599999999839},0.9800340478678015,609,609,1.9091199999999804,0.7654519380668617,0.9433123740111307,{"$f":"IF(OR(C567>n,I567>J567),0,1)","v":1},1.9091199999999804,0.7654519380668617,3.14,0,null,null,1.960068095735603]
[null,null,566,{"$f":"D567+Sheet2!B$20","v":1.7740999999999838},0.9794048921461127,118,118,{"$f":"LOOKUP(G568,C$3:C$1003,D$3:D$1003)","v":0.3673799999999993},0.6429958102676003,{"$f":"LOOKUP(H568,D$3:D$1003,E$3:E$1003)","v":0.3591714959783059},0,0,{"$f":"IF($C568>n,fmin,(IF($K568=1,I568,fmax)))","v":0.9999996829318346},{"$f":"IF($C568>n,xMin,(IF($K568=0,$H568,xMax)))","v":0.3673799999999993},{"$f":"IF($C568>n,fmin,(IF($K568=0,K568,fmin)))","v":0},null,null,3.917619568584451]
[null,null,567,{"$f":"D568+Sheet2!B$20","v":1.7772399999999837},0.9787660798918835,430,430,1.3470599999999946,0.999222746778643,0.9750752622160065,0,{"$f":"IF($C569>n,L568,(IF($K569=1,$H569,xMin)))","v":0},0.9999996829318346,1.3470599999999946,0,null,null,1.957532159783767]
[null,null,568,{"$f":"D569+Sheet2!B$20","v":1.7803799999999836},0.9781176174035419,177,177,0.5526399999999988,0.9864153261405416,0.5249360695951265,0,0,0.9999996829318346,0.5526399999999988,0,null,null,3.9124704696141674]
[null,null,569,{"$f":"D570+Sheet2!B$20","v":1.7835199999999836},0.9774595110746634,577,577,1.808639999999983,0.6636393903294222,0.9718482807612095,1,1.808639999999983,0.6636393903294222,3.14,0,null,null,1.954919022149327]
[null,null,570,{"$f":"D571+Sheet2!B$20","v":1.7866599999999835},0.976791767393908,237,237,0.7410400000000007,0.5590069082373027,0.6750555541359085,1,0.7410400000000007,0.5590069082373027,3.14,0,null,null,3.907167069575632]
[null,null,571,{"$f":"D572+Sheet2!B$20","v":1.7897999999999834},0.9761143929449557,29,29,0.08792,0.3945966258633494,0.08780677458188675,0,0,0.9999996829318346,0.08792,0,null,null,1.9522287858899114]
[null,null,572,{"$f":"D573+Sheet2!B$20","v":1.7929399999999833},0.9754273944064423,58,58,0.1789800000000001,0.7018530105706381,0.17802595990201484,0,0,0.9999996829318346,0.1789800000000001,0,null,null,3.9017095776257693]
[null,null,573,{"$f":"D574+Sheet2!B$20","v":1.7960799999999832},0.9747307785518928,368,368,1.1523799999999995,0.8992729060360197,0.9137335543231924,1,1.1523799999999995,0.8992729060360197,3.14,0,null,null,1.9494615571037857]
[null,null,574,{"$f":"D575+Sheet2!B$20","v":1.7992199999999832},0.9740245522496555,602,602,1.887139999999981,0.7082118299961833,0.9503792286372532,1,1.887139999999981,0.7082118299961833,3.14,0,null,null,3.896098208998622]
[null,null,575,{"$f":"D576+Sheet2!B$20","v":1.802359999999983},0.9733087224628333,368,368,1.1523799999999995,0.849346939656976,0.9137335543231924,1,1.1523799999999995,0.849346939656976,3.14,0,null,null,1.9466174449256666]
[null,null,576,{"$f":"D577+Sheet2!B$20","v":1.805499999999983},0.9725832962492158,813,813,2.549680000000003,0.3471625089646773,0.5579493059647503,1,2.549680000000003,0.3471625089646773,3.14,0,null,null,3.890333184996863]
[null,null,577,{"$f":"D578+Sheet2!B$20","v":1.808639999999983},{"$f":"SIN(x)","v":0.9718482807612095},411,411,1.287399999999996,{"$f":"fmin+(fmax-fmin)*ABS(RAND())","v":0.14263981911259732},0.9601113031220161,1,1.287399999999996,0.14263981911259732,3.14,0,null,null,1.943696561522419]
[null,null,578,{"$f":"D579+Sheet2!B$20","v":1.8117799999999828},0.9711036832457671,693,693,2.172879999999986,0.35507264987392584,0.8241572936920594,1,2.172879999999986,0.35507264987392584,3.14,0,null,null,3.8844147329830685]
[null,null,579,{"$f":"D580+Sheet2!B$20","v":1.8149199999999828},0.9703495110443163,{"$f":"INT(1000*ABS(RAND()))+1","v":81},{"$f":"IF(F581>0,F581,-F581)","v":81},0.2512000000000002,0.33684595348357066,0.24856647575069984,0,0,0.9999996829318346,0.2512000000000002,0,null,null,1.9406990220886327]
[null,null,580,{"$f":"D581+Sheet2!B$20","v":1.8180599999999827},0.9695857715926872,998,998,3.1305800000000295,0.8360498574841978,0.011012430991357137,0,0,0.9999996829318346,3.1305800000000295,0,null,null,3.878343086370749]
[null,null,581,{"$f":"D582+Sheet2!B$20","v":1.8211999999999826},0.9688124724210391,724,724,2.2702199999999904,0.4172484459547742,0.7652133401566952,1,2.2702199999999904,0.4172484459547742,3.14,0,null,null,1.9376249448420781]
[null,null,582,{"$f":"D583+Sheet2!B$20","v":1.8243399999999825},0.9680296211537862,541,541,1.6955999999999858,0.2651524084226517,0.9922221250982459,1,1.6955999999999858,0.2651524084226517,3.14,0,null,null,3.872118484615145]
[null,null,583,{"$f":"D584+Sheet2!B$20","v":1.8274799999999825},0.9672372255095226,635,635,1.9907599999999783,0.7332201030428335,0.9131037523401866,1,1.9907599999999783,0.7332201030428335,3.14,0,null,null,{"$f":"2*E585","v":1.9344744510190452}]
[null,null,584,{"$f":"D585+Sheet2!B$20","v":1.8306199999999824},0.9664352933009459,419,419,1.3125199999999955,0.09075658036362333,0.9668316651781512,1,1.3125199999999955,0.09075658036362333,3.14,0,null,null,{"$f":"4*E586","v":3.8657411732037836}]
[null,null,585,{"$f":"D586+Sheet2!B$20","v":1.8337599999999823},0.9656238324347804,836,836,2.6219000000000063,0.8875302301564273,0.496613393270248,0,0,0.9999996829318346,2.6219000000000063,0,null,null,1.931247664869561]
[null,null,586,{"$f":"D587+Sheet2!B$20","v":1.8368999999999822},0.9648028509116993,785,785,2.461759999999999,0.6516714893100347,0.6286628912113009,0,0,0.9999996829318346,2.461759999999999,0,null,null,3.859211403646797]
[null,null,587,{"$f":"D588+Sheet2!B$20","v":1.8400399999999821},0.9639723568262449,198,198,0.6185799999999995,0.7265996967136684,0.5798788677176882,0,0,0.9999996829318346,0.6185799999999995,0,null,null,1.9279447136524899]
[null,null,588,{"$f":"D589+Sheet2!B$20","v":1.843179999999982},0.9631323583667505,658,658,2.062979999999981,0.686178108461922,0.8813030626154376,1,2.062979999999981,0.686178108461922,3.14,0,null,null,3.852529433467002]
[null,null,589,{"$f":"D590+Sheet2!B$20","v":1.846319999999982},0.9622828638152577,950,950,2.9798600000000226,0.22767050267511152,0.16102848951123444,0,0,0.9999996829318346,2.9798600000000226,0,null,null,1.9245657276305155]
[null,null,590,{"$f":"D591+Sheet2!B$20","v":1.849459999999982},0.9614238815474364,386,386,1.208899999999998,0.7233425810975584,0.9352271142427316,1,1.208899999999998,0.7233425810975584,3.14,0,null,null,3.8456955261897456]
[null,null,591,{"$f":"D592+Sheet2!B$20","v":1.8525999999999818},0.9605554200325009,34,34,0.10362000000000002,0.15327620275108833,0.1034346697305189,0,0,0.9999996829318346,0.10362000000000002,0,null,null,1.9211108400650019]
[null,null,592,{"$f":"D593+Sheet2!B$20","v":1.8557399999999817},0.9596774878331276,47,47,0.14444000000000007,0.7757695183538632,0.14393828377578774,0,0,0.9999996829318346,0.14444000000000007,0,null,null,3.8387099513325103]
[null,null,593,{"$f":"D594+Sheet2!B$20","v":1.8588799999999817},0.9587900936053696,743,743,2.329879999999993,0.3700405665825117,0.7254669835263065,1,2.329879999999993,0.3700405665825117,3.14,0,null,null,1.9175801872107392]
[null,null,594,{"$f":"D595+Sheet2!B$20","v":1.8620199999999816},0.9578932460985717,487,487,1.52603999999999,0.47113850857934503,0.9989986027832901,1,1.52603999999999,0.47113850857934503,3.14,0,null,null,3.831572984394287]
[null,null,595,{"$f":"D596+Sheet2!B$20","v":1.8651599999999815},0.9569869541552846,123,123,0.3830799999999992,0.04298179685264872,0.37377899261967545,1,0.3830799999999992,0.04298179685264872,3.14,0,null,null,1.9139739083105691]
[null,null,596,{"$f":"D597+Sheet2!B$20","v":1.8682999999999814},0.9560712267111767,985,985,3.0897600000000276,0.4637057317488367,0.05180944756561375,0,0,0.9999996829318346,3.0897600000000276,0,null,null,3.824284906844707]
[null,null,597,{"$f":"D598+Sheet2!B$20","v":1.8714399999999813},0.955146072794947,652,652,2.04413999999998,0.6862484609584937,0.890049003350467,1,2.04413999999998,0.6862484609584937,3.14,0,null,null,1.910292145589894]
[null,null,598,{"$f":"D599+Sheet2!B$20","v":1.8745799999999813},0.9542115015282358,849,849,2.662720000000008,0.5644368073549296,0.4607789317713782,0,0,0.9999996829318346,2.662720000000008,0,null,null,3.816846006112943]
[null,null,599,{"$f":"D600+Sheet2!B$20","v":1.8777199999999812},0.9532675221255339,768,768,2.4083799999999966,0.6760942477268397,0.6692601766788017,0,0,0.9999996829318346,2.4083799999999966,0,null,null,1.9065350442510678]
[null,null,600,{"$f":"D601+Sheet2!B$20","v":1.880859999999981},0.9523141438940934,476,476,1.491499999999991,0.8829551325271637,0.9968576933406655,1,1.491499999999991,0.8829551325271637,3.14,0,null,null,3.8092565755763736]
[null,null,601,{"$f":"D602+Sheet2!B$20","v":1.883999999999981},0.9513513762338344,404,404,1.2654199999999967,0.9087502132021135,0.9537338766594503,1,1.2654199999999967,0.9087502132021135,3.14,0,null,null,1.9027027524676687]
[null,null,602,{"$f":"D603+Sheet2!B$20","v":1.887139999999981},0.9503792286372532,886,886,2.7789000000000135,0.1794396166091004,0.35479299911096746,1,2.7789000000000135,0.1794396166091004,3.14,0,null,null,3.801516914549013]
[null,null,603,{"$f":"D604+Sheet2!B$20","v":1.8902799999999809},0.9493977106893282,631,631,1.9781999999999786,0.34236445702911905,0.9181526506188157,1,1.9781999999999786,0.34236445702911905,3.14,0,null,null,1.8987954213786564]
[null,null,604,{"$f":"D605+Sheet2!B$20","v":1.8934199999999808},0.948406832067426,313,313,0.9796800000000031,0.4256348422147655,0.8303190807585841,1,0.9796800000000031,0.4256348422147655,3.14,0,null,null,3.793627328269704]
[null,null,605,{"$f":"D606+Sheet2!B$20","v":1.8965599999999807},0.9474066025412055,460,460,1.4412599999999922,0.732458079720107,0.9916218950016801,1,1.4412599999999922,0.732458079720107,3.14,0,null,null,1.894813205082411]
[null,null,606,{"$f":"D607+Sheet2!B$20","v":1.8996999999999806},0.9463970319725213,486,486,1.5228999999999902,0.9539853617180221,0.998853190202288,1,1.5228999999999902,0.9539853617180221,3.14,0,null,null,3.7855881278900854]
[null,null,607,{"$f":"D608+Sheet2!B$20","v":1.9028399999999805},0.9453781303153276,785,785,2.461759999999999,0.011355435512713256,0.6286628912113009,1,2.461759999999999,0.011355435512713256,3.14,0,null,null,1.8907562606306552]
[null,null,608,{"$f":"D609+Sheet2!B$20","v":1.9059799999999805},0.9443499076155786,210,210,0.6562599999999998,0.5752075905461143,0.6101579999038804,1,0.6562599999999998,0.5752075905461143,3.14,0,null,null,3.7773996304623143]
[null,null,609,{"$f":"D610+Sheet2!B$20","v":1.9091199999999804},0.9433123740111307,249,249,0.7787200000000011,0.09277937935409468,0.702368873993816,1,0.7787200000000011,0.09277937935409468,3.14,0,null,null,1.8866247480222613]
[null,null,610,{"$f":"D611+Sheet2!B$20","v":1.9122599999999803},0.9422655397316416,214,214,0.66882,0.417674799419262,0.6200606453550669,1,0.66882,0.417674799419262,3.14,0,null,null,3.7690621589265665]
[null,null,611,{"$f":"D612+Sheet2!B$20","v":1.9153999999999802},0.9412094150984703,46,46,0.14130000000000006,0.22755058773158932,0.14083027716281366,0,0,0.9999996829318346,0.14130000000000006,0,null,null,1.8824188301969407]
[null,null,612,{"$f":"D613+Sheet2!B$20","v":1.9185399999999802},0.9401440105245746,740,740,2.3204599999999926,0.8843189898967387,0.7319180808661861,0,0,0.9999996829318346,2.3204599999999926,0,null,null,3.7605760420982985]
[null,null,613,{"$f":"D614+Sheet2!B$20","v":1.92167999999998},0.9390693365144089,749,749,2.348719999999994,0.7320453706769295,0.7123722424446118,0,0,0.9999996829318346,2.348719999999994,0,null,null,1.8781386730288179]
[null,null,614,{"$f":"D615+Sheet2!B$20","v":1.92481999999998},0.9379854036638202,40,40,0.12246000000000004,0.10446271442373048,0.1221541518447934,1,0.12246000000000004,0.10446271442373048,3.14,0,null,null,3.751941614655281]
[null,null,615,{"$f":"D616+Sheet2!B$20","v":1.92795999999998},0.9368922226599442,486,486,1.5228999999999902,0.049913443024916224,0.998853190202288,1,1.5228999999999902,0.049913443024916224,3.14,0,null,null,1.8737844453198884]
[null,null,616,{"$f":"D617+Sheet2!B$20","v":1.9310999999999798},0.9357898042810994,29,29,0.08792,0.2640022878928583,0.08780677458188675,0,0,0.9999996829318346,0.08792,0,null,null,3.7431592171243975]
[null,null,617,{"$f":"D618+Sheet2!B$20","v":1.9342399999999798},0.9346781593966811,525,525,1.645359999999987,0.20096986573249626,0.9972214170272513,1,1.645359999999987,0.20096986573249626,3.14,0,null,null,1.8693563187933622]
[null,null,618,{"$f":"D619+Sheet2!B$20","v":1.9373799999999797},0.9335572989670542,19,19,0.05651999999999997,0.7016870980310416,0.05648991251817275,0,0,0.9999996829318346,0.05651999999999997,0,null,null,3.7342291958682168]
[null,null,619,{"$f":"D620+Sheet2!B$20","v":1.9405199999999796},0.9324272340434451,893,893,2.8008800000000145,0.8478052525302188,0.33415886489571583,0,0,0.9999996829318346,2.8008800000000145,0,null,null,1.8648544680868901]
[null,null,620,{"$f":"D621+Sheet2!B$20","v":1.9436599999999795},0.9312879757678327,228,228,0.7127800000000004,0.052096897351192675,0.6539394955067944,1,0.7127800000000004,0.052096897351192675,3.14,0,null,null,3.725151903071331]
[null,null,621,{"$f":"D622+Sheet2!B$20","v":1.9467999999999794},0.930139535372839,358,358,1.1209800000000003,0.619048596046761,0.9005269786773151,1,1.1209800000000003,0.619048596046761,3.14,0,null,null,1.860279070745678]
[null,null,622,{"$f":"D623+Sheet2!B$20","v":1.9499399999999794},0.9289819241816172,735,735,2.304759999999992,0.03570321452124692,0.7425253023624943,1,2.304759999999992,0.03570321452124692,3.14,0,null,null,3.7159276967264687]
[null,null,623,{"$f":"D624+Sheet2!B$20","v":1.9530799999999793},0.9278151536077415,494,494,1.5480199999999895,0.8180544248327604,0.9997406306817153,1,1.5480199999999895,0.8180544248327604,3.14,0,null,null,1.855630307215483]
[null,null,624,{"$f":"D625+Sheet2!B$20","v":1.9562199999999792},0.9266392351550934,855,855,2.681560000000009,0.2669994693935485,0.4439773660595125,1,2.681560000000009,0.2669994693935485,3.14,0,null,null,3.7065569406203736]
[null,null,625,{"$f":"D626+Sheet2!B$20","v":1.9593599999999791},0.9254541804177491,292,292,0.9137400000000024,0.492967133234382,0.7917936218170146,1,0.9137400000000024,0.492967133234382,3.14,0,null,null,1.8509083608354981]
[null,null,626,{"$f":"D627+Sheet2!B$20","v":1.962499999999979},0.9242600010798646,215,215,0.67196,0.7812180242563316,0.6225210837285488,0,0,0.9999996829318346,0.67196,0,null,null,3.6970400043194585]
[null,null,627,{"$f":"D628+Sheet2!B$20","v":1.965639999999979},0.9230567089155609,423,423,1.3250799999999952,0.04653329115781969,0.9699633264923766,1,1.3250799999999952,0.04653329115781969,3.14,0,null,null,1.8461134178311218]
[null,null,628,{"$f":"D629+Sheet2!B$20","v":1.9687799999999789},0.9218443157888075,65,65,0.20096000000000014,0.7952322555520899,0.19961010301845164,0,0,0.9999996829318346,0.20096000000000014,0,null,null,3.68737726315523]
[null,null,629,{"$f":"D630+Sheet2!B$20","v":1.9719199999999788},0.9206228336533062,650,650,2.03785999999998,0.6349163348420668,0.8928942648643446,{"$f":"IF(OR(C631>n,I631>J631),0,1)","v":1},2.03785999999998,0.6349163348420668,3.14,0,null,null,1.8412456673066124]
[null,null,630,{"$f":"D631+Sheet2!B$20","v":1.9750599999999787},0.919392274552372,313,313,{"$f":"LOOKUP(G632,C$3:C$1003,D$3:D$1003)","v":0.9796800000000031},0.4068120455379063,{"$f":"LOOKUP(H632,D$3:D$1003,E$3:E$1003)","v":0.8303190807585841},1,0.9796800000000031,{"$f":"IF($C632>n,fmin,(IF($K632=1,I632,fmax)))","v":0.4068120455379063},{"$f":"IF($C632>n,xMin,(IF($K632=0,$H632,xMax)))","v":3.14},{"$f":"IF($C632>n,fmin,(IF($K632=0,K632,fmin)))","v":0},null,null,3.677569098209488]
[null,null,631,{"$f":"D632+Sheet2!B$20","v":1.9781999999999786},0.9181526506188157,431,431,1.3501999999999945,0.27848907896752345,0.9757671396493174,1,{"$f":"IF($C633>n,L632,(IF($K633=1,$H633,xMin)))","v":1.3501999999999945},0.27848907896752345,3.14,0,null,null,1.8363053012376314]
[null,null,632,{"$f":"D633+Sheet2!B$20","v":1.9813399999999786},0.9169039740748233,551,551,1.726999999999985,0.8698041236760956,0.9878249919003114,1,1.726999999999985,0.8698041236760956,3.14,0,null,null,3.667615896299293]
[null,null,633,{"$f":"D634+Sheet2!B$20","v":1.9844799999999785},0.9156462572318358,75,75,0.23236000000000018,0.001125579989316997,0.23027473922286892,1,0.23236000000000018,0.001125579989316997,3.14,0,null,null,1.8312925144636716]
[null,null,634,{"$f":"D635+Sheet2!B$20","v":1.9876199999999784},0.9143795124904281,291,291,0.9106000000000024,0.789005114517968,0.7898718450068815,1,0.9106000000000024,0.789005114517968,3.14,0,null,null,3.6575180499617126]
[null,null,635,{"$f":"D636+Sheet2!B$20","v":1.9907599999999783},0.9131037523401866,188,188,0.5871799999999991,0.45429941587000466,0.5540155611022333,1,0.5871799999999991,0.45429941587000466,3.14,0,null,null,1.8262075046803732]
[null,null,636,{"$f":"D637+Sheet2!B$20","v":1.9938999999999782},0.9118189893595854,123,123,0.3830799999999992,0.9795063214930984,0.37377899261967545,0,0,0.9999996829318346,0.3830799999999992,0,null,null,3.6472759574383415]
[null,null,637,{"$f":"D638+Sheet2!B$20","v":1.9970399999999782},0.9105252362158635,725,725,2.2733599999999905,0.2715912413418358,0.7631881120398141,1,2.2733599999999905,0.2715912413418358,3.14,0,null,null,1.821050472431727]
[null,null,638,{"$f":"D639+Sheet2!B$20","v":2.000179999999978},0.9092225056648986,914,914,2.8668200000000175,0.5630602383024161,0.27132812602656714,0,0,0.9999996829318346,2.8668200000000175,0,null,null,3.6368900226595944]
[null,null,639,{"$f":"D640+Sheet2!B$20","v":2.0033199999999782},0.9079108105510824,145,145,0.4521599999999987,0.8637082997229234,0.4369094836527023,0,0,0.9999996829318346,0.4521599999999987,0,null,null,1.8158216211021647]
[null,null,640,{"$f":"D641+Sheet2!B$20","v":2.0064599999999784},0.9065901638071934,221,221,0.6908000000000002,0.17926705177515645,0.6371539752762654,1,0.6908000000000002,0.17926705177515645,3.14,0,null,null,3.6263606552287735]
[null,null,641,{"$f":"D642+Sheet2!B$20","v":2.0095999999999785},{"$f":"SIN(x)","v":0.9052605784542695},765,765,2.398959999999996,{"$f":"fmin+(fmax-fmin)*ABS(RAND())","v":0.24819559231117255},0.6762297045866169,1,2.398959999999996,0.24819559231117255,3.14,0,null,null,1.810521156908539]
[null,null,642,{"$f":"D643+Sheet2!B$20","v":2.0127399999999787},0.90392206760148,854,854,2.678420000000009,0.12773992632609737,0.4467887320399879,1,2.678420000000009,0.12773992632609737,3.14,0,null,null,3.61568827040592]
[null,null,643,{"$f":"D644+Sheet2!B$20","v":2.015879999999979},0.9025746444459952,{"$f":"INT(1000*ABS(RAND()))+1","v":171},{"$f":"IF(F645>0,F645,-F645)","v":171},0.5337999999999986,0.3266153808344464,0.5088083502358179,1,0.5337999999999986,0.3266153808344464,3.14,0,null,null,1.8051492888919904]
[null,null,644,{"$f":"D645+Sheet2!B$20","v":2.019019999999979},0.9012183222728579,986,986,3.0929000000000277,0.39390969868806724,0.04867341436391592,0,0,0.9999996829318346,3.0929000000000277,0,null,null,3.6048732890914317]
[null,null,645,{"$f":"D646+Sheet2!B$20","v":2.022159999999979},0.899853114454851,742,742,2.326739999999993,0.4197239902806489,0.7276245304544586,1,2.326739999999993,0.4197239902806489,3.14,0,null,null,1.799706228909702]
[null,null,646,{"$f":"D647+Sheet2!B$20","v":2.0252999999999792},0.8984790344523665,813,813,2.549680000000003,0.7692937541463315,0.5579493059647503,0,0,0.9999996829318346,2.549680000000003,0,null,null,3.593916137809466]
[null,null,647,{"$f":"D648+Sheet2!B$20","v":2.0284399999999794},0.8970960958132725,572,572,1.7929399999999833,0.004014927801396955,0.9754273944064423,1,1.7929399999999833,0.004014927801396955,3.14,0,null,null,{"$f":"2*E649","v":1.794192191626545}]
[null,null,648,{"$f":"D649+Sheet2!B$20","v":2.0315799999999795},0.8957043121727796,286,286,0.8949000000000022,0.9005522108903808,0.7801465253877715,0,0,0.9999996829318346,0.8949000000000022,0,null,null,{"$f":"4*E650","v":3.5828172486911183}]
[null,null,649,{"$f":"D650+Sheet2!B$20","v":2.0347199999999797},0.8943036972533065,884,884,2.772620000000013,0.08243215966881484,0.3606574181499954,1,2.772620000000013,0.08243215966881484,3.14,0,null,null,1.788607394506613]
[null,null,650,{"$f":"D651+Sheet2!B$20","v":2.03785999999998},0.8928942648643446,650,650,2.03785999999998,0.9638640565037433,0.8928942648643446,0,0,0.9999996829318346,2.03785999999998,0,null,null,3.5715770594573786]
[null,null,651,{"$f":"D652+Sheet2!B$20","v":2.04099999999998},0.8914760289023221,336,336,1.051900000000002,0.7311548919254108,0.8683670443177545,1,1.051900000000002,0.7311548919254108,3.14,0,null,null,1.7829520578046443]
[null,null,652,{"$f":"D653+Sheet2!B$20","v":2.04413999999998},0.890049003350467,913,913,2.8636800000000173,0.088243150497198,0.2743489923590254,1,2.8636800000000173,0.088243150497198,3.14,0,null,null,3.560196013401868]
[null,null,653,{"$f":"D654+Sheet2!B$20","v":2.0472799999999802},0.8886132022786687,284,284,0.8886200000000022,0.2912512947863901,0.776202419278243,1,0.8886200000000022,0.2912512947863901,3.14,0,null,null,1.7772264045573374]
[null,null,654,{"$f":"D655+Sheet2!B$20","v":2.0504199999999804},0.8871686398433398,687,687,2.154039999999985,0.23117976258193887,0.8346806420909918,1,2.154039999999985,0.23117976258193887,3.14,0,null,null,3.5486745593733593]
[null,null,655,{"$f":"D656+Sheet2!B$20","v":2.0535599999999805},0.8857153302872764,24,24,0.07221999999999998,0.7416934327322102,0.07215723638595962,0,0,0.9999996829318346,0.07221999999999998,0,null,null,1.771430660574553]
[null,null,656,{"$f":"D657+Sheet2!B$20","v":2.0566999999999807},0.8842532879395177,405,405,1.2685599999999966,0.6411023634192056,0.9546732210267311,1,1.2685599999999966,0.6411023634192056,3.14,0,null,null,3.537013151758071]
[null,null,657,{"$f":"D658+Sheet2!B$20","v":2.059839999999981},0.8827825272152047,825,825,2.5873600000000048,0.03985955921011625,0.5262909770779202,1,2.5873600000000048,0.03985955921011625,3.14,0,null,null,1.7655650544304093]
[null,null,658,{"$f":"D659+Sheet2!B$20","v":2.062979999999981},0.8813030626154376,291,291,0.9106000000000024,0.5424246260718283,0.7898718450068815,1,0.9106000000000024,0.5424246260718283,3.14,0,null,null,3.5252122504617502]
[null,null,659,{"$f":"D660+Sheet2!B$20","v":2.066119999999981},0.8798149087271336,865,865,2.7129600000000105,0.4987087930959047,0.41562754206335656,0,0,0.9999996829318346,2.7129600000000105,0,null,null,1.7596298174542673]
[null,null,660,{"$f":"D661+Sheet2!B$20","v":2.0692599999999812},0.8783180802228832,403,403,1.2622799999999967,0.9103974012537623,0.9527851288653654,1,1.2622799999999967,0.9103974012537623,3.14,0,null,null,3.5132723208915326]
[null,null,661,{"$f":"D662+Sheet2!B$20","v":2.0723999999999814},0.8768125918608041,265,265,0.8289600000000016,0.8488639602710445,0.7372291013727641,0,0,0.9999996829318346,0.8289600000000016,0,null,null,1.7536251837216081]
[null,null,662,{"$f":"D663+Sheet2!B$20","v":2.0755399999999815},0.8752984584843972,2,2,3.14E-3,0.6130739455771634,3.1399948401452105E-3,0,0,0.9999996829318346,3.14E-3,0,null,null,3.501193833937589]
[null,null,663,{"$f":"D664+Sheet2!B$20","v":2.0786799999999817},0.8737756950223999,898,898,2.816580000000015,0.08023935524437,0.31932077701498274,1,2.816580000000015,0.08023935524437,3.14,0,null,null,1.7475513900447999]
[null,null,664,{"$f":"D665+Sheet2!B$20","v":2.081819999999982},0.8722443164886384,614,614,1.92481999999998,0.9352886450436707,0.9379854036638202,1,1.92481999999998,0.9352886450436707,3.14,0,null,null,3.4889772659545537]
[null,null,665,{"$f":"D666+Sheet2!B$20","v":2.084959999999982},0.8707043379818802,195,195,0.6091599999999994,0.4199161314047561,0.5721787537388306,1,0.6091599999999994,0.4199161314047561,3.14,0,null,null,1.7414086759637604]
[null,null,666,{"$f":"D667+Sheet2!B$20","v":2.088099999999982},0.8691557746856846,842,842,2.640740000000007,0.3686055867771247,0.48017363815974223,1,2.640740000000007,0.3686055867771247,3.14,0,null,null,3.4766230987427384]
[null,null,667,{"$f":"D668+Sheet2!B$20","v":2.0912399999999822},0.867598641868254,574,574,1.7992199999999832,0.08677061751283383,0.9740245522496555,1,1.7992199999999832,0.08677061751283383,3.14,0,null,null,1.735197283736508]
[null,null,668,{"$f":"D669+Sheet2!B$20","v":2.0943799999999824},0.8660329548822824,618,618,1.9373799999999797,0.5191999090777473,0.9335572989670542,1,1.9373799999999797,0.5191999090777473,3.14,0,null,null,3.4641318195291295]
[null,null,669,{"$f":"D670+Sheet2!B$20","v":2.0975199999999825},0.8644587291648046,458,458,1.4349799999999924,0.5384890201334073,0.9907911313764695,1,1.4349799999999924,0.5384890201334073,3.14,0,null,null,1.7289174583296092]
[null,null,670,{"$f":"D671+Sheet2!B$20","v":2.1006599999999827},0.8628759802370436,345,345,1.0801600000000013,0.4253727976362714,0.8820332081338342,1,1.0801600000000013,0.4253727976362714,3.14,0,null,null,3.4515039209481744]
[null,null,671,{"$f":"D672+Sheet2!B$20","v":2.103799999999983},0.861284723704258,566,566,1.7740999999999838,0.7585759130228802,0.9794048921461127,1,1.7740999999999838,0.7585759130228802,3.14,0,null,null,1.722569447408516]
[null,null,672,{"$f":"D673+Sheet2!B$20","v":2.106939999999983},0.8596849752555878,218,218,0.6813800000000001,0.11526503965015517,0.6298654752931363,1,0.6813800000000001,0.11526503965015517,3.14,0,null,null,3.4387399010223514]
[null,null,673,{"$f":"D674+Sheet2!B$20","v":2.110079999999983},0.8580767506639,282,282,0.8823400000000021,0.5668708932055386,0.7722277010878298,1,0.8823400000000021,0.5668708932055386,3.14,0,null,null,1.7161535013278]
[null,null,674,{"$f":"D675+Sheet2!B$20","v":2.1132199999999832},0.8564600657856325,695,695,2.179159999999986,0.4769506770466079,0.8205843184717168,1,2.179159999999986,0.4769506770466079,3.14,0,null,null,3.42584026314253]
[null,null,675,{"$f":"D676+Sheet2!B$20","v":2.1163599999999834},0.8548349365606386,507,507,1.5888399999999885,0.37754852170032493,0.999837217345191,1,1.5888399999999885,0.37754852170032493,3.14,0,null,null,1.7096698731212772]
[null,null,676,{"$f":"D677+Sheet2!B$20","v":2.1194999999999835},0.8532013790120291,699,699,2.191719999999987,0.8776269566276628,0.8133414229406368,0,0,0.9999996829318346,2.191719999999987,0,null,null,3.4128055160481163]
[null,null,677,{"$f":"D678+Sheet2!B$20","v":2.1226399999999837},0.8515594092460148,241,241,0.7536000000000008,0.4533118238610294,0.6842684172472769,1,0.7536000000000008,0.4533118238610294,3.14,0,null,null,1.7031188184920296]
[null,null,678,{"$f":"D679+Sheet2!B$20","v":2.125779999999984},0.8499090434517477,741,741,2.323599999999993,0.47977089586739335,0.7297749033016847,1,2.323599999999993,0.47977089586739335,3.14,0,null,null,3.3996361738069907]
[null,null,679,{"$f":"D680+Sheet2!B$20","v":2.128919999999984},0.8482502979011608,190,190,0.5934599999999992,0.7314631178923224,0.5592327416634837,0,0,0.9999996829318346,0.5934599999999992,0,null,null,1.6965005958023216]
[null,null,680,{"$f":"D681+Sheet2!B$20","v":2.132059999999984},0.8465831889488084,188,188,0.5871799999999991,0.911407216365605,0.5540155611022333,0,0,0.9999996829318346,0.5871799999999991,0,null,null,3.3863327557952334]
[null,null,681,{"$f":"D682+Sheet2!B$20","v":2.135199999999984},0.8449077330317044,70,70,0.21666000000000016,0.1151725715108084,0.21496891442031685,1,0.21666000000000016,0.1151725715108084,3.14,0,null,null,1.6898154660634088]
[null,null,682,{"$f":"D683+Sheet2!B$20","v":2.1383399999999844},0.8432239466691603,775,775,2.4303599999999976,0.31524679508595393,0.6527680730641946,1,2.4303599999999976,0.31524679508595393,3.14,0,null,null,3.3728957866766414]
[null,null,683,{"$f":"D684+Sheet2!B$20","v":2.1414799999999845},0.8415318464626226,565,565,1.7709599999999839,0.2547622474491626,0.9800340478678015,1,1.7709599999999839,0.2547622474491626,3.14,0,null,null,1.6830636929252452]
[null,null,684,{"$f":"D685+Sheet2!B$20","v":2.1446199999999846},0.8398314490955088,209,209,0.6531199999999998,0.3724792646098039,0.6076672375969429,1,0.6531199999999998,0.3724792646098039,3.14,0,null,null,3.359325796382035]
[null,null,685,{"$f":"D686+Sheet2!B$20","v":2.147759999999985},0.8381227713330428,688,688,2.157179999999985,0.8397583985821224,0.8329472245493962,0,0,0.9999996829318346,2.157179999999985,0,null,null,1.6762455426660856]
[null,null,686,{"$f":"D687+Sheet2!B$20","v":2.150899999999985},0.8364058300220902,532,532,1.6673399999999865,0.7059868907533983,0.9953432782530581,1,1.6673399999999865,0.7059868907533983,3.14,0,null,null,3.345623320088361]
[null,null,687,{"$f":"D688+Sheet2!B$20","v":2.154039999999985},0.8346806420909918,211,211,0.6593999999999999,0.3183901423463754,0.6126427463019449,1,0.6593999999999999,0.3183901423463754,3.14,0,null,null,1.6693612841819836]
[null,null,688,{"$f":"D689+Sheet2!B$20","v":2.157179999999985},0.8329472245493962,700,700,2.194859999999987,0.331385293851618,0.8115106061906037,1,2.194859999999987,0.331385293851618,3.14,0,null,null,3.3317888981975847]
[null,null,689,{"$f":"D690+Sheet2!B$20","v":2.1603199999999854},0.8312055944880932,686,686,2.150899999999985,0.3270152732329545,0.8364058300220902,1,2.150899999999985,0.3270152732329545,3.14,0,null,null,1.6624111889761863]
[null,null,690,{"$f":"D691+Sheet2!B$20","v":2.1634599999999855},0.8294557690788443,446,446,1.3972999999999933,0.10770705815224485,0.9849872272981217,1,1.3972999999999933,0.10770705815224485,3.14,0,null,null,3.3178230763153773]
[null,null,691,{"$f":"D692+Sheet2!B$20","v":2.1665999999999856},0.827697765574214,856,856,2.684700000000009,0.6739603396701372,0.4411616226433953,0,0,0.9999996829318346,2.684700000000009,0,null,null,1.655395531148428]
[null,null,692,{"$f":"D693+Sheet2!B$20","v":2.169739999999986},0.8259316013073994,181,181,0.5651999999999989,0.2984218237908921,0.5355847230218247,1,0.5651999999999989,0.2984218237908921,3.14,0,null,null,3.3037264052295976]
[null,null,693,{"$f":"D694+Sheet2!B$20","v":2.172879999999986},0.8241572936920594,513,513,1.607679999999988,0.9239528483279565,0.9993198744345664,{"$f":"IF(OR(C695>n,I695>J695),0,1)","v":1},1.607679999999988,0.9239528483279565,3.14,0,null,null,1.6483145873841187]
[null,null,694,{"$f":"D695+Sheet2!B$20","v":2.176019999999986},0.822374860222143,518,518,{"$f":"LOOKUP(G696,C$3:C$1003,D$3:D$1003)","v":1.6233799999999876},0.36858191913275185,{"$f":"LOOKUP(H696,D$3:D$1003,E$3:E$1003)","v":0.9986177971876481},1,1.6233799999999876,{"$f":"IF($C696>n,fmin,(IF($K696=1,I696,fmax)))","v":0.36858191913275185},{"$f":"IF($C696>n,xMin,(IF($K696=0,$H696,xMax)))","v":3.14},{"$f":"IF($C696>n,fmin,(IF($K696=0,K696,fmin)))","v":0},null,null,3.289499440888572]
[null,null,695,{"$f":"D696+Sheet2!B$20","v":2.179159999999986},0.8205843184717168,740,740,2.3204599999999926,0.9756973533023963,0.7319180808661861,0,{"$f":"IF($C697>n,L696,(IF($K697=1,$H697,xMin)))","v":0},0.9999996829318346,2.3204599999999926,0,null,null,1.6411686369434335]
[null,null,696,{"$f":"D697+Sheet2!B$20","v":2.1822999999999864},0.8187856860947917,481,481,1.5071999999999905,0.38273501396448056,0.9979784350972938,1,1.5071999999999905,0.38273501396448056,3.14,0,null,null,3.275142744379167]
[null,null,697,{"$f":"D698+Sheet2!B$20","v":2.1854399999999865},0.816978980825149,801,801,2.5120000000000013,0.4667969293366598,0.5888155619677942,1,2.5120000000000013,0.4667969293366598,3.14,0,null,null,1.633957961650298]
[null,null,698,{"$f":"D699+Sheet2!B$20","v":2.1885799999999866},0.8151642204761652,809,809,2.5371200000000025,0.33033000032867643,0.5683282536657018,1,2.5371200000000025,0.33033000032867643,3.14,0,null,null,3.260656881904661]
[null,null,699,{"$f":"D700+Sheet2!B$20","v":2.191719999999987},0.8133414229406368,840,840,2.634460000000007,0.4052561844549545,0.48567278266487984,1,2.634460000000007,0.4052561844549545,3.14,0,null,null,1.6266828458812737]
[null,null,700,{"$f":"D701+Sheet2!B$20","v":2.194859999999987},0.8115106061906037,735,735,2.304759999999992,0.4149338844342889,0.7425253023624943,1,2.304759999999992,0.4149338844342889,3.14,0,null,null,3.2460424247624147]
[null,null,701,{"$f":"D702+Sheet2!B$20","v":2.197999999999987},0.8096717882771718,615,615,1.92795999999998,0.8886440779897972,0.9368922226599442,1,1.92795999999998,0.8886440779897972,3.14,0,null,null,1.6193435765543436]
[null,null,702,{"$f":"D703+Sheet2!B$20","v":2.201139999999987},0.8078249873303354,69,69,0.21352000000000015,0.8930809049653027,0.21190127010715445,0,0,0.9999996829318346,0.21352000000000015,0,null,null,3.2312999493213415]
[null,null,703,{"$f":"D704+Sheet2!B$20","v":2.2042799999999874},0.8059702215587979,783,783,2.4554799999999988,0.9399121387364237,0.6335342798474249,0,0,0.9999996829318346,2.4554799999999988,0,null,null,1.6119404431175959]
[null,null,704,{"$f":"D705+Sheet2!B$20","v":2.2074199999999875},0.8041075092497932,909,909,2.8511200000000168,0.1551535758915697,0.2864051105545488,1,2.8511200000000168,0.1551535758915697,3.14,0,null,null,3.216430036999173]
[null,null,705,{"$f":"D706+Sheet2!B$20","v":2.2105599999999876},{"$f":"SIN(x)","v":0.8022368687689044},788,788,2.4711799999999995,{"$f":"fmin+(fmax-fmin)*ABS(RAND())","v":0.5356726487361544},0.6213093809798909,1,2.4711799999999995,0.5356726487361544,3.14,0,null,null,1.6044737375378089]
[null,null,706,{"$f":"D707+Sheet2!B$20","v":2.213699999999988},0.8003583185598832,469,469,1.4695199999999915,0.3057405659807757,0.9948759348121261,1,1.4695199999999915,0.3057405659807757,3.14,0,null,null,3.2014332742395326]
[null,null,707,{"$f":"D708+Sheet2!B$20","v":2.216839999999988},0.7984718771444679,{"$f":"INT(1000*ABS(RAND()))+1","v":677},{"$f":"IF(F709>0,F709,-F709)","v":677},2.1226399999999837,0.40291352343642367,0.8515594092460148,1,2.1226399999999837,0.40291352343642367,3.14,0,null,null,1.5969437542889358]
[null,null,708,{"$f":"D709+Sheet2!B$20","v":2.219979999999988},0.7965775631222011,624,624,1.9562199999999792,0.1031560786672943,0.9266392351550934,1,1.9562199999999792,0.1031560786672943,3.14,0,null,null,3.1863102524888043]
[null,null,709,{"$f":"D710+Sheet2!B$20","v":2.223119999999988},0.794675395170246,599,599,1.8777199999999812,0.9143164570076263,0.9532675221255339,1,1.8777199999999812,0.9143164570076263,3.14,0,null,null,1.589350790340492]
[null,null,710,{"$f":"D711+Sheet2!B$20","v":2.2262599999999884},0.7927653920432024,573,573,1.7960799999999832,0.8437913362266959,0.9747307785518928,1,1.7960799999999832,0.8437913362266959,3.14,0,null,null,3.1710615681728096]
[null,null,711,{"$f":"D712+Sheet2!B$20","v":2.2293999999999885},0.7908475725729215,541,541,1.6955999999999858,0.3113378909984672,0.9922221250982459,1,1.6955999999999858,0.3113378909984672,3.14,0,null,null,{"$f":"2*E713","v":1.581695145145843}]
[null,null,712,{"$f":"D713+Sheet2!B$20","v":2.2325399999999886},0.7889219556683208,367,367,1.1492399999999996,0.39278412459059986,0.9124532262291217,1,1.1492399999999996,0.39278412459059986,3.14,0,null,null,{"$f":"4*E714","v":3.155687822673283}]
[null,null,713,{"$f":"D714+Sheet2!B$20","v":2.235679999999989},0.7869885603151969,511,511,1.6013999999999882,0.3011354221648687,0.9995317441416667,1,1.6013999999999882,0.3011354221648687,3.14,0,null,null,1.5739771206303939]
[null,null,714,{"$f":"D715+Sheet2!B$20","v":2.238819999999989},0.7850474055760391,656,656,2.0566999999999807,0.9470937882869398,0.8842532879395177,0,0,0.9999996829318346,2.0566999999999807,0,null,null,3.1401896223041565]
[null,null,715,{"$f":"D716+Sheet2!B$20","v":2.241959999999989},0.783098510589841,127,127,0.3956399999999991,0.4975205768132447,0.38539882776039586,0,0,0.9999996829318346,0.3956399999999991,0,null,null,1.566197021179682]
[null,null,716,{"$f":"D717+Sheet2!B$20","v":2.245099999999989},0.7811418945719117,199,199,0.6217199999999995,0.07158285003532781,0.5824341713255371,1,0.6217199999999995,0.07158285003532781,3.14,0,null,null,3.124567578287647]
[null,null,717,{"$f":"D718+Sheet2!B$20","v":2.2482399999999894},0.7791775768136868,574,574,1.7992199999999832,0.18052062447502396,0.9740245522496555,1,1.7992199999999832,0.18052062447502396,3.14,0,null,null,1.5583551536273736]
[null,null,718,{"$f":"D719+Sheet2!B$20","v":2.2513799999999895},0.7772055766825375,68,68,0.21038000000000015,0.10853534418791609,0.2088315365339459,1,0.21038000000000015,0.10853534418791609,3.14,0,null,null,3.10882230673015]
[null,null,719,{"$f":"D720+Sheet2!B$20","v":2.2545199999999896},0.7752259136215806,560,560,1.7552599999999843,0.488510101107839,0.9830347647112154,1,1.7552599999999843,0.488510101107839,3.14,0,null,null,1.550451827243161]
[null,null,720,{"$f":"D721+Sheet2!B$20","v":2.25765999999999},0.7732386071494857,723,723,2.26707999999999,0.008258716693975751,0.7672310235823266,1,2.26707999999999,0.008258716693975751,3.14,0,null,null,3.0929544285979427]
[null,null,721,{"$f":"D722+Sheet2!B$20","v":2.26079999999999},0.7712436768602838,599,599,1.8777199999999812,0.8457227233407348,0.9532675221255339,1,1.8777199999999812,0.8457227233407348,3.14,0,null,null,1.5424873537205677]
[null,null,722,{"$f":"D723+Sheet2!B$20","v":2.26393999999999},0.7692411424231733,436,436,1.3658999999999941,0.41142393063788174,0.9790820837178481,1,1.3658999999999941,0.41142393063788174,3.14,0,null,null,3.0769645696926933]
[null,null,723,{"$f":"D724+Sheet2!B$20","v":2.26707999999999},0.7672310235823266,485,485,1.5197599999999902,0.8855250673329997,0.9986979293364634,1,1.5197599999999902,0.8855250673329997,3.14,0,null,null,1.5344620471646533]
[null,null,724,{"$f":"D725+Sheet2!B$20","v":2.2702199999999904},0.7652133401566952,131,131,0.408199999999999,0.6149850909452211,0.3969578656478564,0,0,0.9999996829318346,0.408199999999999,0,null,null,3.0608533606267807]
[null,null,725,{"$f":"D726+Sheet2!B$20","v":2.2733599999999905},0.7631881120398141,359,359,1.1241200000000002,0.7119449299806215,0.901887809455295,1,1.1241200000000002,0.7119449299806215,3.14,0,null,null,1.5263762240796281]
[null,null,726,{"$f":"D727+Sheet2!B$20","v":2.2764999999999906},0.761155359199606,244,244,0.7630200000000009,0.464517331421718,0.6911073049183717,1,0.7630200000000009,0.464517331421718,3.14,0,null,null,3.044621436798424]
[null,null,727,{"$f":"D728+Sheet2!B$20","v":2.279639999999991},0.7591151016781845,777,777,2.436639999999998,0.8334831159943465,0.6479977692363312,0,0,0.9999996829318346,2.436639999999998,0,null,null,1.518230203356369]
[null,null,728,{"$f":"D729+Sheet2!B$20","v":2.282779999999991},0.757067359591656,789,789,2.4743199999999996,0.8478544242247799,0.6188459269047498,0,0,0.9999996829318346,2.4743199999999996,0,null,null,3.028269438366624]
[null,null,729,{"$f":"D730+Sheet2!B$20","v":2.285919999999991},0.755012153129922,269,269,0.8415200000000017,0.08948391902636163,0.7456568028639058,1,0.8415200000000017,0.08948391902636163,3.14,0,null,null,1.510024306259844]
[null,null,730,{"$f":"D731+Sheet2!B$20","v":2.289059999999991},0.7529495025564793,718,718,2.2513799999999895,0.8643929360942739,0.7772055766825375,0,0,0.9999996829318346,2.2513799999999895,0,null,null,3.011798010225917]
[null,null,731,{"$f":"D732+Sheet2!B$20","v":2.2921999999999914},0.7508794282082207,967,967,3.033240000000025,0.6980998168747805,0.10814076261244668,0,0,0.9999996829318346,3.033240000000025,0,null,null,1.5017588564164415]
[null,null,732,{"$f":"D733+Sheet2!B$20","v":2.2953399999999915},0.7488019504952347,438,438,1.372179999999994,0.2594326965567216,0.9803405329893836,1,1.372179999999994,0.2594326965567216,3.14,0,null,null,2.9952078019809387]
[null,null,733,{"$f":"D734+Sheet2!B$20","v":2.2984799999999916},0.7467170899006036,474,474,1.485219999999991,0.2462091308595656,0.9963405802188815,1,1.485219999999991,0.2462091308595656,3.14,0,null,null,1.4934341798012072]
[null,null,734,{"$f":"D735+Sheet2!B$20","v":2.301619999999992},0.744624866980202,594,594,1.8620199999999816,0.9952977671071925,0.9578932460985717,0,0,0.9999996829318346,1.8620199999999816,0,null,null,2.978499467920808]
[null,null,735,{"$f":"D736+Sheet2!B$20","v":2.304759999999992},0.7425253023624943,327,327,1.0236400000000028,0.060612556111824464,0.8540074247660693,1,1.0236400000000028,0.060612556111824464,3.14,0,null,null,1.4850506047249885]
[null,null,736,{"$f":"D737+Sheet2!B$20","v":2.307899999999992},0.7404184167483303,117,117,0.36423999999999934,0.28726193343885276,0.3562392573998173,1,0.36423999999999934,0.28726193343885276,3.14,0,null,null,2.9616736669933212]
[null,null,737,{"$f":"D738+Sheet2!B$20","v":2.311039999999992},0.7383042309107428,518,518,1.6233799999999876,0.05307464371870747,0.9986177971876481,1,1.6233799999999876,0.05307464371870747,3.14,0,null,null,1.4766084618214856]
[null,null,738,{"$f":"D739+Sheet2!B$20","v":2.3141799999999924},0.7361827656947413,956,956,2.9987000000000235,0.6019452030481857,0.14240687869653235,0,0,0.9999996829318346,2.9987000000000235,0,null,null,2.944731062778965]
[null,null,739,{"$f":"D740+Sheet2!B$20","v":2.3173199999999925},0.7340540420171068,652,652,2.04413999999998,0.9619904405444781,0.890049003350467,0,0,0.9999996829318346,2.04413999999998,0,null,null,1.4681080840342136]
[null,null,740,{"$f":"D741+Sheet2!B$20","v":2.3204599999999926},0.7319180808661861,988,988,3.099180000000028,0.9891434520024328,0.04239993918525355,0,0,0.9999996829318346,3.099180000000028,0,null,null,2.9276723234647446]
[null,null,741,{"$f":"D742+Sheet2!B$20","v":2.323599999999993},0.7297749033016847,30,30,0.09106,0.6785231527909861,0.09093420840354029,0,0,0.9999996829318346,0.09106,0,null,null,1.4595498066033694]
[null,null,742,{"$f":"D743+Sheet2!B$20","v":2.326739999999993},0.7276245304544586,645,645,2.022159999999979,0.5818070667953325,0.899853114454851,1,2.022159999999979,0.5818070667953325,3.14,0,null,null,2.9104981218178345]
[null,null,743,{"$f":"D744+Sheet2!B$20","v":2.329879999999993},0.7254669835263065,591,591,1.8525999999999818,0.8642250413166969,0.9605554200325009,1,1.8525999999999818,0.8642250413166969,3.14,0,null,null,1.450933967052613]
[null,null,744,{"$f":"D745+Sheet2!B$20","v":2.333019999999993},0.7233022837897605,476,476,1.491499999999991,0.8527719641736479,0.9968576933406655,1,1.491499999999991,0.8527719641736479,3.14,0,null,null,2.893209135159042]
[null,null,745,{"$f":"D746+Sheet2!B$20","v":2.3361599999999934},0.7211304525878768,550,550,1.723859999999985,0.8247042797036254,0.9883086087047014,1,1.723859999999985,0.8247042797036254,3.14,0,null,null,1.4422609051757536]
[null,null,746,{"$f":"D747+Sheet2!B$20","v":2.3392999999999935},0.7189515113340246,25,25,0.07535999999999998,0.6068669138813283,0.0752886903840636,0,0,0.9999996829318346,0.07535999999999998,0,null,null,2.8758060453360983]
[null,null,747,{"$f":"D748+Sheet2!B$20","v":2.3424399999999936},0.7167654815116754,850,850,2.6658600000000083,0.7294684414067335,0.45798986788017926,0,0,0.9999996829318346,2.6658600000000083,0,null,null,1.4335309630233508]
[null,null,748,{"$f":"D749+Sheet2!B$20","v":2.345579999999994},0.7145723846741912,482,482,1.5103399999999905,0.45079585141170136,0.9981730728235517,1,1.5103399999999905,0.45079585141170136,3.14,0,null,null,2.8582895386967646]
[null,null,749,{"$f":"D750+Sheet2!B$20","v":2.348719999999994},0.7123722424446118,600,600,1.880859999999981,0.6032662907498976,0.9523141438940934,1,1.880859999999981,0.6032662907498976,3.14,0,null,null,1.4247444848892237]
[null,null,750,{"$f":"D751+Sheet2!B$20","v":2.351859999999994},0.7101650765154417,520,520,1.6296599999999875,0.35664353936730914,0.998268034170376,1,1.6296599999999875,0.35664353936730914,3.14,0,null,null,2.840660306061767]
[null,null,751,{"$f":"D752+Sheet2!B$20","v":2.354999999999994},0.7079509086484362,164,164,0.5118199999999984,0.18026718263301225,0.48976483249098846,1,0.5118199999999984,0.18026718263301225,3.14,0,null,null,1.4159018172968725]
[null,null,752,{"$f":"D753+Sheet2!B$20","v":2.3581399999999944},0.705729760674387,342,342,1.0707400000000016,0.6680141870890712,0.8775555559942501,1,1.0707400000000016,0.6680141870890712,3.14,0,null,null,2.822919042697548]
[null,null,753,{"$f":"D754+Sheet2!B$20","v":2.3612799999999945},0.7035016544929065,786,786,2.464899999999999,0.1630165688430694,0.6262178873311012,1,2.464899999999999,0.1630165688430694,3.14,0,null,null,1.407003308985813]
[null,null,754,{"$f":"D755+Sheet2!B$20","v":2.3644199999999946},0.7012666120722123,657,657,2.059839999999981,0.8530194772273442,0.8827825272152047,1,2.059839999999981,0.8530194772273442,3.14,0,null,null,2.805066448288849]
[null,null,755,{"$f":"D756+Sheet2!B$20","v":2.367559999999995},0.6990246554489108,643,643,2.015879999999979,0.9858626683346616,0.9025746444459952,0,0,0.9999996829318346,2.015879999999979,0,null,null,1.3980493108978216]
[null,null,756,{"$f":"D757+Sheet2!B$20","v":2.370699999999995},0.6967758067277791,955,955,2.9955600000000233,0.2938408696503369,0.14551416931328015,0,0,0.9999996829318346,2.9955600000000233,0,null,null,2.7871032269111162]
[null,null,757,{"$f":"D758+Sheet2!B$20","v":2.373839999999995},0.694520088081548,924,924,2.898220000000019,0.28511180829023175,0.2409772548165826,{"$f":"IF(OR(C759>n,I759>J759),0,1)","v":0},0,0.9999996829318346,2.898220000000019,0,null,null,1.389040176163096]
[null,null,758,{"$f":"D759+Sheet2!B$20","v":2.376979999999995},0.6922575217506828,750,750,{"$f":"LOOKUP(G760,C$3:C$1003,D$3:D$1003)","v":2.351859999999994},0.6013317783982566,{"$f":"LOOKUP(H760,D$3:D$1003,E$3:E$1003)","v":0.7101650765154417},1,2.351859999999994,{"$f":"IF($C760>n,fmin,(IF($K760=1,I760,fmax)))","v":0.6013317783982566},{"$f":"IF($C760>n,xMin,(IF($K760=0,$H760,xMax)))","v":3.14},{"$f":"IF($C760>n,fmin,(IF($K760=0,K760,fmin)))","v":0},null,null,2.769030087002731]
[null,null,759,{"$f":"D760+Sheet2!B$20","v":2.3801199999999954},0.689988130043164,458,458,1.4349799999999924,0.8064444886105662,0.9907911313764695,1,{"$f":"IF($C761>n,L760,(IF($K761=1,$H761,xMin)))","v":1.4349799999999924},0.8064444886105662,3.14,0,null,null,1.379976260086328]
[null,null,760,{"$f":"D761+Sheet2!B$20","v":2.3832599999999955},0.6877119353342678,145,145,0.4521599999999987,0.875869845122396,0.4369094836527023,0,0,0.9999996829318346,0.4521599999999987,0,null,null,2.750847741337071]
[null,null,761,{"$f":"D762+Sheet2!B$20","v":2.3863999999999956},0.6854289600663451,316,316,0.9891000000000032,0.8765516762665884,0.8355318192021662,0,0,0.9999996829318346,0.9891000000000032,0,null,null,1.3708579201326903]
[null,null,762,{"$f":"D763+Sheet2!B$20","v":2.389539999999996},0.6831392267486005,903,903,2.832280000000016,0.09181178017527414,0.30440398137266617,1,2.832280000000016,0.09181178017527414,3.14,0,null,null,2.732556906994402]
[null,null,763,{"$f":"D764+Sheet2!B$20","v":2.392679999999996},0.6808427579568699,137,137,0.42703999999999886,0.8774280855281226,0.4141784415127963,0,0,0.9999996829318346,0.42703999999999886,0,null,null,1.3616855159137398]
[null,null,764,{"$f":"D765+Sheet2!B$20","v":2.395819999999996},0.6785395763333983,881,881,2.7632000000000128,0.7109491743868379,0.36942730513943084,0,0,0.9999996829318346,2.7632000000000128,0,null,null,2.7141583053335934]
[null,null,765,{"$f":"D766+Sheet2!B$20","v":2.398959999999996},0.6762297045866169,424,424,1.328219999999995,0.3877106923653897,0.9707223522772349,1,1.328219999999995,0.3877106923653897,3.14,0,null,null,1.3524594091732338]
[null,null,766,{"$f":"D767+Sheet2!B$20","v":2.4020999999999963},0.6739131654909182,605,605,1.8965599999999807,0.8223530123271192,0.9474066025412055,1,1.8965599999999807,0.8223530123271192,3.14,0,null,null,2.6956526619636727]
[null,null,767,{"$f":"D768+Sheet2!B$20","v":2.4052399999999965},0.6715899818864324,959,959,3.008120000000024,0.5697270877331756,0.13307670501942892,0,0,0.9999996829318346,3.008120000000024,0,null,null,1.3431799637728647]
[null,null,768,{"$f":"D769+Sheet2!B$20","v":2.4083799999999966},0.6692601766788017,839,839,2.6313200000000068,0.5922644365384209,0.48841518565739195,0,0,0.9999996829318346,2.6313200000000068,0,null,null,2.6770407067152067]
[null,null,769,{"$f":"D770+Sheet2!B$20","v":2.4115199999999968},{"$f":"SIN(x)","v":0.6669237728389547},480,480,1.5040599999999906,{"$f":"fmin+(fmax-fmin)*ABS(RAND())","v":0.5968367310170773},0.9977739577109417,1,1.5040599999999906,0.5968367310170773,3.14,0,null,null,1.3338475456779093]
[null,null,770,{"$f":"D771+Sheet2!B$20","v":2.414659999999997},0.6645807934028797,102,102,0.3171399999999997,0.6488756636595472,0.311850464507972,0,0,0.9999996829318346,0.3171399999999997,0,null,null,2.6583231736115187]
[null,null,771,{"$f":"D772+Sheet2!B$20","v":2.417799999999997},0.6622312614713978,{"$f":"INT(1000*ABS(RAND()))+1","v":26},{"$f":"IF(F773>0,F773,-F773)","v":26},0.07849999999999999,0.4660680996614974,0.07841940206640578,0,0,0.9999996829318346,0.07849999999999999,0,null,null,1.3244625229427955]
[null,null,772,{"$f":"D773+Sheet2!B$20","v":2.420939999999997},0.6598752002099351,207,207,0.6468399999999997,0.6392526209799314,0.6026677635471206,0,0,0.9999996829318346,0.6468399999999997,0,null,null,2.6395008008397403]
[null,null,773,{"$f":"D774+Sheet2!B$20","v":2.4240799999999973},0.657512632848294,668,668,2.0943799999999824,0.1592966489292425,0.8660329548822824,1,2.0943799999999824,0.1592966489292425,3.14,0,null,null,1.315025265696588]
[null,null,774,{"$f":"D775+Sheet2!B$20","v":2.4272199999999975},0.6551435826804245,390,390,1.2214599999999978,0.9614473654289555,0.9396000780385267,0,0,0.9999996829318346,1.2214599999999978,0,null,null,2.620574330721698]
[null,null,775,{"$f":"D776+Sheet2!B$20","v":2.4303599999999976},0.6527680730641946,443,443,1.3878799999999936,0.8297578762922708,0.9833174010125123,1,1.3878799999999936,0.8297578762922708,3.14,0,null,null,{"$f":"2*E777","v":1.3055361461283892}]
[null,null,776,{"$f":"D777+Sheet2!B$20","v":2.4334999999999978},0.6503861274211595,525,525,1.645359999999987,0.11149771048805276,0.9972214170272513,1,1.645359999999987,0.11149771048805276,3.14,0,null,null,{"$f":"4*E778","v":2.601544509684638}]
[null,null,777,{"$f":"D778+Sheet2!B$20","v":2.436639999999998},0.6479977692363312,877,877,2.750640000000012,0.14643320174934063,0.38106936040621053,1,2.750640000000012,0.14643320174934063,3.14,0,null,null,1.2959955384726625]
[null,null,778,{"$f":"D779+Sheet2!B$20","v":2.439779999999998},0.6456030220579468,775,775,2.4303599999999976,0.9229155332804073,0.6527680730641946,0,0,0.9999996829318346,2.4303599999999976,0,null,null,2.5824120882317874]
[null,null,779,{"$f":"D780+Sheet2!B$20","v":2.442919999999998},0.6432019094972362,22,22,0.06593999999999997,0.7920660278948384,0.06589222494891467,0,0,0.9999996829318346,0.06593999999999997,0,null,null,1.2864038189944724]
[null,null,780,{"$f":"D781+Sheet2!B$20","v":2.4460599999999983},0.6407944552281892,736,736,2.307899999999992,0.3642215173004025,0.7404184167483303,1,2.307899999999992,0.3642215173004025,3.14,0,null,null,2.563177820912757]
[null,null,781,{"$f":"D782+Sheet2!B$20","v":2.4491999999999985},0.6383806829873225,218,218,0.6813800000000001,0.24832725135868713,0.6298654752931363,1,0.6813800000000001,0.24832725135868713,3.14,0,null,null,1.276761365974645]
[null,null,782,{"$f":"D783+Sheet2!B$20","v":2.4523399999999986},0.6359606165734454,333,333,1.0424800000000023,0.2076348869115097,0.8636570001302613,1,1.0424800000000023,0.2076348869115097,3.14,0,null,null,2.5438424662937815]
[null,null,783,{"$f":"D784+Sheet2!B$20","v":2.4554799999999988},0.6335342798474249,629,629,1.9719199999999788,0.4768082318617032,0.9206228336533062,1,1.9719199999999788,0.4768082318617032,3.14,0,null,null,1.2670685596948499]
[null,null,784,{"$f":"D785+Sheet2!B$20","v":2.458619999999999},0.6311016967319513,120,120,0.37365999999999927,0.44160872238326243,0.3650253204064066,0,0,0.9999996829318346,0.37365999999999927,0,null,null,2.524406786927805]
[null,null,785,{"$f":"D786+Sheet2!B$20","v":2.461759999999999},0.6286628912113009,623,623,1.9530799999999793,0.25430355224898854,0.9278151536077415,1,1.9530799999999793,0.25430355224898854,3.14,0,null,null,1.2573257824226018]
[null,null,786,{"$f":"D787+Sheet2!B$20","v":2.464899999999999},0.6262178873311012,56,56,0.1727000000000001,0.06330823474396477,0.17184280803515456,1,0.1727000000000001,0.06330823474396477,3.14,0,null,null,2.5048715493244047]
[null,null,787,{"$f":"D788+Sheet2!B$20","v":2.4680399999999993},0.6237667091980925,22,22,0.06593999999999997,0.8344365224248494,0.06589222494891467,0,0,0.9999996829318346,0.06593999999999997,0,null,null,1.247533418396185]
[null,null,788,{"$f":"D789+Sheet2!B$20","v":2.4711799999999995},0.6213093809798909,376,376,1.1774999999999989,0.6687373931837525,0.9236508119468102,1,1.1774999999999989,0.6687373931837525,3.14,0,null,null,2.4852375239195634]
[null,null,789,{"$f":"D790+Sheet2!B$20","v":2.4743199999999996},0.6188459269047498,909,909,2.8511200000000168,0.16508408179100353,0.2864051105545488,1,2.8511200000000168,0.16508408179100353,3.14,0,null,null,1.2376918538094996]
[null,null,790,{"$f":"D791+Sheet2!B$20","v":2.4774599999999998},0.616376371261321,219,219,0.6845200000000001,0.3493718997716018,0.6323012175041268,1,0.6845200000000001,0.3493718997716018,3.14,0,null,null,2.465505485045284]
[null,null,791,{"$f":"D792+Sheet2!B$20","v":2.4806},0.6139007383984155,371,371,1.1617999999999993,0.5661342827294774,0.9175204343159048,1,1.1617999999999993,0.5661342827294774,3.14,0,null,null,1.227801476796831]
[null,null,792,{"$f":"D793+Sheet2!B$20","v":2.48374},0.6114190527247628,237,237,0.7410400000000007,0.8434236347133005,0.6750555541359085,0,0,0.9999996829318346,0.7410400000000007,0,null,null,2.4456762108990513]
[null,null,793,{"$f":"D794+Sheet2!B$20","v":2.48688},0.6089313387087709,655,655,2.0535599999999805,0.9759157417085778,0.8857153302872764,0,0,0.9999996829318346,2.0535599999999805,0,null,null,1.2178626774175418]
[null,null,794,{"$f":"D795+Sheet2!B$20","v":2.4900200000000003},0.6064376208782849,515,515,1.6139599999999878,0.48650394506086114,0.9990685932800575,1,1.6139599999999878,0.48650394506086114,3.14,0,null,null,2.4257504835131396]
[null,null,795,{"$f":"D796+Sheet2!B$20","v":2.4931600000000005},0.6039379238203447,31,31,0.0942,0.13823429272339144,0.09406074565100932,0,0,0.9999996829318346,0.0942,0,null,null,1.2078758476406894]
[null,null,796,{"$f":"D797+Sheet2!B$20","v":2.4963000000000006},0.6014322721809434,5,5,0.01256,0.9245755786001676,0.012559669771735412,0,0,0.9999996829318346,0.01256,0,null,null,2.4057290887237737]
[null,null,797,{"$f":"D798+Sheet2!B$20","v":2.4994400000000008},0.5989206906647835,786,786,2.464899999999999,0.8238579921971979,0.6262178873311012,0,0,0.9999996829318346,2.464899999999999,0,null,null,1.197841381329567]
[null,null,798,{"$f":"D799+Sheet2!B$20","v":2.502580000000001},0.5964032040350337,825,825,2.5873600000000048,0.9271180856548192,0.5262909770779202,0,0,0.9999996829318346,2.5873600000000048,0,null,null,2.3856128161401347]
[null,null,799,{"$f":"D800+Sheet2!B$20","v":2.505720000000001},0.5938798371130848,715,715,2.241959999999989,0.44558080253070065,0.783098510589841,1,2.241959999999989,0.44558080253070065,3.14,0,null,null,1.1877596742261696]
[null,null,800,{"$f":"D801+Sheet2!B$20","v":2.508860000000001},0.591350614778305,825,825,2.5873600000000048,0.16430840416554687,0.5262909770779202,1,2.5873600000000048,0.16430840416554687,3.14,0,null,null,2.36540245911322]
[null,null,801,{"$f":"D802+Sheet2!B$20","v":2.5120000000000013},0.5888155619677942,958,958,3.0049800000000237,0.18985499241104503,0.13618811589237503,0,0,0.9999996829318346,3.0049800000000237,0,null,null,1.1776311239355883]
[null,null,802,{"$f":"D803+Sheet2!B$20","v":2.5151400000000015},0.5862747036761387,676,676,2.1194999999999835,0.6748116218515348,0.8532013790120291,1,2.1194999999999835,0.6748116218515348,3.14,0,null,null,2.3450988147045546]
[null,null,803,{"$f":"D804+Sheet2!B$20","v":2.5182800000000016},0.583728064955164,805,805,2.524560000000002,0.18963334315070646,0.5786175467172772,1,2.524560000000002,0.18963334315070646,3.14,0,null,null,1.167456129910328]
[null,null,804,{"$f":"D805+Sheet2!B$20","v":2.5214200000000018},0.581175670913689,732,732,2.2953399999999915,0.006926182921110429,0.7488019504952347,1,2.2953399999999915,0.006926182921110429,3.14,0,null,null,2.324702683654756]
[null,null,805,{"$f":"D806+Sheet2!B$20","v":2.524560000000002},0.5786175467172772,15,15,0.043959999999999985,0.3697061410457987,0.04394584271948076,0,0,0.9999996829318346,0.043959999999999985,0,null,null,1.1572350934345543]
[null,null,806,{"$f":"D807+Sheet2!B$20","v":2.527700000000002},0.576053717587989,464,464,1.453819999999992,0.15001851651471837,0.9931660674733239,1,1.453819999999992,0.15001851651471837,3.14,0,null,null,2.304214870351956]
[null,null,807,{"$f":"D808+Sheet2!B$20","v":2.530840000000002},0.5734842088041335,89,89,0.27632,0.883464088512587,0.2728171012764005,0,0,0.9999996829318346,0.27632,0,null,null,1.146968417608267]
[null,null,808,{"$f":"D809+Sheet2!B$20","v":2.5339800000000023},0.5709090457000187,493,493,1.5448799999999896,0.88539494722559,0.9996641907990496,1,1.5448799999999896,0.88539494722559,3.14,0,null,null,2.2836361828000746]
[null,null,809,{"$f":"D810+Sheet2!B$20","v":2.5371200000000025},0.5683282536657018,464,464,1.453819999999992,0.8903090354110277,0.9931660674733239,1,1.453819999999992,0.8903090354110277,3.14,0,null,null,1.1366565073314037]
[null,null,810,{"$f":"D811+Sheet2!B$20","v":2.5402600000000026},0.5657418581467392,905,905,2.838560000000016,0.16114216388981592,0.29841604790678194,1,2.838560000000016,0.16114216388981592,3.14,0,null,null,2.2629674325869567]
[null,null,811,{"$f":"D812+Sheet2!B$20","v":2.5434000000000028},0.5631498846439349,822,822,2.5779400000000043,0.6043528008646364,0.5342773769551644,0,0,0.9999996829318346,2.5779400000000043,0,null,null,1.1262997692878698]
[null,null,812,{"$f":"D813+Sheet2!B$20","v":2.546540000000003},0.5605523587130901,975,975,3.058360000000026,0.36710590398080917,0.0831365854152368,0,0,0.9999996829318346,3.058360000000026,0,null,null,2.2422094348523602]
[null,null,813,{"$f":"D814+Sheet2!B$20","v":2.549680000000003},0.5579493059647503,196,196,0.6122999999999994,0.40818048863424294,0.5747511336456522,1,0.6122999999999994,0.40818048863424294,3.14,0,null,null,1.1158986119295007]
[null,null,814,{"$f":"D815+Sheet2!B$20","v":2.552820000000003},0.5553407520639534,864,864,2.7098200000000103,0.9692056435259155,0.41848142801796073,0,0,0.9999996829318346,2.7098200000000103,0,null,null,2.2213630082558136]
[null,null,815,{"$f":"D816+Sheet2!B$20","v":2.5559600000000033},0.5527267227299762,425,425,1.331359999999995,0.7886806155890553,0.9714718071358525,1,1.331359999999995,0.7886806155890553,3.14,0,null,null,1.1054534454599525]
[null,null,816,{"$f":"D817+Sheet2!B$20","v":2.5591000000000035},0.5501072437360812,192,192,0.5997399999999993,0.5930460049528176,0.5644278670526605,0,0,0.9999996829318346,0.5997399999999993,0,null,null,2.200428974944325]
[null,null,817,{"$f":"D818+Sheet2!B$20","v":2.5622400000000036},0.5474823409092624,143,143,0.4458799999999987,0.3077951488338465,0.43125201091065846,1,0.4458799999999987,0.3077951488338465,3.14,0,null,null,1.0949646818185248]
[null,null,818,{"$f":"D819+Sheet2!B$20","v":2.5653800000000038},0.5448520401299902,764,764,2.395819999999996,0.8751926912586201,0.6785395763333983,0,0,0.9999996829318346,2.395819999999996,0,null,null,2.179408160519961]
[null,null,819,{"$f":"D820+Sheet2!B$20","v":2.568520000000004},0.542216367331957,657,657,2.059839999999981,0.14689965045665085,0.8827825272152047,1,2.059839999999981,0.14689965045665085,3.14,0,null,null,1.084432734663914]
[null,null,820,{"$f":"D821+Sheet2!B$20","v":2.571660000000004},0.5395753485018209,125,125,0.38935999999999915,0.29290005731556956,0.3795963955026771,1,0.38935999999999915,0.29290005731556956,3.14,0,null,null,2.1583013940072835]
[null,null,821,{"$f":"D822+Sheet2!B$20","v":2.574800000000004},0.5369290096789497,398,398,1.2465799999999971,0.3498269269120686,0.9479006691319886,{"$f":"IF(OR(C823>n,I823>J823),0,1)","v":1},1.2465799999999971,0.3498269269120686,3.14,0,null,null,1.0738580193578995]
[null,null,822,{"$f":"D823+Sheet2!B$20","v":2.5779400000000043},0.5342773769551644,759,759,{"$f":"LOOKUP(G824,C$3:C$1003,D$3:D$1003)","v":2.3801199999999954},0.9075305773611428,{"$f":"LOOKUP(H824,D$3:D$1003,E$3:E$1003)","v":0.689988130043164},0,0,{"$f":"IF($C824>n,fmin,(IF($K824=1,I824,fmax)))","v":0.9999996829318346},{"$f":"IF($C824>n,xMin,(IF($K824=0,$H824,xMax)))","v":2.3801199999999954},{"$f":"IF($C824>n,fmin,(IF($K824=0,K824,fmin)))","v":0},null,null,2.1371095078206577]
[null,null,823,{"$f":"D824+Sheet2!B$20","v":2.5810800000000045},0.5316204764744815,913,913,2.8636800000000173,0.33646625690718857,0.2743489923590254,0,{"$f":"IF($C825>n,L824,(IF($K825=1,$H825,xMin)))","v":0},0.9999996829318346,2.8636800000000173,0,null,null,1.063240952948963]
[null,null,824,{"$f":"D825+Sheet2!B$20","v":2.5842200000000046},0.5289583344328553,919,919,2.882520000000018,0.476437987541292,0.25618426320255405,0,0,0.9999996829318346,2.882520000000018,0,null,null,2.1158333377314213]
[null,null,825,{"$f":"D826+Sheet2!B$20","v":2.5873600000000048},0.5262909770779202,904,904,2.835420000000016,0.06538139540034914,0.30141150053691856,1,2.835420000000016,0.06538139540034914,3.14,0,null,null,1.0525819541558403]
[null,null,826,{"$f":"D827+Sheet2!B$20","v":2.590500000000005},0.5236184307087307,867,867,2.7192400000000108,0.15282881160510886,0.4099075045788626,1,2.7192400000000108,0.15282881160510886,3.14,0,null,null,2.094473722834923]
[null,null,827,{"$f":"D828+Sheet2!B$20","v":2.593640000000005},0.5209407216755038,287,287,0.8980400000000023,0.32201782404378115,0.7821070502559002,1,0.8980400000000023,0.32201782404378115,3.14,0,null,null,1.0418814433510075]
[null,null,828,{"$f":"D829+Sheet2!B$20","v":2.596780000000005},0.5182578763793575,610,610,1.9122599999999803,0.8003717888365534,0.9422655397316416,1,1.9122599999999803,0.8003717888365534,3.14,0,null,null,2.07303150551743]
[null,null,829,{"$f":"D830+Sheet2!B$20","v":2.5999200000000053},0.5155699212720517,874,874,2.7412200000000118,0.6863757969115185,0.3897615519471309,0,0,0.9999996829318346,2.7412200000000118,0,null,null,1.0311398425441034]
[null,null,830,{"$f":"D831+Sheet2!B$20","v":2.6030600000000055},0.5128768828557266,871,871,2.7318000000000113,0.8240491544981514,0.39841915770682573,0,0,0.9999996829318346,2.7318000000000113,0,null,null,2.0515075314229065]
[null,null,831,{"$f":"D832+Sheet2!B$20","v":2.6062000000000056},0.5101787876826422,936,936,2.9359000000000206,0.08139156393741873,0.2042452611234819,1,2.9359000000000206,0.08139156393741873,3.14,0,null,null,1.0203575753652845]
[null,null,832,{"$f":"D833+Sheet2!B$20","v":2.6093400000000058},0.5074756623549158,876,876,2.747500000000012,0.676167951112122,0.3839705529018861,0,0,0.9999996829318346,2.747500000000012,0,null,null,2.0299026494196633]
[null,null,833,{"$f":"D834+Sheet2!B$20","v":2.612480000000006},{"$f":"SIN(x)","v":0.5047675335242598},143,143,0.4458799999999987,{"$f":"fmin+(fmax-fmin)*ABS(RAND())","v":0.37105302874402896},0.43125201091065846,1,0.4458799999999987,0.37105302874402896,3.14,0,null,null,1.0095350670485197]
[null,null,834,{"$f":"D835+Sheet2!B$20","v":2.615620000000006},0.5020544278917194,17,17,0.05023999999999998,0.3100326011156804,0.05021886789147191,0,0,0.9999996829318346,0.05023999999999998,0,null,null,2.0082177115668776]
[null,null,835,{"$f":"D836+Sheet2!B$20","v":2.618760000000006},0.49933637220740884,{"$f":"INT(1000*ABS(RAND()))+1","v":58},{"$f":"IF(F837>0,F837,-F837)","v":58},0.1789800000000001,0.45327194298049245,0.17802595990201484,0,0,0.9999996829318346,0.1789800000000001,0,null,null,0.9986727444148177]
[null,null,836,{"$f":"D837+Sheet2!B$20","v":2.6219000000000063},0.496613393270248,541,541,1.6955999999999858,0.7432400099803969,0.9922221250982459,1,1.6955999999999858,0.7432400099803969,3.14,0,null,null,1.986453573080992]
[null,null,837,{"$f":"D838+Sheet2!B$20","v":2.6250400000000065},0.4938855179276979,422,422,1.3219399999999952,0.25198981282046434,0.9691947372649621,1,1.3219399999999952,0.25198981282046434,3.14,0,null,null,0.9877710358553958]
[null,null,838,{"$f":"D839+Sheet2!B$20","v":2.6281800000000066},0.49115277307549626,866,866,2.7161000000000106,0.47359386566633077,0.41276955819080563,0,0,0.9999996829318346,2.7161000000000106,0,null,null,1.964611092301985]
[null,null,839,{"$f":"D840+Sheet2!B$20","v":2.6313200000000068},0.48841518565739195,583,583,1.8274799999999825,0.47100867630982907,0.9672372255095226,1,1.8274799999999825,0.47100867630982907,3.14,0,null,null,{"$f":"2*E841","v":0.9768303713147839}]
[null,null,840,{"$f":"D841+Sheet2!B$20","v":2.634460000000007},0.48567278266487984,503,503,1.5762799999999888,0.7380401551550615,0.9999849647017667,1,1.5762799999999888,0.7380401551550615,3.14,0,null,null,{"$f":"4*E842","v":1.9426911306595194}]
[null,null,841,{"$f":"D842+Sheet2!B$20","v":2.637600000000007},0.4829255911369341,193,193,0.6028799999999993,0.6689573163742543,0.5670170949964103,0,0,0.9999996829318346,0.6028799999999993,0,null,null,0.9658511822738682]
[null,null,842,{"$f":"D843+Sheet2!B$20","v":2.640740000000007},0.48017363815974223,771,771,2.417799999999997,0.30765380943547277,0.6622312614713978,1,2.417799999999997,0.30765380943547277,3.14,0,null,null,1.920694552638969]
[null,null,843,{"$f":"D844+Sheet2!B$20","v":2.6438800000000073},0.47741695086643743,424,424,1.328219999999995,0.07746340697398531,0.9707223522772349,1,1.328219999999995,0.07746340697398531,3.14,0,null,null,0.9548339017328749]
[null,null,844,{"$f":"D845+Sheet2!B$20","v":2.6470200000000075},0.4746555564368314,346,346,1.0833000000000013,0.6167078092439359,0.8835083854078013,1,1.0833000000000013,0.6167078092439359,3.14,0,null,null,1.8986222257473255]
[null,null,845,{"$f":"D846+Sheet2!B$20","v":2.6501600000000076},0.47188948209714626,707,707,2.216839999999988,0.31478300856276376,0.7984718771444679,1,2.216839999999988,0.31478300856276376,3.14,0,null,null,0.9437789641942925]
[null,null,846,{"$f":"D847+Sheet2!B$20","v":2.6533000000000078},0.4691187551197462,91,91,0.28259999999999996,0.5269159555159528,0.27885345580690496,0,0,0.9999996829318346,0.28259999999999996,0,null,null,1.8764750204789848]
[null,null,847,{"$f":"D848+Sheet2!B$20","v":2.656440000000008},0.4663434028228685,66,66,0.20410000000000014,0.21381483854429204,0.20268592269297228,0,0,0.9999996829318346,0.20410000000000014,0,null,null,0.932686805645737]
[null,null,848,{"$f":"D849+Sheet2!B$20","v":2.659580000000008},0.46356345257035414,424,424,1.328219999999995,0.9327417593783376,0.9707223522772349,1,1.328219999999995,0.9327417593783376,3.14,0,null,null,1.8542538102814166]
[null,null,849,{"$f":"D850+Sheet2!B$20","v":2.662720000000008},0.4607789317713782,408,408,1.2779799999999963,0.12718184389313453,0.9574347414163443,1,1.2779799999999963,0.12718184389313453,3.14,0,null,null,0.9215578635427564]
[null,null,850,{"$f":"D851+Sheet2!B$20","v":2.6658600000000083},0.45798986788017926,610,610,1.9122599999999803,0.2796653299307334,0.9422655397316416,1,1.9122599999999803,0.2796653299307334,3.14,0,null,null,1.831959471520717]
[null,null,851,{"$f":"D852+Sheet2!B$20","v":2.6690000000000085},0.45519628839578913,686,686,2.150899999999985,0.28000675932240354,0.8364058300220902,1,2.150899999999985,0.28000675932240354,3.14,0,null,null,0.9103925767915783]
[null,null,852,{"$f":"D853+Sheet2!B$20","v":2.6721400000000086},0.4523982208617615,738,738,2.3141799999999924,0.659459400002188,0.7361827656947413,1,2.3141799999999924,0.659459400002188,3.14,0,null,null,1.809592883447046]
[null,null,853,{"$f":"D854+Sheet2!B$20","v":2.6752800000000088},0.4495956928659003,121,121,0.37679999999999925,0.7042495810951653,0.36794684853969883,0,0,0.9999996829318346,0.37679999999999925,0,null,null,0.8991913857318006]
[null,null,854,{"$f":"D855+Sheet2!B$20","v":2.678420000000009},0.4467887320399879,825,825,2.5873600000000048,0.7146262487178772,0.5262909770779202,0,0,0.9999996829318346,2.5873600000000048,0,null,null,1.7871549281599517]
[null,null,855,{"$f":"D856+Sheet2!B$20","v":2.681560000000009},0.4439773660595125,543,543,1.7018799999999856,0.848503211829789,0.9914208304763462,1,1.7018799999999856,0.848503211829789,3.14,0,null,null,0.887954732119025]
[null,null,856,{"$f":"D857+Sheet2!B$20","v":2.684700000000009},0.4411616226433953,540,540,1.6924599999999859,0.9869105947091863,0.992608100002361,1,1.6924599999999859,0.9869105947091863,3.14,0,null,null,1.7646464905735813]
[null,null,857,{"$f":"D858+Sheet2!B$20","v":2.6878400000000093},0.4383415295537174,161,161,0.5023999999999983,0.34510374202335076,0.48153035398590033,1,0.5023999999999983,0.34510374202335076,3.14,0,null,null,0.8766830591074348]
[null,null,858,{"$f":"D859+Sheet2!B$20","v":2.6909800000000095},0.4355171145954457,786,786,2.464899999999999,0.8709441909113727,0.6262178873311012,0,0,0.9999996829318346,2.464899999999999,0,null,null,1.7420684583817827]
[null,null,859,{"$f":"D860+Sheet2!B$20","v":2.6941200000000096},0.432688405616159,202,202,0.6311399999999996,0.11326043580578322,0.5900655262760014,1,0.6311399999999996,0.11326043580578322,3.14,0,null,null,0.865376811232318]
[null,null,860,{"$f":"D861+Sheet2!B$20","v":2.6972600000000098},0.4298554305057735,9,9,0.02512,0.6979809589065866,0.025117358236396256,0,0,0.9999996829318346,0.02512,0,null,null,1.719421722023094]
[null,null,861,{"$f":"D862+Sheet2!B$20","v":2.70040000000001},0.42701821719626765,803,803,2.5182800000000016,0.0849460666995958,0.583728064955164,1,2.5182800000000016,0.0849460666995958,3.14,0,null,null,0.8540364343925353]
[null,null,862,{"$f":"D863+Sheet2!B$20","v":2.70354000000001},0.42417679366140676,755,755,2.367559999999995,0.9187082880011037,0.6990246554489108,0,0,0.9999996829318346,2.367559999999995,0,null,null,1.696707174645627]
[null,null,863,{"$f":"D864+Sheet2!B$20","v":2.70668000000001},0.42133118791646734,271,271,0.8478000000000018,0.9654962912566998,0.7498266252927496,0,0,0.9999996829318346,0.8478000000000018,0,null,null,0.8426623758329347]
[null,null,864,{"$f":"D865+Sheet2!B$20","v":2.7098200000000103},0.41848142801796073,207,207,0.6468399999999997,0.30079652244819916,0.6026677635471206,1,0.6468399999999997,0.30079652244819916,3.14,0,null,null,1.673925712071843]
[null,null,865,{"$f":"D866+Sheet2!B$20","v":2.7129600000000105},0.41562754206335656,409,409,1.2811199999999963,0.9228731037747225,0.9583363803893912,1,1.2811199999999963,0.9228731037747225,3.14,0,null,null,0.8312550841267131]
[null,null,866,{"$f":"D867+Sheet2!B$20","v":2.7161000000000106},0.41276955819080563,528,528,1.6547799999999868,0.5466757430477143,0.9964754436818505,1,1.6547799999999868,0.5466757430477143,3.14,0,null,null,1.6510782327632225]
[null,null,867,{"$f":"D868+Sheet2!B$20","v":2.7192400000000108},0.4099075045788626,638,638,2.000179999999978,0.9157648806720026,0.9092225056648986,0,0,0.9999996829318346,2.000179999999978,0,null,null,0.8198150091577252]
[null,null,868,{"$f":"D869+Sheet2!B$20","v":2.722380000000011},0.4070414094462081,151,151,0.47099999999999853,0.887703171345846,0.4537776270755438,0,0,0.9999996829318346,0.47099999999999853,0,null,null,1.6281656377848324]
[null,null,869,{"$f":"D870+Sheet2!B$20","v":2.725520000000011},0.40417130105137045,462,462,1.447539999999992,0.439414166530579,0.9924135507744763,1,1.447539999999992,0.439414166530579,3.14,0,null,null,0.8083426021027409]
[null,null,870,{"$f":"D871+Sheet2!B$20","v":2.728660000000011},0.4012972076924471,780,780,2.4460599999999983,0.1744163286018341,0.6407944552281892,1,2.4460599999999983,0.1744163286018341,3.14,0,null,null,1.6051888307697884]
[null,null,871,{"$f":"D872+Sheet2!B$20","v":2.7318000000000113},0.39841915770682573,164,164,0.5118199999999984,0.6634912686155934,0.48976483249098846,0,0,0.9999996829318346,0.5118199999999984,0,null,null,0.7968383154136515]
[null,null,872,{"$f":"D873+Sheet2!B$20","v":2.7349400000000115},0.39553717947090455,922,922,2.8919400000000186,0.8900283550868542,0.24706739608520098,0,0,0.9999996829318346,2.8919400000000186,0,null,null,1.5821487178836182]
[null,null,873,{"$f":"D874+Sheet2!B$20","v":2.7380800000000116},0.39265130139981297,270,270,0.8446600000000017,0.29397744403451015,0.7477454003105735,1,0.8446600000000017,0.29397744403451015,3.14,0,null,null,0.7853026027996259]
[null,null,874,{"$f":"D875+Sheet2!B$20","v":2.7412200000000118},0.3897615519471309,936,936,2.9359000000000206,0.02016231672901338,0.2042452611234819,1,2.9359000000000206,0.02016231672901338,3.14,0,null,null,1.5590462077885237]
[null,null,875,{"$f":"D876+Sheet2!B$20","v":2.744360000000012},0.38686795960460874,547,547,1.7144399999999853,0.9193835289551868,0.9897009746079225,1,1.7144399999999853,0.9193835289551868,3.14,0,null,null,0.7737359192092175]
[null,null,876,{"$f":"D877+Sheet2!B$20","v":2.747500000000012},0.3839705529018861,677,677,2.1226399999999837,0.7140994920116297,0.8515594092460148,1,2.1226399999999837,0.7140994920116297,3.14,0,null,null,1.5358822116075443]
[null,null,877,{"$f":"D878+Sheet2!B$20","v":2.750640000000012},0.38106936040621053,141,141,0.43959999999999877,0.1989260671468428,0.42557753033520446,1,0.43959999999999877,0.1989260671468428,3.14,0,null,null,0.7621387208124211]
[null,null,878,{"$f":"D879+Sheet2!B$20","v":2.7537800000000123},0.3781644107221562,206,206,0.6436999999999997,0.21053668819104415,0.6001591010970097,1,0.6436999999999997,0.21053668819104415,3.14,0,null,null,1.5126576428886247]
[null,null,879,{"$f":"D880+Sheet2!B$20","v":2.7569200000000125},0.37525573249134136,747,747,2.3424399999999936,0.08466627866554595,0.7167654815116754,1,2.3424399999999936,0.08466627866554595,3.14,0,null,null,0.7505114649826827]
[null,null,880,{"$f":"D881+Sheet2!B$20","v":2.7600600000000126},0.3723433543921464,718,718,2.2513799999999895,0.5595643336915832,0.7772055766825375,1,2.2513799999999895,0.5595643336915832,3.14,0,null,null,1.4893734175685855]
[null,null,881,{"$f":"D882+Sheet2!B$20","v":2.7632000000000128},0.36942730513943084,932,932,2.92334000000002,0.2680290784489834,0.2165240598923895,0,0,0.9999996829318346,2.92334000000002,0,null,null,0.7388546102788617]
[null,null,882,{"$f":"D883+Sheet2!B$20","v":2.766340000000013},0.3665076134842502,432,432,1.3533399999999944,0.9567020694519385,0.9764493964168428,1,1.3533399999999944,0.9567020694519385,3.14,0,null,null,1.4660304539370008]
[null,null,883,{"$f":"D884+Sheet2!B$20","v":2.769480000000013},0.36358430821357274,57,57,0.1758400000000001,0.32861405566691754,0.17493524636365365,0,0,0.9999996829318346,0.1758400000000001,0,null,null,0.7271686164271455]
[null,null,884,{"$f":"D885+Sheet2!B$20","v":2.772620000000013},0.3606574181499954,94,94,0.2920199999999999,0.7022483604645391,0.28788729301746724,0,0,0.9999996829318346,0.2920199999999999,0,null,null,1.4426296725999816]
[null,null,885,{"$f":"D886+Sheet2!B$20","v":2.7757600000000133},0.35772697215145977,576,576,1.805499999999983,0.7097662641824498,0.9725832962492158,{"$f":"IF(OR(C887>n,I887>J887),0,1)","v":1},1.805499999999983,0.7097662641824498,3.14,0,null,null,0.7154539443029195]
[null,null,886,{"$f":"D887+Sheet2!B$20","v":2.7789000000000135},0.35479299911096746,337,337,{"$f":"LOOKUP(G888,C$3:C$1003,D$3:D$1003)","v":1.055040000000002},0.902837410913462,{"$f":"LOOKUP(H888,D$3:D$1003,E$3:E$1003)","v":0.8699199561129781},0,0,{"$f":"IF($C888>n,fmin,(IF($K888=1,I888,fmax)))","v":0.9999996829318346},{"$f":"IF($C888>n,xMin,(IF($K888=0,$H888,xMax)))","v":1.055040000000002},{"$f":"IF($C888>n,fmin,(IF($K888=0,K888,fmin)))","v":0},null,null,1.4191719964438698]
[null,null,887,{"$f":"D888+Sheet2!B$20","v":2.7820400000000136},0.35185552795629527,413,413,1.293679999999996,0.8900017812835564,0.9618483607254693,1,{"$f":"IF($C889>n,L888,(IF($K889=1,$H889,xMin)))","v":1.293679999999996},0.8900017812835564,3.14,0,null,null,0.7037110559125905]
[null,null,888,{"$f":"D889+Sheet2!B$20","v":2.7851800000000138},0.34891458764970995,133,133,0.41447999999999896,0.9258624796674989,0.40271401540913654,0,0,0.9999996829318346,0.41447999999999896,0,null,null,1.3956583505988398]
[null,null,889,{"$f":"D890+Sheet2!B$20","v":2.788320000000014},0.34597020718768284,751,751,2.354999999999994,0.4254525691672428,0.7079509086484362,1,2.354999999999994,0.4254525691672428,3.14,0,null,null,0.6919404143753657]
[null,null,890,{"$f":"D891+Sheet2!B$20","v":2.791460000000014},0.34302241560060365,468,468,1.4663799999999916,0.6107848746542928,0.9945535664820925,1,1.4663799999999916,0.6107848746542928,3.14,0,null,null,1.3720896624024146]
[null,null,891,{"$f":"D892+Sheet2!B$20","v":2.794600000000014},0.34007124195249444,362,362,1.13354,0.5968111647780232,0.9059168950843516,1,1.13354,0.5968111647780232,3.14,0,null,null,0.6801424839049889]
[null,null,892,{"$f":"D893+Sheet2!B$20","v":2.7977400000000143},0.33711671534072296,33,33,0.10048000000000001,0.8051081405709094,0.10031100712701232,0,0,0.9999996829318346,0.10048000000000001,0,null,null,1.3484668613628918]
[null,null,893,{"$f":"D894+Sheet2!B$20","v":2.8008800000000145},0.33415886489571583,150,150,0.46785999999999855,0.397552340747578,0.45097729367998746,1,0.46785999999999855,0.397552340747578,3.14,0,null,null,0.6683177297914317]
[null,null,894,{"$f":"D895+Sheet2!B$20","v":2.8040200000000146},0.3311977197806714,786,786,2.464899999999999,0.342770561036376,0.6262178873311012,1,2.464899999999999,0.342770561036376,3.14,0,null,null,1.3247908791226857]
[null,null,895,{"$f":"D896+Sheet2!B$20","v":2.8071600000000148},0.32823330919127214,57,57,0.1758400000000001,0.050416118282712044,0.17493524636365365,1,0.1758400000000001,0.050416118282712044,3.14,0,null,null,0.6564666183825443]
[null,null,896,{"$f":"D897+Sheet2!B$20","v":2.810300000000015},0.3252656623553965,839,839,2.6313200000000068,0.03383664843026486,0.48841518565739195,1,2.6313200000000068,0.03383664843026486,3.14,0,null,null,1.301062649421586]
[null,null,897,{"$f":"D898+Sheet2!B$20","v":2.813440000000015},{"$f":"SIN(x)","v":0.32229480853283127},141,141,0.43959999999999877,{"$f":"fmin+(fmax-fmin)*ABS(RAND())","v":0.676326877387482},0.42557753033520446,0,0,0.9999996829318346,0.43959999999999877,0,null,null,0.6445896170656625]
[null,null,898,{"$f":"D899+Sheet2!B$20","v":2.816580000000015},0.31932077701498274,844,844,2.6470200000000075,0.7703154697497273,0.4746555564368314,0,0,0.9999996829318346,2.6470200000000075,0,null,null,1.277283108059931]
[null,null,899,{"$f":"D900+Sheet2!B$20","v":2.8197200000000153},0.316343597124588,{"$f":"INT(1000*ABS(RAND()))+1","v":616},{"$f":"IF(F901>0,F901,-F901)","v":616},1.9310999999999798,0.8041016368937414,0.9357898042810994,1,1.9310999999999798,0.8041016368937414,3.14,0,null,null,0.632687194249176]
[null,null,900,{"$f":"D901+Sheet2!B$20","v":2.8228600000000155},0.3133632982154257,532,532,1.6673399999999865,0.36862267981364066,0.9953432782530581,1,1.6673399999999865,0.36862267981364066,3.14,0,null,null,1.2534531928617028]
[null,null,901,{"$f":"D902+Sheet2!B$20","v":2.8260000000000156},0.3103799096720269,531,531,1.6641999999999866,0.22767225818706935,0.9956410473467534,1,1.6641999999999866,0.22767225818706935,3.14,0,null,null,0.6207598193440538]
[null,null,902,{"$f":"D903+Sheet2!B$20","v":2.8291400000000158},0.307393460909385,363,363,1.13668,0.40414152929512476,0.9072420772533505,1,1.13668,0.40414152929512476,3.14,0,null,null,1.22957384363754]
[null,null,903,{"$f":"D904+Sheet2!B$20","v":2.832280000000016},0.30440398137266617,82,82,0.2543400000000002,0.008567025627176572,0.25160669596654234,1,0.2543400000000002,0.008567025627176572,3.14,0,null,null,{"$f":"2*E905","v":0.6088079627453323}]
[null,null,904,{"$f":"D905+Sheet2!B$20","v":2.835420000000016},0.30141150053691856,85,85,0.2637600000000001,0.21752838596438345,0.2607123523992902,1,0.2637600000000001,0.21752838596438345,3.14,0,null,null,{"$f":"4*E906","v":1.2056460021476743}]
[null,null,905,{"$f":"D906+Sheet2!B$20","v":2.838560000000016},0.29841604790678194,506,506,1.5856999999999886,0.13888901680965224,0.9998889423181936,1,1.5856999999999886,0.13888901680965224,3.14,0,null,null,0.5968320958135639]
[null,null,906,{"$f":"D907+Sheet2!B$20","v":2.8417000000000163},0.2954176530161969,223,223,0.6970800000000003,0.15044958454356178,0.6419816047976502,1,0.6970800000000003,0.15044958454356178,3.14,0,null,null,1.1816706120647875]
[null,null,907,{"$f":"D908+Sheet2!B$20","v":2.8448400000000165},0.29241634542811334,568,568,1.7803799999999836,0.4646378556563458,0.9781176174035419,1,1.7803799999999836,0.4646378556563458,3.14,0,null,null,0.5848326908562267]
[null,null,908,{"$f":"D909+Sheet2!B$20","v":2.8479800000000166},0.28941215473419923,459,459,1.4381199999999923,0.5831373375048178,0.9912113996590179,1,1.4381199999999923,0.5831373375048178,3.14,0,null,null,1.157648618936797]
[null,null,909,{"$f":"D910+Sheet2!B$20","v":2.8511200000000168},0.2864051105545488,174,174,0.5432199999999987,0.4302334194666646,0.5168951434529886,1,0.5432199999999987,0.4302334194666646,3.14,0,null,null,0.5728102211090976]
[null,null,910,{"$f":"D911+Sheet2!B$20","v":2.854260000000017},0.28339524253739057,659,659,2.066119999999981,0.08381477770127763,0.8798149087271336,1,2.066119999999981,0.08381477770127763,3.14,0,null,null,1.1335809701495623]
[null,null,911,{"$f":"D912+Sheet2!B$20","v":2.857400000000017},0.28038258035879476,976,976,3.0615000000000263,0.8426912473823169,0.08000705088239393,0,0,0.9999996829318346,3.0615000000000263,0,null,null,0.5607651607175895]
[null,null,912,{"$f":"D913+Sheet2!B$20","v":2.860540000000017},0.277367153722381,293,293,0.9168800000000025,0.21780682488595013,0.7937075918651685,1,0.9168800000000025,0.21780682488595013,3.14,0,null,null,1.109468614889524]
[null,null,913,{"$f":"D914+Sheet2!B$20","v":2.8636800000000173},0.2743489923590254,885,885,2.7757600000000133,0.11998288661394754,0.35772697215145977,1,2.7757600000000133,0.11998288661394754,3.14,0,null,null,0.5486979847180508]
[null,null,914,{"$f":"D915+Sheet2!B$20","v":2.8668200000000175},0.27132812602656714,803,803,2.5182800000000016,0.8769274029293305,0.583728064955164,0,0,0.9999996829318346,2.5182800000000016,0,null,null,1.0853125041062686]
[null,null,915,{"$f":"D916+Sheet2!B$20","v":2.8699600000000176},0.2683045845095156,719,719,2.2545199999999896,0.3927107522984749,0.7752259136215806,1,2.2545199999999896,0.3927107522984749,3.14,0,null,null,0.5366091690190312]
[null,null,916,{"$f":"D917+Sheet2!B$20","v":2.8731000000000178},0.2652783976187561,40,40,0.12246000000000004,0.5269002895500116,0.1221541518447934,0,0,0.9999996829318346,0.12246000000000004,0,null,null,1.0611135904750244]
[null,null,917,{"$f":"D918+Sheet2!B$20","v":2.876240000000018},0.2622495951912565,373,373,1.1680799999999991,0.3156026065960596,0.9199998098355247,1,1.1680799999999991,0.3156026065960596,3.14,0,null,null,0.524499190382513]
[null,null,918,{"$f":"D919+Sheet2!B$20","v":2.879380000000018},0.2592182070897726,106,106,0.3296999999999996,0.20086406864644216,0.3237592011141305,1,0.3296999999999996,0.20086406864644216,3.14,0,null,null,1.0368728283590904]
[null,null,919,{"$f":"D920+Sheet2!B$20","v":2.882520000000018},0.25618426320255405,886,886,2.7789000000000135,0.02663282194676413,0.35479299911096746,1,2.7789000000000135,0.02663282194676413,3.14,0,null,null,0.5123685264051081]
[null,null,920,{"$f":"D921+Sheet2!B$20","v":2.8856600000000183},0.25314779344304933,82,82,0.2543400000000002,0.9061869823529971,0.25160669596654234,0,0,0.9999996829318346,0.2543400000000002,0,null,null,1.0125911737721973]
[null,null,921,{"$f":"D922+Sheet2!B$20","v":2.8888000000000185},0.25010882774961113,558,558,1.7489799999999844,0.43548116885082977,0.9841672459497309,1,1.7489799999999844,0.43548116885082977,3.14,0,null,null,0.5002176554992223]
[null,null,922,{"$f":"D923+Sheet2!B$20","v":2.8919400000000186},0.24706739608520098,916,916,2.8731000000000178,0.7140361981876611,0.2652783976187561,0,0,0.9999996829318346,2.8731000000000178,0,null,null,0.9882695843408039]
[null,null,923,{"$f":"D924+Sheet2!B$20","v":2.8950800000000187},0.24402352843709385,241,241,0.7536000000000008,0.26851596416218676,0.6842684172472769,1,0.7536000000000008,0.26851596416218676,3.14,0,null,null,0.4880470568741877]
[null,null,924,{"$f":"D925+Sheet2!B$20","v":2.898220000000019},0.2409772548165826,487,487,1.52603999999999,0.5679104864238761,0.9989986027832901,1,1.52603999999999,0.5679104864238761,3.14,0,null,null,0.9639090192663304]
[null,null,925,{"$f":"D926+Sheet2!B$20","v":2.901360000000019},0.2379286052586819,951,951,2.9830000000000227,0.27796342001110963,0.15792867852484416,0,0,0.9999996829318346,2.9830000000000227,0,null,null,0.4758572105173638]
[null,null,926,{"$f":"D927+Sheet2!B$20","v":2.904500000000019},0.23487760982183223,895,895,2.8071600000000148,0.20703754501203778,0.32823330919127214,1,2.8071600000000148,0.20703754501203778,3.14,0,null,null,0.9395104392873289]
[null,null,927,{"$f":"D928+Sheet2!B$20","v":2.9076400000000193},0.2318242985876035,346,346,1.0833000000000013,0.911236723570113,0.8835083854078013,0,0,0.9999996829318346,1.0833000000000013,0,null,null,0.463648597175207]
[null,null,928,{"$f":"D929+Sheet2!B$20","v":2.9107800000000195},0.22876870166039845,930,930,2.9170600000000197,0.22677750917514317,0.22265077125705304,0,0,0.9999996829318346,2.9170600000000197,0,null,null,0.9150748066415938]
[null,null,929,{"$f":"D930+Sheet2!B$20","v":2.9139200000000196},0.22571084916715572,535,535,1.6767599999999863,0.12220405444314238,0.9943911011281259,1,1.6767599999999863,0.12220405444314238,3.14,0,null,null,0.45142169833431145]
[null,null,930,{"$f":"D931+Sheet2!B$20","v":2.9170600000000197},0.22265077125705304,781,781,2.4491999999999985,0.11439461500296351,0.6383806829873225,1,2.4491999999999985,0.11439461500296351,3.14,0,null,null,0.8906030850282122]
[null,null,931,{"$f":"D932+Sheet2!B$20","v":2.92020000000002},0.21958849810120976,594,594,1.8620199999999816,0.3932869582246513,0.9578932460985717,1,1.8620199999999816,0.3932869582246513,3.14,0,null,null,0.4391769962024195]
[null,null,932,{"$f":"D933+Sheet2!B$20","v":2.92334000000002},0.2165240598923895,383,383,1.1994799999999983,0.6804070913460718,0.931850533931708,1,1.1994799999999983,0.6804070913460718,3.14,0,null,null,0.866096239569558]
[null,null,933,{"$f":"D934+Sheet2!B$20","v":2.92648000000002},0.21345748684470234,446,446,1.3972999999999933,0.14799172058987065,0.9849872272981217,1,1.3972999999999933,0.14799172058987065,3.14,0,null,null,0.4269149736894047]
[null,null,934,{"$f":"D935+Sheet2!B$20","v":2.9296200000000203},0.2103888091933071,272,272,0.8509400000000018,0.037533795844009205,0.7519004572904053,1,0.8509400000000018,0.037533795844009205,3.14,0,null,null,0.8415552367732284]
[null,null,935,{"$f":"D936+Sheet2!B$20","v":2.9327600000000205},0.20731805719411311,327,327,1.0236400000000028,0.6706308098922606,0.8540074247660693,1,1.0236400000000028,0.6706308098922606,3.14,0,null,null,0.41463611438822623]
[null,null,936,{"$f":"D937+Sheet2!B$20","v":2.9359000000000206},0.2042452611234819,179,179,0.5589199999999989,0.5377584785473281,0.5302708527911103,0,0,0.9999996829318346,0.5589199999999989,0,null,null,0.8169810444939276]
[null,null,937,{"$f":"D938+Sheet2!B$20","v":2.9390400000000207},0.20117045127792868,527,527,1.651639999999987,0.6870012236177796,0.9967339296706533,1,1.651639999999987,0.6870012236177796,3.14,0,null,null,0.40234090255585736]
[null,null,938,{"$f":"D939+Sheet2!B$20","v":2.942180000000021},0.19809365797382372,568,568,1.7803799999999836,0.7580861786011126,0.9781176174035419,1,1.7803799999999836,0.7580861786011126,3.14,0,null,null,0.7923746318952949]
[null,null,939,{"$f":"D940+Sheet2!B$20","v":2.945320000000021},0.19501491154709336,447,447,1.4004399999999932,0.5296537516581054,0.9855244201373897,1,1.4004399999999932,0.5296537516581054,3.14,0,null,null,0.3900298230941867]
[null,null,940,{"$f":"D941+Sheet2!B$20","v":2.948460000000021},0.19193424235292092,788,788,2.4711799999999995,0.3501698523938266,0.6213093809798909,1,2.4711799999999995,0.3501698523938266,3.14,0,null,null,0.7677369694116837]
[null,null,941,{"$f":"D942+Sheet2!B$20","v":2.9516000000000213},0.18885168076544742,37,37,0.11304000000000003,0.4441780297737513,0.11279941545767286,0,0,0.9999996829318346,0.11304000000000003,0,null,null,0.37770336153089484]
[null,null,942,{"$f":"D943+Sheet2!B$20","v":2.9547400000000215},0.18576725717747214,305,305,0.9545600000000029,0.39346483406887695,0.8160595135812573,1,0.9545600000000029,0.39346483406887695,3.14,0,null,null,0.7430690287098886]
[null,null,943,{"$f":"D944+Sheet2!B$20","v":2.9578800000000216},0.1826810020001529,913,913,2.8636800000000173,0.23230118482815432,0.2743489923590254,1,2.8636800000000173,0.23230118482815432,3.14,0,null,null,0.3653620040003058]
[null,null,944,{"$f":"D945+Sheet2!B$20","v":2.9610200000000217},0.1795929456627062,199,199,0.6217199999999995,0.09084769820056503,0.5824341713255371,1,0.6217199999999995,0.09084769820056503,3.14,0,null,null,0.7183717826508248]
[null,null,945,{"$f":"D946+Sheet2!B$20","v":2.964160000000022},0.17650311861210735,580,580,1.8180599999999827,0.8224481072889455,0.9695857715926872,1,1.8180599999999827,0.8224481072889455,3.14,0,null,null,0.3530062372242147]
[null,null,946,{"$f":"D947+Sheet2!B$20","v":2.967300000000022},0.17341155131279007,800,800,2.508860000000001,0.0940548632027309,0.591350614778305,1,2.508860000000001,0.0940548632027309,3.14,0,null,null,0.6936462052511603]
[null,null,947,{"$f":"D948+Sheet2!B$20","v":2.970440000000022},0.17031827424634627,206,206,0.6436999999999997,0.18273167043782765,0.6001591010970097,1,0.6436999999999997,0.18273167043782765,3.14,0,null,null,0.34063654849269254]
[null,null,948,{"$f":"D949+Sheet2!B$20","v":2.9735800000000223},0.16722331791122544,941,941,2.9516000000000213,0.1894165391620862,0.18885168076544742,0,0,0.9999996829318346,2.9516000000000213,0,null,null,0.6688932716449018]
[null,null,949,{"$f":"D950+Sheet2!B$20","v":2.9767200000000225},0.16412671282243402,245,245,0.766160000000001,0.8857323577591125,0.693373335971521,{"$f":"IF(OR(C951>n,I951>J951),0,1)","v":0},0,0.9999996829318346,0.766160000000001,0,null,null,0.32825342564486804]
[null,null,950,{"$f":"D951+Sheet2!B$20","v":2.9798600000000226},0.16102848951123444,358,358,{"$f":"LOOKUP(G952,C$3:C$1003,D$3:D$1003)","v":1.1209800000000003},0.24787751200840868,{"$f":"LOOKUP(H952,D$3:D$1003,E$3:E$1003)","v":0.9005269786773151},1,1.1209800000000003,{"$f":"IF($C952>n,fmin,(IF($K952=1,I952,fmax)))","v":0.24787751200840868},{"$f":"IF($C952>n,xMin,(IF($K952=0,$H952,xMax)))","v":3.14},{"$f":"IF($C952>n,fmin,(IF($K952=0,K952,fmin)))","v":0},null,null,0.6441139580449378]
[null,null,951,{"$f":"D952+Sheet2!B$20","v":2.9830000000000227},0.15792867852484416,588,588,1.843179999999982,0.7103377311560009,0.9631323583667505,1,{"$f":"IF($C953>n,L952,(IF($K953=1,$H953,xMin)))","v":1.843179999999982},0.7103377311560009,3.14,0,null,null,0.3158573570496883]
[null,null,952,{"$f":"D953+Sheet2!B$20","v":2.986140000000023},0.15482731042613446,475,475,1.488359999999991,0.4871161534415923,0.9966040498343817,1,1.488359999999991,0.4871161534415923,3.14,0,null,null,0.6193092417045378]
[null,null,953,{"$f":"D954+Sheet2!B$20","v":2.989280000000023},0.15172441579332915,116,116,0.36109999999999937,0.5576171223383106,0.35330350644763237,0,0,0.9999996829318346,0.36109999999999937,0,null,null,0.3034488315866583]
[null,null,954,{"$f":"D955+Sheet2!B$20","v":2.992420000000023},0.148620025219703,639,639,2.0033199999999782,0.5994741604682028,0.9079108105510824,1,2.0033199999999782,0.5994741604682028,3.14,0,null,null,0.594480100878812]
[null,null,955,{"$f":"D956+Sheet2!B$20","v":2.9955600000000233},0.14551416931328015,109,109,0.33911999999999953,0.4614773819084059,0.33265733901603206,0,0,0.9999996829318346,0.33911999999999953,0,null,null,0.2910283386265603]
[null,null,956,{"$f":"D957+Sheet2!B$20","v":2.9987000000000235},0.14240687869653235,357,357,1.1178400000000004,0.1689450410840607,0.8991572690708314,1,1.1178400000000004,0.1689450410840607,3.14,0,null,null,0.5696275147861294]
[null,null,957,{"$f":"D958+Sheet2!B$20","v":3.0018400000000236},0.139298184006077,923,923,2.8950800000000187,0.5984906784668351,0.24402352843709385,0,0,0.9999996829318346,2.8950800000000187,0,null,null,0.278596368012154]
[null,null,958,{"$f":"D959+Sheet2!B$20","v":3.0049800000000237},0.13618811589237503,232,232,0.7253400000000005,0.9556580873971887,0.6633898941326872,0,0,0.9999996829318346,0.7253400000000005,0,null,null,0.5447524635695001]
[null,null,959,{"$f":"D960+Sheet2!B$20","v":3.008120000000024},0.13307670501942892,6,6,0.0157,0.8230535318686142,0.015699355025782367,0,0,0.9999996829318346,0.0157,0,null,null,0.26615341003885784]
[null,null,960,{"$f":"D961+Sheet2!B$20","v":3.011260000000024},0.12996398206448,853,853,2.6752800000000088,0.8029966399632266,0.4495956928659003,0,0,0.9999996829318346,2.6752800000000088,0,null,null,0.51985592825792]
[null,null,961,{"$f":"D962+Sheet2!B$20","v":3.014400000000024},{"$f":"SIN(x)","v":0.1268499777177064},856,856,2.684700000000009,{"$f":"fmin+(fmax-fmin)*ABS(RAND())","v":0.20397252083070735},0.4411616226433953,1,2.684700000000009,0.20397252083070735,3.14,0,null,null,0.2536999554354128]
[null,null,962,{"$f":"D963+Sheet2!B$20","v":3.0175400000000243},0.12373472268192008,457,457,1.4318399999999925,0.9964605360334666,0.9903610942977085,0,0,0.9999996829318346,1.4318399999999925,0,null,null,0.4949388907276803]
[null,null,963,{"$f":"D964+Sheet2!B$20","v":3.0206800000000245},0.12061824767226438,{"$f":"INT(1000*ABS(RAND()))+1","v":937},{"$f":"IF(F965>0,F965,-F965)","v":937},2.9390400000000207,0.29703763021435164,0.20117045127792868,0,0,0.9999996829318346,2.9390400000000207,0,null,null,0.24123649534452876]
[null,null,964,{"$f":"D965+Sheet2!B$20","v":3.0238200000000246},0.11750058341591105,149,149,0.4647199999999986,0.6467953835525434,0.4481725138323598,0,0,0.9999996829318346,0.4647199999999986,0,null,null,0.4700023336636442]
[null,null,965,{"$f":"D966+Sheet2!B$20","v":3.0269600000000247},0.11438176065175736,870,870,2.728660000000011,0.628144439299935,0.4012972076924471,0,0,0.9999996829318346,2.728660000000011,0,null,null,0.2287635213035147]
[null,null,966,{"$f":"D967+Sheet2!B$20","v":3.030100000000025},0.11126181013012293,268,268,0.8383800000000017,0.9158979924104704,0.7435608535454653,0,0,0.9999996829318346,0.8383800000000017,0,null,null,0.4450472405204917]
[null,null,967,{"$f":"D968+Sheet2!B$20","v":3.033240000000025},0.10814076261244668,78,78,0.2417800000000002,0.668023381039508,0.2394312305409526,0,0,0.9999996829318346,0.2417800000000002,0,null,null,{"$f":"2*E969","v":0.21628152522489336}]
[null,null,968,{"$f":"D969+Sheet2!B$20","v":3.036380000000025},0.10501864887098342,280,280,0.8760600000000021,0.21846142174541955,0.7682225275725427,1,0.8760600000000021,0.21846142174541955,3.14,0,null,null,{"$f":"4*E970","v":0.42007459548393367}]
[null,null,969,{"$f":"D970+Sheet2!B$20","v":3.0395200000000253},0.1018954996885005,765,765,2.398959999999996,0.1450357592013091,0.6762297045866169,1,2.398959999999996,0.1450357592013091,3.14,0,null,null,0.203790999377001]
[null,null,970,{"$f":"D971+Sheet2!B$20","v":3.0426600000000255},0.0987713458579743,220,220,0.6876600000000002,0.6359265712463442,0.6347307254831556,0,0,0.9999996829318346,0.6876600000000002,0,null,null,0.3950853834318972]
[null,null,971,{"$f":"D972+Sheet2!B$20","v":3.0458000000000256},0.09564621818228664,918,918,2.879380000000018,0.5417950046674981,0.2592182070897726,0,0,0.9999996829318346,2.879380000000018,0,null,null,0.19129243636457327]
[null,null,972,{"$f":"D973+Sheet2!B$20","v":3.0489400000000257},0.092520147473921,221,221,0.6908000000000002,0.5042991766065904,0.6371539752762654,1,0.6908000000000002,0.5042991766065904,3.14,0,null,null,0.370080589895684]
[null,null,973,{"$f":"D974+Sheet2!B$20","v":3.052080000000026},0.08939316455465884,893,893,2.8008800000000145,0.8484484482636612,0.33415886489571583,0,0,0.9999996829318346,2.8008800000000145,0,null,null,0.1787863291093177]
[null,null,974,{"$f":"D975+Sheet2!B$20","v":3.055220000000026},0.08626530025527561,477,477,1.4946399999999909,0.7059843625347472,0.9971015082369118,1,1.4946399999999909,0.7059843625347472,3.14,0,null,null,0.34506120102110244]
[null,null,975,{"$f":"D976+Sheet2!B$20","v":3.058360000000026},0.0831365854152368,472,472,1.4789399999999913,0.9719431796353453,0.9957841731478996,1,1.4789399999999913,0.9719431796353453,3.14,0,null,null,0.1662731708304736]
[null,null,976,{"$f":"D977+Sheet2!B$20","v":3.0615000000000263},0.08000705088239393,892,892,2.7977400000000143,0.9973170707513467,0.33711671534072296,0,0,0.9999996829318346,2.7977400000000143,0,null,null,0.3200282035295757]
[null,null,977,{"$f":"D978+Sheet2!B$20","v":3.0646400000000265},0.07687672751268032,850,850,2.6658600000000083,0.008826112575776717,0.45798986788017926,1,2.6658600000000083,0.008826112575776717,3.14,0,null,null,0.15375345502536064]
[null,null,978,{"$f":"D979+Sheet2!B$20","v":3.0677800000000266},0.07374564616980689,338,338,1.058180000000002,0.03220925098787677,0.8714642908524497,1,1.058180000000002,0.03220925098787677,3.14,0,null,null,0.29498258467922756]
[null,null,979,{"$f":"D980+Sheet2!B$20","v":3.0709200000000267},0.07061383772495791,143,143,0.4458799999999987,0.09816192303878321,0.43125201091065846,1,0.4458799999999987,0.09816192303878321,3.14,0,null,null,0.14122767544991582]
[null,null,980,{"$f":"D981+Sheet2!B$20","v":3.074060000000027},0.06748133305648653,557,557,1.7458399999999845,0.4290125783890166,0.9847189341054268,1,1.7458399999999845,0.4290125783890166,3.14,0,null,null,0.2699253322259461]
[null,null,981,{"$f":"D982+Sheet2!B$20","v":3.077200000000027},0.0643481630496104,480,480,1.5040599999999906,0.2369384225163686,0.9977739577109417,1,1.5040599999999906,0.2369384225163686,3.14,0,null,null,0.1286963260992208]
[null,null,982,{"$f":"D983+Sheet2!B$20","v":3.080340000000027},0.06121435859610716,987,987,3.096040000000028,0.6248955422149581,0.045536901262216135,0,0,0.9999996829318346,3.096040000000028,0,null,null,0.24485743438442864]
[null,null,983,{"$f":"D984+Sheet2!B$20","v":3.0834800000000273},0.058079950594009805,124,124,0.3862199999999992,0.514018300541598,0.37668955106379937,0,0,0.9999996829318346,0.3862199999999992,0,null,null,0.11615990118801961]
[null,null,984,{"$f":"D985+Sheet2!B$20","v":3.0866200000000275},0.054944969947302066,665,665,2.084959999999982,0.03267718937882683,0.8707043379818802,1,2.084959999999982,0.03267718937882683,3.14,0,null,null,0.21977987978920827]
[null,null,985,{"$f":"D986+Sheet2!B$20","v":3.0897600000000276},0.05180944756561375,988,988,3.099180000000028,0.5143664341771391,0.04239993918525355,0,0,0.9999996829318346,3.099180000000028,0,null,null,0.1036188951312275]
[null,null,986,{"$f":"D987+Sheet2!B$20","v":3.0929000000000277},0.04867341436391592,556,556,1.7426999999999846,0.8147029804470459,0.9852609133342971,1,1.7426999999999846,0.8147029804470459,3.14,0,null,null,0.1946936574556637]
[null,null,987,{"$f":"D988+Sheet2!B$20","v":3.096040000000028},0.045536901262216135,885,885,2.7757600000000133,0.23257772200338114,0.35772697215145977,1,2.7757600000000133,0.23257772200338114,3.14,0,null,null,0.09107380252443227]
[null,null,988,{"$f":"D989+Sheet2!B$20","v":3.099180000000028},0.04239993918525355,901,901,2.8260000000000156,0.7883142439550532,0.3103799096720269,0,0,0.9999996829318346,2.8260000000000156,0,null,null,0.1695997567410142]
[null,null,989,{"$f":"D990+Sheet2!B$20","v":3.102320000000028},0.039262559062194065,75,75,0.23236000000000018,0.027786062076994668,0.23027473922286892,1,0.23236000000000018,0.027786062076994668,3.14,0,null,null,0.07852511812438813]
[null,null,990,{"$f":"D991+Sheet2!B$20","v":3.1054600000000283},0.03612479182632531,175,175,0.5463599999999987,0.41320220234944427,0.5195805838284954,1,0.5463599999999987,0.41320220234944427,3.14,0,null,null,0.14449916730530124]
[null,null,991,{"$f":"D992+Sheet2!B$20","v":3.1086000000000285},0.03298666841475171,658,658,2.062979999999981,0.704834675204989,0.8813030626154376,1,2.062979999999981,0.704834675204989,3.14,0,null,null,0.06597333682950342]
[null,null,992,{"$f":"D993+Sheet2!B$20","v":3.1117400000000286},0.02984821976808943,18,18,0.053379999999999976,0.08570298392813948,0.053354653232375725,0,0,0.9999996829318346,0.053379999999999976,0,null,null,0.11939287907235772]
[null,null,993,{"$f":"D994+Sheet2!B$20","v":3.1148800000000287},0.026709476830161324,493,493,1.5448799999999896,0.5045335351991249,0.9996641907990496,1,1.5448799999999896,0.5045335351991249,3.14,0,null,null,0.05341895366032265]
[null,null,994,{"$f":"D995+Sheet2!B$20","v":3.118020000000029},0.02357047054769184,140,140,0.4364599999999988,0.22760028085379921,0.4227339820188942,1,0.4364599999999988,0.22760028085379921,3.14,0,null,null,0.09428188219076736]
[null,null,995,{"$f":"D996+Sheet2!B$20","v":3.121160000000029},0.020431231870001884,606,606,1.8996999999999806,0.27343378408062013,0.9463970319725213,1,1.8996999999999806,0.27343378408062013,3.14,0,null,null,0.04086246374000377]
[null,null,996,{"$f":"D997+Sheet2!B$20","v":3.124300000000029},0.017291791748703697,831,831,2.6062000000000056,0.12216906257232094,0.5101787876826422,1,2.6062000000000056,0.12216906257232094,3.14,0,null,null,0.06916716699481479]
[null,null,997,{"$f":"D998+Sheet2!B$20","v":3.1274400000000293},0.014152181137395666,462,462,1.447539999999992,0.7152298273024515,0.9924135507744763,1,1.447539999999992,0.7152298273024515,3.14,0,null,null,0.02830436227479133]
[null,null,998,{"$f":"D999+Sheet2!B$20","v":3.1305800000000295},0.011012430991357137,146,146,0.45529999999999865,0.6049058433553942,0.4397317723344594,0,0,0.9999996829318346,0.45529999999999865,0,null,null,0.04404972396542855]
[null,null,999,{"$f":"D1000+Sheet2!B$20","v":3.1337200000000296},0.007872572267243218,281,281,0.8792000000000021,0.5419808888172772,0.7702289114015539,1,0.8792000000000021,0.5419808888172772,3.14,0,null,null,0.015745144534486437]
[null,null,1000,{"$f":"D1001+Sheet2!B$20","v":3.1368600000000297},0.00473263592277955,130,130,0.40505999999999903,0.7628840911967255,0.39407390580534263,0,0,0.9999996829318346,0.40505999999999903,0,null,null,0.0189305436911182]
[null,null,1001,{"$f":"D1002+Sheet2!B$20","v":3.14000000000003},1.5926529164570742E-3,306,306,0.9577000000000029,0.518155670856091,0.8178703067352929,1,0.9577000000000029,0.518155670856091,3.14,0,null,null,{"$f":"E1003","v":1.5926529164570742E-3}]
[null,null,1002,null,null,846,846,2.6533000000000078,0.5199053803362007,0.4691187551197462,0,0,0.9999996829318346,2.6533000000000078,0]
[null,null,1003,null,null,804,804,2.5214200000000018,0.8119339059185664,0.581175670913689,0,0,0.9999996829318346,2.5214200000000018,0]
[null,null,1004,null,null,918,918,2.879380000000018,0.6327127998067346,0.2592182070897726,0,0,0.9999996829318346,2.879380000000018,0]
[null,null,1005,null,null,453,453,1.4192799999999928,0.37747723294212415,0.9885433442642017,1,1.4192799999999928,0.37747723294212415,3.14,0]
[null,null,1006,null,null,948,948,2.9735800000000223,0.19265305337217659,0.16722331791122544,0,0,0.9999996829318346,2.9735800000000223,0]
[null,null,1007,null,null,566,566,1.7740999999999838,0.29114990901777804,0.9794048921461127,1,1.7740999999999838,0.29114990901777804,3.14,0]
[null,null,1008,null,null,786,786,2.464899999999999,0.739692139281069,0.6262178873311012,0,0,0.9999996829318346,2.464899999999999,0]
[null,null,1009,null,null,526,526,1.648499999999987,0.672120493594966,0.9969825882696778,1,1.648499999999987,0.672120493594966,3.14,0]
[null,null,1010,null,null,845,845,2.6501600000000076,0.26349929398243377,0.47188948209714626,1,2.6501600000000076,0.26349929398243377,3.14,0]
[null,null,1011,null,null,11,11,0.0314,0.2859142116502913,0.03139484039703134,0,0,0.9999996829318346,0.0314,0]
[null,null,1012,null,null,556,556,1.7426999999999846,0.7507541473320519,0.9852609133342971,1,1.7426999999999846,0.7507541473320519,3.14,0]
[null,null,1013,null,null,430,430,1.3470599999999946,0.35344654599015674,0.9750752622160065,{"$f":"IF(OR(C1015>n,I1015>J1015),0,1)","v":1},1.3470599999999946,0.35344654599015674,3.14,0]
[null,null,1014,null,null,969,969,{"$f":"LOOKUP(G1016,C$3:C$1003,D$3:D$1003)","v":3.0395200000000253},0.8910503374801012,{"$f":"LOOKUP(H1016,D$3:D$1003,E$3:E$1003)","v":0.1018954996885005},0,0,{"$f":"IF($C1016>n,fmin,(IF($K1016=1,I1016,fmax)))","v":0.9999996829318346},{"$f":"IF($C1016>n,xMin,(IF($K1016=0,$H1016,xMax)))","v":3.0395200000000253},{"$f":"IF($C1016>n,fmin,(IF($K1016=0,K1016,fmin)))","v":0}]
[null,null,1015,null,null,720,720,2.25765999999999,0.45573536801679587,0.7732386071494857,1,{"$f":"IF($C1017>n,L1016,(IF($K1017=1,$H1017,xMin)))","v":2.25765999999999},0.45573536801679587,3.14,0]
[null,null,1016,null,null,892,892,2.7977400000000143,0.5573975169638365,0.33711671534072296,0,0,0.9999996829318346,2.7977400000000143,0]
[null,null,1017,null,null,714,714,2.238819999999989,0.3116361117162792,0.7850474055760391,1,2.238819999999989,0.3116361117162792,3.14,0]
[null,null,1018,null,null,894,894,2.8040200000000146,0.06057601766489539,0.3311977197806714,1,2.8040200000000146,0.06057601766489539,3.14,0]
[null,null,1019,null,null,311,311,0.973400000000003,0.307181558470068,0.8268029602064803,1,0.973400000000003,0.307181558470068,3.14,0]
[null,null,1020,null,null,17,17,0.05023999999999998,0.17541420731940172,0.05021886789147191,0,0,0.9999996829318346,0.05023999999999998,0]
[null,null,1021,null,null,195,195,0.6091599999999994,0.8257623949266117,0.5721787537388306,0,0,0.9999996829318346,0.6091599999999994,0]
[null,null,1022,null,null,556,556,1.7426999999999846,0.3032908450565158,0.9852609133342971,1,1.7426999999999846,0.3032908450565158,3.14,0]
[null,null,1023,null,null,94,94,0.2920199999999999,0.08971569012727092,0.28788729301746724,1,0.2920199999999999,0.08971569012727092,3.14,0]
[null,null,1024,null,null,986,986,3.0929000000000277,0.7703960337075142,0.04867341436391592,0,0,0.9999996829318346,3.0929000000000277,0]
[null,null,1025,null,null,838,838,2.6281800000000066,{"$f":"fmin+(fmax-fmin)*ABS(RAND())","v":0.6068585600430874},0.49115277307549626,0,0,0.9999996829318346,2.6281800000000066,0]
[null,null,1026,null,null,19,19,0.05651999999999997,0.2527383678809686,0.05648991251817275,0,0,0.9999996829318346,0.05651999999999997,0]
[null,null,1027,null,null,{"$f":"INT(1000*ABS(RAND()))+1","v":275},{"$f":"IF(F1029>0,F1029,-F1029)","v":275},0.8603600000000019,0.10563745610037843,0.7580773912705464,1,0.8603600000000019,0.10563745610037843,3.14,0]
[null,null,1028,null,null,252,252,0.7881400000000012,0.6804152477057087,0.7090428921166162,1,0.7881400000000012,0.6804152477057087,3.14,0]
[null,null,1029,null,null,727,727,2.279639999999991,0.8844064818545743,0.7591151016781845,0,0,0.9999996829318346,2.279639999999991,0]
[null,null,1030,null,null,998,998,3.1305800000000295,0.23552165718849985,0.011012430991357137,0,0,0.9999996829318346,3.1305800000000295,0]
[null,null,1031,null,null,866,866,2.7161000000000106,0.5670540407151116,0.41276955819080563,0,0,0.9999996829318346,2.7161000000000106,0]
[null,null,1032,null,null,818,818,2.5653800000000038,0.24726114439490315,0.5448520401299902,1,2.5653800000000038,0.24726114439490315,3.14,0]
[null,null,1033,null,null,922,922,2.8919400000000186,0.13645078986597448,0.24706739608520098,1,2.8919400000000186,0.13645078986597448,3.14,0]
[null,null,1034,null,null,967,967,3.033240000000025,0.7806190578184397,0.10814076261244668,0,0,0.9999996829318346,3.033240000000025,0]
[null,null,1035,null,null,953,953,2.989280000000023,0.893829823211726,0.15172441579332915,0,0,0.9999996829318346,2.989280000000023,0]
[null,null,1036,null,null,223,223,0.6970800000000003,0.6788414125554024,0.6419816047976502,0,0,0.9999996829318346,0.6970800000000003,0]
[null,null,1037,null,null,562,562,1.7615399999999841,0.18951992692073427,0.9818635142818517,1,1.7615399999999841,0.18951992692073427,3.14,0]
[null,null,1038,null,null,972,972,3.0489400000000257,0.963459098282255,0.092520147473921,0,0,0.9999996829318346,3.0489400000000257,0]
[null,null,1039,null,null,151,151,0.47099999999999853,0.8900937457113239,0.4537776270755438,0,0,0.9999996829318346,0.47099999999999853,0]
[null,null,1040,null,null,814,814,2.552820000000003,0.5180636750978103,0.5553407520639534,1,2.552820000000003,0.5180636750978103,3.14,0]
[null,null,1041,null,null,127,127,0.3956399999999991,0.9704019818017382,0.38539882776039586,0,0,0.9999996829318346,0.3956399999999991,0]
[null,null,1042,null,null,714,714,2.238819999999989,0.17180703830367278,0.7850474055760391,1,2.238819999999989,0.17180703830367278,3.14,0]
[null,null,1043,null,null,467,467,1.4632399999999917,0.13815438586775855,0.9942213922597716,1,1.4632399999999917,0.13815438586775855,3.14,0]
[null,null,1044,null,null,372,372,1.1649399999999992,0.5469098531278347,0.9187646513979717,1,1.1649399999999992,0.5469098531278347,3.14,0]
[null,null,1045,null,null,808,808,2.5339800000000023,0.8697011159275956,0.5709090457000187,0,0,0.9999996829318346,2.5339800000000023,0]
[null,null,1046,null,null,483,483,1.5134799999999904,0.5973160188903325,0.9983578689706671,1,1.5134799999999904,0.5973160188903325,3.14,0]
[null,null,1047,null,null,119,119,0.3705199999999993,0.7567598962167129,0.3621001932724224,0,0,0.9999996829318346,0.3705199999999993,0]
[null,null,1048,null,null,33,33,0.10048000000000001,0.8131996131010206,0.10031100712701232,0,0,0.9999996829318346,0.10048000000000001,0]
[null,null,1049,null,null,287,287,0.8980400000000023,0.31263032841779703,0.7821070502559002,1,0.8980400000000023,0.31263032841779703,3.14,0]
[null,null,1050,null,null,354,354,1.1084200000000006,0.05971410564877188,0.8949950027650431,1,1.1084200000000006,0.05971410564877188,3.14,0]
[null,null,1051,null,null,175,175,0.5463599999999987,0.6588565747781499,0.5195805838284954,0,0,0.9999996829318346,0.5463599999999987,0]
[null,null,1052,null,null,108,108,0.33597999999999956,0.8727495834058709,0.3296945339542547,0,0,0.9999996829318346,0.33597999999999956,0]
[null,null,1053,null,null,154,154,0.48041999999999846,0.6793272388375384,0.4621516726691735,0,0,0.9999996829318346,0.48041999999999846,0]
[null,null,1054,null,null,40,40,0.12246000000000004,0.6561706901698025,0.1221541518447934,0,0,0.9999996829318346,0.12246000000000004,0]
[null,null,1055,null,null,930,930,2.9170600000000197,0.34145572141028313,0.22265077125705304,0,0,0.9999996829318346,2.9170600000000197,0]
[null,null,1056,null,null,611,611,1.9153999999999802,0.012836784206141191,0.9412094150984703,1,1.9153999999999802,0.012836784206141191,3.14,0]
[null,null,1057,null,null,963,963,3.0206800000000245,0.8211583629718309,0.12061824767226438,0,0,0.9999996829318346,3.0206800000000245,0]
[null,null,1058,null,null,53,53,0.1632800000000001,0.6834352805977352,0.16255544929385354,0,0,0.9999996829318346,0.1632800000000001,0]
[null,null,1059,null,null,180,180,0.5620599999999989,0.09072235688800631,0.5329304151446694,1,0.5620599999999989,0.09072235688800631,3.14,0]
[null,null,1060,null,null,559,559,1.7521199999999844,0.8900677339358598,0.9836058543066296,1,1.7521199999999844,0.8900677339358598,3.14,0]
[null,null,1061,null,null,288,288,0.9011800000000023,0.7810797504613983,0.7840598638676922,1,0.9011800000000023,0.7810797504613983,3.14,0]
[null,null,1062,null,null,94,94,0.2920199999999999,0.9414480959102185,0.28788729301746724,0,0,0.9999996829318346,0.2920199999999999,0]
[null,null,1063,null,null,544,544,1.7050199999999855,0.3790260978781129,0.9910055186589997,1,1.7050199999999855,0.3790260978781129,3.14,0]
[null,null,1064,null,null,173,173,0.5400799999999987,0.5444406590800919,0.5142046067023127,0,0,0.9999996829318346,0.5400799999999987,0]
[null,null,1065,null,null,348,348,1.089580000000001,0.03527488766146097,0.8864325924006182,1,1.089580000000001,0.03527488766146097,3.14,0]
[null,null,1066,null,null,737,737,2.311039999999992,0.46007882372284137,0.7383042309107428,1,2.311039999999992,0.46007882372284137,3.14,0]
[null,null,1067,null,null,974,974,3.055220000000026,0.49058070094051165,0.08626530025527561,0,0,0.9999996829318346,3.055220000000026,0]
[null,null,1068,null,null,572,572,1.7929399999999833,0.4485285377042837,0.9754273944064423,1,1.7929399999999833,0.4485285377042837,3.14,0]
[null,null,1069,null,null,311,311,0.973400000000003,0.4487705702755449,0.8268029602064803,1,0.973400000000003,0.4487705702755449,3.14,0]
[null,null,1070,null,null,82,82,0.2543400000000002,0.9828320511275038,0.25160669596654234,0,0,0.9999996829318346,0.2543400000000002,0]
[null,null,1071,null,null,104,104,0.32341999999999965,0.43461713875943897,0.31781109977109323,0,0,0.9999996829318346,0.32341999999999965,0]
[null,null,1072,null,null,801,801,2.5120000000000013,0.9834685139330629,0.5888155619677942,0,0,0.9999996829318346,2.5120000000000013,0]
[null,null,1073,null,null,340,340,1.0644600000000017,0.0655325710670088,0.8745271683428117,1,1.0644600000000017,0.0655325710670088,3.14,0]
[null,null,1074,null,null,450,450,1.409859999999993,0.21519317733835408,0.9870776767367238,1,1.409859999999993,0.21519317733835408,3.14,0]
[null,null,1075,null,null,731,731,2.2921999999999914,0.23800027507053845,0.7508794282082207,1,2.2921999999999914,0.23800027507053845,3.14,0]
[null,null,1076,null,null,719,719,2.2545199999999896,0.6910556696952814,0.7752259136215806,1,2.2545199999999896,0.6910556696952814,3.14,0]
[null,null,1077,null,null,168,168,0.5243799999999985,0.651256138132902,0.5006764075312258,{"$f":"IF(OR(C1079>n,I1079>J1079),0,1)","v":0},0,0.9999996829318346,0.5243799999999985,0]
[null,null,1078,null,null,721,721,{"$f":"LOOKUP(G1080,C$3:C$1003,D$3:D$1003)","v":2.26079999999999},0.8124218513065351,{"$f":"LOOKUP(H1080,D$3:D$1003,E$3:E$1003)","v":0.7712436768602838},0,0,{"$f":"IF($C1080>n,fmin,(IF($K1080=1,I1080,fmax)))","v":0.9999996829318346},{"$f":"IF($C1080>n,xMin,(IF($K1080=0,$H1080,xMax)))","v":2.26079999999999},{"$f":"IF($C1080>n,fmin,(IF($K1080=0,K1080,fmin)))","v":0}]
[null,null,1079,null,null,649,649,2.0347199999999797,0.25776546801459094,0.8943036972533065,1,{"$f":"IF($C1081>n,L1080,(IF($K1081=1,$H1081,xMin)))","v":2.0347199999999797},0.25776546801459094,3.14,0]
[null,null,1080,null,null,316,316,0.9891000000000032,0.1962108503913254,0.8355318192021662,1,0.9891000000000032,0.1962108503913254,3.14,0]
[null,null,1081,null,null,522,522,1.6359399999999873,0.5282529270177261,0.9978789011884561,1,1.6359399999999873,0.5282529270177261,3.14,0]
[null,null,1082,null,null,210,210,0.6562599999999998,0.7285294308343151,0.6101579999038804,0,0,0.9999996829318346,0.6562599999999998,0]
[null,null,1083,null,null,716,716,2.245099999999989,0.8397678848239084,0.7811418945719117,0,0,0.9999996829318346,2.245099999999989,0]
[null,null,1084,null,null,633,633,1.9844799999999785,0.13784395006504677,0.9156462572318358,1,1.9844799999999785,0.13784395006504677,3.14,0]
[null,null,1085,null,null,240,240,0.7504600000000008,0.6790752139395999,0.6819752647737672,1,0.7504600000000008,0.6790752139395999,3.14,0]
[null,null,1086,null,null,68,68,0.21038000000000015,0.7715162028769448,0.2088315365339459,0,0,0.9999996829318346,0.21038000000000015,0]
[null,null,1087,null,null,550,550,1.723859999999985,0.612578011292225,0.9883086087047014,1,1.723859999999985,0.612578011292225,3.14,0]
[null,null,1088,null,null,752,752,2.3581399999999944,0.15684537642586377,0.705729760674387,1,2.3581399999999944,0.15684537642586377,3.14,0]
[null,null,1089,null,null,940,940,2.948460000000021,{"$f":"fmin+(fmax-fmin)*ABS(RAND())","v":0.455224821079392},0.19193424235292092,0,0,0.9999996829318346,2.948460000000021,0]
[null,null,1090,null,null,341,341,1.0676000000000017,0.5096670334952139,0.8760456808949801,1,1.0676000000000017,0.5096670334952139,3.14,0]
[null,null,1091,null,null,{"$f":"INT(1000*ABS(RAND()))+1","v":560},{"$f":"IF(F1093>0,F1093,-F1093)","v":560},1.7552599999999843,0.23843516772801468,0.9830347647112154,1,1.7552599999999843,0.23843516772801468,3.14,0]
[null,null,1092,null,null,671,671,2.103799999999983,0.8787792881323325,0.861284723704258,0,0,0.9999996829318346,2.103799999999983,0]
[null,null,1093,null,null,495,495,1.5511599999999894,0.08871755791357386,0.9998072135297574,1,1.5511599999999894,0.08871755791357386,3.14,0]
[null,null,1094,null,null,726,726,2.2764999999999906,0.9577579630395496,0.761155359199606,0,0,0.9999996829318346,2.2764999999999906,0]
[null,null,1095,null,null,434,434,1.3596199999999943,0.5260937948684441,0.9777850211423663,1,1.3596199999999943,0.5260937948684441,3.14,0]
[null,null,1096,null,null,562,562,1.7615399999999841,0.6009241755901893,0.9818635142818517,1,1.7615399999999841,0.6009241755901893,3.14,0]
[null,null,1097,null,null,810,810,2.5402600000000026,0.13952669712943883,0.5657418581467392,1,2.5402600000000026,0.13952669712943883,3.14,0]
[null,null,1098,null,null,792,792,2.48374,0.9178777493683089,0.6114190527247628,0,0,0.9999996829318346,2.48374,0]
[null,null,1099,null,null,6,6,0.0157,0.32579498486122976,0.015699355025782367,0,0,0.9999996829318346,0.0157,0]
[null,null,1100,null,null,743,743,2.329879999999993,0.38970804136153503,0.7254669835263065,1,2.329879999999993,0.38970804136153503,3.14,0]
[null,null,1101,null,null,628,628,1.9687799999999789,0.5745224602465568,0.9218443157888075,1,1.9687799999999789,0.5745224602465568,3.14,0]
[null,null,1102,null,null,521,521,1.6327999999999874,0.34487863270896657,0.9980783880022105,1,1.6327999999999874,0.34487863270896657,3.14,0]
[null,null,1103,null,null,245,245,0.766160000000001,0.8536408876947235,0.693373335971521,0,0,0.9999996829318346,0.766160000000001,0]
[null,null,1104,null,null,124,124,0.3862199999999992,0.5801032992082383,0.37668955106379937,0,0,0.9999996829318346,0.3862199999999992,0]
[null,null,1105,null,null,565,565,1.7709599999999839,0.09358324764237672,0.9800340478678015,1,1.7709599999999839,0.09358324764237672,3.14,0]
[null,null,1106,null,null,622,622,1.9499399999999794,0.1837873889905425,0.9289819241816172,1,1.9499399999999794,0.1837873889905425,3.14,0]
[null,null,1107,null,null,821,821,2.574800000000004,0.8716822882779092,0.5369290096789497,0,0,0.9999996829318346,2.574800000000004,0]
[null,null,1108,null,null,572,572,1.7929399999999833,0.5417907763561433,0.9754273944064423,1,1.7929399999999833,0.5417907763561433,3.14,0]
[null,null,1109,null,null,315,315,0.9859600000000032,0.9484748238656838,0.8338024549622756,0,0,0.9999996829318346,0.9859600000000032,0]
[null,null,1110,null,null,780,780,2.4460599999999983,0.8320512481088564,0.6407944552281892,0,0,0.9999996829318346,2.4460599999999983,0]
[null,null,1111,null,null,367,367,1.1492399999999996,0.6225693499486428,0.9124532262291217,1,1.1492399999999996,0.6225693499486428,3.14,0]
[null,null,1112,null,null,344,344,1.0770200000000014,0.5829348743386065,0.8805493343723936,1,1.0770200000000014,0.5829348743386065,3.14,0]
[null,null,1113,null,null,926,926,2.904500000000019,0.6665463984068665,0.23487760982183223,0,0,0.9999996829318346,2.904500000000019,0]
[null,null,1114,null,null,872,872,2.7349400000000115,0.33621210796476797,0.39553717947090455,1,2.7349400000000115,0.33621210796476797,3.14,0]
[null,null,1115,null,null,179,179,0.5589199999999989,0.8446302690288409,0.5302708527911103,0,0,0.9999996829318346,0.5589199999999989,0]
[null,null,1116,null,null,529,529,1.6579199999999867,0.35986506638159,0.9962071328518356,1,1.6579199999999867,0.35986506638159,3.14,0]
[null,null,1117,null,null,204,204,0.6374199999999997,0.4374747012273237,0.5951240490180842,1,0.6374199999999997,0.4374747012273237,3.14,0]
[null,null,1118,null,null,840,840,2.634460000000007,0.8497586100634459,0.48567278266487984,0,0,0.9999996829318346,2.634460000000007,0]
[null,null,1119,null,null,837,837,2.6250400000000065,7.554282041297068E-3,0.4938855179276979,1,2.6250400000000065,7.554282041297068E-3,3.14,0]
[null,null,1120,null,null,638,638,2.000179999999978,0.8666349106086968,0.9092225056648986,1,2.000179999999978,0.8666349106086968,3.14,0]
[null,null,1121,null,null,783,783,2.4554799999999988,0.8216825895207843,0.6335342798474249,0,0,0.9999996829318346,2.4554799999999988,0]
[null,null,1122,null,null,179,179,0.5589199999999989,0.5085047341460681,0.5302708527911103,1,0.5589199999999989,0.5085047341460681,3.14,0]
[null,null,1123,null,null,847,847,2.656440000000008,0.9048417697728146,0.4663434028228685,0,0,0.9999996829318346,2.656440000000008,0]
[null,null,1124,null,null,774,774,2.4272199999999975,0.7886664554745517,0.6551435826804245,0,0,0.9999996829318346,2.4272199999999975,0]
[null,null,1125,null,null,814,814,2.552820000000003,0.1835980300600781,0.5553407520639534,1,2.552820000000003,0.1835980300600781,3.14,0]
[null,null,1126,null,null,513,513,1.607679999999988,0.4410216681941996,0.9993198744345664,1,1.607679999999988,0.4410216681941996,3.14,0]
[null,null,1127,null,null,854,854,2.678420000000009,0.2531221699072047,0.4467887320399879,1,2.678420000000009,0.2531221699072047,3.14,0]
[null,null,1128,null,null,270,270,0.8446600000000017,0.13680822632466574,0.7477454003105735,1,0.8446600000000017,0.13680822632466574,3.14,0]
[null,null,1129,null,null,595,595,1.8651599999999815,0.865937713817433,0.9569869541552846,1,1.8651599999999815,0.865937713817433,3.14,0]
[null,null,1130,null,null,629,629,1.9719199999999788,0.7553300350529989,0.9206228336533062,1,1.9719199999999788,0.7553300350529989,3.14,0]
[null,null,1131,null,null,616,616,1.9310999999999798,0.710073837992567,0.9357898042810994,1,1.9310999999999798,0.710073837992567,3.14,0]
[null,null,1132,null,null,612,612,1.9185399999999802,0.6483618901939169,0.9401440105245746,1,1.9185399999999802,0.6483618901939169,3.14,0]
[null,null,1133,null,null,111,111,0.3453999999999995,0.3043843058209847,0.33857308036306144,1,0.3453999999999995,0.3043843058209847,3.14,0]
[null,null,1134,null,null,720,720,2.25765999999999,0.9043513585260248,0.7732386071494857,0,0,0.9999996829318346,2.25765999999999,0]
[null,null,1135,null,null,734,734,2.301619999999992,0.3122484263205647,0.744624866980202,1,2.301619999999992,0.3122484263205647,3.14,0]
[null,null,1136,null,null,784,784,2.458619999999999,0.9062761694877194,0.6311016967319513,0,0,0.9999996829318346,2.458619999999999,0]
[null,null,1137,null,null,63,63,0.19468000000000013,0.10526809014624383,0.19345258979267752,1,0.19468000000000013,0.10526809014624383,3.14,0]
[null,null,1138,null,null,645,645,2.022159999999979,0.9699458383874161,0.899853114454851,0,0,0.9999996829318346,2.022159999999979,0]
[null,null,1139,null,null,212,212,0.6625399999999999,0.6147291902246199,0.6151214522925511,1,0.6625399999999999,0.6147291902246199,3.14,0]
[null,null,1140,null,null,767,767,2.4052399999999965,0.5705628234572787,0.6715899818864324,1,2.4052399999999965,0.5705628234572787,3.14,0]
[null,null,1141,null,null,649,649,2.0347199999999797,0.8981790408031807,0.8943036972533065,{"$f":"IF(OR(C1143>n,I1143>J1143),0,1)","v":0},0,0.9999996829318346,2.0347199999999797,0]
[null,null,1142,null,null,167,167,{"$f":"LOOKUP(G1144,C$3:C$1003,D$3:D$1003)","v":0.5212399999999985},0.9548444558795465,{"$f":"LOOKUP(H1144,D$3:D$1003,E$3:E$1003)","v":0.4979558513493672},0,0,{"$f":"IF($C1144>n,fmin,(IF($K1144=1,I1144,fmax)))","v":0.9999996829318346},{"$f":"IF($C1144>n,xMin,(IF($K1144=0,$H1144,xMax)))","v":0.5212399999999985},{"$f":"IF($C1144>n,fmin,(IF($K1144=0,K1144,fmin)))","v":0}]
[null,null,1143,null,null,337,337,1.055040000000002,0.30264763468485095,0.8699199561129781,1,{"$f":"IF($C1145>n,L1144,(IF($K1145=1,$H1145,xMin)))","v":1.055040000000002},0.30264763468485095,3.14,0]
[null,null,1144,null,null,577,577,1.808639999999983,0.6636731969324466,0.9718482807612095,1,1.808639999999983,0.6636731969324466,3.14,0]
[null,null,1145,null,null,696,696,2.1822999999999864,0.7858536574303007,0.8187856860947917,1,2.1822999999999864,0.7858536574303007,3.14,0]
[null,null,1146,null,null,789,789,2.4743199999999996,0.7992930215802903,0.6188459269047498,0,0,0.9999996829318346,2.4743199999999996,0]
[null,null,1147,null,null,496,496,1.5542999999999894,0.8901703852139319,0.9998639386866967,1,1.5542999999999894,0.8901703852139319,3.14,0]
[null,null,1148,null,null,480,480,1.5040599999999906,0.8801960662412458,0.9977739577109417,1,1.5040599999999906,0.8801960662412458,3.14,0]
[null,null,1149,null,null,782,782,2.4523399999999986,0.31021474902320045,0.6359606165734454,1,2.4523399999999986,0.31021474902320045,3.14,0]
[null,null,1150,null,null,562,562,1.7615399999999841,0.9277758307409238,0.9818635142818517,1,1.7615399999999841,0.9277758307409238,3.14,0]
[null,null,1151,null,null,871,871,2.7318000000000113,0.03985823453689426,0.39841915770682573,1,2.7318000000000113,0.03985823453689426,3.14,0]
[null,null,1152,null,null,698,698,2.1885799999999866,0.08447455599611063,0.8151642204761652,1,2.1885799999999866,0.08447455599611063,3.14,0]
[null,null,1153,null,null,705,705,2.2105599999999876,{"$f":"fmin+(fmax-fmin)*ABS(RAND())","v":0.9984725196247363},0.8022368687689044,0,0,0.9999996829318346,2.2105599999999876,0]
[null,null,1154,null,null,726,726,2.2764999999999906,0.7114291540978639,0.761155359199606,1,2.2764999999999906,0.7114291540978639,3.14,0]
[null,null,1155,null,null,{"$f":"INT(1000*ABS(RAND()))+1","v":59},{"$f":"IF(F1157>0,F1157,-F1157)","v":59},0.18212000000000012,0.3922666765429388,0.18111491817706396,0,0,0.9999996829318346,0.18212000000000012,0]
[null,null,1156,null,null,889,889,2.788320000000014,0.8518038901084168,0.34597020718768284,0,0,0.9999996829318346,2.788320000000014,0]
[null,null,1157,null,null,314,314,0.9828200000000031,0.4379065585026932,0.8320648697704546,1,0.9828200000000031,0.4379065585026932,3.14,0]
[null,null,1158,null,null,357,357,1.1178400000000004,0.6933556304111871,0.8991572690708314,1,1.1178400000000004,0.6933556304111871,3.14,0]
[null,null,1159,null,null,370,370,1.1586599999999994,0.25043899780853535,0.9162671708567964,1,1.1586599999999994,0.25043899780853535,3.14,0]
[null,null,1160,null,null,105,105,0.32655999999999963,0.7317713299584413,0.3207867318557432,0,0,0.9999996829318346,0.32655999999999963,0]
[null,null,1161,null,null,428,428,1.3407799999999948,0.8630970341442058,0.9736626727333337,1,1.3407799999999948,0.8630970341442058,3.14,0]
[null,null,1162,null,null,607,607,1.9028399999999805,0.8510874352457731,0.9453781303153276,1,1.9028399999999805,0.8510874352457731,3.14,0]
[null,null,1163,null,null,477,477,1.4946399999999909,0.7163306811357116,0.9971015082369118,1,1.4946399999999909,0.7163306811357116,3.14,0]
[null,null,1164,null,null,131,131,0.408199999999999,0.17382638198806907,0.3969578656478564,1,0.408199999999999,0.17382638198806907,3.14,0]
[null,null,1165,null,null,383,383,1.1994799999999983,0.8943940499999317,0.931850533931708,1,1.1994799999999983,0.8943940499999317,3.14,0]
[null,null,1166,null,null,417,417,1.3062399999999956,0.2506149391016522,0.9652086080147073,1,1.3062399999999956,0.2506149391016522,3.14,0]
[null,null,1167,null,null,350,350,1.095860000000001,0.5376204051038765,0.8893218400251783,1,1.095860000000001,0.5376204051038765,3.14,0]
[null,null,1168,null,null,833,833,2.612480000000006,0.40292834644608205,0.5047675335242598,1,2.612480000000006,0.40292834644608205,3.14,0]
[null,null,1169,null,null,249,249,0.7787200000000011,0.7376081637639336,0.702368873993816,0,0,0.9999996829318346,0.7787200000000011,0]
[null,null,1170,null,null,370,370,1.1586599999999994,0.8559770353310541,0.9162671708567964,1,1.1586599999999994,0.8559770353310541,3.14,0]
[null,null,1171,null,null,588,588,1.843179999999982,0.03318263359197978,0.9631323583667505,1,1.843179999999982,0.03318263359197978,3.14,0]
[null,null,1172,null,null,649,649,2.0347199999999797,0.605250907728038,0.8943036972533065,1,2.0347199999999797,0.605250907728038,3.14,0]
[null,null,1173,null,null,18,18,0.053379999999999976,0.011753072308471167,0.053354653232375725,1,0.053379999999999976,0.011753072308471167,3.14,0]
[null,null,1174,null,null,427,427,1.3376399999999948,0.790423135967425,0.9729419746115275,1,1.3376399999999948,0.790423135967425,3.14,0]
[null,null,1175,null,null,915,915,2.8699600000000176,0.9523530831261902,0.2683045845095156,0,0,0.9999996829318346,2.8699600000000176,0]
[null,null,1176,null,null,165,165,0.5149599999999984,0.847581886114653,0.4925000369331967,0,0,0.9999996829318346,0.5149599999999984,0]
[null,null,1177,null,null,956,956,2.9987000000000235,0.4294619544290973,0.14240687869653235,0,0,0.9999996829318346,2.9987000000000235,0]
[null,null,1178,null,null,579,579,1.8149199999999828,0.9878832408178853,0.9703495110443163,0,0,0.9999996829318346,1.8149199999999828,0]
[null,null,1179,null,null,483,483,1.5134799999999904,0.9675667546711412,0.9983578689706671,1,1.5134799999999904,0.9675667546711412,3.14,0]
[null,null,1180,null,null,801,801,2.5120000000000013,0.9282903794543791,0.5888155619677942,0,0,0.9999996829318346,2.5120000000000013,0]
[null,null,1181,null,null,540,540,1.6924599999999859,0.1908215816378477,0.992608100002361,1,1.6924599999999859,0.1908215816378477,3.14,0]
[null,null,1182,null,null,781,781,2.4491999999999985,0.4530404408941734,0.6383806829873225,1,2.4491999999999985,0.4530404408941734,3.14,0]
[null,null,1183,null,null,240,240,0.7504600000000008,0.2566284170493397,0.6819752647737672,1,0.7504600000000008,0.2566284170493397,3.14,0]
[null,null,1184,null,null,778,778,2.439779999999998,0.9314004413109791,0.6456030220579468,0,0,0.9999996829318346,2.439779999999998,0]
[null,null,1185,null,null,869,869,2.725520000000011,0.9695882087347163,0.40417130105137045,0,0,0.9999996829318346,2.725520000000011,0]
[null,null,1186,null,null,52,52,0.1601400000000001,0.5766272686337468,0.15945641687214873,0,0,0.9999996829318346,0.1601400000000001,0]
[null,null,1187,null,null,543,543,1.7018799999999856,0.3329958003114471,0.9914208304763462,1,1.7018799999999856,0.3329958003114471,3.14,0]
[null,null,1188,null,null,766,766,2.4020999999999963,0.9021733671752843,0.6739131654909182,0,0,0.9999996829318346,2.4020999999999963,0]
[null,null,1189,null,null,283,283,0.8854800000000022,0.21284769085014188,0.7742188769241198,1,0.8854800000000022,0.21284769085014188,3.14,0]
[null,null,1190,null,null,638,638,2.000179999999978,0.09208815700142894,0.9092225056648986,1,2.000179999999978,0.09208815700142894,3.14,0]
[null,null,1191,null,null,561,561,1.7583999999999842,0.675065151198224,0.9824539827941985,1,1.7583999999999842,0.675065151198224,3.14,0]
[null,null,1192,null,null,997,997,3.1274400000000293,0.18677730273590504,0.014152181137395666,0,0,0.9999996829318346,3.1274400000000293,0]
[null,null,1193,null,null,731,731,2.2921999999999914,0.1447487891758892,0.7508794282082207,1,2.2921999999999914,0.1447487891758892,3.14,0]
[null,null,1194,null,null,512,512,1.604539999999988,0.36283311612480934,0.9994307362777121,1,1.604539999999988,0.36283311612480934,3.14,0]
[null,null,1195,null,null,762,762,2.389539999999996,0.19435177432150166,0.6831392267486005,1,2.389539999999996,0.19435177432150166,3.14,0]
[null,null,1196,null,null,249,249,0.7787200000000011,0.1497785740881298,0.702368873993816,1,0.7787200000000011,0.1497785740881298,3.14,0]
[null,null,1197,null,null,93,93,0.2888799999999999,0.2621683505060956,0.2848788128394217,1,0.2888799999999999,0.2621683505060956,3.14,0]
[null,null,1198,null,null,584,584,1.8306199999999824,0.8554079209366734,0.9664352933009459,1,1.8306199999999824,0.8554079209366734,3.14,0]
[null,null,1199,null,null,174,174,0.5432199999999987,0.7503219500668933,0.5168951434529886,0,0,0.9999996829318346,0.5432199999999987,0]
[null,null,1200,null,null,397,397,1.2434399999999972,0.8867580876800794,0.9468957004551473,1,1.2434399999999972,0.8867580876800794,3.14,0]
[null,null,1201,null,null,984,984,3.0866200000000275,0.9646935753664397,0.054944969947302066,0,0,0.9999996829318346,3.0866200000000275,0]
[null,null,1202,null,null,476,476,1.491499999999991,0.7086747211337622,0.9968576933406655,1,1.491499999999991,0.7086747211337622,3.14,0]
[null,null,1203,null,null,869,869,2.725520000000011,0.5490986989306469,0.40417130105137045,0,0,0.9999996829318346,2.725520000000011,0]
[null,null,1204,null,null,84,84,0.26062000000000013,0.2552679016166852,0.2576796642293318,1,0.26062000000000013,0.2552679016166852,3.14,0]
[null,null,1205,null,null,122,122,0.3799399999999992,0.8792632532331661,0.3708647488672239,{"$f":"IF(OR(C1207>n,I1207>J1207),0,1)","v":0},0,0.9999996829318346,0.3799399999999992,0]
[null,null,1206,null,null,236,236,{"$f":"LOOKUP(G1208,C$3:C$1003,D$3:D$1003)","v":0.7379000000000007},0.37073131745307036,{"$f":"LOOKUP(H1208,D$3:D$1003,E$3:E$1003)","v":0.6727356419903406},1,0.7379000000000007,{"$f":"IF($C1208>n,fmin,(IF($K1208=1,I1208,fmax)))","v":0.37073131745307036},{"$f":"IF($C1208>n,xMin,(IF($K1208=0,$H1208,xMax)))","v":3.14},{"$f":"IF($C1208>n,fmin,(IF($K1208=0,K1208,fmin)))","v":0}]
[null,null,1207,null,null,781,781,2.4491999999999985,0.005461258714208035,0.6383806829873225,1,{"$f":"IF($C1209>n,L1208,(IF($K1209=1,$H1209,xMin)))","v":2.4491999999999985},0.005461258714208035,3.14,0]
[null,null,1208,null,null,471,471,1.4757999999999913,0.9084721188631751,0.9954912411783645,1,1.4757999999999913,0.9084721188631751,3.14,0]
[null,null,1209,null,null,952,952,2.986140000000023,0.24827444325614315,0.15482731042613446,0,0,0.9999996829318346,2.986140000000023,0]
[null,null,1210,null,null,109,109,0.33911999999999953,0.1528658780484652,0.33265733901603206,1,0.33911999999999953,0.1528658780484652,3.14,0]
[null,null,1211,null,null,311,311,0.973400000000003,0.8613528980441116,0.8268029602064803,0,0,0.9999996829318346,0.973400000000003,0]
[null,null,1212,null,null,577,577,1.808639999999983,0.49339821630211406,0.9718482807612095,1,1.808639999999983,0.49339821630211406,3.14,0]
[null,null,1213,null,null,764,764,2.395819999999996,0.8903929717655835,0.6785395763333983,0,0,0.9999996829318346,2.395819999999996,0]
[null,null,1214,null,null,906,906,2.8417000000000163,0.029072537140882204,0.2954176530161969,1,2.8417000000000163,0.029072537140882204,3.14,0]
[null,null,1215,null,null,857,857,2.6878400000000093,0.13301980404686367,0.4383415295537174,1,2.6878400000000093,0.13301980404686367,3.14,0]
[null,null,1216,null,null,242,242,0.7567400000000009,0.32522379208490615,0.6865548231134433,1,0.7567400000000009,0.32522379208490615,3.14,0]
[null,null,1217,null,null,183,183,0.571479999999999,{"$f":"fmin+(fmax-fmin)*ABS(RAND())","v":0.7695613858560092},0.5408774707174188,0,0,0.9999996829318346,0.571479999999999,0]
[null,null,1218,null,null,601,601,1.883999999999981,0.4789211198654983,0.9513513762338344,1,1.883999999999981,0.4789211198654983,3.14,0]
[null,null,1219,null,null,{"$f":"INT(1000*ABS(RAND()))+1","v":776},{"$f":"IF(F1221>0,F1221,-F1221)","v":776},2.4334999999999978,0.09332477824686883,0.6503861274211595,1,2.4334999999999978,0.09332477824686883,3.14,0]
[null,null,1220,null,null,265,265,0.8289600000000016,0.4403247800188284,0.7372291013727641,1,0.8289600000000016,0.4403247800188284,3.14,0]
[null,null,1221,null,null,625,625,1.9593599999999791,0.6077250561284281,0.9254541804177491,1,1.9593599999999791,0.6077250561284281,3.14,0]
[null,null,1222,null,null,813,813,2.549680000000003,0.7529446578229009,0.5579493059647503,0,0,0.9999996829318346,2.549680000000003,0]
[null,null,1223,null,null,368,368,1.1523799999999995,0.1054198374576029,0.9137335543231924,1,1.1523799999999995,0.1054198374576029,3.14,0]
[null,null,1224,null,null,94,94,0.2920199999999999,0.09147047149693614,0.28788729301746724,1,0.2920199999999999,0.09147047149693614,3.14,0]
[null,null,1225,null,null,83,83,0.25748000000000015,0.9625993786929592,0.2546444354430435,0,0,0.9999996829318346,0.25748000000000015,0]
[null,null,1226,null,null,252,252,0.7881400000000012,0.2679794556270611,0.7090428921166162,1,0.7881400000000012,0.2679794556270611,3.14,0]
[null,null,1227,null,null,538,538,1.686179999999986,0.33046826340998126,0.9933506859691841,1,1.686179999999986,0.33046826340998126,3.14,0]
[null,null,1228,null,null,43,43,0.13188000000000005,0.11330536304505402,0.13149804879238897,1,0.13188000000000005,0.11330536304505402,3.14,0]
[null,null,1229,null,null,365,365,1.1429599999999998,0.3889357623632165,0.9098655935038812,1,1.1429599999999998,0.3889357623632165,3.14,0]
[null,null,1230,null,null,856,856,2.684700000000009,0.3401801211519262,0.4411616226433953,1,2.684700000000009,0.3401801211519262,3.14,0]
[null,null,1231,null,null,243,243,0.7598800000000009,0.7301735547681583,0.6888344598292374,0,0,0.9999996829318346,0.7598800000000009,0]
[null,null,1232,null,null,233,233,0.7284800000000006,0.7458143171272562,0.6657361999806316,0,0,0.9999996829318346,0.7284800000000006,0]
[null,null,1233,null,null,94,94,0.2920199999999999,0.8396960146520013,0.28788729301746724,0,0,0.9999996829318346,0.2920199999999999,0]
[null,null,1234,null,null,141,141,0.43959999999999877,0.8882315134954744,0.42557753033520446,0,0,0.9999996829318346,0.43959999999999877,0]
[null,null,1235,null,null,367,367,1.1492399999999996,0.7295259466097865,0.9124532262291217,1,1.1492399999999996,0.7295259466097865,3.14,0]
[null,null,1236,null,null,565,565,1.7709599999999839,0.6964755728896377,0.9800340478678015,1,1.7709599999999839,0.6964755728896377,3.14,0]
[null,null,1237,null,null,962,962,3.0175400000000243,0.7304842832059774,0.12373472268192008,0,0,0.9999996829318346,3.0175400000000243,0]
[null,null,1238,null,null,194,194,0.6060199999999993,0.3500562333734442,0.5696007323830038,1,0.6060199999999993,0.3500562333734442,3.14,0]
[null,null,1239,null,null,389,389,1.2183199999999978,0.16091803744972585,0.9385207064801295,1,1.2183199999999978,0.16091803744972585,3.14,0]
[null,null,1240,null,null,992,992,3.1117400000000286,0.7143104665736457,0.02984821976808943,0,0,0.9999996829318346,3.1117400000000286,0]
[null,null,1241,null,null,514,514,1.610819999999988,0.514299610879565,0.9991991597052822,1,1.610819999999988,0.514299610879565,3.14,0]
[null,null,1242,null,null,667,667,2.0912399999999822,1.6476816232980824E-3,0.867598641868254,1,2.0912399999999822,1.6476816232980824E-3,3.14,0]
[null,null,1243,null,null,532,532,1.6673399999999865,0.15306184901731237,0.9953432782530581,1,1.6673399999999865,0.15306184901731237,3.14,0]
[null,null,1244,null,null,295,295,0.9231600000000025,0.9132310364315841,0.7975120362688412,0,0,0.9999996829318346,0.9231600000000025,0]
[null,null,1245,null,null,458,458,1.4349799999999924,0.9805544704529265,0.9907911313764695,1,1.4349799999999924,0.9805544704529265,3.14,0]
[null,null,1246,null,null,135,135,0.4207599999999989,0.7578035273491002,0.40845428282618934,0,0,0.9999996829318346,0.4207599999999989,0]
[null,null,1247,null,null,689,689,2.1603199999999854,0.5838683300642799,0.8312055944880932,1,2.1603199999999854,0.5838683300642799,3.14,0]
[null,null,1248,null,null,220,220,0.6876600000000002,0.33709253767983344,0.6347307254831556,1,0.6876600000000002,0.33709253767983344,3.14,0]
[null,null,1249,null,null,678,678,2.125779999999984,0.33179612061159786,0.8499090434517477,1,2.125779999999984,0.33179612061159786,3.14,0]
[null,null,1250,null,null,679,679,2.128919999999984,0.1741497368043949,0.8482502979011608,1,2.128919999999984,0.1741497368043949,3.14,0]
[null,null,1251,null,null,390,390,1.2214599999999978,0.6327953678352259,0.9396000780385267,1,1.2214599999999978,0.6327953678352259,3.14,0]
[null,null,1252,null,null,542,542,1.6987399999999857,0.64139697641074,0.9918263672889042,1,1.6987399999999857,0.64139697641074,3.14,0]
[null,null,1253,null,null,498,498,1.5605799999999892,0.05520300325737936,0.9999478137873162,1,1.5605799999999892,0.05520300325737936,3.14,0]
[null,null,1254,null,null,733,733,2.2984799999999916,0.7617143897834019,0.7467170899006036,0,0,0.9999996829318346,2.2984799999999916,0]
[null,null,1255,null,null,386,386,1.208899999999998,0.25697373977150173,0.9352271142427316,1,1.208899999999998,0.25697373977150173,3.14,0]
[null,null,1256,null,null,66,66,0.20410000000000014,0.14153911664280389,0.20268592269297228,1,0.20410000000000014,0.14153911664280389,3.14,0]
[null,null,1257,null,null,354,354,1.1084200000000006,0.5259468530580701,0.8949950027650431,1,1.1084200000000006,0.5259468530580701,3.14,0]
[null,null,1258,null,null,899,899,2.8197200000000153,0.7099980769422589,0.316343597124588,0,0,0.9999996829318346,2.8197200000000153,0]
[null,null,1259,null,null,241,241,0.7536000000000008,0.5036201471476287,0.6842684172472769,1,0.7536000000000008,0.5036201471476287,3.14,0]
[null,null,1260,null,null,427,427,1.3376399999999948,0.7154829946818344,0.9729419746115275,1,1.3376399999999948,0.7154829946818344,3.14,0]
[null,null,1261,null,null,211,211,0.6593999999999999,0.10220595430900578,0.6126427463019449,1,0.6593999999999999,0.10220595430900578,3.14,0]
[null,null,1262,null,null,781,781,2.4491999999999985,0.36098556609992827,0.6383806829873225,1,2.4491999999999985,0.36098556609992827,3.14,0]
[null,null,1263,null,null,223,223,0.6970800000000003,0.38406092310590795,0.6419816047976502,1,0.6970800000000003,0.38406092310590795,3.14,0]
[null,null,1264,null,null,223,223,0.6970800000000003,0.6286807749307082,0.6419816047976502,1,0.6970800000000003,0.6286807749307082,3.14,0]
[null,null,1265,null,null,412,412,1.290539999999996,0.7086682920360462,0.9609845693815804,1,1.290539999999996,0.7086682920360462,3.14,0]
[null,null,1266,null,null,937,937,2.9390400000000207,0.8995942371531933,0.20117045127792868,0,0,0.9999996829318346,2.9390400000000207,0]
[null,null,1267,null,null,791,791,2.4806,0.03822997452015704,0.6139007383984155,1,2.4806,0.03822997452015704,3.14,0]
[null,null,1268,null,null,615,615,1.92795999999998,0.46648591216340857,0.9368922226599442,1,1.92795999999998,0.46648591216340857,3.14,0]
[null,null,1269,null,null,19,19,0.05651999999999997,0.6448939805244773,0.05648991251817275,{"$f":"IF(OR(C1271>n,I1271>J1271),0,1)","v":0},0,0.9999996829318346,0.05651999999999997,0]
[null,null,1270,null,null,391,391,{"$f":"LOOKUP(G1272,C$3:C$1003,D$3:D$1003)","v":1.2245999999999977},0.16364877574392592,{"$f":"LOOKUP(H1272,D$3:D$1003,E$3:E$1003)","v":0.9406701855236062},1,1.2245999999999977,{"$f":"IF($C1272>n,fmin,(IF($K1272=1,I1272,fmax)))","v":0.16364877574392592},{"$f":"IF($C1272>n,xMin,(IF($K1272=0,$H1272,xMax)))","v":3.14},{"$f":"IF($C1272>n,fmin,(IF($K1272=0,K1272,fmin)))","v":0}]
[null,null,1271,null,null,412,412,1.290539999999996,0.5499790044717441,0.9609845693815804,1,{"$f":"IF($C1273>n,L1272,(IF($K1273=1,$H1273,xMin)))","v":1.290539999999996},0.5499790044717441,3.14,0]
[null,null,1272,null,null,272,272,0.8509400000000018,0.2023665117456241,0.7519004572904053,1,0.8509400000000018,0.2023665117456241,3.14,0]
[null,null,1273,null,null,972,972,3.0489400000000257,0.28153410717140687,0.092520147473921,0,0,0.9999996829318346,3.0489400000000257,0]
[null,null,1274,null,null,68,68,0.21038000000000015,0.42544427184831574,0.2088315365339459,0,0,0.9999996829318346,0.21038000000000015,0]
[null,null,1275,null,null,859,859,2.6941200000000096,0.3896914228135402,0.432688405616159,1,2.6941200000000096,0.3896914228135402,3.14,0]
[null,null,1276,null,null,861,861,2.70040000000001,0.6755419527552387,0.42701821719626765,0,0,0.9999996829318346,2.70040000000001,0]
[null,null,1277,null,null,395,395,1.2371599999999974,0.41874992687092716,0.9448577650865625,1,1.2371599999999974,0.41874992687092716,3.14,0]
[null,null,1278,null,null,584,584,1.8306199999999824,0.0747808288981135,0.9664352933009459,1,1.8306199999999824,0.0747808288981135,3.14,0]
[null,null,1279,null,null,562,562,1.7615399999999841,0.12074170090284828,0.9818635142818517,1,1.7615399999999841,0.12074170090284828,3.14,0]
[null,null,1280,null,null,332,332,1.0393400000000024,0.3515142666674422,0.8620699340661881,1,1.0393400000000024,0.3515142666674422,3.14,0]
[null,null,1281,null,null,416,416,1.3030999999999957,{"$f":"fmin+(fmax-fmin)*ABS(RAND())","v":0.24390075441227546},0.9643828005643793,1,1.3030999999999957,0.24390075441227546,3.14,0]
[null,null,1282,null,null,75,75,0.23236000000000018,0.06785677765259646,0.23027473922286892,1,0.23236000000000018,0.06785677765259646,3.14,0]
[null,null,1283,null,null,{"$f":"INT(1000*ABS(RAND()))+1","v":56},{"$f":"IF(F1285>0,F1285,-F1285)","v":56},0.1727000000000001,0.8391112385970537,0.17184280803515456,0,0,0.9999996829318346,0.1727000000000001,0]
[null,null,1284,null,null,615,615,1.92795999999998,0.11132394229234441,0.9368922226599442,1,1.92795999999998,0.11132394229234441,3.14,0]
[null,null,1285,null,null,775,775,2.4303599999999976,0.9385474917583521,0.6527680730641946,0,0,0.9999996829318346,2.4303599999999976,0]
[null,null,1286,null,null,378,378,1.1837799999999987,0.7464570386655158,0.9260392992527526,1,1.1837799999999987,0.7464570386655158,3.14,0]
[null,null,1287,null,null,457,457,1.4318399999999925,0.33827996647204983,0.9903610942977085,1,1.4318399999999925,0.33827996647204983,3.14,0]
[null,null,1288,null,null,728,728,2.282779999999991,0.10511788984709709,0.757067359591656,1,2.282779999999991,0.10511788984709709,3.14,0]
[null,null,1289,null,null,468,468,1.4663799999999916,0.8994014634717367,0.9945535664820925,1,1.4663799999999916,0.8994014634717367,3.14,0]
[null,null,1290,null,null,111,111,0.3453999999999995,0.8601352876876134,0.33857308036306144,0,0,0.9999996829318346,0.3453999999999995,0]
[null,null,1291,null,null,609,609,1.9091199999999804,0.5359405216106277,0.9433123740111307,1,1.9091199999999804,0.5359405216106277,3.14,0]
[null,null,1292,null,null,867,867,2.7192400000000108,0.21255794726403096,0.4099075045788626,1,2.7192400000000108,0.21255794726403096,3.14,0]
[null,null,1293,null,null,898,898,2.816580000000015,0.47528811674999527,0.31932077701498274,0,0,0.9999996829318346,2.816580000000015,0]
[null,null,1294,null,null,634,634,1.9876199999999784,0.3034208102551747,0.9143795124904281,1,1.9876199999999784,0.3034208102551747,3.14,0]
[null,null,1295,null,null,970,970,3.0426600000000255,0.907765043863277,0.0987713458579743,0,0,0.9999996829318346,3.0426600000000255,0]
[null,null,1296,null,null,478,478,1.4977799999999908,0.5973956396350888,0.9973354921192048,1,1.4977799999999908,0.5973956396350888,3.14,0]
[null,null,1297,null,null,591,591,1.8525999999999818,0.21714856720804473,0.9605554200325009,1,1.8525999999999818,0.21714856720804473,3.14,0]
[null,null,1298,null,null,793,793,2.48688,0.9554697356393641,0.6089313387087709,0,0,0.9999996829318346,2.48688,0]
[null,null,1299,null,null,237,237,0.7410400000000007,0.3472938841769506,0.6750555541359085,1,0.7410400000000007,0.3472938841769506,3.14,0]
[null,null,1300,null,null,224,224,0.7002200000000003,0.7873561702073213,0.6443859369274686,0,0,0.9999996829318346,0.7002200000000003,0]
[null,null,1301,null,null,172,172,0.5369399999999986,0.6426331012831007,0.5115090001040622,0,0,0.9999996829318346,0.5369399999999986,0]
[null,null,1302,null,null,74,74,0.22922000000000017,0.37658689741162177,0.22721799447333446,0,0,0.9999996829318346,0.22922000000000017,0]
[null,null,1303,null,null,115,115,0.3579599999999994,0.11803631850646838,0.35036427206705734,1,0.3579599999999994,0.11803631850646838,3.14,0]
[null,null,1304,null,null,818,818,2.5653800000000038,0.6198341439301347,0.5448520401299902,0,0,0.9999996829318346,2.5653800000000038,0]
[null,null,1305,null,null,552,552,1.730139999999985,0.6213730746971934,0.9873316355446335,1,1.730139999999985,0.6213730746971934,3.14,0]
[null,null,1306,null,null,298,298,0.9325800000000026,0.14508739583357028,0.8031596828969216,1,0.9325800000000026,0.14508739583357028,3.14,0]
[null,null,1307,null,null,881,881,2.7632000000000128,0.6906192583627854,0.36942730513943084,0,0,0.9999996829318346,2.7632000000000128,0]
[null,null,1308,null,null,575,575,1.802359999999983,0.7622331077274461,0.9733087224628333,1,1.802359999999983,0.7622331077274461,3.14,0]
[null,null,1309,null,null,881,881,2.7632000000000128,0.7710813009862527,0.36942730513943084,0,0,0.9999996829318346,2.7632000000000128,0]
[null,null,1310,null,null,770,770,2.414659999999997,0.1688247313045608,0.6645807934028797,1,2.414659999999997,0.1688247313045608,3.14,0]
[null,null,1311,null,null,650,650,2.03785999999998,0.7205112567517398,0.8928942648643446,1,2.03785999999998,0.7205112567517398,3.14,0]
[null,null,1312,null,null,21,21,0.06279999999999997,0.6118629645917124,0.0627587292804297,0,0,0.9999996829318346,0.06279999999999997,0]
[null,null,1313,null,null,721,721,2.26079999999999,0.4285299215599988,0.7712436768602838,1,2.26079999999999,0.4285299215599988,3.14,0]
[null,null,1314,null,null,283,283,0.8854800000000022,0.4820957347785887,0.7742188769241198,1,0.8854800000000022,0.4820957347785887,3.14,0]
[null,null,1315,null,null,51,51,0.15700000000000008,0.2667621244960603,0.15635581227524786,0,0,0.9999996829318346,0.15700000000000008,0]
[null,null,1316,null,null,771,771,2.417799999999997,0.6281222917132576,0.6622312614713978,1,2.417799999999997,0.6281222917132576,3.14,0]
[null,null,1317,null,null,452,452,1.4161399999999928,0.21412802567939165,0.9880645287290731,1,1.4161399999999928,0.21412802567939165,3.14,0]
[null,null,1318,null,null,158,158,0.49297999999999836,0.4311036168468927,0.4732531465266781,1,0.49297999999999836,0.4311036168468927,3.14,0]
[null,null,1319,null,null,337,337,1.055040000000002,0.45060326497286757,0.8699199561129781,1,1.055040000000002,0.45060326497286757,3.14,0]
[null,null,1320,null,null,781,781,2.4491999999999985,0.34526467927235877,0.6383806829873225,1,2.4491999999999985,0.34526467927235877,3.14,0]
[null,null,1321,null,null,760,760,2.3832599999999955,0.8223530123264746,0.6877119353342678,0,0,0.9999996829318346,2.3832599999999955,0]
[null,null,1322,null,null,350,350,1.095860000000001,0.9206288147151366,0.8893218400251783,0,0,0.9999996829318346,1.095860000000001,0]
[null,null,1323,null,null,827,827,2.593640000000005,0.7189957684465361,0.5209407216755038,0,0,0.9999996829318346,2.593640000000005,0]
[null,null,1324,null,null,653,653,2.0472799999999802,0.4855183411640073,0.8886132022786687,1,2.0472799999999802,0.4855183411640073,3.14,0]
[null,null,1325,null,null,767,767,2.4052399999999965,0.4650176257687555,0.6715899818864324,1,2.4052399999999965,0.4650176257687555,3.14,0]
[null,null,1326,null,null,785,785,2.461759999999999,0.2669938405075949,0.6286628912113009,1,2.461759999999999,0.2669938405075949,3.14,0]
[null,null,1327,null,null,648,648,2.0315799999999795,0.8488492856983381,0.8957043121727796,1,2.0315799999999795,0.8488492856983381,3.14,0]
[null,null,1328,null,null,283,283,0.8854800000000022,0.35666171889832105,0.7742188769241198,1,0.8854800000000022,0.35666171889832105,3.14,0]
[null,null,1329,null,null,653,653,2.0472799999999802,0.24773652481964514,0.8886132022786687,1,2.0472799999999802,0.24773652481964514,3.14,0]
[null,null,1330,null,null,509,509,1.5951199999999883,0.2805627076405645,0.9997041940455835,1,1.5951199999999883,0.2805627076405645,3.14,0]
[null,null,1331,null,null,494,494,1.5480199999999895,0.5070791079310758,0.9997406306817153,1,1.5480199999999895,0.5070791079310758,3.14,0]
[null,null,1332,null,null,922,922,2.8919400000000186,0.15661698304928265,0.24706739608520098,1,2.8919400000000186,0.15661698304928265,3.14,0]
[null,null,1333,null,null,305,305,0.9545600000000029,0.3103673859222195,0.8160595135812573,{"$f":"IF(OR(C1335>n,I1335>J1335),0,1)","v":1},0.9545600000000029,0.3103673859222195,3.14,0]
[null,null,1334,null,null,606,606,{"$f":"LOOKUP(G1336,C$3:C$1003,D$3:D$1003)","v":1.8996999999999806},0.5544717317358808,{"$f":"LOOKUP(H1336,D$3:D$1003,E$3:E$1003)","v":0.9463970319725213},1,1.8996999999999806,{"$f":"IF($C1336>n,fmin,(IF($K1336=1,I1336,fmax)))","v":0.5544717317358808},{"$f":"IF($C1336>n,xMin,(IF($K1336=0,$H1336,xMax)))","v":3.14},{"$f":"IF($C1336>n,fmin,(IF($K1336=0,K1336,fmin)))","v":0}]
[null,null,1335,null,null,462,462,1.447539999999992,0.613539666067001,0.9924135507744763,1,{"$f":"IF($C1337>n,L1336,(IF($K1337=1,$H1337,xMin)))","v":1.447539999999992},0.613539666067001,3.14,0]
[null,null,1336,null,null,692,692,2.169739999999986,0.8085030010857087,0.8259316013073994,1,2.169739999999986,0.8085030010857087,3.14,0]
[null,null,1337,null,null,36,36,0.10990000000000003,0.9039610128166558,0.10967890467865332,0,0,0.9999996829318346,0.10990000000000003,0]
[null,null,1338,null,null,638,638,2.000179999999978,0.3860686748132689,0.9092225056648986,1,2.000179999999978,0.3860686748132689,3.14,0]
[null,null,1339,null,null,589,589,1.846319999999982,0.8024479950846313,0.9622828638152577,1,1.846319999999982,0.8024479950846313,3.14,0]
[null,null,1340,null,null,480,480,1.5040599999999906,0.672783391521962,0.9977739577109417,1,1.5040599999999906,0.672783391521962,3.14,0]
[null,null,1341,null,null,581,581,1.8211999999999826,0.9754418878281641,0.9688124724210391,0,0,0.9999996829318346,1.8211999999999826,0]
[null,null,1342,null,null,959,959,3.008120000000024,0.29074813484325446,0.13307670501942892,0,0,0.9999996829318346,3.008120000000024,0]
[null,null,1343,null,null,397,397,1.2434399999999972,0.4703981933999858,0.9468957004551473,1,1.2434399999999972,0.4703981933999858,3.14,0]
[null,null,1344,null,null,813,813,2.549680000000003,0.418870710198453,0.5579493059647503,1,2.549680000000003,0.418870710198453,3.14,0]
[null,null,1345,null,null,647,647,2.0284399999999794,{"$f":"fmin+(fmax-fmin)*ABS(RAND())","v":0.9122266007891318},0.8970960958132725,0,0,0.9999996829318346,2.0284399999999794,0]
[null,null,1346,null,null,308,308,0.963980000000003,0.10105184596210497,0.8214676836668371,1,0.963980000000003,0.10105184596210497,3.14,0]
[null,null,1347,null,null,{"$f":"INT(1000*ABS(RAND()))+1","v":807},{"$f":"IF(F1349>0,F1349,-F1349)","v":807},2.530840000000002,0.05918118865157507,0.5734842088041335,1,2.530840000000002,0.05918118865157507,3.14,0]
[null,null,1348,null,null,686,686,2.150899999999985,0.6978482425166951,0.8364058300220902,1,2.150899999999985,0.6978482425166951,3.14,0]
[null,null,1349,null,null,290,290,0.9074600000000024,0.6167112273957062,0.787942280382704,1,0.9074600000000024,0.6167112273957062,3.14,0]
[null,null,1350,null,null,833,833,2.612480000000006,0.7129626184205373,0.5047675335242598,0,0,0.9999996829318346,2.612480000000006,0]
[null,null,1351,null,null,755,755,2.367559999999995,4.367999497266864E-3,0.6990246554489108,1,2.367559999999995,4.367999497266864E-3,3.14,0]
[null,null,1352,null,null,813,813,2.549680000000003,0.3165938479784076,0.5579493059647503,1,2.549680000000003,0.3165938479784076,3.14,0]
[null,null,1353,null,null,504,504,1.5794199999999887,0.1432556214660718,0.9999628163606653,1,1.5794199999999887,0.1432556214660718,3.14,0]
[null,null,1354,null,null,634,634,1.9876199999999784,0.8590729702552913,0.9143795124904281,1,1.9876199999999784,0.8590729702552913,3.14,0]
[null,null,1355,null,null,486,486,1.5228999999999902,0.30002265614085266,0.998853190202288,1,1.5228999999999902,0.30002265614085266,3.14,0]
[null,null,1356,null,null,660,660,2.0692599999999812,0.6669513707571697,0.8783180802228832,1,2.0692599999999812,0.6669513707571697,3.14,0]
[null,null,1357,null,null,33,33,0.10048000000000001,0.494903353144073,0.10031100712701232,0,0,0.9999996829318346,0.10048000000000001,0]
[null,null,1358,null,null,387,387,1.212039999999998,0.1474710806252687,0.9363342138032692,1,1.212039999999998,0.1474710806252687,3.14,0]
[null,null,1359,null,null,637,637,1.9970399999999782,0.276080034569427,0.9105252362158635,1,1.9970399999999782,0.276080034569427,3.14,0]
[null,null,1360,null,null,679,679,2.128919999999984,0.2029213644941802,0.8482502979011608,1,2.128919999999984,0.2029213644941802,3.14,0]
[null,null,1361,null,null,688,688,2.157179999999985,0.7060386267121602,0.8329472245493962,1,2.157179999999985,0.7060386267121602,3.14,0]
[null,null,1362,null,null,14,14,0.04081999999999999,0.05610634964761636,0.04080866473786159,0,0,0.9999996829318346,0.04081999999999999,0]
[null,null,1363,null,null,666,666,2.088099999999982,0.604423296393281,0.8691557746856846,1,2.088099999999982,0.604423296393281,3.14,0]
[null,null,1364,null,null,376,376,1.1774999999999989,0.5358590967049555,0.9236508119468102,1,1.1774999999999989,0.5358590967049555,3.14,0]
[null,null,1365,null,null,202,202,0.6311399999999996,0.5574423861060475,0.5900655262760014,1,0.6311399999999996,0.5574423861060475,3.14,0]
[null,null,1366,null,null,75,75,0.23236000000000018,0.6797780868516716,0.23027473922286892,0,0,0.9999996829318346,0.23236000000000018,0]
[null,null,1367,null,null,444,444,1.3910199999999935,0.7200298492438311,0.9838837122955791,1,1.3910199999999935,0.7200298492438311,3.14,0]
[null,null,1368,null,null,107,107,0.3328399999999996,0.5866238348441298,0.3267284782389212,0,0,0.9999996829318346,0.3328399999999996,0]
[null,null,1369,null,null,624,624,1.9562199999999792,0.377314819158962,0.9266392351550934,1,1.9562199999999792,0.377314819158962,3.14,0]
[null,null,1370,null,null,601,601,1.883999999999981,0.09499421878501124,0.9513513762338344,1,1.883999999999981,0.09499421878501124,3.14,0]
[null,null,1371,null,null,554,554,1.7364199999999848,0.9715814112471782,0.9863157237325639,1,1.7364199999999848,0.9715814112471782,3.14,0]
[null,null,1372,null,null,591,591,1.8525999999999818,0.8616764032949797,0.9605554200325009,1,1.8525999999999818,0.8616764032949797,3.14,0]
[null,null,1373,null,null,851,851,2.6690000000000085,0.639980604037772,0.45519628839578913,0,0,0.9999996829318346,2.6690000000000085,0]
[null,null,1374,null,null,84,84,0.26062000000000013,0.2968540635209378,0.2576796642293318,0,0,0.9999996829318346,0.26062000000000013,0]
[null,null,1375,null,null,129,129,0.40191999999999906,0.5869644351748873,0.39118606055493954,0,0,0.9999996829318346,0.40191999999999906,0]
[null,null,1376,null,null,679,679,2.128919999999984,0.36875029108130364,0.8482502979011608,1,2.128919999999984,0.36875029108130364,3.14,0]
[null,null,1377,null,null,671,671,2.103799999999983,0.16192842592358772,0.861284723704258,1,2.103799999999983,0.16192842592358772,3.14,0]
[null,null,1378,null,null,230,230,0.7190600000000005,0.023015574459775295,0.6586776833740274,1,0.7190600000000005,0.023015574459775295,3.14,0]
[null,null,1379,null,null,226,226,0.7065000000000003,0.16779551970408474,0.6491755173969226,1,0.7065000000000003,0.16779551970408474,3.14,0]
[null,null,1380,null,null,253,253,0.7912800000000012,0.5752832668508041,0.7112536122543105,1,0.7912800000000012,0.5752832668508041,3.14,0]
[null,null,1381,null,null,553,553,1.7332799999999848,0.8333015665662066,0.9868285445019602,1,1.7332799999999848,0.8333015665662066,3.14,0]
[null,null,1382,null,null,701,701,2.197999999999987,0.5816285841961398,0.8096717882771718,1,2.197999999999987,0.5816285841961398,3.14,0]
[null,null,1383,null,null,682,682,2.1383399999999844,0.24653024269384322,0.8432239466691603,1,2.1383399999999844,0.24653024269384322,3.14,0]
[null,null,1384,null,null,428,428,1.3407799999999948,0.7293092009826271,0.9736626727333337,1,1.3407799999999948,0.7293092009826271,3.14,0]
[null,null,1385,null,null,293,293,0.9168800000000025,0.0707547658716402,0.7937075918651685,1,0.9168800000000025,0.0707547658716402,3.14,0]
[null,null,1386,null,null,196,196,0.6122999999999994,0.8231569041007097,0.5747511336456522,0,0,0.9999996829318346,0.6122999999999994,0]
[null,null,1387,null,null,654,654,2.0504199999999804,0.8947809457897583,0.8871686398433398,0,0,0.9999996829318346,2.0504199999999804,0]
[null,null,1388,null,null,178,178,0.5557799999999988,0.625409451509097,0.5276060621833467,0,0,0.9999996829318346,0.5557799999999988,0]
[null,null,1389,null,null,9,9,0.02512,0.6285056055289551,0.025117358236396256,0,0,0.9999996829318346,0.02512,0]
[null,null,1390,null,null,241,241,0.7536000000000008,0.5856782009186136,0.6842684172472769,1,0.7536000000000008,0.5856782009186136,3.14,0]
[null,null,1391,null,null,623,623,1.9530799999999793,0.344337518464464,0.9278151536077415,1,1.9530799999999793,0.344337518464464,3.14,0]
[null,null,1392,null,null,953,953,2.989280000000023,0.2574304676780983,0.15172441579332915,0,0,0.9999996829318346,2.989280000000023,0]
[null,null,1393,null,null,870,870,2.728660000000011,0.48335083118512223,0.4012972076924471,0,0,0.9999996829318346,2.728660000000011,0]
[null,null,1394,null,null,205,205,0.6405599999999997,0.677064142007372,0.5976445213230874,0,0,0.9999996829318346,0.6405599999999997,0]
[null,null,1395,null,null,237,237,0.7410400000000007,0.5035707035147079,0.6750555541359085,1,0.7410400000000007,0.5035707035147079,3.14,0]
[null,null,1396,null,null,184,184,0.574619999999999,0.9828696115781356,0.5435158583515252,0,0,0.9999996829318346,0.574619999999999,0]
[null,null,1397,null,null,757,757,2.373839999999995,0.3852105851847944,0.694520088081548,{"$f":"IF(OR(C1399>n,I1399>J1399),0,1)","v":1},2.373839999999995,0.3852105851847944,3.14,0]
[null,null,1398,null,null,208,208,{"$f":"LOOKUP(G1400,C$3:C$1003,D$3:D$1003)","v":0.6499799999999998},0.17789994000993786,{"$f":"LOOKUP(H1400,D$3:D$1003,E$3:E$1003)","v":0.6051704839390322},1,0.6499799999999998,{"$f":"IF($C1400>n,fmin,(IF($K1400=1,I1400,fmax)))","v":0.17789994000993786},{"$f":"IF($C1400>n,xMin,(IF($K1400=0,$H1400,xMax)))","v":3.14},{"$f":"IF($C1400>n,fmin,(IF($K1400=0,K1400,fmin)))","v":0}]
[null,null,1399,null,null,815,815,2.5559600000000033,0.4302374998799974,0.5527267227299762,1,{"$f":"IF($C1401>n,L1400,(IF($K1401=1,$H1401,xMin)))","v":2.5559600000000033},0.4302374998799974,3.14,0]
[null,null,1400,null,null,374,374,1.171219999999999,0.9189588903237788,0.9212258974504054,1,1.171219999999999,0.9189588903237788,3.14,0]
[null,null,1401,null,null,596,596,1.8682999999999814,0.4068861657741675,0.9560712267111767,1,1.8682999999999814,0.4068861657741675,3.14,0]
[null,null,1402,null,null,790,790,2.4774599999999998,0.5134406059873717,0.616376371261321,1,2.4774599999999998,0.5134406059873717,3.14,0]
[null,null,1403,null,null,30,30,0.09106,0.9687804717376117,0.09093420840354029,0,0,0.9999996829318346,0.09106,0]
[null,null,1404,null,null,892,892,2.7977400000000143,0.2790376043968801,0.33711671534072296,1,2.7977400000000143,0.2790376043968801,3.14,0]
[null,null,1405,null,null,469,469,1.4695199999999915,0.44972587381774337,0.9948759348121261,1,1.4695199999999915,0.44972587381774337,3.14,0]
[null,null,1406,null,null,484,484,1.5166199999999903,0.8436777027554455,0.9985328217166253,1,1.5166199999999903,0.8436777027554455,3.14,0]
[null,null,1407,null,null,299,299,0.9357200000000027,0.3821568859108457,0.8050264187899476,1,0.9357200000000027,0.3821568859108457,3.14,0]
[null,null,1408,null,null,189,189,0.5903199999999992,0.8720975013793462,0.556626895439873,0,0,0.9999996829318346,0.5903199999999992,0]
[null,null,1409,null,null,210,210,0.6562599999999998,{"$f":"fmin+(fmax-fmin)*ABS(RAND())","v":0.9739768544950153},0.6101579999038804,0,0,0.9999996829318346,0.6562599999999998,0]
[null,null,1410,null,null,693,693,2.172879999999986,0.11332477693036247,0.8241572936920594,1,2.172879999999986,0.11332477693036247,3.14,0]
[null,null,1411,null,null,{"$f":"INT(1000*ABS(RAND()))+1","v":602},{"$f":"IF(F1413>0,F1413,-F1413)","v":602},1.887139999999981,0.19005843902076391,0.9503792286372532,1,1.887139999999981,0.19005843902076391,3.14,0]
[null,null,1412,null,null,165,165,0.5149599999999984,0.7748264940160343,0.4925000369331967,0,0,0.9999996829318346,0.5149599999999984,0]
[null,null,1413,null,null,7,7,0.01884,0.5656877608272431,0.018838885490595692,0,0,0.9999996829318346,0.01884,0]
[null,null,1414,null,null,769,769,2.4115199999999968,0.5918605138186641,0.6669237728389547,1,2.4115199999999968,0.5918605138186641,3.14,0]
[null,null,1415,null,null,511,511,1.6013999999999882,0.33200371284917957,0.9995317441416667,1,1.6013999999999882,0.33200371284917957,3.14,0]
[null,null,1416,null,null,491,491,1.5385999999999898,0.7627411163259196,0.9994817430416912,1,1.5385999999999898,0.7627411163259196,3.14,0]
[null,null,1417,null,null,402,402,1.2591399999999968,0.6133603766357464,0.9518269869987422,1,1.2591399999999968,0.6133603766357464,3.14,0]
[null,null,1418,null,null,913,913,2.8636800000000173,0.39197316920640357,0.2743489923590254,0,0,0.9999996829318346,2.8636800000000173,0]
[null,null,1419,null,null,891,891,2.794600000000014,0.9195142394838477,0.34007124195249444,0,0,0.9999996829318346,2.794600000000014,0]
[null,null,1420,null,null,871,871,2.7318000000000113,0.4889951905251742,0.39841915770682573,0,0,0.9999996829318346,2.7318000000000113,0]
[null,null,1421,null,null,6,6,0.0157,0.5224441968082012,0.015699355025782367,0,0,0.9999996829318346,0.0157,0]
[null,null,1422,null,null,937,937,2.9390400000000207,0.42313379049037564,0.20117045127792868,0,0,0.9999996829318346,2.9390400000000207,0]
[null,null,1423,null,null,315,315,0.9859600000000032,0.36696201178351,0.8338024549622756,1,0.9859600000000032,0.36696201178351,3.14,0]
[null,null,1424,null,null,159,159,0.49611999999999834,0.565889458081772,0.4760169180800966,0,0,0.9999996829318346,0.49611999999999834,0]
[null,null,1425,null,null,241,241,0.7536000000000008,0.3701880310133032,0.6842684172472769,1,0.7536000000000008,0.3701880310133032,3.14,0]
[null,null,1426,null,null,383,383,1.1994799999999983,0.8707700927808157,0.931850533931708,1,1.1994799999999983,0.8707700927808157,3.14,0]
[null,null,1427,null,null,243,243,0.7598800000000009,0.30933230210634705,0.6888344598292374,1,0.7598800000000009,0.30933230210634705,3.14,0]
[null,null,1428,null,null,873,873,2.7380800000000116,0.6986313924932929,0.39265130139981297,0,0,0.9999996829318346,2.7380800000000116,0]
[null,null,1429,null,null,924,924,2.898220000000019,0.5020760286448174,0.2409772548165826,0,0,0.9999996829318346,2.898220000000019,0]
[null,null,1430,null,null,441,441,1.3815999999999937,0.08441729113924994,0.9821556988007228,1,1.3815999999999937,0.08441729113924994,3.14,0]
[null,null,1431,null,null,258,258,0.8069800000000014,0.05828502895238561,0.7222015893759779,1,0.8069800000000014,0.05828502895238561,3.14,0]
[null,null,1432,null,null,683,683,2.1414799999999845,0.7703291021350331,0.8415318464626226,1,2.1414799999999845,0.7703291021350331,3.14,0]
[null,null,1433,null,null,760,760,2.3832599999999955,0.4049455482850203,0.6877119353342678,1,2.3832599999999955,0.4049455482850203,3.14,0]
[null,null,1434,null,null,701,701,2.197999999999987,0.7808496719027312,0.8096717882771718,1,2.197999999999987,0.7808496719027312,3.14,0]
[null,null,1435,null,null,369,369,1.1555199999999994,0.8081829801955236,0.915004873377313,1,1.1555199999999994,0.8081829801955236,3.14,0]
[null,null,1436,null,null,545,545,1.7081599999999855,0.05449014348015769,0.9905804359316693,1,1.7081599999999855,0.05449014348015769,3.14,0]
[null,null,1437,null,null,897,897,2.813440000000015,0.11560501152101718,0.32229480853283127,1,2.813440000000015,0.11560501152101718,3.14,0]
[null,null,1438,null,null,964,964,3.0238200000000246,0.043163063619575004,0.11750058341591105,1,3.0238200000000246,0.043163063619575004,3.14,0]
[null,null,1439,null,null,547,547,1.7144399999999853,0.10879105289449699,0.9897009746079225,1,1.7144399999999853,0.10879105289449699,3.14,0]
[null,null,1440,null,null,386,386,1.208899999999998,0.9469759832350454,0.9352271142427316,0,0,0.9999996829318346,1.208899999999998,0]
[null,null,1441,null,null,335,335,1.0487600000000021,0.972162135306292,0.8668055707778552,0,0,0.9999996829318346,1.0487600000000021,0]
[null,null,1442,null,null,238,238,0.7441800000000007,0.2149022037754021,0.6773688105092034,1,0.7441800000000007,0.2149022037754021,3.14,0]
[null,null,1443,null,null,577,577,1.808639999999983,0.04188697880383739,0.9718482807612095,1,1.808639999999983,0.04188697880383739,3.14,0]
[null,null,1444,null,null,311,311,0.973400000000003,0.5976678277910631,0.8268029602064803,1,0.973400000000003,0.5976678277910631,3.14,0]
[null,null,1445,null,null,28,28,0.08478,0.5943083330067187,0.08467847502126986,0,0,0.9999996829318346,0.08478,0]
[null,null,1446,null,null,611,611,1.9153999999999802,0.27204528293350133,0.9412094150984703,1,1.9153999999999802,0.27204528293350133,3.14,0]
[null,null,1447,null,null,272,272,0.8509400000000018,0.3673715637023512,0.7519004572904053,1,0.8509400000000018,0.3673715637023512,3.14,0]
[null,null,1448,null,null,733,733,2.2984799999999916,0.6671199580711223,0.7467170899006036,1,2.2984799999999916,0.6671199580711223,3.14,0]
[null,null,1449,null,null,990,990,3.1054600000000283,0.3575439364280655,0.03612479182632531,0,0,0.9999996829318346,3.1054600000000283,0]
[null,null,1450,null,null,991,991,3.1086000000000285,0.6319995999463901,0.03298666841475171,0,0,0.9999996829318346,3.1086000000000285,0]
[null,null,1451,null,null,158,158,0.49297999999999836,0.4377446950298817,0.4732531465266781,1,0.49297999999999836,0.4377446950298817,3.14,0]
[null,null,1452,null,null,277,277,0.866640000000002,0.5720879375208541,0.7621580094235599,1,0.866640000000002,0.5720879375208541,3.14,0]
[null,null,1453,null,null,75,75,0.23236000000000018,0.645396796921552,0.23027473922286892,0,0,0.9999996829318346,0.23236000000000018,0]
[null,null,1454,null,null,98,98,0.3045799999999998,0.6144298354161304,0.2998925330151033,0,0,0.9999996829318346,0.3045799999999998,0]
[null,null,1455,null,null,214,214,0.66882,0.4763844613343782,0.6200606453550669,1,0.66882,0.4763844613343782,3.14,0]
[null,null,1456,null,null,333,333,1.0424800000000023,0.8276333315322132,0.8636570001302613,1,1.0424800000000023,0.8276333315322132,3.14,0]
[null,null,1457,null,null,361,361,1.1304,0.2417264027012539,0.9045827809444728,1,1.1304,0.2417264027012539,3.14,0]
[null,null,1458,null,null,708,708,2.219979999999988,0.20991062801515692,0.7965775631222011,1,2.219979999999988,0.20991062801515692,3.14,0]
[null,null,1459,null,null,777,777,2.436639999999998,0.5228331727708408,0.6479977692363312,1,2.436639999999998,0.5228331727708408,3.14,0]
[null,null,1460,null,null,295,295,0.9231600000000025,0.7740527465533464,0.7975120362688412,1,0.9231600000000025,0.7740527465533464,3.14,0]
[null,null,1461,null,null,19,19,0.05651999999999997,0.0475244826762047,0.05648991251817275,{"$f":"IF(OR(C1463>n,I1463>J1463),0,1)","v":1},0.05651999999999997,0.0475244826762047,3.14,0]
[null,null,1462,null,null,175,175,{"$f":"LOOKUP(G1464,C$3:C$1003,D$3:D$1003)","v":0.5463599999999987},0.4206971657687527,{"$f":"LOOKUP(H1464,D$3:D$1003,E$3:E$1003)","v":0.5195805838284954},1,0.5463599999999987,{"$f":"IF($C1464>n,fmin,(IF($K1464=1,I1464,fmax)))","v":0.4206971657687527},{"$f":"IF($C1464>n,xMin,(IF($K1464=0,$H1464,xMax)))","v":3.14},{"$f":"IF($C1464>n,fmin,(IF($K1464=0,K1464,fmin)))","v":0}]
[null,null,1463,null,null,740,740,2.3204599999999926,0.05196755493374142,0.7319180808661861,1,{"$f":"IF($C1465>n,L1464,(IF($K1465=1,$H1465,xMin)))","v":2.3204599999999926},0.05196755493374142,3.14,0]
[null,null,1464,null,null,848,848,2.659580000000008,0.43706081900448523,0.46356345257035414,1,2.659580000000008,0.43706081900448523,3.14,0]
[null,null,1465,null,null,927,927,2.9076400000000193,0.8900091452126133,0.2318242985876035,0,0,0.9999996829318346,2.9076400000000193,0]
[null,null,1466,null,null,841,841,2.637600000000007,0.4092711878514739,0.4829255911369341,1,2.637600000000007,0.4092711878514739,3.14,0]
[null,null,1467,null,null,289,289,0.9043200000000023,7.2747512025960765E-3,0.786004946969202,1,0.9043200000000023,7.2747512025960765E-3,3.14,0]
[null,null,1468,null,null,241,241,0.7536000000000008,0.48008323947004156,0.6842684172472769,1,0.7536000000000008,0.48008323947004156,3.14,0]
[null,null,1469,null,null,143,143,0.4458799999999987,0.21166218619764035,0.43125201091065846,1,0.4458799999999987,0.21166218619764035,3.14,0]
[null,null,1470,null,null,14,14,0.04081999999999999,0.39992848525437513,0.04080866473786159,0,0,0.9999996829318346,0.04081999999999999,0]
[null,null,1471,null,null,117,117,0.36423999999999934,0.28428686935979974,0.3562392573998173,1,0.36423999999999934,0.28428686935979974,3.14,0]
[null,null,1472,null,null,127,127,0.3956399999999991,0.43489579800255374,0.38539882776039586,0,0,0.9999996829318346,0.3956399999999991,0]
[null,null,1473,null,null,100,100,0.31085999999999975,{"$f":"fmin+(fmax-fmin)*ABS(RAND())","v":0.884607206263459},0.3058775304019119,0,0,0.9999996829318346,0.31085999999999975,0]
[null,null,1474,null,null,487,487,1.52603999999999,0.7387965130814648,0.9989986027832901,1,1.52603999999999,0.7387965130814648,3.14,0]
[null,null,1475,null,null,{"$f":"INT(1000*ABS(RAND()))+1","v":215},{"$f":"IF(F1477>0,F1477,-F1477)","v":215},0.67196,0.13254073593967836,0.6225210837285488,1,0.67196,0.13254073593967836,3.14,0]
[null,null,1476,null,null,555,555,1.7395599999999847,0.1211727194856016,0.9857931782926479,1,1.7395599999999847,0.1211727194856016,3.14,0]
[null,null,1477,null,null,209,209,0.6531199999999998,0.45964772362831335,0.6076672375969429,1,0.6531199999999998,0.45964772362831335,3.14,0]
[null,null,1478,null,null,629,629,1.9719199999999788,0.5746415955294836,0.9206228336533062,1,1.9719199999999788,0.5746415955294836,3.14,0]
[null,null,1479,null,null,611,611,1.9153999999999802,0.7466484128382861,0.9412094150984703,1,1.9153999999999802,0.7466484128382861,3.14,0]
[null,null,1480,null,null,601,601,1.883999999999981,0.04222898458261332,0.9513513762338344,1,1.883999999999981,0.04222898458261332,3.14,0]
[null,null,1481,null,null,160,160,0.4992599999999983,0.22273509978786343,0.47877599630096573,1,0.4992599999999983,0.22273509978786343,3.14,0]
[null,null,1482,null,null,595,595,1.8651599999999815,0.5895250233781354,0.9569869541552846,1,1.8651599999999815,0.5895250233781354,3.14,0]
[null,null,1483,null,null,55,55,0.1695600000000001,0.9177708284137632,0.16874867540669744,0,0,0.9999996829318346,0.1695600000000001,0]
[null,null,1484,null,null,569,569,1.7835199999999836,0.42525992853992955,0.9774595110746634,1,1.7835199999999836,0.42525992853992955,3.14,0]
[null,null,1485,null,null,648,648,2.0315799999999795,0.13082279838278946,0.8957043121727796,1,2.0315799999999795,0.13082279838278946,3.14,0]
[null,null,1486,null,null,424,424,1.328219999999995,0.09805182346027005,0.9707223522772349,1,1.328219999999995,0.09805182346027005,3.14,0]
[null,null,1487,null,null,720,720,2.25765999999999,0.980466613052166,0.7732386071494857,0,0,0.9999996829318346,2.25765999999999,0]
[null,null,1488,null,null,926,926,2.904500000000019,0.6603732964518356,0.23487760982183223,0,0,0.9999996829318346,2.904500000000019,0]
[null,null,1489,null,null,398,398,1.2465799999999971,0.14127512567104622,0.9479006691319886,1,1.2465799999999971,0.14127512567104622,3.14,0]
[null,null,1490,null,null,73,73,0.22608000000000017,0.4780151818584921,0.22415900944710238,0,0,0.9999996829318346,0.22608000000000017,0]
[null,null,1491,null,null,718,718,2.2513799999999895,0.4552956870217678,0.7772055766825375,1,2.2513799999999895,0.4552956870217678,3.14,0]
[null,null,1492,null,null,138,138,0.43017999999999884,0.06436638769214025,0.4170344095099607,1,0.43017999999999884,0.06436638769214025,3.14,0]
[null,null,1493,null,null,633,633,1.9844799999999785,0.8223128325985148,0.9156462572318358,1,1.9844799999999785,0.8223128325985148,3.14,0]
[null,null,1494,null,null,571,571,1.7897999999999834,0.6782225952257254,0.9761143929449557,1,1.7897999999999834,0.6782225952257254,3.14,0]
[null,null,1495,null,null,88,88,0.27318000000000003,0.33610252205205987,0.26979487432752414,0,0,0.9999996829318346,0.27318000000000003,0]
[null,null,1496,null,null,305,305,0.9545600000000029,0.04037296653052614,0.8160595135812573,1,0.9545600000000029,0.04037296653052614,3.14,0]
[null,null,1497,null,null,32,32,0.09734000000000001,0.10848913632782861,0.0971863554979125,0,0,0.9999996829318346,0.09734000000000001,0]
[null,null,1498,null,null,610,610,1.9122599999999803,0.884132282551291,0.9422655397316416,1,1.9122599999999803,0.884132282551291,3.14,0]
[null,null,1499,null,null,788,788,2.4711799999999995,0.033793244910883494,0.6213093809798909,1,2.4711799999999995,0.033793244910883494,3.14,0]
[null,null,1500,null,null,620,620,1.9436599999999795,0.06635606018320424,0.9312879757678327,1,1.9436599999999795,0.06635606018320424,3.14,0]
[null,null,1501,null,null,534,534,1.6736199999999863,0.4983465663851747,0.9947183020627394,1,1.6736199999999863,0.4983465663851747,3.14,0]
[null,null,1502,null,null,472,472,1.4789399999999913,0.15684743136270338,0.9957841731478996,1,1.4789399999999913,0.15684743136270338,3.14,0]
[null,null,1503,null,null,894,894,2.8040200000000146,0.9120602978261166,0.3311977197806714,0,0,0.9999996829318346,2.8040200000000146,0]
[null,null,1504,null,null,527,527,1.651639999999987,0.6802797322509656,0.9967339296706533,1,1.651639999999987,0.6802797322509656,3.14,0]
[null,null,1505,null,null,623,623,1.9530799999999793,0.3637686855666968,0.9278151536077415,1,1.9530799999999793,0.3637686855666968,3.14,0]
[null,null,1506,null,null,280,280,0.8760600000000021,0.545026104078409,0.7682225275725427,1,0.8760600000000021,0.545026104078409,3.14,0]
[null,null,1507,null,null,400,400,1.252859999999997,0.9872241457521569,0.9498825589279617,0,0,0.9999996829318346,1.252859999999997,0]
[null,null,1508,null,null,657,657,2.059839999999981,0.6074538044034404,0.8827825272152047,1,2.059839999999981,0.6074538044034404,3.14,0]
[null,null,1509,null,null,863,863,2.70668000000001,0.05810443530504424,0.42133118791646734,1,2.70668000000001,0.05810443530504424,3.14,0]
[null,null,1510,null,null,125,125,0.38935999999999915,0.7534067727831877,0.3795963955026771,0,0,0.9999996829318346,0.38935999999999915,0]
[null,null,1511,null,null,732,732,2.2953399999999915,0.13155352092467962,0.7488019504952347,1,2.2953399999999915,0.13155352092467962,3.14,0]
[null,null,1512,null,null,423,423,1.3250799999999952,0.4765847827907758,0.9699633264923766,1,1.3250799999999952,0.4765847827907758,3.14,0]
[null,null,1513,null,null,74,74,0.22922000000000017,0.3208850141778731,0.22721799447333446,0,0,0.9999996829318346,0.22922000000000017,0]
[null,null,1514,null,null,496,496,1.5542999999999894,0.15191242921511947,0.9998639386866967,1,1.5542999999999894,0.15191242921511947,3.14,0]
[null,null,1515,null,null,459,459,1.4381199999999923,0.02386060025638705,0.9912113996590179,1,1.4381199999999923,0.02386060025638705,3.14,0]
[null,null,1516,null,null,666,666,2.088099999999982,0.4212542620768914,0.8691557746856846,1,2.088099999999982,0.4212542620768914,3.14,0]
[null,null,1517,null,null,283,283,0.8854800000000022,0.8397899616079754,0.7742188769241198,0,0,0.9999996829318346,0.8854800000000022,0]
[null,null,1518,null,null,175,175,0.5463599999999987,0.08856939005641089,0.5195805838284954,1,0.5463599999999987,0.08856939005641089,3.14,0]
[null,null,1519,null,null,281,281,0.8792000000000021,0.2674860124370018,0.7702289114015539,1,0.8792000000000021,0.2674860124370018,3.14,0]
[null,null,1520,null,null,790,790,2.4774599999999998,0.8382812413517515,0.616376371261321,0,0,0.9999996829318346,2.4774599999999998,0]
[null,null,1521,null,null,687,687,2.154039999999985,0.48531741090268105,0.8346806420909918,1,2.154039999999985,0.48531741090268105,3.14,0]
[null,null,1522,null,null,976,976,3.0615000000000263,0.5307547228621706,0.08000705088239393,0,0,0.9999996829318346,3.0615000000000263,0]
[null,null,1523,null,null,506,506,1.5856999999999886,0.7969162972938266,0.9998889423181936,1,1.5856999999999886,0.7969162972938266,3.14,0]
[null,null,1524,null,null,271,271,0.8478000000000018,0.2912769107898132,0.7498266252927496,1,0.8478000000000018,0.2912769107898132,3.14,0]
[null,null,1525,null,null,925,925,2.901360000000019,0.14491770831051215,0.2379286052586819,{"$f":"IF(OR(C1527>n,I1527>J1527),0,1)","v":1},2.901360000000019,0.14491770831051215,3.14,0]
[null,null,1526,null,null,165,165,{"$f":"LOOKUP(G1528,C$3:C$1003,D$3:D$1003)","v":0.5149599999999984},0.7977440732794536,{"$f":"LOOKUP(H1528,D$3:D$1003,E$3:E$1003)","v":0.4925000369331967},0,0,{"$f":"IF($C1528>n,fmin,(IF($K1528=1,I1528,fmax)))","v":0.9999996829318346},{"$f":"IF($C1528>n,xMin,(IF($K1528=0,$H1528,xMax)))","v":0.5149599999999984},{"$f":"IF($C1528>n,fmin,(IF($K1528=0,K1528,fmin)))","v":0}]
[null,null,1527,null,null,971,971,3.0458000000000256,0.5594848204785952,0.09564621818228664,0,{"$f":"IF($C1529>n,L1528,(IF($K1529=1,$H1529,xMin)))","v":0},0.9999996829318346,3.0458000000000256,0]
[null,null,1528,null,null,63,63,0.19468000000000013,0.18091221950886252,0.19345258979267752,1,0.19468000000000013,0.18091221950886252,3.14,0]
[null,null,1529,null,null,78,78,0.2417800000000002,0.6438742973378374,0.2394312305409526,0,0,0.9999996829318346,0.2417800000000002,0]
[null,null,1530,null,null,396,396,1.2402999999999973,0.8559584492971059,0.9458813957731285,1,1.2402999999999973,0.8559584492971059,3.14,0]
[null,null,1531,null,null,217,217,0.6782400000000001,0.9697525040612173,0.627423522865608,0,0,0.9999996829318346,0.6782400000000001,0]
[null,null,1532,null,null,429,429,1.3439199999999947,0.6927352500025784,0.9743737709385394,1,1.3439199999999947,0.6927352500025784,3.14,0]
[null,null,1533,null,null,564,564,1.767819999999984,0.6518373260284415,0.9806535408537311,1,1.767819999999984,0.6518373260284415,3.14,0]
[null,null,1534,null,null,198,198,0.6185799999999995,0.06904937649734727,0.5798788677176882,1,0.6185799999999995,0.06904937649734727,3.14,0]
[null,null,1535,null,null,628,628,1.9687799999999789,0.6234400917472187,0.9218443157888075,1,1.9687799999999789,0.6234400917472187,3.14,0]
[null,null,1536,null,null,399,399,1.249719999999997,0.295631453093886,0.9488962918950714,1,1.249719999999997,0.295631453093886,3.14,0]
[null,null,1537,null,null,113,113,0.35167999999999944,{"$f":"fmin+(fmax-fmin)*ABS(RAND())","v":0.09217539245952652},0.3444754689734025,1,0.35167999999999944,0.09217539245952652,3.14,0]
[null,null,1538,null,null,92,92,0.28573999999999994,0.8824012474816691,0.2818675238725408,0,0,0.9999996829318346,0.28573999999999994,0]
[null,null,1539,null,null,{"$f":"INT(1000*ABS(RAND()))+1","v":784},{"$f":"IF(F1541>0,F1541,-F1541)","v":784},2.458619999999999,0.9122961803607921,0.6311016967319513,0,0,0.9999996829318346,2.458619999999999,0]
[null,null,1540,null,null,365,365,1.1429599999999998,0.7388431973471192,0.9098655935038812,1,1.1429599999999998,0.7388431973471192,3.14,0]
[null,null,1541,null,null,208,208,0.6499799999999998,0.7402230709852993,0.6051704839390322,0,0,0.9999996829318346,0.6499799999999998,0]
[null,null,1542,null,null,39,39,0.11932000000000004,0.5930628292435319,0.11903706979110598,0,0,0.9999996829318346,0.11932000000000004,0]
[null,null,1543,null,null,609,609,1.9091199999999804,0.03044756080313526,0.9433123740111307,1,1.9091199999999804,0.03044756080313526,3.14,0]
[null,null,1544,null,null,914,914,2.8668200000000175,0.8424059760200837,0.27132812602656714,0,0,0.9999996829318346,2.8668200000000175,0]
[null,null,1545,null,null,786,786,2.464899999999999,0.37240535965053606,0.6262178873311012,1,2.464899999999999,0.37240535965053606,3.14,0]
[null,null,1546,null,null,372,372,1.1649399999999992,0.8313766720368423,0.9187646513979717,1,1.1649399999999992,0.8313766720368423,3.14,0]
[null,null,1547,null,null,712,712,2.2325399999999886,0.5019275329464958,0.7889219556683208,1,2.2325399999999886,0.5019275329464958,3.14,0]
[null,null,1548,null,null,962,962,3.0175400000000243,0.008190129445538706,0.12373472268192008,1,3.0175400000000243,0.008190129445538706,3.14,0]
[null,null,1549,null,null,811,811,2.5434000000000028,0.5020078554843799,0.5631498846439349,1,2.5434000000000028,0.5020078554843799,3.14,0]
[null,null,1550,null,null,768,768,2.4083799999999966,0.9877807483542124,0.6692601766788017,0,0,0.9999996829318346,2.4083799999999966,0]
[null,null,1551,null,null,217,217,0.6782400000000001,0.9089141793521781,0.627423522865608,0,0,0.9999996829318346,0.6782400000000001,0]
[null,null,1552,null,null,284,284,0.8886200000000022,0.027989876140690522,0.776202419278243,1,0.8886200000000022,0.027989876140690522,3.14,0]
[null,null,1553,null,null,218,218,0.6813800000000001,0.48553320489836116,0.6298654752931363,1,0.6813800000000001,0.48553320489836116,3.14,0]
[null,null,1554,null,null,646,646,2.0252999999999792,0.5970615430841073,0.8984790344523665,1,2.0252999999999792,0.5970615430841073,3.14,0]
[null,null,1555,null,null,27,27,0.08163999999999999,0.6191307164021408,0.08154934056544663,0,0,0.9999996829318346,0.08163999999999999,0]
[null,null,1556,null,null,940,940,2.948460000000021,0.35669590655183475,0.19193424235292092,0,0,0.9999996829318346,2.948460000000021,0]
[null,null,1557,null,null,125,125,0.38935999999999915,0.21998335615621295,0.3795963955026771,1,0.38935999999999915,0.21998335615621295,3.14,0]
[null,null,1558,null,null,500,500,1.566859999999989,0.6911300298563533,0.9999922526756854,1,1.566859999999989,0.6911300298563533,3.14,0]
[null,null,1559,null,null,211,211,0.6593999999999999,0.5113528735413388,0.6126427463019449,1,0.6593999999999999,0.5113528735413388,3.14,0]
[null,null,1560,null,null,546,546,1.7112999999999854,0.05447439835482554,0.9901455864854977,1,1.7112999999999854,0.05447439835482554,3.14,0]
[null,null,1561,null,null,950,950,2.9798600000000226,0.9363323743510863,0.16102848951123444,0,0,0.9999996829318346,2.9798600000000226,0]
[null,null,1562,null,null,186,186,0.5808999999999991,0.17734438496235544,0.5487765311254869,1,0.5808999999999991,0.17734438496235544,3.14,0]
[null,null,1563,null,null,256,256,0.8007000000000013,0.8174062700074074,0.7178436098040032,0,0,0.9999996829318346,0.8007000000000013,0]
[null,null,1564,null,null,54,54,0.1664200000000001,0.08937994429093009,0.16565287898516734,1,0.1664200000000001,0.08937994429093009,3.14,0]
[null,null,1565,null,null,211,211,0.6593999999999999,0.855358163524428,0.6126427463019449,0,0,0.9999996829318346,0.6593999999999999,0]
[null,null,1566,null,null,96,96,0.29829999999999984,0.4603621184409999,0.29389570838549134,0,0,0.9999996829318346,0.29829999999999984,0]
[null,null,1567,null,null,823,823,2.5810800000000045,0.6673227356684587,0.5316204764744815,0,0,0.9999996829318346,2.5810800000000045,0]
[null,null,1568,null,null,846,846,2.6533000000000078,0.6945512482836118,0.4691187551197462,0,0,0.9999996829318346,2.6533000000000078,0]
[null,null,1569,null,null,446,446,1.3972999999999933,0.31359595627221715,0.9849872272981217,1,1.3972999999999933,0.31359595627221715,3.14,0]
[null,null,1570,null,null,879,879,2.7569200000000125,0.4548191487066388,0.37525573249134136,0,0,0.9999996829318346,2.7569200000000125,0]
[null,null,1571,null,null,508,508,1.5919799999999884,0.042473155703629195,0.9997756343852602,1,1.5919799999999884,0.042473155703629195,3.14,0]
[null,null,1572,null,null,992,992,3.1117400000000286,0.268232135390551,0.02984821976808943,0,0,0.9999996829318346,3.1117400000000286,0]
[null,null,1573,null,null,196,196,0.6122999999999994,0.1508308118213206,0.5747511336456522,1,0.6122999999999994,0.1508308118213206,3.14,0]
[null,null,1574,null,null,464,464,1.453819999999992,0.6855157048971028,0.9931660674733239,1,1.453819999999992,0.6855157048971028,3.14,0]
[null,null,1575,null,null,691,691,2.1665999999999856,0.8646035138436132,0.827697765574214,0,0,0.9999996829318346,2.1665999999999856,0]
[null,null,1576,null,null,115,115,0.3579599999999994,0.3290710026769938,0.35036427206705734,1,0.3579599999999994,0.3290710026769938,3.14,0]
[null,null,1577,null,null,433,433,1.3564799999999944,0.3360683621606338,0.9771220257918095,1,1.3564799999999944,0.3360683621606338,3.14,0]
[null,null,1578,null,null,695,695,2.179159999999986,0.7470648615824623,0.8205843184717168,1,2.179159999999986,0.7470648615824623,3.14,0]
[null,null,1579,null,null,205,205,0.6405599999999997,0.6889751291594042,0.5976445213230874,0,0,0.9999996829318346,0.6405599999999997,0]
[null,null,1580,null,null,768,768,2.4083799999999966,0.5799815126530918,0.6692601766788017,1,2.4083799999999966,0.5799815126530918,3.14,0]
[null,null,1581,null,null,79,79,0.2449200000000002,0.44750655037438564,0.24247871302647697,0,0,0.9999996829318346,0.2449200000000002,0]
[null,null,1582,null,null,408,408,1.2779799999999963,0.5486864922390858,0.9574347414163443,1,1.2779799999999963,0.5486864922390858,3.14,0]
[null,null,1583,null,null,248,248,0.775580000000001,0.7736678194066856,0.7001303218308841,0,0,0.9999996829318346,0.775580000000001,0]
[null,null,1584,null,null,791,791,2.4806,0.2058399164131636,0.6139007383984155,1,2.4806,0.2058399164131636,3.14,0]
[null,null,1585,null,null,881,881,2.7632000000000128,0.898926664795806,0.36942730513943084,0,0,0.9999996829318346,2.7632000000000128,0]
[null,null,1586,null,null,782,782,2.4523399999999986,0.8107383420647309,0.6359606165734454,0,0,0.9999996829318346,2.4523399999999986,0]
[null,null,1587,null,null,839,839,2.6313200000000068,0.027067946727368324,0.48841518565739195,1,2.6313200000000068,0.027067946727368324,3.14,0]
[null,null,1588,null,null,616,616,1.9310999999999798,0.6909297741550933,0.9357898042810994,1,1.9310999999999798,0.6909297741550933,3.14,0]
[null,null,1589,null,null,67,67,0.20724000000000015,0.693764298080279,0.20575974396701147,{"$f":"IF(OR(C1591>n,I1591>J1591),0,1)","v":0},0,0.9999996829318346,0.20724000000000015,0]
[null,null,1590,null,null,517,517,{"$f":"LOOKUP(G1592,C$3:C$1003,D$3:D$1003)","v":1.6202399999999877},0.46232660780011997,{"$f":"LOOKUP(H1592,D$3:D$1003,E$3:E$1003)","v":0.9987779105882341},1,1.6202399999999877,{"$f":"IF($C1592>n,fmin,(IF($K1592=1,I1592,fmax)))","v":0.46232660780011997},{"$f":"IF($C1592>n,xMin,(IF($K1592=0,$H1592,xMax)))","v":3.14},{"$f":"IF($C1592>n,fmin,(IF($K1592=0,K1592,fmin)))","v":0}]
[null,null,1591,null,null,260,260,0.8132600000000014,0.7047923953704051,0.7265310865663986,1,{"$f":"IF($C1593>n,L1592,(IF($K1593=1,$H1593,xMin)))","v":0.8132600000000014},0.7047923953704051,3.14,0]
[null,null,1592,null,null,40,40,0.12246000000000004,0.4331535009538895,0.1221541518447934,0,0,0.9999996829318346,0.12246000000000004,0]
[null,null,1593,null,null,392,392,1.2277399999999976,0.37333257787788227,0.9417310183845448,1,1.2277399999999976,0.37333257787788227,3.14,0]
[null,null,1594,null,null,130,130,0.40505999999999903,0.8595908299047135,0.39407390580534263,0,0,0.9999996829318346,0.40505999999999903,0]
[null,null,1595,null,null,392,392,1.2277399999999976,0.8618400396859085,0.9417310183845448,1,1.2277399999999976,0.8618400396859085,3.14,0]
[null,null,1596,null,null,292,292,0.9137400000000024,0.19579538170593194,0.7917936218170146,1,0.9137400000000024,0.19579538170593194,3.14,0]
[null,null,1597,null,null,986,986,3.0929000000000277,0.9706260340239331,0.04867341436391592,0,0,0.9999996829318346,3.0929000000000277,0]
[null,null,1598,null,null,777,777,2.436639999999998,0.8042912729494072,0.6479977692363312,0,0,0.9999996829318346,2.436639999999998,0]
[null,null,1599,null,null,278,278,0.869780000000002,0.023763927481358433,0.7641870566894977,1,0.869780000000002,0.023763927481358433,3.14,0]
[null,null,1600,null,null,491,491,1.5385999999999898,0.3195902206325377,0.9994817430416912,1,1.5385999999999898,0.3195902206325377,3.14,0]
[null,null,1601,null,null,472,472,1.4789399999999913,{"$f":"fmin+(fmax-fmin)*ABS(RAND())","v":0.6674316088938786},0.9957841731478996,1,1.4789399999999913,0.6674316088938786,3.14,0]
[null,null,1602,null,null,945,945,2.964160000000022,0.014999326966956538,0.17650311861210735,1,2.964160000000022,0.014999326966956538,3.14,0]
[null,null,1603,null,null,{"$f":"INT(1000*ABS(RAND()))+1","v":140},{"$f":"IF(F1605>0,F1605,-F1605)","v":140},0.4364599999999988,0.34375201923527066,0.4227339820188942,1,0.4364599999999988,0.34375201923527066,3.14,0]
[null,null,1604,null,null,171,171,0.5337999999999986,0.7337214967262583,0.5088083502358179,0,0,0.9999996829318346,0.5337999999999986,0]
[null,null,1605,null,null,163,163,0.5086799999999984,0.42989594658650876,0.4870247991674053,1,0.5086799999999984,0.42989594658650876,3.14,0]
[null,null,1606,null,null,964,964,3.0238200000000246,0.6782758474777124,0.11750058341591105,0,0,0.9999996829318346,3.0238200000000246,0]
[null,null,1607,null,null,899,899,2.8197200000000153,0.1984879509433823,0.316343597124588,1,2.8197200000000153,0.1984879509433823,3.14,0]
[null,null,1608,null,null,471,471,1.4757999999999913,0.03789386824434765,0.9954912411783645,1,1.4757999999999913,0.03789386824434765,3.14,0]
[null,null,1609,null,null,827,827,2.593640000000005,0.46507928187730235,0.5209407216755038,1,2.593640000000005,0.46507928187730235,3.14,0]
[null,null,1610,null,null,453,453,1.4192799999999928,0.9803238325761383,0.9885433442642017,1,1.4192799999999928,0.9803238325761383,3.14,0]
[null,null,1611,null,null,824,824,2.5842200000000046,0.22947731131583227,0.5289583344328553,1,2.5842200000000046,0.22947731131583227,3.14,0]
[null,null,1612,null,null,391,391,1.2245999999999977,0.7901687813072453,0.9406701855236062,1,1.2245999999999977,0.7901687813072453,3.14,0]
[null,null,1613,null,null,114,114,0.3548199999999994,0.8068319587972015,0.34742158323774375,0,0,0.9999996829318346,0.3548199999999994,0]
[null,null,1614,null,null,66,66,0.20410000000000014,0.3673132842571171,0.20268592269297228,0,0,0.9999996829318346,0.20410000000000014,0]
[null,null,1615,null,null,446,446,1.3972999999999933,0.8065791964789916,0.9849872272981217,1,1.3972999999999933,0.8065791964789916,3.14,0]
[null,null,1616,null,null,441,441,1.3815999999999937,0.02574213275947335,0.9821556988007228,1,1.3815999999999937,0.02574213275947335,3.14,0]
[null,null,1617,null,null,433,433,1.3564799999999944,0.5516815599721219,0.9771220257918095,1,1.3564799999999944,0.5516815599721219,3.14,0]
[null,null,1618,null,null,202,202,0.6311399999999996,0.21881636958342998,0.5900655262760014,1,0.6311399999999996,0.21881636958342998,3.14,0]
[null,null,1619,null,null,783,783,2.4554799999999988,0.7127908051106895,0.6335342798474249,0,0,0.9999996829318346,2.4554799999999988,0]
[null,null,1620,null,null,127,127,0.3956399999999991,0.08934876184262971,0.38539882776039586,1,0.3956399999999991,0.08934876184262971,3.14,0]
[null,null,1621,null,null,782,782,2.4523399999999986,0.7799745035127912,0.6359606165734454,0,0,0.9999996829318346,2.4523399999999986,0]
[null,null,1622,null,null,169,169,0.5275199999999985,0.38851075214360403,0.5033920272480326,1,0.5275199999999985,0.38851075214360403,3.14,0]
[null,null,1623,null,null,167,167,0.5212399999999985,0.9644189634843063,0.4979558513493672,0,0,0.9999996829318346,0.5212399999999985,0]
[null,null,1624,null,null,587,587,1.8400399999999821,0.022908585595337594,0.9639723568262449,1,1.8400399999999821,0.022908585595337594,3.14,0]
[null,null,1625,null,null,892,892,2.7977400000000143,0.6245669936232322,0.33711671534072296,0,0,0.9999996829318346,2.7977400000000143,0]
[null,null,1626,null,null,218,218,0.6813800000000001,0.18472473176132717,0.6298654752931363,1,0.6813800000000001,0.18472473176132717,3.14,0]
[null,null,1627,null,null,955,955,2.9955600000000233,0.9443966935971543,0.14551416931328015,0,0,0.9999996829318346,2.9955600000000233,0]
[null,null,1628,null,null,725,725,2.2733599999999905,0.9099427591818052,0.7631881120398141,0,0,0.9999996829318346,2.2733599999999905,0]
[null,null,1629,null,null,65,65,0.20096000000000014,0.058816245578044754,0.19961010301845164,1,0.20096000000000014,0.058816245578044754,3.14,0]
[null,null,1630,null,null,305,305,0.9545600000000029,0.49069603812493,0.8160595135812573,1,0.9545600000000029,0.49069603812493,3.14,0]
[null,null,1631,null,null,478,478,1.4977799999999908,0.7680387205120094,0.9973354921192048,1,1.4977799999999908,0.7680387205120094,3.14,0]
[null,null,1632,null,null,418,418,1.3093799999999955,0.6430615647505634,0.966024898902063,1,1.3093799999999955,0.6430615647505634,3.14,0]
[null,null,1633,null,null,621,621,1.9467999999999794,0.025276258837938048,0.930139535372839,1,1.9467999999999794,0.025276258837938048,3.14,0]
[null,null,1634,null,null,239,239,0.7473200000000008,0.20410817667324518,0.6796753883024615,1,0.7473200000000008,0.20410817667324518,3.14,0]
[null,null,1635,null,null,371,371,1.1617999999999993,0.22992510803595906,0.9175204343159048,1,1.1617999999999993,0.22992510803595906,3.14,0]
[null,null,1636,null,null,52,52,0.1601400000000001,0.4687144565345691,0.15945641687214873,0,0,0.9999996829318346,0.1601400000000001,0]
[null,null,1637,null,null,846,846,2.6533000000000078,0.4289027725117748,0.4691187551197462,1,2.6533000000000078,0.4289027725117748,3.14,0]
[null,null,1638,null,null,984,984,3.0866200000000275,0.07978204028743315,0.054944969947302066,0,0,0.9999996829318346,3.0866200000000275,0]
[null,null,1639,null,null,614,614,1.92481999999998,0.9915478749061741,0.9379854036638202,0,0,0.9999996829318346,1.92481999999998,0]
[null,null,1640,null,null,455,455,1.4255599999999926,0.8784794208057503,0.9894717308077838,1,1.4255599999999926,0.8784794208057503,3.14,0]
[null,null,1641,null,null,227,227,0.7096400000000004,0.26463041268912363,0.6515607185132495,1,0.7096400000000004,0.26463041268912363,3.14,0]
[null,null,1642,null,null,194,194,0.6060199999999993,0.25664336534065973,0.5696007323830038,1,0.6060199999999993,0.25664336534065973,3.14,0]
[null,null,1643,null,null,661,661,2.0723999999999814,0.525521564352693,0.8768125918608041,1,2.0723999999999814,0.525521564352693,3.14,0]
[null,null,1644,null,null,277,277,0.866640000000002,0.41913722174803864,0.7621580094235599,1,0.866640000000002,0.41913722174803864,3.14,0]
[null,null,1645,null,null,948,948,2.9735800000000223,0.9580851960794926,0.16722331791122544,0,0,0.9999996829318346,2.9735800000000223,0]
[null,null,1646,null,null,848,848,2.659580000000008,0.6026213793026881,0.46356345257035414,0,0,0.9999996829318346,2.659580000000008,0]
[null,null,1647,null,null,510,510,1.5982599999999882,0.42115949466773106,0.999622897030534,1,1.5982599999999882,0.42115949466773106,3.14,0]
[null,null,1648,null,null,608,608,1.9059799999999805,0.4897979737821408,0.9443499076155786,1,1.9059799999999805,0.4897979737821408,3.14,0]
[null,null,1649,null,null,492,492,1.5417399999999897,0.6884414085915703,0.9995778946354266,1,1.5417399999999897,0.6884414085915703,3.14,0]
[null,null,1650,null,null,733,733,2.2984799999999916,0.13916283511230498,0.7467170899006036,1,2.2984799999999916,0.13916283511230498,3.14,0]
[null,null,1651,null,null,528,528,1.6547799999999868,0.9883778573577544,0.9964754436818505,1,1.6547799999999868,0.9883778573577544,3.14,0]
[null,null,1652,null,null,279,279,0.872920000000002,0.3048045319071604,0.766208569382922,1,0.872920000000002,0.3048045319071604,3.14,0]
[null,null,1653,null,null,760,760,2.3832599999999955,0.5798344439070412,0.6877119353342678,{"$f":"IF(OR(C1655>n,I1655>J1655),0,1)","v":1},2.3832599999999955,0.5798344439070412,3.14,0]
[null,null,1654,null,null,797,797,{"$f":"LOOKUP(G1656,C$3:C$1003,D$3:D$1003)","v":2.4994400000000008},0.10633552834688714,{"$f":"LOOKUP(H1656,D$3:D$1003,E$3:E$1003)","v":0.5989206906647835},1,2.4994400000000008,{"$f":"IF($C1656>n,fmin,(IF($K1656=1,I1656,fmax)))","v":0.10633552834688714},{"$f":"IF($C1656>n,xMin,(IF($K1656=0,$H1656,xMax)))","v":3.14},{"$f":"IF($C1656>n,fmin,(IF($K1656=0,K1656,fmin)))","v":0}]
[null,null,1655,null,null,181,181,0.5651999999999989,0.7209459873309005,0.5355847230218247,0,{"$f":"IF($C1657>n,L1656,(IF($K1657=1,$H1657,xMin)))","v":0},0.9999996829318346,0.5651999999999989,0]
[null,null,1656,null,null,374,374,1.171219999999999,0.020129613876067393,0.9212258974504054,1,1.171219999999999,0.020129613876067393,3.14,0]
[null,null,1657,null,null,260,260,0.8132600000000014,0.21864416181729013,0.7265310865663986,1,0.8132600000000014,0.21864416181729013,3.14,0]
[null,null,1658,null,null,929,929,2.9139200000000196,0.6871897100110261,0.22571084916715572,0,0,0.9999996829318346,2.9139200000000196,0]
[null,null,1659,null,null,539,539,1.689319999999986,0.20618142001386153,0.9929842881956945,1,1.689319999999986,0.20618142001386153,3.14,0]
[null,null,1660,null,null,602,602,1.887139999999981,0.42047030353544945,0.9503792286372532,1,1.887139999999981,0.42047030353544945,3.14,0]
[null,null,1661,null,null,164,164,0.5118199999999984,0.7648090265298811,0.48976483249098846,0,0,0.9999996829318346,0.5118199999999984,0]
[null,null,1662,null,null,714,714,2.238819999999989,0.7583156005290671,0.7850474055760391,1,2.238819999999989,0.7583156005290671,3.14,0]
[null,null,1663,null,null,389,389,1.2183199999999978,0.1976932345559438,0.9385207064801295,1,1.2183199999999978,0.1976932345559438,3.14,0]
[null,null,1664,null,null,446,446,1.3972999999999933,0.8349836843279557,0.9849872272981217,1,1.3972999999999933,0.8349836843279557,3.14,0]
[null,null,1665,null,null,159,159,0.49611999999999834,{"$f":"fmin+(fmax-fmin)*ABS(RAND())","v":0.7213075214967936},0.4760169180800966,0,0,0.9999996829318346,0.49611999999999834,0]
[null,null,1666,null,null,185,185,0.577759999999999,0.33138977029719496,0.5461488871410777,1,0.577759999999999,0.33138977029719496,3.14,0]
[null,null,1667,null,null,{"$f":"INT(1000*ABS(RAND()))+1","v":172},{"$f":"IF(F1669>0,F1669,-F1669)","v":172},0.5369399999999986,0.7729339948877849,0.5115090001040622,0,0,0.9999996829318346,0.5369399999999986,0]
[null,null,1668,null,null,788,788,2.4711799999999995,0.8229581451144705,0.6213093809798909,0,0,0.9999996829318346,2.4711799999999995,0]
[null,null,1669,null,null,748,748,2.345579999999994,0.14931258287040153,0.7145723846741912,1,2.345579999999994,0.14931258287040153,3.14,0]
[null,null,1670,null,null,497,497,1.5574399999999893,0.08511586082819447,0.9999108055932457,1,1.5574399999999893,0.08511586082819447,3.14,0]
[null,null,1671,null,null,816,816,2.5591000000000035,0.290584443739915,0.5501072437360812,1,2.5591000000000035,0.290584443739915,3.14,0]
[null,null,1672,null,null,757,757,2.373839999999995,0.9629035916742062,0.694520088081548,0,0,0.9999996829318346,2.373839999999995,0]
[null,null,1673,null,null,842,842,2.640740000000007,0.9588164757101738,0.48017363815974223,0,0,0.9999996829318346,2.640740000000007,0]
[null,null,1674,null,null,396,396,1.2402999999999973,0.5368846926463601,0.9458813957731285,1,1.2402999999999973,0.5368846926463601,3.14,0]
[null,null,1675,null,null,212,212,0.6625399999999999,0.9099119311472458,0.6151214522925511,0,0,0.9999996829318346,0.6625399999999999,0]
[null,null,1676,null,null,896,896,2.810300000000015,0.6982597919894693,0.3252656623553965,0,0,0.9999996829318346,2.810300000000015,0]
[null,null,1677,null,null,365,365,1.1429599999999998,0.041664877112505154,0.9098655935038812,1,1.1429599999999998,0.041664877112505154,3.14,0]
[null,null,1678,null,null,176,176,0.5494999999999988,0.35412197443038723,0.5222609013514871,1,0.5494999999999988,0.35412197443038723,3.14,0]
[null,null,1679,null,null,50,50,0.15386000000000008,0.14274891414993324,0.15325366607384697,1,0.15386000000000008,0.14274891414993324,3.14,0]
[null,null,1680,null,null,265,265,0.8289600000000016,0.5758218930174884,0.7372291013727641,1,0.8289600000000016,0.5758218930174884,3.14,0]
[null,null,1681,null,null,988,988,3.099180000000028,0.8454213834701934,0.04239993918525355,0,0,0.9999996829318346,3.099180000000028,0]
[null,null,1682,null,null,245,245,0.766160000000001,0.7366430378616732,0.693373335971521,0,0,0.9999996829318346,0.766160000000001,0]
[null,null,1683,null,null,91,91,0.28259999999999996,0.4612684154123414,0.27885345580690496,0,0,0.9999996829318346,0.28259999999999996,0]
[null,null,1684,null,null,522,522,1.6359399999999873,0.21794516836413969,0.9978789011884561,1,1.6359399999999873,0.21794516836413969,3.14,0]
[null,null,1685,null,null,579,579,1.8149199999999828,0.16398699441884743,0.9703495110443163,1,1.8149199999999828,0.16398699441884743,3.14,0]
[null,null,1686,null,null,713,713,2.235679999999989,0.3470459026130429,0.7869885603151969,1,2.235679999999989,0.3470459026130429,3.14,0]
[null,null,1687,null,null,79,79,0.2449200000000002,0.6058548717611939,0.24247871302647697,0,0,0.9999996829318346,0.2449200000000002,0]
[null,null,1688,null,null,513,513,1.607679999999988,0.8236511098031117,0.9993198744345664,1,1.607679999999988,0.8236511098031117,3.14,0]
[null,null,1689,null,null,767,767,2.4052399999999965,0.8489376472663814,0.6715899818864324,0,0,0.9999996829318346,2.4052399999999965,0]
[null,null,1690,null,null,482,482,1.5103399999999905,0.4674325071566445,0.9981730728235517,1,1.5103399999999905,0.4674325071566445,3.14,0]
[null,null,1691,null,null,219,219,0.6845200000000001,0.025384688439959027,0.6323012175041268,1,0.6845200000000001,0.025384688439959027,3.14,0]
[null,null,1692,null,null,987,987,3.096040000000028,0.2120997411253426,0.045536901262216135,0,0,0.9999996829318346,3.096040000000028,0]
[null,null,1693,null,null,462,462,1.447539999999992,0.3759221555942948,0.9924135507744763,1,1.447539999999992,0.3759221555942948,3.14,0]
[null,null,1694,null,null,422,422,1.3219399999999952,0.4998963760717722,0.9691947372649621,1,1.3219399999999952,0.4998963760717722,3.14,0]
[null,null,1695,null,null,512,512,1.604539999999988,0.7892840497327582,0.9994307362777121,1,1.604539999999988,0.7892840497327582,3.14,0]
[null,null,1696,null,null,675,675,2.1163599999999834,0.8964891858390688,0.8548349365606386,0,0,0.9999996829318346,2.1163599999999834,0]
[null,null,1697,null,null,713,713,2.235679999999989,0.4815635269240328,0.7869885603151969,1,2.235679999999989,0.4815635269240328,3.14,0]
[null,null,1698,null,null,242,242,0.7567400000000009,0.7005863416653061,0.6865548231134433,0,0,0.9999996829318346,0.7567400000000009,0]
[null,null,1699,null,null,106,106,0.3296999999999996,0.9976064983860192,0.3237592011141305,0,0,0.9999996829318346,0.3296999999999996,0]
[null,null,1700,null,null,15,15,0.043959999999999985,0.9542121001899916,0.04394584271948076,0,0,0.9999996829318346,0.043959999999999985,0]
[null,null,1701,null,null,734,734,2.301619999999992,0.9397630823531768,0.744624866980202,0,0,0.9999996829318346,2.301619999999992,0]
[null,null,1702,null,null,841,841,2.637600000000007,0.35831078281655016,0.4829255911369341,1,2.637600000000007,0.35831078281655016,3.14,0]
[null,null,1703,null,null,468,468,1.4663799999999916,0.610398893729415,0.9945535664820925,1,1.4663799999999916,0.610398893729415,3.14,0]
[null,null,1704,null,null,397,397,1.2434399999999972,0.5208714885400907,0.9468957004551473,1,1.2434399999999972,0.5208714885400907,3.14,0]
[null,null,1705,null,null,937,937,2.9390400000000207,0.5254540647935712,0.20117045127792868,0,0,0.9999996829318346,2.9390400000000207,0]
[null,null,1706,null,null,554,554,1.7364199999999848,0.2580184263735676,0.9863157237325639,1,1.7364199999999848,0.2580184263735676,3.14,0]
[null,null,1707,null,null,113,113,0.35167999999999944,0.48185042445101967,0.3444754689734025,0,0,0.9999996829318346,0.35167999999999944,0]
[null,null,1708,null,null,693,693,2.172879999999986,0.8726786160186571,0.8241572936920594,0,0,0.9999996829318346,2.172879999999986,0]
[null,null,1709,null,null,165,165,0.5149599999999984,0.45514957395327127,0.4925000369331967,1,0.5149599999999984,0.45514957395327127,3.14,0]
[null,null,1710,null,null,627,627,1.965639999999979,0.7506103522437376,0.9230567089155609,1,1.965639999999979,0.7506103522437376,3.14,0]
[null,null,1711,null,null,607,607,1.9028399999999805,0.6357625768519277,0.9453781303153276,1,1.9028399999999805,0.6357625768519277,3.14,0]
[null,null,1712,null,null,905,905,2.838560000000016,0.8737073684104921,0.29841604790678194,0,0,0.9999996829318346,2.838560000000016,0]
[null,null,1713,null,null,483,483,1.5134799999999904,0.6359408501692541,0.9983578689706671,1,1.5134799999999904,0.6359408501692541,3.14,0]
[null,null,1714,null,null,140,140,0.4364599999999988,0.6093809600308095,0.4227339820188942,0,0,0.9999996829318346,0.4364599999999988,0]
[null,null,1715,null,null,193,193,0.6028799999999993,0.9796067205010465,0.5670170949964103,0,0,0.9999996829318346,0.6028799999999993,0]
[null,null,1716,null,null,304,304,0.9514200000000028,0.2538135101019971,0.8142406744134523,1,0.9514200000000028,0.2538135101019971,3.14,0]
[null,null,1717,null,null,298,298,0.9325800000000026,0.019266462291285837,0.8031596828969216,{"$f":"IF(OR(C1719>n,I1719>J1719),0,1)","v":1},0.9325800000000026,0.019266462291285837,3.14,0]
[null,null,1718,null,null,424,424,{"$f":"LOOKUP(G1720,C$3:C$1003,D$3:D$1003)","v":1.328219999999995},0.09858309531561282,{"$f":"LOOKUP(H1720,D$3:D$1003,E$3:E$1003)","v":0.9707223522772349},1,1.328219999999995,{"$f":"IF($C1720>n,fmin,(IF($K1720=1,I1720,fmax)))","v":0.09858309531561282},{"$f":"IF($C1720>n,xMin,(IF($K1720=0,$H1720,xMax)))","v":3.14},{"$f":"IF($C1720>n,fmin,(IF($K1720=0,K1720,fmin)))","v":0}]
[null,null,1719,null,null,100,100,0.31085999999999975,0.53832411627974,0.3058775304019119,0,{"$f":"IF($C1721>n,L1720,(IF($K1721=1,$H1721,xMin)))","v":0},0.9999996829318346,0.31085999999999975,0]
[null,null,1720,null,null,440,440,1.3784599999999938,0.24505087867368466,0.98156031932591,1,1.3784599999999938,0.24505087867368466,3.14,0]
[null,null,1721,null,null,561,561,1.7583999999999842,0.09253390512670373,0.9824539827941985,1,1.7583999999999842,0.09253390512670373,3.14,0]
[null,null,1722,null,null,113,113,0.35167999999999944,0.7800554074041018,0.3444754689734025,0,0,0.9999996829318346,0.35167999999999944,0]
[null,null,1723,null,null,605,605,1.8965599999999807,0.024073231242350383,0.9474066025412055,1,1.8965599999999807,0.024073231242350383,3.14,0]
[null,null,1724,null,null,88,88,0.27318000000000003,0.9789599233438168,0.26979487432752414,0,0,0.9999996829318346,0.27318000000000003,0]
[null,null,1725,null,null,186,186,0.5808999999999991,0.2649901408848555,0.5487765311254869,1,0.5808999999999991,0.2649901408848555,3.14,0]
[null,null,1726,null,null,305,305,0.9545600000000029,0.24218820104471844,0.8160595135812573,1,0.9545600000000029,0.24218820104471844,3.14,0]
[null,null,1727,null,null,851,851,2.6690000000000085,0.9784653952390588,0.45519628839578913,0,0,0.9999996829318346,2.6690000000000085,0]
[null,null,1728,null,null,691,691,2.1665999999999856,0.24913280797367687,0.827697765574214,1,2.1665999999999856,0.24913280797367687,3.14,0]
[null,null,1729,null,null,169,169,0.5275199999999985,{"$f":"fmin+(fmax-fmin)*ABS(RAND())","v":0.6874190147163102},0.5033920272480326,0,0,0.9999996829318346,0.5275199999999985,0]
[null,null,1730,null,null,801,801,2.5120000000000013,0.9575326157961357,0.5888155619677942,0,0,0.9999996829318346,2.5120000000000013,0]
[null,null,1731,null,null,{"$f":"INT(1000*ABS(RAND()))+1","v":223},{"$f":"IF(F1733>0,F1733,-F1733)","v":223},0.6970800000000003,0.9653149033782313,0.6419816047976502,0,0,0.9999996829318346,0.6970800000000003,0]
[null,null,1732,null,null,980,980,3.074060000000027,0.9542958444721417,0.06748133305648653,0,0,0.9999996829318346,3.074060000000027,0]
[null,null,1733,null,null,445,445,1.3941599999999934,0.5852610949886812,0.9844403228867667,1,1.3941599999999934,0.5852610949886812,3.14,0]
[null,null,1734,null,null,320,320,1.0016600000000033,0.15428285033934963,0.8423667268452657,1,1.0016600000000033,0.15428285033934963,3.14,0]
[null,null,1735,null,null,287,287,0.8980400000000023,0.9485264410582663,0.7821070502559002,0,0,0.9999996829318346,0.8980400000000023,0]
[null,null,1736,null,null,724,724,2.2702199999999904,0.3546974546298901,0.7652133401566952,1,2.2702199999999904,0.3546974546298901,3.14,0]
[null,null,1737,null,null,632,632,1.9813399999999786,0.1677796413141061,0.9169039740748233,1,1.9813399999999786,0.1677796413141061,3.14,0]
[null,null,1738,null,null,214,214,0.66882,0.8522287238328419,0.6200606453550669,0,0,0.9999996829318346,0.66882,0]
[null,null,1739,null,null,88,88,0.27318000000000003,0.23111173968904916,0.26979487432752414,1,0.27318000000000003,0.23111173968904916,3.14,0]
[null,null,1740,null,null,550,550,1.723859999999985,0.21498155036493924,0.9883086087047014,1,1.723859999999985,0.21498155036493924,3.14,0]
[null,null,1741,null,null,1,1,0,0.021666257357094994,0,0,0,0.9999996829318346,0,0]
[null,null,1742,null,null,291,291,0.9106000000000024,0.2803306982651942,0.7898718450068815,1,0.9106000000000024,0.2803306982651942,3.14,0]
[null,null,1743,null,null,977,977,3.0646400000000265,0.49967481253692686,0.07687672751268032,0,0,0.9999996829318346,3.0646400000000265,0]
[null,null,1744,null,null,437,437,1.369039999999994,0.9184894513672343,0.9797161381542654,1,1.369039999999994,0.9184894513672343,3.14,0]
[null,null,1745,null,null,167,167,0.5212399999999985,0.23518581589626525,0.4979558513493672,1,0.5212399999999985,0.23518581589626525,3.14,0]
[null,null,1746,null,null,433,433,1.3564799999999944,0.9438821443201775,0.9771220257918095,1,1.3564799999999944,0.9438821443201775,3.14,0]
[null,null,1747,null,null,392,392,1.2277399999999976,0.6949896158956994,0.9417310183845448,1,1.2277399999999976,0.6949896158956994,3.14,0]
[null,null,1748,null,null,1000,1000,3.1368600000000297,0.33289513310561336,0.00473263592277955,0,0,0.9999996829318346,3.1368600000000297,0]
[null,null,1749,null,null,334,334,1.0456200000000022,0.45082325477878255,0.8652355508887725,1,1.0456200000000022,0.45082325477878255,3.14,0]
[null,null,1750,null,null,755,755,2.367559999999995,0.3610212979404459,0.6990246554489108,1,2.367559999999995,0.3610212979404459,3.14,0]
[null,null,1751,null,null,569,569,1.7835199999999836,0.24218651479631362,0.9774595110746634,1,1.7835199999999836,0.24218651479631362,3.14,0]
[null,null,1752,null,null,447,447,1.4004399999999932,0.6225488266833105,0.9855244201373897,1,1.4004399999999932,0.6225488266833105,3.14,0]
[null,null,1753,null,null,732,732,2.2953399999999915,0.030881933082675447,0.7488019504952347,1,2.2953399999999915,0.030881933082675447,3.14,0]
[null,null,1754,null,null,122,122,0.3799399999999992,0.19404099530872124,0.3708647488672239,1,0.3799399999999992,0.19404099530872124,3.14,0]
[null,null,1755,null,null,941,941,2.9516000000000213,0.7069586635459547,0.18885168076544742,0,0,0.9999996829318346,2.9516000000000213,0]
[null,null,1756,null,null,773,773,2.4240799999999973,0.3420260409064095,0.657512632848294,1,2.4240799999999973,0.3420260409064095,3.14,0]
[null,null,1757,null,null,573,573,1.7960799999999832,0.6481820503309641,0.9747307785518928,1,1.7960799999999832,0.6481820503309641,3.14,0]
[null,null,1758,null,null,626,626,1.962499999999979,0.8142601540971326,0.9242600010798646,1,1.962499999999979,0.8142601540971326,3.14,0]
[null,null,1759,null,null,854,854,2.678420000000009,0.09479181862952579,0.4467887320399879,1,2.678420000000009,0.09479181862952579,3.14,0]
[null,null,1760,null,null,674,674,2.1132199999999832,0.7806597705774687,0.8564600657856325,1,2.1132199999999832,0.7806597705774687,3.14,0]
[null,null,1761,null,null,405,405,1.2685599999999966,0.13340483848418677,0.9546732210267311,1,1.2685599999999966,0.13340483848418677,3.14,0]
[null,null,1762,null,null,776,776,2.4334999999999978,0.5975893673192301,0.6503861274211595,1,2.4334999999999978,0.5975893673192301,3.14,0]
[null,null,1763,null,null,307,307,0.9608400000000029,0.7374898601033603,0.8196730360218779,1,0.9608400000000029,0.7374898601033603,3.14,0]
[null,null,1764,null,null,491,491,1.5385999999999898,0.029278595207388444,0.9994817430416912,1,1.5385999999999898,0.029278595207388444,3.14,0]
[null,null,1765,null,null,780,780,2.4460599999999983,0.021796428673089473,0.6407944552281892,1,2.4460599999999983,0.021796428673089473,3.14,0]
[null,null,1766,null,null,852,852,2.6721400000000086,0.07021511943656362,0.4523982208617615,1,2.6721400000000086,0.07021511943656362,3.14,0]
[null,null,1767,null,null,387,387,1.212039999999998,0.01797310067399847,0.9363342138032692,1,1.212039999999998,0.01797310067399847,3.14,0]
[null,null,1768,null,null,568,568,1.7803799999999836,0.4457520851200633,0.9781176174035419,1,1.7803799999999836,0.4457520851200633,3.14,0]
[null,null,1769,null,null,773,773,2.4240799999999973,0.7708758230399535,0.657512632848294,0,0,0.9999996829318346,2.4240799999999973,0]
[null,null,1770,null,null,673,673,2.110079999999983,0.6084302315091342,0.8580767506639,1,2.110079999999983,0.6084302315091342,3.14,0]
[null,null,1771,null,null,857,857,2.6878400000000093,0.049032243436118415,0.4383415295537174,1,2.6878400000000093,0.049032243436118415,3.14,0]
[null,null,1772,null,null,806,806,2.527700000000002,0.2787936001283684,0.576053717587989,1,2.527700000000002,0.2787936001283684,3.14,0]
[null,null,1773,null,null,154,154,0.48041999999999846,0.2704513513443981,0.4621516726691735,1,0.48041999999999846,0.2704513513443981,3.14,0]
[null,null,1774,null,null,185,185,0.577759999999999,0.6766842536227113,0.5461488871410777,0,0,0.9999996829318346,0.577759999999999,0]
[null,null,1775,null,null,83,83,0.25748000000000015,0.9305902718337842,0.2546444354430435,0,0,0.9999996829318346,0.25748000000000015,0]
[null,null,1776,null,null,481,481,1.5071999999999905,0.5321004676785954,0.9979784350972938,1,1.5071999999999905,0.5321004676785954,3.14,0]
[null,null,1777,null,null,703,703,2.2042799999999874,0.8985657127102658,0.8059702215587979,0,0,0.9999996829318346,2.2042799999999874,0]
[null,null,1778,null,null,118,118,0.3673799999999993,0.14618741075352248,0.3591714959783059,1,0.3673799999999993,0.14618741075352248,3.14,0]
[null,null,1779,null,null,730,730,2.289059999999991,0.3331024114550242,0.7529495025564793,1,2.289059999999991,0.3331024114550242,3.14,0]
[null,null,1780,null,null,391,391,1.2245999999999977,0.8405209145546383,0.9406701855236062,1,1.2245999999999977,0.8405209145546383,3.14,0]
[null,null,1781,null,null,637,637,1.9970399999999782,0.6549765816814358,0.9105252362158635,{"$f":"IF(OR(C1783>n,I1783>J1783),0,1)","v":1},1.9970399999999782,0.6549765816814358,3.14,0]
[null,null,1782,null,null,717,717,{"$f":"LOOKUP(G1784,C$3:C$1003,D$3:D$1003)","v":2.2482399999999894},0.4013427295656292,{"$f":"LOOKUP(H1784,D$3:D$1003,E$3:E$1003)","v":0.7791775768136868},1,2.2482399999999894,{"$f":"IF($C1784>n,fmin,(IF($K1784=1,I1784,fmax)))","v":0.4013427295656292},{"$f":"IF($C1784>n,xMin,(IF($K1784=0,$H1784,xMax)))","v":3.14},{"$f":"IF($C1784>n,fmin,(IF($K1784=0,K1784,fmin)))","v":0}]
[null,null,1783,null,null,380,380,1.1900599999999986,0.018019201482306808,0.9283912651704243,1,{"$f":"IF($C1785>n,L1784,(IF($K1785=1,$H1785,xMin)))","v":1.1900599999999986},0.018019201482306808,3.14,0]
[null,null,1784,null,null,119,119,0.3705199999999993,0.42845301158420157,0.3621001932724224,0,0,0.9999996829318346,0.3705199999999993,0]
[null,null,1785,null,null,470,470,1.4726599999999914,0.2416019962711008,0.9951884940714524,1,1.4726599999999914,0.2416019962711008,3.14,0]
[null,null,1786,null,null,802,802,2.5151400000000015,0.7952292893338803,0.5862747036761387,0,0,0.9999996829318346,2.5151400000000015,0]
[null,null,1787,null,null,47,47,0.14444000000000007,0.08134909916438901,0.14393828377578774,1,0.14444000000000007,0.08134909916438901,3.14,0]
[null,null,1788,null,null,465,465,1.4569599999999918,0.8843716466433332,0.993527639335327,1,1.4569599999999918,0.8843716466433332,3.14,0]
[null,null,1789,null,null,623,623,1.9530799999999793,0.038657090835389415,0.9278151536077415,1,1.9530799999999793,0.038657090835389415,3.14,0]
[null,null,1790,null,null,105,105,0.32655999999999963,0.8098416052980161,0.3207867318557432,0,0,0.9999996829318346,0.32655999999999963,0]
[null,null,1791,null,null,951,951,2.9830000000000227,0.519119585769717,0.15792867852484416,0,0,0.9999996829318346,2.9830000000000227,0]
[null,null,1792,null,null,357,357,1.1178400000000004,0.15059993945701705,0.8991572690708314,1,1.1178400000000004,0.15059993945701705,3.14,0]
[null,null,1793,null,null,416,416,1.3030999999999957,{"$f":"fmin+(fmax-fmin)*ABS(RAND())","v":0.26431794509458456},0.9643828005643793,1,1.3030999999999957,0.26431794509458456,3.14,0]
[null,null,1794,null,null,414,414,1.2968199999999959,0.8219784592225013,0.9627026686370527,1,1.2968199999999959,0.8219784592225013,3.14,0]
[null,null,1795,null,null,{"$f":"INT(1000*ABS(RAND()))+1","v":454},{"$f":"IF(F1797>0,F1797,-F1797)","v":454},1.4224199999999927,0.8681594886131406,0.9890124131653811,1,1.4224199999999927,0.8681594886131406,3.14,0]
[null,null,1796,null,null,779,779,2.442919999999998,0.14686022192332124,0.6432019094972362,1,2.442919999999998,0.14686022192332124,3.14,0]
[null,null,1797,null,null,806,806,2.527700000000002,0.28978366472846717,0.576053717587989,1,2.527700000000002,0.28978366472846717,3.14,0]
[null,null,1798,null,null,613,613,1.92167999999998,0.11992761031376238,0.9390693365144089,1,1.92167999999998,0.11992761031376238,3.14,0]
[null,null,1799,null,null,61,61,0.18840000000000012,0.1711389877073186,0.18728744713136053,1,0.18840000000000012,0.1711389877073186,3.14,0]
[null,null,1800,null,null,729,729,2.285919999999991,0.6095092747136367,0.755012153129922,1,2.285919999999991,0.6095092747136367,3.14,0]
[null,null,1801,null,null,286,286,0.8949000000000022,0.951596163487026,0.7801465253877715,0,0,0.9999996829318346,0.8949000000000022,0]
[null,null,1802,null,null,572,572,1.7929399999999833,0.40594422967726357,0.9754273944064423,1,1.7929399999999833,0.40594422967726357,3.14,0]
[null,null,1803,null,null,917,917,2.876240000000018,0.6270787800797736,0.2622495951912565,0,0,0.9999996829318346,2.876240000000018,0]
[null,null,1804,null,null,78,78,0.2417800000000002,0.914556045083607,0.2394312305409526,0,0,0.9999996829318346,0.2417800000000002,0]
[null,null,1805,null,null,610,610,1.9122599999999803,0.6042429823781545,0.9422655397316416,1,1.9122599999999803,0.6042429823781545,3.14,0]
[null,null,1806,null,null,143,143,0.4458799999999987,0.41756877961701294,0.43125201091065846,1,0.4458799999999987,0.41756877961701294,3.14,0]
[null,null,1807,null,null,325,325,1.017360000000003,0.06745460797611615,0.8507233680187158,1,1.017360000000003,0.06745460797611615,3.14,0]
[null,null,1808,null,null,347,347,1.0864400000000012,0.232430516542894,0.8849748516496488,1,1.0864400000000012,0.232430516542894,3.14,0]
[null,null,1809,null,null,743,743,2.329879999999993,0.6207902803743992,0.7254669835263065,1,2.329879999999993,0.6207902803743992,3.14,0]
[null,null,1810,null,null,67,67,0.20724000000000015,0.04299521806728264,0.20575974396701147,1,0.20724000000000015,0.04299521806728264,3.14,0]
[null,null,1811,null,null,955,955,2.9955600000000233,0.5657031597276371,0.14551416931328015,0,0,0.9999996829318346,2.9955600000000233,0]
[null,null,1812,null,null,569,569,1.7835199999999836,0.3791452626118393,0.9774595110746634,1,1.7835199999999836,0.3791452626118393,3.14,0]
[null,null,1813,null,null,685,685,2.147759999999985,0.23567335493624378,0.8381227713330428,1,2.147759999999985,0.23567335493624378,3.14,0]
[null,null,1814,null,null,995,995,3.121160000000029,0.6859912506513703,0.020431231870001884,0,0,0.9999996829318346,3.121160000000029,0]
[null,null,1815,null,null,869,869,2.725520000000011,0.09998591264824731,0.40417130105137045,1,2.725520000000011,0.09998591264824731,3.14,0]
[null,null,1816,null,null,219,219,0.6845200000000001,0.19522051511025862,0.6323012175041268,1,0.6845200000000001,0.19522051511025862,3.14,0]
[null,null,1817,null,null,561,561,1.7583999999999842,0.7053352129907203,0.9824539827941985,1,1.7583999999999842,0.7053352129907203,3.14,0]
[null,null,1818,null,null,948,948,2.9735800000000223,0.22583870473820564,0.16722331791122544,0,0,0.9999996829318346,2.9735800000000223,0]
[null,null,1819,null,null,54,54,0.1664200000000001,0.4772924458511129,0.16565287898516734,0,0,0.9999996829318346,0.1664200000000001,0]
[null,null,1820,null,null,352,352,1.1021400000000008,0.604108209501944,0.8921760143345526,1,1.1021400000000008,0.604108209501944,3.14,0]
[null,null,1821,null,null,396,396,1.2402999999999973,0.8501534555621436,0.9458813957731285,1,1.2402999999999973,0.8501534555621436,3.14,0]
[null,null,1822,null,null,745,745,2.3361599999999934,0.5451475201893249,0.7211304525878768,1,2.3361599999999934,0.5451475201893249,3.14,0]
[null,null,1823,null,null,492,492,1.5417399999999897,0.6281299212253378,0.9995778946354266,1,1.5417399999999897,0.6281299212253378,3.14,0]
[null,null,1824,null,null,441,441,1.3815999999999937,0.7359072474521582,0.9821556988007228,1,1.3815999999999937,0.7359072474521582,3.14,0]
[null,null,1825,null,null,265,265,0.8289600000000016,0.7844077359351282,0.7372291013727641,0,0,0.9999996829318346,0.8289600000000016,0]
[null,null,1826,null,null,897,897,2.813440000000015,0.8399040571009685,0.32229480853283127,0,0,0.9999996829318346,2.813440000000015,0]
[null,null,1827,null,null,508,508,1.5919799999999884,0.658750293369148,0.9997756343852602,1,1.5919799999999884,0.658750293369148,3.14,0]
[null,null,1828,null,null,253,253,0.7912800000000012,0.6630119646658517,0.7112536122543105,1,0.7912800000000012,0.6630119646658517,3.14,0]
[null,null,1829,null,null,244,244,0.7630200000000009,0.9823735884299467,0.6911073049183717,0,0,0.9999996829318346,0.7630200000000009,0]
[null,null,1830,null,null,901,901,2.8260000000000156,0.5232855441654647,0.3103799096720269,0,0,0.9999996829318346,2.8260000000000156,0]
[null,null,1831,null,null,40,40,0.12246000000000004,0.48267373231650196,0.1221541518447934,0,0,0.9999996829318346,0.12246000000000004,0]
[null,null,1832,null,null,498,498,1.5605799999999892,0.024520404600622978,0.9999478137873162,1,1.5605799999999892,0.024520404600622978,3.14,0]
[null,null,1833,null,null,728,728,2.282779999999991,0.4494147597551935,0.757067359591656,1,2.282779999999991,0.4494147597551935,3.14,0]
[null,null,1834,null,null,617,617,1.9342399999999798,0.5144760438543984,0.9346781593966811,1,1.9342399999999798,0.5144760438543984,3.14,0]
[null,null,1835,null,null,942,942,2.9547400000000215,0.8674619917509879,0.18576725717747214,0,0,0.9999996829318346,2.9547400000000215,0]
[null,null,1836,null,null,718,718,2.2513799999999895,0.3625577308582352,0.7772055766825375,1,2.2513799999999895,0.3625577308582352,3.14,0]
[null,null,1837,null,null,343,343,1.0738800000000015,0.2838659477311017,0.8790567787538691,1,1.0738800000000015,0.2838659477311017,3.14,0]
[null,null,1838,null,null,720,720,2.25765999999999,0.4694816881426222,0.7732386071494857,1,2.25765999999999,0.4694816881426222,3.14,0]
[null,null,1839,null,null,833,833,2.612480000000006,0.31411488153002987,0.5047675335242598,1,2.612480000000006,0.31411488153002987,3.14,0]
[null,null,1840,null,null,107,107,0.3328399999999996,0.394401832486954,0.3267284782389212,0,0,0.9999996829318346,0.3328399999999996,0]
[null,null,1841,null,null,720,720,2.25765999999999,0.7723085169615268,0.7732386071494857,1,2.25765999999999,0.7723085169615268,3.14,0]
[null,null,1842,null,null,931,931,2.92020000000002,0.22119452628776473,0.21958849810120976,0,0,0.9999996829318346,2.92020000000002,0]
[null,null,1843,null,null,333,333,1.0424800000000023,0.20021596687623802,0.8636570001302613,1,1.0424800000000023,0.20021596687623802,3.14,0]
[null,null,1844,null,null,318,318,0.9953800000000033,0.5358787021264194,0.8389658167040772,1,0.9953800000000033,0.5358787021264194,3.14,0]
[null,null,1845,null,null,69,69,0.21352000000000015,0.5350434904289174,0.21190127010715445,{"$f":"IF(OR(C1847>n,I1847>J1847),0,1)","v":0},0,0.9999996829318346,0.21352000000000015,0]
[null,null,1846,null,null,818,818,{"$f":"LOOKUP(G1848,C$3:C$1003,D$3:D$1003)","v":2.5653800000000038},0.34153107545614264,{"$f":"LOOKUP(H1848,D$3:D$1003,E$3:E$1003)","v":0.5448520401299902},1,2.5653800000000038,{"$f":"IF($C1848>n,fmin,(IF($K1848=1,I1848,fmax)))","v":0.34153107545614264},{"$f":"IF($C1848>n,xMin,(IF($K1848=0,$H1848,xMax)))","v":3.14},{"$f":"IF($C1848>n,fmin,(IF($K1848=0,K1848,fmin)))","v":0}]
[null,null,1847,null,null,446,446,1.3972999999999933,0.3381528585772574,0.9849872272981217,1,{"$f":"IF($C1849>n,L1848,(IF($K1849=1,$H1849,xMin)))","v":1.3972999999999933},0.3381528585772574,3.14,0]
[null,null,1848,null,null,647,647,2.0284399999999794,0.18409960820906504,0.8970960958132725,1,2.0284399999999794,0.18409960820906504,3.14,0]
[null,null,1849,null,null,449,449,1.406719999999993,0.031499528937116744,0.9865696500094607,1,1.406719999999993,0.031499528937116744,3.14,0]
[null,null,1850,null,null,580,580,1.8180599999999827,0.4603744545979096,0.9695857715926872,1,1.8180599999999827,0.4603744545979096,3.14,0]
[null,null,1851,null,null,523,523,1.6390799999999872,0.28257031495297985,0.9976695756959713,1,1.6390799999999872,0.28257031495297985,3.14,0]
[null,null,1852,null,null,302,302,0.9451400000000028,0.09530457082537697,0.810578929847736,1,0.9451400000000028,0.09530457082537697,3.14,0]
[null,null,1853,null,null,908,908,2.8479800000000166,0.9033336567608229,0.28941215473419923,0,0,0.9999996829318346,2.8479800000000166,0]
[null,null,1854,null,null,421,421,1.3187999999999953,0.0071336267723429,0.9684165921729674,1,1.3187999999999953,0.0071336267723429,3.14,0]
[null,null,1855,null,null,878,878,2.7537800000000123,0.6437601692760203,0.3781644107221562,0,0,0.9999996829318346,2.7537800000000123,0]
[null,null,1856,null,null,773,773,2.4240799999999973,0.9639006633476626,0.657512632848294,0,0,0.9999996829318346,2.4240799999999973,0]
[null,null,1857,null,null,891,891,2.794600000000014,{"$f":"fmin+(fmax-fmin)*ABS(RAND())","v":0.2789926145849487},0.34007124195249444,1,2.794600000000014,0.2789926145849487,3.14,0]
[null,null,1858,null,null,366,366,1.1460999999999997,0.3362202895329702,0.9111639017186135,1,1.1460999999999997,0.3362202895329702,3.14,0]
[null,null,1859,null,null,{"$f":"INT(1000*ABS(RAND()))+1","v":731},{"$f":"IF(F1861>0,F1861,-F1861)","v":731},2.2921999999999914,0.19365400929557325,0.7508794282082207,1,2.2921999999999914,0.19365400929557325,3.14,0]
[null,null,1860,null,null,283,283,0.8854800000000022,0.3659161462259972,0.7742188769241198,1,0.8854800000000022,0.3659161462259972,3.14,0]
[null,null,1861,null,null,541,541,1.6955999999999858,0.7493828972160598,0.9922221250982459,1,1.6955999999999858,0.7493828972160598,3.14,0]
[null,null,1862,null,null,677,677,2.1226399999999837,0.7151110427239858,0.8515594092460148,1,2.1226399999999837,0.7151110427239858,3.14,0]
[null,null,1863,null,null,399,399,1.249719999999997,0.09619156544392783,0.9488962918950714,1,1.249719999999997,0.09619156544392783,3.14,0]
[null,null,1864,null,null,600,600,1.880859999999981,0.7269027365965275,0.9523141438940934,1,1.880859999999981,0.7269027365965275,3.14,0]
[null,null,1865,null,null,968,968,3.036380000000025,0.8189957685525066,0.10501864887098342,0,0,0.9999996829318346,3.036380000000025,0]
[null,null,1866,null,null,311,311,0.973400000000003,0.20771838322316644,0.8268029602064803,1,0.973400000000003,0.20771838322316644,3.14,0]
[null,null,1867,null,null,291,291,0.9106000000000024,0.5462219544246768,0.7898718450068815,1,0.9106000000000024,0.5462219544246768,3.14,0]
[null,null,1868,null,null,3,3,6.28E-3,0.7674495741217251,0.006279958721222732,0,0,0.9999996829318346,6.28E-3,0]
[null,null,1869,null,null,693,693,2.172879999999986,0.4205056880453976,0.8241572936920594,1,2.172879999999986,0.4205056880453976,3.14,0]
[null,null,1870,null,null,999,999,3.1337200000000296,0.5643242571659913,0.007872572267243218,0,0,0.9999996829318346,3.1337200000000296,0]
[null,null,1871,null,null,448,448,1.4035799999999932,0.3874860119936516,0.9860518961080686,1,1.4035799999999932,0.3874860119936516,3.14,0]
[null,null,1872,null,null,842,842,2.640740000000007,0.10731447350955213,0.48017363815974223,1,2.640740000000007,0.10731447350955213,3.14,0]
[null,null,1873,null,null,276,276,0.8635000000000019,0.28504461010138454,0.7601214475906866,1,0.8635000000000019,0.28504461010138454,3.14,0]
[null,null,1874,null,null,743,743,2.329879999999993,0.22499555872471966,0.7254669835263065,1,2.329879999999993,0.22499555872471966,3.14,0]
[null,null,1875,null,null,280,280,0.8760600000000021,0.5631886122231547,0.7682225275725427,1,0.8760600000000021,0.5631886122231547,3.14,0]
[null,null,1876,null,null,785,785,2.461759999999999,0.13693829468339597,0.6286628912113009,1,2.461759999999999,0.13693829468339597,3.14,0]
[null,null,1877,null,null,963,963,3.0206800000000245,0.5899348626182772,0.12061824767226438,0,0,0.9999996829318346,3.0206800000000245,0]
[null,null,1878,null,null,704,704,2.2074199999999875,0.05588817554207764,0.8041075092497932,1,2.2074199999999875,0.05588817554207764,3.14,0]
[null,null,1879,null,null,767,767,2.4052399999999965,0.9622089111871599,0.6715899818864324,0,0,0.9999996829318346,2.4052399999999965,0]
[null,null,1880,null,null,404,404,1.2654199999999967,0.182995040438639,0.9537338766594503,1,1.2654199999999967,0.182995040438639,3.14,0]
[null,null,1881,null,null,122,122,0.3799399999999992,0.6085452294245676,0.3708647488672239,0,0,0.9999996829318346,0.3799399999999992,0]
[null,null,1882,null,null,773,773,2.4240799999999973,0.506116315167362,0.657512632848294,1,2.4240799999999973,0.506116315167362,3.14,0]
[null,null,1883,null,null,722,722,2.26393999999999,0.4288740777576959,0.7692411424231733,1,2.26393999999999,0.4288740777576959,3.14,0]
[null,null,1884,null,null,625,625,1.9593599999999791,0.6382421445669916,0.9254541804177491,1,1.9593599999999791,0.6382421445669916,3.14,0]
[null,null,1885,null,null,303,303,0.9482800000000028,0.13042071015606413,0.8124138071648901,1,0.9482800000000028,0.13042071015606413,3.14,0]
[null,null,1886,null,null,134,134,0.41761999999999894,0.6767263579900169,0.4055861485746154,0,0,0.9999996829318346,0.41761999999999894,0]
[null,null,1887,null,null,272,272,0.8509400000000018,0.11477697435697728,0.7519004572904053,1,0.8509400000000018,0.11477697435697728,3.14,0]
[null,null,1888,null,null,772,772,2.420939999999997,0.7906943850371466,0.6598752002099351,0,0,0.9999996829318346,2.420939999999997,0]
[null,null,1889,null,null,457,457,1.4318399999999925,0.46260473063751484,0.9903610942977085,1,1.4318399999999925,0.46260473063751484,3.14,0]
[null,null,1890,null,null,733,733,2.2984799999999916,0.1180870836381143,0.7467170899006036,1,2.2984799999999916,0.1180870836381143,3.14,0]
[null,null,1891,null,null,491,491,1.5385999999999898,0.7286228182073377,0.9994817430416912,1,1.5385999999999898,0.7286228182073377,3.14,0]
[null,null,1892,null,null,283,283,0.8854800000000022,0.7675891259679897,0.7742188769241198,1,0.8854800000000022,0.7675891259679897,3.14,0]
[null,null,1893,null,null,866,866,2.7161000000000106,0.805148929724767,0.41276955819080563,0,0,0.9999996829318346,2.7161000000000106,0]
[null,null,1894,null,null,632,632,1.9813399999999786,0.7196499245428907,0.9169039740748233,1,1.9813399999999786,0.7196499245428907,3.14,0]
[null,null,1895,null,null,494,494,1.5480199999999895,0.018674135288368494,0.9997406306817153,1,1.5480199999999895,0.018674135288368494,3.14,0]
[null,null,1896,null,null,187,187,0.5840399999999991,0.025270114704785573,0.5513987643972553,1,0.5840399999999991,0.025270114704785573,3.14,0]
[null,null,1897,null,null,441,441,1.3815999999999937,0.32182525569111176,0.9821556988007228,1,1.3815999999999937,0.32182525569111176,3.14,0]
[null,null,1898,null,null,592,592,1.8557399999999817,0.03509487827994447,0.9596774878331276,1,1.8557399999999817,0.03509487827994447,3.14,0]
[null,null,1899,null,null,661,661,2.0723999999999814,0.9609960183747939,0.8768125918608041,0,0,0.9999996829318346,2.0723999999999814,0]
[null,null,1900,null,null,615,615,1.92795999999998,0.7265907176981442,0.9368922226599442,1,1.92795999999998,0.7265907176981442,3.14,0]
[null,null,1901,null,null,290,290,0.9074600000000024,0.2120538109734621,0.787942280382704,1,0.9074600000000024,0.2120538109734621,3.14,0]
[null,null,1902,null,null,558,558,1.7489799999999844,0.4440152749661204,0.9841672459497309,1,1.7489799999999844,0.4440152749661204,3.14,0]
[null,null,1903,null,null,872,872,2.7349400000000115,0.5007041294935884,0.39553717947090455,0,0,0.9999996829318346,2.7349400000000115,0]
[null,null,1904,null,null,818,818,2.5653800000000038,0.16973586133626123,0.5448520401299902,1,2.5653800000000038,0.16973586133626123,3.14,0]
[null,null,1905,null,null,85,85,0.2637600000000001,0.5933039456465191,0.2607123523992902,0,0,0.9999996829318346,0.2637600000000001,0]
[null,null,1906,null,null,531,531,1.6641999999999866,0.2945237321089609,0.9956410473467534,1,1.6641999999999866,0.2945237321089609,3.14,0]
[null,null,1907,null,null,263,263,0.8226800000000015,0.8741761830552482,0.7329715546844361,0,0,0.9999996829318346,0.8226800000000015,0]
[null,null,1908,null,null,485,485,1.5197599999999902,0.48929386844656275,0.9986979293364634,1,1.5197599999999902,0.48929386844656275,3.14,0]
[null,null,1909,null,null,590,590,1.849459999999982,0.9531063424458286,0.9614238815474364,{"$f":"IF(OR(C1911>n,I1911>J1911),0,1)","v":1},1.849459999999982,0.9531063424458286,3.14,0]
[null,null,1910,null,null,938,938,{"$f":"LOOKUP(G1912,C$3:C$1003,D$3:D$1003)","v":2.942180000000021},0.5508873655252096,{"$f":"LOOKUP(H1912,D$3:D$1003,E$3:E$1003)","v":0.19809365797382372},0,0,{"$f":"IF($C1912>n,fmin,(IF($K1912=1,I1912,fmax)))","v":0.9999996829318346},{"$f":"IF($C1912>n,xMin,(IF($K1912=0,$H1912,xMax)))","v":2.942180000000021},{"$f":"IF($C1912>n,fmin,(IF($K1912=0,K1912,fmin)))","v":0}]
[null,null,1911,null,null,327,327,1.0236400000000028,0.7847114908531556,0.8540074247660693,1,{"$f":"IF($C1913>n,L1912,(IF($K1913=1,$H1913,xMin)))","v":1.0236400000000028},0.7847114908531556,3.14,0]
[null,null,1912,null,null,639,639,2.0033199999999782,0.9452016029997409,0.9079108105510824,0,0,0.9999996829318346,2.0033199999999782,0]
[null,null,1913,null,null,729,729,2.285919999999991,0.7602694553478822,0.755012153129922,0,0,0.9999996829318346,2.285919999999991,0]
[null,null,1914,null,null,872,872,2.7349400000000115,0.7131820343478172,0.39553717947090455,0,0,0.9999996829318346,2.7349400000000115,0]
[null,null,1915,null,null,936,936,2.9359000000000206,0.1684474944627806,0.2042452611234819,1,2.9359000000000206,0.1684474944627806,3.14,0]
[null,null,1916,null,null,348,348,1.089580000000001,0.17132596436599812,0.8864325924006182,1,1.089580000000001,0.17132596436599812,3.14,0]
[null,null,1917,null,null,230,230,0.7190600000000005,0.10468981931379828,0.6586776833740274,1,0.7190600000000005,0.10468981931379828,3.14,0]
[null,null,1918,null,null,888,888,2.7851800000000138,0.0892917781220897,0.34891458764970995,1,2.7851800000000138,0.0892917781220897,3.14,0]
[null,null,1919,null,null,808,808,2.5339800000000023,0.9474571133331392,0.5709090457000187,0,0,0.9999996829318346,2.5339800000000023,0]
[null,null,1920,null,null,50,50,0.15386000000000008,0.196276402839,0.15325366607384697,0,0,0.9999996829318346,0.15386000000000008,0]
[null,null,1921,null,null,699,699,2.191719999999987,{"$f":"fmin+(fmax-fmin)*ABS(RAND())","v":0.04554597349906472},0.8133414229406368,1,2.191719999999987,0.04554597349906472,3.14,0]
[null,null,1922,null,null,188,188,0.5871799999999991,0.49072285874570964,0.5540155611022333,1,0.5871799999999991,0.49072285874570964,3.14,0]
[null,null,1923,null,null,{"$f":"INT(1000*ABS(RAND()))+1","v":630},{"$f":"IF(F1925>0,F1925,-F1925)","v":630},1.9750599999999787,0.3595472290268884,0.919392274552372,1,1.9750599999999787,0.3595472290268884,3.14,0]
[null,null,1924,null,null,926,926,2.904500000000019,0.30244722055082457,0.23487760982183223,0,0,0.9999996829318346,2.904500000000019,0]
[null,null,1925,null,null,430,430,1.3470599999999946,0.40145118823397047,0.9750752622160065,1,1.3470599999999946,0.40145118823397047,3.14,0]
[null,null,1926,null,null,496,496,1.5542999999999894,0.011833075369205635,0.9998639386866967,1,1.5542999999999894,0.011833075369205635,3.14,0]
[null,null,1927,null,null,21,21,0.06279999999999997,0.43633071090941894,0.0627587292804297,0,0,0.9999996829318346,0.06279999999999997,0]
[null,null,1928,null,null,643,643,2.015879999999979,0.5731237727900377,0.9025746444459952,1,2.015879999999979,0.5731237727900377,3.14,0]
[null,null,1929,null,null,767,767,2.4052399999999965,0.205460856196542,0.6715899818864324,1,2.4052399999999965,0.205460856196542,3.14,0]
[null,null,1930,null,null,902,902,2.8291400000000158,0.7324226915468534,0.307393460909385,0,0,0.9999996829318346,2.8291400000000158,0]
[null,null,1931,null,null,253,253,0.7912800000000012,0.6087603780445172,0.7112536122543105,1,0.7912800000000012,0.6087603780445172,3.14,0]
[null,null,1932,null,null,397,397,1.2434399999999972,0.026107657489944928,0.9468957004551473,1,1.2434399999999972,0.026107657489944928,3.14,0]
[null,null,1933,null,null,56,56,0.1727000000000001,0.1629651306735255,0.17184280803515456,1,0.1727000000000001,0.1629651306735255,3.14,0]
[null,null,1934,null,null,354,354,1.1084200000000006,0.47768462969326464,0.8949950027650431,1,1.1084200000000006,0.47768462969326464,3.14,0]
[null,null,1935,null,null,279,279,0.872920000000002,0.060581180160109535,0.766208569382922,1,0.872920000000002,0.060581180160109535,3.14,0]
[null,null,1936,null,null,731,731,2.2921999999999914,0.8917042714155955,0.7508794282082207,0,0,0.9999996829318346,2.2921999999999914,0]
[null,null,1937,null,null,815,815,2.5559600000000033,0.172398773340819,0.5527267227299762,1,2.5559600000000033,0.172398773340819,3.14,0]
[null,null,1938,null,null,922,922,2.8919400000000186,0.757013167918425,0.24706739608520098,0,0,0.9999996829318346,2.8919400000000186,0]
[null,null,1939,null,null,251,251,0.7850000000000011,0.3852034805296539,0.7068251811053667,1,0.7850000000000011,0.3852034805296539,3.14,0]
[null,null,1940,null,null,838,838,2.6281800000000066,0.3179341700452464,0.49115277307549626,1,2.6281800000000066,0.3179341700452464,3.14,0]
[null,null,1941,null,null,350,350,1.095860000000001,0.4129239718900544,0.8893218400251783,1,1.095860000000001,0.4129239718900544,3.14,0]
[null,null,1942,null,null,879,879,2.7569200000000125,0.660630685381742,0.37525573249134136,0,0,0.9999996829318346,2.7569200000000125,0]
[null,null,1943,null,null,914,914,2.8668200000000175,0.584296589034252,0.27132812602656714,0,0,0.9999996829318346,2.8668200000000175,0]
[null,null,1944,null,null,966,966,3.030100000000025,0.010579833713640033,0.11126181013012293,1,3.030100000000025,0.010579833713640033,3.14,0]
[null,null,1945,null,null,126,126,0.3924999999999991,0.5945313548184237,0.38249949727600885,0,0,0.9999996829318346,0.3924999999999991,0]
[null,null,1946,null,null,46,46,0.14130000000000006,0.7998800433162193,0.14083027716281366,0,0,0.9999996829318346,0.14130000000000006,0]
[null,null,1947,null,null,361,361,1.1304,0.5182580353092175,0.9045827809444728,1,1.1304,0.5182580353092175,3.14,0]
[null,null,1948,null,null,628,628,1.9687799999999789,0.39006612479676067,0.9218443157888075,1,1.9687799999999789,0.39006612479676067,3.14,0]
[null,null,1949,null,null,290,290,0.9074600000000024,0.6946358105503201,0.787942280382704,1,0.9074600000000024,0.6946358105503201,3.14,0]
[null,null,1950,null,null,240,240,0.7504600000000008,0.498872643022535,0.6819752647737672,1,0.7504600000000008,0.498872643022535,3.14,0]
[null,null,1951,null,null,690,690,2.1634599999999855,0.7159885142460236,0.8294557690788443,1,2.1634599999999855,0.7159885142460236,3.14,0]
[null,null,1952,null,null,743,743,2.329879999999993,0.7452528840984973,0.7254669835263065,0,0,0.9999996829318346,2.329879999999993,0]
[null,null,1953,null,null,401,401,1.255999999999997,0.712497356527325,0.950859460506469,1,1.255999999999997,0.712497356527325,3.14,0]
[null,null,1954,null,null,343,343,1.0738800000000015,0.5560098129085294,0.8790567787538691,1,1.0738800000000015,0.5560098129085294,3.14,0]
[null,null,1955,null,null,390,390,1.2214599999999978,0.5172039515467987,0.9396000780385267,1,1.2214599999999978,0.5172039515467987,3.14,0]
[null,null,1956,null,null,412,412,1.290539999999996,0.3850309145593556,0.9609845693815804,1,1.290539999999996,0.3850309145593556,3.14,0]
[null,null,1957,null,null,248,248,0.775580000000001,0.9510882063822157,0.7001303218308841,0,0,0.9999996829318346,0.775580000000001,0]
[null,null,1958,null,null,862,862,2.70354000000001,0.30717416085644217,0.42417679366140676,1,2.70354000000001,0.30717416085644217,3.14,0]
[null,null,1959,null,null,936,936,2.9359000000000206,0.500761350929693,0.2042452611234819,0,0,0.9999996829318346,2.9359000000000206,0]
[null,null,1960,null,null,556,556,1.7426999999999846,0.26624233775868805,0.9852609133342971,1,1.7426999999999846,0.26624233775868805,3.14,0]
[null,null,1961,null,null,711,711,2.2293999999999885,0.5862185417063273,0.7908475725729215,1,2.2293999999999885,0.5862185417063273,3.14,0]
[null,null,1962,null,null,993,993,3.1148800000000287,0.6094207811879659,0.026709476830161324,0,0,0.9999996829318346,3.1148800000000287,0]
[null,null,1963,null,null,272,272,0.8509400000000018,0.2717856913455479,0.7519004572904053,1,0.8509400000000018,0.2717856913455479,3.14,0]
[null,null,1964,null,null,661,661,2.0723999999999814,0.7863216827367304,0.8768125918608041,1,2.0723999999999814,0.7863216827367304,3.14,0]
[null,null,1965,null,null,271,271,0.8478000000000018,0.8044431232091147,0.7498266252927496,0,0,0.9999996829318346,0.8478000000000018,0]
[null,null,1966,null,null,68,68,0.21038000000000015,0.654006021184699,0.2088315365339459,0,0,0.9999996829318346,0.21038000000000015,0]
[null,null,1967,null,null,917,917,2.876240000000018,0.532106124747241,0.2622495951912565,0,0,0.9999996829318346,2.876240000000018,0]
[null,null,1968,null,null,335,335,1.0487600000000021,0.7613785258914271,0.8668055707778552,1,1.0487600000000021,0.7613785258914271,3.14,0]
[null,null,1969,null,null,848,848,2.659580000000008,0.4510160994494079,0.46356345257035414,1,2.659580000000008,0.4510160994494079,3.14,0]
[null,null,1970,null,null,65,65,0.20096000000000014,0.5502662176849294,0.19961010301845164,0,0,0.9999996829318346,0.20096000000000014,0]
[null,null,1971,null,null,892,892,2.7977400000000143,0.8760303020908714,0.33711671534072296,0,0,0.9999996829318346,2.7977400000000143,0]
[null,null,1972,null,null,265,265,0.8289600000000016,0.26978903755527983,0.7372291013727641,1,0.8289600000000016,0.26978903755527983,3.14,0]
[null,null,1973,null,null,15,15,0.043959999999999985,0.9846569873188309,0.04394584271948076,{"$f":"IF(OR(C1975>n,I1975>J1975),0,1)","v":0},0,0.9999996829318346,0.043959999999999985,0]
[null,null,1974,null,null,71,71,{"$f":"LOOKUP(G1976,C$3:C$1003,D$3:D$1003)","v":0.21980000000000016},0.12156971797242014,{"$f":"LOOKUP(H1976,D$3:D$1003,E$3:E$1003)","v":0.2180344392277121},1,0.21980000000000016,{"$f":"IF($C1976>n,fmin,(IF($K1976=1,I1976,fmax)))","v":0.12156971797242014},{"$f":"IF($C1976>n,xMin,(IF($K1976=0,$H1976,xMax)))","v":3.14},{"$f":"IF($C1976>n,fmin,(IF($K1976=0,K1976,fmin)))","v":0}]
[null,null,1975,null,null,366,366,1.1460999999999997,0.6737458007998871,0.9111639017186135,1,{"$f":"IF($C1977>n,L1976,(IF($K1977=1,$H1977,xMin)))","v":1.1460999999999997},0.6737458007998871,3.14,0]
[null,null,1976,null,null,700,700,2.194859999999987,0.4851761873898956,0.8115106061906037,1,2.194859999999987,0.4851761873898956,3.14,0]
[null,null,1977,null,null,859,859,2.6941200000000096,0.608053206290646,0.432688405616159,0,0,0.9999996829318346,2.6941200000000096,0]
[null,null,1978,null,null,423,423,1.3250799999999952,0.10354090986346688,0.9699633264923766,1,1.3250799999999952,0.10354090986346688,3.14,0]
[null,null,1979,null,null,758,758,2.376979999999995,0.27025520754430793,0.6922575217506828,1,2.376979999999995,0.27025520754430793,3.14,0]
[null,null,1980,null,null,783,783,2.4554799999999988,0.18030758718930173,0.6335342798474249,1,2.4554799999999988,0.18030758718930173,3.14,0]
[null,null,1981,null,null,540,540,1.6924599999999859,0.31148118072663084,0.992608100002361,1,1.6924599999999859,0.31148118072663084,3.14,0]
[null,null,1982,null,null,91,91,0.28259999999999996,0.3641436612373606,0.27885345580690496,0,0,0.9999996829318346,0.28259999999999996,0]
[null,null,1983,null,null,41,41,0.12560000000000004,0.36052085854566707,0.1252700295083949,0,0,0.9999996829318346,0.12560000000000004,0]
[null,null,1984,null,null,204,204,0.6374199999999997,0.6818059670056231,0.5951240490180842,0,0,0.9999996829318346,0.6374199999999997,0]
[null,null,1985,null,null,11,11,0.0314,{"$f":"fmin+(fmax-fmin)*ABS(RAND())","v":2.365923783451046E-3},0.03139484039703134,1,0.0314,2.365923783451046E-3,3.14,0]
[null,null,1986,null,null,806,806,2.527700000000002,0.7624390712788378,0.576053717587989,0,0,0.9999996829318346,2.527700000000002,0]
[null,null,1987,null,null,{"$f":"INT(1000*ABS(RAND()))+1","v":735},{"$f":"IF(F1989>0,F1989,-F1989)","v":735},2.304759999999992,0.7775340329260827,0.7425253023624943,0,0,0.9999996829318346,2.304759999999992,0]
[null,null,1988,null,null,848,848,2.659580000000008,0.11544943051762536,0.46356345257035414,1,2.659580000000008,0.11544943051762536,3.14,0]
[null,null,1989,null,null,775,775,2.4303599999999976,0.3799169657850853,0.6527680730641946,1,2.4303599999999976,0.3799169657850853,3.14,0]
[null,null,1990,null,null,880,880,2.7600600000000126,0.8597320186133746,0.3723433543921464,0,0,0.9999996829318346,2.7600600000000126,0]
[null,null,1991,null,null,667,667,2.0912399999999822,0.094037904861485,0.867598641868254,1,2.0912399999999822,0.094037904861485,3.14,0]
[null,null,1992,null,null,784,784,2.458619999999999,0.8043448120500913,0.6311016967319513,0,0,0.9999996829318346,2.458619999999999,0]
[null,null,1993,null,null,226,226,0.7065000000000003,0.5980822979246028,0.6491755173969226,1,0.7065000000000003,0.5980822979246028,3.14,0]
[null,null,1994,null,null,695,695,2.179159999999986,0.10483240857851758,0.8205843184717168,1,2.179159999999986,0.10483240857851758,3.14,0]
[null,null,1995,null,null,602,602,1.887139999999981,0.755659557230606,0.9503792286372532,1,1.887139999999981,0.755659557230606,3.14,0]
[null,null,1996,null,null,598,598,1.8745799999999813,0.17607527617532853,0.9542115015282358,1,1.8745799999999813,0.17607527617532853,3.14,0]
[null,null,1997,null,null,245,245,0.766160000000001,0.35149174882089296,0.693373335971521,1,0.766160000000001,0.35149174882089296,3.14,0]
[null,null,1998,null,null,741,741,2.323599999999993,0.7502632575016318,0.7297749033016847,0,0,0.9999996829318346,2.323599999999993,0]
[null,null,1999,null,null,648,648,2.0315799999999795,0.18142815426462353,0.8957043121727796,1,2.0315799999999795,0.18142815426462353,3.14,0]
[null,null,2000,null,null,612,612,1.9185399999999802,0.6693209268210842,0.9401440105245746,1,1.9185399999999802,0.6693209268210842,3.14,0]
[null,null,2001,null,null,859,859,2.6941200000000096,0.11681185866553896,0.432688405616159,0,1.9185399999999802,0,0,0]
[null,null,2002,null,null,66,66,0.20410000000000014,0.369918459221394,0.20268592269297228,0,1.9185399999999802,0,0,0]
[null,null,2003,null,null,469,469,1.4695199999999915,0.9981756866194539,0.9948759348121261,0,1.9185399999999802,0,0,0]
[null,null,2004,null,null,294,294,0.9200200000000025,0.9324195128073968,0.7956137362803792,0,1.9185399999999802,0,0,0]
[null,null,2005,null,null,103,103,0.3202799999999997,0.4761592240349048,0.3148323341986985,0,1.9185399999999802,0,0,0]
[null,null,2006,null,null,779,779,2.442919999999998,0.7515165568444898,0.6432019094972362,0,1.9185399999999802,0,0,0]
[null,null,2007,null,null,105,105,0.32655999999999963,0.014550037022386577,0.3207867318557432,0,1.9185399999999802,0,0,0]
[null,null,2008,null,null,591,591,1.8525999999999818,0.6538514401246215,0.9605554200325009,0,1.9185399999999802,0,0,0]
[null,null,2009,null,null,915,915,2.8699600000000176,0.7661831334824818,0.2683045845095156,0,1.9185399999999802,0,0,0]
[null,null,2010,null,null,208,208,0.6499799999999998,0.2461328370338626,0.6051704839390322,0,1.9185399999999802,0,0,0]
[null,null,2011,null,null,54,54,0.1664200000000001,0.11213309672512861,0.16565287898516734,0,1.9185399999999802,0,0,0]
[null,null,2012,null,null,407,407,1.2748399999999964,0.21776197297965316,0.9565236625274771,0,1.9185399999999802,0,0,0]
[null,null,2013,null,null,545,545,1.7081599999999855,0.9758278147399518,0.9905804359316693,0,1.9185399999999802,0,0,0]
[null,null,2014,null,null,690,690,2.1634599999999855,0.7041291252238716,0.8294557690788443,0,1.9185399999999802,0,0,0]
[null,null,2015,null,null,746,746,2.3392999999999935,0.8670042731657245,0.7189515113340246,0,1.9185399999999802,0,0,0]
[null,null,2016,null,null,155,155,0.48355999999999844,0.9812056110593134,0.46493394459748233,0,1.9185399999999802,0,0,0]
[null,null,2017,null,null,532,532,1.6673399999999865,0.5042606558564694,0.9953432782530581,0,1.9185399999999802,0,0,0]
[null,null,2018,null,null,925,925,2.901360000000019,0.7059818288425483,0.2379286052586819,0,1.9185399999999802,0,0,0]
[null,null,2019,null,null,27,27,0.08163999999999999,0.20948072225700737,0.08154934056544663,0,1.9185399999999802,0,0,0]
[null,null,2020,null,null,452,452,1.4161399999999928,0.7233034803457562,0.9880645287290731,0,1.9185399999999802,0,0,0]
[null,null,2021,null,null,347,347,1.0864400000000012,0.2841518223173231,0.8849748516496488,0,1.9185399999999802,0,0,0]
[null,null,2022,null,null,601,601,1.883999999999981,0.6497742096946203,0.9513513762338344,0,1.9185399999999802,0,0,0]
[null,null,2023,null,null,886,886,2.7789000000000135,0.5612194476548931,0.35479299911096746,0,1.9185399999999802,0,0,0]
[null,null,2024,null,null,108,108,0.33597999999999956,0.9033669663923775,0.3296945339542547,0,1.9185399999999802,0,0,0]
[null,null,2025,null,null,182,182,0.568339999999999,0.5594503196493907,0.5382337502521836,0,1.9185399999999802,0,0,0]
[null,null,2026,null,null,920,920,2.8856600000000183,0.9423873907110484,0.25314779344304933,0,1.9185399999999802,0,0,0]
[null,null,2027,null,null,794,794,2.4900200000000003,0.70839237219239,0.6064376208782849,0,1.9185399999999802,0,0,0]
[null,null,2028,null,null,142,142,0.44273999999999875,0.111109814497064,0.4284168826307442,0,1.9185399999999802,0,0,0]
[null,null,2029,null,null,72,72,0.22294000000000017,0.2834761641529185,0.22109781430451664,0,1.9185399999999802,0,0,0]
[null,null,2030,null,null,582,582,1.8243399999999825,0.18297609098832898,0.9680296211537862,0,1.9185399999999802,0,0,0]
[null,null,2031,null,null,38,38,0.11618000000000003,0.0826185568986835,0.11591881408048954,0,1.9185399999999802,0,0,0]
[null,null,2032,null,null,674,674,2.1132199999999832,0.1267715879745298,0.8564600657856325,0,1.9185399999999802,0,0,0]
[null,null,2033,null,null,34,34,0.10362000000000002,0.19101814966428268,0.1034346697305189,0,1.9185399999999802,0,0,0]
[null,null,2034,null,null,563,563,1.764679999999984,0.5857404651645916,0.9812633649959536,0,1.9185399999999802,0,0,0]
[null,null,2035,null,null,518,518,1.6233799999999876,0.7264441794854694,0.9986177971876481,0,1.9185399999999802,0,0,0]
[null,null,2036,null,null,170,170,0.5306599999999986,0.3505929936443285,0.5061026837248855,0,1.9185399999999802,0,0,0]
[null,null,2037,null,null,537,537,1.683039999999986,0.22739643321937147,0.9937072897102975,{"$f":"IF(OR(C2039>n,I2039>J2039),0,1)","v":0},1.9185399999999802,0,0,0]
[null,null,2038,null,null,806,806,{"$f":"LOOKUP(G2040,C$3:C$1003,D$3:D$1003)","v":2.527700000000002},0.48962260408096914,{"$f":"LOOKUP(H2040,D$3:D$1003,E$3:E$1003)","v":0.576053717587989},0,1.9185399999999802,{"$f":"IF($C2040>n,fmin,(IF($K2040=1,I2040,fmax)))","v":0},{"$f":"IF($C2040>n,xMin,(IF($K2040=0,$H2040,xMax)))","v":0},{"$f":"IF($C2040>n,fmin,(IF($K2040=0,K2040,fmin)))","v":0}]
[null,null,2039,null,null,956,956,2.9987000000000235,0.04119537297262665,0.14240687869653235,0,{"$f":"IF($C2041>n,L2040,(IF($K2041=1,$H2041,xMin)))","v":1.9185399999999802},0,0,0]
[null,null,2040,null,null,181,181,0.5651999999999989,0.005802377818186523,0.5355847230218247,0,1.9185399999999802,0,0,0]
[null,null,2041,null,null,583,583,1.8274799999999825,0.9477984835693979,0.9672372255095226,0,1.9185399999999802,0,0,0]
[null,null,2042,null,null,727,727,2.279639999999991,0.5863312020148603,0.7591151016781845,0,1.9185399999999802,0,0,0]
[null,null,2043,null,null,844,844,2.6470200000000075,0.7563231876580988,0.4746555564368314,0,1.9185399999999802,0,0,0]
[null,null,2044,null,null,635,635,1.9907599999999783,0.1998009216691558,0.9131037523401866,0,1.9185399999999802,0,0,0]
[null,null,2045,null,null,348,348,1.089580000000001,0.29738845887323206,0.8864325924006182,0,1.9185399999999802,0,0,0]
[null,null,2046,null,null,608,608,1.9059799999999805,0.8441521146820972,0.9443499076155786,0,1.9185399999999802,0,0,0]
[null,null,2047,null,null,933,933,2.92648000000002,0.8635369988069029,0.21345748684470234,0,1.9185399999999802,0,0,0]
[null,null,2048,null,null,967,967,3.033240000000025,0.95531591434159,0.10814076261244668,0,1.9185399999999802,0,0,0]
[null,null,2049,null,null,434,434,1.3596199999999943,{"$f":"fmin+(fmax-fmin)*ABS(RAND())","v":0.9215373609658496},0.9777850211423663,0,1.9185399999999802,0,0,0]
[null,null,2050,null,null,445,445,1.3941599999999934,0.0585794116773365,0.9844403228867667,0,1.9185399999999802,0,0,0]
[null,null,2051,null,null,{"$f":"INT(1000*ABS(RAND()))+1","v":473},{"$f":"IF(F2053>0,F2053,-F2053)","v":473},1.4820799999999912,0.9522624509199922,0.9960672870918679,0,1.9185399999999802,0,0,0]
[null,null,2052,null,null,749,749,2.348719999999994,0.619097435521691,0.7123722424446118,0,1.9185399999999802,0,0,0]
[null,null,2053,null,null,371,371,1.1617999999999993,0.7205236548869016,0.9175204343159048,0,1.9185399999999802,0,0,0]
[null,null,2054,null,null,565,565,1.7709599999999839,0.3384384888427125,0.9800340478678015,0,1.9185399999999802,0,0,0]
[null,null,2055,null,null,683,683,2.1414799999999845,0.48842624363276316,0.8415318464626226,0,1.9185399999999802,0,0,0]
[null,null,2056,null,null,11,11,0.0314,0.42812405902166634,0.03139484039703134,0,1.9185399999999802,0,0,0]
[null,null,2057,null,null,223,223,0.6970800000000003,0.20251359614243164,0.6419816047976502,0,1.9185399999999802,0,0,0]
[null,null,2058,null,null,658,658,2.062979999999981,0.9063648571514429,0.8813030626154376,0,1.9185399999999802,0,0,0]
[null,null,2059,null,null,903,903,2.832280000000016,0.1531703567805374,0.30440398137266617,0,1.9185399999999802,0,0,0]
[null,null,2060,null,null,872,872,2.7349400000000115,0.32934183420246405,0.39553717947090455,0,1.9185399999999802,0,0,0]
[null,null,2061,null,null,528,528,1.6547799999999868,0.497903706410955,0.9964754436818505,0,1.9185399999999802,0,0,0]
[null,null,2062,null,null,317,317,0.9922400000000032,0.6989593118076192,0.8372529454393008,0,1.9185399999999802,0,0,0]
[null,null,2063,null,null,582,582,1.8243399999999825,0.6661451809753759,0.9680296211537862,0,1.9185399999999802,0,0,0]
[null,null,2064,null,null,732,732,2.2953399999999915,0.7869309608217208,0.7488019504952347,0,1.9185399999999802,0,0,0]
[null,null,2065,null,null,685,685,2.147759999999985,0.7453028773168828,0.8381227713330428,0,1.9185399999999802,0,0,0]
[null,null,2066,null,null,687,687,2.154039999999985,0.6445887714157625,0.8346806420909918,0,1.9185399999999802,0,0,0]
[null,null,2067,null,null,532,532,1.6673399999999865,0.4562090427347319,0.9953432782530581,0,1.9185399999999802,0,0,0]
[null,null,2068,null,null,477,477,1.4946399999999909,0.8336605108313913,0.9971015082369118,0,1.9185399999999802,0,0,0]
[null,null,2069,null,null,887,887,2.7820400000000136,0.3748672806131042,0.35185552795629527,0,1.9185399999999802,0,0,0]
[null,null,2070,null,null,392,392,1.2277399999999976,0.3926132546339153,0.9417310183845448,0,1.9185399999999802,0,0,0]
[null,null,2071,null,null,164,164,0.5118199999999984,0.7862778155339053,0.48976483249098846,0,1.9185399999999802,0,0,0]
[null,null,2072,null,null,689,689,2.1603199999999854,0.9268121879693297,0.8312055944880932,0,1.9185399999999802,0,0,0]
[null,null,2073,null,null,952,952,2.986140000000023,0.5970770729571347,0.15482731042613446,0,1.9185399999999802,0,0,0]
[null,null,2074,null,null,573,573,1.7960799999999832,0.8703834728338647,0.9747307785518928,0,1.9185399999999802,0,0,0]
[null,null,2075,null,null,867,867,2.7192400000000108,0.390100984966462,0.4099075045788626,0,1.9185399999999802,0,0,0]
[null,null,2076,null,null,283,283,0.8854800000000022,0.3936748353850447,0.7742188769241198,0,1.9185399999999802,0,0,0]
[null,null,2077,null,null,360,360,1.1272600000000002,0.5571547713051387,0.9032397479875349,0,1.9185399999999802,0,0,0]
[null,null,2078,null,null,940,940,2.948460000000021,0.09043111263086694,0.19193424235292092,0,1.9185399999999802,0,0,0]
[null,null,2079,null,null,893,893,2.8008800000000145,0.5279043517803768,0.33415886489571583,0,1.9185399999999802,0,0,0]
[null,null,2080,null,null,71,71,0.21980000000000016,0.12051480658426901,0.2180344392277121,0,1.9185399999999802,0,0,0]
[null,null,2081,null,null,512,512,1.604539999999988,0.2147448685337537,0.9994307362777121,0,1.9185399999999802,0,0,0]
[null,null,2082,null,null,840,840,2.634460000000007,0.060559941675474106,0.48567278266487984,0,1.9185399999999802,0,0,0]
[null,null,2083,null,null,549,549,1.7207199999999852,0.14176207861723633,0.9887824811895393,0,1.9185399999999802,0,0,0]
[null,null,2084,null,null,623,623,1.9530799999999793,0.259061793832933,0.9278151536077415,0,1.9185399999999802,0,0,0]
[null,null,2085,null,null,30,30,0.09106,0.868373153140348,0.09093420840354029,0,1.9185399999999802,0,0,0]
[null,null,2086,null,null,443,443,1.3878799999999936,0.5166612931666213,0.9833174010125123,0,1.9185399999999802,0,0,0]
[null,null,2087,null,null,349,349,1.092720000000001,0.9377951315605596,0.8878815932879804,0,1.9185399999999802,0,0,0]
[null,null,2088,null,null,85,85,0.2637600000000001,0.1388927926416697,0.2607123523992902,0,1.9185399999999802,0,0,0]
[null,null,2089,null,null,699,699,2.191719999999987,0.14895583693443426,0.8133414229406368,0,1.9185399999999802,0,0,0]
[null,null,2090,null,null,213,213,0.6656799999999999,0.16325535899194288,0.6175940934366693,0,1.9185399999999802,0,0,0]
[null,null,2091,null,null,778,778,2.439779999999998,0.2955124289365814,0.6456030220579468,0,1.9185399999999802,0,0,0]
[null,null,2092,null,null,384,384,1.2026199999999982,0.5557691097351471,0.9329852632550831,0,1.9185399999999802,0,0,0]
[null,null,2093,null,null,565,565,1.7709599999999839,0.8435890254706154,0.9800340478678015,0,1.9185399999999802,0,0,0]
[null,null,2094,null,null,982,982,3.080340000000027,0.6428277229192909,0.06121435859610716,0,1.9185399999999802,0,0,0]
[null,null,2095,null,null,391,391,1.2245999999999977,0.8100885455137293,0.9406701855236062,0,1.9185399999999802,0,0,0]
[null,null,2096,null,null,857,857,2.6878400000000093,0.7366521697041571,0.4383415295537174,0,1.9185399999999802,0,0,0]
[null,null,2097,null,null,751,751,2.354999999999994,0.8925571676715789,0.7079509086484362,0,1.9185399999999802,0,0,0]
[null,null,2098,null,null,914,914,2.8668200000000175,0.027754913864055087,0.27132812602656714,0,1.9185399999999802,0,0,0]
[null,null,2099,null,null,324,324,1.014220000000003,0.7870068748716927,0.8490687498516178,0,1.9185399999999802,0,0,0]
[null,null,2100,null,null,695,695,2.179159999999986,0.11467376962202577,0.8205843184717168,0,1.9185399999999802,0,0,0]
[null,null,2101,null,null,948,948,2.9735800000000223,0.8309412368899155,0.16722331791122544,{"$f":"IF(OR(C2103>n,I2103>J2103),0,1)","v":0},1.9185399999999802,0,0,0]
[null,null,2102,null,null,203,203,{"$f":"LOOKUP(G2104,C$3:C$1003,D$3:D$1003)","v":0.6342799999999996},0.741358622017758,{"$f":"LOOKUP(H2104,D$3:D$1003,E$3:E$1003)","v":0.5925977090328285},0,1.9185399999999802,{"$f":"IF($C2104>n,fmin,(IF($K2104=1,I2104,fmax)))","v":0},{"$f":"IF($C2104>n,xMin,(IF($K2104=0,$H2104,xMax)))","v":0},{"$f":"IF($C2104>n,fmin,(IF($K2104=0,K2104,fmin)))","v":0}]
[null,null,2103,null,null,299,299,0.9357200000000027,0.6463780189937246,0.8050264187899476,0,{"$f":"IF($C2105>n,L2104,(IF($K2105=1,$H2105,xMin)))","v":1.9185399999999802},0,0,0]
[null,null,2104,null,null,174,174,0.5432199999999987,0.1196496413701749,0.5168951434529886,0,1.9185399999999802,0,0,0]
[null,null,2105,null,null,503,503,1.5762799999999888,0.03992882419283537,0.9999849647017667,0,1.9185399999999802,0,0,0]
[null,null,2106,null,null,731,731,2.2921999999999914,0.6508541146863382,0.7508794282082207,0,1.9185399999999802,0,0,0]
[null,null,2107,null,null,664,664,2.081819999999982,0.03527939335536541,0.8722443164886384,0,1.9185399999999802,0,0,0]
[null,null,2108,null,null,11,11,0.0314,0.4461026214773005,0.03139484039703134,0,1.9185399999999802,0,0,0]
[null,null,2109,null,null,772,772,2.420939999999997,0.4126052506025703,0.6598752002099351,0,1.9185399999999802,0,0,0]
[null,null,2110,null,null,96,96,0.29829999999999984,0.6263546788742044,0.29389570838549134,0,1.9185399999999802,0,0,0]
[null,null,2111,null,null,561,561,1.7583999999999842,0.2627567270913818,0.9824539827941985,0,1.9185399999999802,0,0,0]
[null,null,2112,null,null,10,10,0.02826,0.022650714248118157,0.028256238614204468,0,1.9185399999999802,0,0,0]
[null,null,2113,null,null,334,334,1.0456200000000022,{"$f":"fmin+(fmax-fmin)*ABS(RAND())","v":0.6888371543000581},0.8652355508887725,0,1.9185399999999802,0,0,0]
[null,null,2114,null,null,152,152,0.4741399999999985,0.09827054849008206,0.45657348640888423,0,1.9185399999999802,0,0,0]
[null,null,2115,null,null,{"$f":"INT(1000*ABS(RAND()))+1","v":605},{"$f":"IF(F2117>0,F2117,-F2117)","v":605},1.8965599999999807,0.4777785548376731,0.9474066025412055,0,1.9185399999999802,0,0,0]
[null,null,2116,null,null,753,753,2.3612799999999945,0.6316049184584457,0.7035016544929065,0,1.9185399999999802,0,0,0]
[null,null,2117,null,null,921,921,2.8888000000000185,0.06808673622655737,0.25010882774961113,0,1.9185399999999802,0,0,0]
[null,null,2118,null,null,827,827,2.593640000000005,0.6712631344833795,0.5209407216755038,0,1.9185399999999802,0,0,0]
[null,null,2119,null,null,978,978,3.0677800000000266,0.11602990385534218,0.07374564616980689,0,1.9185399999999802,0,0,0]
[null,null,2120,null,null,488,488,1.52917999999999,0.9702009307536784,0.9991341656457611,0,1.9185399999999802,0,0,0]
[null,null,2121,null,null,89,89,0.27632,0.4637848674461482,0.2728171012764005,0,1.9185399999999802,0,0,0]
[null,null,2122,null,null,506,506,1.5856999999999886,0.42928348321072723,0.9998889423181936,0,1.9185399999999802,0,0,0]
[null,null,2123,null,null,416,416,1.3030999999999957,0.25310983393999104,0.9643828005643793,0,1.9185399999999802,0,0,0]
[null,null,2124,null,null,335,335,1.0487600000000021,0.8359544360693089,0.8668055707778552,0,1.9185399999999802,0,0,0]
[null,null,2125,null,null,444,444,1.3910199999999935,0.41687662306925916,0.9838837122955791,0,1.9185399999999802,0,0,0]
[null,null,2126,null,null,159,159,0.49611999999999834,0.9878753524239229,0.4760169180800966,0,1.9185399999999802,0,0,0]
[null,null,2127,null,null,69,69,0.21352000000000015,0.2958174989691682,0.21190127010715445,0,1.9185399999999802,0,0,0]
[null,null,2128,null,null,563,563,1.764679999999984,0.6014358691472542,0.9812633649959536,0,1.9185399999999802,0,0,0]
[null,null,2129,null,null,893,893,2.8008800000000145,0.8958565638897138,0.33415886489571583,0,1.9185399999999802,0,0,0]
[null,null,2130,null,null,615,615,1.92795999999998,0.24671325465178487,0.9368922226599442,0,1.9185399999999802,0,0,0]
[null,null,2131,null,null,962,962,3.0175400000000243,0.2936190375335153,0.12373472268192008,0,1.9185399999999802,0,0,0]
[null,null,2132,null,null,751,751,2.354999999999994,0.8217463021730553,0.7079509086484362,0,1.9185399999999802,0,0,0]
[null,null,2133,null,null,698,698,2.1885799999999866,0.6260147893630285,0.8151642204761652,0,1.9185399999999802,0,0,0]
[null,null,2134,null,null,509,509,1.5951199999999883,0.24373155126325885,0.9997041940455835,0,1.9185399999999802,0,0,0]
[null,null,2135,null,null,95,95,0.29515999999999987,0.8393148406512604,0.29089293474429073,0,1.9185399999999802,0,0,0]
[null,null,2136,null,null,765,765,2.398959999999996,0.226122760037884,0.6762297045866169,0,1.9185399999999802,0,0,0]
[null,null,2137,null,null,546,546,1.7112999999999854,0.47983157767814016,0.9901455864854977,0,1.9185399999999802,0,0,0]
[null,null,2138,null,null,668,668,2.0943799999999824,0.7007035265589531,0.8660329548822824,0,1.9185399999999802,0,0,0]
[null,null,2139,null,null,481,481,1.5071999999999905,0.03040592373482733,0.9979784350972938,0,1.9185399999999802,0,0,0]
[null,null,2140,null,null,262,262,0.8195400000000015,0.133481264956186,0.7308319306273846,0,1.9185399999999802,0,0,0]
[null,null,2141,null,null,593,593,1.8588799999999817,0.7253034745547708,0.9587900936053696,0,1.9185399999999802,0,0,0]
[null,null,2142,null,null,175,175,0.5463599999999987,0.8368101683412177,0.5195805838284954,0,1.9185399999999802,0,0,0]
[null,null,2143,null,null,664,664,2.081819999999982,0.2211049398281011,0.8722443164886384,0,1.9185399999999802,0,0,0]
[null,null,2144,null,null,198,198,0.6185799999999995,0.4640129222556001,0.5798788677176882,0,1.9185399999999802,0,0,0]
[null,null,2145,null,null,749,749,2.348719999999994,0.5774732280743973,0.7123722424446118,0,1.9185399999999802,0,0,0]
[null,null,2146,null,null,731,731,2.2921999999999914,0.1410912241184052,0.7508794282082207,0,1.9185399999999802,0,0,0]
[null,null,2147,null,null,980,980,3.074060000000027,0.08731719477828738,0.06748133305648653,0,1.9185399999999802,0,0,0]
[null,null,2148,null,null,295,295,0.9231600000000025,0.8931296956601755,0.7975120362688412,0,1.9185399999999802,0,0,0]
[null,null,2149,null,null,691,691,2.1665999999999856,0.673124679132604,0.827697765574214,0,1.9185399999999802,0,0,0]
[null,null,2150,null,null,331,331,1.0362000000000025,0.4648410559749907,0.8604743683443766,0,1.9185399999999802,0,0,0]
[null,null,2151,null,null,978,978,3.0677800000000266,0.07995297715448307,0.07374564616980689,0,1.9185399999999802,0,0,0]
[null,null,2152,null,null,600,600,1.880859999999981,0.6977486289808698,0.9523141438940934,0,1.9185399999999802,0,0,0]
[null,null,2153,null,null,333,333,1.0424800000000023,0.23972613628331452,0.8636570001302613,0,1.9185399999999802,0,0,0]
[null,null,2154,null,null,255,255,0.7975600000000013,0.09468597432905106,0.7156539927909821,0,1.9185399999999802,0,0,0]
[null,null,2155,null,null,395,395,1.2371599999999974,0.17006820977050316,0.9448577650865625,0,1.9185399999999802,0,0,0]
[null,null,2156,null,null,348,348,1.089580000000001,0.14613046136760663,0.8864325924006182,0,1.9185399999999802,0,0,0]
[null,null,2157,null,null,81,81,0.2512000000000002,0.8106671558198426,0.24856647575069984,0,1.9185399999999802,0,0,0]
[null,null,2158,null,null,590,590,1.849459999999982,0.8473273962070987,0.9614238815474364,0,1.9185399999999802,0,0,0]
[null,null,2159,null,null,456,456,1.4286999999999925,0.4831551817889422,0.9899212926627251,0,1.9185399999999802,0,0,0]
[null,null,2160,null,null,77,77,0.23864000000000019,0.9732852899359223,0.23638138736120726,0,1.9185399999999802,0,0,0]
[null,null,2161,null,null,825,825,2.5873600000000048,0.8746889877262879,0.5262909770779202,0,1.9185399999999802,0,0,0]
[null,null,2162,null,null,3,3,6.28E-3,0.572525927327284,0.006279958721222732,0,1.9185399999999802,0,0,0]
[null,null,2163,null,null,980,980,3.074060000000027,0.49445411551383034,0.06748133305648653,0,1.9185399999999802,0,0,0]
[null,null,2164,null,null,476,476,1.491499999999991,0.19739580974384235,0.9968576933406655,0,1.9185399999999802,0,0,0]
[null,null,2165,null,null,169,169,0.5275199999999985,0.2379358052607059,0.5033920272480326,{"$f":"IF(OR(C2167>n,I2167>J2167),0,1)","v":0},1.9185399999999802,0,0,0]
[null,null,2166,null,null,379,379,{"$f":"LOOKUP(G2168,C$3:C$1003,D$3:D$1003)","v":1.1869199999999986},0.6371216625800312,{"$f":"LOOKUP(H2168,D$3:D$1003,E$3:E$1003)","v":0.9272198532162651},0,1.9185399999999802,{"$f":"IF($C2168>n,fmin,(IF($K2168=1,I2168,fmax)))","v":0},{"$f":"IF($C2168>n,xMin,(IF($K2168=0,$H2168,xMax)))","v":0},{"$f":"IF($C2168>n,fmin,(IF($K2168=0,K2168,fmin)))","v":0}]
[null,null,2167,null,null,675,675,2.1163599999999834,0.32695901938859157,0.8548349365606386,0,{"$f":"IF($C2169>n,L2168,(IF($K2169=1,$H2169,xMin)))","v":1.9185399999999802},0,0,0]
[null,null,2168,null,null,624,624,1.9562199999999792,0.013736154561175799,0.9266392351550934,0,1.9185399999999802,0,0,0]
[null,null,2169,null,null,395,395,1.2371599999999974,0.42505362923412715,0.9448577650865625,0,1.9185399999999802,0,0,0]
[null,null,2170,null,null,194,194,0.6060199999999993,0.21559392863910026,0.5696007323830038,0,1.9185399999999802,0,0,0]
[null,null,2171,null,null,517,517,1.6202399999999877,0.29587241044126084,0.9987779105882341,0,1.9185399999999802,0,0,0]
[null,null,2172,null,null,921,921,2.8888000000000185,0.10415881667443315,0.25010882774961113,0,1.9185399999999802,0,0,0]
[null,null,2173,null,null,47,47,0.14444000000000007,0.6041029707080352,0.14393828377578774,0,1.9185399999999802,0,0,0]
[null,null,2174,null,null,644,644,2.019019999999979,0.3570661805574489,0.9012183222728579,0,1.9185399999999802,0,0,0]
[null,null,2175,null,null,343,343,1.0738800000000015,0.16006334669429295,0.8790567787538691,0,1.9185399999999802,0,0,0]
[null,null,2176,null,null,327,327,1.0236400000000028,0.1271867355490142,0.8540074247660693,0,1.9185399999999802,0,0,0]
[null,null,2177,null,null,764,764,2.395819999999996,{"$f":"fmin+(fmax-fmin)*ABS(RAND())","v":0.5532492300447812},0.6785395763333983,0,1.9185399999999802,0,0,0]
[null,null,2178,null,null,753,753,2.3612799999999945,0.5455943354233785,0.7035016544929065,0,1.9185399999999802,0,0,0]
[null,null,2179,null,null,{"$f":"INT(1000*ABS(RAND()))+1","v":737},{"$f":"IF(F2181>0,F2181,-F2181)","v":737},2.311039999999992,0.292153199283446,0.7383042309107428,0,1.9185399999999802,0,0,0]
[null,null,2180,null,null,50,50,0.15386000000000008,0.9238704885364003,0.15325366607384697,0,1.9185399999999802,0,0,0]
[null,null,2181,null,null,25,25,0.07535999999999998,0.8769019366121416,0.0752886903840636,0,1.9185399999999802,0,0,0]
[null,null,2182,null,null,479,479,1.5009199999999907,0.23384178822862448,0.9975596426805592,0,1.9185399999999802,0,0,0]
[null,null,2183,null,null,903,903,2.832280000000016,0.5303984941328757,0.30440398137266617,0,1.9185399999999802,0,0,0]
[null,null,2184,null,null,864,864,2.7098200000000103,0.8867297435016337,0.41848142801796073,0,1.9185399999999802,0,0,0]
[null,null,2185,null,null,803,803,2.5182800000000016,0.6086854849255484,0.583728064955164,0,1.9185399999999802,0,0,0]
[null,null,2186,null,null,54,54,0.1664200000000001,0.8974943303495494,0.16565287898516734,0,1.9185399999999802,0,0,0]
[null,null,2187,null,null,968,968,3.036380000000025,0.47420790760769366,0.10501864887098342,0,1.9185399999999802,0,0,0]
[null,null,2188,null,null,298,298,0.9325800000000026,0.8875704650990354,0.8031596828969216,0,1.9185399999999802,0,0,0]
[null,null,2189,null,null,539,539,1.689319999999986,0.8584576078644919,0.9929842881956945,0,1.9185399999999802,0,0,0]
[null,null,2190,null,null,202,202,0.6311399999999996,0.6392854904517092,0.5900655262760014,0,1.9185399999999802,0,0,0]
[null,null,2191,null,null,779,779,2.442919999999998,0.6467122991558624,0.6432019094972362,0,1.9185399999999802,0,0,0]
[null,null,2192,null,null,904,904,2.835420000000016,0.5180668962475281,0.30141150053691856,0,1.9185399999999802,0,0,0]
[null,null,2193,null,null,275,275,0.8603600000000019,0.8594793930543494,0.7580773912705464,0,1.9185399999999802,0,0,0]
[null,null,2194,null,null,348,348,1.089580000000001,0.7479179488898917,0.8864325924006182,0,1.9185399999999802,0,0,0]
[null,null,2195,null,null,999,999,3.1337200000000296,0.11025767437022507,0.007872572267243218,0,1.9185399999999802,0,0,0]
[null,null,2196,null,null,470,470,1.4726599999999914,0.4027899315329942,0.9951884940714524,0,1.9185399999999802,0,0,0]
[null,null,2197,null,null,556,556,1.7426999999999846,0.2718339830372104,0.9852609133342971,0,1.9185399999999802,0,0,0]
[null,null,2198,null,null,39,39,0.11932000000000004,0.6098042790129878,0.11903706979110598,0,1.9185399999999802,0,0,0]
[null,null,2199,null,null,61,61,0.18840000000000012,0.6674593377968495,0.18728744713136053,0,1.9185399999999802,0,0,0]
[null,null,2200,null,null,568,568,1.7803799999999836,0.7445294440641378,0.9781176174035419,0,1.9185399999999802,0,0,0]
[null,null,2201,null,null,375,375,1.174359999999999,0.36045545020633235,0.9224429021538906,0,1.9185399999999802,0,0,0]
[null,null,2202,null,null,827,827,2.593640000000005,0.19470687006407644,0.5209407216755038,0,1.9185399999999802,0,0,0]
[null,null,2203,null,null,100,100,0.31085999999999975,0.15768459083026715,0.3058775304019119,0,1.9185399999999802,0,0,0]
[null,null,2204,null,null,952,952,2.986140000000023,0.5877498815869734,0.15482731042613446,0,1.9185399999999802,0,0,0]
[null,null,2205,null,null,203,203,0.6342799999999996,0.9352604248198714,0.5925977090328285,0,1.9185399999999802,0,0,0]
[null,null,2206,null,null,765,765,2.398959999999996,0.39744068616669564,0.6762297045866169,0,1.9185399999999802,0,0,0]
[null,null,2207,null,null,101,101,0.3139999999999997,0.5331259970101636,0.30886552009893187,0,1.9185399999999802,0,0,0]
[null,null,2208,null,null,33,33,0.10048000000000001,0.6499385774325478,0.10031100712701232,0,1.9185399999999802,0,0,0]
[null,null,2209,null,null,158,158,0.49297999999999836,0.26998734160747184,0.4732531465266781,0,1.9185399999999802,0,0,0]
[null,null,2210,null,null,852,852,2.6721400000000086,0.9760911755998104,0.4523982208617615,0,1.9185399999999802,0,0,0]
[null,null,2211,null,null,390,390,1.2214599999999978,0.6916739914676718,0.9396000780385267,0,1.9185399999999802,0,0,0]
[null,null,2212,null,null,306,306,0.9577000000000029,0.06851004774876111,0.8178703067352929,0,1.9185399999999802,0,0,0]
[null,null,2213,null,null,812,812,2.546540000000003,0.7223336519257311,0.5605523587130901,0,1.9185399999999802,0,0,0]
[null,null,2214,null,null,79,79,0.2449200000000002,0.18480003142638599,0.24247871302647697,0,1.9185399999999802,0,0,0]
[null,null,2215,null,null,94,94,0.2920199999999999,0.44177078063999947,0.28788729301746724,0,1.9185399999999802,0,0,0]
[null,null,2216,null,null,423,423,1.3250799999999952,0.6004363017595267,0.9699633264923766,0,1.9185399999999802,0,0,0]
[null,null,2217,null,null,197,197,0.6154399999999994,0.4470726033355589,0.5773178467408526,0,1.9185399999999802,0,0,0]
[null,null,2218,null,null,883,883,2.769480000000013,0.34699368366804373,0.36358430821357274,0,1.9185399999999802,0,0,0]
[null,null,2219,null,null,468,468,1.4663799999999916,0.3043642901737321,0.9945535664820925,0,1.9185399999999802,0,0,0]
[null,null,2220,null,null,772,772,2.420939999999997,0.7833574570443428,0.6598752002099351,0,1.9185399999999802,0,0,0]
[null,null,2221,null,null,64,64,0.19782000000000013,0.9887268810618439,0.19653231526977635,0,1.9185399999999802,0,0,0]
[null,null,2222,null,null,621,621,1.9467999999999794,0.2374041550767714,0.930139535372839,0,1.9185399999999802,0,0,0]
[null,null,2223,null,null,892,892,2.7977400000000143,0.29167688402930236,0.33711671534072296,0,1.9185399999999802,0,0,0]
[null,null,2224,null,null,402,402,1.2591399999999968,0.737062542873563,0.9518269869987422,0,1.9185399999999802,0,0,0]
[null,null,2225,null,null,165,165,0.5149599999999984,0.3401554447268493,0.4925000369331967,0,1.9185399999999802,0,0,0]
[null,null,2226,null,null,749,749,2.348719999999994,0.7739130865007263,0.7123722424446118,0,1.9185399999999802,0,0,0]
[null,null,2227,null,null,203,203,0.6342799999999996,0.8108238240423162,0.5925977090328285,0,1.9185399999999802,0,0,0]
[null,null,2228,null,null,670,670,2.1006599999999827,0.6819857794872165,0.8628759802370436,0,1.9185399999999802,0,0,0]
[null,null,2229,null,null,526,526,1.648499999999987,0.8392125912636569,0.9969825882696778,{"$f":"IF(OR(C2231>n,I2231>J2231),0,1)","v":0},1.9185399999999802,0,0,0]
[null,null,2230,null,null,754,754,{"$f":"LOOKUP(G2232,C$3:C$1003,D$3:D$1003)","v":2.3644199999999946},0.6595887249964956,{"$f":"LOOKUP(H2232,D$3:D$1003,E$3:E$1003)","v":0.7012666120722123},0,1.9185399999999802,{"$f":"IF($C2232>n,fmin,(IF($K2232=1,I2232,fmax)))","v":0},{"$f":"IF($C2232>n,xMin,(IF($K2232=0,$H2232,xMax)))","v":0},{"$f":"IF($C2232>n,fmin,(IF($K2232=0,K2232,fmin)))","v":0}]
[null,null,2231,null,null,811,811,2.5434000000000028,0.4866619536794259,0.5631498846439349,0,{"$f":"IF($C2233>n,L2232,(IF($K2233=1,$H2233,xMin)))","v":1.9185399999999802},0,0,0]
[null,null,2232,null,null,297,297,0.9294400000000026,0.06919764769375926,0.8012850281771926,0,1.9185399999999802,0,0,0]
[null,null,2233,null,null,338,338,1.058180000000002,0.28241838823638526,0.8714642908524497,0,1.9185399999999802,0,0,0]
[null,null,2234,null,null,642,642,2.0127399999999787,0.36451076779077607,0.90392206760148,0,1.9185399999999802,0,0,0]
[null,null,2235,null,null,316,316,0.9891000000000032,0.15640439763019692,0.8355318192021662,0,1.9185399999999802,0,0,0]
[null,null,2236,null,null,493,493,1.5448799999999896,0.9883554323388287,0.9996641907990496,0,1.9185399999999802,0,0,0]
[null,null,2237,null,null,839,839,2.6313200000000068,0.3004303406174742,0.48841518565739195,0,1.9185399999999802,0,0,0]
[null,null,2238,null,null,373,373,1.1680799999999991,0.3613282976367168,0.9199998098355247,0,1.9185399999999802,0,0,0]
[null,null,2239,null,null,99,99,0.30771999999999977,0.9942282945599924,0.30288652487727113,0,1.9185399999999802,0,0,0]
[null,null,2240,null,null,188,188,0.5871799999999991,0.7874169060071985,0.5540155611022333,0,1.9185399999999802,0,0,0]
[null,null,2241,null,null,711,711,2.2293999999999885,{"$f":"fmin+(fmax-fmin)*ABS(RAND())","v":0.5996275999752539},0.7908475725729215,0,1.9185399999999802,0,0,0]
[null,null,2242,null,null,716,716,2.245099999999989,0.5390517906971347,0.7811418945719117,0,1.9185399999999802,0,0,0]
[null,null,2243,null,null,{"$f":"INT(1000*ABS(RAND()))+1","v":59},{"$f":"IF(F2245>0,F2245,-F2245)","v":59},0.18212000000000012,0.9147644370904942,0.18111491817706396,0,1.9185399999999802,0,0,0]
[null,null,2244,null,null,657,657,2.059839999999981,0.5657677434443669,0.8827825272152047,0,1.9185399999999802,0,0,0]
[null,null,2245,null,null,684,684,2.1446199999999846,0.9382325557959482,0.8398314490955088,0,1.9185399999999802,0,0,0]
[null,null,2246,null,null,1,1,0,0.14191979361524468,0,0,1.9185399999999802,0,0,0]
[null,null,2247,null,null,282,282,0.8823400000000021,0.9908464066731989,0.7722277010878298,0,1.9185399999999802,0,0,0]
[null,null,2248,null,null,745,745,2.3361599999999934,0.04963928920758869,0.7211304525878768,0,1.9185399999999802,0,0,0]
[null,null,2249,null,null,766,766,2.4020999999999963,0.5758860374261215,0.6739131654909182,0,1.9185399999999802,0,0,0]
[null,null,2250,null,null,845,845,2.6501600000000076,0.8310186578060111,0.47188948209714626,0,1.9185399999999802,0,0,0]
[null,null,2251,null,null,838,838,2.6281800000000066,0.15136257268534642,0.49115277307549626,0,1.9185399999999802,0,0,0]
[null,null,2252,null,null,66,66,0.20410000000000014,0.5148474042315452,0.20268592269297228,0,1.9185399999999802,0,0,0]
[null,null,2253,null,null,57,57,0.1758400000000001,0.05711329587529555,0.17493524636365365,0,1.9185399999999802,0,0,0]
[null,null,2254,null,null,207,207,0.6468399999999997,0.9188229161030432,0.6026677635471206,0,1.9185399999999802,0,0,0]
[null,null,2255,null,null,268,268,0.8383800000000017,0.41912537137860306,0.7435608535454653,0,1.9185399999999802,0,0,0]
[null,null,2256,null,null,982,982,3.080340000000027,0.8558732782072943,0.06121435859610716,0,1.9185399999999802,0,0,0]
[null,null,2257,null,null,630,630,1.9750599999999787,0.24767925255827358,0.919392274552372,0,1.9185399999999802,0,0,0]
[null,null,2258,null,null,765,765,2.398959999999996,0.6412225143390134,0.6762297045866169,0,1.9185399999999802,0,0,0]
[null,null,2259,null,null,510,510,1.5982599999999882,0.6214486113666324,0.999622897030534,0,1.9185399999999802,0,0,0]
[null,null,2260,null,null,438,438,1.372179999999994,0.07310948069892641,0.9803405329893836,0,1.9185399999999802,0,0,0]
[null,null,2261,null,null,516,516,1.6170999999999878,0.8831708508329952,0.9989281764462239,0,1.9185399999999802,0,0,0]
[null,null,2262,null,null,604,604,1.8934199999999808,0.9416759139540086,0.948406832067426,0,1.9185399999999802,0,0,0]
[null,null,2263,null,null,578,578,1.8117799999999828,0.9208295567323151,0.9711036832457671,0,1.9185399999999802,0,0,0]
[null,null,2264,null,null,186,186,0.5808999999999991,0.7855754394448954,0.5487765311254869,0,1.9185399999999802,0,0,0]
[null,null,2265,null,null,701,701,2.197999999999987,0.653000180646216,0.8096717882771718,0,1.9185399999999802,0,0,0]
[null,null,2266,null,null,286,286,0.8949000000000022,0.37719793706250826,0.7801465253877715,0,1.9185399999999802,0,0,0]
[null,null,2267,null,null,449,449,1.406719999999993,0.12025986975121448,0.9865696500094607,0,1.9185399999999802,0,0,0]
[null,null,2268,null,null,6,6,0.0157,0.572443868828704,0.015699355025782367,0,1.9185399999999802,0,0,0]
[null,null,2269,null,null,726,726,2.2764999999999906,0.17395586952764983,0.761155359199606,0,1.9185399999999802,0,0,0]
[null,null,2270,null,null,668,668,2.0943799999999824,0.04521123545006912,0.8660329548822824,0,1.9185399999999802,0,0,0]
[null,null,2271,null,null,102,102,0.3171399999999997,0.7447943232211087,0.311850464507972,0,1.9185399999999802,0,0,0]
[null,null,2272,null,null,855,855,2.681560000000009,0.7983781123003163,0.4439773660595125,0,1.9185399999999802,0,0,0]
[null,null,2273,null,null,32,32,0.09734000000000001,0.15584749439178378,0.0971863554979125,0,1.9185399999999802,0,0,0]
[null,null,2274,null,null,258,258,0.8069800000000014,0.8344517327993057,0.7222015893759779,0,1.9185399999999802,0,0,0]
[null,null,2275,null,null,285,285,0.8917600000000022,0.7733474186094778,0.778178308593281,0,1.9185399999999802,0,0,0]
[null,null,2276,null,null,674,674,2.1132199999999832,0.9386544369987324,0.8564600657856325,0,1.9185399999999802,0,0,0]
[null,null,2277,null,null,87,87,0.27004000000000006,0.7666930945042141,0.26676998731129037,0,1.9185399999999802,0,0,0]
[null,null,2278,null,null,137,137,0.42703999999999886,0.07379198087034917,0.4141784415127963,0,1.9185399999999802,0,0,0]
[null,null,2279,null,null,303,303,0.9482800000000028,0.9459351232372003,0.8124138071648901,0,1.9185399999999802,0,0,0]
[null,null,2280,null,null,14,14,0.04081999999999999,0.28116467414115964,0.04080866473786159,0,1.9185399999999802,0,0,0]
[null,null,2281,null,null,833,833,2.612480000000006,0.3039270652842268,0.5047675335242598,0,1.9185399999999802,0,0,0]
[null,null,2282,null,null,44,44,0.13502000000000006,0.4722252225337788,0.13461012900705308,0,1.9185399999999802,0,0,0]
[null,null,2283,null,null,83,83,0.25748000000000015,0.512720179239339,0.2546444354430435,0,1.9185399999999802,0,0,0]
[null,null,2284,null,null,755,755,2.367559999999995,0.0497723092445651,0.6990246554489108,0,1.9185399999999802,0,0,0]
[null,null,2285,null,null,866,866,2.7161000000000106,0.06012455754950647,0.41276955819080563,0,1.9185399999999802,0,0,0]
[null,null,2286,null,null,324,324,1.014220000000003,0.45367168471847424,0.8490687498516178,0,1.9185399999999802,0,0,0]
[null,null,2287,null,null,176,176,0.5494999999999988,0.8917842158108191,0.5222609013514871,0,1.9185399999999802,0,0,0]
[null,null,2288,null,null,542,542,1.6987399999999857,0.7768718244798899,0.9918263672889042,0,1.9185399999999802,0,0,0]
[null,null,2289,null,null,676,676,2.1194999999999835,0.6158663929329644,0.8532013790120291,0,1.9185399999999802,0,0,0]
[null,null,2290,null,null,764,764,2.395819999999996,0.4531617277608624,0.6785395763333983,0,1.9185399999999802,0,0,0]
[null,null,2291,null,null,409,409,1.2811199999999963,0.8519138132592506,0.9583363803893912,0,1.9185399999999802,0,0,0]
[null,null,2292,null,null,556,556,1.7426999999999846,0.48084234199966186,0.9852609133342971,0,1.9185399999999802,0,0,0]
[null,null,2293,null,null,977,977,3.0646400000000265,0.5099628605254627,0.07687672751268032,{"$f":"IF(OR(C2295>n,I2295>J2295),0,1)","v":0},1.9185399999999802,0,0,0]
[null,null,2294,null,null,182,182,{"$f":"LOOKUP(G2296,C$3:C$1003,D$3:D$1003)","v":0.568339999999999},0.8379554514144943,{"$f":"LOOKUP(H2296,D$3:D$1003,E$3:E$1003)","v":0.5382337502521836},0,1.9185399999999802,{"$f":"IF($C2296>n,fmin,(IF($K2296=1,I2296,fmax)))","v":0},{"$f":"IF($C2296>n,xMin,(IF($K2296=0,$H2296,xMax)))","v":0},{"$f":"IF($C2296>n,fmin,(IF($K2296=0,K2296,fmin)))","v":0}]
[null,null,2295,null,null,320,320,1.0016600000000033,0.4118004868375559,0.8423667268452657,0,{"$f":"IF($C2297>n,L2296,(IF($K2297=1,$H2297,xMin)))","v":1.9185399999999802},0,0,0]
[null,null,2296,null,null,664,664,2.081819999999982,0.9003542747198854,0.8722443164886384,0,1.9185399999999802,0,0,0]
[null,null,2297,null,null,250,250,0.7818600000000011,0.9791199157713326,0.7046005010862876,0,1.9185399999999802,0,0,0]
[null,null,2298,null,null,131,131,0.408199999999999,0.4313620158843545,0.3969578656478564,0,1.9185399999999802,0,0,0]
[null,null,2299,null,null,961,961,3.014400000000024,0.012249703322815879,0.1268499777177064,0,1.9185399999999802,0,0,0]
[null,null,2300,null,null,937,937,2.9390400000000207,0.43112676803637967,0.20117045127792868,0,1.9185399999999802,0,0,0]
[null,null,2301,null,null,461,461,1.4443999999999921,0.9624483317410716,0.9920226133571394,0,1.9185399999999802,0,0,0]
[null,null,2302,null,null,109,109,0.33911999999999953,0.3039371842744107,0.33265733901603206,0,1.9185399999999802,0,0,0]
[null,null,2303,null,null,189,189,0.5903199999999992,0.4029351576496701,0.556626895439873,0,1.9185399999999802,0,0,0]
[null,null,2304,null,null,417,417,1.3062399999999956,0.5403094376494646,0.9652086080147073,0,1.9185399999999802,0,0,0]
[null,null,2305,null,null,649,649,2.0347199999999797,{"$f":"fmin+(fmax-fmin)*ABS(RAND())","v":0.589024108447329},0.8943036972533065,0,1.9185399999999802,0,0,0]
[null,null,2306,null,null,508,508,1.5919799999999884,0.8893181300591209,0.9997756343852602,0,1.9185399999999802,0,0,0]
[null,null,2307,null,null,{"$f":"INT(1000*ABS(RAND()))+1","v":993},{"$f":"IF(F2309>0,F2309,-F2309)","v":993},3.1148800000000287,0.17015849443408693,0.026709476830161324,0,1.9185399999999802,0,0,0]
[null,null,2308,null,null,398,398,1.2465799999999971,0.007426486830643084,0.9479006691319886,0,1.9185399999999802,0,0,0]
[null,null,2309,null,null,294,294,0.9200200000000025,0.3386616080173709,0.7956137362803792,0,1.9185399999999802,0,0,0]
[null,null,2310,null,null,80,80,0.2480600000000002,0.09392253922681619,0.24552380477084668,0,1.9185399999999802,0,0,0]
[null,null,2311,null,null,492,492,1.5417399999999897,0.6019649862282788,0.9995778946354266,0,1.9185399999999802,0,0,0]
[null,null,2312,null,null,100,100,0.31085999999999975,0.6206728072344608,0.3058775304019119,0,1.9185399999999802,0,0,0]
[null,null,2313,null,null,660,660,2.0692599999999812,0.9426803056401548,0.8783180802228832,0,1.9185399999999802,0,0,0]
[null,null,2314,null,null,771,771,2.417799999999997,0.5359160690217984,0.6622312614713978,0,1.9185399999999802,0,0,0]
[null,null,2315,null,null,57,57,0.1758400000000001,0.09475582801801756,0.17493524636365365,0,1.9185399999999802,0,0,0]
[null,null,2316,null,null,117,117,0.36423999999999934,0.276476469113068,0.3562392573998173,0,1.9185399999999802,0,0,0]
[null,null,2317,null,null,981,981,3.077200000000027,0.9509904404189172,0.0643481630496104,0,1.9185399999999802,0,0,0]
[null,null,2318,null,null,890,890,2.791460000000014,0.2975256140943109,0.34302241560060365,0,1.9185399999999802,0,0,0]
[null,null,2319,null,null,700,700,2.194859999999987,0.14545533733616184,0.8115106061906037,0,1.9185399999999802,0,0,0]
[null,null,2320,null,null,607,607,1.9028399999999805,0.27451938940548837,0.9453781303153276,0,1.9185399999999802,0,0,0]
[null,null,2321,null,null,16,16,0.04709999999999998,0.651669883801628,0.04708258741302506,0,1.9185399999999802,0,0,0]
[null,null,2322,null,null,926,926,2.904500000000019,0.9918957941982144,0.23487760982183223,0,1.9185399999999802,0,0,0]
[null,null,2323,null,null,62,62,0.19154000000000013,0.6246167389336621,0.19037095695199152,0,1.9185399999999802,0,0,0]
[null,null,2324,null,null,810,810,2.5402600000000026,0.9893470873172566,0.5657418581467392,0,1.9185399999999802,0,0,0]
[null,null,2325,null,null,217,217,0.6782400000000001,0.9782904833872521,0.627423522865608,0,1.9185399999999802,0,0,0]
[null,null,2326,null,null,118,118,0.3673799999999993,6.939198143246228E-3,0.3591714959783059,0,1.9185399999999802,0,0,0]
[null,null,2327,null,null,864,864,2.7098200000000103,0.42598213263249834,0.41848142801796073,0,1.9185399999999802,0,0,0]
[null,null,2328,null,null,254,254,0.7944200000000012,0.2859352692938228,0.7134573197216512,0,1.9185399999999802,0,0,0]
[null,null,2329,null,null,634,634,1.9876199999999784,0.3588691914066599,0.9143795124904281,0,1.9185399999999802,0,0,0]
[null,null,2330,null,null,878,878,2.7537800000000123,0.290590090038297,0.3781644107221562,0,1.9185399999999802,0,0,0]
[null,null,2331,null,null,134,134,0.41761999999999894,0.43225662331623266,0.4055861485746154,0,1.9185399999999802,0,0,0]
[null,null,2332,null,null,562,562,1.7615399999999841,0.5897745845395641,0.9818635142818517,0,1.9185399999999802,0,0,0]
[null,null,2333,null,null,766,766,2.4020999999999963,0.7340553199548298,0.6739131654909182,0,1.9185399999999802,0,0,0]
[null,null,2334,null,null,535,535,1.6767599999999863,0.44509924878940765,0.9943911011281259,0,1.9185399999999802,0,0,0]
[null,null,2335,null,null,878,878,2.7537800000000123,0.5096026354525205,0.3781644107221562,0,1.9185399999999802,0,0,0]
[null,null,2336,null,null,151,151,0.47099999999999853,0.6246626166146702,0.4537776270755438,0,1.9185399999999802,0,0,0]
[null,null,2337,null,null,226,226,0.7065000000000003,0.08840008526878289,0.6491755173969226,0,1.9185399999999802,0,0,0]
[null,null,2338,null,null,606,606,1.8996999999999806,0.1253706274390957,0.9463970319725213,0,1.9185399999999802,0,0,0]
[null,null,2339,null,null,252,252,0.7881400000000012,0.8712233590035949,0.7090428921166162,0,1.9185399999999802,0,0,0]
[null,null,2340,null,null,417,417,1.3062399999999956,0.15198320290363038,0.9652086080147073,0,1.9185399999999802,0,0,0]
[null,null,2341,null,null,205,205,0.6405599999999997,0.2086193965744333,0.5976445213230874,0,1.9185399999999802,0,0,0]
[null,null,2342,null,null,585,585,1.8337599999999823,0.40763709776083207,0.9656238324347804,0,1.9185399999999802,0,0,0]
[null,null,2343,null,null,691,691,2.1665999999999856,0.15316628558911805,0.827697765574214,0,1.9185399999999802,0,0,0]
[null,null,2344,null,null,789,789,2.4743199999999996,0.7910791093129286,0.6188459269047498,0,1.9185399999999802,0,0,0]
[null,null,2345,null,null,648,648,2.0315799999999795,0.6520820905713459,0.8957043121727796,0,1.9185399999999802,0,0,0]
[null,null,2346,null,null,12,12,0.034539999999999994,0.46246774834885335,0.03453313263954416,0,1.9185399999999802,0,0,0]
[null,null,2347,null,null,181,181,0.5651999999999989,0.9722906755939995,0.5355847230218247,0,1.9185399999999802,0,0,0]
[null,null,2348,null,null,881,881,2.7632000000000128,0.8225133795224014,0.36942730513943084,0,1.9185399999999802,0,0,0]
[null,null,2349,null,null,353,353,1.1052800000000007,0.43260430551906975,0.8935899137657353,0,1.9185399999999802,0,0,0]
[null,null,2350,null,null,829,829,2.5999200000000053,0.6034679611086681,0.5155699212720517,0,1.9185399999999802,0,0,0]
[null,null,2351,null,null,522,522,1.6359399999999873,0.06941289141803267,0.9978789011884561,0,1.9185399999999802,0,0,0]
[null,null,2352,null,null,545,545,1.7081599999999855,0.36653592251226547,0.9905804359316693,0,1.9185399999999802,0,0,0]
[null,null,2353,null,null,70,70,0.21666000000000016,0.03783191656251818,0.21496891442031685,0,1.9185399999999802,0,0,0]
[null,null,2354,null,null,277,277,0.866640000000002,0.6739697627837637,0.7621580094235599,0,1.9185399999999802,0,0,0]
[null,null,2355,null,null,30,30,0.09106,0.7152676041145908,0.09093420840354029,0,1.9185399999999802,0,0,0]
[null,null,2356,null,null,369,369,1.1555199999999994,0.22998674397671623,0.915004873377313,0,1.9185399999999802,0,0,0]
[null,null,2357,null,null,930,930,2.9170600000000197,0.2969582407034569,0.22265077125705304,{"$f":"IF(OR(C2359>n,I2359>J2359),0,1)","v":0},1.9185399999999802,0,0,0]
[null,null,2358,null,null,798,798,{"$f":"LOOKUP(G2360,C$3:C$1003,D$3:D$1003)","v":2.502580000000001},0.667360399294124,{"$f":"LOOKUP(H2360,D$3:D$1003,E$3:E$1003)","v":0.5964032040350337},0,1.9185399999999802,{"$f":"IF($C2360>n,fmin,(IF($K2360=1,I2360,fmax)))","v":0},{"$f":"IF($C2360>n,xMin,(IF($K2360=0,$H2360,xMax)))","v":0},{"$f":"IF($C2360>n,fmin,(IF($K2360=0,K2360,fmin)))","v":0}]
[null,null,2359,null,null,690,690,2.1634599999999855,0.482527258004776,0.8294557690788443,0,{"$f":"IF($C2361>n,L2360,(IF($K2361=1,$H2361,xMin)))","v":1.9185399999999802},0,0,0]
[null,null,2360,null,null,916,916,2.8731000000000178,0.7803431749500829,0.2652783976187561,0,1.9185399999999802,0,0,0]
[null,null,2361,null,null,120,120,0.37365999999999927,0.011384369503909945,0.3650253204064066,0,1.9185399999999802,0,0,0]
[null,null,2362,null,null,73,73,0.22608000000000017,0.6362072382233039,0.22415900944710238,0,1.9185399999999802,0,0,0]
[null,null,2363,null,null,436,436,1.3658999999999941,0.4787864651369364,0.9790820837178481,0,1.9185399999999802,0,0,0]
[null,null,2364,null,null,957,957,3.0018400000000236,0.9073893119430404,0.139298184006077,0,1.9185399999999802,0,0,0]
[null,null,2365,null,null,25,25,0.07535999999999998,0.8021789622064032,0.0752886903840636,0,1.9185399999999802,0,0,0]
[null,null,2366,null,null,449,449,1.406719999999993,0.055523180771863793,0.9865696500094607,0,1.9185399999999802,0,0,0]
[null,null,2367,null,null,288,288,0.9011800000000023,0.031040605071183957,0.7840598638676922,0,1.9185399999999802,0,0,0]
[null,null,2368,null,null,30,30,0.09106,0.544944277811603,0.09093420840354029,0,1.9185399999999802,0,0,0]
[null,null,2369,null,null,768,768,2.4083799999999966,{"$f":"fmin+(fmax-fmin)*ABS(RAND())","v":0.44795848020986756},0.6692601766788017,0,1.9185399999999802,0,0,0]
[null,null,2370,null,null,219,219,0.6845200000000001,0.14264295781403555,0.6323012175041268,0,1.9185399999999802,0,0,0]
[null,null,2371,null,null,{"$f":"INT(1000*ABS(RAND()))+1","v":376},{"$f":"IF(F2373>0,F2373,-F2373)","v":376},1.1774999999999989,0.7518709156243147,0.9236508119468102,0,1.9185399999999802,0,0,0]
[null,null,2372,null,null,25,25,0.07535999999999998,0.2319714896391631,0.0752886903840636,0,1.9185399999999802,0,0,0]
[null,null,2373,null,null,431,431,1.3501999999999945,0.272053978739347,0.9757671396493174,0,1.9185399999999802,0,0,0]
[null,null,2374,null,null,520,520,1.6296599999999875,0.9107621220391224,0.998268034170376,0,1.9185399999999802,0,0,0]
[null,null,2375,null,null,948,948,2.9735800000000223,0.46968347170012764,0.16722331791122544,0,1.9185399999999802,0,0,0]
[null,null,2376,null,null,754,754,2.3644199999999946,0.5022239215043531,0.7012666120722123,0,1.9185399999999802,0,0,0]
[null,null,2377,null,null,426,426,1.334499999999995,0.18650551937770019,0.9722116836789102,0,1.9185399999999802,0,0,0]
[null,null,2378,null,null,593,593,1.8588799999999817,0.691538951129814,0.9587900936053696,0,1.9185399999999802,0,0,0]
[null,null,2379,null,null,288,288,0.9011800000000023,0.503046363743057,0.7840598638676922,0,1.9185399999999802,0,0,0]
[null,null,2380,null,null,653,653,2.0472799999999802,0.22602887227567423,0.8886132022786687,0,1.9185399999999802,0,0,0]
[null,null,2381,null,null,726,726,2.2764999999999906,0.06846300295669226,0.761155359199606,0,1.9185399999999802,0,0,0]
[null,null,2382,null,null,211,211,0.6593999999999999,0.37521709974788237,0.6126427463019449,0,1.9185399999999802,0,0,0]
[null,null,2383,null,null,296,296,0.9263000000000026,0.348136201155487,0.7994024731140909,0,1.9185399999999802,0,0,0]
[null,null,2384,null,null,402,402,1.2591399999999968,0.19723919820032765,0.9518269869987422,0,1.9185399999999802,0,0,0]
[null,null,2385,null,null,481,481,1.5071999999999905,0.2256916647222775,0.9979784350972938,0,1.9185399999999802,0,0,0]
[null,null,2386,null,null,820,820,2.571660000000004,0.5874323569011113,0.5395753485018209,0,1.9185399999999802,0,0,0]
[null,null,2387,null,null,504,504,1.5794199999999887,0.16787782991540245,0.9999628163606653,0,1.9185399999999802,0,0,0]
[null,null,2388,null,null,157,157,0.4898399999999984,0.12437567040608888,0.47048470889037,0,1.9185399999999802,0,0,0]
[null,null,2389,null,null,119,119,0.3705199999999993,0.739750491488774,0.3621001932724224,0,1.9185399999999802,0,0,0]
[null,null,2390,null,null,787,787,2.4680399999999993,0.7327472894853098,0.6237667091980925,0,1.9185399999999802,0,0,0]
[null,null,2391,null,null,370,370,1.1586599999999994,0.7510875630893118,0.9162671708567964,0,1.9185399999999802,0,0,0]
[null,null,2392,null,null,152,152,0.4741399999999985,0.06561214587396205,0.45657348640888423,0,1.9185399999999802,0,0,0]
[null,null,2393,null,null,896,896,2.810300000000015,0.8435356827322985,0.3252656623553965,0,1.9185399999999802,0,0,0]
[null,null,2394,null,null,340,340,1.0644600000000017,0.801420672190749,0.8745271683428117,0,1.9185399999999802,0,0,0]
[null,null,2395,null,null,274,274,0.8572200000000019,0.06819981332933504,0.7560258606167003,0,1.9185399999999802,0,0,0]
[null,null,2396,null,null,525,525,1.645359999999987,0.8306087541767452,0.9972214170272513,0,1.9185399999999802,0,0,0]
[null,null,2397,null,null,745,745,2.3361599999999934,0.5287574746944709,0.7211304525878768,0,1.9185399999999802,0,0,0]
[null,null,2398,null,null,569,569,1.7835199999999836,0.15875511953338825,0.9774595110746634,0,1.9185399999999802,0,0,0]
[null,null,2399,null,null,505,505,1.5825599999999886,0.4801618021745618,0.9999308087942804,0,1.9185399999999802,0,0,0]
[null,null,2400,null,null,18,18,0.053379999999999976,0.710677863879339,0.053354653232375725,0,1.9185399999999802,0,0,0]
[null,null,2401,null,null,537,537,1.683039999999986,0.7691982112405734,0.9937072897102975,0,1.9185399999999802,0,0,0]
[null,null,2402,null,null,809,809,2.5371200000000025,0.8732670128440173,0.5683282536657018,0,1.9185399999999802,0,0,0]
[null,null,2403,null,null,580,580,1.8180599999999827,0.6233167954546509,0.9695857715926872,0,1.9185399999999802,0,0,0]
[null,null,2404,null,null,927,927,2.9076400000000193,0.5487660243033051,0.2318242985876035,0,1.9185399999999802,0,0,0]
[null,null,2405,null,null,450,450,1.409859999999993,0.35196668552930427,0.9870776767367238,0,1.9185399999999802,0,0,0]
[null,null,2406,null,null,262,262,0.8195400000000015,0.19000188485712152,0.7308319306273846,0,1.9185399999999802,0,0,0]
[null,null,2407,null,null,90,90,0.27946,0.8965954457991895,0.2758366383599953,0,1.9185399999999802,0,0,0]
[null,null,2408,null,null,474,474,1.485219999999991,0.3413479307809071,0.9963405802188815,0,1.9185399999999802,0,0,0]
[null,null,2409,null,null,555,555,1.7395599999999847,0.6142773086493682,0.9857931782926479,0,1.9185399999999802,0,0,0]
[null,null,2410,null,null,78,78,0.2417800000000002,0.9865231551055669,0.2394312305409526,0,1.9185399999999802,0,0,0]
[null,null,2411,null,null,862,862,2.70354000000001,0.7959505409258463,0.42417679366140676,0,1.9185399999999802,0,0,0]
[null,null,2412,null,null,450,450,1.409859999999993,0.9215246202565133,0.9870776767367238,0,1.9185399999999802,0,0,0]
[null,null,2413,null,null,72,72,0.22294000000000017,0.3252102230315269,0.22109781430451664,0,1.9185399999999802,0,0,0]
[null,null,2414,null,null,865,865,2.7129600000000105,0.2348569806832872,0.41562754206335656,0,1.9185399999999802,0,0,0]
[null,null,2415,null,null,31,31,0.0942,0.41858587850454,0.09406074565100932,0,1.9185399999999802,0,0,0]
[null,null,2416,null,null,792,792,2.48374,0.03101024246617879,0.6114190527247628,0,1.9185399999999802,0,0,0]
[null,null,2417,null,null,376,376,1.1774999999999989,0.6723314134020999,0.9236508119468102,0,1.9185399999999802,0,0,0]
[null,null,2418,null,null,704,704,2.2074199999999875,0.4316371029189983,0.8041075092497932,0,1.9185399999999802,0,0,0]
[null,null,2419,null,null,540,540,1.6924599999999859,0.8644889536199414,0.992608100002361,0,1.9185399999999802,0,0,0]
[null,null,2420,null,null,517,517,1.6202399999999877,0.47275057400611586,0.9987779105882341,0,1.9185399999999802,0,0,0]
[null,null,2421,null,null,125,125,0.38935999999999915,0.5926877312651694,0.3795963955026771,{"$f":"IF(OR(C2423>n,I2423>J2423),0,1)","v":0},1.9185399999999802,0,0,0]
[null,null,2422,null,null,916,916,{"$f":"LOOKUP(G2424,C$3:C$1003,D$3:D$1003)","v":2.8731000000000178},0.129250253805092,{"$f":"LOOKUP(H2424,D$3:D$1003,E$3:E$1003)","v":0.2652783976187561},0,1.9185399999999802,{"$f":"IF($C2424>n,fmin,(IF($K2424=1,I2424,fmax)))","v":0},{"$f":"IF($C2424>n,xMin,(IF($K2424=0,$H2424,xMax)))","v":0},{"$f":"IF($C2424>n,fmin,(IF($K2424=0,K2424,fmin)))","v":0}]
[null,null,2423,null,null,185,185,0.577759999999999,0.7059701008565438,0.5461488871410777,0,{"$f":"IF($C2425>n,L2424,(IF($K2425=1,$H2425,xMin)))","v":1.9185399999999802},0,0,0]
[null,null,2424,null,null,406,406,1.2716999999999965,0.030890615162198747,0.9556031527056557,0,1.9185399999999802,0,0,0]
[null,null,2425,null,null,877,877,2.750640000000012,0.12738497726051462,0.38106936040621053,0,1.9185399999999802,0,0,0]
[null,null,2426,null,null,84,84,0.26062000000000013,0.22476923487158523,0.2576796642293318,0,1.9185399999999802,0,0,0]
[null,null,2427,null,null,960,960,3.011260000000024,0.29215337185459006,0.12996398206448,0,1.9185399999999802,0,0,0]
[null,null,2428,null,null,942,942,2.9547400000000215,0.06470291470531829,0.18576725717747214,0,1.9185399999999802,0,0,0]
[null,null,2429,null,null,989,989,3.102320000000028,0.4703985222617048,0.039262559062194065,0,1.9185399999999802,0,0,0]
[null,null,2430,null,null,461,461,1.4443999999999921,0.3260956818354434,0.9920226133571394,0,1.9185399999999802,0,0,0]
[null,null,2431,null,null,295,295,0.9231600000000025,0.7205583712673639,0.7975120362688412,0,1.9185399999999802,0,0,0]
[null,null,2432,null,null,166,166,0.5180999999999985,0.9164361363457538,0.4952303855260306,0,1.9185399999999802,0,0,0]
[null,null,2433,null,null,479,479,1.5009199999999907,{"$f":"fmin+(fmax-fmin)*ABS(RAND())","v":0.03946922919282967},0.9975596426805592,0,1.9185399999999802,0,0,0]
[null,null,2434,null,null,172,172,0.5369399999999986,0.6252784502010934,0.5115090001040622,0,1.9185399999999802,0,0,0]
[null,null,2435,null,null,{"$f":"INT(1000*ABS(RAND()))+1","v":149},{"$f":"IF(F2437>0,F2437,-F2437)","v":149},0.4647199999999986,0.16982808227454627,0.4481725138323598,0,1.9185399999999802,0,0,0]
[null,null,2436,null,null,156,156,0.4866999999999984,0.8325675596077452,0.46771163246683745,0,1.9185399999999802,0,0,0]
[null,null,2437,null,null,904,904,2.835420000000016,0.060516872432961846,0.30141150053691856,0,1.9185399999999802,0,0,0]
[null,null,2438,null,null,650,650,2.03785999999998,0.6826556080377402,0.8928942648643446,0,1.9185399999999802,0,0,0]
[null,null,2439,null,null,8,8,0.02198,0.08834114524618364,0.02197823021168625,0,1.9185399999999802,0,0,0]
[null,null,2440,null,null,706,706,2.213699999999988,0.9416672505231837,0.8003583185598832,0,1.9185399999999802,0,0,0]
[null,null,2441,null,null,833,833,2.612480000000006,0.09151543917164899,0.5047675335242598,0,1.9185399999999802,0,0,0]
[null,null,2442,null,null,877,877,2.750640000000012,0.016496097356060196,0.38106936040621053,0,1.9185399999999802,0,0,0]
[null,null,2443,null,null,376,376,1.1774999999999989,0.2646693384118915,0.9236508119468102,0,1.9185399999999802,0,0,0]
[null,null,2444,null,null,939,939,2.945320000000021,0.3498651894610283,0.19501491154709336,0,1.9185399999999802,0,0,0]
[null,null,2445,null,null,257,257,0.8038400000000013,0.6946225323547385,0.7200261491719843,0,1.9185399999999802,0,0,0]
[null,null,2446,null,null,15,15,0.043959999999999985,0.6470732003814057,0.04394584271948076,0,1.9185399999999802,0,0,0]
[null,null,2447,null,null,884,884,2.772620000000013,0.28213630522945515,0.3606574181499954,0,1.9185399999999802,0,0,0]
[null,null,2448,null,null,869,869,2.725520000000011,0.14091025291714604,0.40417130105137045,0,1.9185399999999802,0,0,0]
[null,null,2449,null,null,721,721,2.26079999999999,0.7113990308204887,0.7712436768602838,0,1.9185399999999802,0,0,0]
[null,null,2450,null,null,480,480,1.5040599999999906,0.877712226566418,0.9977739577109417,0,1.9185399999999802,0,0,0]
[null,null,2451,null,null,911,911,2.857400000000017,0.21816030987401347,0.28038258035879476,0,1.9185399999999802,0,0,0]
[null,null,2452,null,null,25,25,0.07535999999999998,0.7049040341467568,0.0752886903840636,0,1.9185399999999802,0,0,0]
[null,null,2453,null,null,819,819,2.568520000000004,0.8996294903153783,0.542216367331957,0,1.9185399999999802,0,0,0]
[null,null,2454,null,null,967,967,3.033240000000025,0.6925479366036711,0.10814076261244668,0,1.9185399999999802,0,0,0]
[null,null,2455,null,null,408,408,1.2779799999999963,0.45562521445259274,0.9574347414163443,0,1.9185399999999802,0,0,0]
[null,null,2456,null,null,985,985,3.0897600000000276,0.8175003202454002,0.05180944756561375,0,1.9185399999999802,0,0,0]
[null,null,2457,null,null,572,572,1.7929399999999833,0.8526968632420232,0.9754273944064423,0,1.9185399999999802,0,0,0]
[null,null,2458,null,null,440,440,1.3784599999999938,0.5398622070118595,0.98156031932591,0,1.9185399999999802,0,0,0]
[null,null,2459,null,null,687,687,2.154039999999985,0.1776673483013558,0.8346806420909918,0,1.9185399999999802,0,0,0]
[null,null,2460,null,null,571,571,1.7897999999999834,0.06829164291263086,0.9761143929449557,0,1.9185399999999802,0,0,0]
[null,null,2461,null,null,286,286,0.8949000000000022,0.569368676544743,0.7801465253877715,0,1.9185399999999802,0,0,0]
[null,null,2462,null,null,235,235,0.7347600000000006,0.39553316334614386,0.6704090969458869,0,1.9185399999999802,0,0,0]
[null,null,2463,null,null,711,711,2.2293999999999885,0.4261010959061776,0.7908475725729215,0,1.9185399999999802,0,0,0]
[null,null,2464,null,null,459,459,1.4381199999999923,0.16462620892010835,0.9912113996590179,0,1.9185399999999802,0,0,0]
[null,null,2465,null,null,246,246,0.769300000000001,0.6596527761670837,0.6956325306465438,0,1.9185399999999802,0,0,0]
[null,null,2466,null,null,158,158,0.49297999999999836,0.7113779220305929,0.4732531465266781,0,1.9185399999999802,0,0,0]
[null,null,2467,null,null,68,68,0.21038000000000015,0.3546411815456713,0.2088315365339459,0,1.9185399999999802,0,0,0]
[null,null,2468,null,null,604,604,1.8934199999999808,0.3971570815278994,0.948406832067426,0,1.9185399999999802,0,0,0]
[null,null,2469,null,null,341,341,1.0676000000000017,0.24988873396593606,0.8760456808949801,0,1.9185399999999802,0,0,0]
[null,null,2470,null,null,976,976,3.0615000000000263,0.697522252053303,0.08000705088239393,0,1.9185399999999802,0,0,0]
[null,null,2471,null,null,377,377,1.1806399999999988,0.422865036628304,0.924849614919667,0,1.9185399999999802,0,0,0]
[null,null,2472,null,null,701,701,2.197999999999987,0.83764701331589,0.8096717882771718,0,1.9185399999999802,0,0,0]
[null,null,2473,null,null,485,485,1.5197599999999902,0.6531538247558737,0.9986979293364634,0,1.9185399999999802,0,0,0]
[null,null,2474,null,null,946,946,2.967300000000022,0.5926071812880415,0.17341155131279007,0,1.9185399999999802,0,0,0]
[null,null,2475,null,null,265,265,0.8289600000000016,0.3116588481442459,0.7372291013727641,0,1.9185399999999802,0,0,0]
[null,null,2476,null,null,992,992,3.1117400000000286,0.35072837664725914,0.02984821976808943,0,1.9185399999999802,0,0,0]
[null,null,2477,null,null,70,70,0.21666000000000016,0.5514536096754055,0.21496891442031685,0,1.9185399999999802,0,0,0]
[null,null,2478,null,null,997,997,3.1274400000000293,0.3653454342874623,0.014152181137395666,0,1.9185399999999802,0,0,0]
[null,null,2479,null,null,593,593,1.8588799999999817,0.8777408606480124,0.9587900936053696,0,1.9185399999999802,0,0,0]
[null,null,2480,null,null,894,894,2.8040200000000146,0.4134976200199472,0.3311977197806714,0,1.9185399999999802,0,0,0]
[null,null,2481,null,null,985,985,3.0897600000000276,0.6308619893153675,0.05180944756561375,0,1.9185399999999802,0,0,0]
[null,null,2482,null,null,453,453,1.4192799999999928,0.9014304603386103,0.9885433442642017,0,1.9185399999999802,0,0,0]
[null,null,2483,null,null,19,19,0.05651999999999997,0.03980794363550602,0.05648991251817275,0,1.9185399999999802,0,0,0]
[null,null,2484,null,null,445,445,1.3941599999999934,0.9870698257112778,0.9844403228867667,0,1.9185399999999802,0,0,0]
[null,null,2485,null,null,881,881,2.7632000000000128,0.1726603781879516,0.36942730513943084,{"$f":"IF(OR(C2487>n,I2487>J2487),0,1)","v":0},1.9185399999999802,0,0,0]
[null,null,2486,null,null,587,587,{"$f":"LOOKUP(G2488,C$3:C$1003,D$3:D$1003)","v":1.8400399999999821},0.069341538242581,{"$f":"LOOKUP(H2488,D$3:D$1003,E$3:E$1003)","v":0.9639723568262449},0,1.9185399999999802,{"$f":"IF($C2488>n,fmin,(IF($K2488=1,I2488,fmax)))","v":0},{"$f":"IF($C2488>n,xMin,(IF($K2488=0,$H2488,xMax)))","v":0},{"$f":"IF($C2488>n,fmin,(IF($K2488=0,K2488,fmin)))","v":0}]
[null,null,2487,null,null,125,125,0.38935999999999915,0.9447201993559798,0.3795963955026771,0,{"$f":"IF($C2489>n,L2488,(IF($K2489=1,$H2489,xMin)))","v":1.9185399999999802},0,0,0]
[null,null,2488,null,null,386,386,1.208899999999998,0.5601658564779027,0.9352271142427316,0,1.9185399999999802,0,0,0]
[null,null,2489,null,null,995,995,3.121160000000029,0.9751070821497604,0.020431231870001884,0,1.9185399999999802,0,0,0]
[null,null,2490,null,null,346,346,1.0833000000000013,0.07812225352655264,0.8835083854078013,0,1.9185399999999802,0,0,0]
[null,null,2491,null,null,405,405,1.2685599999999966,0.1814793244035129,0.9546732210267311,0,1.9185399999999802,0,0,0]
[null,null,2492,null,null,890,890,2.791460000000014,0.7203114661790304,0.34302241560060365,0,1.9185399999999802,0,0,0]
[null,null,2493,null,null,712,712,2.2325399999999886,0.0616946116090513,0.7889219556683208,0,1.9185399999999802,0,0,0]
[null,null,2494,null,null,588,588,1.843179999999982,0.5283899272551662,0.9631323583667505,0,1.9185399999999802,0,0,0]
[null,null,2495,null,null,800,800,2.508860000000001,0.42041829942564307,0.591350614778305,0,1.9185399999999802,0,0,0]
[null,null,2496,null,null,537,537,1.683039999999986,0.8010549979296148,0.9937072897102975,0,1.9185399999999802,0,0,0]
[null,null,2497,null,null,545,545,1.7081599999999855,0.5849115782025557,0.9905804359316693,0,1.9185399999999802,0,0,0]
[null,null,2498,null,null,250,250,0.7818600000000011,0.5644202004268997,0.7046005010862876,0,1.9185399999999802,0,0,0]
[null,null,2499,null,null,{"$f":"INT(1000*ABS(RAND()))+1","v":171},{"$f":"IF(F2501>0,F2501,-F2501)","v":171},0.5337999999999986,0.10601483803506684,0.5088083502358179,0,1.9185399999999802,0,0,0]
[null,null,2500,null,null,{"$f":"INT(1000*ABS(RAND()))+1","v":767},{"$f":"IF(F2502>0,F2502,-F2502)","v":767},2.4052399999999965,0.050069447781768237,0.6715899818864324,0,1.9185399999999802,0,0,0]
[null,null,2501,null,null,{"$f":"INT(1000*ABS(RAND()))+1","v":126},{"$f":"IF(F2503>0,F2503,-F2503)","v":126},0.3924999999999991,0.5595110093688686,0.38249949727600885,0,1.9185399999999802,0,0,0]

{"sheet":"Defining Function","index":2,"n_rows":12,"n_cols":1,"rows_kept":12}
["                                                     Defining a Function in Excel"]
[]
["Computers have very specific rules you must follow when defining a function.  If you don't, the program will either not work at all or will work incorrectly."]
[]
["1. The Variable used should be the one named in the instruction, usually x, though sometimes y, t, Q (for an angle theta), "]
[" or even x and y (for a function of two variables). "]
[]
["2.  Order of Operations:  There five arithmetic operations, addition (+), subtraction (-), multiplication (*), division (/), and  exponentiation or power (^).  When computers see any of these operation symbols, they perform the indicated steps in a very particular order.  First, the power is done.  Second, products and quotients of adjacent terms is done.  Third, and last, sums and differences of adjacent terms are done.  So, in 10*x^3 + 5*x – 7, say with x = 2, the first pass only calculates 2^3 and ignores the multiplications and the sums and differences to calculate 2^3 = 8.  The second pass looks at 10*8 + 5*2 – 7 and only does the multiplications, so it produces 80 + 10 -  7.  The third pass looks at the +’s and –‘s to produce 80 + 10 – 7 = 83.  "]
[]
["3.    Parentheses  If you need an operation involving more than two adjacent terms, as in Ö4^3 + 6^2, the computer would take the square root of  4 to produce 2^3 + 6^2;  it would then cube the 2 and square the 6 to produce 8 + 36; and finally it would add the 8 and the 36 to get 44.  If you actually wanted the square root of the entire expression, you would need to use parentheses, as in Ö(4^3 + 6^2) to tell the computer to do all the operations inside the parentheses before taking the square root.  Therefore, it would calculate (4^3 + 6^2) = 64 + 36 = 100 and then take the square root of Ö100  =  10."]
[]
["4.  Built-In Functions  Computer programs have built-in functions for most common algebraic functions.  In Excel, the square root function is denoted by SQRT(…), so SQRT(100) = 10.  Alternatively, you could enter it as 100^.5 or 100^(1/2); notice that parentheses are needed to have the ½ done first.  The common trig functions are SIN (…), COS (…), and TAN (…), where the arguments are automatically interpreted as being in radians, not degrees.  The logarithm to the base 10 is represented by LOG (…) and the logarithm with the base e, known as the natural logarithm, is LN (…). The corresponding exponential function with base e is EXP (x).  If x is the variable, then each of these would be SQRT (x), SIN (x), COS (x), TAN (x), LOG (x) (for log with base 10 ), LN (x) (for log with base e ), and EXP (x)."]

{"sheet":"Sheet3","index":3,"n_rows":1,"n_cols":1,"rows_kept":1}
["s"]