{"text_format":"3","workbook":"xlsx","n_sheets":4,"sheets":["Sheet1","Sheet2","Defining Function","Sheet3"],"not_rendered":{"charts":2,"images":2,"macros":1,"external_links":3,"defined_names":19,"comments":1},"read":"whole","date_system":"1900"}

{"sheet":"Sheet1","index":0,"n_rows":38,"n_cols":15,"rows_kept":38,"merged":[[31,2,31,3]]}
[null,"            The Curvature Function"]
[null,"          for a Parametric Function"]
[]
[null,"        This graphing utility lets you investigate "]
[null,"                       the curvature function "]
[]
[]
[]
[null,"          for any desired parametric function"]
[null,null,"          x = f(t),    y = g(t)"]
[null,"          on any interval from t = a  to t = b."]
[]
[]
[" Enter the first function in terms of t:  x = f(t)  = ",{"$nulls":4},"sin(3*t)"]
[]
[" and the second function in terms of t:   y = g(t)  = ",{"$nulls":4},"cos(2*t)"]
[]
[]
["Now enter the interval for t:  "]
[null,null,"tMin =",0]
[null,null,"tMax =",7]
[]
[]
[]
["Click each item below for suggestions and investigations"]
[null,"   Item 1"]
[null,"   Item 2"]
[]
[{"$nulls":10},"   Select a point t0 on the curve",{"$nulls":3},{"$f":"N31","v":4.06}]
[]
["To access/download all the DIGMath Apps for Calculus",{"$nulls":11},58,{"$f":"D20+M31*(D21-D20)/100","v":4.06}]
["       Click this link:",null,"DIGMath for Calculus"]
[]
["Created by:  Sheldon P. Gordon   ",{"$nulls":9},"The values of the functions at t0 = ",{"$nulls":3},{"$f":"N31","v":4.06}]
["                      Farmingdale State College    ",{"$nulls":10}," are  x =  f(t0)  = ",null,{"$f":"Sheet2!K2","v":{"v":-0.39923470393843324,"d":"-0.3992"}}]
["Development of this module was supported by the ",{"$nulls":10},"       y =  g(t0)  =  ",null,{"$f":"Sheet2!K3","v":{"v":-0.24722061837624054,"d":"-0.2472"}}]
["NSF's Division of Undergraduate Education  ",{"$nulls":9},"The value of the curvature there =",{"$nulls":3},{"$f":"Sheet2!K4","v":{"v":1.724145076666337E-3,"d":"0.00172"}}]
["under grants DUE-0310123 and DUE-0442160."]

{"sheet":"Sheet2","index":1,"n_rows":1006,"n_cols":13,"rows_kept":1006}
["t","f(t)","slope","f\"(t)","g(t)","slope","g\"(t)","Curvature",null,"t =",{"$f":"Sheet1!O29","v":4.06},{"$f":"K1","v":4.06},{"$f":"K1","v":4.06}]
[{"$nulls":9},"x =",{"$f":"LOOKUP(K1,A2:A504,B2:B504)","v":-0.39923470393843324},{"$f":"0","v":0},{"$f":"K2","v":-0.39923470393843324}]
[{"$f":"Sheet1!D20","v":{"v":0,"d":"0.00"}},{"$f":"SIN(3*t)","v":0},{"$f":"(B4-B3)/0.0001","v":419.0389453552614},{"$f":"(C4-C3)/dx","v":-52.68580547006387},{"$f":"COS(2*t)","v":1},{"$f":"(E4-E3)/0.0001","v":-3.904112853468922},{"$f":"(F4-F3)/dx","v":-558.6276887199502},{"$f":"ABS(C3*G3-F3*D3)/(C3^2+F3^2)^(3/2)","v":3.1837472494956505E-3},null,"y =",{"$f":"LOOKUP(K1,A3:A505,E3:E505)","v":-0.24722061837624054},{"$f":"0","v":0},{"$f":"K3","v":-0.24722061837624054}]
[{"$f":"A3+Sheet2!K$6","v":{"v":0.013972055888223553,"d":"0.01"}},0.04190389453552614,{"$f":"(B5-B4)/0.0001","v":418.30281633671757},-105.2790573703681,0.9996095887146531,{"$f":"(E5-E4)/0.0001","v":-11.709290140973216},-557.9733198780729,{"$f":"ABS(C4*G4-F4*D4)/(C4^2+F4^2)^(3/2)","v":3.2019117069604698E-3},null,"curvature =",{"$f":"LOOKUP(K1,A3:A503,H3:H503)","v":1.724145076666337E-3},{"$f":"0","v":0},{"$f":"K4","v":1.724145076666337E-3}]
[{"$f":"A4+Sheet2!K$6","v":{"v":0.027944111776447105,"d":"0.03"}},0.0837341761691979,416.8318514632793,-157.68736472065473,0.9984386597005558,-19.505324550447288,-556.8832728744609,3.2369367091216986E-3]
[{"$f":"A5+Sheet2!K$6","v":{"v":0.041916167664670656,"d":"0.04"}},0.12541736131552583,414.6286347905356,-209.81866143428968,0.9964881272455111,-27.286128762266102,-555.3583988417588,3.2893146418811925E-3,null,"delta x = ",{"$f":"(Sheet1!D21-Sheet1!D20)/501","v":0.013972055888223553}]
[{"$f":"A6+Sheet2!K$6","v":{"v":0.05588822355289421,"d":"0.06"}},0.1668802247945794,411.69703672658346,-261.58136805148354,0.9937595143692844,-35.0456273488775,-553.3998884367161,0.003359791581152795]
[{"$f":"A7+Sheet2!K$6","v":{"v":0.06986027944111776,"d":"0.07"}},0.20804992846723774,408.04220723285016,-312.88455261731343,0.9902549516343967,-42.77776151865198,-551.009270908116,3.449382587604001E-3]
[{"$f":"A8+Sheet2!K$6","v":{"v":0.08383233532934131,"d":"0.08"}},0.24885414919052276,403.67056677711923,-363.6380904231826,0.9859771754825315,-50.47649384670949,-548.188412904081,3.5593923349229073E-3]
[{"$f":"A9+Sheet2!K$6","v":{"v":0.09780439121756486,"d":"0.10"}},0.2892212058682347,398.58979505463964,-413.7528223290587,0.9809295260978605,-58.13581298908188,-544.9395170142907,3.6914412278034724E-3,null,"Tracing point"]
[{"$f":"A10+Sheet2!K$6","v":{"v":0.1117764471057884,"d":"0.11"}},0.32908018537369865,392.8088174971478,-463.140711390409,0.9751159447989524,-65.7497383765071,-541.265120049831,3.8474971018111243E-3]
[{"$f":"A11+Sheet2!K$6","v":{"v":0.12574850299401197,"d":"0.13"}},0.36836106712341343,386.3377895934894,-511.71499751311353,0.9685409709613017,-73.31232488418937,-537.1680910630396,0.004029912436414068,null,0,0]
[{"$f":"A12+Sheet2!K$6","v":{"v":0.13972055888223553,"d":"0.14"}},0.4069948460827624,379.188079049394,-559.3903498659276,0.9612097384728827,-80.81766747389251,-532.6516291064928,0.004241466703116562,null,-0.7945312347018484,-0.19223931559582924]
[{"$f":"A13+Sheet2!K$6","v":{"v":0.1536926147704591,"d":"0.15"}},0.4449136539877018,371.3722458177343,-606.0830167816048,0.9531279717254935,-88.25990580472175,-527.7192607355692,4.4854129375840514E-3]
[{"$f":"A14+Sheet2!K$6","v":{"v":0.16766467065868265,"d":"0.17"}},0.4820508785694752,362.9040200343586,-651.7109728838988,0.9443019811450213,-95.63322880901114,-522.374837254912,0.004765526759880905]
[{"$f":"A15+Sheet2!K$6","v":{"v":0.1816367265469062,"d":"0.18"}},0.5183412805729111,353.79827789825623,-696.1940631827476,0.9347386582641202,-102.93187922973846,-516.6225317108576,0.005086154719111346]
[{"$f":"A16+Sheet2!K$6","v":{"v":0.19560878243512977,"d":"0.20"}},0.5537211083627367,344.07101553841744,-739.4541438829342,0.9244454703411463,-110.1501581159181,-510.46683563373085,0.005452256801280362]
[{"$f":"A17+Sheet2!K$6","v":{"v":0.20958083832335334,"d":"0.21"}},0.5881282099165784,333.7393209133066,-781.4152196592667,0.9134304545295545,-117.28242927247722,-503.91255552951014,0.005869434941134373]
[{"$f":"A18+Sheet2!K$6","v":{"v":0.2235528942115769,"d":"0.22"}},0.6215021420079091,322.8213437923188,-822.003577159759,0.9017022116023068,-124.32312366111309,-496.9648091283477,0.006343935085298793]
[{"$f":"A19+Sheet2!K$6","v":{"v":0.23752495009980046,"d":"0.24"}},0.653784276387141,311.336263871923,-861.1479144962431,0.8892698992361955,-131.2667437487347,-489.62902138748865,6.8826043901319784E-3]
[{"$f":"A20+Sheet2!K$6","v":{"v":0.251497005988024,"d":"0.25"}},0.6849179027743333,299.30425708255433,-898.7794665029553,0.876143224861322,-138.1078678000569,-481.91092025540064,0.007492777163229048]
[{"$f":"A21+Sheet2!K$6","v":{"v":0.2654690618762475,"d":"0.27"}},0.7148483284825887,286.7464601453873,-934.8321255360684,0.8623324380813163,-144.8411541110106,-473.8165321996707,0.00818205303435065]
[{"$f":"A22+Sheet2!K$6","v":{"v":0.27944111776447106,"d":"0.28"}},0.7435229744971275,273.6849334412905,-969.2425576049051,0.8478483226702153,-151.46134517966868,-465.3521775012101,0.00895791896425437]
[{"$f":"A23+Sheet2!K$6","v":{"v":0.2934131736526946,"d":"0.29"}},0.7708914678412565,260.14262225719006,-1001.9503136325,0.8327021881522484,-157.96327181142212,-456.52446531937204,0.009827154570291752]
[{"$f":"A24+Sheet2!K$6","v":{"v":0.3073852295409181,"d":"0.31"}},0.7969057300669755,246.14331647789365,-1032.8979356458233,0.8169058609711062,-164.34185715520576,-447.3402885308664,0.010794951371299471]
[{"$f":"A25+Sheet2!K$6","v":{"v":0.32135728542914166,"d":"0.32"}},0.8215200617147649,231.71160879421947,-1062.0310577133037,0.8004716752555856,-170.59212066761307,-437.80681834813157,0.011863677632788998]
[{"$f":"A26+Sheet2!K$6","v":{"v":0.3353293413173652,"d":"0.34"}},0.8446912225941868,216.87285150082002,-1089.298501449945,0.7834124631888243,-176.7091820018185,-427.9314987203406,0.013031242595222982]
[{"$f":"A27+Sheet2!K$6","v":{"v":0.3493013972055887,"d":"0.35"}},0.8663785077442688,201.65311195960322,-1114.6523659222305,0.7657415449886424,-182.68826481827037,-417.7220405193788,0.014289072648732781]
[{"$f":"A28+Sheet2!K$6","v":{"v":0.36327345309381226,"d":"0.36"}},0.8865438189402292,186.0791268069972,-1138.0481117964293,0.7474727185068154,-188.5247005141499,-407.1864155210359,0.015619825070017896]
[{"$f":"A29+Sheet2!K$6","v":{"v":0.3772455089820358,"d":"0.38"}},0.9051517316209289,170.1782549854902,-1159.444639581936,0.7286202484554004,-194.21393186873524,-396.33285017898174,0.016995143380460268]
[{"$f":"A30+Sheet2!K$6","v":{"v":0.3912175648702593,"d":"0.39"}},0.9221695571194779,153.9784296819502,-1178.804361828905,0.7091988552685269,-199.7515166017749,-385.1698192018443,0.01837399017044591]
[{"$f":"A31+Sheet2!K$6","v":{"v":0.40518962075848286,"d":"0.41"}},0.9375674000876729,137.50810925719503,-1196.0932691612422,0.6892237036083494,-205.13313084212004,-373.70603893645716,0.019702320016150892]
[{"$f":"A32+Sheet2!K$6","v":{"v":0.4191616766467064,"d":"0.42"}},0.9513182110133924,120.79622725294614,-1211.280990019106,0.6687103905241374,-210.35457250390687,-361.9504605611607,0.020914955444227338]
[{"$f":"A33+Sheet2!K$6","v":{"v":0.4331337325349299,"d":"0.43"}},0.963397833738687,103.87214156405643,-1224.3408440130463,0.6476749332737467,-215.41176456763566,-349.9122630965319,0.021940335257561897]
[{"$f":"A34+Sheet2!K$6","v":{"v":0.44710578842315346,"d":"0.45"}},0.9737850478950927,86.76558286527136,-1235.249888795302,0.6261337568169831,-220.30075826359518,-337.60084623935717,0.022708184573664407]
[{"$f":"A35+Sheet2!K$6","v":{"v":0.461077844311377,"d":"0.46"}},0.9824616061816198,69.50660238310147,-1243.988960360449,0.6041036809906236,-225.01773615516305,-325.0258230213046,0.023159152650169237]
[{"$f":"A36+Sheet2!K$6","v":{"v":0.4750499001996005,"d":"0.48"}},0.98941226641993,52.12551910461216,-1250.542706712625,0.5816019073751073,-229.55901511953257,-312.19701230491256,0.023254409187125985]
[{"$f":"A37+Sheet2!K$6","v":{"v":0.48902195608782406,"d":"0.49"}},0.9946248183303912,34.65286651581301,-1254.899614834184,0.558646005863154,-233.92104922359323,-299.12443111451535,0.022982638362578283]
[{"$f":"A38+Sheet2!K$6","v":{"v":0.5029940119760477,"d":"0.50"}},0.9980901049819725,17.11933896323958,-1257.0520309099923,0.5352539009407947,-238.1004324926583,-285.8182868168924,0.02236229193109654]
[{"$f":"A39+Sheet2!K$6","v":{"v":0.5169660678642712,"d":"0.52"}},0.9998020388782964,-0.44426226703975225,-1256.9961737739359,0.5114438576915289,-242.09390156994024,-272.28896914994885,0.021438351670162923]
[{"$f":"A40+Sheet2!K$6","v":{"v":0.5309381237524948,"d":"0.53"}},0.9997576126515925,-18.00708305829235,-1254.7321415506801,0.48723446753453487,-245.8983382646501,-258.5470421100605,0.02027460917516574]
[{"$f":"A41+Sheet2!K$6","v":{"v":0.5449101796407184,"d":"0.54"}},0.9979569043457632,-35.538270664788875,-1250.2639114834797,0.46264463370806985,-249.51077198674676,-244.60323570408912,0.018943752811039303]
[{"$f":"A42+Sheet2!K$6","v":{"v":0.558882235528942,"d":"0.56"}},0.9944030772792843,-53.00702791106504,-1243.5993329471642,0.4376935565093952,-252.9283820664446,-230.46843757084332,0.017517822169990344]
[{"$f":"A43+Sheet2!K$6","v":{"v":0.5728542914171656,"d":"0.57"}},0.9891023744881778,-70.38266729356035,-1234.7501136595542,0.4124007183027507,-256.148499956656,-216.15368447970616,0.016060920376873778]
[{"$f":"A44+Sheet2!K$6","v":{"v":0.5868263473053892,"d":"0.59"}},0.9820641077588218,-87.63466488960202,-1223.731799113896,0.3867858683070851,-259.1686113166519,-201.6701537130145,0.014624975107830061]
[{"$f":"A45+Sheet2!K$6","v":{"v":0.6007984031936128,"d":"0.60"}},0.9733006412698616,-104.73271397901773,-1210.5637452702747,0.3608690071754199,-261.98635797531676,-187.029154338345,0.013248358968649359]
[{"$f":"A46+Sheet2!K$6","v":{"v":0.6147704590818364,"d":"0.61"}},0.9628273698719598,-121.64677828419123,-1195.2690845523614,0.33467037137788824,-264.5995397724593,-172.2421183788037,0.011956615719800836]
[{"$f":"A47+Sheet2!K$6","v":{"v":0.62874251497006,"d":"0.63"}},0.9506626920435407,-138.34714473502262,-1177.8746852116662,0.3082104174006423,-267.00611627675397,-157.32059188540666,0.010764400652295517]
[{"$f":"A48+Sheet2!K$6","v":{"v":0.6427145708582835,"d":"0.64"}},0.9368279775700384,-154.80447566612375,-1158.411104126337,0.2815098057729669,-269.2042083789453,-142.27622592315416,0.009677881516205819]
[{"$f":"A49+Sheet2!K$6","v":{"v":0.6566866267465071,"d":"0.66"}},0.9213475300034261,-170.98986035451568,-1136.9125331226494,0.2545893849350724,-271.1920997591091,-127.12076747235275,0.008697090920648675]
[{"$f":"A50+Sheet2!K$6","v":{"v":0.6706586826347307,"d":"0.67"}},0.9042485439679745,-186.87486580732715,-1113.4167389099837,0.22747017495916147,-272.9682382267867,-111.86605025719088,0.00781795607766401]
[{"$f":"A51+Sheet2!K$6","v":{"v":0.6846307385229543,"d":"0.68"}},0.8855610573872418,-202.43158671026106,-1087.964996735093,0.2001733511364828,-274.531236932975,-96.52398550498958,0.00703390570065846]
[{"$f":"A52+Sheet2!K$6","v":{"v":0.6986027944111779,"d":"0.70"}},0.8653178987162157,-217.63269444907473,-1060.6020178741362,0.1727202274431853,-275.8798754530048,-81.10655264638052,6.337059922890213E-3]
[{"$f":"A53+Sheet2!K$6","v":{"v":0.7125748502994015,"d":"0.71"}},0.8435546292713082,-232.45148511797484,-1031.3758710880757,0.14513223989788482,-277.01310073948116,-65.62578996078487,0.005719061263509938]
[{"$f":"A54+Sheet2!K$6","v":{"v":0.7265469061876251,"d":"0.73"}},0.8203094807595107,-246.86192643058268,-1000.3378981782521,0.1174309298239367,-277.93002794452207,-50.093785177180834,0.005171621651332057]
[{"$f":"A55+Sheet2!K$6","v":{"v":0.7405189620758487,"d":"0.74"}},0.7956232881164524,-260.8387034510373,-967.5426237979294,0.08963792702948449,-278.6299411106703,-34.52266603546506,4.6868581056528046E-3]
[{"$f":"A56+Sheet2!K$6","v":{"v":0.7544910179640723,"d":"0.75"}},0.7695394177713487,-274.35726306498043,-933.0476596632448,0.06177493291841746,-279.1122937299283,-18.924590816902512,0.004257478648239513]
[{"$f":"A57+Sheet2!K$6","v":{"v":0.7684630738522958,"d":"0.77"}},0.7421036914648507,-287.3938571121715,-896.9136033490115,0.033863703545424624,-279.3767091704838,-3.3117388506910936,0.00387686669755016]
[{"$f":"A58+Sheet2!K$6","v":{"v":0.7824351297405194,"d":"0.78"}},0.7133643057536335,-299.92558410507183,-859.2039318383601,0.00592603262837624,-279.4229809707929,12.303698995966995,0.003539099741378316]
[{"$f":"A59+Sheet2!K$6","v":{"v":0.796407185628743,"d":"0.80"}},0.6833717473431263,-311.9304294600988,-819.9848900072592,-0.02201626546870305,-279.25107300078935,27.90952983673608,3.2389277488961625E-3]
[{"$f":"A60+Sheet2!K$6","v":{"v":0.8103792415169666,"d":"0.81"}},0.6521787043971164,-323.3873041707791,-779.3253742560264,-0.04994137276878199,-278.8611194900964,43.49356828668591,2.9717287939522237E-3]
[{"$f":"A61+Sheet2!K$6","v":{"v":0.8243512974051902,"d":"0.82"}},0.6198399739800385,-334.276081854995,-737.2968114769112,-0.07782748471779163,-278.2534249232166,59.04364597683376,0.0027334534767927]
[{"$f":"A62+Sheet2!K$6","v":{"v":0.8383233532934138,"d":"0.84"}},0.586412365794539,-344.57763411115945,-693.9730335761216,-0.10565282721011329,-277.4284638017838,74.54762105552946,0.002520565551351995]
[{"$f":"A63+Sheet2!K$6","v":{"v":0.8522954091816374,"d":"0.85"}},0.5519546023834231,-354.27386412120507,-649.4301477774626,-0.13339567359029167,-276.3868802740618,89.99338766914873,2.3299832828218704E-3]
[{"$f":"A64+Sheet2!K$6","v":{"v":0.866267465069861,"d":"0.87"}},0.5165272159713026,-363.34773844144905,-603.7464029190617,-0.16103436161769785,-275.1294876319779,105.36888541441368,2.1590241251912006E-3]
[{"$f":"A65+Sheet2!K$6","v":{"v":0.8802395209580846,"d":"0.88"}},0.48019244212715767,-371.7833169253481,-557.0020519943265,-0.18854731038089564,-273.6572676760879,120.66210875572142,0.002005354044252199]
[{"$f":"A66+Sheet2!K$6","v":{"v":0.8942115768463081,"d":"0.89"}},{"$f":"SIN(3*t)","v":0.44301411043462285},-379.56578072566805,{"$f":"(C68-C67)/dx","v":-509.27921117504934},{"$f":"COS(2*t)","v":-0.21591303714850443},-271.97136994896204,{"$f":"(F68-F67)/dx","v":135.86111639912818},1.8669420101616418E-3]
[{"$f":"A67+Sheet2!K$6","v":{"v":0.9081836327345317,"d":"0.91"}},0.40505753236205605,{"$f":"(B69-B68)/0.0001","v":-386.68145832691624},-460.66171555050613,-0.24311017414340064,{"$f":"(E69-E68)/0.0001","v":-270.07311083759697},150.95404061629665,{"$f":"ABS(C68*G68-F68*D68)/(C68^2+F68^2)^(3/2)","v":1.742019695067481E-3}]
[{"$f":"A68+Sheet2!K$6","v":{"v":0.9221556886227553,"d":"0.92"}},0.3663893865293644,-393.11784956215286,-411.23497185905467,-0.27011748522716034,-267.9639725455529,165.9290965114986,1.6290461297644515E-3]
[{"$f":"A69+Sheet2!K$6","v":{"v":0.9361277445109789,"d":"0.94"}},0.32707760157314913,-398.8636475721596,-361.085808450994,-0.29691388248171563,-265.6456019356118,180.77459122290088,1.526676925451268E-3]
[{"$f":"A70+Sheet2!K$6","v":{"v":0.9500998003992025,"d":"0.95"}},0.28719123681593317,-403.9087586682813,-310.302322755959,-0.3234784426752768,-263.11980924387467,195.47893305334276,1.433737603404405E-3]
[{"$f":"A71+Sheet2!K$6","v":{"v":0.9640718562874261,"d":"0.96"}},0.24680036094910504,-408.2443200640731,-258.9737265253946,-0.3497904235996643,-260.38856666628305,210.03064052076326,1.3492005633989896E-3]
[{"$f":"A72+Sheet2!K$6","v":{"v":0.9780439121756497,"d":"0.98"}},0.20597592894269773,-411.86271544466746,-207.19018910796427,-0.3758292802662926,-257.45400681868756,224.4183513235036,1.272165239543942E-3]
[{"$f":"A73+Sheet2!K$6","v":{"v":0.9920159680638733,"d":"0.99"}},0.16478965739823098,-414.75758834637554,-155.04267905082162,-0.40157468094816134,-254.31842107165258,238.63083121239782,0.001201841026015589]
[{"$f":"A74+Sheet2!K$6","v":{"v":1.0059880239520969,"d":"1.01"}},0.12331389856359343,-416.9238533231335,-102.62280429877762,-0.4270065230553266,-250.98425776129972,252.65698276198987,1.1375325960261945E-3]
[{"$f":"A75+Sheet2!K$6","v":{"v":1.0199600798403203,"d":"1.02"}},0.08162151323128007,-418.3577048802023,-50.022651257149,-0.4521049488314566,-247.45412027759926,266.48585403675474,1.0786272801059614E-3]
[{"$f":"A76+Sheet2!K$6","v":{"v":1.0339321357285438,"d":"1.03"}},0.03978574274325984,-419.0566241592443,2.6653769709053807,-0.4768503608592165,-243.73076503157674,280.1066471422435,1.0245842113267992E-3]
[{"$f":"A77+Sheet2!K$6","v":{"v":1.0479041916167673,"d":"1.05"}},-0.002119919672664588,-419.0193833632436,55.348722910223614,-0.5012234373623742,-239.8170993030424,293.50872665507075,9.7492498352806363E-4]
[{"$f":"A78+Sheet2!K$6","v":{"v":1.0618762475049908,"d":"1.06"}},-0.04402185800898895,-418.24604791340016,107.93483731104318,-0.5252051472926784,-235.71617897053642,306.6816279296365,9.2922560348300315E-4]
[{"$f":"A79+Sheet2!K$6","v":{"v":1.0758483033932142,"d":"1.08"}},-0.08584646280032897,-416.73797633420395,160.3313417323716,-0.5487767651897321,-231.43120612521216,319.61506526720495,8.8710954871102537E-4]
[{"$f":"A80+Sheet2!K$6","v":{"v":1.0898203592814377,"d":"1.09"}},-0.12752026043374937,-414.4978178668854,212.44619082238196,-0.5719198858022533,-226.96552657058055,332.29893994759124,8.482417696301875E-4]
[{"$f":"A81+Sheet2!K$6","v":{"v":1.1037924151696612,"d":"1.10"}},-0.1689700422204379,-411.52950781547486,264.18783401429823,-0.5946164384593113,-222.32262721003536,344.72334811573455,8.1232349798055924E-4]
[{"$f":"A82+Sheet2!K$6","v":{"v":1.1177644710578847,"d":"1.12"}},-0.2101229930019854,-407.83826063363836,315.46537635500704,-0.6168487011803149,-217.50613332418678,356.87858851272074,0.000779087743397316]
[{"$f":"A83+Sheet2!K$6","v":{"v":1.1317365269461082,"d":"1.13"}},-0.25090681906534923,-403.4305607644067,366.1887381823629,-0.6385993145127336,-212.5198057401767,368.75517005310064,7.4829537704749322E-4]
[{"$f":"A84+Sheet2!K$6","v":{"v":1.1457085828343316,"d":"1.15"}},-0.2912498751417899,-398.3141512488847,416.2688133672476,-0.6598512950867512,-207.3675378951234,380.3438192335272,7.1973171552826786E-4]
[{"$f":"A85+Sheet2!K$6","v":{"v":1.1596806387225551,"d":"1.16"}},-0.3310812902666784,-392.498020123993,465.6176258463061,-0.6805880488762636,-202.05335279605217,391.63548737516044,6.9320353029505893E-4]
[{"$f":"A86+Sheet2!K$6","v":{"v":1.1736526946107786,"d":"1.17"}},-0.3703310922790777,-385.99238463312645,514.1484841710496,-0.7007933841558688,-196.58139987863476,402.6213576889624,6.6853641779164152E-4]
[{"$f":"A87+Sheet2!K$6","v":{"v":1.187624750499002,"d":"1.19"}},-0.4089303307423903,-378.8086732774431,561.7761338007089,-0.7204515241437323,-190.95595176721213,413.29285215908345,0.000645572473574517]
[{"$f":"A88+Sheet2!K$6","v":{"v":1.2015968063872255,"d":"1.20"}},-0.44681119807013464,-370.95950573930946,608.4169068682619,-0.7395471193204535,-185.1814009386421,423.64163824193344,6.2416822012517311E-4]
[{"$f":"A89+Sheet2!K$6","v":{"v":1.215568862275449,"d":"1.22"}},-0.4839071486440656,-362.458670713206,653.988869159377,-0.7580652594143177,-179.26225629254722,433.65963537190345,6.0419274274917632E-4]
[{"$f":"A90+Sheet2!K$6","v":{"v":1.2295409181636725,"d":"1.23"}},-0.5201530157153862,-353.32110168303507,698.4119640481489,-0.7759914850435724,-173.20313963066434,443.3390212704211,5.8552599108689532E-4]
[{"$f":"A91+Sheet2!K$6","v":{"v":1.243512974051896,"d":"1.24"}},-0.5554851258836897,-343.56285068835035,741.6081531343306,-0.7933117990066388,-167.00878204804368,452.6722380547975,5.6805720509493925E-4]
[{"$f":"A92+Sheet2!K$6","v":{"v":1.2574850299401195,"d":"1.26"}},-0.5898414109525247,-333.20106012559523,783.5015533321873,-0.8100126772114432,-160.68402023889482,461.65199813844634,5.516834235817301E-4]
[{"$f":"A93+Sheet2!K$6","v":{"v":1.271457085828343,"d":"1.27"}},-0.6231615169650843,-322.25393263392795,824.0185701752948,-0.8260810792353327,-154.23379271999437,470.27128992215574,5.3630803004857939E-4]
[{"$f":"A94+Sheet2!K$6","v":{"v":1.2854291417165664,"d":"1.29"}},-0.6553869102284771,-310.74069911850466,863.0880270998035,-0.8415044585073321,-147.66313597457503,478.5233832684983,0.000521839283715791]
[{"$f":"A95+Sheet2!K$6","v":{"v":1.29940119760479,"d":"1.30"}},-0.6864609801403275,-298.6815849674096,900.6412904836792,-0.8562707721047896,-140.97718051972575,486.4018347563844,5.081887717928728E-4]
[{"$f":"A96+Sheet2!K$6","v":{"v":1.3133732534930134,"d":"1.31"}},-0.7163291386370685,-286.09777452152986,936.6123902132067,-0.8703684901567622,-134.18114690037507,493.90049271342275,0.000495269699905832]
[{"$f":"A97+Sheet2!K$6","v":{"v":1.3273453093812368,"d":"1.33"}},-0.7449389160892215,-273.0113738598683,970.9381355735933,-0.8837866048467997,-127.28034161296198,501.0135020178887,4.8299490690967837E-4]
[{"$f":"A98+Sheet2!K$6","v":{"v":1.3413173652694603,"d":"1.34"}},-0.7722400534752083,-259.44537196562646,1003.5582262572602,-0.8965146390080959,-120.28015296201343,507.73530867194944,4.7127444173449343E-4]
[{"$f":"A99+Sheet2!K$6","v":{"v":1.3552894211576838,"d":"1.36"}},-0.7981845906717709,-245.42360034127353,1034.4153582937793,-0.9085426543042973,-113.18604685282452,514.0606641369613,4.6001246141622477E-4]
[{"$f":"A100+Sheet2!K$6","v":{"v":1.3692614770459073,"d":"1.37"}},-0.8227269507058983,-230.97069114355605,1063.4553247161825,-0.9198612589895797,-106.00356252356558,519.9846294328061,4.4910308090442564E-4]
[{"$f":"A101+Sheet2!K$6","v":{"v":1.3832335329341308,"d":"1.38"}},-0.8458240198202539,-216.11203391199263,1090.627110787301,-0.9304616152419363,-98.7383082201132,525.50257899331,4.3842458876649278E-4]
[{"$f":"A102+Sheet2!K$6","v":{"v":1.3972055888223542,"d":"1.40"}},-0.8674352232114532,-200.87373096686068,1115.8829836147956,-0.9403354460639476,-91.39595681701306,530.6102042795396,4.2783106809228072E-4]
[{"$f":"A103+Sheet2!K$6","v":{"v":1.4111776447105777,"d":"1.41"}},-0.8875225963081392,-185.2825515550771,1139.1785760086543,-0.9494750417456489,-83.98224138795761,535.3035171418437,4.1713978868505966E-4]
[{"$f":"A104+Sheet2!K$6","v":{"v":1.4251497005988012,"d":"1.43"}},-0.906050851463647,-169.36588482441726,1160.4729644185086,-0.9578732658844447,-76.50295072928914,539.5788529357271,4.0611147887937443E-4]
[{"$f":"A105+Sheet2!K$6","v":{"v":1.4391217564870247,"d":"1.44"}},-0.9229874399460887,-153.1516917087894,1179.7287408235495,-0.9655235609573736,-68.9639248399676,543.4328733825781,3.9441811835331972E-4]
[{"$f":"A106+Sheet2!K$6","v":{"v":1.4530938123752482,"d":"1.45"}},-0.9383026091169676,-136.66845580905917,1196.9120784497882,-0.9724199534413703,-61.37105036156831,546.8625691765216,3.8158778020322155E-4]
[{"$f":"A107+Sheet2!K$6","v":{"v":1.4670658682634716,"d":"1.47"}},-0.9519694546978735,-119.94513335566891,1211.992791192997,-0.9785570584775272,-53.73025598185643,549.8652623329476,3.6690472540595507E-4]
[{"$f":"A108+Sheet2!K$6","v":{"v":1.481037924151695,"d":"1.48"}},-0.9639639680334404,-103.0111023409963,1224.9443866455354,-0.9839300840757128,-46.04750780554778,552.4386082820484,3.4921578897997819E-4]
[{"$f":"A109+Sheet2!K$6","v":{"v":1.4950099800399186,"d":"1.50"}},-0.97426507826754,-85.89611091081916,1235.7441126384479,-0.9885348348562676,-38.32880469581856,554.5805976967221,3.2652226746389656E-4]
[{"$f":"A110+Sheet2!K$6","v":{"v":1.508982035928142,"d":"1.51"}},-0.982854689358622,-68.63022510549155,1244.3729972070296,-0.9923677153258494,-30.58017359027554,556.289558063424,2.9502214198622983E-4]
[{"$f":"A111+Sheet2!K$6","v":{"v":1.5229540918163655,"d":"1.52"}},-0.9897177118691711,-51.24377604271868,1250.815881922331,-0.995425732684877,-22.807664794978198,557.5641549874576,2.4652491135543244E-4]
[{"$f":"A112+Sheet2!K$6","v":{"v":1.536926147704589,"d":"1.54"}},-0.994842089473443,-33.76730663462224,1255.0614485178924,-0.9977064991643748,-15.017347260223302,558.4033932345426,1.6018519858790971E-4]
[{"$f":"A113+Sheet2!K$6","v":{"v":1.5508982035928125,"d":"1.55"}},-0.9982188201369052,-16.23151793277544,1257.1022387731603,-0.9992082338903971,-7.215303841776599,558.8066175088071,1.6946714788606593E-5]
[{"$f":"A114+Sheet2!K$6","v":{"v":1.564870259481036,"d":"1.56"}},-0.9998419719301828,1.3327848045741053,1256.9346676160853,-0.9999297642745748,0.5923734487656152,558.7735129633217,0.048387047843626844]
[{"$f":"A115+Sheet2!K$6","v":{"v":1.5788423153692595,"d":"1.58"}},-0.9997086934497253,18.894746228351742,1254.5590294199485,-0.9998705269296982,8.399588200748154,558.3041054469818,1.2707998759834336E-3]
[{"$f":"A116+Sheet2!K$6","v":{"v":1.592814371257483,"d":"1.59"}},-0.9978192188268902,36.42351510248276,1249.9794974877452,-0.9990305681096234,16.20024436467804,557.3987614839277,8.2794438743808709E-4]
[{"$f":"A117+Sheet2!K$6","v":{"v":1.6067864271457064,"d":"1.61"}},-0.9941768673166419,53.88829850051513,1243.204116718162,-0.9974105436731556,23.988251012158067,556.0581879870103,6.9547813638939568E-4]
[{"$f":"A118+Sheet2!K$6","v":{"v":1.6207584830339299,"d":"1.62"}},-0.9887880374665904,71.25841589977088,1234.2447894772274,-0.9950117185719398,31.757527091816893,554.2834317061789,0.000633494955864931]
[{"$f":"A119+Sheet2!K$6","v":{"v":1.6347305389221534,"d":"1.63"}},-0.9816621958766133,88.50335307809542,1223.117254685249,-0.9918359658627581,39.50200617753197,552.0758784113905,5.9862856309146227E-4]
[{"$f":"A120+Sheet2!K$6","v":{"v":1.6487025948103768,"d":"1.65"}},-0.9728118605688038,105.59281571840827,1209.8410601697308,-0.9878857652450049,47.215641205236025,549.4372518101238,5.7717555724496315E-4]
[{"$f":"A121+Sheet2!K$6","v":{"v":1.6626746506986003,"d":"1.66"}},-0.9622525789969629,122.49678262696739,1194.4395283271854,-0.9831642011244813,54.89240919459903,546.3696122010844,5.634652074937214E-4]
[{"$f":"A122+Sheet2!K$6","v":{"v":1.6766467065868238,"d":"1.68"}},-0.9500029007342662,139.1855584718582,1176.9397151494563,-0.9776749602050214,62.52631595189961,542.875354867437,5.5473645827576283E-4]
[{"$f":"A123+Sheet2!K$6","v":{"v":1.6906187624750473,"d":"1.69"}},-0.9360843448870804,155.6298259489963,1157.372362696639,-0.9714223286098315,70.11140075044663,538.9572082031365,5.4949070868065065E-4]
[{"$f":"A124+Sheet2!K$6","v":{"v":1.7045908183632708,"d":"1.70"}},-0.9205213622921807,171.8006972840791,1135.771845090881,-0.9644111885347868,77.6417409848218,534.618231586328,5.468500168522288E-4]
[{"$f":"A125+Sheet2!K$6","v":{"v":1.7185628742514942,"d":"1.72"}},-0.9033412925637728,187.66976497995967,1112.176108130824,-0.9566470144363046,85.11145679540921,529.8618129874415,5.462712526562969E-4]
[{"$f":"A126+Sheet2!K$6","v":{"v":1.7325349301397177,"d":"1.73"}},-0.8845743160657769,203.2091517203105,1086.626602635554,-0.9481358687567637,92.5147156595052,524.6916663258592,0.00054740552972131]
[{"$f":"A127+Sheet2!K$6","v":{"v":1.7465069860279412,"d":"1.75"}},-0.8642534008937458,218.39155934196495,1059.168211621458,-0.9388843971908132,99.84573694549525,519.1118285681962,5.5002359808862026E-4]
[{"$f":"A128+Sheet2!K$6","v":{"v":1.7604790419161647,"d":"1.76"}},-0.8424142449595493,233.19031678976975,1029.8491714598322,-0.9288998234962637,107.09879642648801,513.1266565784023,5.5397378485553606E-4]
[{"$f":"A129+Sheet2!K$6","v":{"v":1.7744510978043881,"d":"1.77"}},-0.8190952132805723,247.57942696984725,998.720987141525,-0.9181899438536149,114.26823074993874,506.740823713307,5.5915711234437112E-4]
[{"$f":"A130+Sheet2!K$6","v":{"v":1.7884231536926116,"d":"1.79"}},{"$f":"SIN(3*t)","v":-0.7943372705835876},261.53361241893043,{"$f":"(C132-C131)/dx","v":965.8383417918225},{"$f":"COS(2*t)","v":-0.906763120778621},121.3484418597055,{"$f":"(F132-F131)/dx","v":499.95931617569016},5.6551200244877187E-4]
[{"$f":"A131+Sheet2!K$6","v":{"v":1.802395209580835,"d":"1.80"}},-0.7681839093416946,{"$f":"(B133-B132)/0.0001","v":275.02835970943494},931.2590006136211,-0.8946282765926504,{"$f":"(E133-E132)/0.0001","v":128.33390136715028},492.78742911948035,{"$f":"ABS(C132*G132-F132*D132)/(C132^2+F132^2)^(3/2)","v":5.73004591204642E-4}]
[{"$f":"A132+Sheet2!K$6","v":{"v":1.8163672654690586,"d":"1.82"}},-0.7406810733707511,288.03996251241966,895.0437094084804,-0.8817948864559354,135.21915486782166,485.23076251613185,5.8162246717461828E-4]
[{"$f":"A133+Sheet2!K$6","v":{"v":1.830339321357282,"d":"1.83"}},-0.7118770771195091,300.5455632426779,857.256087862097,-0.8682729709691532,141.99882620038238,477.29521678147427,5.9137058021557017E-4]
[{"$f":"A134+Sheet2!K$6","v":{"v":1.8443113772455055,"d":"1.84"}},-0.6818225207952413,312.523193212807,817.9625177899314,-0.854073088349115,148.66762164443492,468.9869881684991,6.022685769153036E-4]
[{"$f":"A135+Sheet2!K$6","v":{"v":1.858283433133729,"d":"1.86"}},-0.6505702014739606,323.95181122583995,777.2320265148237,-0.8392063261846715,155.22033405397482,460.31256392992964,0.000614349108687793]
[{"$f":"A136+Sheet2!K$6","v":{"v":1.8722554890219525,"d":"1.87"}},-0.6181750203513766,334.8113405384223,735.1361656104181,-0.823684292779274,161.65184692325528,451.2787172518904,6.2765682888243945E-4]
[{"$f":"A137+Sheet2!K$6","v":{"v":1.886227544910176,"d":"1.89"}},-0.5846938862975344,345.08270412978544,691.7488852103899,-0.8075191080869485,167.95713838186452,441.8925019655255,6.4224789938024777E-4]
[{"$f":"A138+Sheet2!K$6","v":{"v":1.9001996007983994,"d":"1.90"}},-0.5501856158845558,354.74785821456135,647.1464040901992,-0.790723394248762,174.13128511591378,432.16124704007643,6.58189892416861E-4]
[{"$f":"A139+Sheet2!K$6","v":{"v":1.914171656686623,"d":"1.91"}},-0.5147108300630997,363.7898239403725,601.4070757806343,-0.7733102657371707,180.16946621228212,422.09255085873133,6.7556201567338012E-4]
[{"$f":"A140+Sheet2!K$6","v":{"v":1.9281437125748464,"d":"1.93"}},-0.47833184766906245,372.19271721475263,554.6112509208147,-0.7552933191159424,186.06696692288315,411.6942752865122,0.000694455617496535]
[{"$f":"A141+Sheet2!K$6","v":{"v":1.9421157684630699,"d":"1.94"}},-0.4411125759475872,379.94177660885583,506.84113610270276,-0.7366866224236541,191.819182346048,400.97453953213983,7.1497494900602248E-4]
[{"$f":"A142+Sheet2!K$6","v":{"v":1.9560878243512934,"d":"1.96"}},-0.4031183982867016,387.0233892889335,458.1806494672568,-0.7175047041890493,197.42162102214576,389.94171380702136,7.3723817468761678E-4]
[{"$f":"A143+Sheet2!K$6","v":{"v":1.9700598802395168,"d":"1.97"}},-0.36441605935780824,393.4251149301926,408.71527327312344,-0.6977625420868347,202.86990844060713,378.6044127904337,7.6137863483466644E-4]
[{"$f":"A144+Sheet2!K$6","v":{"v":1.9840319361277403,"d":"1.98"}},-0.325073547864789,399.13570757073524,358.53190373472484,-0.677475551242774,208.15979045564313,366.971488903304,7.8754637275089273E-4]
[{"$f":"A145+Sheet2!K$6","v":{"v":1.9980039920159638,"d":"2.00"}},-0.28515997710771546,404.145135367428,307.7186983778214,-0.6566595721972097,213.2871366079847,355.052025394126,8.1590994860013667E-4]
[{"$f":"A146+Sheet2!K$6","v":{"v":2.0119760479041875,"d":"2.01"}},-0.24474546357097265,408.4445982190143,256.3649211534955,-0.6353308585364112,218.2479433500184,342.85532925039746,8.466585703771829E-4]
[{"$f":"A147+Sheet2!K$6","v":{"v":2.025948103792411,"d":"2.03"}},-0.20390100374907122,412.026543225151,204.5607856561874,-0.6135060642014094,223.03833717188024,330.39092392665674,8.8000458089375073E-4]
[{"$f":"A148+Sheet2!K$6","v":{"v":2.039920159680635,"d":"2.04"}},-0.16269834942655612,414.88467795487816,152.39729660922214,-0.5912022304842214,227.6545776259453,317.66854191263195,9.1618634959829165E-4]
[{"$f":"A149+Sheet2!K$6","v":{"v":2.0538922155688586,"d":"2.05"}},-0.1212098816310683,417.0139815003164,99.96609003499778,-0.5684367727216268,232.0930602474791,304.6981171311436,9.5547162770681236E-4]
[{"$f":"A150+Sheet2!K$6","v":{"v":2.0678642714570823,"d":"2.07"}},-0.07950848348103666,418.41071329721257,47.35927223732071,-0.5452274666968789,236.3503193690719,291.48977718227974,9.9816143758164888E-4]
[{"$f":"A151+Sheet2!K$6","v":{"v":2.081836327345306,"d":"2.08"}},-0.0376674121513154,419.072419695738,-5.330741962140703,-0.5215924347599717,240.42303082670855,278.053835436497,1.0445945799612525E-3]
[{"$f":"A152+Sheet2!K$6","v":{"v":2.0958083832335297,"d":"2.10"}},0.004239829818258402,418.9979382711173,-58.01139161026499,-0.4975501316773009,244.3080145553622,264.40078298002305,1.0951528587929678E-3]
[{"$f":"A153+Sheet2!K$6","v":{"v":2.1097804391217534,"d":"2.11"}},0.04613962364537013,418.18739986538503,-110.59013218436732,-0.47311933022176467,248.00223707204916,250.54128042451026,1.1502671406529255E-3]
[{"$f":"A154+Sheet2!K$6","v":{"v":2.123752495009977,"d":"2.12"}},0.08795836363190863,416.642228357819,-162.97459820653853,-0.44831910651455975,251.5028138444475,236.48614958241706,1.2104243870815724E-3]
[{"$f":"A155+Sheet2!K$6","v":{"v":2.137724550898201,"d":"2.14"}},0.12962258646769054,414.3651381633165,-215.07276546231947,-0.423168825130115,254.80701154320383,222.24636501696983,1.2761758213788912E-3]
[{"$f":"A156+Sheet2!K$6","v":{"v":2.1516966067864245,"d":"2.15"}},0.1710591002840222,411.36012946424216,-266.79311270062215,-0.3976881239757946,257.91225017617546,207.83304547355817,1.3481464194629526E-3]
[{"$f":"A157+Sheet2!K$6","v":{"v":2.165668662674648,"d":"2.17"}},0.2121951132304464,407.63248118299595,-318.04478236973335,-0.37189689895817707,260.8161051029517,193.25744519724057,1.4270459447989765E-3]
[{"$f":"A158+Sheet2!K$6","v":{"v":2.179640718562872,"d":"2.18"}},0.252958361348746,403.18874170876813,-368.7377402675449,-0.3458152884478819,263.51630892806287,178.53094514575807,1.5136817829603654E-3]
[{"$f":"A159+Sheet2!K$6","v":{"v":2.1936127744510956,"d":"2.19"}},0.2932772355196228,398.03671739365274,-418.7829336653455,-0.3194636575550756,266.0107532714168,163.6650441027957,1.6089738689071236E-3]
[{"$f":"A160+Sheet2!K$6","v":{"v":2.2075848303393193,"d":"2.21"}},0.3330809072589881,392.1854588394463,-468.09244778726145,-0.29286258222793393,268.2974904145696,148.67134969926855,1.7139720414899675E-3]
[{"$f":"A161+Sheet2!K$6","v":{"v":2.221556886227543,"d":"2.22"}},0.3722994531429327,385.64524499810733,-516.579660211344,-0.26603283318647697,270.3747348215454,133.56156935038837,1.8298762002022988E-3]
[{"$f":"A162+Sheet2!K$6","v":{"v":2.2355289421157667,"d":"2.24"}},0.41086397764274346,378.4275651149149,-564.1593930790459,-0.23899535970432242,272.2408645330279,118.34750111352731,0.001958059678243572]
[{"$f":"A163+Sheet2!K$6","v":{"v":2.2495009980039904,"d":"2.25"}},0.44870673415423495,370.5450985449482,-610.7480626889703,-0.21177127325101963,273.8944224328177,103.04102447661052,2.1000962747607867E-3]
[{"$f":"A164+Sheet2!K$6","v":{"v":2.263473053892214,"d":"2.26"}},0.4857612440087298,362.01169247943363,-656.2638263673507,-0.18438183100773786,275.3341173855847,87.65409108207348,2.2577914011336544E-3]
[{"$f":"A165+Sheet2!K$6","v":{"v":2.277445109780438,"d":"2.28"}},0.5219624132566731,352.8423376200096,-700.626726204124,-0.1568484192691794,276.5588252450149,72.1987153948392,2.433217773342902E-3]
[{"$f":"A166+Sheet2!K$6","v":{"v":2.2914171656686615,"d":"2.29"}},0.5572466470186741,343.05314184470245,-743.7588295524447,-0.1291925367446779,277.5675897315695,56.68696532099454,2.6287560046856727E-3]
[{"$f":"A167+Sheet2!K$6","v":{"v":2.305389221556885,"d":"2.31"}},0.5915519612031443,332.66130191083596,-785.5843658977614,-0.10143577777152095,278.35962317916824,41.13095278520135,0.002847140281984105]
[{"$f":"A168+Sheet2!K$6","v":{"v":2.319361277445109,"d":"2.32"}},0.624818091394228,321.6850732455978,-826.0298599986634,-0.07359981545360413,278.93430715021896,25.542824273115507,3.0915089946051996E-3]
[{"$f":"A169+Sheet2!K$6","v":{"v":2.3333333333333326,"d":"2.33"}},0.6569865987187877,310.143737876355,-865.0242609293967,-0.045706384738582226,279.291192918506,9.934751347312783,3.3654596485477675E-3]
[{"$f":"A170+Sheet2!K$6","v":{"v":2.3473053892215563,"d":"2.35"}},0.6880009725064232,298.05757055798017,-902.4990669255227,-0.017777265446731624,279.43000181956626,-5.681078856577869,0.003673106529444018]
[{"$f":"A171+Sheet2!K$6","v":{"v":2.36127744510978,"d":"2.36"}},0.7178067295622212,285.44780315582716,-938.388445693167,0.010165734735225003,279.35062546827675,-21.29247314586885,0.004019138218079878]
[{"$f":"A172+Sheet2!K$6","v":{"v":2.3752495009980037,"d":"2.38"}},0.746351509877804,272.336587347739,-972.6293500842439,0.03810079728205268,279.05312584348417,-36.887241791539935,4.4088699974970565E-3]
[{"$f":"A173+Sheet2!K$6","v":{"v":2.3892215568862274,"d":"2.39"}},0.7735851686125779,258.7469557098354,-1005.1616288257745,0.0660061098664011,278.53773523961036,-52.453208046262894,0.00484828313369984]
[{"$f":"A174+Sheet2!K$6","v":{"v":2.403193612774451,"d":"2.40"}},0.7994598641835614,244.70278125518385,-1035.928132213454,0.09385988339036214,277.80485608527135,-67.97821765220644,0.005344038610401803]
[{"$f":"A175+Sheet2!K$6","v":{"v":2.417165668662675,"d":"2.42"}},0.8239301423090798,230.22873549571443,-1064.8748124820934,0.12164036899888928,276.8550606290529,-83.45014833153017,0.005903446745804091]
[{"$f":"A176+Sheet2!K$6","v":{"v":2.4311377245508985,"d":"2.43"}},0.8469530158586512,215.35024510175305,-1091.9508187762783,0.14932587506179457,275.6890904926842,-98.85691925146763,0.006534365843664464]
[{"$f":"A177+Sheet2!K$6","v":{"v":2.445109780439122,"d":"2.45"}},0.8684880403688265,200.09344723461942,-1117.1085864568533,0.176894784111063,274.3078560919651,-114.18650045763945,0.007244992451535853]
[{"$f":"A178+Sheet2!K$6","v":{"v":2.459081836327346,"d":"2.46"}},0.8884973850922885,184.48514363142985,-1140.303920679662,0.2043255697202595,272.7124359258903,-129.42692226693097,0.008043493283376807]
[{"$f":"A179+Sheet2!K$6","v":{"v":2.4730538922155696,"d":"2.47"}},0.9069458994554315,168.55275352213317,-1161.4960740141728,0.23159681331284854,270.904075734536,-144.56628461411265,0.008937415911394507]
[{"$f":"A180+Sheet2!K$6","v":{"v":2.4870259481037933,"d":"2.49"}},0.9238011748076448,152.3242654620549,-1180.6478180414965,0.25868722088630214,268.88418752635476,-159.59276634321606,0.009932805530366606]
[{"$f":"A181+Sheet2!K$6","v":{"v":2.500998003992017,"d":"2.50"}},0.9390336013538503,135.82818816406993,-1197.7255087380363,0.2855756396389376,266.65434847565115,-174.49463443838084,0.011032955360793266]
[{"$f":"A182+Sheet2!K$6","v":{"v":2.5149700598802407,"d":"2.51"}},0.9526164201702573,119.0935004172311,-1212.6991455935151,0.31224107448650273,264.21629969108295,-189.2602531843352,0.012236740081190911]
[{"$f":"A183+Sheet2!K$6","v":{"v":2.5289421157684644,"d":"2.53"}},0.9645257702119804,102.14960017939755,-1225.5424242989864,0.33866270445561103,261.5719448561721,-203.8780932530639,0.01353654136935516]
[{"$f":"A184+Sheet2!K$6","v":{"v":2.542914171656688,"d":"2.54"}},0.9747407302299201,85.02625293370313,-1236.2327829679978,0.36481989894122824,258.7233487428558,-218.33674070474183,0.014915890544537036]
[{"$f":"A185+Sheet2!K$6","v":{"v":2.556886227544912,"d":"2.56"}},0.9832433555232905,67.75353939922013,-1244.7514417611094,0.3906922338155138,255.6727355992766,-232.62490590137458,0.01634713701316669]
[{"$f":"A186+Sheet2!K$6","v":{"v":2.5708582834331355,"d":"2.57"}},0.9900187094632125,50.361802687987065,-1251.083435885016,0.4162595073754415,252.42248741302984,-246.73143232089018,0.017789690099341757]
[{"$f":"A187+Sheet2!K$6","v":{"v":2.584830339321359,"d":"2.58"}},0.9950548897320112,32.881595000970876,-1255.2176418745062,0.44150175611674447,248.97514205126092,-260.6453052691881,0.019189615085149554]
[{"$f":"A188+Sheet2!K$6","v":{"v":2.598802395209583,"d":"2.60"}},0.9983430492321083,15.3436239568161,-1257.1467971377726,0.46639927032187056,245.33339127903673,-274.3556604802596,0.020481466108251564]
[{"$f":"A189+Sheet2!K$6","v":{"v":2.6127744510978066,"d":"2.61"}},0.9998774116277899,-2.2213013524940983,-1256.8675127129623,0.49093260944977424,241.50007865755606,-287.85179259910615,0.021593037209043375]
[{"$f":"A190+Sheet2!K$6","v":{"v":2.6267465069860303,"d":"2.63"}},0.9996552814925405,-19.782324484212133,-1254.3802792201443,0.5150826173155298,237.478197323836,-301.123163541381,0.02245307608058375]
[{"$f":"A191+Sheet2!K$6","v":{"v":2.640718562874254,"d":"2.64"}},0.9976770490441192,-37.30859585056145,-1249.6894660034595,0.5388304370479134,233.27088765359716,-314.15941072086537,0.02300098415680269]
[{"$f":"A192+Sheet2!K$6","v":{"v":2.6546906187624777,"d":"2.65"}},0.9939461894590631,-54.76932691248604,-1242.803313449935,0.5621575258132732,228.88143480919385,-326.9503551418544,0.023196466551525127]
[{"$f":"A193+Sheet2!K$6","v":{"v":2.6686626746507014,"d":"2.67"}},0.9884692567678145,-72.13384426607794,-1233.7339185194546,0.5850456692941925,224.31326617447732,-339.48600934591457,0.023026560244513217]
[{"$f":"A194+Sheet2!K$6","v":{"v":2.682634730538925,"d":"2.68"}},{"$f":"SIN(3*t)","v":0.9812558723412067},-89.3716435268288,{"$f":"(C196-C195)/dx","v":-1222.497213488192},{"$f":"COS(2*t)","v":0.6074769959116403},219.56994867862622,{"$f":"(F196-F195)/dx","v":-351.75658521144123},0.02250791925697619]
[{"$f":"A195+Sheet2!K$6","v":{"v":2.696606786427149,"d":"2.70"}},0.9723187079885238,{"$f":"(B197-B196)/0.0001","v":-106.45244291688338},-1209.1129379662837,0.6294339907795029,{"$f":"(E197-E196)/0.0001","v":214.6551860110013},-363.75250159599614,{"$f":"ABS(C196*G196-F196*D196)/(C196^2+F196^2)^(3/2)","v":0.021683641329465937}]
[{"$f":"A196+Sheet2!K$6","v":{"v":2.7105788423153725,"d":"2.71"}},0.9616734636968355,-123.34623646132248,-1193.6046042133523,0.650899509380603,209.5728157292209,-375.46439181685633,0.020615666277313364]
[{"$f":"A197+Sheet2!K$6","v":{"v":2.724550898203596,"d":"2.72"}},0.9493388400507032,-140.0233466998324,-1175.9994558450076,0.6718567909535251,204.32680626271792,-386.88311096644475,0.01937502388707579]
[{"$f":"A198+Sheet2!K$6","v":{"v":2.73852295409182,"d":"2.74"}},0.93533650538072,-156.45447682141932,-1156.3284199603381,0.6922894715797969,198.92125381408496,-397.99974305054417,0.018032449350789723]
[{"$f":"A199+Sheet2!K$6","v":{"v":2.7524950099800436,"d":"2.75"}},0.9196910576985781,-172.6107621302464,-1134.6260528271905,0.7121815969612054,193.36037916068415,-408.80560795222107,0.01665120875744462]
[{"$f":"A200+Sheet2!K$6","v":{"v":2.7664670658682673,"d":"2.77"}},0.9024299814855534,-188.4638207525824,-1110.9304791607078,0.7315176348772738,187.6485243589565,-419.29226820817325,0.015282897416988194]
[{"$f":"A201+Sheet2!K$6","v":{"v":2.780439121756491,"d":"2.78"}},0.8835835994102952,-203.98580349534677,-1085.2833251664724,0.7502824873131695,181.7901493540519,-429.4515355974197,0.013966022499806578]
[{"$f":"A202+Sheet2!K$6","v":{"v":2.7944111776447147,"d":"2.79"}},0.8631850190607605,-219.14944276912982,-1057.7296453972644,0.7684615022485747,175.78982849740132,-439.27547753444725,0.012726638848554704]
[{"$f":"A203+Sheet2!K$6","v":{"v":2.8083832335329384,"d":"2.81"}},0.8412700747838475,-233.92810048925128,-1028.3178436247126,0.7860404850983148,169.65224697496393,-448.7564232642251,0.011580175949111217]
[{"$f":"A204+Sheet2!K$6","v":{"v":2.822355289421162,"d":"2.82"}},0.8178772647349224,-248.2958148712333,-997.099587787216,0.8030057097958112,163.38219714891687,-457.8869698497189,0.010533727833564622]
[{"$f":"A205+Sheet2!K$6","v":{"v":2.836327345309386,"d":"2.84"}},0.7930476832477991,-262.22734603792094,-964.129719246949,0.8193439295107029,156.98457481568727,-466.6599879543515,9.588312643932926E-3]
[{"$f":"A206+Sheet2!K$6","v":{"v":2.8502994011976095,"d":"2.85"}},0.766824948644007,-275.6982203587366,-929.466156425399,0.8350423869922716,150.46437538319134,-475.0686274076491,0.00874083407448987]
[{"$f":"A207+Sheet2!K$6","v":{"v":2.864271457085833,"d":"2.86"}},0.7392551266081333,-288.6847734425246,-893.1697930835603,0.8500888245305908,143.82668997031,-483.10632255387037,0.007985644126110724]
[{"$f":"A208+Sheet2!K$6","v":{"v":2.878243512974057,"d":"2.88"}},0.7103866492638808,-301.1641917091612,-855.3043913218223,0.8644714935276218,137.07670143163318,-490.7667973796363,0.007315709073943592]
[{"$f":"A209+Sheet2!K$6","v":{"v":2.8922155688622806,"d":"2.89"}},0.6802702300929647,-313.1145524661527,-815.9364695971575,0.8781791636707851,130.21968031056042,-498.04407041284884,6.723431541523198E-3]
[{"$f":"A210+Sheet2!K$6","v":{"v":2.9061876247505043,"d":"2.91"}},0.6489587748463495,-324.514862420604,-775.1351858407372,0.8912011317018411,123.26098072395375,-504.93245939483654,0.006201198824098175]
[{"$f":"A211+Sheet2!K$6","v":{"v":2.920159680638728,"d":"2.92"}},0.616507288604289,-335.34509455809933,-732.9722159969115,0.9035272297742365,116.20603618151092,-511.42658571569166,0.005741726108725496]
[{"$f":"A212+Sheet2!K$6","v":{"v":2.9341317365269517,"d":"2.93"}},0.5829727791484791,-345.58622332452325,-689.52162807934,0.9151478333923876,109.06035534316793,-517.5213786152444,0.005338253272540269]
[{"$f":"A213+Sheet2!K$6","v":{"v":2.9481037924151754,"d":"2.95"}},0.5484141568160268,-355.2202580481867,-644.8597520863082,0.9260538689267044,101.82951771780523,-523.2120791416944,0.004984641568298266]
[{"$f":"A214+Sheet2!K$6","v":{"v":2.962075848303399,"d":"2.96"}},0.5128921310112081,-364.23027454440256,-599.0650458792741,0.9362368206984849,94.51916930664383,-528.4942438671734,0.004675404798713283]
[{"$f":"A215+Sheet2!K$6","v":{"v":2.976047904191623,"d":"2.98"}},0.47646910355676786,-372.600444846109,-552.2179573881491,0.9456887376291493,87.13501819472724,-533.3637483589619,4.405699787035337E-3]
[{"$f":"A216+Sheet2!K$6","v":{"v":2.9900199600798465,"d":"2.99"}},0.43920905907215696,-380.31606500921686,-504.40078325364044,0.954402239448622,79.68283009390342,-537.8167903973167,0.004171293327269914]
[{"$f":"A217+Sheet2!K$6","v":{"v":3.00399201596807,"d":"3.00"}},0.40117745257123527,-387.36358094290046,-455.69752429178413,0.9623705224580124,72.1684238408471,-541.8498929468849,0.003968517147560716]
[{"$f":"A218+Sheet2!K$6","v":{"v":3.017964071856294,"d":"3.02"}},0.3624410944769452,-393.7306122204304,-406.19373789196584,0.9695873648420971,64.59766685356527,-545.4599068702688,3.7942183809813574E-3]
[{"$f":"A219+Sheet2!K$6","v":{"v":3.0319361277445176,"d":"3.03"}},0.3230680332549022,-399.40597382770335,-355.9763877556135,0.9760471315274536,56.97647054998866,-548.6440133868464,3.6457102368288225E-3]
[{"$f":"A220+Sheet2!K$6","v":{"v":3.0459081836327413,"d":"3.05"}},0.28312743587213185,-404.3796958123127,-305.1336910879923,0.9817447785824525,49.31078573220837,-551.399726274538,3.5207256731570706E-3]
[{"$f":"A221+Sheet2!K$6","v":{"v":3.059880239520965,"d":"3.06"}},0.24268946629090057,-408.6430407975741,-253.7549636647392,0.9866758571556733,41.60659793994936,-553.7248938103767,3.4173756290376703E-3]
[{"$f":"A222+Sheet2!K$6","v":{"v":3.0738522954091887,"d":"3.07"}},0.20182516221114316,-412.18851933181196,-201.93046289159017,0.9908365169496682,33.869922776930125,-555.6177004513391,3.3341125844179764E-3]
[{"$f":"A223+Sheet2!K$6","v":{"v":3.0878243512974124,"d":"3.09"}},0.16060631027796196,-415.0099030448681,-149.7512292874178,0.9942235092273612,26.10680121373776,-557.0766682508789,3.2696997344708904E-3]
[{"$f":"A224+Sheet2!K$6","v":{"v":3.101796407185636,"d":"3.10"}},0.11910531997347515,-417.1022355898021,-97.30892651329162,0.996834189348735,18.32329487091111,-558.1006580145172,3.2231857913315584E-3]
[{"$f":"A225+Sheet2!K$6","v":{"v":3.11576846307386,"d":"3.12"}},0.07739509641449493,-418.46184134946884,-44.695680385948776,0.9986665188358261,10.525481285877936,-558.6888701874948,0.003193885289440923]
[{"$f":"A226+Sheet2!K$6","v":{"v":3.1297405189620835,"d":"3.13"}},0.035548912279548046,-419.0863318937835,7.996083000549358,0.9997190669644139,2.7194491674897847,-558.8408454806791,3.181364222490597E-3]
[{"$f":"A227+Sheet2!K$6","v":{"v":3.143712574850307,"d":"3.14"}},-0.006359720909830309,-418.97461017521294,60.673799599932124,0.9999910118811629,-5.088706358188366,-558.5564652282949,3.1854308480551027E-3]
[{"$f":"A228+Sheet2!K$6","v":{"v":3.157684630738531,"d":"3.16"}},-0.0482571819273516,-418.1268724562518,113.24493006233055,0.9994821412453441,-12.892888507086697,-557.8359514807333,3.2061315380417033E-3]
[{"$f":"A229+Sheet2!K$6","v":{"v":3.1716566866267546,"d":"3.17"}},-0.09006986917297678,-416.54460796436297,165.61712225837192,0.9981928523946354,-20.687003597635865,-556.6798668316476,0.003243751614148456]
[{"$f":"A230+Sheet2!K$6","v":{"v":3.1856287425149783,"d":"3.19"}},-0.13172432996941308,-414.23059627612224,217.69837355517333,0.9961241520348718,-28.46496580885649,-555.0891139779792,3.2988211761574254E-3]
[{"$f":"A231+Sheet2!K$6","v":{"v":3.199600798403202,"d":"3.20"}},-0.1731473895970253,-411.188902434034,269.39719239809716,0.9932776554539862,-36.22070193230131,-553.06493501507,3.3721259977842364E-3]
[{"$f":"A232+Sheet2!K$6","v":{"v":3.2135728542914257,"d":"3.21"}},-0.2142662798404287,-407.42486980571726,320.62275907443177,0.989655585260756,-43.948156114148595,-550.6089104681156,3.4647236200054964E-3]
[{"$f":"A233+Sheet2!K$6","v":{"v":3.2275449101796494,"d":"3.23"}},-0.25500876682100043,-402.94511069689287,371.2850852176407,0.9852607696493412,-51.641294583762985,-547.7229580560879,3.5779648029094784E-3]
[{"$f":"A234+Sheet2!K$6","v":{"v":3.241516966067873,"d":"3.24"}},-0.2953032778906897,-397.75749473576815,421.2951719295964,0.9800966401909649,-59.29411036498577,-544.4093311959713,3.7135204873562457E-3]
[{"$f":"A235+Sheet2!K$6","v":{"v":3.255489021956097,"d":"3.26"}},-0.33507902736426654,-391.8711350481291,470.56516608727804,0.9741672291544663,-66.90062796652629,-540.6706172424012,0.003873414341369765]
[{"$f":"A236+Sheet2!K$6","v":{"v":3.2694610778443205,"d":"3.27"}},-0.37426614086907944,-385.29637224850643,519.0085147129923,0.9674771663578137,-74.45490804775744,-536.5097354676275,4.0600607868233E-3]
[{"$f":"A237+Sheet2!K$6","v":{"v":3.283433133732544,"d":"3.28"}},-0.4127957780939301,-378.0447562744726,566.5401169848825,0.9600316755530379,-81.95105205628717,-531.9299347817148,0.004276308064010572]
[{"$f":"A238+Sheet2!K$6","v":{"v":3.297405189620768,"d":"3.30"}},-0.45060025372137735,-370.1290260970391,613.0764737720644,0.9518365703474092,-89.3832068336764,-526.934791197056,0.004525485316449309]
[{"$f":"A239+Sheet2!K$6","v":{"v":3.3113772455089916,"d":"3.31"}},-0.48761315633108127,-361.5630873417408,658.5358342802111,0.9428982496640416,-96.74556918573107,-521.5282050339817,0.004811451750863792]
[{"$f":"A240+Sheet2!K$6","v":{"v":3.3253493013972153,"d":"3.33"}},-0.5237694650652553,-352.3619878607798,702.8383397016903,0.9332236927454685,-104.03239041375078,-515.7143978771255,0.005138644490033176]
[{"$f":"A241+Sheet2!K$6","v":{"v":3.339321357285439,"d":"3.34"}},-0.5590056638513333,-342.5418912980815,745.9061634671275,0.9228204537040934,-111.23798080325153,-509.49790927836835,5.512119571588165E-3]
[{"$f":"A242+Sheet2!K$6","v":{"v":3.3532934131736627,"d":"3.35"}},-0.5932598529811415,-332.1200486947484,787.6636479993884,0.9116966556237682,-118.35671406662195,-502.88359321252864,0.005937577374738819]
[{"$f":"A243+Sheet2!K$6","v":{"v":3.3672654690618864,"d":"3.37"}},-0.6264718578506163,-321.1147681837789,828.0374375881602,0.899860984217106,-125.38303173625808,-495.8766142863791,0.006421359233922628]
[{"$f":"A244+Sheet2!K$6","v":{"v":3.38123752495011,"d":"3.38"}},-0.6585833346689942,-309.5453828282557,866.9566072868143,0.8873226810434802,-132.31144750473044,-488.4824437077962,6.970395749471974E-3]
[{"$f":"A245+Sheet2!K$6","v":{"v":3.395209580838334,"d":"3.40"}},-0.6895378729518198,-297.43221665857965,904.35278747571,0.8740915362930072,-139.13655150863178,-480.70685501151314,0.007592079004659005]
[{"$f":"A246+Sheet2!K$6","v":{"v":3.4091816367265575,"d":"3.41"}},-0.7192810946176778,-284.79654896929827,940.1602839974263,0.860177881142144,-145.85301455270482,-472.55591955316027,0.008294020465235991]
[{"$f":"A247+Sheet2!K$6","v":{"v":3.423153692614781,"d":"3.42"}},-0.7477607495146076,-271.6605769373981,974.3161935335391,0.8455925796868735,-152.45559227101245,-464.03600176685234,0.00908364428694585]
[{"$f":"A248+Sheet2!K$6","v":{"v":3.437125748503005,"d":"3.44"}},-0.7749268072083474,-258.04737662854626,1006.7605141355382,0.8303470204597723,-158.9391292218467,-455.1537541966823,0.00996755383147098]
[{"$f":"A249+Sheet2!K$6","v":{"v":3.4510978043912286,"d":"3.45"}},-0.800731544871202,-243.98086245898784,1037.4362506029734,0.8144531075375876,-165.29856291321752,-445.9161123021829,0.010950601297056693]
[{"$f":"A250+Sheet2!K$6","v":{"v":3.4650698602794523,"d":"3.47"}},-0.8251296311171008,-229.485745185094,1066.2895146337937,0.7979232512462658,-171.528927755763,-436.33028904238097,0.012034593807674276]
[{"$f":"A251+Sheet2!K$6","v":{"v":3.479041916167676,"d":"3.48"}},-0.8480782056356102,-214.58748849360387,1093.269619466259,0.7807703584706895,-177.62535893998788,-426.4037692449325,0.013216595864192974]
[{"$f":"A252+Sheet2!K$6","v":{"v":3.4930139720558997,"d":"3.49"}},-0.8695369544849706,-199.3122642695244,1118.3291689424398,0.7630078225766908,-183.58309623482725,-416.1443037600028,0.014486853972135139]
[{"$f":"A253+Sheet2!K$6","v":{"v":3.5069860279441234,"d":"3.51"}},-0.889468180911923,-183.68690661963004,1141.4241407496702,0.744649512953208,-189.3974877045279,-405.5599034100671,0.01582649185596214]
[{"$f":"A254+Sheet2!K$6","v":{"v":3.520958083832347,"d":"3.52"}},-0.907836871573886,-167.7388647329081,1162.5139637732611,0.7257097641827552,-195.0639933409959,-394.6588327337701,0.017205312848784335]
[{"$f":"A255+Sheet2!K$6","v":{"v":3.534930139720571,"d":"3.53"}},-0.9246107580471769,-151.4961546602278,1181.5615893506547,0.7062033648486556,-200.5781886087332,-383.449603533301,0.01858028228117773]
[{"$f":"A256+Sheet2!K$6","v":{"v":3.5489021956087945,"d":"3.55"}},-0.9397603735131996,-134.9873100984422,1198.5335563717692,0.6861455459877823,-205.93576789961764,-371.94096822734184,0.019895479693308238]
[{"$f":"A257+Sheet2!K$6","v":{"v":3.562874251497018,"d":"3.56"}},-0.9532591045230439,-118.24133226490451,1213.400050044872,0.6655519691978206,-211.13254789481005,-360.1419130188008,0.021084377626820715]
[{"$f":"A258+Sheet2!K$6","v":{"v":3.576846307385242,"d":"3.58"}},{"$f":"SIN(3*t)","v":-0.9650832377495343},-101.28763895090431,{"$f":"(C260-C259)/dx","v":1226.1349542864514},{"$f":"COS(2*t)","v":0.6444387144083396},-216.16447083120048,{"$f":"(F260-F259)/dx","v":-348.06165087566023},0.022075051381071683]
[{"$f":"A259+Sheet2!K$6","v":{"v":3.5908183632734656,"d":"3.59"}},-0.9752120016446247,{"$f":"(B261-B260)/0.0001","v":-84.15601284310958},1236.7158975871146,0.6228222673252195,{"$f":"(E261-E260)/0.0001","v":-221.02760766978255},-335.7096143396034,{"$f":"ABS(C260*G260-F260*D260)/(C260^2+F260^2)^(3/2)","v":0.022798236897248976}]
[{"$f":"A260+Sheet2!K$6","v":{"v":3.6047904191616893,"d":"3.60"}},-0.9836276029289357,-66.87654920416786,1245.1242923223977,0.6007195065582412,-225.71816116354947,-323.09544815964153,0.023197113917009963]
[{"$f":"A261+Sheet2!K$6","v":{"v":3.618762475049913,"d":"3.62"}},-0.9903152578493525,-49.47960300405452,1251.3453673977317,0.5781476904418863,-230.23246882246661,-310.2290017608799,0.023236674352774593]
[{"$f":"A262+Sheet2!K$6","v":{"v":3.6327345309381367,"d":"3.63"}},-0.9952632181497579,-31.995735595303774,1255.3681942021524,0.5551244435596396,-234.56700577321743,-297.1203215557798,0.022910109658338885]
[{"$f":"A263+Sheet2!K$6","v":{"v":3.6467065868263604,"d":"3.65"}},-0.9984627917092883,-14.45566102561302,1257.1857058037485,0.5316677429823179,-238.71838751152174,-283.77964309738417,0.022240235721739887]
[{"$f":"A264+Sheet2!K$6","v":{"v":3.660678642714584,"d":"3.66"}},-0.9999083578118496,3.109807917752727,1256.7947093658795,0.5077959042311657,-242.68337254481852,-270.2173830883916,0.021275469315034715]
[{"$f":"A265+Sheet2!K$6","v":{"v":3.674650698602808,"d":"3.67"}},-0.9995973770200743,20.669813837036475,1254.195891754769,0.48352756697668386,-246.45886492329905,-256.44413124780647,0.02008160848126722]
[{"$f":"A266+Sheet2!K$6","v":{"v":3.6886227544910315,"d":"3.69"}},-0.9975303956363707,38.193508931414485,1249.3938183338503,0.45888168048435396,-250.04191665730033,-242.47064204132187,0.018731818175435486]
[{"$f":"A267+Sheet2!K$6","v":{"v":3.702594810379255,"d":"3.70"}},-0.9937110447432292,55.650109187576064,1242.396924943767,0.4338774888186239,-253.42973001915513,-228.30782628497207,0.0172973309440979]
[{"$f":"A268+Sheet2!K$6","v":{"v":3.716566866267479,"d":"3.72"}},-0.9881460338244716,73.00894845824746,1233.2175030812857,0.4085345158167084,-256.6196597277276,-213.96674262459138,0.015840598691253666]
[{"$f":"A269+Sheet2!K$6","v":{"v":3.7305389221557026,"d":"3.73"}},-0.9808451389786469,90.23953233363468,1221.8716783108264,0.38287254984393565,-259.60921501389953,-199.45858890233328,0.014411519035722907]
[{"$f":"A270+Sheet2!K$6","v":{"v":3.7445109780439263,"d":"3.74"}},-0.9718211857452834,107.31159171123106,1208.3793819300417,0.3569116283425457,-262.39606156542914,-184.79469341190378,0.013046431434988738]
[{"$f":"A271+Sheet2!K$6","v":{"v":3.75848303393215,"d":"3.76"}},-0.9610900265741603,124.19513596973464,1192.7643159646475,0.3306720221860028,-264.9780233496274,-169.98650605388153,0.011769083848913535]
[{"$f":"A272+Sheet2!K$6","v":{"v":3.7724550898203737,"d":"3.77"}},-0.9486705129771869,140.86050565387143,1175.0539115217077,0.30417421985104004,-267.3530843124561,-155.0455893952647,0.010592685931338407]
[{"$f":"A273+Sheet2!K$6","v":{"v":3.7864271457085974,"d":"3.79"}},-0.9345844624117997,157.27842457732842,1155.2792806111497,0.27743891141979443,-269.5193899527093,-139.98360964092356,0.00952232905281853]
[{"$f":"A274+Sheet2!K$6","v":{"v":3.800399201596821,"d":"3.80"}},-0.9188566199540669,173.4200512525341,1133.4751614794054,0.2504869724245235,-271.47524877004753,-124.81232752468645,0.008557302281844807]
[{"$f":"A275+Sheet2!K$6","v":{"v":3.814371257485045,"d":"3.81"}},-0.9015146148288135,189.25702955663758,1109.6798575988091,0.22333944754751875,-273.2191335857617,-109.54358912597078,0.007693061066522734]
[{"$f":"A276+Sheet2!K$6","v":{"v":3.8283433133732685,"d":"3.83"}},-0.8825889118731497,204.7615385450441,1083.9351703622967,0.19601753418894258,-274.7496827352264,-94.18931662041686,0.006922768677585774]
[{"$f":"A277+Sheet2!K$6","v":{"v":3.842315369261492,"d":"3.84"}},-0.8621127580186453,219.90634132455722,1056.2863256701737,0.16854256591541994,-276.0657011311204,-78.76149897054594,6.238427197895904E-3]
[{"$f":"A278+Sheet2!K$6","v":{"v":3.856287425149716,"d":"3.86"}},-0.8401221238861896,234.6648329007872,1026.781894460324,0.1409359958023079,-277.16616119657715,-63.27218256453861,0.005631660482857202]
[{"$f":"A279+Sheet2!K$6","v":{"v":3.8702594810379396,"d":"3.87"}},-0.8166556405961108,249.0110869152029,995.4737074053992,0.11321937968265018,-278.05020366753877,-47.73346181030973,0.005094224660419545]
[{"$f":"A280+Sheet2!K$6","v":{"v":3.8842315369261633,"d":"3.88"}},-0.7917545319045906,262.91990119032823,962.4167638383722,0.0854143593158963,-278.7171382636908,-32.15746969171936,0.004618317449865872]
[{"$f":"A281+Sheet2!K$6","v":{"v":3.898203592814387,"d":"3.90"}},-0.7654625417855577,276.3668420024412,927.6691351589488,0.05754264548952722,-279.16644422744736,-16.55636829497871,4.1967458931319885E-3]
[{"$f":"A282+Sheet2!K$6","v":{"v":3.9121756487026107,"d":"3.91"}},-0.7378258575853136,289.32828700466206,891.2918627937036,0.02962600106678248,-279.3977707305708,-0.9423393121837356,0.003822998755935516]
[{"$f":"A283+Sheet2!K$6","v":{"v":3.9261477045908344,"d":"3.93"}},-0.7088930288848474,301.78146672433456,853.3488509906672,1.6862239937253988E-3,-279.4109371481063,14.672425470419771,0.003491257677137124]
[{"$f":"A284+Sheet2!K$6","v":{"v":3.940119760479058,"d":"3.94"}},-0.6787148822124139,313.7045045625275,813.9067545304713,-0.026254869721085233,-279.2059331994178,30.27573369204749,3.1963711662678328E-3]
[{"$f":"A285+Sheet2!K$6","v":{"v":3.954091816367282,"d":"3.95"}},-0.6473444317561612,325.0764552246299,773.0348616626779,-0.054175463041027015,-278.78291895621555,45.855401937459796,2.9338079023473827E-3]
[{"$f":"A286+Sheet2!K$6","v":{"v":3.9680638722555055,"d":"3.97"}},-0.6148367862336982,335.877341515326,730.8049723554054,-0.08205375493664857,-278.1422247175684,61.399265250051464,2.6996001872486575E-3]
[{"$f":"A287+Sheet2!K$6","v":{"v":3.982035928143729,"d":"3.98"}},-0.5812490520821656,346.0881894324674,687.2912721955266,-0.10986797740840541,-277.28435075199883,76.8951866311537,0.002490284449826622]
[{"$f":"A288+Sheet2!K$6","v":{"v":3.996007984031953,"d":"4.00"}},-0.5466402331389189,355.69106149907157,642.5702020389717,-0.1375964124836053,-276.20996690685297,92.33106651305859,2.3028429781499593E-3]
[{"$f":"A289+Sheet2!K$6","v":{"v":4.009980039920176,"d":"4.01"}},-0.5110711269890117,364.6690882740672,596.720323744287,-0.1652174091742906,-274.91991208531323,107.69485221613623,0.002134649240922586]
[{"$f":"A290+Sheet2!K$6","v":{"v":4.0239520958084,"d":"4.02"}},-0.474604218161605,373.0064979870612,549.8221821507183,-0.19270940038282192,-273.4151935912754,122.97454734723726,1.9834179760524376E-3]
[{"$f":"A291+Sheet2!K$6","v":{"v":4.0379241516966236,"d":"4.04"}},-0.43730356836289885,380.6886442446561,501.9581635955186,-0.22005091974194946,-271.6969863429108,138.15822117611805,1.8471604796278767E-3]
[{"$f":"A292+Sheet2!K$6","v":{"v":4.051896207584847,"d":"4.05"}},-0.39923470393843324,387.7020317599627,453.2123511797964,-0.24722061837624054,-269.76663195522053,153.2340179476427,1.724145076666337E-3]
[{"$f":"A293+Sheet2!K$6","v":{"v":4.065868263473071,"d":"4.07"}},-0.36046450076243697,394.03434005988004,403.67037705416703,-0.2741972815717626,-267.625637692479,168.1901661393103,1.612862498070551E-3]
[{"$f":"A294+Sheet2!K$6","v":{"v":4.079840319361295,"d":"4.08"}},-0.32106106675644897,399.67444512850113,353.4192719926851,-0.3009598453410105,-265.27567529133097,183.0149876530617,1.5119957558622616E-3]
[{"$f":"A295+Sheet2!K$6","v":{"v":4.093812375249518,"d":"4.09"}},-0.28109362224359885,404.6124389487582,302.547312510111,-0.3274874128701436,-262.71857965545985,197.696906933734,1.4203940549641647E-3]
[{"$f":"A296+Sheet2!K$6","v":{"v":4.107784431137742,"d":"4.11"}},-0.24063237834872303,408.8396469079813,251.14386578109733,-0.3537592708356896,-259.9563474228528,212.22446000729863,1.3370502735534776E-3]
[{"$f":"A297+Sheet2!K$6","v":{"v":4.121756487025966,"d":"4.12"}},-0.1997484136579249,412.3486430366593,199.29923264345558,-0.37975490557797487,-256.99113540678275,226.5863034324579,1.2610815650714944E-3]
[{"$f":"A298+Sheet2!K$6","v":{"v":4.1357285429141895,"d":"4.14"}},-0.15851354935425896,415.13326305363375,147.1044889701841,-0.40545401911865314,-253.82525891171846,240.7712231575725,1.191712670258939E-3]
[{"$f":"A299+Sheet2!K$6","v":{"v":4.149700598802413,"d":"4.15"}},-0.11700022304889558,417.18861519493373,94.651325681539,-0.430836545009825,-250.46118992548492,254.76814327744427,1.1282615690238835E-3]
[{"$f":"A300+Sheet2!K$6","v":{"v":4.163672654690637,"d":"4.16"}},-0.07528136152940221,418.51108880725064,42.031887665485954,-0.4558826640023735,-246.90155518907352,268.56613468063347,1.0701271446365251E-3]
[{"$f":"A301+Sheet2!K$6","v":{"v":4.1776447105788606,"d":"4.18"}},-0.03343025264867714,419.09836069080035,-10.661388098967361,-0.48057281952128084,-243.14913414563154,282.15442358414543,1.0167785739315918E-3]
[{"$f":"A302+Sheet2!K$6","v":{"v":4.191616766467084,"d":"4.19"}},0.008479583420402897,418.94939918043553,-63.3359349214387,-0.504887732935844,-239.20685677020435,295.52239994530964,9.6774619516407307E-4]
[{"$f":"A303+Sheet2!K$6","v":{"v":4.205588822355308,"d":"4.21"}},0.050374523338446456,418.0644659579803,-115.89921900776096,-0.5288084186128644,-235.07780128194653,308.659625746571,9.2261363934465282E-4]
[{"$f":"A304+Sheet2!K$6","v":{"v":4.219560878243532,"d":"4.22"}},0.09218096993424449,416.4451155926024,-168.2589020198987,-0.5523161987410591,-230.76519174057728,321.55584314525436,8.8101104109472518E-4]
[{"$f":"A305+Sheet2!K$6","v":{"v":4.233532934131755,"d":"4.23"}},0.13382548149350473,414.09419280988925,-220.32300329253133,-0.5753927179151168,-226.27239552896694,334.20098248384096,8.4260917147313042E-4]
[{"$f":"A306+Sheet2!K$6","v":{"v":4.247504990019979,"d":"4.25"}},0.17523490077449366,411.01582749442474,-272.00006141096407,-0.5980199574680135,-221.6029207238035,346.58517015230285,8.0711435796389014E-4]
[{"$f":"A307+Sheet2!K$6","v":{"v":4.261477045908203,"d":"4.26"}},0.21633648352393614,407.2154274347905,-323.1992948773345,-0.6201802495403939,-216.76041335640605,358.69873629711714,7.7426407626255778E-4]
[{"$f":"A308+Sheet2!K$6","v":{"v":4.2754491017964265,"d":"4.28"}},0.2570580262674152,402.69966882372995,-373.83076159223793,-0.6418562908760345,-211.74865456582756,370.5322223725188,7.4382311506563043E-4]
[{"$f":"A309+Sheet2!K$6","v":{"v":4.28942115768465,"d":"4.29"}},0.2973279931497882,397.476484530026,-423.8055168613826,-0.6630311563326172,-206.57155764645105,382.0763885257055,7.1558022906743663E-4]
[{"$f":"A310+Sheet2!K$6","v":{"v":4.303393213572874,"d":"4.30"}},0.3370756416027908,391.5550501627013,-473.03576964068446,-0.6836883120972623,-201.23316499239928,393.32222081086826,6.8934520706734283E-4]
[{"$f":"A311+Sheet2!K$6","v":{"v":4.3173652694610976,"d":"4.32"}},0.37623114661906093,384.94576795215283,-521.4350367544492,-0.7038116285965023,-195.73764494114963,404.26093822841193,6.6494629171519575E-4]
[{"$f":"A312+Sheet2!K$6","v":{"v":4.331337325349321,"d":"4.33"}},0.4147257234142762,377.66024847654177,-568.9182948264912,-0.7233853930906172,-190.08928851879656,414.8839995811935,6.4222789522242417E-4]
[{"$f":"A313+Sheet2!K$6","v":{"v":4.345309381237545,"d":"4.35"}},0.4524917482619304,369.7112902653932,-615.4021296453212,-0.7423943219424969,-184.2925060895184,425.1831101425027,6.2104856156074769E-4]
[{"$f":"A314+Sheet2!K$6","v":{"v":4.359281437125769,"d":"4.36"}},0.4894628772884697,361.11285731625696,-660.8048826940727,-0.7608235725514487,-178.35182391187865,435.1502281350097,6.0127913018956944E-4]
[{"$f":"A315+Sheet2!K$6","v":{"v":4.373253493013992,"d":"4.37"}},0.5255741630200954,351.88005456404437,-705.0467945962309,-0.7786587549426366,-172.27188060460307,444.77757100772754,5.828010590989037E-4]
[{"$f":"A316+Sheet2!K$6","v":{"v":4.387225548902216,"d":"4.39"}},0.5607621684764998,342.02910134613296,-748.0501452345279,-0.7958859430030969,-166.05742352465478,454.05762151401035,5.6550486605524931E-4]
[{"$f":"A317+Sheet2!K$6","v":{"v":4.40119760479044,"d":"4.40"}},0.5949650786111131,331.5773029097224,-789.739390285786,-0.8124916853555624,-159.71330506038717,462.9831335808914,5.4928864582236519E-4]
[{"$f":"A318+Sheet2!K$6","v":{"v":4.4151696606786635,"d":"4.42"}},0.6281228089020854,320.5430200115178,-830.0412939268731,-0.8284630158616011,-153.24447884269009,471.5471379674994,5.3405661734151556E-4]
[{"$f":"A319+Sheet2!K$6","v":{"v":4.429141716566887,"d":"4.43"}},0.6601771109032372,308.94563666323813,-868.8850574836486,-0.8437874637458701,-146.65599587707632,479.74294770541786,5.1971764730673583E-4]
[{"$f":"A320+Sheet2!K$6","v":{"v":4.443113772455111,"d":"4.44"}},0.691071674569561,296.80552607963426,-906.2024438086297,-0.8584530633335777,-139.95300059975511,487.56416332174524,5.0618368383592463E-4]
[{"$f":"A321+Sheet2!K$6","v":{"v":4.4570858283433346,"d":"4.46"}},0.7207522271775244,284.1440148886953,-941.9278971573192,-0.8724483633935533,-133.14072686072873,495.0046778345243,0.000493368013313038]
[{"$f":"A322+Sheet2!K$6","v":{"v":4.471057884231558,"d":"4.47"}},{"$f":"SIN(3*t)","v":0.7491666286663939},270.9833456669364,{"$f":"(C324-C323)/dx","v":-975.9986583457363},{"$f":"COS(2*t)","v":-0.8857624360796261},-126.22449383709267,{"$f":"(F324-F323)/dx","v":502.05868152259404},4.8118322075878711E-4]
[{"$f":"A323+Sheet2!K$6","v":{"v":4.485029940119782,"d":"4.49"}},0.7762649632330876,{"$f":"(B325-B324)/0.0001","v":257.34663786569854},-1008.3548749969777,-0.8983848854633354,{"$f":"(E325-E324)/0.0001","v":-119.20970187969115},508.7206664598906,{"$f":"ABS(C324*G324-F324*D324)/(C324^2+F324^2)^(3/2)","v":4.6953868164140253E-4}]
[{"$f":"A324+Sheet2!K$6","v":{"v":4.499001996008006,"d":"4.50"}},0.8019996270196574,243.2578471970781,-1038.9397066892259,-0.9103058556513045,-112.10182829641923,514.9854308189488,4.5833732875596994E-4]
[{"$f":"A325+Sheet2!K$6","v":{"v":4.512974051896229,"d":"4.51"}},0.8263254117393652,228.74172355072164,-1067.6994248089836,-0.9215160384809464,-104.90642307539599,520.8480829299696,4.4747129873319553E-4]
[{"$f":"A326+Sheet2!K$6","v":{"v":4.526946107784453,"d":"4.53"}},0.8491995840944374,213.8237675154664,-1094.5835069339562,-0.932006680788486,-97.62910455142436,526.3040451018129,4.368158281837887E-4]
[{"$f":"A327+Sheet2!K$6","v":{"v":4.540918163672677,"d":"4.54"}},0.870581960845984,198.53018558225742,-1119.544725583636,-0.9417695912436285,-90.2755550190637,531.349057196377,4.2622036054614193E-4]
[{"$f":"A328+Sheet2!K$6","v":{"v":4.5548902195609005,"d":"4.55"}},0.8904349794042098,182.88784410703695,-1142.5392311874884,-0.9507971467455348,-82.85151629576103,535.9791799540666,4.1549508678498376E-4]
[{"$f":"A329+Sheet2!K$6","v":{"v":4.568862275449124,"d":"4.57"}},0.9087237638149135,166.9242221143974,-1163.5266291175963,-0.9590822983751109,-75.36278523851858,540.1907980705176,4.0438975429891359E-4]
[{"$f":"A330+Sheet2!K$6","v":{"v":4.582834331337348,"d":"4.58"}},0.9254161860263532,150.66736302492998,-1182.4700506473782,-0.9666185768989628,-67.81520921757323,543.9806230197203,0.000392558833734051]
[{"$f":"A331+Sheet2!K$6","v":{"v":4.5968063872255716,"d":"4.60"}},0.9404829223288462,134.14582539113428,-1199.3362177175886,-0.9734000978207201,-60.21468155063103,547.3456956199589,3.7950139055522734E-4]
[{"$f":"A332+Sheet2!K$6","v":{"v":4.610778443113795,"d":"4.61"}},0.9538975048679597,117.38863272841348,-1214.0955013991706,-0.9794215659757832,-52.567136901250365,550.2833883474585,3.6445114681699363E-4]
[{"$f":"A333+Sheet2!K$6","v":{"v":4.624750499002019,"d":"4.62"}},0.965636368140801,100.42522252922348,-1226.7219739432305,-0.9846782796659083,-44.87854664489865,552.7914073848615,3.4616094857021156E-4]
[{"$f":"A334+Sheet2!K$6","v":{"v":4.638722554890243,"d":"4.64"}},0.9756788903937234,83.28539454997674,-1237.1934543259786,-0.9891661343303981,-37.15491420638761,554.8677944146533,3.2244177769396622E-4]
[{"$f":"A335+Sheet2!K$6","v":{"v":4.652694610778466,"d":"4.65"}},0.984007429848721,65.99925846158982,-1245.4915472145212,-0.9928816257510369,-29.402270372250737,556.5109281467013,2.8906024157939381E-4]
[{"$f":"A336+Sheet2!K$6","v":{"v":4.66666666666669,"d":"4.67"}},0.99060735569488,48.5971809555985,-1251.6016752839098,-0.995821852788262,-21.626668581777864,557.719525585092,2.3668897231232449E-4]
[{"$f":"A337+Sheet2!K$6","v":{"v":4.680638722554914,"d":"4.68"}},0.9954670737904399,31.10973239873749,-1255.513104824069,-0.9979845196464397,-13.834180200349433,558.4926430301232,1.4093017605413538E-4]
[{"$f":"A338+Sheet2!K$6","v":{"v":4.6946107784431375,"d":"4.69"}},0.9985780470303136,13.567633129738521,-1257.2189645961164,-0.9993679376664747,-6.030889778770865,558.8296768136307,4.6732998247881511E-5]
[{"$f":"A339+Sheet2!K$6","v":{"v":4.708582834331361,"d":"4.71"}},0.9999348103432875,-3.9983005073329636,-1256.7162579025323,-0.9999710266443518,1.7771096976670897,558.7303637724114,0.007750747071515284]
[{"$f":"A340+Sheet2!K$6","v":{"v":4.722554890219585,"d":"4.72"}},0.9995349802925542,-21.55721029838631,-1254.0058678517985,-0.9997933156745851,9.583721566742698,558.1947814521978,1.1484429126914833E-3]
[{"$f":"A341+Sheet2!K$6","v":{"v":4.7365269461078086,"d":"4.74"}},0.9973792592627155,-39.078250368171915,-1249.0925558084466,-0.9988349435179108,17.382850249707538,557.223348047825,7.9915957445700814E-4]
[{"$f":"A342+Sheet2!K$6","v":{"v":4.750499001996032,"d":"4.75"}},0.9934714342258983,-56.530641367491526,-1241.9849530252566,-0.99709665849294,25.168406010854792,555.8168220762514,6.8326771028112763E-4]
[{"$f":"A343+Sheet2!K$6","v":{"v":4.764471057884256,"d":"4.76"}},0.9878183700891492,-73.88372454349312,-1232.6955454845497,-0.9945798178918546,32.93430971251898,553.9763017851358,6.2695538800348319E-4]
[{"$f":"A344+Sheet2!K$6","v":{"v":4.77844311377248,"d":"4.78"}},0.9804299976347999,-91.10701559816746,-1221.2406519625476,-0.9912863869206027,40.674497561812295,551.7032242935542,5.9470269397856029E-4]
[{"$f":"A345+Sheet2!K$6","v":{"v":4.792415169660703,"d":"4.79"}},0.9713192960749831,-108.17025824035875,-1207.6403953601946,-0.9872189371644214,48.38292584535497,548.9993644724076,5.7468657010323809E-4]
[{"$f":"A346+Sheet2!K$6","v":{"v":4.806387225548927,"d":"4.81"}},0.9605022702509473,-125.04347733720778,-1191.9186673551894,-0.9823806445798859,56.05357564836266,545.8668335560869,5.6186724729003368E-4]
[{"$f":"A347+Sheet2!K$6","v":{"v":4.820359281437151,"d":"4.82"}},0.9479979225172265,-141.69703157171142,-1174.1030864312422,-0.9767752870150497,63.68045755433593,542.3080774955062,5.5374327152242411E-4]
[{"$f":"A348+Sheet2!K$6","v":{"v":4.8343313373253745,"d":"4.83"}},0.9338282193600553,-158.1016655138645,-1154.2249493607508,-0.9704072412596161,71.25761632173821,538.3258750477951,5.4893873554978808E-4]
[{"$f":"A349+Sheet2!K$6","v":{"v":4.848303393213598,"d":"4.85"}},0.9180180528086689,-174.2285610139149,-1132.319176223568,-0.9632814796274423,78.77913553398285,533.9233356064798,5.4663987821768067E-4]
[{"$f":"A350+Sheet2!K$6","v":{"v":4.862275449101822,"d":"4.86"}},0.9005951967072774,-190.04938782741786,-1108.424249062244,-0.955403566074044,86.23914221910333,529.1038967736541,5.4633988192187653E-4]
[{"$f":"A351+Sheet2!K$6","v":{"v":4.876247504990046,"d":"4.88"}},0.8815902579245356,-205.53635338317775,-1082.5821442848905,-0.9467796518521336,93.63181143550169,523.8713216758914,0.000547711753473917]
[{"$f":"A352+Sheet2!K$6","v":{"v":4.890219560878269,"d":"4.89"}},0.8610366225862178,-220.66225160671914,-1054.8382589220857,-0.9374164707085835,100.95137082019478,518.2296960262795,5.5054017287189385E-4]
[{"$f":"A353+Sheet2!K$6","v":{"v":4.904191616766493,"d":"4.90"}},0.8389703974255459,-235.40051071341495,-1025.2413308747746,-0.927321333626564,108.19210509601106,512.1834249329864,5.5468276410965535E-4]
[{"$f":"A354+Sheet2!K$6","v":{"v":4.918163672654717,"d":"4.92"}},0.8154303463542044,-249.725239887314,-993.8433532983945,-0.9165021231169629,115.3483605341965,505.7372294612428,5.600470359684662E-4]
[{"$f":"A355+Sheet2!K$6","v":{"v":4.93213572854294,"d":"4.93"}},0.790457822365473,-263.61127476373866,-960.6994832684139,-0.9049672870635432,122.41454936898432,498.8961429459195,5.6657613496388572E-4]
[{"$f":"A356+Sheet2!K$6","v":{"v":4.946107784431164,"d":"4.95"}},0.7640966948890991,-277.03422163575243,-925.8679448849622,-0.8927258321266448,129.38515416064388,491.66550706173945,5.7423979025495321E-4]
[{"$f":"A357+Sheet2!K$6","v":{"v":4.960079840319388,"d":"4.96"}},0.7363932727255239,-289.9705003067998,-889.4099269844285,-0.8797873167105804,136.25473210362227,484.05096765231957,0.00058302844590705]
[{"$f":"A358+Sheet2!K$6","v":{"v":4.9740518962076115,"d":"4.97"}},0.7073962226948439,-302.39738551416707,-851.3894756520032,-0.8661618435002182,143.01791927640917,476.0584703221301,5.9294942495816117E-4]
[{"$f":"A359+Sheet2!K$6","v":{"v":4.988023952095835,"d":"4.99"}},0.6771564841434272,-314.2930468506222,-811.8733817162806,-0.8518600515725773,149.6694348298122,467.694255793309,6.0402443641118344E-4]
[{"$f":"A360+Sheet2!K$6","v":{"v":5.001996007984059,"d":"5.00"}},0.645727179458365,-325.63658711412313,-770.9310634128892,-0.836893108089596,156.20408511035743,458.9648550333046,6.1628800295867865E-4]
[{"$f":"A361+Sheet2!K$6","v":{"v":5.015968063872283,"d":"5.02"}},0.6131635207469527,-336.40807901809563,-728.6344444334618,-0.8212726995785603,162.61676771561318,449.87708415537185,6.2978654503062525E-4]
[{"$f":"A362+Sheet2!K$6","v":{"v":5.029940119760506,"d":"5.03"}},0.5795227128451431,-346.5886001978047,-685.0578275796777,-0.805011022806999,168.90247547826309,440.4380390962461,6.4457795344630055E-4]
[{"$f":"A363+Sheet2!K$6","v":{"v":5.04391217564873,"d":"5.04"}},0.5448638528253626,-356.16026645141295,-640.2777642395943,-0.7881207752591727,175.05630037581543,430.6550900748878,6.6073154403563242E-4]
[{"$f":"A364+Sheet2!K$6","v":{"v":5.057884231536954,"d":"5.06"}},0.5092478261802214,-365.1062631573554,-594.3729199063466,-0.7706151452215911,181.0734373628897,420.53587583926,6.7832832749097018E-4]
[{"$f":"A365+Sheet2!K$6","v":{"v":5.071856287425177,"d":"5.07"}},0.4727371998644858,-373.4108748127335,-547.4239359791596,-0.7525078014853022,186.9491881231189,410.08829769996095,6.9746155463384484E-4]
[{"$f":"A366+Sheet2!K$6","v":{"v":5.085828343313401,"d":"5.09"}},0.43539611238321246,-381.0595126407856,-499.51328810621726,-0.7338128826729903,192.6789647376892,399.3205133617356,7.1823751643081374E-4]
[{"$f":"A367+Sheet2!K$6","v":{"v":5.099800399201625,"d":"5.10"}},0.3972901611191339,-388.038740219116,-450.72514130235993,-0.7145449861992214,198.2582932676935,388.2409305538666,7.4077659234524041E-4]
[{"$f":"A368+Sheet2!K$6","v":{"v":5.1137724550898485,"d":"5.11"}},0.3584862870972223,-394.33629708362,-401.1452020920309,-0.694719156872452,203.68281724748803,376.8582004644337,7.6521455186583131E-4]
[{"$f":"A369+Sheet2!K$6","v":{"v":5.127744510978072,"d":"5.13"}},0.3190526573888603,-399.9411202665426,-350.86056794319535,-0.6743508751477032,208.94830108631245,365.18121098629155,7.917041236142078E-4]
[{"$f":"A370+Sheet2!K$6","v":{"v":5.141716566866296,"d":"5.14"}},0.27905854536220603,-404.8433637308188,-299.95957426631975,-0.653456045039072,214.05063337554208,353.2190797758941,8.2041685513880149E-4]
[{"$f":"A371+Sheet2!K$6","v":{"v":5.15568862275452,"d":"5.16"}},0.23857420898912415,-409.03441566667556,-248.53163924079482,-0.6320509817015177,218.98583009895776,340.98114713603667,8.5154529512028226E-4]
[{"$f":"A372+Sheet2!K$6","v":{"v":5.169660678642743,"d":"5.17"}},0.1976707674224566,-412.50691362013976,-196.6671067279095,-0.610152398691622,223.75003774357305,328.4769687199719,8.8530553847647692E-4]
[{"$f":"A373+Sheet2!K$6","v":{"v":5.183632734530967,"d":"5.18"}},0.15642007606044261,-415.25475742671733,-144.45708755840712,-0.5877773949172647,228.33953630852275,315.71630807297043,9.2194018437319824E-4]
[{"$f":"A374+Sheet2!K$6","v":{"v":5.197604790419191,"d":"5.20"}},0.11489460031777088,-417.2731199275334,-91.9932994818956,-0.5649434412864124,232.7507422097419,302.70912900664933,9.6172176761304866E-4]
[{"$f":"A375+Sheet2!K$6","v":{"v":5.211576846307414,"d":"5.21"}},0.07316728832501754,-418.55845544923653,-39.36790605101725,-0.5416683670654382,236.98021107809828,289.46558781993315,1.0049567359276008E-3]
[{"$f":"A376+Sheet2!K$6","v":{"v":5.225548902195638,"d":"5.23"}},0.03131144278009388,-419.1085060327837,13.326645288225102,-0.5179703459576284,241.02464044883587,275.99602536891643,1.0519900593451645E-3]
[{"$f":"A377+Sheet2!K$6","v":{"v":5.239520958083862,"d":"5.24"}},-0.010599407823184488,-418.92230540001407,65.9977856046387,-0.4938678819127448,244.88087234021793,262.3109589918735,1.1032105735786426E-3]
[{"$f":"A378+Sheet2!K$6","v":{"v":5.2534930139720855,"d":"5.25"}},-0.05249163836318589,-418.00018065104706,118.5529870933768,-0.469379794678723,248.5458957193459,248.42107429750246,1.1590571776762153E-3]
[{"$f":"A379+Sheet2!K$6","v":{"v":5.267465069860309,"d":"5.27"}},-0.0942916564282906,-416.34375168966255,170.89992561509035,-0.4445252051067884,252.01684885324315,234.33721682122987,1.2200260273617283E-3]
[{"$f":"A380+Sheet2!K$6","v":{"v":5.281437125748533,"d":"5.28"}},-0.13592603159725686,-413.95592837767526,222.94664288781607,-0.4193235202214641,255.29102154336013,220.0703835569586,1.2866788898916472E-3]
[{"$f":"A381+Sheet2!K$6","v":{"v":5.295409181636757,"d":"5.30"}},-0.1773216244350244,-410.8409054231549,274.60170803553024,-0.39379441806712806,258.36585724176075,205.6317143700579,1.359652854137328E-3]
[{"$f":"A382+Sheet2!K$6","v":{"v":5.30938123752498,"d":"5.31"}},-0.21840571497733988,-407.0041550114808,325.7743782005388,-0.367957832342952,261.2389550473304,191.03248329933172,1.4396716212857993E-3]
[{"$f":"A383+Sheet2!K$6","v":{"v":5.323353293413204,"d":"5.32"}},-0.25910613047848796,-402.4524171923116,376.3747579473603,-0.34183393683821894,263.9080715804548,176.284089753863,1.5275586369773901E-3]
[{"$f":"A384+Sheet2!K$6","v":{"v":5.337325349301428,"d":"5.34"}},-0.2993513721977191,-397.19368803935447,426.3139571874446,-0.31544312968017346,266.3711227347004,161.39804961230826,1.6242523644018955E-3]
[{"$f":"A385+Sheet2!K$6","v":{"v":5.351297405189651,"d":"5.35"}},-0.3390707410016546,-391.23720560360175,475.50424733726095,-0.2888060174067034,268.62618530413386,146.38598623076408,0.001730824038763013]
[{"$f":"A386+Sheet2!K$6","v":{"v":5.365269461077875,"d":"5.37"}},{"$f":"SIN(3*t)","v":-0.37819446156201475},-384.59343368471787,{"$f":"(C388-C387)/dx","v":523.8592154345316},{"$f":"COS(2*t)","v":-0.26194339887629003},270.6714984850028,{"$f":"(F388-F387)/dx","v":131.25962136707545},1.8484982846108898E-3]
[{"$f":"A387+Sheet2!K$6","v":{"v":5.379241516966099,"d":"5.38"}},-0.41665380493048654,{"$f":"(B389-B388)/0.0001","v":-377.27404344910565},571.2939159113428,-0.23487624902778975,{"$f":"(E389-E388)/0.0001","v":272.50546525061065},116.03076602845533,{"$f":"ABS(C388*G388-F388*D388)/(C388^2+F388^2)^(3/2)","v":1.9786770148910652E-3}]
[{"$f":"A388+Sheet2!K$6","v":{"v":5.3932135728543225,"d":"5.39"}},-0.4543812092753971,-369.2918929273903,617.7250198651144,-0.2076257025027287,274.1266535983136,100.71131124881528,0.002122967058398991]
[{"$f":"A389+Sheet2!K$6","v":{"v":5.407185628742546,"d":"5.41"}},-0.49131039856813613,-360.6610044262809,663.0709614069982,-0.18021303714289733,275.53379766765835,85.31321880421191,2.2832119689935957E-3]
[{"$f":"A390+Sheet2!K$6","v":{"v":5.42115768463077,"d":"5.42"}},-0.5273764990107642,-351.3965398956442,707.2520809619775,-0.1526596573761315,276.72579872879504,69.84851187280115,0.002461528441751636]
[{"$f":"A391+Sheet2!K$6","v":{"v":5.435129740518994,"d":"5.44"}},-0.5625161530003286,-341.51477429338104,750.1907652173004,-0.12498707750325198,277.70172604039107,54.3292656467815,2.6603476709409954E-3]
[{"$f":"A392+Sheet2!K$6","v":{"v":5.449101796407217,"d":"5.45"}},-0.5966676304296668,-331.0330669949357,791.8115834354802,-0.09721690489921288,278.46081757637404,38.767597903910065,0.002882461796373767]
[{"$f":"A393+Sheet2!K$6","v":{"v":5.463073852295441,"d":"5.46"}},-0.6297709371291603,-319.9698312982324,832.0414200036877,-0.06937082314157547,279.00248062093965,23.17565954556438,0.003131075242595729]
[{"$f":"A394+Sheet2!K$6","v":{"v":5.477045908183665,"d":"5.48"}},-0.6617679202589836,-308.344502076624,870.8096028557877,-0.04147057507948151,279.3262922313567,7.565625109169519,0.003409860176029526]
[{"$f":"A395+Sheet2!K$6","v":{"v":5.491017964071888,"d":"5.49"}},-0.692602370466646,-296.1775016375212,908.0480276086097,-0.013537945856345834,279.4319995682114,-8.050316738077138,3.7230143735716833E-3]
[{"$f":"A396+Sheet2!K$6","v":{"v":5.504990019960112,"d":"5.50"}},-0.7222201206303981,-283.4902038465825,943.69127723508,0.014405254100475308,279.31952009282907,-23.659972716315135,4.0753183451097364E-3]
[{"$f":"A397+Sheet2!K$6","v":{"v":5.518962075848336,"d":"5.52"}},-0.7505691410150563,-270.3048965798249,977.6767369559026,0.04233720610975822,278.98894163172287,-39.251154453824284,0.004472186356275863]
[{"$f":"A398+Sheet2!K$6","v":{"v":5.5329341317365595,"d":"5.53"}},-0.7775996306730388,-256.644742570461,1009.9447042446149,0.07023610027293051,278.44052230801674,-54.81168800401591,0.004919702762517911]
[{"$f":"A399+Sheet2!K$6","v":{"v":5.546906187624783,"d":"5.55"}},-0.8032641049300849,-242.53373871873984,1040.4384937141979,0.09808015250373218,277.67469033989676,-70.32942335109783,0.005424630423733019]
[{"$f":"A400+Sheet2!K$6","v":{"v":5.560878243513007,"d":"5.56"}},-0.8275174788019589,-227.99667393630594,1069.1045366761073,0.12584762153772186,276.6920437062487,-85.79224389701665,0.005994371516562583]
[{"$f":"A401+Sheet2!K$6","v":{"v":5.574850299401231,"d":"5.57"}},-0.8503171461955895,-213.05908559951402,1095.8924752709452,0.15351682590834673,275.49334967974346,-101.18807592250495,0.006636852439046138]
[{"$f":"A402+Sheet2!K$6","v":{"v":5.588822355289454,"d":"5.59"}},-0.8716230547555409,-197.74721468754473,1120.7552509192196,0.18106616087632108,274.0795442277324,-116.50489801444246,0.007360293585848515]
[{"$f":"A403+Sheet2!K$6","v":{"v":5.602794411177678,"d":"5.60"}},-0.8913977762242954,-182.08795968468138,1143.6491869798137,0.20847411529909432,272.45173128142284,-131.7307504524358,0.008172812054609456]
[{"$f":"A404+Sheet2!K$6","v":{"v":5.616766467065902,"d":"5.62"}},-0.9096065721927635,-166.108829327678,1164.5340654997408,0.2357192884272366,270.6111818739038,-146.85374454715986,0.009081792572978479]
[{"$f":"A405+Sheet2!K$6","v":{"v":5.630738522954125,"d":"5.63"}},-0.9262174551255313,-149.83789428077543,1183.3731978467788,0.262780406614627,268.55933314769595,-161.86207192361326,0.010092953114170427]
[{"$f":"A406+Sheet2!K$6","v":{"v":5.644710578842349,"d":"5.64"}},-0.9412012445536089,-133.3037378238344,1200.133489168076,0.2896363399293966,266.29778723259557,-176.74401374091153,0.011209034340320301]
[{"$f":"A407+Sheet2!K$6","v":{"v":5.658682634730573,"d":"5.66"}},-0.9545316183359923,-116.53540563984932,1214.7854965305241,0.31626611865265614,263.8283099946986,-191.48794984314597,0.012428068427217703]
[{"$f":"A408+Sheet2!K$6","v":{"v":5.6726546906187965,"d":"5.67"}},-0.9661851588999772,-99.56235479012143,1227.303480633152,0.342648949652126,261.1528296575688,-206.08236783196705,0.01374124989200215]
[{"$f":"A409+Sheet2!K$6","v":{"v":5.68662674650702,"d":"5.69"}},-0.9761413943789894,-82.41440196690374,1237.6654510369344,0.3687642326178829,258.27343529664313,-220.5158720567448,0.015130556852726653]
[{"$f":"A410+Sheet2!K$6","v":{"v":5.700598802395244,"d":"5.70"}},-0.9843828345756798,-65.12167111409228,1245.8532047876483,0.3945915761475472,255.19237520802594,-234.77719251128912,0.016566464946479828]
[{"$f":"A411+Sheet2!K$6","v":{"v":5.714570858283468,"d":"5.71"}},-0.990895001687089,-47.71454050827683,1251.852358391298,0.4201108136683498,251.91205515297798,-248.85519363491056,0.018006339576980977]
[{"$f":"A412+Sheet2!K$6","v":{"v":5.728542914171691,"d":"5.73"}},-0.9956664557379167,-30.223589393029158,1255.652373089396,0.4453020191836476,248.43503647943632,-262.73888300640783,0.019394315183466845]
[{"$f":"A413+Sheet2!K$6","v":{"v":5.742514970059915,"d":"5.74"}},-0.9986888146772196,-12.679544260043585,1257.2465733652523,0.4701455228315912,244.76403412206136,-276.4174199280427,0.020663537472432856]
[{"$f":"A414+Sheet2!K$6","v":{"v":5.756487025948139,"d":"5.76"}},-0.999956769103224,4.886775128293275,1256.6321586753259,0.49462192624379736,240.9019144823482,-289.8801238890547,0.021741382911681633]
[{"$f":"A415+Sheet2!K$6","v":{"v":5.770459081836362,"d":"5.77"}},-0.9994680915903946,22.444509880243935,1253.8102083658277,0.5187121176920322,236.85169319048515,-303.1164829065999,0.022557564917745753]
[{"$f":"A416+Sheet2!K$6","v":{"v":5.784431137724586,"d":"5.78"}},-0.9972236406023702,39.9628161847565,1248.7856797799793,0.5423972870110807,232.61653275067238,-316.1161617329102,0.023053979557493283]
[{"$f":"A417+Sheet2!K$6","v":{"v":5.79840319361281,"d":"5.80"}},-0.9932273589838946,57.41091949505561,1241.5673995468626,0.5656589402861479,228.19974007176944,-328.8690099249388,0.02319412463920171]
[{"$f":"A418+Sheet2!K$6","v":{"v":5.8123752495010335,"d":"5.81"}},-0.987486267034389,74.75816859052075,1232.1680480744365,0.5884789142933249,223.60476388519345,-341.3650697713029,0.02296951912561078]
[{"$f":"A419+Sheet2!K$6","v":{"v":5.826347305389257,"d":"5.83"}},-0.980010450175337,91.9740894219001,1220.6041372802451,0.6108393906818442,218.83519205206147,-353.59458406647275,0.022401162716205666]
[{"$f":"A420+Sheet2!K$6","v":{"v":5.840319361277481,"d":"5.84"}},-0.9708130412331469,109.02843864537658,1206.895981575637,0.6327229098870504,213.89474876171155,-365.548003729352,0.021535584038429124]
[{"$f":"A421+Sheet2!K$6","v":{"v":5.854291417165705,"d":"5.85"}},-0.9599101973686093,125.8912567512238,1191.0676621865982,0.6541123847632215,208.7872916237765,-377.2159952602871,0.02043674773035429]
[{"$f":"A422+Sheet2!K$6","v":{"v":5.868263473053928,"d":"5.87"}},-0.9473210716934869,142.53292069395073,1173.1469848471368,0.6749911139255992,203.5168086560679,-388.5894480281496,0.01917620423223189]
[{"$f":"A423+Sheet2!K$6","v":{"v":5.882235528942152,"d":"5.88"}},-0.9330677796240918,158.92419593133587,1153.1654309487878,0.695342794791206,198.08741517064465,-399.65948138416,0.017823947013326537]
[{"$f":"A424+Sheet2!K$6","v":{"v":5.896207584830376,"d":"5.90"}},-0.9171753600309582,175.03628778091974,1131.158102250497,0.7151515363082704,192.50335056048672,-410.4174515966987,0.016441667112211178]
[{"$f":"A425+Sheet2!K$6","v":{"v":5.910179640718599,"d":"5.91"}},-0.8996717312528663,190.84089200398057,1107.1636591974632,0.7344018713643191,186.76897498927536,-420.85495859948196,0.015079004682238939]
[{"$f":"A426+Sheet2!K$6","v":{"v":5.924151696606823,"d":"5.92"}},-0.8805876420524682,206.31024452769762,1081.2242530128829,0.7530787688632467,180.8887659868874,-430.9638525515395,0.01377249759774474]
[{"$f":"A427+Sheet2!K$6","v":{"v":5.938123752495047,"d":"5.94"}},-0.8599566175996984,221.41717021849638,1053.385451663645,0.7711676454619354,174.86731495323315,-440.73624020058054,0.012546452308983484]
[{"$f":"A428+Sheet2!K$6","v":{"v":5.9520958083832705,"d":"5.95"}},-0.8378149005778488,236.13513062098244,1023.696159786513,0.7886543769572587,168.70932357318512,-450.1644910453415,0.011414882565111419]
[{"$f":"A429+Sheet2!K$6","v":{"v":5.966067864271494,"d":"5.97"}},-0.8142013875157506,250.43827057807943,992.2085327956987,0.8055253093145772,162.4196001454059,-459.2412432950509,0.010383820408444197]
[{"$f":"A430+Sheet2!K$6","v":{"v":5.980039920159718,"d":"5.98"}},-0.7891575604579426,264.3014636510732,958.9778852556774,0.8217672693291178,156.00305582791017,-467.959409616694,0.009453542836919944]
[{"$f":"A431+Sheet2!K$6","v":{"v":5.994011976047942,"d":"5.99"}},-0.7627274140928353,277.700356259436,924.0625936999689,0.8373675749119088,149.46470080332563,-476.31218266903073,0.008620475996127586]
[{"$f":"A432+Sheet2!K$6","v":{"v":6.007984031936165,"d":"6.01"}},-0.7349573784668917,290.61141046282876,887.5239941067983,0.8523140449922414,142.80964036683218,-484.2930404183997,0.007878695848939184]
[{"$f":"A433+Sheet2!K$6","v":{"v":6.021956087824389,"d":"6.02"}},-0.7058962374206088,303.01194531062833,849.4262741169482,0.8665950090289246,136.0430709398286,-491.89575123109694,0.007221037834486354]
[{"$f":"A434+Sheet2!K$6","v":{"v":6.035928143712613,"d":"6.04"}},-0.675595042889546,314.88017668551583,809.8363602898097,0.8801993161229075,129.170276012448,-499.11437873878896,0.006639872777961268]
[{"$f":"A435+Sheet2!K$6","v":{"v":6.049900199600836,"d":"6.05"}},-0.6441070252209944,326.1952555718006,768.8238005504084,0.8931163437241523,122.19662201809366,-505.9432864740897,0.00612761986494237]
[{"$f":"A436+Sheet2!K$6","v":{"v":6.06387225548906,"d":"6.06"}},-0.6114874996638143,336.93730468128734,726.4606419781337,0.9053360059259616,115.12755414320618,-512.3771422719984,0.005677064167907677]
[{"$f":"A437+Sheet2!K$6","v":{"v":6.077844311377284,"d":"6.08"}},-0.5777937691956856,347.0874533716006,682.8213042694539,0.9168487613402823,107.96859207553355,-518.4109224323606,5.281535581057979E-3]
[{"$f":"A438+Sheet2!K$6","v":{"v":6.0918163672655075,"d":"6.09"}},-0.5430850238585255,356.6278707965231,637.9824489952882,0.9276456205478356,100.72532569424308,-524.0399156436082,0.004934993605998687]
[{"$f":"A439+Sheet2!K$6","v":{"v":6.105788423153731,"d":"6.11"}},-0.5074222367788732,365.541797229591,592.0228449170208,0.9377181531172599,93.40341070521063,-529.2597266608981,0.004632050966715665]
[{"$f":"A440+Sheet2!K$6","v":{"v":6.119760479041955,"d":"6.12"}},-0.4708680570559141,373.8135735058767,545.0232296469302,0.947058494187781,86.00856422491864,-534.0662797376788,4.3679595662086375E-3]
[{"$f":"A441+Sheet2!K$6","v":{"v":6.133732534930179,"d":"6.13"}},-0.43348669970532644,381.4286685308837,497.06616777313235,0.9556593506102729,78.54656031640816,-538.4558218091914,0.004138574992061771]
[{"$f":"A442+Sheet2!K$6","v":{"v":6.147704590818402,"d":"6.15"}},-0.39534383285223806,388.37370480715504,448.23590583704635,0.9635140066419137,71.0232254807508,-542.4249254215287,3.9403103974557435E-3]
[{"$f":"A443+Sheet2!K$6","v":{"v":6.161676646706626,"d":"6.16"}},-0.35650646237152256,394.63648193461876,398.61822435874393,0.9706163291899887,63.444434107595704,-545.970491409287,3.7700867561538294E-3]
[{"$f":"A444+Sheet2!K$6","v":{"v":6.17564870259485,"d":"6.18"}},-0.3170428141780607,400.20599804342356,348.3002871012183,0.9769607726007483,55.81610388830427,-549.0897513144973,0.003625283845811019]
[{"$f":"A445+Sheet2!K$6","v":{"v":6.189620758483073,"d":"6.19"}},-0.2770222143737183,405.0724691206861,297.3704879836345,0.9825423829895787,48.14419119528734,-551.7802695483384,0.003503694536006446]
[{"$f":"A446+Sheet2!K$6","v":{"v":6.203592814371297,"d":"6.20"}},-0.2365149674616497,409.22734619830175,245.91829578819963,0.9873568021091075,40.4346864311389,-554.0399452937374,0.003403483794207902]
[{"$f":"A447+Sheet2!K$6","v":{"v":6.217564870259521,"d":"6.22"}},-0.19559223284181954,412.66333037099116,194.0340969765416,0.9914002707522214,32.69360935118648,-555.8670141449469,3.3231530877744424E-3]
[{"$f":"A448+Sheet2!K$6","v":{"v":6.2315369261477445,"d":"6.23"}},-0.15432589980472042,415.3743856181684,141.80903694461261,0.99466963168734,24.92700436313333,-557.2600494849927,3.2615104159568046E-3]
[{"$f":"A449+Sheet2!K$6","v":{"v":6.245508982035968,"d":"6.25"}},-0.11278846124290358,417.3557494078137,89.33485985971073,0.9971623321236533,17.14093580745479,-558.2179636006576,0.003217645956641812]
[{"$f":"A450+Sheet2!K$6","v":{"v":6.259481037924192,"d":"6.26"}},{"$f":"SIN(3*t)","v":-0.07105288630212221},418.6039410625402,{"$f":"(C452-C451)/dx","v":36.70374751462929},{"$f":"COS(2*t)","v":0.9988764257043988},9.341483222216063,{"$f":"(F452-F451)/dx","v":-558.7400085311988},3.1909131920269183E-3]
[{"$f":"A451+Sheet2!K$6","v":{"v":6.273453093812416,"d":"6.27"}},-0.02919249219586819,{"$f":"(B453-B452)/0.0001","v":419.1167678741218},-15.991842585410033,0.9998105740266204,{"$f":"(E453-E452)/0.0001","v":1.5347365960316495},-558.8257766517416,{"$f":"ABS(C452*G452-F452*D452)/(C452^2+F452^2)^(3/2)","v":3.1809153394508224E-3}]
[{"$f":"A452+Sheet2!K$6","v":{"v":6.287425149700639,"d":"6.29"}},0.012719184591543998,418.8933289557628,-68.65933969207126,0.9999640476862236,-6.273208387126417,-558.4752009927921,0.003187496928082867]
[{"$f":"A453+Sheet2!K$6","v":{"v":6.301397205588863,"d":"6.30"}},0.05460851748712028,417.93401682433665,-121.20622239544399,0.999336726847511,-14.07625510758459,-557.6885552918053,0.003210740407997227]
[{"$f":"A454+Sheet2!K$6","v":{"v":6.315369261477087,"d":"6.32"}},0.09640191916955394,416.24051671102706,-173.54018117000143,0.9979291013367525,-21.868310770344344,-556.4664537794378,3.2509677409387435E-3]
[{"$f":"A455+Sheet2!K$6","v":{"v":6.32934131736531,"d":"6.33"}},0.13802597084065665,413.81580360086735,-225.56928054780258,0.9957422702597181,-29.643291162472217,-554.8098506999245,3.3087469911465806E-3]
[{"$f":"A456+Sheet2!K$6","v":{"v":6.343313373253534,"d":"6.34"}},0.1794075512007434,410.6641370063871,-277.20212058477125,0.9927779411434708,-37.395125403788526,-552.7200395669362,3.3849040003187158E-3]
[{"$f":"A457+Sheet2!K$6","v":{"v":6.357285429141758,"d":"6.36"}},0.2204739649013821,406.79105348524257,-328.34799747149987,0.989038428603092,-45.11776068715889,-550.1986521513303,0.003480539283259262]
[{"$f":"A458+Sheet2!K$6","v":{"v":6.3712574850299815,"d":"6.37"}},0.26115307024990636,402.2033569137845,-378.9170628499796,0.9845266525343761,-52.80516700464255,-547.2476572101114,3.5970503069914146E-3]
[{"$f":"A459+Sheet2!K$6","v":{"v":6.385229540918205,"d":"6.39"}},0.3013734059412848,396.90910653464306,-428.8204816299133,0.9792461358339118,-60.45134185588163,-543.8693589462483,0.003736159297916199]
[{"$f":"A460+Sheet2!K$6","v":{"v":6.399201596806429,"d":"6.40"}},0.3410643165947491,390.91760279929497,-477.9705880918691,0.9732010016483237,-68.05031493497093,-540.0663952112847,3.8999466327064468E-3]
[{"$f":"A461+Sheet2!K$6","v":{"v":6.413173652694653,"d":"6.41"}},0.3801560768746786,384.2393710295483,-526.2810398538381,0.9663959701548266,-75.59615279221443,-535.8417354455711,4.0908896688270175E-3]
[{"$f":"A462+Sheet2!K$6","v":{"v":6.427145708582876,"d":"6.43"}},0.41858001397763345,376.88614292779806,-573.6669695624375,0.9588363548756051,-83.08296346710264,-531.1986783581822,0.004311906502822391]
[{"$f":"A463+Sheet2!K$6","v":{"v":6.4411177644711,"d":"6.44"}},0.45626862827041326,368.87083596784385,-620.0451339900143,0.9505280585288949,-90.50490108887365,-526.140849353365,0.004566403523908007]
[{"$f":"A464+Sheet2!K$6","v":{"v":6.455089820359324,"d":"6.46"}},0.49315571186719764,360.2075307025143,-665.3340602362655,0.9414775684200075,-97.85617044111628,-520.6721976980081,0.004858324637235205]
[{"$f":"A465+Sheet2!K$6","v":{"v":6.469061876247547,"d":"6.47"}},0.5291764649374491,350.9114460285545,-709.4541888942927,0.9316919513758959,-105.13103148679703,-514.7969934388356,0.005192198499063914]
[{"$f":"A466+Sheet2!K$6","v":{"v":6.483033932135771,"d":"6.48"}},0.5642676095403045,340.99891245118914,-752.3280137925011,0.9211788482272162,-112.32380385021389,-508.51982406760783,0.005573177808422263]
[{"$f":"A467+Sheet2!K$6","v":{"v":6.497005988023995,"d":"6.50"}},0.5983675007854234,330.4873433962041,-793.8802181319078,0.9099464678421948,-119.42887125235612,-501.84559094041197,0.006007061346977275]
[{"$f":"A468+Sheet2!K$6","v":{"v":6.5109780439122185,"d":"6.51"}},0.6314162351250439,319.39520461991,-834.037806836265,0.8980035807169592,-126.44068589623413,-494.7795054485486,0.006500284698645682]
[{"$f":"A469+Sheet2!K$6","v":{"v":6.524950099800442,"d":"6.52"}},0.6633557555870349,307.7419817699023,-872.7302347508007,0.8853595121273358,-133.35377279870886,-487.3270849514356,0.00705985903722251]
[{"$f":"A470+Sheet2!K$6","v":{"v":6.538922155688666,"d":"6.54"}},0.6941299537640251,295.54814615462163,-909.8895305804006,0.8720241348474649,-140.16273406549539,-479.4941484670146,0.007693228742543016]
[{"$f":"A471+Sheet2!K$6","v":{"v":6.55289421157689,"d":"6.55"}},0.7236847683794873,282.8351187812428,-945.4504163044681,0.8580078614409153,-146.86225310595268,-471.2868121292287,0.008408007871422122]
[{"$f":"A472+Sheet2!K$6","v":{"v":6.566866267465113,"d":"6.57"}},0.7519682802576115,269.62523272509253,-979.3504218239035,0.8433216361303201,-153.44709878440497,-462.7114844108082,0.009211543325337758]
[{"$f":"A473+Sheet2!K$6","v":{"v":6.580838323353337,"d":"6.58"}},0.7789308035301208,255.94169389721364,-1011.5299947376678,0.8279769262518796,-159.91212950471567,-453.7748611219528,0.01011024092298219]
[{"$f":"A474+Sheet2!K$6","v":{"v":6.594810379241561,"d":"6.59"}},0.8045249729198422,241.80854027812447,-1041.9326049401325,0.811985713301408,-166.25229722498247,-444.4839201793907,0.011108583840171094]
[{"$f":"A475+Sheet2!K$6","v":{"v":6.608782435129784,"d":"6.61"}},0.8287058269476546,227.25059969013859,-1070.504843917841,0.7953604835789098,-172.4626513991456,-434.84591615985755,0.012207778946414428]
[{"$f":"A476+Sheet2!K$6","v":{"v":6.622754491018008,"d":"6.62"}},0.8514308869166685,212.29344618230448,-1097.1965185988354,0.7781142184389952,-178.53834284249692,-424.86837463385115,0.013403997965654694]
[{"$f":"A477+Sheet2!K$6","v":{"v":6.636726546906232,"d":"6.64"}},0.8726602315348989,196.96335510407724,-1121.9607395066382,0.7602603841547455,-184.4746275180198,-414.5590862916306,0.014686253844047226]
[{"$f":"A478+Sheet2!K$6","v":{"v":6.6506986027944555,"d":"6.65"}},0.8923565670453066,181.28725694729786,-1144.7540031381309,0.7418129214029435,-190.26687024065734,-403.9261008579031,0.016034085087719765]
[{"$f":"A479+Sheet2!K$6","v":{"v":6.664670658682679,"d":"6.66"}},0.9104852927400364,165.29269003718426,-1165.5362683912633,0.7227862343788778,-195.9105482965562,-392.9777208077017,0.017415418389446498]
[{"$f":"A480+Sheet2!K$6","v":{"v":6.678642714570903,"d":"6.68"}},0.9270145617437549,149.00775215547,-1184.2710268908152,0.7031951795492222,-201.4012549745081,-381.7224948832466,0.018785219033154082]
[{"$f":"A481+Sheet2!K$6","v":{"v":6.692614770459127,"d":"6.69"}},0.9419153369593019,132.46105118094763,-1200.925367142358,0.6830550540517714,-206.73470300680896,-370.1692114190995,0.020085742733493072]
[{"$f":"A482+Sheet2!K$6","v":{"v":6.70658682634735,"d":"6.71"}},0.9551614420773966,115.68165483364922,-1215.4700323368056,0.6623815837510905,-211.90672791685625,-358.3268914797598,0.02124923203389916]
[{"$f":"A483+Sheet2!K$6","v":{"v":6.720558882235574,"d":"6.72"}},0.9667296075607615,98.69903961137848,-1227.8794717418914,0.6411909109594048,-216.91329127086487,-346.2047818158952,0.022203586328687956]
[{"$f":"A484+Sheet2!K$6","v":{"v":6.734530938123798,"d":"6.73"}},0.9765995115218994,81.54303900819836,-1238.1318856003838,0.6194995818323183,-221.7504838311668,-333.8123476440301,0.022880781761386866]
[{"$f":"A485+Sheet2!K$6","v":{"v":6.748502994012021,"d":"6.75"}},0.9847538154227192,64.24379110559819,-1246.2092634153857,0.5973245334492017,-226.4145286086283,-321.1592652571581,0.023226749308373637]
[{"$f":"A486+Sheet2!K$6","v":{"v":6.762475049900245,"d":"6.76"}},0.991178194533279,46.831685628736516,-1252.097415593467,0.5746830805883388,-230.90178381182213,-308.25541446684764,0.02321045410294037]
[{"$f":"A487+Sheet2!K$6","v":{"v":6.776447105788469,"d":"6.78"}},0.9958613630961527,29.337310560564323,-1255.7859983721467,0.5515929022071566,-235.20874569060044,-295.1108708914999,0.02282962865564532]
[{"$f":"A488+Sheet2!K$6","v":{"v":6.7904191616766925,"d":"6.79"}},0.9987950941522091,11.79139840766008,-1257.2685319873576,0.5280720276380966,-239.3320512719188,-281.7358980874098,0.0221113578512654]
[{"$f":"A489+Sheet2!K$6","v":{"v":6.804391217564916,"d":"6.80"}},0.9999742339929751,-5.775227787772064,-1256.542412062094,0.5041388225109047,-243.26848098571494,-268.1409395349105,0.021107299447776055]
[{"$f":"A490+Sheet2!K$6","v":{"v":6.81836327345314,"d":"6.82"}},0.9993967112141979,-23.331708595026868,-1253.6089141759253,0.4798119744123332,-247.0149611788175,-254.3366104848915,0.01988502245837053]
[{"$f":"A491+Sheet2!K$6","v":{"v":6.832335329341364,"d":"6.83"}},0.9970635403546952,-40.84720240586814,-1248.4731916284352,0.45511047829445145,-250.56856651493374,-240.33368966873604,0.018517951015493042]
[{"$f":"A492+Sheet2!K$6","v":{"v":6.846307385229587,"d":"6.85"}},0.9929788201141084,-58.29093961424947,-1241.1442663836858,0.4300536216429581,-253.9265222588083,-226.14311088321395,0.01707635185895603]
[{"$f":"A493+Sheet2!K$6","v":{"v":6.860279441117811,"d":"6.86"}},0.9871497261526835,-75.63227666951055,-1231.6350132221185,0.40466096941707724,-257.0862064428053,-211.77595445251603,0.015620939490997882]
[{"$f":"A494+Sheet2!K$6","v":{"v":6.874251497006035,"d":"6.87"}},0.9795864984857324,-92.84074990814294,-1219.962137125046,0.3789523487727967,-260.04515191419773,-197.24343857661208,0.014199559968090662]
[{"$f":"A495+Sheet2!K$6","v":{"v":6.888223552894258,"d":"6.89"}},0.9703024234949181,-109.88612906957073,-1206.146143922599,0.35294783358137694,-262.80104826157554,-182.556910572086,0.012846543571012174]
[{"$f":"A496+Sheet2!K$6","v":{"v":6.902195608782482,"d":"6.90"}},0.9593138105879611,-126.73847040182261,-1190.2113042830565,0.3266677287552194,-265.35174361887016,-167.72783801115006,0.011583891092041465]
[{"$f":"A497+Sheet2!K$6","v":{"v":6.916167664670706,"d":"6.92"}},0.9466399635477788,-143.36816926406092,-1172.1856110636647,0.30013255439333236,-267.69524634557285,-152.76779976868775,0.010423423133144243]
[{"$f":"A498+Sheet2!K$6","v":{"v":6.9301397205589295,"d":"6.93"}},0.9323031466213727,-159.74601213321392,-1152.1007301378638,0.2733630297587751,-269.8297265818619,-137.68847698005686,0.009369208439146882]
[{"$f":"A499+Sheet2!K$6","v":{"v":6.944111776447153,"d":"6.94"}},0.9163285454080513,-175.84322792356332,-1129.991944780575,0.24638005710058888,-271.75351767739164,-122.50164392089393,0.008419837991139894]
[{"$f":"A500+Sheet2!K$6","v":{"v":6.958083832335377,"d":"6.96"}},0.898744222615695,-191.63153852927994,-1105.8980936653722,0.21920470533284972,-273.46511749265363,-107.21915881317149,0.00757033091409506]
[{"$f":"A501+Sheet2!K$6","v":{"v":6.972055888223601,"d":"6.97"}},0.879581068762767,-207.0832085006524,-1079.8615026511234,0.19185819358358436,-274.9631895718796,-91.85295456629173,0.006813610947446201]
[{"$f":"A502+Sheet2!K$6","v":{"v":6.986027944111824,"d":"6.99"}},0.8588727479127017,-222.17109376723496,15901.102568197817,0.1643618746263964,-276.24656418657827,19771.361236782246,2.0904583308153404E-17]
[{"$f":"A503+Sheet2!K$6","v":{"v":7.000000000000048,"d":"7.00"}},0.8366556385359782,null,null,0.13673721820773857]
[{"$f":"A3+0.0001","v":{"v":1E-4,"d":"0.0001"}},{"$f":"SIN(2*t)","v":1.9999999866666669E-4}]
[{"$f":"A4+0.0001","v":{"v":0.014072055888223552,"d":"0.0141"}},0.028140396473856334]
[{"v":0.028044111776447105,"d":"0.0280"},0.05605882029233094]
[{"v":0.04201616766467066,"d":"0.0420"},0.08393347211863483]
[{"v":0.05598822355289421,"d":"0.0560"},0.11174258679547179]
[{"v":0.06996027944111777,"d":"0.0700"},0.13946445033843113]
[{"v":0.08393233532934131,"d":"0.0839"},0.1670774168907568]
[{"v":0.09790439121756486,"d":"0.0979"},0.19455992562492094]
[{"v":0.11187644710578841,"d":"0.1119"},0.22189051757780465]
[{"v":0.12584850299401196,"d":"0.1258"},0.24904785240634064]
[{"v":0.13982055888223552,"d":"0.1398"},{"$f":"SIN(2*t)","v":0.276010725050535}]
[{"v":0.15379261477045908,"d":"0.1538"},0.30275808229085627]
[{"v":0.16776467065868264,"d":"0.1678"},0.3292690391870649]
[{"v":0.1817367265469062,"d":"0.1817"},0.35552289538564563]
[{"v":0.19570878243512976,"d":"0.1957"},0.3814991512831108]
[{"v":0.20968083832335332,"d":"0.2097"},0.40717752403255353]
[{"v":0.22365289421157689,"d":"0.2237"},0.43253796338095246]
[{"v":0.23762495009980045,"d":"0.2376"},0.4575606673248616]
[{"v":0.251597005988024,"d":"0.2516"},0.4822260975722617]
[{"v":0.2655690618762475,"d":"0.2656"},0.5065149947984998]
[{"v":0.27954111776447105,"d":"0.2795"},0.5304083936844043]
[{"v":0.2935131736526946,"d":"0.2935"},0.5538876377248346]
[{"v":0.3074852295409181,"d":"0.3075"},0.576934393796101]
[{"v":0.32145728542914165,"d":"0.3215"},0.5995306664708819]
[{"v":0.3354293413173652,"d":"0.3354"},0.6216588120694593]
[{"v":0.3494013972055887,"d":"0.3494"},0.643301552436302]
[{"v":0.36337345309381225,"d":"0.3634"},0.6644419884312401]
[{"v":0.3773455089820358,"d":"0.3773"},0.6850636131246945]
[{"v":0.3913175648702593,"d":"0.3913"},0.7051503246866601]
[{"v":0.40528962075848285,"d":"0.4053"},0.7246864389593781]
[{"v":0.4192616766467064,"d":"0.4193"},0.743656701703881]
[{"v":0.4332337325349299,"d":"0.4332"},0.7620463005108457]
[{"v":0.44720578842315345,"d":"0.4472"},0.7798408763664578]
[{"v":0.461177844311377,"d":"0.4612"},0.7970265348642533]
[{"v":0.4751499001996005,"d":"0.4751"},0.8135898570541851]
[{"v":0.48912195608782405,"d":"0.4891"},0.8295179099204412]
[{"v":0.5030940119760476,"d":"0.5031"},0.8447982564798368]
[{"v":0.5170660678642712,"d":"0.5171"},0.8594189654928901]
[{"v":0.5310381237524948,"d":"0.5310"},0.8733686207800042]
[{"v":0.5450101796407184,"d":"0.5450"},0.8866363301354776]
[{"v":0.558982235528942,"d":"0.5590"},0.8992117338323841]
[{"v":0.5729542914171656,"d":"0.5730"},0.9110850127116814]
[{"v":0.5869263473053892,"d":"0.5869"},0.9222468958492326]
[{"v":0.6008984031936128,"d":"0.6009"},0.9326886677947525]
[{"v":0.6148704590818364,"d":"0.6149"},0.9424021753770278]
[{"v":0.6288425149700599,"d":"0.6288"},0.9513798340700976]
[{"v":0.6428145708582835,"d":"0.6428"},0.9596146339154227]
[{"v":0.6567866267465071,"d":"0.6568"},0.9671001449954185]
[{"v":0.6707586826347307,"d":"0.6708"},0.9738305224540806]
[{"v":0.6847307385229543,"d":"0.6847"},0.9798005110607799]
[{"v":0.6987027944111779,"d":"0.6987"},0.9850054493136657]
[{"v":0.7126748502994015,"d":"0.7127"},0.9894412730794709]
[{"v":0.7266469061876251,"d":"0.7266"},0.9931045187668797]
[{"v":0.7406189620758487,"d":"0.7406"},0.9959923260309772]
[{"v":0.7545910179640722,"d":"0.7546"},0.9981024400066718]
[{"v":0.7685630738522958,"d":"0.7686"},0.9994332130693447]
[{"v":0.7825351297405194,"d":"0.7825"},0.999983606121352]
[{"v":0.796507185628743,"d":"0.7965"},0.9997531894033759]
[{"v":0.8104792415169666,"d":"0.8105"},0.9987421428299905]
[{"v":0.8244512974051902,"d":"0.8245"},0.9969512558491803]
[{"v":0.8384233532934138,"d":"0.8384"},0.9943819268259215]
[{"v":0.8523954091816374,"d":"0.8524"},0.991036161950307]
[{"v":0.866367465069861,"d":"0.8664"},0.9869165736710679]
[{"v":0.8803395209580845,"d":"0.8803"},0.9820263786557146]
[{"v":0.8943115768463081,"d":"0.8943"},0.9763693952788902]
[{"$f":"A68+0.0001","v":{"v":0.9082836327345317,"d":"0.9083"}},0.9699500406408974]
[{"v":0.9222556886227553,"d":"0.9223"},0.9627733271187268]
[{"v":0.9362277445109789,"d":"0.9362"},0.9548448584522798]
[{"v":0.9501998003992025,"d":"0.9502"},0.9461708253688423]
[{"v":0.9641718562874261,"d":"0.9642"},0.9367580007492249]
[{"v":0.9781439121756497,"d":"0.9781"},0.9266137343393444]
[{"v":0.9921159680638733,"d":"0.9921"},0.9157459470113768]
[{"v":1.0060880239520968,"d":"1.0061"},0.9041631245789614]
[{"v":1.0200600798403203,"d":"1.0201"},0.8918743111712857]
[{"v":1.0340321357285438,"d":"1.0340"},{"$f":"SIN(2*t)","v":0.8788891021712255}]
[{"v":1.0480041916167673,"d":"1.0480"},0.8652176367230532]
[{"v":1.0619762475049908,"d":"1.0620"},0.8508705898155652]
[{"v":1.0759483033932142,"d":"1.0759"},0.8358591639468096]
[{"v":1.0899203592814377,"d":"1.0899"},0.820195080376923]
[{"v":1.1038924151696612,"d":"1.1039"},0.8038905699759061]
[{"v":1.1178644710578847,"d":"1.1179"},0.7869583636734842]
[{"v":1.1318365269461081,"d":"1.1318"},0.7694116825185096]
[{"v":1.1458085828343316,"d":"1.1458"},0.7512642273556691]
[{"v":1.159780638722555,"d":"1.1598"},0.7325301681275544]
[{"v":1.1737526946107786,"d":"1.1738"},0.7132241328104517]
[{"v":1.187724750499002,"d":"1.1877"},0.6933611959924869]
[{"v":1.2016968063872255,"d":"1.2017"},0.672956867103048]
[{"v":1.215668862275449,"d":"1.2157"},0.6520270783026717]
[{"v":1.2296409181636725,"d":"1.2296"},0.630588172042853]
[{"v":1.243612974051896,"d":"1.2436"},0.6086568883054907]
[{"v":1.2575850299401194,"d":"1.2576"},0.5862503515319313]
[{"v":1.271557085828343,"d":"1.2716"},0.5633860572518185]
[{"v":1.2855291417165664,"d":"1.2855"},0.5400818584221893]
[{"v":1.2995011976047899,"d":"1.2995"},0.5163559514874818]
[{"v":1.3134732534930134,"d":"1.3135"},0.4922268621713407]
[{"v":1.3274453093812368,"d":"1.3274"},0.4677134310113145]
[{"v":1.3414173652694603,"d":"1.3414"},0.442834798647738]
[{"v":1.3553894211576838,"d":"1.3554"},0.4176103908782887]
[{"v":1.3693614770459073,"d":"1.3694"},0.3920599034898854]
[{"v":1.3833335329341307,"d":"1.3833"},0.3662032868797731]
[{"v":1.3973055888223542,"d":"1.3973"},0.34006073047780283]
[{"v":1.4112776447105777,"d":"1.4113"},0.31365264698206885]
[{"v":1.4252497005988012,"d":"1.4252"},0.2869996564202134]
[{"v":1.4392217564870247,"d":"1.4392"},0.2601225700488437]
[{"v":1.4531938123752481,"d":"1.4532"},0.233042374103633]
[{"v":1.4671658682634716,"d":"1.4672"},0.20578021341279407]
[{"v":1.481137924151695,"d":"1.4811"},0.17835737488672024]
[{"v":1.4951099800399186,"d":"1.4951"},0.15079527089668518]
[{"v":1.509082035928142,"d":"1.5091"},0.12311542255558008]
[{"v":1.5230540918163655,"d":"1.5231"},0.09533944291374308]
[{"v":1.537026147704589,"d":"1.5370"},0.06748902008300166]
[{"v":1.5509982035928125,"d":"1.5510"},0.039585900302105424]
[{"v":1.564970259481036,"d":"1.5650"},0.01165187095677206]
[{"v":1.5789423153692594,"d":"1.5789"},-0.01629125643239516]
[{"v":1.592914371257483,"d":"1.5929"},-0.044221663240835]
[{"v":1.6068864271457064,"d":"1.6069"},-0.07211754077650277]
[{"v":1.6208584830339299,"d":"1.6209"},-0.09995710730858934]
[{"v":1.6348305389221534,"d":"1.6348"},-0.12771862507518808]
[{"v":1.6488025948103768,"d":"1.6488"},-0.15538041725663013]
[{"v":1.6627746506986003,"d":"1.6628"},-0.18292088490123437]
[{"v":1.6767467065868238,"d":"1.6767"},-0.21031852379025645]
[{"v":1.6907187624750473,"d":"1.6907"},-0.2375519412288681]
[{"v":1.7046908183632707,"d":"1.7047"},-0.26459987275005614]
[{"v":1.7186628742514942,"d":"1.7187"},-0.2914411987183982]
[{"v":1.7326349301397177,"d":"1.7326"},-0.31805496082075085]
[{"v":1.7466069860279412,"d":"1.7466"},-0.3444203784309735]
[{"v":1.7605790419161647,"d":"1.7606"},-0.3705168648359104]
[{"v":1.7745510978043881,"d":"1.7746"},-0.3963240433099607]
[{"v":1.7885231536926116,"d":"1.7885"},-0.4218217630256859]
[{"$f":"A132+0.0001","v":{"v":1.802495209580835,"d":"1.8025"}},-0.4469901147880308]
[{"v":1.8164672654690586,"d":"1.8165"},-0.47180944657987217]
[{"v":1.830439321357282,"d":"1.8304"},-0.49626037890675745]
[{"v":1.8444113772455055,"d":"1.8444"},-0.5203238199288512]
[{"v":1.858383433133729,"d":"1.8584"},-0.543980980368275]
[{"v":1.8723554890219525,"d":"1.8724"},-0.5672133881801991]
[{"v":1.886327544910176,"d":"1.8863"},-0.5900029029762323]
[{"v":1.9002996007983994,"d":"1.9003"},-0.6123317301888467]
[{"v":1.914271656686623,"d":"1.9143"},-0.6341824349657778]
[{"v":1.9282437125748464,"d":"1.9282"},{"$f":"SIN(2*t)","v":-0.6555379557835499}]
[{"v":1.9422157684630699,"d":"1.9422"},-0.6763816177694998]
[{"v":1.9561878243512933,"d":"1.9562"},-0.6966971457218929]
[{"v":1.9701598802395168,"d":"1.9702"},-0.7164686768179683]
[{"v":1.9841319361277403,"d":"1.9841"},-0.7356807729999892]
[{"v":1.9981039920159638,"d":"1.9981"},-0.7543184330296262]
[{"v":2.0120760479041877,"d":"2.0121"},-0.7723671042012639]
[{"v":2.0260481037924114,"d":"2.0260"},-0.7898126937050793]
[{"v":2.040020159680635,"d":"2.0400"},-0.8066415796310294]
[{"v":2.053992215568859,"d":"2.0540"},-0.8228406216051435]
[{"v":2.0679642714570825,"d":"2.0680"},-0.8383971710498245]
[{"v":2.081936327345306,"d":"2.0819"},-0.853299081060144]
[{"v":2.09590838323353,"d":"2.0959"},-0.8675347158884192]
[{"v":2.1098804391217536,"d":"2.1099"},-0.8810929600296685]
[{"v":2.1238524950099773,"d":"2.1239"},-0.8939632269008471]
[{"v":2.137824550898201,"d":"2.1378"},-0.9061354671070911]
[{"v":2.1517966067864247,"d":"2.1518"},-0.9176001762885118]
[{"v":2.1657686626746484,"d":"2.1658"},-0.9283484025414137]
[{"v":2.179740718562872,"d":"2.1797"},-0.9383717534081438]
[{"v":2.193712774451096,"d":"2.1937"},-0.9476624024301111]
[{"v":2.2076848303393195,"d":"2.2077"},-0.9562130952588631]
[{"v":2.221656886227543,"d":"2.2217"},-0.964017155320444]
[{"v":2.235628942115767,"d":"2.2356"},-0.9710684890286145]
[{"v":2.2496009980039906,"d":"2.2496"},-0.9773615905428621]
[{"v":2.2635730538922143,"d":"2.2636"},-0.9828915460674844]
[{"v":2.277545109780438,"d":"2.2775"},-0.9876540376883931]
[{"v":2.2915171656686617,"d":"2.2915"},-0.9916453467446378]
[{"v":2.3054892215568854,"d":"2.3055"},-0.9948623567320207]
[{"v":2.319461277445109,"d":"2.3195"},-0.9973025557365336]
[{"v":2.333433333333333,"d":"2.3334"},-0.9989640383957168]
[{"v":2.3474053892215565,"d":"2.3474"},-0.9998455073864091]
[{"v":2.36137744510978,"d":"2.3614"},-0.9999462744377272]
[{"v":2.375349500998004,"d":"2.3753"},-0.9992662608684831]
[{"v":2.3893215568862276,"d":"2.3893"},-0.9978059976486202]
[{"v":2.4032936127744513,"d":"2.4033"},-0.9955666249846195]
[{"v":2.417265668662675,"d":"2.4173"},-0.9925498914292012]
[{"v":2.4312377245508987,"d":"2.4312"},-0.9887581525160154]
[{"v":2.4452097804391224,"d":"2.4452"},-0.9841943689203875]
[{"v":2.459181836327346,"d":"2.4592"},-0.9788621041475567]
[{"v":2.47315389221557,"d":"2.4732"},-0.9727655217502106]
[{"v":2.4871259481037935,"d":"2.4871"},-0.9659093820774892]
[{"v":2.501098003992017,"d":"2.5011"},-0.9582990385579968]
[{"v":2.515070059880241,"d":"2.5151"},-0.9499404335197241]
[{"v":2.5290421157684646,"d":"2.5290"},-0.9408400935501444]
[{"v":2.5430141716566883,"d":"2.5430"},-0.9310051244001072]
[{"v":2.556986227544912,"d":"2.5570"},-0.9204432054355066]
[{"v":2.5709582834331357,"d":"2.5710"},-0.9091625836410603]
[{"v":2.5849303393213594,"d":"2.5849"},-0.8971720671808766]
[{"v":2.598902395209583,"d":"2.5989"},-0.8844810185208422]
[{"v":2.612874451097807,"d":"2.6129"},-0.8710993471181963]
[{"v":2.6268465069860305,"d":"2.6268"},-0.8570375016840038]
[{"v":2.640818562874254,"d":"2.6408"},-0.8423064620245654]
[{"v":2.654790618762478,"d":"2.6548"},-0.826917730468137]
[{"v":2.6687626746507016,"d":"2.6688"},-0.8108833228836521]
[{"v":2.6827347305389253,"d":"2.6827"},-0.7942157592984604]
[{"$f":"A196+0.0001","v":{"v":2.696706786427149,"d":"2.6967"}},-0.7769280541224077]
[{"v":2.7106788423153727,"d":"2.7107"},-0.759033705985891]
[{"v":2.7246508982035964,"d":"2.7247"},-0.7405466871998232]
[{"v":2.73862295409182,"d":"2.7386"},-0.7214814328457371]
[{"v":2.752595009980044,"d":"2.7526"},-0.7018528295045485]
[{"v":2.7665670658682675,"d":"2.7666"},-0.6816762036327776]
[{"v":2.780539121756491,"d":"2.7805"},-0.6609673095953051]
[{"v":2.794511177644715,"d":"2.7945"},-0.6397423173640099]
[{"v":2.8084832335329386,"d":"2.8085"},-0.6180177998918889]
[{"v":2.8224552894211623,"d":"2.8225"},{"$f":"SIN(2*t)","v":-0.5958107201725218}]
[{"v":2.836427345309386,"d":"2.8364"},-0.5731384179949826]
[{"v":2.8503994011976097,"d":"2.8504"},-0.5500185964045411]
[{"v":2.8643714570858334,"d":"2.8644"},-0.5264693078797256]
[{"v":2.878343512974057,"d":"2.8783"},-0.5025089402365401]
[{"v":2.892315568862281,"d":"2.8923"},-0.47815620227084243]
[{"v":2.9062876247505045,"d":"2.9063"},-0.4534301091500944]
[{"v":2.920259680638728,"d":"2.9203"},-0.42834996756588983]
[{"v":2.934231736526952,"d":"2.9342"},-0.4029353606588539]
[{"v":2.9482037924151756,"d":"2.9482"},-0.3772061327276848]
[{"v":2.9621758483033993,"d":"2.9622"},-0.35118237373427774]
[{"v":2.976147904191623,"d":"2.9761"},-0.3248844036170292]
[{"v":2.9901199600798467,"d":"2.9901"},-0.29833275642457]
[{"v":3.0040920159680704,"d":"3.0041"},-0.27154816428231726]
[{"v":3.018064071856294,"d":"3.0181"},-0.24455154120436237]
[{"v":3.032036127744518,"d":"3.0320"},-0.21736396676333716]
[{"v":3.0460081836327415,"d":"3.0460"},-0.1900066696310076]
[{"v":3.059980239520965,"d":"3.0600"},-0.16250101100244774]
[{"v":3.073952295409189,"d":"3.0740"},-0.13486846791673662]
[{"v":3.0879243512974126,"d":"3.0879"},-0.10713061648720122]
[{"v":3.1018964071856363,"d":"3.1019"},-0.07930911505430026]
[{"v":3.11586846307386,"d":"3.1159"},-0.05142568727430315]
[{"v":3.1298405189620837,"d":"3.1298"},-0.02350210515696882]
[{"v":3.1438125748503074,"d":"3.1438"},0.004439827934530896]
[{"v":3.157784630738531,"d":"3.1578"},0.03237829430816933]
[{"v":3.171756686626755,"d":"3.1718"},0.06029147897881138]
[{"v":3.1857287425149785,"d":"3.1857"},0.08815758670184626]
[{"v":3.199700798403202,"d":"3.1997"},0.11595485899140644]
[{"v":3.213672854291426,"d":"3.2137"},0.1436615911098845]
[{"v":3.2276449101796496,"d":"3.2276"},0.17125614901548217]
[{"v":3.2416169660678733,"d":"3.2416"},0.19871698625455844]
[{"v":3.255589021956097,"d":"3.2556"},0.22602266078558692]
[{"v":3.2695610778443207,"d":"3.2696"},0.2531518517215857]
[{"v":3.2835331337325444,"d":"3.2835"},0.28008337597794736]
[{"v":3.297505189620768,"d":"3.2975"},0.3067962048126693]
[{"v":3.311477245508992,"d":"3.3115"},0.3332694802460703]
[{"v":3.3254493013972155,"d":"3.3254"},0.3594825313471717]
[{"v":3.339421357285439,"d":"3.3394"},0.3854148903740271]
[{"v":3.353393413173663,"d":"3.3534"},0.411046308755397]
[{"v":3.3673654690618866,"d":"3.3674"},0.43635677290129027]
[{"v":3.3813375249501103,"d":"3.3813"},0.4613265198300271]
[{"v":3.395309580838334,"d":"3.3953"},0.48593605259962097]
[{"v":3.4092816367265577,"d":"3.4093"},0.5101661555314312]
[{"v":3.4232536926147814,"d":"3.4233"},0.5339979092141983]
[{"v":3.437225748503005,"d":"3.4372"},0.5574127052767478]
[{"v":3.451197804391229,"d":"3.4512"},0.5803922609178256]
[{"v":3.4651698602794525,"d":"3.4652"},0.6029186331817227]
[{"v":3.479141916167676,"d":"3.4791"},0.6249742329685397]
[{"v":3.4931139720559,"d":"3.4931"},0.6465418387681527]
[{"v":3.5070860279441236,"d":"3.5071"},0.6676046101071577]
[{"v":3.5210580838323473,"d":"3.5211"},0.6881461006982917]
[{"v":3.535030139720571,"d":"3.5350"},0.7081502712820656]
[{"v":3.5490021956087947,"d":"3.5490"},0.7276015021505794]
[{"v":3.5629742514970184,"d":"3.5630"},0.7464846053437434]
[{"v":3.576946307385242,"d":"3.5769"},0.7647848365083794]
[{"$f":"A260+0.0001","v":{"v":3.590918363273466,"d":"3.5909"}},0.7824879064109453]
[{"v":3.6048904191616895,"d":"3.6049"},0.7995799920948906]
[{"v":3.618862475049913,"d":"3.6189"},0.816047747673933]
[{"v":3.632834530938137,"d":"3.6328"},0.8318783147528276]
[{"v":3.6468065868263606,"d":"3.6468"},0.8470593324674924]
[{"v":3.6607786427145843,"d":"3.6608"},0.86157894713665]
[{"v":3.674750698602808,"d":"3.6748"},0.8754258215174484]
[{"v":3.6887227544910317,"d":"3.6887"},0.8885891436578378]
[{"v":3.7026948103792554,"d":"3.7027"},0.9010586353387857]
[{"v":3.716666866267479,"d":"3.7167"},{"$f":"SIN(2*t)","v":0.9128245600997426}]
[{"v":3.730638922155703,"d":"3.7306"},0.9238777308410897]
[{"v":3.7446109780439265,"d":"3.7446"},0.9342095169976348]
[{"v":3.75858303393215,"d":"3.7586"},0.9438118512775511]
[{"v":3.772555089820374,"d":"3.7726"},0.9526772359615016]
[{"v":3.7865271457085976,"d":"3.7865"},0.9607987487570271]
[{"v":3.8004992015968213,"d":"3.8005"},0.9681700482036287]
[{"v":3.814471257485045,"d":"3.8145"},0.9747853786243231]
[{"v":3.8284433133732687,"d":"3.8284"},0.9806395746198053]
[{"v":3.8424153692614924,"d":"3.8424"},0.9857280651017089]
[{"v":3.856387425149716,"d":"3.8564"},0.9900468768618146]
[{"v":3.87035948103794,"d":"3.8704"},0.9935926376744216]
[{"v":3.8843315369261635,"d":"3.8843"},0.9963625789294572]
[{"v":3.898303592814387,"d":"3.8983"},0.99835453779427]
[{"v":3.912275648702611,"d":"3.9123"},0.9995669589024183]
[{"v":3.9262477045908346,"d":"3.9262"},0.9999988955681359]
[{"v":3.9402197604790583,"d":"3.9402"},0.9996500105255249]
[{"v":3.954191816367282,"d":"3.9542"},0.9985205761919013]
[{"v":3.9681638722555057,"d":"3.9682"},0.9966114744550848]
[{"v":3.9821359281437294,"d":"3.9821"},0.9939241959848013]
[{"v":3.996107984031953,"d":"3.9961"},0.9904608390687342]
[{"v":4.010080039920176,"d":"4.0101"},0.9862241079741341]
[{"v":4.0240520958084,"d":"4.0241"},0.9812173108362651]
[{"v":4.038024151696623,"d":"4.0380"},0.9754443570753396]
[{"v":4.051996207584847,"d":"4.0520"},0.9689097543439538]
[{"v":4.065968263473071,"d":"4.0660"},0.9616186050074108]
[{"v":4.079940319361294,"d":"4.0799"},0.9535766021596789]
[{"v":4.093912375249518,"d":"4.0939"},0.9447900251780951]
[{"v":4.107884431137742,"d":"4.1079"},0.9352657348202859]
[{"v":4.1218564870259655,"d":"4.1219"},0.9250111678671324]
[{"v":4.135828542914189,"d":"4.1358"},0.9140343313159645]
[{"v":4.149800598802413,"d":"4.1498"},0.9023437961285159]
[{"v":4.163772654690637,"d":"4.1638"},0.8899486905385245]
[{"v":4.17774471057886,"d":"4.1777"},0.8768586929242014]
[{"v":4.191716766467084,"d":"4.1917"},0.8630840242511338]
[{"v":4.205688822355308,"d":"4.2057"},0.8486354400915258]
[{"v":4.219660878243531,"d":"4.2197"},0.8335242222260035]
[{"v":4.233632934131755,"d":"4.2336"},0.8177621698345472]
[{"v":4.247604990019979,"d":"4.2476"},0.8013615902834245]
[{"v":4.2615770459082025,"d":"4.2616"},0.7843352895153214]
[{"v":4.275549101796426,"d":"4.2755"},0.766696562050173]
[{"v":4.28952115768465,"d":"4.2895"},0.7484591806045024]
[{"v":4.303493213572874,"d":"4.3035"},0.7296373853373729]
[{"v":4.317465269461097,"d":"4.3175"},0.7102458727313499]
[{"v":4.331437325349321,"d":"4.3314"},0.690299784117156]
[{"v":4.345409381237545,"d":"4.3454"},0.6698146938509785]
[{"v":4.359381437125768,"d":"4.3594"},0.6488065971536596]
[{"v":4.373353493013992,"d":"4.3734"},0.6272918976212681]
[{"v":4.387325548902216,"d":"4.3873"},0.6052873944168006]
[{"v":4.4012976047904395,"d":"4.4013"},0.5828102691530159]
[{"v":4.415269660678663,"d":"4.4153"},0.5598780724766445]
[{"v":4.429241716566887,"d":"4.4292"},0.5365087103644467]
[{"v":4.443213772455111,"d":"4.4432"},0.5127204301418224]
[{"v":4.457185828343334,"d":"4.4572"},0.4885318062348877]
[{"v":4.471157884231558,"d":"4.4712"},0.4639617256671429]
[{"$f":"A324+0.0001","v":{"v":4.485129940119782,"d":"4.4851"}},0.43902937331205905]
[{"v":4.499101996008005,"d":"4.4991"},0.4137542169130956]
[{"v":4.513074051896229,"d":"4.5131"},0.3881559918828467]
[{"v":4.527046107784453,"d":"4.5270"},0.36225468589318555]
[{"v":4.5410181636726765,"d":"4.5410"},0.33607052326843945]
[{"v":4.5549902195609,"d":"4.5550"},0.3096239491937804]
[{"v":4.568962275449124,"d":"4.5690"},0.28293561375116355]
[{"v":4.582934331337348,"d":"4.5829"},0.2560263557952766]
[{"v":4.596906387225571,"d":"4.5969"},0.22891718668209224]
[{"v":4.610878443113795,"d":"4.6109"},{"$f":"SIN(2*t)","v":0.20162927386272678}]
[{"v":4.624850499002019,"d":"4.6249"},0.17418392435541666]
[{"v":4.638822554890242,"d":"4.6388"},0.14660256810851782]
[{"v":4.652794610778466,"d":"4.6528"},0.11890674126751817]
[{"v":4.66676666666669,"d":"4.6668"},0.09111806935912918]
[{"v":4.6807387225549135,"d":"4.6807"},0.06325825040558654]
[{"v":4.694710778443137,"d":"4.6947"},0.03534903798234461]
[{"v":4.708682834331361,"d":"4.7087"},0.00741222423239375]
[{"v":4.722654890219585,"d":"4.7227"},-0.020530377149536802]
[{"v":4.736626946107808,"d":"4.7366"},-0.048456947949604146]
[{"v":4.750599001996032,"d":"4.7506"},-0.0763456824710055]
[{"v":4.764571057884256,"d":"4.7646"},-0.10417480456035846]
[{"v":4.778543113772479,"d":"4.7785"},-0.13192258461101308]
[{"v":4.792515169660703,"d":"4.7925"},-0.15956735653001913]
[{"v":4.806487225548927,"d":"4.8065"},-0.18708753465550063]
[{"v":4.8204592814371505,"d":"4.8205"},-0.2144616306112276]
[{"v":4.834431337325374,"d":"4.8344"},-0.24166827008522554]
[{"v":4.848403393213598,"d":"4.8484"},-0.26868620951932043]
[{"v":4.862375449101822,"d":"4.8624"},-0.2954943526965884]
[{"v":4.876347504990045,"d":"4.8763"},-0.32207176721375835]
[{"v":4.890319560878269,"d":"4.8903"},-0.34839770082570454]
[{"v":4.904291616766493,"d":"4.9043"},-0.37445159764926816]
[{"v":4.918263672654716,"d":"4.9183"},-0.40021311421375483]
[{"v":4.93223572854294,"d":"4.9322"},-0.4256621353455758]
[{"v":4.946207784431164,"d":"4.9462"},-0.45077878987462916]
[{"v":4.9601798403193875,"d":"4.9602"},-0.47554346615015836]
[{"v":4.974151896207611,"d":"4.9742"},-0.4999368273539715]
[{"v":4.988123952095835,"d":"4.9881"},-0.5239398265990656]
[{"v":5.002096007984059,"d":"5.0021"},-0.5475337218018658]
[{"v":5.016068063872282,"d":"5.0161"},-0.570700090316467]
[{"v":5.030040119760506,"d":"5.0300"},-0.5934208433194521]
[{"v":5.04401217564873,"d":"5.0440"},-0.6156782399340532]
[{"v":5.057984231536953,"d":"5.0580"},-0.6374549010826288]
[{"v":5.071956287425177,"d":"5.0720"},-0.6587338230566396]
[{"v":5.085928343313401,"d":"5.0859"},-0.6794983907935284]
[{"v":5.0999003992016245,"d":"5.0999"},-0.6997323908501354]
[{"v":5.113872455089848,"d":"5.1139"},-0.719420024062521]
[{"v":5.127844510978072,"d":"5.1278"},-0.7385459178823095]
[{"v":5.141816566866296,"d":"5.1418"},-0.7570951383799217]
[{"v":5.155788622754519,"d":"5.1558"},-0.7750532019053243]
[{"v":5.169760678642743,"d":"5.1698"},-0.7924060863971907]
[{"v":5.183732734530967,"d":"5.1837"},-0.809140242331643]
[{"v":5.19770479041919,"d":"5.1977"},-0.825242603302026]
[{"v":5.211676846307414,"d":"5.2117"},-0.8407005962214527]
[{"v":5.225648902195638,"d":"5.2256"},-0.8555021511401538]
[{"v":5.2396209580838615,"d":"5.2396"},-0.8696357106699677]
[{"v":5.253593013972085,"d":"5.2536"},-0.883090239008609]
[{"v":5.267565069860309,"d":"5.2676"},-0.8958552305566729]
[{"v":5.281537125748533,"d":"5.2815"},-0.9079207181206441]
[{"v":5.295509181636756,"d":"5.2955"},-0.9192772806955061]
[{"v":5.30948123752498,"d":"5.3095"},-0.929916050820875]
[{"v":5.323453293413204,"d":"5.3235"},-0.9398287215049125]
[{"v":5.337425349301427,"d":"5.3374"},-0.9490075527106125]
[{"v":5.351397405189651,"d":"5.3514"},-0.9574453773993973]
[{"v":5.365369461077875,"d":"5.3654"},-0.9651356071273021]
[{"$f":"A388+0.0001","v":{"v":5.3793415169660985,"d":"5.3793"}},-0.9720722371893815]
[{"v":5.393313572854322,"d":"5.3933"},-0.9782498513083187]
[{"v":5.407285628742546,"d":"5.4073"},-0.9836636258635764]
[{"v":5.42125768463077,"d":"5.4213"},-0.9883093336577892]
[{"v":5.435229740518993,"d":"5.4352"},-0.9921833472174547]
[{"v":5.449201796407217,"d":"5.4492"},-0.9952826416253462]
[{"v":5.463173852295441,"d":"5.4632"},-0.9976047968824369]
[{"v":5.477145908183664,"d":"5.4771"},-0.9991479997974893]
[{"v":5.491117964071888,"d":"5.4911"},-0.9999110454028362]
[{"v":5.505090019960112,"d":"5.5051"},{"$f":"SIN(2*t)","v":-0.9998933378952464}]
[{"v":5.5190620758483355,"d":"5.5191"},-0.9990948911011417]
[{"v":5.533034131736559,"d":"5.5330"},-0.9975163284658003]
[{"v":5.547006187624783,"d":"5.5470"},-0.995158882566557]
[{"v":5.560978243513007,"d":"5.5610"},-0.9920243941503795]
[{"v":5.57495029940123,"d":"5.5750"},-0.9881153106965703]
[{"v":5.588922355289454,"d":"5.5889"},-0.9834346845057211]
[{"v":5.602894411177678,"d":"5.6029"},-0.9779861703164068]
[{"v":5.616866467065901,"d":"5.6169"},-0.9717740224514828]
[{"v":5.630838522954125,"d":"5.6308"},-0.9648030914962149]
[{"v":5.644810578842349,"d":"5.6448"},-0.9570788205108315]
[{"v":5.6587826347305725,"d":"5.6588"},-0.9486072407804601]
[{"v":5.672754690618796,"d":"5.6728"},-0.9393949671057639]
[{"v":5.68672674650702,"d":"5.6867"},-0.9294491926379551]
[{"v":5.700698802395244,"d":"5.7007"},-0.9187776832622215]
[{"v":5.714670858283467,"d":"5.7147"},-0.907388771533947]
[{"v":5.728642914171691,"d":"5.7286"},-0.8952913501724646]
[{"v":5.742614970059915,"d":"5.7426"},-0.8824948651174206]
[{"v":5.756587025948138,"d":"5.7566"},-0.8690093081531715]
[{"v":5.770559081836362,"d":"5.7706"},-0.8548452091069733]
[{"v":5.784531137724586,"d":"5.7845"},-0.8400136276270548]
[{"v":5.7985031936128095,"d":"5.7985"},-0.8245261445469948]
[{"v":5.812475249501033,"d":"5.8125"},-0.8083948528431453]
[{"v":5.826447305389257,"d":"5.8264"},-0.7916323481921631]
[{"v":5.840419361277481,"d":"5.8404"},-0.7742517191360212]
[{"v":5.854391417165704,"d":"5.8544"},-0.7562665368621793]
[{"v":5.868363473053928,"d":"5.8684"},-0.7376908446068949]
[{"v":5.882335528942152,"d":"5.8823"},-0.7185391466899473]
[{"v":5.896307584830375,"d":"5.8963"},-0.698826397189337]
[{"v":5.910279640718599,"d":"5.9103"},-0.6785679882648048]
[{"v":5.924251696606823,"d":"5.9243"},-0.6577797381392849]
[{"v":5.9382237524950465,"d":"5.9382"},-0.6364778787476809]
[{"v":5.95219580838327,"d":"5.9522"},-0.6146790430626033]
[{"v":5.966167864271494,"d":"5.9662"},-0.59240025210697]
[{"v":5.980139920159718,"d":"5.9801"},-0.5696589016636068]
[{"v":5.994111976047941,"d":"5.9941"},-0.546472748692228]
[{"v":6.008084031936165,"d":"6.0081"},-0.5228598974644011]
[{"v":6.022056087824389,"d":"6.0221"},-0.49883878542732346]
[{"v":6.036028143712612,"d":"6.0360"},-0.4744281688074466]
[{"v":6.050000199600836,"d":"6.0500"},-0.4496471079651919]
[{"v":6.06397225548906,"d":"6.0640"},-0.42451495251219085]
[{"v":6.0779443113772835,"d":"6.0779"},-0.3990513262026712]
[{"v":6.091916367265507,"d":"6.0919"},-0.3732761116107872]
[{"v":6.105888423153731,"d":"6.1059"},-0.3472094346058567]
[{"v":6.119860479041955,"d":"6.1199"},-0.32087164863762807]
[{"v":6.133832534930178,"d":"6.1338"},-0.2942833188438474]
[{"v":6.147804590818402,"d":"6.1478"},-0.2674652059925348]
[{"v":6.161776646706626,"d":"6.1618"},-0.24043825027150795]
[{"v":6.175748702594849,"d":"6.1757"},-0.21322355493781098]
[{"v":6.189720758483073,"d":"6.1897"},-0.18584236983981495]
[{"v":6.203692814371297,"d":"6.2037"},-0.15831607482485677]
[{"v":6.2176648702595205,"d":"6.2177"},-0.1306661630453717]
[{"v":6.231636926147744,"d":"6.2316"},-0.10291422417655484]
[{"v":6.245608982035968,"d":"6.2456"},-0.07508192755865548]
[{"v":6.259581037924192,"d":"6.2596"},-0.047191005277067107]
[{"$f":"A452+0.0001","v":{"v":6.273553093812415,"d":"6.2736"}},-0.019263235193424676]
[{"v":6.287525149700639,"d":"6.2875"},0.008679576059041367]
[{"v":6.301497205588863,"d":"6.3015"},0.03661561010261646]
[{"v":6.315469261477086,"d":"6.3155"},0.0645230538513837]
[{"v":6.32944131736531,"d":"6.3294"},0.09238011654337368]
[{"v":6.343413373253534,"d":"6.3434"},0.12016504675528326]
[{"v":6.3573854291417575,"d":"6.3574"},0.14785614938647784]
[{"v":6.371357485029981,"d":"6.3714"},0.17543180259901558]
[{"v":6.385329540918205,"d":"6.3853"},0.2028704747004665]
[{"v":6.399301596806429,"d":"6.3993"},{"$f":"SIN(2*t)","v":0.23015074095634394}]
[{"v":6.413273652694652,"d":"6.4133"},0.2572513003190207]
[{"v":6.427245708582876,"d":"6.4272"},0.2841509920600681]
[{"v":6.4412177644711,"d":"6.4412"},0.3108288122930299]
[{"v":6.455189820359323,"d":"6.4552"},0.33726393037373137]
[{"v":6.469161876247547,"d":"6.4692"},0.3634357051653161]
[{"v":6.483133932135771,"d":"6.4831"},0.3893237011553117]
[{"v":6.4971059880239945,"d":"6.4971"},0.4149077044121392]
[{"v":6.511078043912218,"d":"6.5111"},0.4401677383686069]
[{"v":6.525050099800442,"d":"6.5251"},0.46508407942006513]
[{"v":6.539022155688666,"d":"6.5390"},0.4896372723250418]
[{"v":6.552994211576889,"d":"6.5530"},0.5138081453963341]
[{"v":6.566966267465113,"d":"6.5670"},0.5375778254706947]
[{"v":6.580938323353337,"d":"6.5809"},0.5609277526454232]
[{"v":6.59491037924156,"d":"6.5949"},0.5838396947703575]
[{"v":6.608882435129784,"d":"6.6089"},0.6062957616839482]
[{"v":6.622854491018008,"d":"6.6229"},0.6282784191823]
[{"v":6.6368265469062315,"d":"6.6368"},0.6497705027102744]
[{"v":6.650798602794455,"d":"6.6508"},0.6707552307639615]
[{"v":6.664770658682679,"d":"6.6648"},0.6912162179940572]
[{"v":6.678742714570903,"d":"6.6787"},0.7111374879999135]
[{"v":6.692714770459126,"d":"6.6927"},0.7305034858042729]
[{"v":6.70668682634735,"d":"6.7067"},0.7492990899989458]
[{"v":6.720658882235574,"d":"6.7207"},0.7675096245519472]
[{"v":6.734630938123797,"d":"6.7346"},0.7851208702668737]
[{"v":6.748602994012021,"d":"6.7486"},0.802119075885573]
[{"v":6.762575049900245,"d":"6.7626"},0.8184909688254367]
[{"v":6.7765471057884685,"d":"6.7765"},0.8342237655429324]
[{"v":6.790519161676692,"d":"6.7905"},0.8493051815152831]
[{"v":6.804491217564916,"d":"6.8045"},0.8637234408324994]
[{"v":6.81846327345314,"d":"6.8185"},0.8774672853922763]
[{"v":6.832435329341363,"d":"6.8324"},0.8905259836905735]
[{"v":6.846407385229587,"d":"6.8464"},0.9028893392010157]
[{"v":6.860379441117811,"d":"6.8604"},0.9145476983365708]
[{"v":6.874351497006034,"d":"6.8744"},0.9254919579872888]
[{"v":6.888323552894258,"d":"6.8883"},0.9357135726282145]
[{"v":6.902295608782482,"d":"6.9023"},0.9452045609919276]
[{"v":6.9162676646707055,"d":"6.9163"},0.9539575123004954]
[{"v":6.930239720558929,"d":"6.9302"},0.9619655920519761]
[{"v":6.944211776447153,"d":"6.9442"},0.9692225473569517]
[{"v":6.958183832335377,"d":"6.9582"},0.9757227118209256]
[{"$f":"A502+0.0001","v":{"v":6.9721558882236,"d":"6.9722"}},0.9814610099687711]
[{"$f":"A503+0.0001","v":{"v":6.986127944111824,"d":"6.9861"}},0.986432961207777]
[{"$f":"A504+0.0001","v":{"v":7.000100000000048,"d":"7.0001"}},0.9906346833261955]

{"sheet":"Defining Function","index":2,"n_rows":12,"n_cols":1,"rows_kept":12}
["                                                     Defining a Function in Excel"]
[]
["Computers have very specific rules you must follow when defining a function.  If you don't, the program will either not work at all or will work incorrectly."]
[]
["1. The Variable used should be the one named in the instruction, usually x, though sometimes y, t, Q (for an angle theta), "]
[" or even x and y (for a function of two variables). "]
[]
["2.  Order of Operations:  There five arithmetic operations, addition (+), subtraction (-), multiplication (*), division (/), and  exponentiation or power (^).  When computers see any of these operation symbols, they perform the indicated steps in a very particular order.  First, the power is done.  Second, products and quotients of adjacent terms is done.  Third, and last, sums and differences of adjacent terms are done.  So, in 10*x^3 + 5*x – 7, say with x = 2, the first pass only calculates 2^3 and ignores the multiplications and the sums and differences to calculate 2^3 = 8.  The second pass looks at 10*8 + 5*2 – 7 and only does the multiplications, so it produces 80 + 10 -  7.  The third pass looks at the +’s and –‘s to produce 80 + 10 – 7 = 83.  "]
[]
["3.    Parentheses  If you need an operation involving more than two adjacent terms, as in Ö4^3 + 6^2, the computer would take the square root of  4 to produce 2^3 + 6^2;  it would then cube the 2 and square the 6 to produce 8 + 36; and finally it would add the 8 and the 36 to get 44.  If you actually wanted the square root of the entire expression, you would need to use parentheses, as in Ö(4^3 + 6^2) to tell the computer to do all the operations inside the parentheses before taking the square root.  Therefore, it would calculate (4^3 + 6^2) = 64 + 36 = 100 and then take the square root of Ö100  =  10."]
[]
["4.  Built-In Functions  Computer programs have built-in functions for most common algebraic functions.  In Excel, the square root function is denoted by SQRT(…), so SQRT(100) = 10.  Alternatively, you could enter it as 100^.5 or 100^(1/2); notice that parentheses are needed to have the ½ done first.  The common trig functions are SIN (…), COS (…), and TAN (…), where the arguments are automatically interpreted as being in radians, not degrees.  The logarithm to the base 10 is represented by LOG (…) and the logarithm with the base e, known as the natural logarithm, is LN (…). The corresponding exponential function with base e is EXP (x).  If x is the variable, then each of these would be SQRT (x), SIN (x), COS (x), TAN (x), LOG (x) (for log with base 10 ), LN (x) (for log with base e ), and EXP (x)."]

{"sheet":"Sheet3","index":3,"n_rows":0,"n_cols":0,"rows_kept":0}