{"text_format":"3","workbook":"xlsx","n_sheets":4,"sheets":["Sheet1","Sheet2","Defining Function","Sheet3"],"not_rendered":{"charts":2,"images":1,"macros":1,"external_links":3,"defined_names":28,"comments":1},"read":"whole","date_system":"1900"}

{"sheet":"Sheet1","index":0,"n_rows":39,"n_cols":14,"rows_kept":39,"merged":[[32,2,32,3]]}
[null,"             The Tangent Vectors"]
[null,"           to a Parametric Curve"]
[]
[null,"    This DIGMath module lets you investigate the "]
[null,"slope of the tangent vector to a parametric curve "]
[null,"             based on the parametric functions"]
[null,null,"       x = f(t)    and    y = g(t)"]
[null,"          on any interval from t = a  to t = b."]
[]
[]
["Enter the first function in terms of t:  x = f(t) = ",{"$nulls":4},"sin(2*t)"]
[]
["Enter the second function in terms of t:  y = g(t) = ",{"$nulls":4},"cos(3*t)"]
[]
[]
["Now enter the interval for t :  ",{"$nulls":7},"The graph of the parametric functions"]
[null,"   Starting value a =",null,0,{"$nulls":5},"x =",{"$f":"F11","v":"sin(2*t)"}]
[null,"    Ending value b =",null,6.28,{"$nulls":5},"y =",{"$f":"F13","v":"cos(3*t)"}]
[]
[{"$nulls":8},"   Select the point of tangency at  t0 =",{"$nulls":4},{"$f":"J21","v":{"v":3.81061876247505,"d":"3.811"}}]
[{"$nulls":8},"t  = ",{"$f":"D17+K21*Sheet2!B12","v":{"v":3.81061876247505,"d":"3.811"}},304]
[{"$nulls":8},"x =",{"$f":"LOOKUP(J21,Sheet2!C3:C504,Sheet2!D3:D504)","v":{"v":0.9730371346937354,"d":"0.973"}}]
["Click each item below for suggestions and investigations",{"$nulls":7},"y =",{"$f":"LOOKUP(J21,Sheet2!C3:C504,Sheet2!E3:E504)","v":{"v":0.4225726620172612,"d":"0.423"}}]
[null,"   Item 1"]
[null,"   Item 2",{"$nulls":6},"The slope of the tangent vector at t0 "]
[null,"   Item 3",{"$nulls":7}," =   y'(t0) / x'(t0)  = ",null,null,{"$f":"m","v":{"v":5.8962974596606825,"d":"5.90"}}]
[null,"   Item 4"]
[null,"   Item 5"]
[]
[]
[]
["To access/download all the DIGMath Apps for Calculus"]
["     Click this link:",null,"DIGMath for Calculus"]
[]
["Created by:  Sheldon P. Gordon   "]
["                      Farmingdale State College    "]
["Development of this module was supported by the "]
["NSF's Division of Undergraduate Education  "]
["under grants DUE-0310123 and DUE-0442160."]

{"sheet":"Sheet2","index":1,"n_rows":1006,"n_cols":22,"rows_kept":1006}
[null,null,"t","x = f(t)","y = g(t)","x'","y'","Slope","graphing",null,"Tracing point",{"$nulls":4},"m > 0",{"$nulls":3},"m < 0"]
[{"$nulls":14},"xl =",{"$f":"IF(x0<xMin+80*dx,xMin,x0-80*dx)","v":0.6536799437063263},{"$f":"y0+m*(P$2-x0)","v":-1.4604523319261706},"= yl","xl =",{"$f":"IF(x0<xMin+80*dx,xMin,x0-80*dx)","v":0.6536799437063263},{"$f":"y0+m*(T$2-x0)","v":-1.4604523319261706},"= yl"]
[null,null,{"$f":"a","v":0},{"$f":"SIN(2*t)","v":0},{"$f":"COS(3*t)","v":1},{"$f":"(LOOKUP(Sheet2!C3+0.0001,Sheet2!$C$505:$C$1005,$D$505:$D$1005)-D3)/0.0001","v":1.999999986666667},{"$f":"(LOOKUP(Sheet2!C3+0.0001,Sheet2!$C$505:$C$1005,$E$505:$E$1005)-E3)/0.0001","v":-4.4999999615491504E-4},{"$f":"G3/F3","v":-2.2499999957745749E-4},{"$f":"IF(H3>100,100,IF(H3<-100,-100,H3))","v":-2.2499999957745749E-4},null,0,0,null,null,"xr =",{"$f":"IF(x0>xMax-80*dx,xMax,x0+80*dx)","v":0.9999746858865195},{"$f":"y0+m*(P3-x0)","v":0.5814044766847535},"= yR","xr =",{"$f":"IF(x0>xMax-80*dx,xMax,x0+80*dx)","v":0.9999746858865195},{"$f":"y0+m*(T3-x0)","v":0.5814044766847535},"= yR"]
[null,null,{"$f":"C3+B$12","v":0.01253493013972056},0.025067234302896965,0.9992930231871762,{"$f":"(LOOKUP(Sheet2!C4+0.0001,Sheet2!$C$505:$C$1005,$D$505:$D$1005)-D4)/0.0001","v":1.9993665082463155},{"$f":"(LOOKUP(Sheet2!C4+0.0001,Sheet2!$C$505:$C$1005,$E$505:$E$1005)-E4)/0.0001","v":-0.11323746445413008},{"$f":"G4/F4","v":-0.05663667165929119},{"$f":"IF(H4>100,100,IF(H4<-100,-100,H4))","v":-0.05663667165929119},null,{"$f":"Sheet1!J22","v":0.9730371346937354},{"$f":"Sheet1!J23","v":0.4225726620172612}]
[null,null,{"$f":"C4+B$12","v":0.02506986027944112},0.05011871472694793,0.9971730923811324,{"$f":"(LOOKUP(Sheet2!C5+0.0001,Sheet2!$C$505:$C$1005,$D$505:$D$1005)-D5)/0.0001","v":1.997476497998113},{"$f":"(LOOKUP(Sheet2!C5+0.0001,Sheet2!$C$505:$C$1005,$E$505:$E$1005)-E5)/0.0001","v":-0.22586481638886546},{"$f":"G5/F5","v":-0.1130750807908023},-0.1130750807908023]
[null,null,0.03760479041916168,0.075138697294068,0.993643205065718,{"$f":"(LOOKUP(Sheet2!C6+0.0001,Sheet2!$C$505:$C$1005,$D$505:$D$1005)-D6)/0.0001","v":1.9943311437273237},{"$f":"(LOOKUP(Sheet2!C6+0.0001,Sheet2!$C$505:$C$1005,$E$505:$E$1005)-E6)/0.0001","v":-0.3381728059470568},-0.16956702853018962,-0.16956702853018962,{"$nulls":5},"xL =",{"$f":"IF(xSlope=0,x0,IF(Q$2<yMin,x0+(yMin-y0)/m,P$2))","v":0.7317816809137007},"yL =",{"$f":"IF(xSlope=0,yMin,IF(Q$2<yMin,yMin,Q$2))","v":-0.9999412572352431},"xL =",{"$f":"IF(m=0,x0,IF(U$2>yMax,x0+(yMax-y0)/m,T$2))","v":0.6536799437063263},"yL =",{"$f":"IF(m=0,yMin,IF(U$2>yMax,yMax,U$2))","v":-1.4604523319261706}]
[null,null,0.05013972055888224,0.10011145782147225,0.9887083523379009,{"$f":"(LOOKUP(Sheet2!C7+0.0001,Sheet2!$C$505:$C$1005,$D$505:$D$1005)-D7)/0.0001","v":1.989932422178653},{"$f":"(LOOKUP(Sheet2!C7+0.0001,Sheet2!$C$505:$C$1005,$E$505:$E$1005)-E7)/0.0001","v":-0.4500026348419617},-0.22613965671722755,-0.22613965671722755,{"$nulls":5},"xR =",{"$f":"IF(xSlope=0,x0,IF(Q$3>yMax,x0+(yMax-y0)/m,P$3))","v":0.9999746858865195},"yR =",{"$f":"IF(xSlope=0,yMax,IF(Q$3>yMax,yMax,Q$3))","v":0.5814044766847535},"xR =",{"$f":"IF(m=0,x0,IF(U$3<yMin,x0+(yMin-y0)/m,T$3))","v":0.9999746858865195},"yR =",{"$f":"IF(m=0,yMax,IF(U$3<yMin,yMin,U$3))","v":0.5814044766847535}]
[null,null,0.0626746506986028,0.1250213018037739,0.9823755118505874,{"$f":"(LOOKUP(Sheet2!C8+0.0001,Sheet2!$C$505:$C$1005,$D$505:$D$1005)-D8)/0.0001","v":1.9842830977948034},{"$f":"(LOOKUP(Sheet2!C8+0.0001,Sheet2!$C$505:$C$1005,$E$505:$E$1005)-E8)/0.0001","v":-0.5611961808782429},-0.2828206224716211,-0.2828206224716211,"y'",{"$f":"LOOKUP(Sheet1!$N$20+0.0001,Sheet2!C505:C1005,E505:E1005)-LOOKUP(Sheet1!$N$20,Sheet2!C$3:C$504,E3:E504)","v":2.7187969489494979E-4},{"$f":"K8/0.0001","v":2.718796948949498}]
[null,null,0.07520958083832335,0.14985257427643123,0.9746536379465451,{"$f":"(LOOKUP(Sheet2!C9+0.0001,Sheet2!$C$505:$C$1005,$D$505:$D$1005)-D9)/0.0001","v":1.977386720978247},{"$f":"(LOOKUP(Sheet2!C9+0.0001,Sheet2!$C$505:$C$1005,$E$505:$E$1005)-E9)/0.0001","v":-0.6715962215386728},-0.33963827834669724,-0.33963827834669724,"x'",{"$f":"LOOKUP(t0+0.0001,Sheet2!$C505:$C1005,$D505:$D1005)-LOOKUP(t0,Sheet2!$C$3:$C$504,$D3:$D504)","v":4.6110240664587465E-5},{"$f":"K9/0.0001","v":0.46110240664587465}]
[null,null,0.08774451097804391,0.1745896696543446,0.9655536489973778,{"$f":"(LOOKUP(Sheet2!C10+0.0001,Sheet2!$C$505:$C$1005,$D$505:$D$1005)-D10)/0.0001","v":1.9692476258603708},{"$f":"(LOOKUP(Sheet2!C10+0.0001,Sheet2!$C$505:$C$1005,$E$505:$E$1005)-E10)/0.0001","v":-0.781046656288531},-0.39662186006053407,-0.39662186006053407]
[null,null,0.10027944111776446,0.19921704153942016,0.9550884119654534,{"$f":"(LOOKUP(Sheet2!C11+0.0001,Sheet2!$C$505:$C$1005,$D$505:$D$1005)-D11)/0.0001","v":1.9598709275772674},{"$f":"(LOOKUP(Sheet2!C11+0.0001,Sheet2!$C$505:$C$1005,$E$505:$E$1005)-E11)/0.0001","v":-0.8893927272868307},-0.4538016839640919,-0.4538016839640919,"slope",{"$f":"L8/L9","v":5.8962974596606825},{"$f":"IF(m>100,100,IF(m<-100,-100,m))","v":5.8962974596606825}]
["delta t = ",{"$f":"(Sheet1!D18-Sheet1!D17)/501","v":0.01253493013972056},0.11281437125748502,0.2237192124909365,0.9432727242106161,{"$f":"(LOOKUP(Sheet2!C12+0.0001,Sheet2!$C$505:$C$1005,$D$505:$D$1005)-D12)/0.0001","v":1.9492625190553614},{"$f":"(LOOKUP(Sheet2!C12+0.0001,Sheet2!$C$505:$C$1005,$E$505:$E$1005)-E12)/0.0001","v":-0.9964812382123878},-0.5112093566008215,-0.5112093566008215]
[null,null,0.12534930139720557,0.24808078375257406,0.9301232925674069,{"$f":"(LOOKUP(Sheet2!C13+0.0001,Sheet2!$C$505:$C$1005,$D$505:$D$1005)-D13)/0.0001","v":1.9374290673077055},{"$f":"(LOOKUP(Sheet2!C13+0.0001,Sheet2!$C$505:$C$1005,$E$505:$E$1005)-E13)/0.0001","v":-1.1021607708794345},-0.5688779989303152,-0.5688779989303152]
[null,null,0.13788423153692614,0.2722864449299944,0.9156587097223725,{"$f":"(LOOKUP(Sheet2!C14+0.0001,Sheet2!$C$505:$C$1005,$D$505:$D$1005)-D14)/0.0001","v":1.9243780092448315},{"$f":"(LOOKUP(Sheet2!C14+0.0001,Sheet2!$C$505:$C$1005,$E$505:$E$1005)-E14)/0.0001","v":-1.206281899327477},-0.6268424880831229,-0.6268424880831229,"xMin =",{"$f":"MIN(D3:D504)","v":-0.9999997226721302},null,"x0 =",{"$f":"Sheet1!J22","v":0.9730371346937354}]
[null,null,0.1504191616766467,0.29632098361288645,0.8998994279248704,{"$f":"(LOOKUP(Sheet2!C15+0.0001,Sheet2!$C$505:$C$1005,$D$505:$D$1005)-D15)/0.0001","v":1.9101175469993237},{"$f":"(LOOKUP(Sheet2!C15+0.0001,Sheet2!$C$505:$C$1005,$E$505:$E$1005)-E15)/0.0001","v":-1.3086974011122798},-0.6851397198921932,-0.6851397198921932,"xMax =",{"$f":"MAX(D3:D504)","v":0.9999746858865195}]
[null,null,0.16295409181636727,0.320169294935434,0.8828677300685356,{"$f":"(LOOKUP(Sheet2!C16+0.0001,Sheet2!$C$505:$C$1005,$D$505:$D$1005)-D16)/0.0001","v":1.894656642772996},{"$f":"(LOOKUP(Sheet2!C16+0.0001,Sheet2!$C$505:$C$1005,$E$505:$E$1005)-E16)/0.0001","v":-1.4092624654604702},-0.7438088958418825,-0.7438088958418825,"yMin =",{"$f":"MIN(E3:E504)","v":-0.9999412572352431},null,"y0 =",{"$f":"Sheet1!J23","v":0.4225726620172612}]
[null,null,0.17548902195608784,0.34381639106919465,0.864587698184303,{"$f":"(LOOKUP(Sheet2!C17+0.0001,Sheet2!$C$505:$C$1005,$D$505:$D$1005)-D17)/0.0001","v":1.878005013201678},{"$f":"(LOOKUP(Sheet2!C17+0.0001,Sheet2!$C$505:$C$1005,$E$505:$E$1005)-E17)/0.0001","v":-1.5078348980357426},-0.8028918386459158,-0.8028918386459158,"yMax =",{"$f":"MAX(E3:E504)","v":1}]
[null,null,0.1880239520958084,0.36724741064242516,0.8450851793895325,{"$f":"(LOOKUP(Sheet2!C18+0.0001,Sheet2!$C$505:$C$1005,$D$505:$D$1005)-D18)/0.0001","v":1.860173123251485},{"$f":"(LOOKUP(Sheet2!C18+0.0001,Sheet2!$C$505:$C$1005,$E$505:$E$1005)-E18)/0.0001","v":-1.6042753219913664},-0.8624333412511505,-0.8624333412511505]
[null,null,0.20055888223552898,0.39044762807993305,0.8243877493413829,{"$f":"(LOOKUP(Sheet2!C19+0.0001,Sheet2!$C$505:$C$1005,$D$505:$D$1005)-D19)/0.0001","v":1.8411721796401936},{"$f":"(LOOKUP(Sheet2!C19+0.0001,Sheet2!$C$505:$C$1005,$E$505:$E$1005)-E19)/0.0001","v":-1.6984473750381035},-0.9224815548592626,-0.9224815548592626,"dx =",{"$f":"(K15-K14)/501","v":0.003991964887342614}]
[null,null,0.21309381237524955,0.41340246285758486,0.8025246732461125,{"$f":"(LOOKUP(Sheet2!C20+0.0001,Sheet2!$C$505:$C$1005,$D$505:$D$1005)-D20)/0.0001","v":1.8210141237967603},{"$f":"(LOOKUP(Sheet2!C20+0.0001,Sheet2!$C$505:$C$1005,$E$505:$E$1005)-E20)/0.0001","v":-1.790217902261082},-0.9830884224711728,-0.9830884224711728,"dy =",{"$f":"(K17-K16)/501","v":3.9918987170364136E-3}]
[null,null,0.22562874251497012,0.436097488665655,0.7795268644794342,{"$f":"(LOOKUP(Sheet2!C21+0.0001,Sheet2!$C$505:$C$1005,$D$505:$D$1005)-D21)/0.0001","v":1.7997116243534395},{"$f":"(LOOKUP(Sheet2!C21+0.0001,Sheet2!$C$505:$C$1005,$E$505:$E$1005)-E21)/0.0001","v":-1.8794571443903063},-1.0443101655608387,-1.0443101655608387]
[null,null,0.23816367265469068,0.4585184424752562,0.7554268408764354,{"$f":"(LOOKUP(Sheet2!C22+0.0001,Sheet2!$C$505:$C$1005,$D$505:$D$1005)-D22)/0.0001","v":1.7772780691838186},{"$f":"(LOOKUP(Sheet2!C22+0.0001,Sheet2!$C$505:$C$1005,$E$505:$E$1005)-E22)/0.0001","v":-1.9660389212761142},-1.1062078328457519,-1.1062078328457519]
[null,null,0.25069860279441125,0.48065123350215355,0.7302586787528678,{"$f":"(LOOKUP(Sheet2!C23+0.0001,Sheet2!$C$505:$C$1005,$D$505:$D$1005)-D23)/0.0001","v":1.7537275569917687},{"$f":"(LOOKUP(Sheet2!C23+0.0001,Sheet2!$C$505:$C$1005,$E$505:$E$1005)-E23)/0.0001","v":-2.049840810300907},-1.1688479217473617,-1.1688479217473617,"xl =",{"$f":"IF(m>=0,P6,T6)","v":0.7317816809137007},{"$f":"IF(m>=0,R6,V6)","v":-0.9999412572352431},"= yl"]
[null,null,0.2632335329341318,0.5024819520623288,0.7040579647228168,{"$f":"(LOOKUP(Sheet2!C24+0.0001,Sheet2!$C$505:$C$1005,$D$505:$D$1005)-D24)/0.0001","v":1.7290748884513096},{"$f":"(LOOKUP(Sheet2!C24+0.0001,Sheet2!$C$505:$C$1005,$E$505:$E$1005)-E24)/0.0001","v":-2.130744319480682},-1.2323030851423318,-1.2323030851423318,"xr =",{"$f":"IF(m>=0,P7,T7)","v":0.9999746858865195},{"$f":"IF(m>=0,R7,V7)","v":0.5814044766847535},"= yR"]
[null,null,0.2757684630738524,0.5239968783137301,0.67686174538088,{"$f":"(LOOKUP(Sheet2!C25+0.0001,Sheet2!$C$505:$C$1005,$D$505:$D$1005)-D25)/0.0001","v":1.7033355568984998},{"$f":"(LOOKUP(Sheet2!C25+0.0001,Sheet2!$C$505:$C$1005,$E$505:$E$1005)-E25)/0.0001","v":-2.2086350550032385},-1.29665293844086,-1.29665293844086]
[null,null,0.28830339321357296,0.5451824908787115,0.6487084749199997,{"$f":"(LOOKUP(Sheet2!C26+0.0001,Sheet2!$C$505:$C$1005,$D$505:$D$1005)-D26)/0.0001","v":1.6765257386019972},{"$f":"(LOOKUP(Sheet2!C26+0.0001,Sheet2!$C$505:$C$1005,$E$505:$E$1005)-E26)/0.0001","v":-2.2834028829843422},-1.3619849850252828,-1.3619849850252828]
[null,null,0.3008383233532935,0.5660254753417459,0.6196379607590178,{"$f":"(LOOKUP(Sheet2!C27+0.0001,Sheet2!$C$505:$C$1005,$D$505:$D$1005)-D27)/0.0001","v":1.6486622825961916},{"$f":"(LOOKUP(Sheet2!C27+0.0001,Sheet2!$C$505:$C$1005,$E$505:$E$1005)-E27)/0.0001","v":-2.354942085178724},-1.4283956817828907,-1.4283956817828907]
[null,null,0.3133732534930141,0.5865127326170683,0.5896913072568317,{"$f":"(LOOKUP(Sheet2!C28+0.0001,Sheet2!$C$505:$C$1005,$D$505:$D$1005)-D28)/0.0001","v":1.6197627000846815},{"$f":"(LOOKUP(Sheet2!C28+0.0001,Sheet2!$C$505:$C$1005,$E$505:$E$1005)-E28)/0.0001","v":-2.423151508473831},-1.4959916710930237,-1.4959916710930237]
[null,null,0.32590818363273466,0.6066313871809931,0.558910857592737,{"$f":"(LOOKUP(Sheet2!C29+0.0001,Sheet2!$C$505:$C$1005,$D$505:$D$1005)-D29)/0.0001","v":1.5898451534446245},{"$f":"(LOOKUP(Sheet2!C29+0.0001,Sheet2!$C$505:$C$1005,$E$505:$E$1005)-E29)/0.0001","v":-2.487934707906536},-1.5648912112705275,-1.5648912112705275]
[null,null,0.33844311377245523,0.6263687951637293,0.5273401338951352,{"$f":"(LOOKUP(Sheet2!C30+0.0001,Sheet2!$C$505:$C$1005,$D$505:$D$1005)-D30)/0.0001","v":1.5589284448058738},{"$f":"(LOOKUP(Sheet2!C30+0.0001,Sheet2!$C$505:$C$1005,$E$505:$E$1005)-E30)/0.0001","v":-2.5492000830407147},-1.6352258447360326,-1.6352258447360326]
[null,null,0.3509780439121758,0.6457125522956102,0.49502377570326267,{"$f":"(LOOKUP(Sheet2!C31+0.0001,Sheet2!$C$505:$C$1005,$D$505:$D$1005)-D31)/0.0001","v":1.5270320042370944},{"$f":"(LOOKUP(Sheet2!C31+0.0001,Sheet2!$C$505:$C$1005,$E$505:$E$1005)-E31)/0.0001","v":-2.6068610074719833},-1.7071423521174802,-1.7071423521174802]
[null,null,0.36351297405189636,0.6646505017027422,0.46200747684895294,{"$f":"(LOOKUP(Sheet2!C32+0.0001,Sheet2!$C$505:$C$1005,$D$505:$D$1005)-D32)/0.0001","v":1.4941758775333103},{"$f":"(LOOKUP(Sheet2!C32+0.0001,Sheet2!$C$505:$C$1005,$E$505:$E$1005)-E32)/0.0001","v":-2.6608359513347057},-1.7808050520313574,-1.7808050520313574]
[null,null,0.37604790419161693,0.6831707415471743,0.42833792084767625,{"$f":"(LOOKUP(Sheet2!C33+0.0001,Sheet2!$C$505:$C$1005,$D$505:$D$1005)-D33)/0.0001","v":1.4603807136204239},{"$f":"(LOOKUP(Sheet2!C33+0.0001,Sheet2!$C$505:$C$1005,$E$505:$E$1005)-E33)/0.0001","v":-2.711048596554244},-1.8563985207893459,-1.8563985207893459]
[null,null,0.3885828343313375,0.7012616325067864,0.3940627148902146,{"$f":"(LOOKUP(Sheet2!C34+0.0001,Sheet2!$C$505:$C$1005,$D$505:$D$1005)-D34)/0.0001","v":1.4256677515755989},{"$f":"(LOOKUP(Sheet2!C34+0.0001,Sheet2!$C$505:$C$1005,$E$505:$E$1005)-E34)/0.0001","v":-2.7574279447811767},-1.9341308251756149,-1.9341308251756149]
[null,null,0.40111776447105807,0.718911805090196,0.3592303225283014,{"$f":"(LOOKUP(Sheet2!C35+0.0001,Sheet2!$C$505:$C$1005,$D$505:$D$1005)-D35)/0.0001","v":1.3900588072779385},{"$f":"(LOOKUP(Sheet2!C35+0.0001,Sheet2!$C$505:$C$1005,$E$505:$E$1005)-E35)/0.0001","v":-2.799908417770447},-2.014237385577467,-2.014237385577467]
[null,null,0.41365269461077864,0.736110166782085,0.3238899951494065,{"$f":"(LOOKUP(Sheet2!C36+0.0001,Sheet2!$C$505:$C$1005,$D$505:$D$1005)-D36)/0.0001","v":1.3535762597038925},{"$f":"(LOOKUP(Sheet2!C36+0.0001,Sheet2!$C$505:$C$1005,$E$505:$E$1005)-E36)/0.0001","v":-2.838429950097199},-2.0969856184668396,-2.0969856184668396]
[null,null,0.4261876247504992,0.7528459090144567,0.2880917023375593,{"$f":"(LOOKUP(Sheet2!C37+0.0001,Sheet2!$C$505:$C$1005,$D$505:$D$1005)-D37)/0.0001","v":1.3162430368551803},{"$f":"(LOOKUP(Sheet2!C37+0.0001,Sheet2!$C$505:$C$1005,$E$505:$E$1005)-E37)/0.0001","v":-2.8729380741066013},-2.182680548852694,-2.182680548852694]
[null,null,0.4387225548902198,0.7691085139594432,0.2518860612186729,{"$f":"(LOOKUP(Sheet2!C38+0.0001,Sheet2!$C$505:$C$1005,$D$505:$D$1005)-D38)/0.0001","v":1.278082601356978},{"$f":"(LOOKUP(Sheet2!C38+0.0001,Sheet2!$C$505:$C$1005,$E$505:$E$1005)-E38)/0.0001","v":-2.903383996910036},-2.271671638302116,-2.271671638302116]
[null,null,0.45125748502994034,0.7848877611393913,0.21532426489027603,{"$f":"(LOOKUP(Sheet2!C39+0.0001,Sheet2!$C$505:$C$1005,$D$505:$D$1005)-D39)/0.0001","v":1.2391189357041643},{"$f":"(LOOKUP(Sheet2!C39+0.0001,Sheet2!$C$505:$C$1005,$E$505:$E$1005)-E39)/0.0001","v":-2.92972466938185},-2.3643611480418154,-2.3643611480418154]
[null,null,0.4637924151696609,0.8001737338500744,0.17845801003684786,{"$f":"(LOOKUP(Sheet2!C40+0.0001,Sheet2!$C$505:$C$1005,$D$505:$D$1005)-D40)/0.0001","v":1.1993765271978152},{"$f":"(LOOKUP(Sheet2!C40+0.0001,Sheet2!$C$505:$C$1005,$E$505:$E$1005)-E40)/0.0001","v":-2.951922847039823},-2.4612144560946185,-2.4612144560946185]
[null,null,0.4763273453093815,0.8149568253929946,0.14133942383310222,{"$f":"(LOOKUP(Sheet2!C41+0.0001,Sheet2!$C$505:$C$1005,$D$505:$D$1005)-D41)/0.0001","v":1.1588803525486302},{"$f":"(LOOKUP(Sheet2!C41+0.0001,Sheet2!$C$505:$C$1005,$E$505:$E$1005)-E41)/0.0001","v":-2.9699471426836155},-2.5627728834577748,-2.5627728834577748]
[null,null,0.48886227544910205,0.8292277451128558,0.10402099023858082,{"$f":"(LOOKUP(Sheet2!C42+0.0001,Sheet2!$C$505:$C$1005,$D$505:$D$1005)-D42)/0.0001","v":1.1176558621850408},{"$f":"(LOOKUP(Sheet2!C42+0.0001,Sheet2!$C$505:$C$1005,$E$505:$E$1005)-E42)/0.0001","v":-2.9837720707968916},-2.6696697720204807,-2.6696697720204807]
[null,null,0.5013972055888226,0.842977524236415,0.0665554757877681,{"$f":"(LOOKUP(Sheet2!C43+0.0001,Sheet2!$C$505:$C$1005,$D$505:$D$1005)-D43)/0.0001","v":1.0757289642548962},{"$f":"(LOOKUP(Sheet2!C43+0.0001,Sheet2!$C$505:$C$1005,$E$505:$E$1005)-E43)/0.0001","v":-2.993378083574749},-2.7826508191569546,-2.7826508191569546]
[null,null,0.5139321357285431,0.8561975215090428,0.028995854980658566,{"$f":"(LOOKUP(Sheet2!C44+0.0001,Sheet2!$C$505:$C$1005,$D$505:$D$1005)-D44)/0.0001","v":1.033126008344043},{"$f":"(LOOKUP(Sheet2!C44+0.0001,Sheet2!$C$505:$C$1005,$E$505:$E$1005)-E44)/0.0001","v":-2.9987515985539086},-2.9026000452360012,-2.9026000452360012]
[null,null,0.5264670658682636,0.8688794286254484,-0.008604764620729625,{"$f":"(LOOKUP(Sheet2!C45+0.0001,Sheet2!$C$505:$C$1005,$D$505:$D$1005)-D45)/0.0001","v":0.9898737689206794},{"$f":"(LOOKUP(Sheet2!C45+0.0001,Sheet2!$C$505:$C$1005,$E$505:$E$1005)-E45)/0.0001","v":-2.9998850178378915},-3.030573303411052,-3.030573303411052]
[null,null,0.5390019960079842,0.8810152754511594,-0.046193217483984264,{"$f":"(LOOKUP(Sheet2!C46+0.0001,Sheet2!$C$505:$C$1005,$D$505:$D$1005)-D46)/0.0001","v":0.9459994285021533},{"$f":"(LOOKUP(Sheet2!C46+0.0001,Sheet2!$C$505:$C$1005,$E$505:$E$1005)-E46)/0.0001","v":-2.9967767388288515},-3.1678420182280584,-3.1678420182280584]
[null,null,0.5515369261477047,0.8925974350314719,-0.0837163552798971,{"$f":"(LOOKUP(Sheet2!C47+0.0001,Sheet2!$C$505:$C$1005,$D$505:$D$1005)-D47)/0.0001","v":0.9015305605719615},{"$f":"(LOOKUP(Sheet2!C47+0.0001,Sheet2!$C$505:$C$1005,$E$505:$E$1005)-E47)/0.0001","v":-2.98943115648459},-3.315950991819949,-3.315950991819949]
[null,null,0.5640718562874252,0.9036186283847237,-0.12112112203173614,{"$f":"(LOOKUP(Sheet2!C48+0.0001,Sheet2!$C$505:$C$1005,$D$505:$D$1005)-D48)/0.0001","v":0.8564951122591591},{"$f":"(LOOKUP(Sheet2!C48+0.0001,Sheet2!$C$505:$C$1005,$E$505:$E$1005)-E48)/0.0001","v":-2.9778586571135857},-3.4767958561479126,-3.4767958561479126]
[null,null,0.5766067864271457,0.9140719290768807,-0.1583546291339359,{"$f":"(LOOKUP(Sheet2!C49+0.0001,Sheet2!$C$505:$C$1005,$D$505:$D$1005)-D49)/0.0001","v":0.8109213867635301},{"$f":"(LOOKUP(Sheet2!C49+0.0001,Sheet2!$C$505:$C$1005,$E$505:$E$1005)-E49)/0.0001","v":-2.9620756036977114},-3.65272842971827,-3.65272842971827]
[null,null,0.5891417165668662,0.9239507675745567,-0.1953642301341334,{"$f":"(LOOKUP(Sheet2!C50+0.0001,Sheet2!$C$505:$C$1005,$D$505:$D$1005)-D50)/0.0001","v":0.7648380255786957},{"$f":"(LOOKUP(Sheet2!C50+0.0001,Sheet2!$C$505:$C$1005,$E$505:$E$1005)-E50)/0.0001","v":-2.942104312746996},-3.846702457714397,-3.846702457714397]
[null,null,0.6016766467065867,0.9332489353737362,-0.2320975951728109,{"$f":"(LOOKUP(Sheet2!C51+0.0001,Sheet2!$C$505:$C$1005,$D$505:$D$1005)-D51)/0.0001","v":0.7182739904809665},{"$f":"(LOOKUP(Sheet2!C51+0.0001,Sheet2!$C$505:$C$1005,$E$505:$E$1005)-E51)/0.0001","v":-2.917973022736331},-4.062479028068961,-4.062479028068961]
[null,null,0.6142115768463072,0.9419605889016011,-0.2685027849752899,{"$f":"(LOOKUP(Sheet2!C52+0.0001,Sheet2!$C$505:$C$1005,$D$505:$D$1005)-D52)/0.0001","v":0.6712585453350073},{"$f":"(LOOKUP(Sheet2!C52+0.0001,Sheet2!$C$505:$C$1005,$E$505:$E$1005)-E52)/0.0001","v":-2.889715854186292},-4.3049222602359745,-4.3049222602359745]
[null,null,0.6267465069860277,0.9500802531890115,-0.3045283242914566,{"$f":"(LOOKUP(Sheet2!C53+0.0001,Sheet2!$C$505:$C$1005,$D$505:$D$1005)-D53)/0.0001","v":0.6238212377018826},{"$f":"(LOOKUP(Sheet2!C53+0.0001,Sheet2!$C$505:$C$1005,$E$505:$E$1005)-E53)/0.0001","v":-2.857372761426724},-4.580435209216509,-4.580435209216509]
[null,null,0.6392814371257483,0.9576028253113326,-0.34012327467937875,{"$f":"(LOOKUP(Sheet2!C54+0.0001,Sheet2!$C$505:$C$1005,$D$505:$D$1005)-D54)/0.0001","v":0.5759918802694663},{"$f":"(LOOKUP(Sheet2!C54+0.0001,Sheet2!$C$505:$C$1005,$E$505:$E$1005)-E54)/0.0001","v":-2.820989476096103},-4.897620214327256,-4.897620214327256]
[null,null,0.6518163672654688,0.9645235775954436,-0.3752373065299009,{"$f":"(LOOKUP(Sheet2!C55+0.0001,Sheet2!$C$505:$C$1005,$D$505:$D$1005)-D55)/0.0001","v":0.5278005321118773},{"$f":"(LOOKUP(Sheet2!C55+0.0001,Sheet2!$C$505:$C$1005,$E$505:$E$1005)-E55)/0.0001","v":-2.7806174424677144},-5.268311176841159,-5.268311176841159]
[null,null,0.6643512974051893,0.9708381605909149,-0.409820770230377,{"$f":"(LOOKUP(Sheet2!C56+0.0001,Sheet2!$C$505:$C$1005,$D$505:$D$1005)-D56)/0.0001","v":0.4792774798068056},{"$f":"(LOOKUP(Sheet2!C56+0.0001,Sheet2!$C$505:$C$1005,$E$505:$E$1005)-E56)/0.0001","v":-2.7363137447206087},-5.709247481904645,-5.709247481904645]
[null,null,0.6768862275449098,0.9765426058034855,-0.44382476636692014,{"$f":"(LOOKUP(Sheet2!C57+0.0001,Sheet2!$C$505:$C$1005,$D$505:$D$1005)-D57)/0.0001","v":0.4304532183885268},{"$f":"(LOOKUP(Sheet2!C57+0.0001,Sheet2!$C$505:$C$1005,$E$505:$E$1005)-E57)/0.0001","v":-2.6881410262336036},-6.244908648370911,-6.244908648370911]
[null,null,0.6894211576846303,0.9816333281891222,-0.47720121486590655,{"$f":"(LOOKUP(Sheet2!C58+0.0001,Sheet2!$C$505:$C$1005,$D$505:$D$1005)-D58)/0.0001","v":0.3813584321987751},{"$f":"(LOOKUP(Sheet2!C58+0.0001,Sheet2!$C$505:$C$1005,$E$505:$E$1005)-E58)/0.0001","v":-2.636167400998368},-6.912571424733363,-6.912571424733363]
[null,null,0.7019560878243508,0.9861071284070947,-0.5099029229769695,{"$f":"(LOOKUP(Sheet2!C59+0.0001,Sheet2!$C$505:$C$1005,$D$505:$D$1005)-D59)/0.0001","v":0.332023975591067},{"$f":"(LOOKUP(Sheet2!C59+0.0001,Sheet2!$C$505:$C$1005,$E$505:$E$1005)-E59)/0.0001","v":-2.5804663573114617},-7.771927773341464,-7.771927773341464]
[null,null,0.7144910179640713,0.989961194830649,-0.5418836520013611,{"$f":"(LOOKUP(Sheet2!C60+0.0001,Sheet2!$C$505:$C$1005,$D$505:$D$1005)-D60)/0.0001","v":0.2824808535428769},{"$f":"(LOOKUP(Sheet2!C60+0.0001,Sheet2!$C$505:$C$1005,$E$505:$E$1005)-E60)/0.0001","v":-2.521116653856348},-8.924911625819892,-8.924911625819892]
[null,null,0.7270259481037918,0.9931931053140164,-0.5730981826713263,{"$f":"(LOOKUP(Sheet2!C61+0.0001,Sheet2!$C$505:$C$1005,$D$505:$D$1005)-D61)/0.0001","v":0.23276020217233295},{"$f":"(LOOKUP(Sheet2!C61+0.0001,Sheet2!$C$505:$C$1005,$E$505:$E$1005)-E61)/0.0001","v":-2.4582022083718957},-10.561093285835314,-10.561093285835314]
[null,null,0.7395608782435124,0.9958008287146471,-0.6035023790880509,{"$f":"(LOOKUP(Sheet2!C62+0.0001,Sheet2!$C$505:$C$1005,$D$505:$D$1005)-D62)/0.0001","v":0.18289326916498538},{"$f":"(LOOKUP(Sheet2!C62+0.0001,Sheet2!$C$505:$C$1005,$E$505:$E$1005)-E62)/0.0001","v":-2.391811978964542},-13.077638066641605,-13.077638066641605]
[null,null,0.7520958083832329,0.9977827261697125,-0.6330532511277773,{"$f":"(LOOKUP(Sheet2!C63+0.0001,Sheet2!$C$505:$C$1005,$D$505:$D$1005)-D63)/0.0001","v":0.13291139414395303},{"$f":"(LOOKUP(Sheet2!C63+0.0001,Sheet2!$C$505:$C$1005,$E$505:$E$1005)-E63)/0.0001","v":-2.3220398383350105},-17.470585221761098,-17.470585221761098]
[null,null,0.7646307385229534,0.9991375521260728,-0.6617090152278435,{"$f":"(LOOKUP(Sheet2!C64+0.0001,Sheet2!$C$505:$C$1005,$D$505:$D$1005)-D64)/0.0001","v":0.08284598896568518},{"$f":"(LOOKUP(Sheet2!C64+0.0001,Sheet2!$C$505:$C$1005,$E$505:$E$1005)-E64)/0.0001","v":-2.2489844410567006},-27.146570028734043,-27.146570028734043]
[null,null,0.7771656686626739,0.9998644551230634,-0.6894291534667046,{"$f":"(LOOKUP(Sheet2!C65+0.0001,Sheet2!$C$505:$C$1005,$D$505:$D$1005)-D65)/0.0001","v":0.032728517985747274},{"$f":"(LOOKUP(Sheet2!C65+0.0001,Sheet2!$C$505:$C$1005,$E$505:$E$1005)-E65)/0.0001","v":-2.172749084070613},-66.38702934904688,-66.38702934904688]
[null,null,0.7897005988023944,0.9999629783276088,-0.7161744708543942,{"$f":"(LOOKUP(Sheet2!C66+0.0001,Sheet2!$C$505:$C$1005,$D$505:$D$1005)-D66)/0.0001","v":-0.017409521722022703},{"$f":"(LOOKUP(Sheet2!C66+0.0001,Sheet2!$C$505:$C$1005,$E$505:$E$1005)-E66)/0.0001","v":-2.0934415606443935},120.24693119491221,100]
[null,null,0.8022355289421149,{"$f":"SIN(2*t)","v":0.9994330598213254},{"$f":"COS(3*t)","v":-0.7419071507524228},{"$f":"(LOOKUP(Sheet2!C67+0.0001,Sheet2!$C$505:$C$1005,$D$505:$D$1005)-D67)/0.0001","v":-0.06753662015412942},{"$f":"(LOOKUP(Sheet2!C67+0.0001,Sheet2!$C$505:$C$1005,$E$505:$E$1005)-E67)/0.0001","v":-2.011174007934269},29.779014752951014,29.779014752951014]
[null,null,0.8147704590818354,0.9982750326394352,-0.7665908083447512,{"$f":"(LOOKUP(Sheet2!C68+0.0001,Sheet2!$C$505:$C$1005,$D$505:$D$1005)-D68)/0.0001","v":-0.11762127418601942},{"$f":"(LOOKUP(Sheet2!C68+0.0001,Sheet2!$C$505:$C$1005,$E$505:$E$1005)-E68)/0.0001","v":-1.9260627484385395},16.375122287762746,{"$f":"IF(H68>100,100,IF(H68<-100,-100,H68))","v":16.375122287762746}]
[null,null,{"$f":"C68+B$12","v":0.8273053892215559},0.9964896245614655,-0.7901905420842325,{"$f":"(LOOKUP(Sheet2!C69+0.0001,Sheet2!$C$505:$C$1005,$D$505:$D$1005)-D69)/0.0001","v":-0.16763200736846784},{"$f":"(LOOKUP(Sheet2!C69+0.0001,Sheet2!$C$505:$C$1005,$E$505:$E$1005)-E69)/0.0001","v":-1.838228125539132},{"$f":"G69/F69","v":10.96585404181534},10.96585404181534]
[null,null,0.8398403193612765,0.9940779576538639,-0.8126729830417809,{"$f":"(LOOKUP(Sheet2!C70+0.0001,Sheet2!$C$505:$C$1005,$D$505:$D$1005)-D70)/0.0001","v":-0.21753738970287095},{"$f":"(LOOKUP(Sheet2!C70+0.0001,Sheet2!$C$505:$C$1005,$E$505:$E$1005)-E70)/0.0001","v":-1.747794333319952},8.034454838808271,8.034454838808271]
[null,null,0.852375249500997,0.9910415475648197,-0.8340063420884918,{"$f":"(LOOKUP(Sheet2!C71+0.0001,Sheet2!$C$505:$C$1005,$D$505:$D$1005)-D71)/0.0001","v":-0.2673060574076569},{"$f":"(LOOKUP(Sheet2!C71+0.0001,Sheet2!$C$505:$C$1005,$E$505:$E$1005)-E71)/0.0001","v":-1.6548892409640192},6.190990421291573,6.190990421291573]
[null,null,0.8649101796407175,0.9873823025717315,-0.8541604548439935,{"$f":"(LOOKUP(Sheet2!C72+0.0001,Sheet2!$C$505:$C$1005,$D$505:$D$1005)-D72)/0.0001","v":-0.3169067326169728},{"$f":"(LOOKUP(Sheet2!C72+0.0001,Sheet2!$C$505:$C$1005,$E$505:$E$1005)-E72)/0.0001","v":-1.5596442119658604},4.92146127375247,4.92146127375247]
[null,null,0.877445109780438,0.9831025223819223,-0.8731068243274838,{"$f":"(LOOKUP(Sheet2!C73+0.0001,Sheet2!$C$505:$C$1005,$D$505:$D$1005)-D73)/0.0001","v":-0.36630824304273446},{"$f":"(LOOKUP(Sheet2!C73+0.0001,Sheet2!$C$505:$C$1005,$E$505:$E$1005)-E73)/0.0001","v":-1.462193918376764},3.991703561544425,3.991703561544425]
[null,null,0.8899800399201585,0.9782048966873534,-0.8908186612511384,{"$f":"(LOOKUP(Sheet2!C74+0.0001,Sheet2!$C$505:$C$1005,$D$505:$D$1005)-D74)/0.0001","v":-0.4154795415678425},{"$f":"(LOOKUP(Sheet2!C74+0.0001,Sheet2!$C$505:$C$1005,$E$505:$E$1005)-E74)/0.0001","v":-1.3626761503970908},3.279767146307451,3.279767146307451]
[null,null,0.902514970059879,0.9726925034742474,-0.9072709218989222,{"$f":"(LOOKUP(Sheet2!C75+0.0001,Sheet2!$C$505:$C$1005,$D$505:$D$1005)-D75)/0.0001","v":-0.46438972575058024},{"$f":"(LOOKUP(Sheet2!C75+0.0001,Sheet2!$C$505:$C$1005,$E$505:$E$1005)-E75)/0.0001","v":-1.2612316215365738},2.715890450629759,2.715890450629759]
[null,null,0.9150499001995995,0.966568807088682,-0.9224403435372426,{"$f":"(LOOKUP(Sheet2!C76+0.0001,Sheet2!$C$505:$C$1005,$D$505:$D$1005)-D76)/0.0001","v":-0.5130080572557372},{"$f":"(LOOKUP(Sheet2!C76+0.0001,Sheet2!$C$505:$C$1005,$E$505:$E$1005)-E76)/0.0001","v":-1.1580037696479195},2.2572818365514453,2.2572818365514453]
[null,null,0.92758483033932,0.9598376560593691,-0.9363054773073748,{"$f":"(LOOKUP(Sheet2!C77+0.0001,Sheet2!$C$505:$C$1005,$D$505:$D$1005)-D77)/0.0001","v":-0.561303981164718},{"$f":"(LOOKUP(Sheet2!C77+0.0001,Sheet2!$C$505:$C$1005,$E$505:$E$1005)-E77)/0.0001","v":-1.0531385541323601},1.8762356752700642,1.8762356752700642]
[null,null,0.9401197604790406,0.9525032806789899,-0.9488467185531543,{"$f":"(LOOKUP(Sheet2!C78+0.0001,Sheet2!$C$505:$C$1005,$D$505:$D$1005)-D78)/0.0001","v":-0.6092471451779602},{"$f":"(LOOKUP(Sheet2!C78+0.0001,Sheet2!$C$505:$C$1005,$E$505:$E$1005)-E78)/0.0001","v":-0.9467842495414214},1.5540232843682298,1.5540232843682298]
[null,null,0.9526546906187611,0.9445702903456041,-0.9600463345410518,{"$f":"(LOOKUP(Sheet2!C79+0.0001,Sheet2!$C$505:$C$1005,$D$505:$D$1005)-D79)/0.0001","v":-0.6568074186985573},{"$f":"(LOOKUP(Sheet2!C79+0.0001,Sheet2!$C$505:$C$1005,$E$505:$E$1005)-E79)/0.0001","v":-0.8390912359268476},1.2775300826983347,1.2775300826983347]
[null,null,0.9651896207584816,0.9360436706658043,-0.9698884895334352,{"$f":"(LOOKUP(Sheet2!C80+0.0001,Sheet2!$C$505:$C$1005,$D$505:$D$1005)-D80)/0.0001","v":-0.7039549117593413},{"$f":"(LOOKUP(Sheet2!C80+0.0001,Sheet2!$C$505:$C$1005,$E$505:$E$1005)-E80)/0.0001","v":-0.7302117862173496},1.0372990855229443,1.0372990855229443]
[null,null,0.9777245508982021,0.9269287803214369,-0.978359267179569,{"$f":"(LOOKUP(Sheet2!C81+0.0001,Sheet2!$C$505:$C$1005,$D$505:$D$1005)-D81)/0.0001","v":-0.7506599938122971},{"$f":"(LOOKUP(Sheet2!C81+0.0001,Sheet2!$C$505:$C$1005,$E$505:$E$1005)-E81)/0.0001","v":-0.6202998509030611},0.8263392961076961,0.8263392961076961]
[null,null,0.9902594810379226,0.9172313477018584,-0.9854466901926882,{"$f":"(LOOKUP(Sheet2!C82+0.0001,Sheet2!$C$505:$C$1005,$D$505:$D$1005)-D82)/0.0001","v":-0.7968933123481126},{"$f":"(LOOKUP(Sheet2!C82+0.0001,Sheet2!$C$505:$C$1005,$E$505:$E$1005)-E82)/0.0001","v":-0.5095108403685433},0.6393714597343365,0.6393714597343365]
[null,null,1.0027944111776432,0.9069574673038435,-0.9911407372853268,{"$f":"(LOOKUP(Sheet2!C83+0.0001,Sheet2!$C$505:$C$1005,$D$505:$D$1005)-D83)/0.0001","v":-0.8426258113469753},{"$f":"(LOOKUP(Sheet2!C83+0.0001,Sheet2!$C$505:$C$1005,$E$505:$E$1005)-E83)/0.0001","v":-0.3980014051330194},0.4723346944437843,0.4723346944437843]
[null,null,1.0153293413173639,0.896113595901407,-0.9954333573389539,{"$f":"(LOOKUP(Sheet2!C84+0.0001,Sheet2!$C$505:$C$1005,$D$505:$D$1005)-D84)/0.0001","v":-0.8878287495350801},{"$f":"(LOOKUP(Sheet2!C84+0.0001,Sheet2!$C$505:$C$1005,$E$505:$E$1005)-E84)/0.0001","v":-0.2859292143675418},0.3220544666043664,0.3220544666043664]
[null,null,1.0278642714570845,0.8847065484879474,-0.9983184807878809,{"$f":"(LOOKUP(Sheet2!C85+0.0001,Sheet2!$C$505:$C$1005,$D$505:$D$1005)-D85)/0.0001","v":-0.9324737184468468},{"$f":"(LOOKUP(Sheet2!C85+0.0001,Sheet2!$C$505:$C$1005,$E$505:$E$1005)-E85)/0.0001","v":-0.17345273295332753},0.18601353531146705,0.18601353531146705]
[null,null,1.040399201596805,0.8727434939932625,-0.9997920282013468,{"$f":"(LOOKUP(Sheet2!C86+0.0001,Sheet2!$C$505:$C$1005,$D$505:$D$1005)-D86)/0.0001","v":-0.9765326602839686},{"$f":"(LOOKUP(Sheet2!C86+0.0001,Sheet2!$C$505:$C$1005,$E$505:$E$1005)-E86)/0.0001","v":-0.060730997417657306},0.062190441638682294,0.062190441638682294]
[null,null,1.0529341317365257,0.860231950778128,-0.9998519160516438,{"$f":"(LOOKUP(Sheet2!C87+0.0001,Sheet2!$C$505:$C$1005,$D$505:$D$1005)-D87)/0.0001","v":-1.0199778855446429},{"$f":"(LOOKUP(Sheet2!C87+0.0001,Sheet2!$C$505:$C$1005,$E$505:$E$1005)-E87)/0.0001","v":0.0520766089329161},-0.051056605903870636,-0.051056605903870636]
[null,null,1.0654690618762463,0.8471797819092709,-0.9984980596601287,{"$f":"(LOOKUP(Sheet2!C88+0.0001,Sheet2!$C$505:$C$1005,$D$505:$D$1005)-D88)/0.0001","v":-1.0627820904263174},{"$f":"(LOOKUP(Sheet2!C88+0.0001,Sheet2!$C$505:$C$1005,$E$505:$E$1005)-E88)/0.0001","v":0.16481058137229887},-0.15507466945193613,-0.15507466945193613]
[null,null,1.078003992015967,0.8335951902177079,-0.9957323733169551,{"$f":"(LOOKUP(Sheet2!C89+0.0001,Sheet2!$C$505:$C$1005,$D$505:$D$1005)-D89)/0.0001","v":-1.1049183739852975},{"$f":"(LOOKUP(Sheet2!C89+0.0001,Sheet2!$C$505:$C$1005,$E$505:$E$1005)-E89)/0.0001","v":0.27731151929222264},-0.25097919069984864,-0.25097919069984864]
[null,null,1.0905389221556876,0.8194867131435528,-0.991558767574355,{"$f":"(LOOKUP(Sheet2!C90+0.0001,Sheet2!$C$505:$C$1005,$D$505:$D$1005)-D90)/0.0001","v":-1.146360255044332},{"$f":"(LOOKUP(Sheet2!C90+0.0001,Sheet2!$C$505:$C$1005,$E$505:$E$1005)-E90)/0.0001","v":0.38942035158306965},-0.33970154658581564,-0.33970154658581564]
[null,null,1.1030738522954082,0.8048632173705346,-0.9859831437173006,{"$f":"(LOOKUP(Sheet2!C91+0.0001,Sheet2!$C$505:$C$1005,$D$505:$D$1005)-D91)/0.0001","v":-1.1870816888281954},{"$f":"(LOOKUP(Sheet2!C91+0.0001,Sheet2!$C$505:$C$1005,$E$505:$E$1005)-E91)/0.0001","v":0.5009785615572859},-0.4220253469260546,-0.4220253469260546]
[null,null,1.1156087824351288,0.7897338932535977,-0.9790133854193596,{"$f":"(LOOKUP(Sheet2!C92+0.0001,Sheet2!$C$505:$C$1005,$D$505:$D$1005)-D92)/0.0001","v":-1.2270570833472494},{"$f":"(LOOKUP(Sheet2!C92+0.0001,Sheet2!$C$505:$C$1005,$E$505:$E$1005)-E92)/0.0001","v":0.6118284110789851},-0.49861446495219125,-0.49861446495219125]
[null,null,1.1281437125748495,0.774108249043085,-0.9706593475955472,{"$f":"(LOOKUP(Sheet2!C93+0.0001,Sheet2!$C$505:$C$1005,$D$505:$D$1005)-D93)/0.0001","v":-1.2662613154634794},{"$f":"(LOOKUP(Sheet2!C93+0.0001,Sheet2!$C$505:$C$1005,$E$505:$E$1005)-E93)/0.0001","v":0.7218131635999825},-0.5700349167942346,-0.5700349167942346]
[null,null,1.14067864271457,0.7579961049091362,-0.9609328424679332,{"$f":"(LOOKUP(Sheet2!C94+0.0001,Sheet2!$C$505:$C$1005,$D$505:$D$1005)-D94)/0.0001","v":-1.3046697466911894},{"$f":"(LOOKUP(Sheet2!C94+0.0001,Sheet2!$C$505:$C$1005,$E$505:$E$1005)-E94)/0.0001","v":0.8307773057791845},-0.6367721087165107,-0.6367721087165107]
[null,null,1.1532135728542907,0.7414075867700542,-0.9498476228637079,{"$f":"(LOOKUP(Sheet2!C95+0.0001,Sheet2!$C$505:$C$1005,$D$505:$D$1005)-D95)/0.0001","v":-1.3422582386746207},{"$f":"(LOOKUP(Sheet2!C95+0.0001,Sheet2!$C$505:$C$1005,$E$505:$E$1005)-E95)/0.0001","v":0.9385667673766918},-0.6992445569218156,-0.6992445569218156]
[null,null,1.1657485029940113,0.7243531199285209,-0.9374193627693217,{"$f":"(LOOKUP(Sheet2!C96+0.0001,Sheet2!$C$505:$C$1005,$D$505:$D$1005)-D96)/0.0001","v":-1.3790031683647008},{"$f":"(LOOKUP(Sheet2!C96+0.0001,Sheet2!$C$505:$C$1005,$E$505:$E$1005)-E96)/0.0001","v":1.045029139092879},-0.7578148934437424,-0.7578148934437424]
[null,null,1.178283433133732,0.7068434225196585,-0.9236656351681952,{"$f":"(LOOKUP(Sheet2!C97+0.0001,Sheet2!$C$505:$C$1005,$D$505:$D$1005)-D97)/0.0001","v":-1.4148814428582845},{"$f":"(LOOKUP(Sheet2!C97+0.0001,Sheet2!$C$505:$C$1005,$E$505:$E$1005)-E97)/0.0001","v":1.150013888066015},-0.8127987640736914,-0.8127987640736914]
[null,null,1.1908183632734526,0.6888894987750578,-0.9086058871933366,{"$f":"(LOOKUP(Sheet2!C98+0.0001,Sheet2!$C$505:$C$1005,$D$505:$D$1005)-D98)/0.0001","v":-1.4498705139187607},{"$f":"(LOOKUP(Sheet2!C98+0.0001,Sheet2!$C$505:$C$1005,$E$505:$E$1005)-E98)/0.0001","v":1.2533725707308818},-0.8644720743669879,-0.8644720743669879]
[null,null,1.2033532934131732,0.6705026321070038,-0.8922614126299961,{"$f":"(LOOKUP(Sheet2!C99+0.0001,Sheet2!$C$505:$C$1005,$D$505:$D$1005)-D99)/0.0001","v":-1.483948392138057},{"$f":"(LOOKUP(Sheet2!C99+0.0001,Sheet2!$C$505:$C$1005,$E$505:$E$1005)-E99)/0.0001","v":1.3549590427064384},-0.9130769303602452,-0.9130769303602452]
[null,null,1.2158882235528938,0.6516943780172462,-0.8746553218072421,{"$f":"(LOOKUP(Sheet2!C100+0.0001,Sheet2!$C$505:$C$1005,$D$505:$D$1005)-D100)/0.0001","v":-1.5170936607655783},{"$f":"(LOOKUP(Sheet2!C100+0.0001,Sheet2!$C$505:$C$1005,$E$505:$E$1005)-E100)/0.0001","v":1.45462966543497},-0.9588265398860827,-0.9588265398860827]
[null,null,1.2284231536926145,0.6324765568347711,-0.8558125089210264,{"$f":"(LOOKUP(Sheet2!C101+0.0001,Sheet2!$C$505:$C$1005,$D$505:$D$1005)-D101)/0.0001","v":-1.5492854891585583},{"$f":"(LOOKUP(Sheet2!C101+0.0001,Sheet2!$C$505:$C$1005,$E$505:$E$1005)-E101)/0.0001","v":1.5522435092696352},-1.0019092802016,-1.0019092802016]
[null,null,1.240958083832335,0.6128612462871386,-0.8357596168349473,{"$f":"(LOOKUP(Sheet2!C102+0.0001,Sheet2!$C$505:$C$1005,$D$505:$D$1005)-D102)/0.0001","v":-1.580503645880471},{"$f":"(LOOKUP(Sheet2!C102+0.0001,Sheet2!$C$505:$C$1005,$E$505:$E$1005)-E102)/0.0001","v":1.6476625527661604},-1.0424920923534322,-1.0424920923534322]
[null,null,1.2534930139720557,0.5928607739100537,-0.8145249994084747,{"$f":"(LOOKUP(Sheet2!C103+0.0001,Sheet2!$C$505:$C$1005,$D$505:$D$1005)-D103)/0.0001","v":-1.610728511416415},{"$f":"(LOOKUP(Sheet2!C103+0.0001,Sheet2!$C$505:$C$1005,$E$505:$E$1005)-E103)/0.0001","v":1.74075187782341},-1.080723328286191,-1.080723328286191]
[null,null,1.2660279441117763,0.5724877092999416,-0.7921386814059077,{"$f":"(LOOKUP(Sheet2!C104+0.0001,Sheet2!$C$505:$C$1005,$D$505:$D$1005)-D104)/0.0001","v":-1.6399410904910372},{"$f":"(LOOKUP(Sheet2!C104+0.0001,Sheet2!$C$505:$C$1005,$E$505:$E$1005)-E104)/0.0001","v":1.8313798604541187},-1.1167351504716307,-1.1167351504716307]
[null,null,1.278562874251497,0.5517548562143977,-0.7686323160427508,{"$f":"(LOOKUP(Sheet2!C105+0.0001,Sheet2!$C$505:$C$1005,$D$505:$D$1005)-D105)/0.0001","v":-1.6681230240267464},{"$f":"(LOOKUP(Sheet2!C105+0.0001,Sheet2!$C$505:$C$1005,$E$505:$E$1005)-E105)/0.0001","v":1.9194183568893575},-1.1506455634525081,-1.1506455634525081]
[null,null,1.2910978043912176,0.5306752445254729,-0.7440391402295354,{"$f":"(LOOKUP(Sheet2!C106+0.0001,Sheet2!$C$505:$C$1005,$D$505:$D$1005)-D106)/0.0001","v":-1.6952566006644965},{"$f":"(LOOKUP(Sheet2!C106+0.0001,Sheet2!$C$505:$C$1005,$E$505:$E$1005)-E106)/0.0001","v":2.0047428847780324},-1.1825601410383686,-1.1825601410383686]
[null,null,1.3036327345309382,0.5092621220308561,-0.7183939275763689,{"$f":"(LOOKUP(Sheet2!C107+0.0001,Sheet2!$C$505:$C$1005,$D$505:$D$1005)-D107)/0.0001","v":-1.7213247678993238},{"$f":"(LOOKUP(Sheet2!C107+0.0001,Sheet2!$C$505:$C$1005,$E$505:$E$1005)-E107)/0.0001","v":2.087232799197203},-1.2125735004350324,-1.2125735004350324]
[null,null,1.3161676646706588,0.4875289461280975,-0.6917329392246625,{"$f":"(LOOKUP(Sheet2!C108+0.0001,Sheet2!$C$505:$C$1005,$D$505:$D$1005)-D108)/0.0001","v":-1.746311142802326},{"$f":"(LOOKUP(Sheet2!C108+0.0001,Sheet2!$C$505:$C$1005,$E$505:$E$1005)-E108)/0.0001","v":2.1667714632356283},-1.2407705649513205,-1.2407705649513205]
[null,null,1.3287025948103794,0.4654893753571051,-0.6640938725755591,{"$f":"(LOOKUP(Sheet2!C109+0.0001,Sheet2!$C$505:$C$1005,$D$505:$D$1005)-D109)/0.0001","v":-1.7702000223118741},{"$f":"(LOOKUP(Sheet2!C109+0.0001,Sheet2!$C$505:$C$1005,$E$505:$E$1005)-E109)/0.0001","v":2.2432464129051866},-1.2672276492096728,-1.2672276492096728]
[null,null,1.3412375249501,0.443157260816231,-0.6355158079875571,{"$f":"(LOOKUP(Sheet2!C110+0.0001,Sheet2!$C$505:$C$1005,$D$505:$D$1005)-D110)/0.0001","v":-1.792976393104051},{"$f":"(LOOKUP(Sheet2!C110+0.0001,Sheet2!$C$505:$C$1005,$E$505:$E$1005)-E110)/0.0001","v":2.3165495161692196},-1.2920133946430516,-1.2920133946430516]
[null,null,1.3537724550898207,0.42054663745734117,-0.6060391535186954,{"$f":"(LOOKUP(Sheet2!C111+0.0001,Sheet2!$C$505:$C$1005,$D$505:$D$1005)-D111)/0.0001","v":-1.8146259410278809},{"$f":"(LOOKUP(Sheet2!C111+0.0001,Sheet2!$C$505:$C$1005,$E$505:$E$1005)-E111)/0.0001","v":2.3865771258591018},-1.3151895781382048,-1.3151895781382048]
[null,null,1.3663073852295413,0.3976717152653395,-0.5757055877914308,{"$f":"(LOOKUP(Sheet2!C112+0.0001,Sheet2!$C$505:$C$1005,$D$505:$D$1005)-D112)/0.0001","v":-1.8351350601003569},{"$f":"(LOOKUP(Sheet2!C112+0.0001,Sheet2!$C$505:$C$1005,$E$505:$E$1005)-E112)/0.0001","v":2.453230226162617},-1.3368118126566984,-1.3368118126566984]
[null,null,1.378842315369262,0.3745468703276902,-0.5445580010610028,{"$f":"(LOOKUP(Sheet2!C113+0.0001,Sheet2!$C$505:$C$1005,$D$505:$D$1005)-D113)/0.0001","v":-1.8544908610573785},{"$f":"(LOOKUP(Sheet2!C113+0.0001,Sheet2!$C$505:$C$1005,$E$505:$E$1005)-E113)/0.0001","v":2.5164145726930265},-1.356930155621386,-1.356930155621386]
[null,null,1.3913772455089826,0.35118663579955023,-0.5126404345705992,{"$f":"(LOOKUP(Sheet2!C114+0.0001,Sheet2!$C$505:$C$1005,$D$505:$D$1005)-D114)/0.0001","v":-1.8726811794572695},{"$f":"(LOOKUP(Sheet2!C114+0.0001,Sheet2!$C$505:$C$1005,$E$505:$E$1005)-E114)/0.0001","v":2.5760408257147205},-1.3755896379870143,-1.3755896379870143]
[null,null,1.4039121756487032,0.32760569277019036,-0.4799980182790808,{"$f":"(LOOKUP(Sheet2!C115+0.0001,Sheet2!$C$505:$C$1005,$D$505:$D$1005)-D115)/0.0001","v":-1.889694583321333},{"$f":"(LOOKUP(Sheet2!C115+0.0001,Sheet2!$C$505:$C$1005,$E$505:$E$1005)-E115)/0.0001","v":2.6320246764627298},-1.3928307249717968,-1.3928307249717968]
[null,null,1.4164471057884238,0.30381886103644457,-0.44667690704931384,{"$f":"(LOOKUP(Sheet2!C116+0.0001,Sheet2!$C$505:$C$1005,$D$505:$D$1005)-D116)/0.0001","v":-1.90552038032199},{"$f":"(LOOKUP(Sheet2!C116+0.0001,Sheet2!$C$505:$C$1005,$E$505:$E$1005)-E116)/0.0001","v":2.6842869663934454},-1.4086897175772328,-1.4086897175772328]
[null,null,1.4289820359281444,0.27984108978898686,-0.4127242153873306,{"$f":"(LOOKUP(Sheet2!C117+0.0001,Sheet2!$C$505:$C$1005,$D$505:$D$1005)-D117)/0.0001","v":-1.920148624499074},{"$f":"(LOOKUP(Sheet2!C117+0.0001,Sheet2!$C$505:$C$1005,$E$505:$E$1005)-E117)/0.0001","v":2.7327537990273765},-1.4231991024862953,-1.4231991024862953]
[null,null,1.441516966067865,0.25568744821728834,-0.3781879508246079,{"$f":"(LOOKUP(Sheet2!C118+0.0001,Sheet2!$C$505:$C$1005,$D$505:$D$1005)-D118)/0.0001","v":-1.933570122513717},{"$f":"(LOOKUP(Sheet2!C118+0.0001,Sheet2!$C$505:$C$1005,$E$505:$E$1005)-E118)/0.0001","v":2.7773566445110642},-1.4363878569350212,-1.4363878569350212]
[null,null,1.4540518962075857,0.23137311603915975,-0.3431169460376412,{"$f":"(LOOKUP(Sheet2!C119+0.0001,Sheet2!$C$505:$C$1005,$D$505:$D$1005)-D119)/0.0001","v":-1.945776439424285},{"$f":"(LOOKUP(Sheet2!C119+0.0001,Sheet2!$C$505:$C$1005,$E$505:$E$1005)-E119)/0.0001","v":2.8180324365129072},-1.4482817138780366,-1.4482817138780366]
[null,null,1.4665868263473063,0.20691337396083,-0.30756078980080265,{"$f":"(LOOKUP(Sheet2!C120+0.0001,Sheet2!$C$505:$C$1005,$D$505:$D$1005)-D120)/0.0001","v":-1.9567599039888028},{"$f":"(LOOKUP(Sheet2!C120+0.0001,Sheet2!$C$505:$C$1005,$E$505:$E$1005)-E120)/0.0001","v":2.8547236613268856},-1.458903392034765,-1.458903392034765]
[null,null,1.479121756487027,0.1823235940735578,-0.2715697568701182,{"$f":"(LOOKUP(Sheet2!C121+0.0001,Sheet2!$C$505:$C$1005,$D$505:$D$1005)-D121)/0.0001","v":-1.9665136134838779},{"$f":"(LOOKUP(Sheet2!C121+0.0001,Sheet2!$C$505:$C$1005,$E$505:$E$1005)-E121)/0.0001","v":2.887378439269672},-1.4682727947936192,-1.4682727947936192]
[null,null,1.4916566866267476,0.15761923019281043,-0.23519473689709097,{"$f":"(LOOKUP(Sheet2!C122+0.0001,Sheet2!$C$505:$C$1005,$D$505:$D$1005)-D122)/0.0001","v":-1.9750314380442835},{"$f":"(LOOKUP(Sheet2!C122+0.0001,Sheet2!$C$505:$C$1005,$E$505:$E$1005)-E122)/0.0001","v":2.9159505979994838},-1.476407181086149,-1.476407181086149]
[null,null,1.5041916167664682,0.13281580814608224,-0.19848716247309484,{"$f":"(LOOKUP(Sheet2!C123+0.0001,Sheet2!$C$505:$C$1005,$D$505:$D$1005)-D123)/0.0001","v":-1.9823080245168212},{"$f":"(LOOKUP(Sheet2!C123+0.0001,Sheet2!$C$505:$C$1005,$E$505:$E$1005)-E123)/0.0001","v":2.9403997378002478},-1.4833213110343724,-1.4833213110343724]
[null,null,1.5167265469061888,0.10792891601545548,-0.16149893640607624,{"$f":"(LOOKUP(Sheet2!C124+0.0001,Sheet2!$C$505:$C$1005,$D$505:$D$1005)-D124)/0.0001","v":-1.988338799820688},{"$f":"(LOOKUP(Sheet2!C124+0.0001,Sheet2!$C$505:$C$1005,$E$505:$E$1005)-E124)/0.0001","v":2.960691288748374},-1.4890275686494547,-1.4890275686494547]
[null,null,1.5292614770459094,0.08297419434103692,-0.12428235833238713,{"$f":"(LOOKUP(Sheet2!C125+0.0001,Sheet2!$C$505:$C$1005,$D$505:$D$1005)-D125)/0.0001","v":-1.9931199738251748},{"$f":"(LOOKUP(Sheet2!C125+0.0001,Sheet2!$C$505:$C$1005,$E$505:$E$1005)-E125)/0.0001","v":2.976796559505529},-1.4935360633572359,-1.4935360633572359]
[null,null,1.54179640718563,0.057967326291426015,-0.08689005076752991,{"$f":"(LOOKUP(Sheet2!C126+0.0001,Sheet2!$C$505:$C$1005,$D$505:$D$1005)-D126)/0.0001","v":-1.9966485417298452},{"$f":"(LOOKUP(Sheet2!C126+0.0001,Sheet2!$C$505:$C$1005,$E$505:$E$1005)-E126)/0.0001","v":2.9886927779658454},-1.4968547120348574,-1.4968547120348574]
[null,null,1.5543313373253507,0.032924027807392744,-0.049374884700358106,{"$f":"(LOOKUP(Sheet2!C127+0.0001,Sheet2!$C$505:$C$1005,$D$505:$D$1005)-D127)/0.0001","v":-1.9989222859534417},{"$f":"(LOOKUP(Sheet2!C127+0.0001,Sheet2!$C$505:$C$1005,$E$505:$E$1005)-E127)/0.0001","v":2.996363123454401},-1.4989893026407488,-1.4989893026407488]
[null,null,1.5668662674650713,0.007860037724959235,-0.011789904835947414,{"$f":"(LOOKUP(Sheet2!C128+0.0001,Sheet2!$C$505:$C$1005,$D$505:$D$1005)-D128)/0.0001","v":-1.9999397775271286},{"$f":"(LOOKUP(Sheet2!C128+0.0001,Sheet2!$C$505:$C$1005,$E$505:$E$1005)-E128)/0.0001","v":2.999796750432007},-1.4999435403705879,-1.4999435403705879]
[null,null,1.579401197604792,-0.01720889211590744,0.025811745407152108,{"$f":"(LOOKUP(Sheet2!C129+0.0001,Sheet2!$C$505:$C$1005,$D$505:$D$1005)-D129)/0.0001","v":-1.9997003769933046},{"$f":"(LOOKUP(Sheet2!C129+0.0001,Sheet2!$C$505:$C$1005,$E$505:$E$1005)-E129)/0.0001","v":2.9989888039181136},-1.4997190771286006,-1.4997190771286006]
[null,null,1.5919361277445125,-0.04226700677077506,0.0633768990392489,{"$f":"(LOOKUP(Sheet2!C130+0.0001,Sheet2!$C$505:$C$1005,$D$505:$D$1005)-D130)/0.0001","v":-1.9982042348067053},{"$f":"(LOOKUP(Sheet2!C130+0.0001,Sheet2!$C$505:$C$1005,$E$505:$E$1005)-E130)/0.0001","v":2.99394042631157},-1.4983155245896005,-1.4983155245896005]
[null,null,1.6044710578842332,{"$f":"SIN(2*t)","v":-0.067298558092177},{"$f":"COS(3*t)","v":0.10085244067516683},{"$f":"(LOOKUP(Sheet2!C131+0.0001,Sheet2!$C$505:$C$1005,$D$505:$D$1005)-D131)/0.0001","v":-1.995452291240346},{"$f":"(LOOKUP(Sheet2!C131+0.0001,Sheet2!$C$505:$C$1005,$E$505:$E$1005)-E131)/0.0001","v":2.9846587557755266},-1.4957304511250946,-1.4957304511250946]
[null,null,1.6170059880239538,-0.09228781462677144,0.1381853816369358,{"$f":"(LOOKUP(Sheet2!C132+0.0001,Sheet2!$C$505:$C$1005,$D$505:$D$1005)-D132)/0.0001","v":-1.9914462757944507},{"$f":"(LOOKUP(Sheet2!C132+0.0001,Sheet2!$C$505:$C$1005,$E$505:$E$1005)-E132)/0.0001","v":2.9711569161880447},-1.491959362550595,{"$f":"IF(H132>100,100,IF(H132<-100,-100,H132))","v":-1.491959362550595}]
[null,null,{"$f":"C132+B$12","v":1.6295409181636744},-0.11721907150200879,0.1753229348773286,{"$f":"(LOOKUP(Sheet2!C133+0.0001,Sheet2!$C$505:$C$1005,$D$505:$D$1005)-D133)/0.0001","v":-1.9861887061091432},{"$f":"(LOOKUP(Sheet2!C133+0.0001,Sheet2!$C$505:$C$1005,$E$505:$E$1005)-E133)/0.0001","v":2.953453998497668},{"$f":"G133/F133","v":-1.4869956663298904},-1.4869956663298904]
[null,null,1.642075848303395,-0.14207666029609406,0.21221258961829242,{"$f":"(LOOKUP(Sheet2!C134+0.0001,Sheet2!$C$505:$C$1005,$D$505:$D$1005)-D134)/0.0001","v":-1.9796828863832827},{"$f":"(LOOKUP(Sheet2!C134+0.0001,Sheet2!$C$505:$C$1005,$E$505:$E$1005)-E134)/0.0001","v":2.931575033809364},-1.48083061887003,-1.48083061887003]
[null,null,1.6546107784431157,-0.1668449588850413,0.2488021855987565,{"$f":"(LOOKUP(Sheet2!C135+0.0001,Sheet2!$C$505:$C$1005,$D$505:$D$1005)-D135)/0.0001","v":-1.971932905296403},{"$f":"(LOOKUP(Sheet2!C135+0.0001,Sheet2!$C$505:$C$1005,$E$505:$E$1005)-E135)/0.0001","v":2.9055509579906103},-1.4734532550202941,-1.4734532550202941]
[null,null,1.6671457085828363,-0.1915084012606313,0.285039986826825,{"$f":"(LOOKUP(Sheet2!C136+0.0001,Sheet2!$C$505:$C$1005,$D$505:$D$1005)-D136)/0.0001","v":-1.962943633440073},{"$f":"(LOOKUP(Sheet2!C136+0.0001,Sheet2!$C$505:$C$1005,$E$505:$E$1005)-E136)/0.0001","v":2.875418567851451},-1.464850298738461,-1.464850298738461]
[null,null,1.679680638722557,-0.21605148731310256,0.32087475473206517,{"$f":"(LOOKUP(Sheet2!C137+0.0001,Sheet2!$C$505:$C$1005,$D$505:$D$1005)-D137)/0.0001","v":-1.9527207202571506},{"$f":"(LOOKUP(Sheet2!C137+0.0001,Sheet2!$C$505:$C$1005,$E$505:$E$1005)-E137)/0.0001","v":2.8412204692029874},-1.45500605372223,-1.45500605372223]
[null,null,1.6922155688622775,-0.2404587925724276,0.3562558206144731,{"$f":"(LOOKUP(Sheet2!C138+0.0001,Sheet2!$C$505:$C$1005,$D$505:$D$1005)-D138)/0.0001","v":-1.9412705904905958},{"$f":"(LOOKUP(Sheet2!C138+0.0001,Sheet2!$C$505:$C$1005,$E$505:$E$1005)-E138)/0.0001","v":2.8030050165711584},-1.4439022722034778,-1.4439022722034778]
[null,null,1.7047504990019982,-0.2647149779020521,0.3911331572876651,{"$f":"(LOOKUP(Sheet2!C139+0.0001,Sheet2!$C$505:$C$1005,$D$505:$D$1005)-D139)/0.0001","v":-1.9286004401453116},{"$f":"(LOOKUP(Sheet2!C139+0.0001,Sheet2!$C$505:$C$1005,$E$505:$E$1005)-E139)/0.0001","v":2.7608262448242105},-1.4315179999731797,-1.4315179999731797]
[null,null,1.7172854291417188,-0.28880479913900486,0.4254574498149984,{"$f":"(LOOKUP(Sheet2!C140+0.0001,Sheet2!$C$505:$C$1005,$D$505:$D$1005)-D140)/0.0001","v":-1.9147182319678713},{"$f":"(LOOKUP(Sheet2!C140+0.0001,Sheet2!$C$505:$C$1005,$E$505:$E$1005)-E140)/0.0001","v":2.714743792815999},-1.417829395203436,-1.417829395203436]
[null,null,1.7298203592814394,-0.3127131166743205,0.4591801652386077,{"$f":"(LOOKUP(Sheet2!C141+0.0001,Sheet2!$C$505:$C$1005,$D$505:$D$1005)-D141)/0.0001","v":-1.8996326904396899},{"$f":"(LOOKUP(Sheet2!C141+0.0001,Sheet2!$C$505:$C$1005,$E$505:$E$1005)-E141)/0.0001","v":2.6648228189707357},-1.4028095180621125,-1.4028095180621125]
[null,null,1.74235528942116,-0.33642490496775357,0.4922536212027524,{"$f":"(LOOKUP(Sheet2!C142+0.0001,Sheet2!$C$505:$C$1005,$D$505:$D$1005)-D142)/0.0001","v":-1.883353296294188},{"$f":"(LOOKUP(Sheet2!C142+0.0001,Sheet2!$C$505:$C$1005,$E$505:$E$1005)-E142)/0.0001","v":2.611133909231622},-1.3864280877992803,-1.3864280877992803]
[null,null,1.7548902195608806,-0.359925261990804,0.5246310533744585,{"$f":"(LOOKUP(Sheet2!C143+0.0001,Sheet2!$C$505:$C$1005,$D$505:$D$1005)-D143)/0.0001","v":-1.8658902805623878},{"$f":"(LOOKUP(Sheet2!C143+0.0001,Sheet2!$C$505:$C$1005,$E$505:$E$1005)-E143)/0.0001","v":2.5537529772501344},-1.3686512030495286,-1.3686512030495286]
[null,null,1.7674251497006013,-0.3831994185921205,0.5562666815661192,{"$f":"(LOOKUP(Sheet2!C144+0.0001,Sheet2!$C$505:$C$1005,$D$505:$D$1005)-D144)/0.0001","v":-1.847254618136951},{"$f":"(LOOKUP(Sheet2!C144+0.0001,Sheet2!$C$505:$C$1005,$E$505:$E$1005)-E144)/0.0001","v":2.4927611569780517},-1.3494410204761738,-1.3494410204761738]
[null,null,1.779960079840322,-0.40623274777939467,0.5871157744665525,{"$f":"(LOOKUP(Sheet2!C145+0.0001,Sheet2!$C$505:$C$1005,$D$505:$D$1005)-D145)/0.0001","v":-1.8274580208793578},{"$f":"(LOOKUP(Sheet2!C145+0.0001,Sheet2!$C$505:$C$1005,$E$505:$E$1005)-E145)/0.0001","v":2.428244688031933},-1.3287553860544943,-1.3287553860544943]
[null,null,1.7924950099800425,-0.4290107739119136,0.6171347128890038,{"$f":"(LOOKUP(Sheet2!C146+0.0001,Sheet2!$C$505:$C$1005,$D$505:$D$1005)-D146)/0.0001","v":-1.8065129302574645},{"$f":"(LOOKUP(Sheet2!C146+0.0001,Sheet2!$C$505:$C$1005,$E$505:$E$1005)-E146)/0.0001","v":2.360294793704032},-1.3065474119621399,-1.3065474119621399]
[null,null,1.8050299401197631,-0.451519181797993,0.6462810514466527,{"$f":"(LOOKUP(Sheet2!C147+0.0001,Sheet2!$C$505:$C$1005,$D$505:$D$1005)-D147)/0.0001","v":-1.7844325095267566},{"$f":"(LOOKUP(Sheet2!C147+0.0001,Sheet2!$C$505:$C$1005,$E$505:$E$1005)-E147)/0.0001","v":2.2890075519887976},-1.2827649909807224,-1.2827649909807224]
[null,null,1.8175648702594838,-0.4737438256915736,0.6745135785684205,{"$f":"(LOOKUP(Sheet2!C148+0.0001,Sheet2!$C$505:$C$1005,$D$505:$D$1005)-D148)/0.0001","v":-1.7612306354591878},{"$f":"(LOOKUP(Sheet2!C148+0.0001,Sheet2!$C$505:$C$1005,$E$505:$E$1005)-E148)/0.0001","v":2.2144837597593003},-1.2573502386199071,-1.2573502386199071]
[null,null,1.8300998003992044,-0.49567073818232754,0.7017923747702236,{"$f":"(LOOKUP(Sheet2!C149+0.0001,Sheet2!$C$505:$C$1005,$D$505:$D$1005)-D149)/0.0001","v":-1.7369218896196026},{"$f":"(LOOKUP(Sheet2!C149+0.0001,Sheet2!$C$505:$C$1005,$E$505:$E$1005)-E149)/0.0001","v":2.136828790182399},-1.2302388512418245,-1.2302388512418245]
[null,null,1.842634730538925,-0.5172861389736862,0.7280788690992683,{"$f":"(LOOKUP(Sheet2!C150+0.0001,Sheet2!$C$505:$C$1005,$D$505:$D$1005)-D150)/0.0001","v":-1.7115215492036207},{"$f":"(LOOKUP(Sheet2!C150+0.0001,Sheet2!$C$505:$C$1005,$E$505:$E$1005)-E150)/0.0001","v":2.0561524437845424},-1.2013593663143067,-1.2013593663143067]
[null,null,1.8551696606786456,-0.5385764435432745,0.7533358936715921,{"$f":"(LOOKUP(Sheet2!C151+0.0001,Sheet2!$C$505:$C$1005,$D$505:$D$1005)-D151)/0.0001","v":-1.685045577435318},{"$f":"(LOOKUP(Sheet2!C151+0.0001,Sheet2!$C$505:$C$1005,$E$505:$E$1005)-E151)/0.0001","v":1.9725687931959612},-1.1706323078799215,-1.1706323078799215]
[null,null,1.8677045908183663,-0.5595282716803067,0.7775277362257291,{"$f":"(LOOKUP(Sheet2!C152+0.0001,Sheet2!$C$505:$C$1005,$D$505:$D$1005)-D152)/0.0001","v":-1.6575106135352513},{"$f":"(LOOKUP(Sheet2!C152+0.0001,Sheet2!$C$505:$C$1005,$E$505:$E$1005)-E152)/0.0001","v":1.8861960218041762},-1.1379691969399635,-1.1379691969399635]
[null,null,1.8802395209580869,-0.5801284558945808,0.800620190618188,{"$f":"(LOOKUP(Sheet2!C153+0.0001,Sheet2!$C$505:$C$1005,$D$505:$D$1005)-D153)/0.0001","v":-1.6289339622665988},{"$f":"(LOOKUP(Sheet2!C153+0.0001,Sheet2!$C$505:$C$1005,$E$505:$E$1005)-E153)/0.0001","v":1.7971562567087318},-1.103271402241536,-1.103271402241536]
[null,null,1.8927744510978075,-0.6003640496917853,0.8225806051893556,{"$f":"(LOOKUP(Sheet2!C154+0.0001,Sheet2!$C$505:$C$1005,$D$505:$D$1005)-D154)/0.0001","v":-1.5993335830488675},{"$f":"(LOOKUP(Sheet2!C154+0.0001,Sheet2!$C$505:$C$1005,$E$505:$E$1005)-E154)/0.0001","v":1.7055753960071307},-1.0664288013984742,-1.0664288013984742]
[null,null,1.9053093812375281,-0.620222335709916,0.8433779289314283,{"$f":"(LOOKUP(Sheet2!C155+0.0001,Sheet2!$C$505:$C$1005,$D$505:$D$1005)-D155)/0.0001","v":-1.56872807868913},{"$f":"(LOOKUP(Sheet2!C155+0.0001,Sheet2!$C$505:$C$1005,$E$505:$E$1005)-E155)/0.0001","v":1.6115829307861151},-1.0273182157437992,-1.0273182157437992]
[null,null,1.9178443113772488,-0.6396908337116949,0.8629827553930965,{"$f":"(LOOKUP(Sheet2!C156+0.0001,Sheet2!$C$505:$C$1005,$D$505:$D$1005)-D156)/0.0001","v":-1.5371366836702816},{"$f":"(LOOKUP(Sheet2!C156+0.0001,Sheet2!$C$505:$C$1005,$E$505:$E$1005)-E156)/0.0001","v":1.5153117620481105},-0.9858015738912308,-0.9858015738912308]
[null,null,1.9303792415169694,-0.65875730842796,0.8813673642589058,{"$f":"(LOOKUP(Sheet2!C157+0.0001,Sheet2!$C$505:$C$1005,$D$505:$D$1005)-D157)/0.0001","v":-1.5045792520818058},{"$f":"(LOOKUP(Sheet2!C157+0.0001,Sheet2!$C$505:$C$1005,$E$505:$E$1005)-E157)/0.0001","v":1.416898012744916},-0.9417237482069689,-0.9417237482069689]
[null,null,1.94291417165669,-0.6774097772471049,0.8985057605444937,{"$f":"(LOOKUP(Sheet2!C158+0.0001,Sheet2!$C$505:$C$1005,$D$505:$D$1005)-D158)/0.0001","v":-1.4710762451264348},{"$f":"(LOOKUP(Sheet2!C158+0.0001,Sheet2!$C$505:$C$1005,$E$505:$E$1005)-E158)/0.0001","v":1.3164808353538504},-0.8949099951244898,-0.8949099951244898]
[null,null,1.9554491017964106,-0.6956365177457302,0.914373711352294,{"$f":"(LOOKUP(Sheet2!C159+0.0001,Sheet2!$C$505:$C$1005,$D$505:$D$1005)-D159)/0.0001","v":-1.436648718270428},{"$f":"(LOOKUP(Sheet2!C159+0.0001,Sheet2!$C$505:$C$1005,$E$505:$E$1005)-E159)/0.0001","v":1.2142022151218068},-0.8451629126036997,-0.8451629126036997]
[null,null,1.9679840319361313,-0.7134260750557754,0.9289487801357311,{"$f":"(LOOKUP(Sheet2!C160+0.0001,Sheet2!$C$505:$C$1005,$D$505:$D$1005)-D160)/0.0001","v":-1.401318308011934},{"$f":"(LOOKUP(Sheet2!C160+0.0001,Sheet2!$C$505:$C$1005,$E$505:$E$1005)-E160)/0.0001","v":1.1102067692614348},-0.7922588058072956,-0.7922588058072956]
[null,null,1.9805189620758519,-0.7307672690635034,0.9422103584234542,{"$f":"(LOOKUP(Sheet2!C161+0.0001,Sheet2!$C$505:$C$1005,$D$505:$D$1005)-D161)/0.0001","v":-1.365107218271877},{"$f":"(LOOKUP(Sheet2!C161+0.0001,Sheet2!$C$505:$C$1005,$E$505:$E$1005)-E161)/0.0001","v":1.0046415425146726},-0.7359433230354412,-0.7359433230354412]
[null,null,1.9930538922155725,-0.7476492014358095,0.9541396949587618,{"$f":"(LOOKUP(Sheet2!C162+0.0001,Sheet2!$C$505:$C$1005,$D$505:$D$1005)-D162)/0.0001","v":-1.328038206457327},{"$f":"(LOOKUP(Sheet2!C162+0.0001,Sheet2!$C$505:$C$1005,$E$505:$E$1005)-E162)/0.0001","v":0.8976557992157463},-0.675926185595467,-0.675926185595467]
[null,null,2.005588822355293,-0.7640612624694427,0.9647199222130081,{"$f":"(LOOKUP(Sheet2!C163+0.0001,Sheet2!$C$505:$C$1005,$D$505:$D$1005)-D163)/0.0001","v":-1.290134569141843},{"$f":"(LOOKUP(Sheet2!C163+0.0001,Sheet2!$C$505:$C$1005,$E$505:$E$1005)-E163)/0.0001","v":0.7894008122455443},-0.6118747851013936,-0.6118747851013936]
[null,null,2.0181237524950135,-0.7799931377588321,0.9739360802355064,{"$f":"(LOOKUP(Sheet2!C164+0.0001,Sheet2!$C$505:$C$1005,$D$505:$D$1005)-D164)/0.0001","v":-1.2514201274305137},{"$f":"(LOOKUP(Sheet2!C164+0.0001,Sheet2!$C$505:$C$1005,$E$505:$E$1005)-E164)/0.0001","v":0.6800296491349389},-0.5434063542922345,-0.5434063542922345]
[null,null,2.030658682634734,-0.79543481467833,0.9817751378062067,{"$f":"(LOOKUP(Sheet2!C165+0.0001,Sheet2!$C$505:$C$1005,$D$505:$D$1005)-D165)/0.0001","v":-1.2119192119974809},{"$f":"(LOOKUP(Sheet2!C165+0.0001,Sheet2!$C$505:$C$1005,$E$505:$E$1005)-E165)/0.0001","v":0.5696969556345799},-0.4700783269997077,-0.4700783269997077]
[null,null,2.0431936127744543,-0.8103765886747964,0.9882260108612352,{"$f":"(LOOKUP(Sheet2!C166+0.0001,Sheet2!$C$505:$C$1005,$D$505:$D$1005)-D166)/0.0001","v":-1.1716566477826262},{"$f":"(LOOKUP(Sheet2!C166+0.0001,Sheet2!$C$505:$C$1005,$E$505:$E$1005)-E166)/0.0001","v":0.4585587370609101},-0.39137637970026273,-0.39137637970026273]
[null,null,2.0557285429141747,-0.8248090693665705,0.9932795781652473,{"$f":"(LOOKUP(Sheet2!C167+0.0001,Sheet2!$C$505:$C$1005,$D$505:$D$1005)-D167)/0.0001","v":-1.1306577383995986},{"$f":"(LOOKUP(Sheet2!C167+0.0001,Sheet2!$C$505:$C$1005,$E$505:$E$1005)-E167)/0.0001","v":0.34677213769596094},-0.3066994775862085,-0.3066994775862085]
[null,null,2.068263473053895,-0.8387231864449969,0.9969286942084307,{"$f":"(LOOKUP(Sheet2!C168+0.0001,Sheet2!$C$505:$C$1005,$D$505:$D$1005)-D168)/0.0001","v":-1.0889482502263181},{"$f":"(LOOKUP(Sheet2!C168+0.0001,Sheet2!$C$505:$C$1005,$E$505:$E$1005)-E168)/0.0001","v":0.23449521861174105},-0.2153410123603261,-0.2153410123603261]
[null,null,2.0807984031936155,-0.8521101953747967,0.9991681993099261,{"$f":"(LOOKUP(Sheet2!C169+0.0001,Sheet2!$C$505:$C$1005,$D$505:$D$1005)-D169)/0.0001","v":-1.0465543962157042},{"$f":"(LOOKUP(Sheet2!C169+0.0001,Sheet2!$C$505:$C$1005,$E$505:$E$1005)-E169)/0.0001","v":0.12188673416124729},-0.11646478635222832,-0.11646478635222832]
[null,null,2.093333333333336,-0.8649616828897021,0.9999949269133752,{"$f":"(LOOKUP(Sheet2!C170+0.0001,Sheet2!$C$505:$C$1005,$D$505:$D$1005)-D170)/0.0001","v":-1.0035028194199658},{"$f":"(LOOKUP(Sheet2!C170+0.0001,Sheet2!$C$505:$C$1005,$E$505:$E$1005)-E170)/0.0001","v":0.009105907522455325},-0.00907412250990847,-0.00907412250990847]
[null,null,2.1058682634730563,-0.8772695722798993,0.999407708064286,{"$f":"(LOOKUP(Sheet2!C171+0.0001,Sheet2!$C$505:$C$1005,$D$505:$D$1005)-D171)/0.0001","v":-0.9598205762462175},{"$f":"(LOOKUP(Sheet2!C171+0.0001,Sheet2!$C$505:$C$1005,$E$505:$E$1005)-E171)/0.0001","v":-0.10368779444824838},0.10802830968029792,0.10802830968029792]
[null,null,2.1184031936127767,-0.8890261284679576,0.9974073730628792,{"$f":"(LOOKUP(Sheet2!C172+0.0001,Sheet2!$C$505:$C$1005,$D$505:$D$1005)-D172)/0.0001","v":-0.9155351194567452},{"$f":"(LOOKUP(Sheet2!C172+0.0001,Sheet2!$C$505:$C$1005,$E$505:$E$1005)-E172)/0.0001","v":-0.21633488668570955},0.23629337868991532,0.23629337868991532]
[null,null,2.130938123752497,-0.900223962870055,0.9939967502900824,{"$f":"(LOOKUP(Sheet2!C173+0.0001,Sheet2!$C$505:$C$1005,$D$505:$D$1005)-D173)/0.0001","v":-0.8706742809072576},{"$f":"(LOOKUP(Sheet2!C173+0.0001,Sheet2!$C$505:$C$1005,$E$505:$E$1005)-E173)/0.0001","v":-0.32867609142561705},0.37749603799383036,0.37749603799383036]
[null,null,2.1434730538922175,-0.9108560380394444,0.9891806622083309,{"$f":"(LOOKUP(Sheet2!C174+0.0001,Sheet2!$C$505:$C$1005,$D$505:$D$1005)-D174)/0.0001","v":-0.8252662540664257},{"$f":"(LOOKUP(Sheet2!C174+0.0001,Sheet2!$C$505:$C$1005,$E$505:$E$1005)-E174)/0.0001","v":-0.44055256341435367},0.5338308227721299,0.5338308227721299]
[null,null,2.156007984031938,-0.9209156720892417,0.9829659185428296,{"$f":"(LOOKUP(Sheet2!C175+0.0001,Sheet2!$C$505:$C$1005,$D$505:$D$1005)-D175)/0.0001","v":-0.7793395762878408},{"$f":"(LOOKUP(Sheet2!C175+0.0001,Sheet2!$C$505:$C$1005,$E$505:$E$1005)-E175)/0.0001","v":-0.5518061145093345},0.7080432346804505,0.7080432346804505]
[null,null,2.1685429141716583,-0.930396542891759,0.9753613066529164,{"$f":"(LOOKUP(Sheet2!C176+0.0001,Sheet2!$C$505:$C$1005,$D$505:$D$1005)-D176)/0.0001","v":-0.7329231108788026},{"$f":"(LOOKUP(Sheet2!C176+0.0001,Sheet2!$C$505:$C$1005,$E$505:$E$1005)-E176)/0.0001","v":-0.662279437347868},0.9036138000257214,0.9036138000257214]
[null,null,2.1810778443113787,-0.939292692051739,0.966377579107145,{"$f":"(LOOKUP(Sheet2!C177+0.0001,Sheet2!$C$505:$C$1005,$D$505:$D$1005)-D177)/0.0001","v":-0.686046028963716},{"$f":"(LOOKUP(Sheet2!C177+0.0001,Sheet2!$C$505:$C$1005,$E$505:$E$1005)-E177)/0.0001","v":-0.7718163277736778},1.1250212014775733,1.1250212014775733]
[null,null,2.193612774451099,-0.9475985286509987,0.9560274384796504,{"$f":"(LOOKUP(Sheet2!C178+0.0001,Sheet2!$C$505:$C$1005,$D$505:$D$1005)-D178)/0.0001","v":-0.6387377911476477},{"$f":"(LOOKUP(Sheet2!C178+0.0001,Sheet2!$C$505:$C$1005,$E$505:$E$1005)-E178)/0.0001","v":-0.8802619057068917},1.3781271719108512,1.3781271719108512]
[null,null,2.2061477045908195,-0.9553088327621255,0.9443255193892989,{"$f":"(LOOKUP(Sheet2!C179+0.0001,Sheet2!$C$505:$C$1005,$D$505:$D$1005)-D179)/0.0001","v":-0.5910281289978059},{"$f":"(LOOKUP(Sheet2!C179+0.0001,Sheet2!$C$505:$C$1005,$E$505:$E$1005)-E179)/0.0001","v":-0.9874628341244307},1.670754378135692,1.670754378135692]
[null,null,2.21868263473054,-0.9624187587290184,0.9312883678070154,{"$f":"(LOOKUP(Sheet2!C180+0.0001,Sheet2!$C$505:$C$1005,$D$505:$D$1005)-D180)/0.0001","v":-0.5429470263684788},{"$f":"(LOOKUP(Sheet2!C180+0.0001,Sheet2!$C$505:$C$1005,$E$505:$E$1005)-E180)/0.0001","v":-1.0932675358887867},2.0135804835347324,2.0135804835347324]
[null,null,2.2312175648702604,-0.9689238382122134,0.9169344176605476,{"$f":"(LOOKUP(Sheet2!C181+0.0001,Sheet2!$C$505:$C$1005,$D$505:$D$1005)-D181)/0.0001","v":-0.49452470054944797},{"$f":"(LOOKUP(Sheet2!C181+0.0001,Sheet2!$C$505:$C$1005,$E$505:$E$1005)-E181)/0.0001","v":-1.1975264080565928},2.4215704629638637,2.4215704629638637]
[null,null,2.2437524950099808,-0.9748199829970786,0.9012839647697476,{"$f":"(LOOKUP(Sheet2!C182+0.0001,Sheet2!$C$505:$C$1005,$D$505:$D$1005)-D182)/0.0001","v":-0.4457915832756232},{"$f":"(LOOKUP(Sheet2!C182+0.0001,Sheet2!$C$505:$C$1005,$E$505:$E$1005)-E182)/0.0001","v":-1.3000920334182986},2.916367383756728,2.916367383756728]
[null,null,2.256287425149701,-0.9801034875631135,0.8843591381492234,{"$f":"(LOOKUP(Sheet2!C183+0.0001,Sheet2!$C$505:$C$1005,$D$505:$D$1005)-D183)/0.0001","v":-0.39677830160345096},{"$f":"(LOOKUP(Sheet2!C183+0.0001,Sheet2!$C$505:$C$1005,$E$505:$E$1005)-E183)/0.0001","v":-1.400819388935881},3.530483857798986,3.530483857798986]
[null,null,2.2688223552894216,-0.9847710314127391,0.8661838687189384,{"$f":"(LOOKUP(Sheet2!C184+0.0001,Sheet2!$C$505:$C$1005,$D$505:$D$1005)-D184)/0.0001","v":-0.3475156586651984},{"$f":"(LOOKUP(Sheet2!C184+0.0001,Sheet2!$C$505:$C$1005,$E$505:$E$1005)-E184)/0.0001","v":-1.4995660507988173},4.315103545430512,4.315103545430512]
[null,null,2.281357285429142,-0.9888196811581142,0.8467838554670009,{"$f":"(LOOKUP(Sheet2!C185+0.0001,Sheet2!$C$505:$C$1005,$D$505:$D$1005)-D185)/0.0001","v":-0.29803461430666367},{"$f":"(LOOKUP(Sheet2!C185+0.0001,Sheet2!$C$505:$C$1005,$E$505:$E$1005)-E185)/0.0001","v":-1.5961923958085489},5.355728224796539,5.355728224796539]
[null,null,2.2938922155688624,-0.9922468923646671,0.8261865291124858,{"$f":"(LOOKUP(Sheet2!C186+0.0001,Sheet2!$C$505:$C$1005,$D$505:$D$1005)-D186)/0.0001","v":-0.24836626563051745},{"$f":"(LOOKUP(Sheet2!C186+0.0001,Sheet2!$C$505:$C$1005,$E$505:$E$1005)-E186)/0.0001","v":-1.6905617987916788},6.806728741924422,6.806728741924422]
[null,null,2.3064271457085828,-0.9950505111501834,0.8044210133196709,{"$f":"(LOOKUP(Sheet2!C187+0.0001,Sheet2!$C$505:$C$1005,$D$505:$D$1005)-D187)/0.0001","v":-0.1985418274552675},{"$f":"(LOOKUP(Sheet2!C187+0.0001,Sheet2!$C$505:$C$1005,$E$505:$E$1005)-E187)/0.0001","v":-1.78254082578988},8.978162680564104,8.978162680564104]
[null,null,2.318962075848303,-0.9972287755384458,0.7815180835185255,{"$f":"(LOOKUP(Sheet2!C188+0.0001,Sheet2!$C$505:$C$1005,$D$505:$D$1005)-D188)/0.0001","v":-0.14859261269317692},{"$f":"(LOOKUP(Sheet2!C188+0.0001,Sheet2!$C$505:$C$1005,$E$505:$E$1005)-E188)/0.0001","v":-1.8719994227245351},12.598199794696077,12.598199794696077]
[null,null,2.3314970059880236,-0.9987803165665741,0.7575101233896799,{"$f":"(LOOKUP(Sheet2!C189+0.0001,Sheet2!$C$505:$C$1005,$D$505:$D$1005)-D189)/0.0001","v":-0.09855001268044283},{"$f":"(LOOKUP(Sheet2!C189+0.0001,Sheet2!$C$505:$C$1005,$E$505:$E$1005)-E189)/0.0001","v":-1.9588110992896368},19.876315040580014,19.876315040580014]
[null,null,2.344031936127744,-0.9997041591453707,0.7324310790754027,{"$f":"(LOOKUP(Sheet2!C190+0.0001,Sheet2!$C$505:$C$1005,$D$505:$D$1005)-D190)/0.0001","v":-0.04844547743521055},{"$f":"(LOOKUP(Sheet2!C190+0.0001,Sheet2!$C$505:$C$1005,$E$505:$E$1005)-E190)/0.0001","v":-2.0428531077987255},42.16808701144029,42.16808701144029]
[null,null,2.3565668662674644,-0.9999997226721302,0.7063164111813298,{"$f":"(LOOKUP(Sheet2!C191+0.0001,Sheet2!$C$505:$C$1005,$D$505:$D$1005)-D191)/0.0001","v":1.6895040966247166E-3},{"$f":"(LOOKUP(Sheet2!C191+0.0001,Sheet2!$C$505:$C$1005,$E$505:$E$1005)-E191)/0.0001","v":-2.124006616748275},-1257.1775475369404,-100]
[null,null,2.3691017964071848,-0.9996668213955271,0.6792030446368127,{"$f":"(LOOKUP(Sheet2!C192+0.0001,Sheet2!$C$505:$C$1005,$D$505:$D$1005)-D192)/0.0001","v":0.05182342383336369},{"$f":"(LOOKUP(Sheet2!C192+0.0001,Sheet2!$C$505:$C$1005,$E$505:$E$1005)-E192)/0.0001","v":-2.2021568788421764},-42.49346561746153,-42.49346561746153]
[null,null,2.381636726546905,-0.9987056645323549,0.6511293164847805,{"$f":"(LOOKUP(Sheet2!C193+0.0001,Sheet2!$C$505:$C$1005,$D$505:$D$1005)-D193)/0.0001","v":0.10192477436388181},{"$f":"(LOOKUP(Sheet2!C193+0.0001,Sheet2!$C$505:$C$1005,$E$505:$E$1005)-E193)/0.0001","v":-2.2771933932319577},-22.34190271643031,-22.34190271643031]
[null,null,2.3941716566866256,-0.9971168561360401,0.622134921674939,{"$f":"(LOOKUP(Sheet2!C194+0.0001,Sheet2!$C$505:$C$1005,$D$505:$D$1005)-D194)/0.0001","v":0.15196206874290574},{"$f":"(LOOKUP(Sheet2!C194+0.0001,Sheet2!$C$505:$C$1005,$E$505:$E$1005)-E194)/0.0001","v":-2.3490100617673537},-15.457871041104893,-15.457871041104893]
[null,null,2.406706586826346,{"$f":"SIN(2*t)","v":-0.994901394717016},{"$f":"COS(3*t)","v":0.5922608569369534},{"$f":"(LOOKUP(Sheet2!C195+0.0001,Sheet2!$C$505:$C$1005,$D$505:$D$1005)-D195)/0.0001","v":0.2019038602851797},{"$f":"(LOOKUP(Sheet2!C195+0.0001,Sheet2!$C$505:$C$1005,$E$505:$E$1005)-E195)/0.0001","v":-2.4175053390107504},-11.973546893041757,-11.973546893041757]
[null,null,2.4192415169660664,-0.9920606726151937,0.5615493628129725,{"$f":"(LOOKUP(Sheet2!C196+0.0001,Sheet2!$C$505:$C$1005,$D$505:$D$1005)-D196)/0.0001","v":0.25171876232077395},{"$f":"(LOOKUP(Sheet2!C196+0.0001,Sheet2!$C$505:$C$1005,$E$505:$E$1005)-E196)/0.0001","v":-2.482582375813447},-9.862524163573497,{"$f":"IF(H196>100,100,IF(H196<-100,-100,H196))","v":-9.862524163573497}]
[null,null,{"$f":"C196+B$12","v":2.4317764471057868},-0.9885964751249255,0.5300438639314621,{"$f":"(LOOKUP(Sheet2!C197+0.0001,Sheet2!$C$505:$C$1005,$D$505:$D$1005)-D197)/0.0001","v":0.30137546792929903},{"$f":"(LOOKUP(Sheet2!C197+0.0001,Sheet2!$C$505:$C$1005,$E$505:$E$1005)-E197)/0.0001","v":-2.5441491562649965},{"$f":"G197/F197","v":-8.44179247151543},-8.44179247151543]
[null,null,2.444311377245507,-0.9845109793730099,0.49778890760679356,{"$f":"(LOOKUP(Sheet2!C198+0.0001,Sheet2!$C$505:$C$1005,$D$505:$D$1005)-D198)/0.0001","v":0.3508427696130578},{"$f":"(LOOKUP(Sheet2!C198+0.0001,Sheet2!$C$505:$C$1005,$E$505:$E$1005)-E198)/0.0001","v":-2.6021186277930264},-7.416765722898853,-7.416765722898853]
[null,null,2.4568463073852276,-0.9798067529504431,0.4648301008514072,{"$f":"(LOOKUP(Sheet2!C199+0.0001,Sheet2!$C$505:$C$1005,$D$505:$D$1005)-D199)/0.0001","v":0.4000895789024739},{"$f":"(LOOKUP(Sheet2!C199+0.0001,Sheet2!$C$505:$C$1005,$E$505:$E$1005)-E199)/0.0001","v":-2.656408824253109},-6.63953515495248,-6.63953515495248]
[null,null,2.469381237524948,-0.9744867522987786,0.4312140458896119,{"$f":"(LOOKUP(Sheet2!C200+0.0001,Sheet2!$C$505:$C$1005,$D$505:$D$1005)-D200)/0.0001","v":0.4490849459037882},{"$f":"(LOOKUP(Sheet2!C200+0.0001,Sheet2!$C$505:$C$1005,$E$505:$E$1005)-E200)/0.0001","v":-2.7069429818254997},-6.027685867709835,-6.027685867709835]
[null,null,2.4819161676646684,-0.9685543208521072,0.3969882742642007,{"$f":"(LOOKUP(Sheet2!C201+0.0001,Sheet2!$C$505:$C$1005,$D$505:$D$1005)-D201)/0.0001","v":0.4977980787446157},{"$f":"(LOOKUP(Sheet2!C201+0.0001,Sheet2!$C$505:$C$1005,$E$505:$E$1005)-E201)/0.0001","v":-2.7536496475533134},-5.5316598539264605,-5.5316598539264605]
[null,null,2.494451097804389,-0.9620131869358255,0.36220117962905407,{"$f":"(LOOKUP(Sheet2!C202+0.0001,Sheet2!$C$505:$C$1005,$D$505:$D$1005)-D202)/0.0001","v":0.5461983629273526},{"$f":"(LOOKUP(Sheet2!C202+0.0001,Sheet2!$C$505:$C$1005,$E$505:$E$1005)-E202)/0.0001","v":-2.7964627803783726},-5.119866645866014,-5.119866645866014]
[null,null,2.506986027944109,-0.9548674614235139,0.3269019493227571,{"$f":"(LOOKUP(Sheet2!C203+0.0001,Sheet2!$C$505:$C$1005,$D$505:$D$1005)-D203)/0.0001","v":0.5942553805682316},{"$f":"(LOOKUP(Sheet2!C203+0.0001,Sheet2!$C$505:$C$1005,$E$505:$E$1005)-E203)/0.0001","v":-2.835321844516514},-4.771217791592156,-4.771217791592156]
[null,null,2.5195209580838296,-0.9471216351533968,0.29114049481998394,{"$f":"(LOOKUP(Sheet2!C204+0.0001,Sheet2!$C$505:$C$1005,$D$505:$D$1005)-D204)/0.0001","v":0.6419389295131417},{"$f":"(LOOKUP(Sheet2!C204+0.0001,Sheet2!$C$505:$C$1005,$E$505:$E$1005)-E204)/0.0001","v":-2.8701718950524535},-4.471098048577993,-4.471098048577993]
[null,null,2.53205588822355,-0.9387805761060081,0.2549673811589872,{"$f":"(LOOKUP(Sheet2!C205+0.0001,Sheet2!$C$505:$C$1005,$D$505:$D$1005)-D205)/0.0001","v":0.6892190423246625},{"$f":"(LOOKUP(Sheet2!C205+0.0001,Sheet2!$C$505:$C$1005,$E$505:$E$1005)-E205)/0.0001","v":-2.9009636556309726},-4.209059061755362,-4.209059061755362]
[null,null,2.5445908183632704,-0.9298495263448354,0.21843375544497887,{"$f":"(LOOKUP(Sheet2!C206+0.0001,Sheet2!$C$505:$C$1005,$D$505:$D$1005)-D206)/0.0001","v":0.7360660051058954},{"$f":"(LOOKUP(Sheet2!C206+0.0001,Sheet2!$C$505:$C$1005,$E$505:$E$1005)-E206)/0.0001","v":-2.9276535881314625},-3.9774335016467317,-3.9774335016467317]
[null,null,2.557125748502991,-0.9203340987218676,0.18159127453049526,{"$f":"(LOOKUP(Sheet2!C207+0.0001,Sheet2!$C$505:$C$1005,$D$505:$D$1005)-D207)/0.0001","v":0.7824503761810764},{"$f":"(LOOKUP(Sheet2!C207+0.0001,Sheet2!$C$505:$C$1005,$E$505:$E$1005)-E207)/0.0001","v":-2.950203954225905},-3.770467807332439,-3.770467807332439]
[null,null,2.569660678642711,-0.9102402733501128,0.14449203197500327,{"$f":"(LOOKUP(Sheet2!C208+0.0001,Sheet2!$C$505:$C$1005,$D$505:$D$1005)-D208)/0.0001","v":0.8283430045985529},{"$f":"(LOOKUP(Sheet2!C208+0.0001,Sheet2!$C$505:$C$1005,$E$505:$E$1005)-E208)/0.0001","v":-2.968582868742853},-3.583760413575947,-3.583760413575947]
[null,null,2.5821956087824316,-0.8995743938453079,0.10718848438702303,{"$f":"(LOOKUP(Sheet2!C209+0.0001,Sheet2!$C$505:$C$1005,$D$505:$D$1005)-D209)/0.0001","v":0.8737150484483536},{"$f":"(LOOKUP(Sheet2!C209+0.0001,Sheet2!$C$505:$C$1005,$E$505:$E$1005)-E209)/0.0001","v":-2.9827643447494223},-3.413886884570167,-3.413886884570167]
[null,null,2.594730538922152,-0.8883431633391774,0.06973337725291609,{"$f":"(LOOKUP(Sheet2!C210+0.0001,Sheet2!$C$505:$C$1005,$D$505:$D$1005)-D210)/0.0001","v":0.9185379929887993},{"$f":"(LOOKUP(Sheet2!C210+0.0001,Sheet2!$C$505:$C$1005,$E$505:$E$1005)-E210)/0.0001","v":-2.992728330296346},-3.2581432157840413,-3.2581432157840413]
[null,null,2.6072654690618724,-0.8765536402667505,0.03217967035721374,{"$f":"(LOOKUP(Sheet2!C211+0.0001,Sheet2!$C$505:$C$1005,$D$505:$D$1005)-D211)/0.0001","v":0.9627836685699442},{"$f":"(LOOKUP(Sheet2!C211+0.0001,Sheet2!$C$505:$C$1005,$E$505:$E$1005)-E211)/0.0001","v":-2.998460736770153},-3.1143660145626173,-3.1143660145626173]
[null,null,2.619800399201593,-0.8642132339303814,-0.005419537100062346,{"$f":"(LOOKUP(Sheet2!C212+0.0001,Sheet2!$C$505:$C$1005,$D$505:$D$1005)-D212)/0.0001","v":1.0064242683349711},{"$f":"(LOOKUP(Sheet2!C212+0.0001,Sheet2!$C$505:$C$1005,$E$505:$E$1005)-E212)/0.0001","v":-2.99995345881379},-2.980803974229392,-2.980803974229392]
[null,null,2.632335329341313,-0.8513296998432626,-0.04301108158320646,{"$f":"(LOOKUP(Sheet2!C213+0.0001,Sheet2!$C$505:$C$1005,$D$505:$D$1005)-D213)/0.0001","v":1.0494323656951021},{"$f":"(LOOKUP(Sheet2!C213+0.0001,Sheet2!$C$505:$C$1005,$E$505:$E$1005)-E213)/0.0001","v":-2.9972043857875996},-2.8560243458875703,-2.8560243458875703]
[null,null,2.6448702594810336,-0.8379111348553561,-0.08054181039160298,{"$f":"(LOOKUP(Sheet2!C214+0.0001,Sheet2!$C$505:$C$1005,$D$505:$D$1005)-D214)/0.0001","v":1.0917809315669214},{"$f":"(LOOKUP(Sheet2!C214+0.0001,Sheet2!$C$505:$C$1005,$E$505:$E$1005)-E214)/0.0001","v":-2.9902174047533037},-2.7388437719476846,-2.7388437719476846]
[null,null,2.657405189620754,-0.8239659720648072,-0.11795865681518006,{"$f":"(LOOKUP(Sheet2!C215+0.0001,Sheet2!$C$505:$C$1005,$D$505:$D$1005)-D215)/0.0001","v":1.1334433513598974},{"$f":"(LOOKUP(Sheet2!C215+0.0001,Sheet2!$C$505:$C$1005,$E$505:$E$1005)-E215)/0.0001","v":-2.9790023949781417},-2.628276385761984,-2.628276385761984]
[null,null,2.6699401197604744,-0.8095029755180374,-0.1552087151682768,{"$f":"(LOOKUP(Sheet2!C216+0.0001,Sheet2!$C$505:$C$1005,$D$505:$D$1005)-D216)/0.0001","v":1.174393441701893},{"$f":"(LOOKUP(Sheet2!C216+0.0001,Sheet2!$C$505:$C$1005,$E$505:$E$1005)-E216)/0.0001","v":-2.9635752139567373},-2.523494349271927,-2.523494349271927]
[null,null,2.682475049900195,-0.7945312347018484,-0.19223931559582924,{"$f":"(LOOKUP(Sheet2!C217+0.0001,Sheet2!$C$505:$C$1005,$D$505:$D$1005)-D217)/0.0001","v":1.2146054668960016},{"$f":"(LOOKUP(Sheet2!C217+0.0001,Sheet2!$C$505:$C$1005,$E$505:$E$1005)-E217)/0.0001","v":-2.9439576750431296},-2.42379748427001,-2.42379748427001]
[null,null,2.695009980039915,-0.7790601588309977,-0.22899809854610292,{"$f":"(LOOKUP(Sheet2!C218+0.0001,Sheet2!$C$505:$C$1005,$D$505:$D$1005)-D218)/0.0001","v":1.2540541550920548},{"$f":"(LOOKUP(Sheet2!C218+0.0001,Sheet2!$C$505:$C$1005,$E$505:$E$1005)-E218)/0.0001","v":-2.9201775164663935},-2.328589642328513,-2.328589642328513]
[null,null,2.7075449101796356,-0.7630994709348365,-0.265433088804671,{"$f":"(LOOKUP(Sheet2!C219+0.0001,Sheet2!$C$505:$C$1005,$D$505:$D$1005)-D219)/0.0001","v":1.2927147141728046},{"$f":"(LOOKUP(Sheet2!C219+0.0001,Sheet2!$C$505:$C$1005,$E$505:$E$1005)-E219)/0.0001","v":-2.892268362336692},-2.2373601310691553,-2.2373601310691553]
[null,null,2.720079840319356,-0.7466592017467271,-0.30149276898495675,{"$f":"(LOOKUP(Sheet2!C220+0.0001,Sheet2!$C$505:$C$1005,$D$505:$D$1005)-D220)/0.0001","v":1.3305628473281317},{"$f":"(LOOKUP(Sheet2!C220+0.0001,Sheet2!$C$505:$C$1005,$E$505:$E$1005)-E220)/0.0001","v":-2.8602696748364353},-2.149668976989751,-2.149668976989751]
[null,null,2.7326147704590764,-0.7297496834000772,-0.33712615237142973,{"$f":"(LOOKUP(Sheet2!C221+0.0001,Sheet2!$C$505:$C$1005,$D$505:$D$1005)-D221)/0.0001","v":1.3675747683339345},{"$f":"(LOOKUP(Sheet2!C221+0.0001,Sheet2!$C$505:$C$1005,$E$505:$E$1005)-E221)/0.0001","v":-2.8242266986927556},-2.065135131246539,-2.065135131246539]
[null,null,2.745149700598797,-0.7123815429349567,-0.3722828550124565,{"$f":"(LOOKUP(Sheet2!C222+0.0001,Sheet2!$C$505:$C$1005,$D$505:$D$1005)-D222)/0.0001","v":1.403727216493511},{"$f":"(LOOKUP(Sheet2!C222+0.0001,Sheet2!$C$505:$C$1005,$E$505:$E$1005)-E222)/0.0001","v":-2.7841903969350046},-1.9834269537708824,-1.9834269537708824]
[null,null,2.757684630738517,-0.694565695619375,-0.40691316696087193,{"$f":"(LOOKUP(Sheet2!C223+0.0001,Sheet2!$C$505:$C$1005,$D$505:$D$1005)-D223)/0.0001","v":1.438997471260306},{"$f":"(LOOKUP(Sheet2!C223+0.0001,Sheet2!$C$505:$C$1005,$E$505:$E$1005)-E223)/0.0001","v":-2.740217379104126},-1.9042544784350337,-1.9042544784350337]
[null,null,2.7702195608782376,-0.6763133380894171,-0.44096812256153933,{"$f":"(LOOKUP(Sheet2!C224+0.0001,Sheet2!$C$505:$C$1005,$D$505:$D$1005)-D224)/0.0001","v":1.4733633665131585},{"$f":"(LOOKUP(Sheet2!C224+0.0001,Sheet2!$C$505:$C$1005,$E$505:$E$1005)-E224)/0.0001","v":-2.692369820942453},-1.8273630810532355,-1.8273630810532355]
[null,null,2.782754491017958,-0.6576359413125501,-0.47439956968651575,{"$f":"(LOOKUP(Sheet2!C225+0.0001,Sheet2!$C$505:$C$1005,$D$505:$D$1005)-D225)/0.0001","v":1.5068033044896012},{"$f":"(LOOKUP(Sheet2!C225+0.0001,Sheet2!$C$505:$C$1005,$E$505:$E$1005)-E225)/0.0001","v":-2.6407153767427083},-1.7525282622320746,-1.7525282622320746]
[null,null,2.7952894211576784,-0.638545243378522,-0.5071602378199283,{"$f":"(LOOKUP(Sheet2!C226+0.0001,Sheet2!$C$505:$C$1005,$D$505:$D$1005)-D226)/0.0001","v":1.5392962693616674},{"$f":"(LOOKUP(Sheet2!C226+0.0001,Sheet2!$C$505:$C$1005,$E$505:$E$1005)-E226)/0.0001","v":-2.585327083430844},-1.6795513215288673,-1.6795513215288673]
[null,null,2.807824351297399,-0.6190532421223834,-0.5392038048962909,{"$f":"(LOOKUP(Sheet2!C227+0.0001,Sheet2!$C$505:$C$1005,$D$505:$D$1005)-D227)/0.0001","v":1.570821840437553},{"$f":"(LOOKUP(Sheet2!C227+0.0001,Sheet2!$C$505:$C$1005,$E$505:$E$1005)-E227)/0.0001","v":-2.5262832575467797},-1.6082557502785184,-1.6082557502785184]
[null,null,2.8203592814371192,-0.5991721875842683,-0.5704849627977576,{"$f":"(LOOKUP(Sheet2!C228+0.0001,Sheet2!$C$505:$C$1005,$D$505:$D$1005)-D228)/0.0001","v":1.6013602050024556},{"$f":"(LOOKUP(Sheet2!C228+0.0001,Sheet2!$C$505:$C$1005,$E$505:$E$1005)-E228)/0.0001","v":-2.463667384260404},-1.5384842064666058,-1.5384842064666058]
[null,null,2.8328942115768396,-0.5789145743106724,-0.6009594814176988,{"$f":"(LOOKUP(Sheet2!C229+0.0001,Sheet2!$C$505:$C$1005,$D$505:$D$1005)-D229)/0.0001","v":1.6308921707608448},{"$f":"(LOOKUP(Sheet2!C229+0.0001,Sheet2!$C$505:$C$1005,$E$505:$E$1005)-E229)/0.0001","v":-2.39756799957358},-1.4700959649926242,-1.4700959649926242]
[null,null,2.84542914171656,-0.5582931335020691,-0.6305842712000223,{"$f":"(LOOKUP(Sheet2!C230+0.0001,Sheet2!$C$505:$C$1005,$D$505:$D$1005)-D230)/0.0001","v":1.6593991779068062},{"$f":"(LOOKUP(Sheet2!C230+0.0001,Sheet2!$C$505:$C$1005,$E$505:$E$1005)-E230)/0.0001","v":-2.328078564891589},-1.402964757297437,-1.402964757297437]
[null,null,2.8579640718562804,-0.5373208250117955,-0.659317444065806,{"$f":"(LOOKUP(Sheet2!C231+0.0001,Sheet2!$C$505:$C$1005,$D$505:$D$1005)-D231)/0.0001","v":1.6868633107858244},{"$f":"(LOOKUP(Sheet2!C231+0.0001,Sheet2!$C$505:$C$1005,$E$505:$E$1005)-E231)/0.0001","v":-2.255297335110873},-1.3369769326835639,-1.3369769326835639]
[null,null,2.870499001996001,-0.5160108292012381,-0.6871183726411001,{"$f":"(LOOKUP(Sheet2!C232+0.0001,Sheet2!$C$505:$C$1005,$D$505:$D$1005)-D232)/0.0001","v":1.7132673091524442},{"$f":"(LOOKUP(Sheet2!C232+0.0001,Sheet2!$C$505:$C$1005,$E$505:$E$1005)-E232)/0.0001","v":-2.1793272194592372},-1.2720298857143042,-1.2720298857143042]
[null,null,2.8830339321357212,-0.4943765386564379,-0.7139477477021493,{"$f":"(LOOKUP(Sheet2!C233+0.0001,Sheet2!$C$505:$C$1005,$D$505:$D$1005)-D233)/0.0001","v":1.7385945790177049},{"$f":"(LOOKUP(Sheet2!C233+0.0001,Sheet2!$C$505:$C$1005,$E$505:$E$1005)-E233)/0.0001","v":-2.100275636208737},-1.2080307056952748,-1.2080307056952748]
[null,null,2.8955688622754416,-0.4724315497713186,-0.7397676337568121,{"$f":"(LOOKUP(Sheet2!C234+0.0001,Sheet2!$C$505:$C$1005,$D$505:$D$1005)-D234)/0.0001","v":1.7628292030796855},{"$f":"(LOOKUP(Sheet2!C234+0.0001,Sheet2!$C$505:$C$1005,$E$505:$E$1005)-E234)/0.0001","v":-2.018254360584004},-1.1448950114157899,-1.1448950114157899]
[null,null,2.908103792415162,-0.4501896542028296,-0.7645415226835877,{"$f":"(LOOKUP(Sheet2!C235+0.0001,Sheet2!$C$505:$C$1005,$D$505:$D$1005)-D235)/0.0001","v":1.7859559507260592},{"$f":"(LOOKUP(Sheet2!C235+0.0001,Sheet2!$C$505:$C$1005,$E$505:$E$1005)-E235)/0.0001","v":-1.933379366911847},-1.0825459419230663,-1.0825459419230663]
[null,null,2.9206387225548824,-0.4276648302033722,-0.7882343853524065,{"$f":"(LOOKUP(Sheet2!C236+0.0001,Sheet2!$C$505:$C$1005,$D$505:$D$1005)-D236)/0.0001","v":1.8079602876053258},{"$f":"(LOOKUP(Sheet2!C236+0.0001,Sheet2!$C$505:$C$1005,$E$505:$E$1005)-E236)/0.0001","v":-1.8457706644525729},-1.0209132784090782,-1.0209132784090782]
[null,null,2.933173652694603,-0.4048712338359579,-0.8108127211541963,{"$f":"(LOOKUP(Sheet2!C237+0.0001,Sheet2!$C$505:$C$1005,$D$505:$D$1005)-D237)/0.0001","v":1.8288283847633924},{"$f":"(LOOKUP(Sheet2!C237+0.0001,Sheet2!$C$505:$C$1005,$E$505:$E$1005)-E237)/0.0001","v":-1.7555521278900255},-0.9599326773994449,-0.9599326773994449]
[null,null,2.9457085828343232,-0.38182319007761845,-0.8322446053691889,{"$f":"(LOOKUP(Sheet2!C238+0.0001,Sheet2!$C$505:$C$1005,$D$505:$D$1005)-D238)/0.0001","v":1.8485471273310683},{"$f":"(LOOKUP(Sheet2!C238+0.0001,Sheet2!$C$505:$C$1005,$E$505:$E$1005)-E238)/0.0001","v":-1.6628513220118268},-0.8995449980291554,-0.8995449980291554]
[null,null,2.9582435129740436,-0.3585351838166593,-0.852499734306994,{"$f":"(LOOKUP(Sheet2!C239+0.0001,Sheet2!$C$505:$C$1005,$D$505:$D$1005)-D239)/0.0001","v":1.8671041227696916},{"$f":"(LOOKUP(Sheet2!C239+0.0001,Sheet2!$C$505:$C$1005,$E$505:$E$1005)-E239)/0.0001","v":-1.5677993214968655},-0.8396957097235517,-0.8396957097235517]
[null,null,2.970778443113764,-0.3350218507494149,-0.8715494681546121,{"$f":"(LOOKUP(Sheet2!C240+0.0001,Sheet2!$C$505:$C$1005,$D$505:$D$1005)-D240)/0.0001","v":1.8844877086582335},{"$f":"(LOOKUP(Sheet2!C240+0.0001,Sheet2!$C$505:$C$1005,$E$505:$E$1005)-E240)/0.0001","v":-1.4705305254292256},-0.7803343681536942,-0.7803343681536942]
[null,null,2.9833133732534844,-0.3112979681822258,-0.8893668714718017,{"$f":"(LOOKUP(Sheet2!C241+0.0001,Sheet2!$C$505:$C$1005,$D$505:$D$1005)-D241)/0.0001","v":1.9006869600202148},{"$f":"(LOOKUP(Sheet2!C241+0.0001,Sheet2!$C$505:$C$1005,$E$505:$E$1005)-E241)/0.0001","v":-1.3711824674100814},-0.7214141498584797,-0.7214141498584797]
[null,null,2.995848303393205,-0.2873784457444196,-0.9059267512765429,{"$f":"(LOOKUP(Sheet2!C242+0.0001,Sheet2!$C$505:$C$1005,$D$505:$D$1005)-D242)/0.0001","v":1.9156916961948767},{"$f":"(LOOKUP(Sheet2!C242+0.0001,Sheet2!$C$505:$C$1005,$E$505:$E$1005)-E242)/0.0001","v":-1.2698956209544754},-0.6628914367989688,-0.6628914367989688]
[null,null,3.0083832335329252,-0.26327831601813056,-0.9212056926667453,{"$f":"(LOOKUP(Sheet2!C243+0.0001,Sheet2!$C$505:$C$1005,$D$505:$D$1005)-D243)/0.0001","v":1.9294924872298447},{"$f":"(LOOKUP(Sheet2!C243+0.0001,Sheet2!$C$505:$C$1005,$E$505:$E$1005)-E243)/0.0001","v":-1.1668132009956533},-0.6047254439797466,-0.6047254439797466]
[null,null,3.0209181636726457,-0.23901272509084862,-0.9351820919278345,{"$f":"(LOOKUP(Sheet2!C244+0.0001,Sheet2!$C$505:$C$1005,$D$505:$D$1005)-D244)/0.0001","v":1.9420806598127727},{"$f":"(LOOKUP(Sheet2!C244+0.0001,Sheet2!$C$505:$C$1005,$E$505:$E$1005)-E244)/0.0001","v":-1.0620809612671422},-0.5468778837278224,-0.5468778837278224]
[null,null,3.033453093812366,-0.21459692303663355,-0.9478361870794015,{"$f":"(LOOKUP(Sheet2!C245+0.0001,Sheet2!$C$505:$C$1005,$D$505:$D$1005)-D245)/0.0001","v":1.9534483027169869},{"$f":"(LOOKUP(Sheet2!C245+0.0001,Sheet2!$C$505:$C$1005,$E$505:$E$1005)-E245)/0.0001","v":-0.9558469883252929},-0.48931266161271675,-0.48931266161271675]
[null,null,3.0459880239520865,-0.19004625433197778,-0.9591500858177276,{"$f":"(LOOKUP(Sheet2!C246+0.0001,Sheet2!$C$505:$C$1005,$D$505:$D$1005)-D246)/0.0001","v":1.9635882717769504},{"$f":"(LOOKUP(Sheet2!C246+0.0001,Sheet2!$C$505:$C$1005,$E$505:$E$1005)-E246)/0.0001","v":-0.8482614920568565},-0.43199559920431885,-0.43199559920431885]
[null,null,3.058522954091807,-0.16537614821234017,-0.9691077908146715,{"$f":"(LOOKUP(Sheet2!C247+0.0001,Sheet2!$C$505:$C$1005,$D$505:$D$1005)-D247)/0.0001","v":1.9724941943777274},{"$f":"(LOOKUP(Sheet2!C247+0.0001,Sheet2!$C$505:$C$1005,$E$505:$E$1005)-E247)/0.0001","v":-0.739476593387689},-0.3748941799146716,-0.3748941799146716]
[null,null,3.0710578842315273,-0.1406021089754119,-0.9776952223371496,{"$f":"(LOOKUP(Sheet2!C248+0.0001,Sheet2!$C$505:$C$1005,$D$505:$D$1005)-D248)/0.0001","v":1.9801604734590028},{"$f":"(LOOKUP(Sheet2!C248+0.0001,Sheet2!$C$505:$C$1005,$E$505:$E$1005)-E248)/0.0001","v":-0.6296461090993244},-0.3179773142322349,-0.3179773142322349]
[null,null,3.0835928143712477,-0.11573970623720836,-0.9849002381552256,{"$f":"(LOOKUP(Sheet2!C249+0.0001,Sheet2!$C$505:$C$1005,$D$505:$D$1005)-D249)/0.0001","v":1.9865822910321296},{"$f":"(LOOKUP(Sheet2!C249+0.0001,Sheet2!$C$505:$C$1005,$E$505:$E$1005)-E249)/0.0001","v":-0.5189253344184408},-0.2612151214480186,-0.2612151214480186]
[null,null,3.096127744510968,-0.09080456514711086,-0.9907126507106611,{"$f":"(LOOKUP(Sheet2!C250+0.0001,Sheet2!$C$505:$C$1005,$D$505:$D$1005)-D250)/0.0001","v":1.9917556112102053},{"$f":"(LOOKUP(Sheet2!C250+0.0001,Sheet2!$C$505:$C$1005,$E$505:$E$1005)-E250)/0.0001","v":-0.4074708233736679},-0.20457872496018006,-0.20457872496018006]
[null,null,3.1086626746506885,-0.06581235656800737,-0.995124241521649,{"$f":"(LOOKUP(Sheet2!C251+0.0001,Sheet2!$C$505:$C$1005,$D$505:$D$1005)-D251)/0.0001","v":1.9956771827428499},{"$f":"(LOOKUP(Sheet2!C251+0.0001,Sheet2!$C$505:$C$1005,$E$505:$E$1005)-E251)/0.0001","v":-0.2954401674859497},-0.1480400588034474,-0.1480400588034474]
[null,null,3.121197604790409,-0.04077878722770403,-0.9981287728033676,{"$f":"(LOOKUP(Sheet2!C252+0.0001,Sheet2!$C$505:$C$1005,$D$505:$D$1005)-D252)/0.0001","v":1.9983445410592242},{"$f":"(LOOKUP(Sheet2!C252+0.0001,Sheet2!$C$505:$C$1005,$E$505:$E$1005)-E252)/0.0001","v":-0.18299177289904378},-0.09157168303021902,-0.09157168303021902]
[null,null,3.1337325349301293,-0.01571958984779692,-0.9997219962879177,{"$f":"(LOOKUP(Sheet2!C253+0.0001,Sheet2!$C$505:$C$1005,$D$505:$D$1005)-D253)/0.0001","v":1.9997560098183527},{"$f":"(LOOKUP(Sheet2!C253+0.0001,Sheet2!$C$505:$C$1005,$E$505:$E$1005)-E253)/0.0001","v":-0.07028463643310445},-0.03514660592993479,-0.03514660592993479]
[null,null,3.1462674650698497,0.009349486743792615,-0.9999016592311768,{"$f":"(LOOKUP(Sheet2!C254+0.0001,Sheet2!$C$505:$C$1005,$D$505:$D$1005)-D254)/0.0001","v":1.9999107019614235},{"$f":"(LOOKUP(Sheet2!C254+0.0001,Sheet2!$C$505:$C$1005,$E$505:$E$1005)-E254)/0.0001","v":0.042521879249912686},0.021261888947446062,0.021261888947446062]
[null,null,3.15880239520957,0.03441268751040464,-0.9986675075980749,{"$f":"(LOOKUP(Sheet2!C255+0.0001,Sheet2!$C$505:$C$1005,$D$505:$D$1005)-D255)/0.0001","v":1.9988085202699013},{"$f":"(LOOKUP(Sheet2!C255+0.0001,Sheet2!$C$505:$C$1005,$E$505:$E$1005)-E255)/0.0001","v":0.15526827096823403},0.07768041280275712,0.07768041280275712]
[null,null,3.1713373253492905,0.059454261108129444,-0.9960212864217881,{"$f":"(LOOKUP(Sheet2!C256+0.0001,Sheet2!$C$505:$C$1005,$D$505:$D$1005)-D256)/0.0001","v":1.9964501574263465},{"$f":"(LOOKUP(Sheet2!C256+0.0001,Sheet2!$C$505:$C$1005,$E$505:$E$1005)-E256)/0.0001","v":0.267795120549863},0.134135640478539,0.134135640478539]
[null,null,3.183872255489011,0.08445846978497554,-0.9919667373363431,{"$f":"(LOOKUP(Sheet2!C257+0.0001,Sheet2!$C$505:$C$1005,$D$505:$D$1005)-D257)/0.0001","v":1.9928370955792085},{"$f":"(LOOKUP(Sheet2!C257+0.0001,Sheet2!$C$505:$C$1005,$E$505:$E$1005)-E257)/0.0001","v":0.3799433202533731},0.190654480035632,0.190654480035632]
[null,null,3.1964071856287313,0.10940959927149557,-0.9865095932861195,{"$f":"(LOOKUP(Sheet2!C258+0.0001,Sheet2!$C$505:$C$1005,$D$505:$D$1005)-D258)/0.0001","v":1.987971605411365},{"$f":"(LOOKUP(Sheet2!C258+0.0001,Sheet2!$C$505:$C$1005,$E$505:$E$1005)-E258)/0.0001","v":0.4915542977168563},0.24726424481054923,0.24726424481054923]
[null,null,3.2089421157684517,{"$f":"SIN(2*t)","v":0.13429196865665438},{"$f":"COS(3*t)","v":-0.9796575704197328},{"$f":"(LOOKUP(Sheet2!C259+0.0001,Sheet2!$C$505:$C$1005,$D$505:$D$1005)-D259)/0.0001","v":1.9818567447130175},{"$f":"(LOOKUP(Sheet2!C259+0.0001,Sheet2!$C$505:$C$1005,$E$505:$E$1005)-E259)/0.0001","v":0.6024702402041004},0.3039928298608389,0.3039928298608389]
[null,null,3.221477045908172,0.15908994024273237,-0.971420357179758,{"$f":"(LOOKUP(Sheet2!C260+0.0001,Sheet2!$C$505:$C$1005,$D$505:$D$1005)-D260)/0.0001","v":1.9744963564596874},{"$f":"(LOOKUP(Sheet2!C260+0.0001,Sheet2!$C$505:$C$1005,$E$505:$E$1005)-E260)/0.0001","v":0.7125343177061261},0.3608688946804211,{"$f":"IF(H260>100,100,IF(H260<-100,-100,H260))","v":0.3608688946804211}]
[null,null,{"$f":"C260+B$12","v":3.2340119760478925},0.18378792937307084,-0.961809600603721,{"$f":"(LOOKUP(Sheet2!C261+0.0001,Sheet2!$C$505:$C$1005,$D$505:$D$1005)-D261)/0.0001","v":1.965895066397827},{"$f":"(LOOKUP(Sheet2!C261+0.0001,Sheet2!$C$505:$C$1005,$E$505:$E$1005)-E261)/0.0001","v":0.8215909047326608},{"$f":"G261/F261","v":0.41792205432311724},0.41792205432311724]
[null,null,3.246546906187613,0.2083704142264829,-0.9508388898557276,{"$f":"(LOOKUP(Sheet2!C262+0.0001,Sheet2!$C$505:$C$1005,$D$505:$D$1005)-D262)/0.0001","v":1.956058280137285},{"$f":"(LOOKUP(Sheet2!C262+0.0001,Sheet2!$C$505:$C$1005,$E$505:$E$1005)-E262)/0.0001","v":0.9294858003117135},0.47518308107183693,0.47518308107183693]
[null,null,3.2590818363273333,0.2328219455721745,-0.938523737012016,{"$f":"(LOOKUP(Sheet2!C263+0.0001,Sheet2!$C$505:$C$1005,$D$505:$D$1005)-D263)/0.0001","v":1.9449921797529135},{"$f":"(LOOKUP(Sheet2!C263+0.0001,Sheet2!$C$505:$C$1005,$E$505:$E$1005)-E263)/0.0001","v":1.0360664460840052},0.5326841191801729,0.5326841191801729]
[null,null,3.2716167664670537,0.2571271564790449,-0.9248815551275997,{"$f":"(LOOKUP(Sheet2!C264+0.0001,Sheet2!$C$505:$C$1005,$D$505:$D$1005)-D264)/0.0001","v":1.9327037199018404},{"$f":"(LOOKUP(Sheet2!C264+0.0001,Sheet2!$C$505:$C$1005,$E$505:$E$1005)-E264)/0.0001","v":1.1411821419349266},0.5904589152407105,0.5904589152407105]
[null,null,3.284151696606774,0.28127077197326456,-0.9099316336150163,{"$f":"(LOOKUP(Sheet2!C265+0.0001,Sheet2!$C$505:$C$1005,$D$505:$D$1005)-D265)/0.0001","v":1.9192006234514114},{"$f":"(LOOKUP(Sheet2!C265+0.0001,Sheet2!$C$505:$C$1005,$E$505:$E$1005)-E265)/0.0001","v":1.2446842591740115},0.6485430673399962,0.6485430673399962]
[null,null,3.2966866267464945,0.30523761863806154,-0.8936951109699914,{"$f":"(LOOKUP(Sheet2!C266+0.0001,Sheet2!$C$505:$C$1005,$D$505:$D$1005)-D266)/0.0001","v":1.9044913766236293},{"$f":"(LOOKUP(Sheet2!C266+0.0001,Sheet2!$C$505:$C$1005,$E$505:$E$1005)-E266)/0.0001","v":1.3464264505769208},0.7069742961839649,0.7069742961839649]
[null,null,3.309221556886215,0.3290126341496822,-0.876194944882587,{"$f":"(LOOKUP(Sheet2!C267+0.0001,Sheet2!$C$505:$C$1005,$D$505:$D$1005)-D267)/0.0001","v":1.8885852236649736},{"$f":"(LOOKUP(Sheet2!C267+0.0001,Sheet2!$C$505:$C$1005,$E$505:$E$1005)-E267)/0.0001","v":1.4462648574342651},0.7657927422664331,0.7657927422664331]
[null,null,3.3217564870259353,0.3525808767435343,-0.8574558797760916,{"$f":"(LOOKUP(Sheet2!C268+0.0001,Sheet2!$C$505:$C$1005,$D$505:$D$1005)-D268)/0.0001","v":1.8714921610363255},{"$f":"(LOOKUP(Sheet2!C268+0.0001,Sheet2!$C$505:$C$1005,$E$505:$E$1005)-E268)/0.0001","v":1.5440583128345509},0.8250412932424678,0.8250412932424678]
[null,null,3.3342914171656557,0.37592753460456274,-0.837504411819554,{"$f":"(LOOKUP(Sheet2!C269+0.0001,Sheet2!$C$505:$C$1005,$D$505:$D$1005)-D269)/0.0001","v":1.8532229311285509},{"$f":"(LOOKUP(Sheet2!C269+0.0001,Sheet2!$C$505:$C$1005,$E$505:$E$1005)-E269)/0.0001","v":1.6396685414055145},0.8847659468615636,0.8847659468615636]
[null,null,3.346826347305376,0.3990379351759567,-0.8163687514634282,{"$f":"(LOOKUP(Sheet2!C270+0.0001,Sheet2!$C$505:$C$1005,$D$505:$D$1005)-D270)/0.0001","v":1.8337890155123437},{"$f":"(LOOKUP(Sheet2!C270+0.0001,Sheet2!$C$505:$C$1005,$E$505:$E$1005)-E270)/0.0001","v":1.732960354676738},0.9450162150701753,0.9450162150701753]
[null,null,3.3593612774450965,0.42189755438033744,-0.7940787835513053,{"$f":"(LOOKUP(Sheet2!C271+0.0001,Sheet2!$C$505:$C$1005,$D$505:$D$1005)-D271)/0.0001","v":1.8132026277234425},{"$f":"(LOOKUP(Sheet2!C271+0.0001,Sheet2!$C$505:$C$1005,$E$505:$E$1005)-E271)/0.0001","v":1.8238018423921698},1.0058455764991003,1.0058455764991003]
[null,null,3.371896207584817,0.4444920257476325,-0.7706660250641302,{"$f":"(LOOKUP(Sheet2!C272+0.0001,Sheet2!$C$505:$C$1005,$D$505:$D$1005)-D272)/0.0001","v":1.7914767055859926},{"$f":"(LOOKUP(Sheet2!C272+0.0001,Sheet2!$C$505:$C$1005,$E$505:$E$1005)-E272)/0.0001","v":1.912064558857729},1.0673119850767425,1.0673119850767425]
[null,null,3.3844311377245373,0.466807149443899,-0.7461635805566522,{"$f":"(LOOKUP(Sheet2!C273+0.0001,Sheet2!$C$505:$C$1005,$D$505:$D$1005)-D273)/0.0001","v":1.7686249030812728},{"$f":"(LOOKUP(Sheet2!C273+0.0001,Sheet2!$C$505:$C$1005,$E$505:$E$1005)-E273)/0.0001","v":1.997623704732554},1.1294784446675623,1.1294784446675623]
[null,null,3.3969660678642577,0.4888289011954218,-0.7206060953491199,{"$f":"(LOOKUP(Sheet2!C274+0.0001,Sheet2!$C$505:$C$1005,$D$505:$D$1005)-D274)/0.0001","v":1.744661581766227},{"$f":"(LOOKUP(Sheet2!C274+0.0001,Sheet2!$C$505:$C$1005,$E$505:$E$1005)-E274)/0.0001","v":2.080358303302443},1.1924136606460778,1.1924136606460778]
[null,null,3.409500998003978,0.5105434411024786,-0.694029706540405,{"$f":"(LOOKUP(Sheet2!C275+0.0001,Sheet2!$C$505:$C$1005,$D$505:$D$1005)-D275)/0.0001","v":1.7196018017484604},{"$f":"(LOOKUP(Sheet2!C275+0.0001,Sheet2!$C$505:$C$1005,$E$505:$E$1005)-E275)/0.0001","v":2.1601513717317555},1.2561927822681693,1.2561927822681693]
[null,null,3.4220359281436985,0.5319371223372318,-0.6664719919118199,{"$f":"(LOOKUP(Sheet2!C276+0.0001,Sheet2!$C$505:$C$1005,$D$505:$D$1005)-D276)/0.0001","v":1.6934613122232545},{"$f":"(LOOKUP(Sheet2!C276+0.0001,Sheet2!$C$505:$C$1005,$E$505:$E$1005)-E276)/0.0001","v":2.236890086270149},1.320898251483204,1.320898251483204]
[null,null,3.434570858283419,0.5529964997202823,-0.6379719167938787,{"$f":"(LOOKUP(Sheet2!C277+0.0001,Sheet2!$C$505:$C$1005,$D$505:$D$1005)-D277)/0.0001","v":1.6662565415725972},{"$f":"(LOOKUP(Sheet2!C277+0.0001,Sheet2!$C$505:$C$1005,$E$505:$E$1005)-E277)/0.0001","v":2.310465941988138},1.3866207779790871,1.3866207779790871]
[null,null,3.4471057884231393,0.5737083381704938,-0.6085697789711253,{"$f":"(LOOKUP(Sheet2!C278+0.0001,Sheet2!$C$505:$C$1005,$D$505:$D$1005)-D278)/0.0001","v":1.6380045870401094},{"$f":"(LOOKUP(Sheet2!C278+0.0001,Sheet2!$C$505:$C$1005,$E$505:$E$1005)-E278)/0.0001","v":2.3807749059834293},1.4534604633101262,1.4534604633101262]
[null,null,3.4596407185628597,0.5940596210227773,-0.5783071517029362,{"$f":"(LOOKUP(Sheet2!C279+0.0001,Sheet2!$C$505:$C$1005,$D$505:$D$1005)-D279)/0.0001","v":1.608723203994078},{"$f":"(LOOKUP(Sheet2!C279+0.0001,Sheet2!$C$505:$C$1005,$E$505:$E$1005)-E279)/0.0001","v":2.447717564697527},1.5215281029206422,1.5215281029206422]
[null,null,3.47217564870258,0.6140375582086102,-0.5472268249408587,{"$f":"(LOOKUP(Sheet2!C280+0.0001,Sheet2!$C$505:$C$1005,$D$505:$D$1005)-D280)/0.0001","v":1.5784307947530607},{"$f":"(LOOKUP(Sheet2!C280+0.0001,Sheet2!$C$505:$C$1005,$E$505:$E$1005)-E280)/0.0001","v":2.5111992642556924},1.590946700104492,1.590946700104492]
[null,null,3.4847105788423005,0.633629594294145,-0.5153727448256045,{"$f":"(LOOKUP(Sheet2!C281+0.0001,Sheet2!$C$505:$C$1005,$D$505:$D$1005)-D281)/0.0001","v":1.5471463970395671},{"$f":"(LOOKUP(Sheet2!C281+0.0001,Sheet2!$C$505:$C$1005,$E$505:$E$1005)-E281)/0.0001","v":2.571130244540809},1.6618532347427586,1.6618532347427586]
[null,null,3.497245508982021,0.6528234163708613,-0.48278995154924415,{"$f":"(LOOKUP(Sheet2!C282+0.0001,Sheet2!$C$505:$C$1005,$D$505:$D$1005)-D282)/0.0001","v":1.5148896719996419},{"$f":"(LOOKUP(Sheet2!C282+0.0001,Sheet2!$C$505:$C$1005,$E$505:$E$1005)-E282)/0.0001","v":2.6274257658637223},1.7344007385010038,1.7344007385010038]
[null,null,3.5097804391217413,0.6716069617937964,-0.4495245156704644,{"$f":"(LOOKUP(Sheet2!C283+0.0001,Sheet2!$C$505:$C$1005,$D$505:$D$1005)-D283)/0.0001","v":1.4816808918560742},{"$f":"(LOOKUP(Sheet2!C283+0.0001,Sheet2!$C$505:$C$1005,$E$505:$E$1005)-E283)/0.0001","v":2.680006229028864},1.8087607417759635,1.8087607417759635]
[null,null,3.5223153692614617,0.6899684257624961,-0.415623472972935,{"$f":"(LOOKUP(Sheet2!C284+0.0001,Sheet2!$C$505:$C$1005,$D$505:$D$1005)-D284)/0.0001","v":1.4475409271641482},{"$f":"(LOOKUP(Sheet2!C284+0.0001,Sheet2!$C$505:$C$1005,$E$505:$E$1005)-E284)/0.0001","v":2.7287972876394173},1.885126172553446,1.885126172553446]
[null,null,3.534850299401182,0.7078962687399173,-0.38113475795889123,{"$f":"(LOOKUP(Sheet2!C285+0.0001,Sheet2!$C$505:$C$1005,$D$505:$D$1005)-D285)/0.0001","v":1.4124912336954676},{"$f":"(LOOKUP(Sheet2!C285+0.0001,Sheet2!$C$505:$C$1005,$E$505:$E$1005)-E285)/0.0001","v":2.7737299534630333},1.9637148091929668,1.9637148091929668]
[null,null,3.5473852295409025,0.725379223704624,-0.3461071360719712,{"$f":"(LOOKUP(Sheet2!C286+0.0001,Sheet2!$C$505:$C$1005,$D$505:$D$1005)-D286)/0.0001","v":1.3765538389542975},{"$f":"(LOOKUP(Sheet2!C286+0.0001,Sheet2!$C$505:$C$1005,$E$505:$E$1005)-E286)/0.0001","v":2.814740693730111},2.044773414651428,2.044773414651428]
[null,null,3.559920159680623,0.7424063032317151,-0.31059013474513963,{"$f":"(LOOKUP(Sheet2!C287+0.0001,Sheet2!$C$505:$C$1005,$D$505:$D$1005)-D287)/0.0001","v":1.3397513283364137},{"$f":"(LOOKUP(Sheet2!C287+0.0001,Sheet2!$C$505:$C$1005,$E$505:$E$1005)-E287)/0.0001","v":2.851771521220625},2.128582715989322,2.128582715989322]
[null,null,3.5724550898203433,0.7589668063980358,-0.2746339733711948,{"$f":"(LOOKUP(Sheet2!C288+0.0001,Sheet2!$C$505:$C$1005,$D$505:$D$1005)-D288)/0.0001","v":1.3021068309304606},{"$f":"(LOOKUP(Sheet2!C288+0.0001,Sheet2!$C$505:$C$1005,$E$505:$E$1005)-E288)/0.0001","v":2.8847700759959682},2.2154634377692086,2.2154634377692086]
[null,null,3.5849900199600637,0.7750503255073341,-0.23828949229487575,{"$f":"(LOOKUP(Sheet2!C289+0.0001,Sheet2!$C$505:$C$1005,$D$505:$D$1005)-D289)/0.0001","v":1.2636440049829112},{"$f":"(LOOKUP(Sheet2!C289+0.0001,Sheet2!$C$505:$C$1005,$E$505:$E$1005)-E289)/0.0001","v":2.913689699697297},2.305783660752381,2.305783660752381]
[null,null,3.597524950099784,0.790646752631132,-0.20160808092697263,{"$f":"(LOOKUP(Sheet2!C290+0.0001,Sheet2!$C$505:$C$1005,$D$505:$D$1005)-D290)/0.0001","v":1.2243870230344012},{"$f":"(LOOKUP(Sheet2!C290+0.0001,Sheet2!$C$505:$C$1005,$E$505:$E$1005)-E290)/0.0001","v":2.9384895012490864},2.3999678581749593,2.3999678581749593]
[null,null,3.6100598802395045,0.8057462859612061,-0.16464160508208295,{"$f":"(LOOKUP(Sheet2!C291+0.0001,Sheet2!$C$505:$C$1005,$D$505:$D$1005)-D291)/0.0001","v":1.1843605567229964},{"$f":"(LOOKUP(Sheet2!C291+0.0001,Sheet2!$C$505:$C$1005,$E$505:$E$1005)-E291)/0.0001","v":2.95913441495127},2.4985080752257485,2.4985080752257485]
[null,null,3.622594810379225,0.8203394359696792,-0.127442333642755,{"$f":"(LOOKUP(Sheet2!C292+0.0001,Sheet2!$C$505:$C$1005,$D$505:$D$1005)-D292)/0.0001","v":1.1435897612810386},{"$f":"(LOOKUP(Sheet2!C292+0.0001,Sheet2!$C$505:$C$1005,$E$505:$E$1005)-E292)/0.0001","v":2.9755952497836913},2.601977868751166,2.601977868751166]
[null,null,3.6351297405189453,0.8344170313728575,-0.09006286465371191,{"$f":"(LOOKUP(Sheet2!C293+0.0001,Sheet2!$C$505:$C$1005,$D$505:$D$1005)-D293)/0.0001","v":1.102100259724459},{"$f":"(LOOKUP(Sheet2!C293+0.0001,Sheet2!$C$505:$C$1005,$E$505:$E$1005)-E293)/0.0001","v":2.987848730959669},2.7110498383392763,2.7110498383392763]
[null,null,3.6476646706586657,0.8479702248950604,-0.05255605095065548,{"$f":"(LOOKUP(Sheet2!C294+0.0001,Sheet2!$C$505:$C$1005,$D$505:$D$1005)-D294)/0.0001","v":1.0599181267545443},{"$f":"(LOOKUP(Sheet2!C294+0.0001,Sheet2!$C$505:$C$1005,$E$505:$E$1005)-E294)/0.0001","v":2.995877532554203},2.826517876175532,2.826517876175532]
[null,null,3.660199600798386,0.860990498828824,-0.014974925428807646,{"$f":"(LOOKUP(Sheet2!C295+0.0001,Sheet2!$C$505:$C$1005,$D$505:$D$1005)-D295)/0.0001","v":1.0170698723610538},{"$f":"(LOOKUP(Sheet2!C295+0.0001,Sheet2!$C$505:$C$1005,$E$505:$E$1005)-E295)/0.0001","v":2.99967030228495},2.9493256892188078,2.9493256892188078]
[null,null,3.6727345309381065,0.8734696703879813,0.02262737394314405,{"$f":"(LOOKUP(Sheet2!C296+0.0001,Sheet2!$C$505:$C$1005,$D$505:$D$1005)-D296)/0.0001","v":0.9735824251733138},{"$f":"(LOOKUP(Sheet2!C296+0.0001,Sheet2!$C$505:$C$1005,$E$505:$E$1005)-E296)/0.0001","v":2.999221677280582},3.0806037575572205,3.0806037575572205]
[null,null,3.685269461077827,0.8853998968502574,0.06019767925766996,{"$f":"(LOOKUP(Sheet2!C297+0.0001,Sheet2!$C$505:$C$1005,$D$505:$D$1005)-D297)/0.0001","v":0.9294831155282068},{"$f":"(LOOKUP(Sheet2!C297+0.0001,Sheet2!$C$505:$C$1005,$E$505:$E$1005)-E297)/0.0001","v":2.994532291946961},3.221717793383721,3.221717793383721]
[null,null,3.6978043912175473,0.8967736804861453,0.0976828678453539,{"$f":"(LOOKUP(Sheet2!C298+0.0001,Sheet2!$C$505:$C$1005,$D$505:$D$1005)-D298)/0.0001","v":0.8847996582983519},{"$f":"(LOOKUP(Sheet2!C298+0.0001,Sheet2!$C$505:$C$1005,$E$505:$E$1005)-E298)/0.0001","v":2.9856087767865525},3.3743331033021415,3.3743331033021415]
[null,null,3.7103393213572677,0.9075838732709662,0.13502993738788427,{"$f":"(LOOKUP(Sheet2!C299+0.0001,Sheet2!$C$505:$C$1005,$D$505:$D$1005)-D299)/0.0001","v":0.8395601354704851},{"$f":"(LOOKUP(Sheet2!C299+0.0001,Sheet2!$C$505:$C$1005,$E$505:$E$1005)-E299)/0.0001","v":2.9724637493067085},3.540501297909953,3.540501297909953]
[null,null,3.722874251496988,0.9178236813771534,0.17218608086087403,{"$f":"(LOOKUP(Sheet2!C300+0.0001,Sheet2!$C$505:$C$1005,$D$505:$D$1005)-D300)/0.0001","v":0.7937929785006848},{"$f":"(LOOKUP(Sheet2!C300+0.0001,Sheet2!$C$505:$C$1005,$E$505:$E$1005)-E300)/0.0001","v":2.9551157958965235},3.7227789561431277,3.7227789561431277]
[null,null,3.7354091816367085,0.9274866694439342,0.20909876120054452,{"$f":"(LOOKUP(Sheet2!C301+0.0001,Sheet2!$C$505:$C$1005,$D$505:$D$1005)-D301)/0.0001","v":0.7475269504453319},{"$f":"(LOOKUP(Sheet2!C301+0.0001,Sheet2!$C$505:$C$1005,$E$505:$E$1005)-E301)/0.0001","v":2.9335894458273892},3.9243928852059873,3.9243928852059873]
[null,null,3.747944111776429,0.936566764621729,0.24571578558869708,{"$f":"(LOOKUP(Sheet2!C302+0.0001,Sheet2!$C$505:$C$1005,$D$505:$D$1005)-D302)/0.0001","v":0.7007911278822387},{"$f":"(LOOKUP(Sheet2!C302+0.0001,Sheet2!$C$505:$C$1005,$E$505:$E$1005)-E302)/0.0001","v":2.9079151362904065},4.14947481580996,4.14947481580996]
[null,null,3.7604790419161493,0.9450582603887252,0.28198537925093764,{"$f":"(LOOKUP(Sheet2!C303+0.0001,Sheet2!$C$505:$C$1005,$D$505:$D$1005)-D303)/0.0001","v":0.6536148826363775},{"$f":"(LOOKUP(Sheet2!C303+0.0001,Sheet2!$C$505:$C$1005,$E$505:$E$1005)-E303)/0.0001","v":2.878129169637811},4.403402134952589,4.403402134952589]
[null,null,3.7730139720558697,0.9529558201372249,0.31785625866380673,{"$f":"(LOOKUP(Sheet2!C304+0.0001,Sheet2!$C$505:$C$1005,$D$505:$D$1005)-D304)/0.0001","v":0.6060278633290839},{"$f":"(LOOKUP(Sheet2!C304+0.0001,Sheet2!$C$505:$C$1005,$E$505:$E$1005)-E304)/0.0001","v":2.8442736617761977},4.69330510011832,4.69330510011832]
[null,null,3.78554890219559,0.9602544805275175,0.3532777040673033,{"$f":"(LOOKUP(Sheet2!C305+0.0001,Sheet2!$C$505:$C$1005,$D$505:$D$1005)-D305)/0.0001","v":0.5580599767340821},{"$f":"(LOOKUP(Sheet2!C305+0.0001,Sheet2!$C$505:$C$1005,$E$505:$E$1005)-E305)/0.0001","v":2.8063964828928256},5.028843851724713,5.028843851724713]
[null,null,3.7980838323353106,0.9669496546071638,0.38819963118027345,{"$f":"(LOOKUP(Sheet2!C306+0.0001,Sheet2!$C$505:$C$1005,$D$505:$D$1005)-D306)/0.0001","v":0.5097413689891805},{"$f":"(LOOKUP(Sheet2!C306+0.0001,Sheet2!$C$505:$C$1005,$E$505:$E$1005)-E306)/0.0001","v":2.7645511894935915},5.4234389391932405,5.4234389391932405]
[null,null,3.810618762475031,0.9730371346937354,0.4225726620172612,{"$f":"(LOOKUP(Sheet2!C307+0.0001,Sheet2!$C$505:$C$1005,$D$505:$D$1005)-D307)/0.0001","v":0.46110240664587465},{"$f":"(LOOKUP(Sheet2!C307+0.0001,Sheet2!$C$505:$C$1005,$E$505:$E$1005)-E307)/0.0001","v":2.718796948949498},5.8962974596606825,5.8962974596606825]
[null,null,3.8231536926147514,0.9785130950191959,0.45634819470669,{"$f":"(LOOKUP(Sheet2!C308+0.0001,Sheet2!$C$505:$C$1005,$D$505:$D$1005)-D308)/0.0001","v":0.41217365758905444},{"$f":"(LOOKUP(Sheet2!C308+0.0001,Sheet2!$C$505:$C$1005,$E$505:$E$1005)-E308)/0.0001","v":2.669198455569899},6.475907439555839,6.475907439555839]
[null,null,3.8356886227544718,0.9833740941342617,0.48947847221165564,{"$f":"(LOOKUP(Sheet2!C309+0.0001,Sheet2!$C$505:$C$1005,$D$505:$D$1005)-D309)/0.0001","v":0.3629858718223744},{"$f":"(LOOKUP(Sheet2!C309+0.0001,Sheet2!$C$505:$C$1005,$E$505:$E$1005)-E309)/0.0001","v":2.6158258393876865},7.206412266832605,7.206412266832605]
[null,null,3.848223552894192,0.9876170770712325,0.521916649856161,{"$f":"(LOOKUP(Sheet2!C310+0.0001,Sheet2!$C$505:$C$1005,$D$505:$D$1005)-D310)/0.0001","v":0.3135699621492627},{"$f":"(LOOKUP(Sheet2!C310+0.0001,Sheet2!$C$505:$C$1005,$E$505:$E$1005)-E310)/0.0001","v":2.5587545667460354},8.160075503431163,8.160075503431163]
[null,null,3.8607584830339126,0.9912393772639316,0.5536168615613165,{"$f":"(LOOKUP(Sheet2!C311+0.0001,Sheet2!$C$505:$C$1005,$D$505:$D$1005)-D311)/0.0001","v":0.2639569847362466},{"$f":"(LOOKUP(Sheet2!C311+0.0001,Sheet2!$C$505:$C$1005,$E$505:$E$1005)-E311)/0.0001","v":2.4980653338368963},9.46391070625782,9.46391070625782]
[null,null,3.873293413173633,0.9942387182235495,0.5845342846978477,{"$f":"(LOOKUP(Sheet2!C312+0.0001,Sheet2!$C$505:$C$1005,$D$505:$D$1005)-D312)/0.0001","v":0.21417811960300348},{"$f":"(LOOKUP(Sheet2!C312+0.0001,Sheet2!$C$505:$C$1005,$E$505:$E$1005)-E312)/0.0001","v":2.4338439523619027},11.363644226932378,11.363644226932378]
[null,null,3.8858283433133534,0.9966132149693369,0.614625203463215,{"$f":"(LOOKUP(Sheet2!C313+0.0001,Sheet2!$C$505:$C$1005,$D$505:$D$1005)-D313)/0.0001","v":0.16426465102248322},{"$f":"(LOOKUP(Sheet2!C313+0.0001,Sheet2!$C$505:$C$1005,$E$505:$E$1005)-E313)/0.0001","v":2.366181228435904},14.404689102051787,14.404689102051787]
[null,null,3.8983632734530738,0.9983613752132495,0.643847070693731,{"$f":"(LOOKUP(Sheet2!C314+0.0001,Sheet2!$C$505:$C$1005,$D$505:$D$1005)-D314)/0.0001","v":0.11424794786107917},{"$f":"(LOOKUP(Sheet2!C314+0.0001,Sheet2!$C$505:$C$1005,$E$505:$E$1005)-E314)/0.0001","v":2.2951728339548616},20.089400964520586,20.089400964520586]
[null,null,3.910898203592794,0.9994821002977988,0.6721585680242771,{"$f":"(LOOKUP(Sheet2!C315+0.0001,Sheet2!$C$505:$C$1005,$D$505:$D$1005)-D315)/0.0001","v":0.0641594438666182},{"$f":"(LOOKUP(Sheet2!C315+0.0001,Sheet2!$C$505:$C$1005,$E$505:$E$1005)-E315)/0.0001","v":2.2209191715505394},34.61562379137253,34.61562379137253]
[null,null,3.9234331337325146,0.9999746858865195,0.6995196643105551,{"$f":"(LOOKUP(Sheet2!C316+0.0001,Sheet2!$C$505:$C$1005,$D$505:$D$1005)-D316)/0.0001","v":0.014030617907501153},{"$f":"(LOOKUP(Sheet2!C316+0.0001,Sheet2!$C$505:$C$1005,$E$505:$E$1005)-E316)/0.0001","v":2.143525232405352},152.77482763316965,100]
[null,null,3.935968063872235,0.9998388224066206,0.7258916722312695,{"$f":"(LOOKUP(Sheet2!C317+0.0001,Sheet2!$C$505:$C$1005,$D$505:$D$1005)-D317)/0.0001","v":-0.03610702580147951},{"$f":"(LOOKUP(Sheet2!C317+0.0001,Sheet2!$C$505:$C$1005,$E$505:$E$1005)-E317)/0.0001","v":2.063100448010946},-57.138476576666946,-57.138476576666946]
[null,null,3.9485029940119554,0.999074595243541,0.7512373029902049,{"$f":"(LOOKUP(Sheet2!C318+0.0001,Sheet2!$C$505:$C$1005,$D$505:$D$1005)-D318)/0.0001","v":-0.08622197751217975},{"$f":"(LOOKUP(Sheet2!C318+0.0001,Sheet2!$C$505:$C$1005,$E$505:$E$1005)-E318)/0.0001","v":1.9797585352354652},-22.96118219923457,-22.96118219923457]
[null,null,3.9610379241516758,0.9976824846872876,0.7755207190408556,{"$f":"(LOOKUP(Sheet2!C319+0.0001,Sheet2!$C$505:$C$1005,$D$505:$D$1005)-D319)/0.0001","v":-0.13628274172727828},{"$f":"(LOOKUP(Sheet2!C319+0.0001,Sheet2!$C$505:$C$1005,$E$505:$E$1005)-E319)/0.0001","v":1.8936173357220198},-13.89476988591428,-13.89476988591428]
[null,null,3.973572854291396,0.9956633656305901,0.7987075847590537,{"$f":"(LOOKUP(Sheet2!C320+0.0001,Sheet2!$C$505:$C$1005,$D$505:$D$1005)-D320)/0.0001","v":-0.18625785701331665},{"$f":"(LOOKUP(Sheet2!C320+0.0001,Sheet2!$C$505:$C$1005,$E$505:$E$1005)-E320)/0.0001","v":1.8047986490898893},-9.689785322510469,-9.689785322510469]
[null,null,3.9861077844311166,0.9930185070190612,0.8207651149919494,{"$f":"(LOOKUP(Sheet2!C321+0.0001,Sheet2!$C$505:$C$1005,$D$505:$D$1005)-D321)/0.0001","v":-0.2361159157582282},{"$f":"(LOOKUP(Sheet2!C321+0.0001,Sheet2!$C$505:$C$1005,$E$505:$E$1005)-E321)/0.0001","v":1.7134280608854802},-7.256724119520817,-7.256724119520817]
[null,null,3.998642714570837,0.9897495710537093,0.8416621214146971,{"$f":"(LOOKUP(Sheet2!C322+0.0001,Sheet2!$C$505:$C$1005,$D$505:$D$1005)-D322)/0.0001","v":-0.28582558391998525},{"$f":"(LOOKUP(Sheet2!C322+0.0001,Sheet2!$C$505:$C$1005,$E$505:$E$1005)-E322)/0.0001","v":1.6196347648422815},-5.6665143218799,-5.6665143218799]
[null,null,4.011177644710558,{"$f":"SIN(2*t)","v":0.9858586121463027},{"$f":"COS(3*t)","v":0.8613690566293012},{"$f":"(LOOKUP(Sheet2!C323+0.0001,Sheet2!$C$505:$C$1005,$D$505:$D$1005)-D323)/0.0001","v":-0.3353556207130737},{"$f":"(LOOKUP(Sheet2!C323+0.0001,Sheet2!$C$505:$C$1005,$E$505:$E$1005)-E323)/0.0001","v":1.5235513803613099},-4.543091829269928,-4.543091829269928]
[null,null,4.023712574850278,0.9813480756282441,0.8798580559432617,{"$f":"(LOOKUP(Sheet2!C324+0.0001,Sheet2!$C$505:$C$1005,$D$505:$D$1005)-D324)/0.0001","v":-0.384674898241677},{"$f":"(LOOKUP(Sheet2!C324+0.0001,Sheet2!$C$505:$C$1005,$E$505:$E$1005)-E324)/0.0001","v":1.4253137648823078},-3.7052424564153283,{"$f":"IF(H324>100,100,IF(H324<-100,-100,H324))","v":-3.7052424564153283}]
[null,null,{"$f":"C324+B$12","v":4.036247504989999},0.9762207962137657,0.8971029767689678,{"$f":"(LOOKUP(Sheet2!C325+0.0001,Sheet2!$C$505:$C$1005,$D$505:$D$1005)-D325)/0.0001","v":-0.4337524210706878},{"$f":"(LOOKUP(Sheet2!C325+0.0001,Sheet2!$C$505:$C$1005,$E$505:$E$1005)-E325)/0.0001","v":1.3250608218362547},{"$f":"G325/F325","v":-3.0548782150089995},-3.0548782150089995]
[null,null,4.048782435129719,0.9704799962184101,0.9130794355880905,{"$f":"(LOOKUP(Sheet2!C326+0.0001,Sheet2!$C$505:$C$1005,$D$505:$D$1005)-D326)/0.0001","v":-0.4825573456934684},{"$f":"(LOOKUP(Sheet2!C326+0.0001,Sheet2!$C$505:$C$1005,$E$505:$E$1005)-E326)/0.0001","v":1.2229343042380325},-2.5342776670005738,-2.5342776670005738]
[null,null,4.061317365269439,0.9641292835339181,0.9277648424287605,{"$f":"(LOOKUP(Sheet2!C327+0.0001,Sheet2!$C$505:$C$1005,$D$505:$D$1005)-D327)/0.0001","v":-0.5310589999252269},{"$f":"(LOOKUP(Sheet2!C327+0.0001,Sheet2!$C$505:$C$1005,$E$505:$E$1005)-E327)/0.0001","v":1.1190786142478704},-2.107258542658041,-2.107258542658041]
[null,null,4.07385229540916,0.9571726493607949,0.9411384328067287,{"$f":"(LOOKUP(Sheet2!C328+0.0001,Sheet2!$C$505:$C$1005,$D$505:$D$1005)-D328)/0.0001","v":-0.5792269021731578},{"$f":"(LOOKUP(Sheet2!C328+0.0001,Sheet2!$C$505:$C$1005,$E$505:$E$1005)-E328)/0.0001","v":1.0136405989913388},-1.7499888129994257,-1.7499888129994257]
[null,null,4.08638722554888,0.9496144656999809,0.9531812970853947,{"$f":"(LOOKUP(Sheet2!C329+0.0001,Sheet2!$C$505:$C$1005,$D$505:$D$1005)-D329)/0.0001","v":-0.627030780600002},{"$f":"(LOOKUP(Sheet2!C329+0.0001,Sheet2!$C$505:$C$1005,$E$505:$E$1005)-E329)/0.0001","v":0.9067693429354318},-1.4461321054570075,-1.4461321054570075]
[null,null,4.098922155688601,0.9414594826052014,0.9638764072131462,{"$f":"(LOOKUP(Sheet2!C330+0.0001,Sheet2!$C$505:$C$1005,$D$505:$D$1005)-D330)/0.0001","v":-0.674440592142167},{"$f":"(LOOKUP(Sheet2!C330+0.0001,Sheet2!$C$505:$C$1005,$E$505:$E$1005)-E330)/0.0001","v":0.7986159570794182},-1.1841160902591046,-1.1841160902591046]
[null,null,4.111457085828321,0.9327128251977249,0.9732086408002433,{"$f":"(LOOKUP(Sheet2!C331+0.0001,Sheet2!$C$505:$C$1005,$D$505:$D$1005)-D331)/0.0001","v":-0.7214265413912901},{"$f":"(LOOKUP(Sheet2!C331+0.0001,Sheet2!$C$505:$C$1005,$E$505:$E$1005)-E331)/0.0001","v":0.6893333652968625},-0.9555142841951239,-0.9555142841951239]
[null,null,4.123992015968041,0.9233799904454035,0.9811648025011686,{"$f":"(LOOKUP(Sheet2!C332+0.0001,Sheet2!$C$505:$C$1005,$D$505:$D$1005)-D332)/0.0001","v":-0.7679590993259211},{"$f":"(LOOKUP(Sheet2!C332+0.0001,Sheet2!$C$505:$C$1005,$E$505:$E$1005)-E332)/0.0001","v":0.5790760881019263},-0.7540454805603742,-0.7540454805603742]
[null,null,4.136526946107762,0.9134668437080213,0.9877336426722402,{"$f":"(LOOKUP(Sheet2!C333+0.0001,Sheet2!$C$505:$C$1005,$D$505:$D$1005)-D333)/0.0001","v":-0.8140090218622387},{"$f":"(LOOKUP(Sheet2!C333+0.0001,Sheet2!$C$505:$C$1005,$E$505:$E$1005)-E333)/0.0001","v":0.46800002417191067},-0.5749322324478046,-0.5749322324478046]
[null,null,4.149061876247482,0.9029796150511211,0.9929058732780806,{"$f":"(LOOKUP(Sheet2!C334+0.0001,Sheet2!$C$505:$C$1005,$D$505:$D$1005)-D334)/0.0001","v":-0.8595473682371235},{"$f":"(LOOKUP(Sheet2!C334+0.0001,Sheet2!$C$505:$C$1005,$E$505:$E$1005)-E334)/0.0001","v":0.356262229912474},-0.41447655251757093,-0.41447655251757093]
[null,null,4.161596806387203,0.8919248953306262,0.9966741810244731,{"$f":"(LOOKUP(Sheet2!C335+0.0001,Sheet2!$C$505:$C$1005,$D$505:$D$1005)-D335)/0.0001","v":-0.9045455191936114},{"$f":"(LOOKUP(Sheet2!C335+0.0001,Sheet2!$C$505:$C$1005,$E$505:$E$1005)-E335)/0.0001","v":0.24402069737972099},-0.2697716059632485,-0.2697716059632485]
[null,null,4.174131736526923,0.8803096320507191,0.9990332376990164,{"$f":"(LOOKUP(Sheet2!C336+0.0001,Sheet2!$C$505:$C$1005,$D$505:$D$1005)-D336)/0.0001","v":-0.9489751949709468},{"$f":"(LOOKUP(Sheet2!C336+0.0001,Sheet2!$C$505:$C$1005,$E$505:$E$1005)-E336)/0.0001","v":0.13143413089888867},-0.13850112373370577,-0.13850112373370577]
[null,null,4.186666666666643,0.8681411249975771,0.9999797077049728,{"$f":"(LOOKUP(Sheet2!C337+0.0001,Sheet2!$C$505:$C$1005,$D$505:$D$1005)-D337)/0.0001","v":-0.9928084730748132},{"$f":"(LOOKUP(Sheet2!C337+0.0001,Sheet2!$C$505:$C$1005,$E$505:$E$1005)-E337)/0.0001","v":0.018661722651636126},-0.018796901071804078,-0.018796901071804078]
[null,null,4.199201596806364,0.8554270216517135,0.9995122527776458,{"$f":"(LOOKUP(Sheet2!C338+0.0001,Sheet2!$C$505:$C$1005,$D$505:$D$1005)-D338)/0.0001","v":-1.0360178058210767},{"$f":"(LOOKUP(Sheet2!C338+0.0001,Sheet2!$C$505:$C$1005,$E$505:$E$1005)-E338)/0.0001","v":-0.09413707240724101},0.09086433831379415,0.09086433831379415]
[null,null,4.211736526946084,0.8421753123818035,0.9976315338766243,{"$f":"(LOOKUP(Sheet2!C339+0.0001,Sheet2!$C$505:$C$1005,$D$505:$D$1005)-D339)/0.0001","v":-1.0785760376630371},{"$f":"(LOOKUP(Sheet2!C339+0.0001,Sheet2!$C$505:$C$1005,$E$505:$E$1005)-E339)/0.0001","v":-0.20680276200946146},0.1917368407864348,0.1917368407864348]
[null,null,4.224271457085805,0.8283943254230173,0.9943402102512179,{"$f":"(LOOKUP(Sheet2!C340+0.0001,Sheet2!$C$505:$C$1005,$D$505:$D$1005)-D340)/0.0001","v":-1.1204564222377922},{"$f":"(LOOKUP(Sheet2!C340+0.0001,Sheet2!$C$505:$C$1005,$E$505:$E$1005)-E340)/0.0001","v":-0.3191760420973022},0.28486252188178735,0.28486252188178735]
[null,null,4.236806387225525,0.8140927216430159,0.9896429356803992,{"$f":"(LOOKUP(Sheet2!C341+0.0001,Sheet2!$C$505:$C$1005,$D$505:$D$1005)-D341)/0.0001","v":-1.1616326391927778},{"$f":"(LOOKUP(Sheet2!C341+0.0001,Sheet2!$C$505:$C$1005,$E$505:$E$1005)-E341)/0.0001","v":-0.4310980220634253},0.3711139025527009,0.3711139025527009]
[null,null,4.2493413173652455,0.7992794890988995,0.9835463518925791,{"$f":"(LOOKUP(Sheet2!C342+0.0001,Sheet2!$C$505:$C$1005,$D$505:$D$1005)-D342)/0.0001","v":-1.2020788107169889},{"$f":"(LOOKUP(Sheet2!C342+0.0001,Sheet2!$C$505:$C$1005,$E$505:$E$1005)-E342)/0.0001","v":-0.5424104494189397},0.4512270281974398,0.4512270281974398]
[null,null,4.261876247504966,0.7839639373885277,0.9760590791745073,{"$f":"(LOOKUP(Sheet2!C343+0.0001,Sheet2!$C$505:$C$1005,$D$505:$D$1005)-D343)/0.0001","v":-1.2417695178079668},{"$f":"(LOOKUP(Sheet2!C343+0.0001,Sheet2!$C$505:$C$1005,$E$505:$E$1005)-E343)/0.0001","v":-0.6529559335510804},0.5258269946130668,0.5258269946130668]
[null,null,4.274411177644686,0.768155691799764,0.9671917041825913,{"$f":"(LOOKUP(Sheet2!C344+0.0001,Sheet2!$C$505:$C$1005,$D$505:$D$1005)-D344)/0.0001","v":-1.2806798162479094},{"$f":"(LOOKUP(Sheet2!C344+0.0001,Sheet2!$C$505:$C$1005,$E$505:$E$1005)-E344)/0.0001","v":-0.7625781682751853},0.5954479477230773,0.5954479477230773]
[null,null,4.286946107784407,0.7518646872613189,0.956956764973849,{"$f":"(LOOKUP(Sheet2!C345+0.0001,Sheet2!$C$505:$C$1005,$D$505:$D$1005)-D345)/0.0001","v":-1.318785252274468},{"$f":"(LOOKUP(Sheet2!C345+0.0001,Sheet2!$C$505:$C$1005,$E$505:$E$1005)-E345)/0.0001","v":-0.8711221528323598},0.6605489038719249,0.6605489038719249]
[null,null,4.299481037924127,0.735101162098996,0.945368733277685,{"$f":"(LOOKUP(Sheet2!C346+0.0001,Sheet2!$C$505:$C$1005,$D$505:$D$1005)-D346)/0.0001","v":-1.3560618779573375},{"$f":"(LOOKUP(Sheet2!C346+0.0001,Sheet2!$C$505:$C$1005,$E$505:$E$1005)-E346)/0.0001","v":-0.9784344110641552},0.721526374989606,0.721526374989606]
[null,null,4.3120159680638475,0.7178756516012615,0.9324439940335278,{"$f":"(LOOKUP(Sheet2!C347+0.0001,Sheet2!$C$505:$C$1005,$D$505:$D$1005)-D347)/0.0001","v":-1.3924862662428872},{"$f":"(LOOKUP(Sheet2!C347+0.0001,Sheet2!$C$505:$C$1005,$E$505:$E$1005)-E347)/0.0001","v":-1.08436320841232},0.7787245265535552,0.7787245265535552]
[null,null,4.324550898203568,0.7001989813981855,0.918200822223295,{"$f":"(LOOKUP(Sheet2!C348+0.0001,Sheet2!$C$505:$C$1005,$D$505:$D$1005)-D348)/0.0001","v":-1.4280355256768296},{"$f":"(LOOKUP(Sheet2!C348+0.0001,Sheet2!$C$505:$C$1005,$E$505:$E$1005)-E348)/0.0001","v":-1.1887587664705102},0.8324434127134812,0.8324434127134812]
[null,null,4.337085828343288,0.6820822606579122,0.9026593570314054,{"$f":"(LOOKUP(Sheet2!C349+0.0001,Sheet2!$C$505:$C$1005,$D$505:$D$1005)-D349)/0.0001","v":-1.4626873147971509},{"$f":"(LOOKUP(Sheet2!C349+0.0001,Sheet2!$C$505:$C$1005,$E$505:$E$1005)-E349)/0.0001","v":-1.2914734747604406},0.8829456998056658,0.8829456998056658]
[null,null,4.349620758483009,0.6635368751049369,0.8858415733689181,{"$f":"(LOOKUP(Sheet2!C350+0.0001,Sheet2!$C$505:$C$1005,$D$505:$D$1005)-D350)/0.0001","v":-1.4964198561673303},{"$f":"(LOOKUP(Sheet2!C350+0.0001,Sheet2!$C$505:$C$1005,$E$505:$E$1005)-E350)/0.0001","v":-1.3923620994482633},0.9304621919508723,0.9304621919508723]
[null,null,4.362155688622729,0.6445744798645765,0.8677712508020148,{"$f":"(LOOKUP(Sheet2!C351+0.0001,Sheet2!$C$505:$C$1005,$D$505:$D$1005)-D351)/0.0001","v":-1.52921195006539},{"$f":"(LOOKUP(Sheet2!C351+0.0001,Sheet2!$C$505:$C$1005,$E$505:$E$1005)-E351)/0.0001","v":-1.4912819886980788},0.9751964001028836,0.9751964001028836]
[null,null,4.3746906187624495,0.625206992138132,0.8484739399288089,{"$f":"(LOOKUP(Sheet2!C352+0.0001,Sheet2!$C$505:$C$1005,$D$505:$D$1005)-D352)/0.0001","v":-1.5610429878087917},{"$f":"(LOOKUP(Sheet2!C352+0.0001,Sheet2!$C$505:$C$1005,$E$505:$E$1005)-E352)/0.0001","v":-1.5880932743739251},1.0173283418691137,1.0173283418691137]
[null,null,4.38722554890217,0.6054465837133448,0.8279769262519713,{"$f":"(LOOKUP(Sheet2!C353+0.0001,Sheet2!$C$505:$C$1005,$D$505:$D$1005)-D353)/0.0001","v":-1.5918929647062985},{"$f":"(LOOKUP(Sheet2!C353+0.0001,Sheet2!$C$505:$C$1005,$E$505:$E$1005)-E353)/0.0001","v":-1.6826590698049149},1.0570177185972818,1.0570177185972818]
[null,null,4.39976047904189,0.585305673314854,0.806309191598309,{"$f":"(LOOKUP(Sheet2!C354+0.0001,Sheet2!$C$505:$C$1005,$D$505:$D$1005)-D354)/0.0001","v":-1.6217424926290303},{"$f":"(LOOKUP(Sheet2!C354+0.0001,Sheet2!$C$505:$C$1005,$E$505:$E$1005)-E354)/0.0001","v":-1.7748456633437382},1.0944065851456541,1.0944065851456541]
[null,null,4.412295409181611,0.5647969187994628,0.7835013731397913,{"$f":"(LOOKUP(Sheet2!C355+0.0001,Sheet2!$C$505:$C$1005,$D$505:$D$1005)-D355)/0.0001","v":-1.6505728121907204},{"$f":"(LOOKUP(Sheet2!C355+0.0001,Sheet2!$C$505:$C$1005,$E$505:$E$1005)-E355)/0.0001","v":-1.8645227074221005},1.129621603876666,1.129621603876666]
[null,null,4.424830339321331,0.5439332092011196,0.7595857200740249,{"$f":"(LOOKUP(Sheet2!C356+0.0001,Sheet2!$C$505:$C$1005,$D$505:$D$1005)-D356)/0.0001","v":-1.6783658045460559},{"$f":"(LOOKUP(Sheet2!C356+0.0001,Sheet2!$C$505:$C$1005,$E$505:$E$1005)-E356)/0.0001","v":-1.9515634028588469},1.1627759559762254,1.1627759559762254]
[null,null,4.4373652694610515,0.522727656630611,0.7345960480253673,{"$f":"(LOOKUP(Sheet2!C357+0.0001,Sheet2!$C$505:$C$1005,$D$505:$D$1005)-D357)/0.0001","v":-1.7051040027749043},{"$f":"(LOOKUP(Sheet2!C357+0.0001,Sheet2!$C$505:$C$1005,$E$505:$E$1005)-E357)/0.0001","v":-2.0358446781454376},1.1939709688278735,1.1939709688278735]
[null,null,4.449900199600772,0.5011935880350593,0.7085676912312202,{"$f":"(LOOKUP(Sheet2!C358+0.0001,Sheet2!$C$505:$C$1005,$D$505:$D$1005)-D358)/0.0001","v":-1.7307706028535375},{"$f":"(LOOKUP(Sheet2!C358+0.0001,Sheet2!$C$505:$C$1005,$E$505:$E$1005)-E358)/0.0001","v":-2.117247363468966},1.2232975068898446,1.2232975068898446]
[null,null,4.462435129740492,0.4793445368224031,0.6815374525810375,{"$f":"(LOOKUP(Sheet2!C359+0.0001,Sheet2!$C$505:$C$1005,$D$505:$D$1005)-D359)/0.0001","v":-1.7553494742250653},{"$f":"(LOOKUP(Sheet2!C359+0.0001,Sheet2!$C$505:$C$1005,$E$505:$E$1005)-E359)/0.0001","v":-2.195656359206266},1.2508371645911611,1.2508371645911611]
[null,null,4.474970059880213,0.4571942343561245,0.6535435515787658,{"$f":"(LOOKUP(Sheet2!C360+0.0001,Sheet2!$C$505:$C$1005,$D$505:$D$1005)-D360)/0.0001","v":-1.778825169928},{"$f":"(LOOKUP(Sheet2!C360+0.0001,Sheet2!$C$505:$C$1005,$E$505:$E$1005)-E360)/0.0001","v":-2.270960798673727},1.276663292753861,1.276663292753861]
[null,null,4.487504990019933,0.4347566013255681,0.6246255703022179,{"$f":"(LOOKUP(Sheet2!C361+0.0001,Sheet2!$C$505:$C$1005,$D$505:$D$1005)-D361)/0.0001","v":-1.8011829363101528},{"$f":"(LOOKUP(Sheet2!C361+0.0001,Sheet2!$C$505:$C$1005,$E$505:$E$1005)-E361)/0.0001","v":-2.343054204886341},1.3008418843264467,1.3008418843264467]
[null,null,4.5000399201596535,0.4120457389972749,0.5948243974358718,{"$f":"(LOOKUP(Sheet2!C362+0.0001,Sheet2!$C$505:$C$1005,$D$505:$D$1005)-D362)/0.0001","v":-1.8224087222984409},{"$f":"(LOOKUP(Sheet2!C362+0.0001,Sheet2!$C$505:$C$1005,$E$505:$E$1005)-E362)/0.0001","v":-2.4118346411106106},1.3234323407258388,1.3234323407258388]
[null,null,4.512574850299374,0.3890759203528307,0.5641821704561446,{"$f":"(LOOKUP(Sheet2!C363+0.0001,Sheet2!$C$505:$C$1005,$D$505:$D$1005)-D363)/0.0001","v":-1.8424891882301564},{"$f":"(LOOKUP(Sheet2!C363+0.0001,Sheet2!$C$505:$C$1005,$E$505:$E$1005)-E363)/0.0001","v":-2.4772048549992487},1.344488136388351,1.344488136388351]
[null,null,4.525109780439094,0.36586158111879646,0.5327422160509783,{"$f":"(LOOKUP(Sheet2!C364+0.0001,Sheet2!$C$505:$C$1005,$D$505:$D$1005)-D364)/0.0001","v":-1.8614117142351505},{"$f":"(LOOKUP(Sheet2!C364+0.0001,Sheet2!$C$505:$C$1005,$E$505:$E$1005)-E364)/0.0001","v":-2.539072416102295},1.364057396160523,1.364057396160523]
[null,null,4.537644710578815,0.3424173106943602,0.500548988857888,{"$f":"(LOOKUP(Sheet2!C365+0.0001,Sheet2!$C$505:$C$1005,$D$505:$D$1005)-D365)/0.0001","v":-1.879164408169487},{"$f":"(LOOKUP(Sheet2!C365+0.0001,Sheet2!$C$505:$C$1005,$E$505:$E$1005)-E365)/0.0001","v":-2.5973498465559075},1.382183397718783,1.382183397718783]
[null,null,4.550179640718535,0.3187578429824103,0.467648008607191,{"$f":"(LOOKUP(Sheet2!C366+0.0001,Sheet2!$C$505:$C$1005,$D$505:$D$1005)-D366)/0.0001","v":-1.8957361130850225},{"$f":"(LOOKUP(Sheet2!C366+0.0001,Sheet2!$C$505:$C$1005,$E$505:$E$1005)-E366)/0.0001","v":-2.6519547447784175},1.398905009232938,1.398905009232938]
[null,null,4.5627145708582555,0.29489804712979356,0.4340857957591938,{"$f":"(LOOKUP(Sheet2!C367+0.0001,Sheet2!$C$505:$C$1005,$D$505:$D$1005)-D367)/0.0001","v":-1.911116414246572},{"$f":"(LOOKUP(Sheet2!C367+0.0001,Sheet2!$C$505:$C$1005,$E$505:$E$1005)-E367)/0.0001","v":-2.7028099019732466},1.4142570708016171,1.4142570708016171]
[null,null,4.575249500997976,0.27085291818257745,0.39990980572644397,{"$f":"(LOOKUP(Sheet2!C368+0.0001,Sheet2!$C$505:$C$1005,$D$505:$D$1005)-D368)/0.0001","v":-1.9252956456744519},{"$f":"(LOOKUP(Sheet2!C368+0.0001,Sheet2!$C$505:$C$1005,$E$505:$E$1005)-E368)/0.0001","v":-2.7498434113082393},1.4282707268809822,1.4282707268809822]
[null,null,4.587784431137696,0.24663756766218833,0.36516836177395195,{"$f":"(LOOKUP(Sheet2!C369+0.0001,Sheet2!$C$505:$C$1005,$D$505:$D$1005)-D369)/0.0001","v":-1.9382648962168458},{"$f":"(LOOKUP(Sheet2!C369+0.0001,Sheet2!$C$505:$C$1005,$E$505:$E$1005)-E369)/0.0001","v":-2.7929887695821165},1.440973715735936,1.440973715735936]
[null,null,4.600319361277417,0.22226721406834993,0.3299105866923611,{"$f":"(LOOKUP(Sheet2!C370+0.0001,Sheet2!$C$505:$C$1005,$D$505:$D$1005)-D370)/0.0001","v":-1.9500160151544876},{"$f":"(LOOKUP(Sheet2!C370+0.0001,Sheet2!$C$505:$C$1005,$E$505:$E$1005)-E370)/0.0001","v":-2.8321849712587},1.452390621024886,1.452390621024886]
[null,null,4.612854291417137,0.197757173314789,0.2941863333405737,{"$f":"(LOOKUP(Sheet2!C371+0.0001,Sheet2!$C$505:$C$1005,$D$505:$D$1005)-D371)/0.0001","v":-1.96054161732101},{"$f":"(LOOKUP(Sheet2!C371+0.0001,Sheet2!$C$505:$C$1005,$E$505:$E$1005)-E371)/0.0001","v":-2.8673765947262453},1.462543089824527,1.462543089824527]
[null,null,4.6253892215568575,0.17312284910372,0.25804611415614687,{"$f":"(LOOKUP(Sheet2!C372+0.0001,Sheet2!$C$505:$C$1005,$D$505:$D$1005)-D372)/0.0001","v":-1.969835087743399},{"$f":"(LOOKUP(Sheet2!C372+0.0001,Sheet2!$C$505:$C$1005,$E$505:$E$1005)-E372)/0.0001","v":-2.8985138806619792},1.471450020713386,1.471450020713386]
[null,null,4.637924151696578,0.14837972324515775,0.22154102973302117,{"$f":"(LOOKUP(Sheet2!C373+0.0001,Sheet2!$C$505:$C$1005,$D$505:$D$1005)-D373)/0.0001","v":-1.9778905858017226},{"$f":"(LOOKUP(Sheet2!C373+0.0001,Sheet2!$C$505:$C$1005,$E$505:$E$1005)-E373)/0.0001","v":-2.9255528023869326},1.4791277249550598,1.4791277249550598]
[null,null,4.650459081836298,0.12354334592714201,0.18472269656767826,{"$f":"(LOOKUP(Sheet2!C374+0.0001,Sheet2!$C$505:$C$1005,$D$505:$D$1005)-D374)/0.0001","v":-1.9847030488973072},{"$f":"(LOOKUP(Sheet2!C374+0.0001,Sheet2!$C$505:$C$1005,$E$505:$E$1005)-E374)/0.0001","v":-2.948455128120031},1.4855900633387853,1.4855900633387853]
[null,null,4.662994011976019,0.09862932594298895,0.14764317407578056,{"$f":"(LOOKUP(Sheet2!C375+0.0001,Sheet2!$C$505:$C$1005,$D$505:$D$1005)-D375)/0.0001","v":-1.9902681956354695},{"$f":"(LOOKUP(Sheet2!C375+0.0001,Sheet2!$C$505:$C$1005,$E$505:$E$1005)-E375)/0.0001","v":-2.9671884750345767},1.4908485607826276,1.4908485607826276]
[null,null,4.675528942115739,0.07365332088171117,0.11035489098259982,{"$f":"(LOOKUP(Sheet2!C376+0.0001,Sheet2!$C$505:$C$1005,$D$505:$D$1005)-D376)/0.0001","v":-1.9945825285164198},{"$f":"(LOOKUP(Sheet2!C376+0.0001,Sheet2!$C$505:$C$1005,$E$505:$E$1005)-E376)/0.0001","v":-2.981726355047176},1.4949125004443906,1.4949125004443906]
[null,null,4.6880638722554595,0.048631027287771376,0.07291057119120274,{"$f":"(LOOKUP(Sheet2!C377+0.0001,Sheet2!$C$505:$C$1005,$D$505:$D$1005)-D377)/0.0001","v":-1.9976433361334338},{"$f":"(LOOKUP(Sheet2!C377+0.0001,Sheet2!$C$505:$C$1005,$E$505:$E$1005)-E377)/0.0001","v":-2.9920482122690326},1.497788998741053,1.497788998741053]
[null,null,4.70059880239518,0.023578170796353905,0.035363159233325364,{"$f":"(LOOKUP(Sheet2!C378+0.0001,Sheet2!$C$505:$C$1005,$D$505:$D$1005)-D378)/0.0001","v":-1.9994486948756924},{"$f":"(LOOKUP(Sheet2!C378+0.0001,Sheet2!$C$505:$C$1005,$E$505:$E$1005)-E378)/0.0001","v":-2.998139452073181},1.4994830623846431,1.4994830623846431]
[null,null,4.7131337325349,-1.4895037496462022E-3,-2.2342545917678792E-3,{"$f":"(LOOKUP(Sheet2!C379+0.0001,Sheet2!$C$505:$C$1005,$D$505:$D$1005)-D379)/0.0001","v":-1.9999974701386218},{"$f":"(LOOKUP(Sheet2!C379+0.0001,Sheet2!$C$505:$C$1005,$E$505:$E$1005)-E379)/0.0001","v":-2.99999146172885},1.4999976282574585,1.4999976282574585]
[null,null,4.725668662674621,-0.026556242194705575,-0.03982850928447692,{"$f":"(LOOKUP(Sheet2!C380+0.0001,Sheet2!$C$505:$C$1005,$D$505:$D$1005)-D380)/0.0001","v":-1.9992893170361554},{"$f":"(LOOKUP(Sheet2!C380+0.0001,Sheet2!$C$505:$C$1005,$E$505:$E$1005)-E380)/0.0001","v":-2.9976016225802953},1.4993335867087445,1.4993335867087445]
[null,null,4.738203592814341,-0.051606290971607495,-0.07736644831208259,{"$f":"(LOOKUP(Sheet2!C381+0.0001,Sheet2!$C$505:$C$1005,$D$505:$D$1005)-D381)/0.0001","v":-1.9973246806177791},{"$f":"(LOOKUP(Sheet2!C381+0.0001,Sheet2!$C$505:$C$1005,$E$505:$E$1005)-E381)/0.0001","v":-2.9909733137491177},1.4974897886026222,1.4974897886026222]
[null,null,4.7507385229540615,-0.07662390700200716,-0.11479499476959035,{"$f":"(LOOKUP(Sheet2!C382+0.0001,Sheet2!$C$505:$C$1005,$D$505:$D$1005)-D382)/0.0001","v":-1.9941047955886193},{"$f":"(LOOKUP(Sheet2!C382+0.0001,Sheet2!$C$505:$C$1005,$E$505:$E$1005)-E382)/0.0001","v":-2.9801159073569727},1.4944630362203721,1.4944630362203721]
[null,null,4.763273453093782,-0.10159336759040512,-0.15206122642804099,{"$f":"(LOOKUP(Sheet2!C383+0.0001,Sheet2!$C$505:$C$1005,$D$505:$D$1005)-D383)/0.0001","v":-1.9896316855336216},{"$f":"(LOOKUP(Sheet2!C383+0.0001,Sheet2!$C$505:$C$1005,$E$505:$E$1005)-E383)/0.0001","v":-2.9650447552725945},1.490248057884827,1.490248057884827]
[null,null,4.775808383233502,-0.12649898030531062,-0.18911245056405976,{"$f":"(LOOKUP(Sheet2!C384+0.0001,Sheet2!$C$505:$C$1005,$D$505:$D$1005)-D384)/0.0001","v":-1.9839081616460086},{"$f":"(LOOKUP(Sheet2!C384+0.0001,Sheet2!$C$505:$C$1005,$E$505:$E$1005)-E384)/0.0001","v":-2.945781167406347},1.4848374659451433,1.4848374659451433]
[null,null,4.788343313373223,-0.1513250928413854,-0.22589627846495186,{"$f":"(LOOKUP(Sheet2!C385+0.0001,Sheet2!$C$505:$C$1005,$D$505:$D$1005)-D385)/0.0001","v":-1.9769378209594235},{"$f":"(LOOKUP(Sheet2!C385+0.0001,Sheet2!$C$505:$C$1005,$E$505:$E$1005)-E385)/0.0001","v":-2.922352381578286},1.4782216975140094,1.4782216975140094]
[null,null,4.800878243512943,-0.17605610285636922,-0.2623606995038847,{"$f":"(LOOKUP(Sheet2!C386+0.0001,Sheet2!$C$505:$C$1005,$D$505:$D$1005)-D386)/0.0001","v":-1.9687250440897364},{"$f":"(LOOKUP(Sheet2!C386+0.0001,Sheet2!$C$505:$C$1005,$E$505:$E$1005)-E386)/0.0001","v":-2.894791525004381},1.4703889370914274,1.4703889370914274]
[null,null,4.8134131736526635,{"$f":"SIN(2*t)","v":-0.20067646777660564},{"$f":"COS(3*t)","v":-0.29845415468052994},{"$f":"(LOOKUP(Sheet2!C387+0.0001,Sheet2!$C$505:$C$1005,$D$505:$D$1005)-D387)/0.0001","v":-1.9592749924796093},{"$f":"(LOOKUP(Sheet2!C387+0.0001,Sheet2!$C$505:$C$1005,$E$505:$E$1005)-E387)/0.0001","v":-2.8631375674587067},1.4613250199428063,1.4613250199428063]
[null,null,4.825948103792384,-0.22517071456500531,-0.3341256095230717,{"$f":"(LOOKUP(Sheet2!C388+0.0001,Sheet2!$C$505:$C$1005,$D$505:$D$1005)-D388)/0.0001","v":-1.948593605154425},{"$f":"(LOOKUP(Sheet2!C388+0.0001,Sheet2!$C$505:$C$1005,$E$505:$E$1005)-E388)/0.0001","v":-2.8274352661689095},1.4510133147772681,{"$f":"IF(H388>100,100,IF(H388<-100,-100,H388))","v":1.4510133147772681}]
[null,null,{"$f":"C388+B$12","v":4.838483033932104},-0.24952344944530772,-0.3693246262486099,{"$f":"(LOOKUP(Sheet2!C389+0.0001,Sheet2!$C$505:$C$1005,$D$505:$D$1005)-D389)/0.0001","v":-1.9366875949930473},{"$f":"(LOOKUP(Sheet2!C389+0.0001,Sheet2!$C$505:$C$1005,$E$505:$E$1005)-E389)/0.0001","v":-2.78773510253294},{"$f":"G389/F389","v":1.439434583946384},1.439434583946384]
[null,null,4.851017964071825,-0.2737193675765305,-0.40400143507981967,{"$f":"(LOOKUP(Sheet2!C390+0.0001,Sheet2!$C$505:$C$1005,$D$505:$D$1005)-D390)/0.0001","v":-1.9235644445053657},{"$f":"(LOOKUP(Sheet2!C390+0.0001,Sheet2!$C$505:$C$1005,$E$505:$E$1005)-E390)/0.0001","v":-2.744093210740872},1.4265668190007021,1.4265668190007021]
[null,null,4.863552894211545,-0.29774326267152595,-0.4381070046171347,{"$f":"(LOOKUP(Sheet2!C391+0.0001,Sheet2!$C$505:$C$1005,$D$505:$D$1005)-D391)/0.0001","v":-1.909232401132166},{"$f":"(LOOKUP(Sheet2!C391+0.0001,Sheet2!$C$505:$C$1005,$E$505:$E$1005)-E391)/0.0001","v":-2.6965712984050594},1.4123850489893242,1.4123850489893242]
[null,null,4.8760878243512655,-0.3215800365536001,-0.4715931111668465,{"$f":"(LOOKUP(Sheet2!C392+0.0001,Sheet2!$C$505:$C$1005,$D$505:$D$1005)-D392)/0.0001","v":-1.893700472060944},{"$f":"(LOOKUP(Sheet2!C392+0.0001,Sheet2!$C$505:$C$1005,$E$505:$E$1005)-E392)/0.0001","v":-2.645236559304931},1.396861118393279,1.396861118393279]
[null,null,4.888622754490986,-0.3452147086451879,-0.5044124069271967,{"$f":"(LOOKUP(Sheet2!C393+0.0001,Sheet2!$C$505:$C$1005,$D$505:$D$1005)-D393)/0.0001","v":-1.876978418564601},{"$f":"(LOOKUP(Sheet2!C393+0.0001,Sheet2!$C$505:$C$1005,$E$505:$E$1005)-E393)/0.0001","v":-2.5901615783807674},1.379963430992225,1.379963430992225]
[null,null,4.901157684630706,-0.3686324253826213,-0.5365184869359474,{"$f":"(LOOKUP(Sheet2!C394+0.0001,Sheet2!$C$505:$C$1005,$D$505:$D$1005)-D394)/0.0001","v":-1.8590767498682936},{"$f":"(LOOKUP(Sheet2!C394+0.0001,Sheet2!$C$505:$C$1005,$E$505:$E$1005)-E394)/0.0001","v":-2.5314242291019085},1.361656655262483,1.361656655262483]
[null,null,4.913692614770427,-0.39181846955107436,-0.567865954684871,{"$f":"(LOOKUP(Sheet2!C395+0.0001,Sheet2!$C$505:$C$1005,$D$505:$D$1005)-D395)/0.0001","v":-1.8400067165441625},{"$f":"(LOOKUP(Sheet2!C395+0.0001,Sheet2!$C$505:$C$1005,$E$505:$E$1005)-E395)/0.0001","v":-2.4691075633564985},1.3419013860959659,1.3419013860959659]
[null,null,4.926227544910147,-0.41475826953381684,-0.5984104863082832,{"$f":"(LOOKUP(Sheet2!C396+0.0001,Sheet2!$C$505:$C$1005,$D$505:$D$1005)-D396)/0.0001","v":-1.8197803034397664},{"$f":"(LOOKUP(Sheet2!C396+0.0001,Sheet2!$C$505:$C$1005,$E$505:$E$1005)-E396)/0.0001","v":-2.403299694020422},1.3206537566527574,1.3206537566527574]
[null,null,4.9387624750498675,-0.4374374084699652,-0.6281088932549571,{"$f":"(LOOKUP(Sheet2!C397+0.0001,Sheet2!$C$505:$C$1005,$D$505:$D$1005)-D397)/0.0001","v":-1.7984102221479947},{"$f":"(LOOKUP(Sheet2!C397+0.0001,Sheet2!$C$505:$C$1005,$E$505:$E$1005)-E397)/0.0001","v":-2.334093670367521},1.297864992993486,1.297864992993486]
[null,null,4.951297405189588,-0.45984163331497474,-0.6569191833547089,{"$f":"(LOOKUP(Sheet2!C398+0.0001,Sheet2!$C$505:$C$1005,$D$505:$D$1005)-D398)/0.0001","v":-1.7759099030156822},{"$f":"(LOOKUP(Sheet2!C398+0.0001,Sheet2!$C$505:$C$1005,$E$505:$E$1005)-E398)/0.0001","v":-2.2615873465059444},1.27348090275612,1.27348090275612]
[null,null,4.963832335329308,-0.4819568637981789,-0.6848006201934014,{"$f":"(LOOKUP(Sheet2!C399+0.0001,Sheet2!$C$505:$C$1005,$D$505:$D$1005)-D399)/0.0001","v":-1.7522934867059137},{"$f":"(LOOKUP(Sheet2!C399+0.0001,Sheet2!$C$505:$C$1005,$E$505:$E$1005)-E399)/0.0001","v":-2.1858832430177166},1.2474412874334744,1.2474412874334744]
[null,null,4.976367265469029,-0.5037692012717463,-0.7117137807123232,{"$f":"(LOOKUP(Sheet2!C400+0.0001,Sheet2!$C$505:$C$1005,$D$505:$D$1005)-D400)/0.0001","v":-1.7275758153090237},{"$f":"(LOOKUP(Sheet2!C400+0.0001,Sheet2!$C$505:$C$1005,$E$505:$E$1005)-E400)/0.0001","v":-2.107088401992474},1.2196792657783093,1.2196792657783093]
[null,null,4.988902195608749,-0.525264937445494,-0.7376206109505858,{"$f":"(LOOKUP(Sheet2!C401+0.0001,Sheet2!$C$505:$C$1005,$D$505:$D$1005)-D401)/0.0001","v":-1.7017724230172782},{"$f":"(LOOKUP(Sheet2!C401+0.0001,Sheet2!$C$505:$C$1005,$E$505:$E$1005)-E401)/0.0001","v":-2.025314235680753},1.1901204933676317,1.1901204933676317]
[null,null,5.0014371257484695,-0.5464305630020678,-0.7624844798516401,{"$f":"(LOOKUP(Sheet2!C402+0.0001,Sheet2!$C$505:$C$1005,$D$505:$D$1005)-D402)/0.0001","v":-1.6748995263560218},{"$f":"(LOOKUP(Sheet2!C402+0.0001,Sheet2!$C$505:$C$1005,$E$505:$E$1005)-E402)/0.0001","v":-1.9406763689633344},1.158682260293874,1.158682260293874]
[null,null,5.01397205588819,-0.5672527760870756,-0.7862702310579104,{"$f":"(LOOKUP(Sheet2!C403+0.0001,Sheet2!$C$505:$C$1005,$D$505:$D$1005)-D403)/0.0001","v":-1.646974014002378},{"$f":"(LOOKUP(Sheet2!C403+0.0001,Sheet2!$C$505:$C$1005,$E$505:$E$1005)-E403)/0.0001","v":-1.853294475857581},1.125272445163731,1.125272445163731]
[null,null,5.02650698602791,-0.5877184906688359,-0.8089442326202354,{"$f":"(LOOKUP(Sheet2!C404+0.0001,Sheet2!$C$505:$C$1005,$D$505:$D$1005)-D404)/0.0001","v":-1.6180134361620802},{"$f":"(LOOKUP(Sheet2!C404+0.0001,Sheet2!$C$505:$C$1005,$E$505:$E$1005)-E404)/0.0001","v":-1.7632921103083454},1.0897882989716485,1.0897882989716485]
[null,null,5.039041916167631,-0.6078148447624916,-0.8304744245519023,{"$f":"(LOOKUP(Sheet2!C405+0.0001,Sheet2!$C$505:$C$1005,$D$505:$D$1005)-D405)/0.0001","v":-1.5880359935427357},{"$f":"(LOOKUP(Sheet2!C405+0.0001,Sheet2!$C$505:$C$1005,$E$505:$E$1005)-E405)/0.0001","v":-1.670796531486607},1.052115026536169,1.052115026536169]
[null,null,5.051576846307351,-0.6275292085133162,-0.8508303641599645,{"$f":"(LOOKUP(Sheet2!C406+0.0001,Sheet2!$C$505:$C$1005,$D$505:$D$1005)-D406)/0.0001","v":-1.55706052591853},{"$f":"(LOOKUP(Sheet2!C406+0.0001,Sheet2!$C$505:$C$1005,$E$505:$E$1005)-E406)/0.0001","v":-1.5759385238511836},1.0121241259529827,1.0121241259529827]
[null,null,5.0641117764470716,-0.6468491921341357,-0.8699832690898134,{"$f":"(LOOKUP(Sheet2!C407+0.0001,Sheet2!$C$505:$C$1005,$D$505:$D$1005)-D407)/0.0001","v":-1.525106500285256},{"$f":"(LOOKUP(Sheet2!C407+0.0001,Sheet2!$C$505:$C$1005,$E$505:$E$1005)-E407)/0.0001","v":-1.4788522122266556},0.9696714373389996,0.9696714373389996]
[null,null,5.076646706586792,-0.6657626536918755,-0.8879060580220783,{"$f":"(LOOKUP(Sheet2!C408+0.0001,Sheet2!$C$505:$C$1005,$D$505:$D$1005)-D408)/0.0001","v":-1.4921939986312083},{"$f":"(LOOKUP(Sheet2!C408+0.0001,Sheet2!$C$505:$C$1005,$E$505:$E$1005)-E408)/0.0001","v":-1.3796748721539576},0.9245948404962996,0.9245948404962996]
[null,null,5.089181636726512,-0.6842577067383404,-0.90457338896437,{"$f":"(LOOKUP(Sheet2!C409+0.0001,Sheet2!$C$505:$C$1005,$D$505:$D$1005)-D409)/0.0001","v":-1.4583437053072856},{"$f":"(LOOKUP(Sheet2!C409+0.0001,Sheet2!$C$505:$C$1005,$E$505:$E$1005)-E409)/0.0001","v":-1.278546735794528},0.876711526330569,0.876711526330569]
[null,null,5.101716566866233,-0.7023227277804309,-0.9199616950836697,{"$f":"(LOOKUP(Sheet2!C410+0.0001,Sheet2!$C$505:$C$1005,$D$505:$D$1005)-D410)/0.0001","v":-1.423576894039602},{"$f":"(LOOKUP(Sheet2!C410+0.0001,Sheet2!$C$505:$C$1005,$E$505:$E$1005)-E410)/0.0001","v":-1.1756107936422566},0.8258147477417209,0.8258147477417209]
[null,null,5.114251497005953,-0.7199463635851014,-0.9340492180287502,{"$f":"(LOOKUP(Sheet2!C411+0.0001,Sheet2!$C$505:$C$1005,$D$505:$D$1005)-D411)/0.0001","v":-1.3879154145512995},{"$f":"(LOOKUP(Sheet2!C411+0.0001,Sheet2!$C$505:$C$1005,$E$505:$E$1005)-E411)/0.0001","v":-1.071012592346321},0.7716699311193757,0.7716699311193757]
[null,null,5.126786427145674,-0.7371175383144698,-0.9468160386954644,{"$f":"(LOOKUP(Sheet2!C412+0.0001,Sheet2!$C$505:$C$1005,$D$505:$D$1005)-D412)/0.0001","v":-1.3513816788335298},{"$f":"(LOOKUP(Sheet2!C412+0.0001,Sheet2!$C$505:$C$1005,$E$505:$E$1005)-E412)/0.0001","v":-0.9649000289113641},0.7140099973415619,0.7140099973415619]
[null,null,5.139321357285394,-0.7538254604865935,-0.9582441053914449,{"$f":"(LOOKUP(Sheet2!C413+0.0001,Sheet2!$C$505:$C$1005,$D$505:$D$1005)-D413)/0.0001","v":-1.3139986470578346},{"$f":"(LOOKUP(Sheet2!C413+0.0001,Sheet2!$C$505:$C$1005,$E$505:$E$1005)-E413)/0.0001","v":-0.8574231415825473},0.6525296989478624,0.6525296989478624]
[null,null,5.151856287425114,-0.770059629757538,-0.9683172593603507,{"$f":"(LOOKUP(Sheet2!C414+0.0001,Sheet2!$C$505:$C$1005,$D$505:$D$1005)-D414)/0.0001","v":-1.2757898131532386},{"$f":"(LOOKUP(Sheet2!C414+0.0001,Sheet2!$C$505:$C$1005,$E$505:$E$1005)-E414)/0.0001","v":-0.7487338976941427},0.58687872404591,0.58687872404591]
[null,null,5.164391217564835,-0.785809843520475,-0.9770212576296077,{"$f":"(LOOKUP(Sheet2!C415+0.0001,Sheet2!$C$505:$C$1005,$D$505:$D$1005)-D415)/0.0001","v":-1.2367791900314007},{"$f":"(LOOKUP(Sheet2!C415+0.0001,Sheet2!$C$505:$C$1005,$E$505:$E$1005)-E415)/0.0001","v":-0.6389859787958585},0.5166532425077716,0.5166532425077716]
[null,null,5.176926147704555,-0.8010662033176643,-0.9843437931493036,{"$f":"(LOOKUP(Sheet2!C416+0.0001,Sheet2!$C$505:$C$1005,$D$505:$D$1005)-D416)/0.0001","v":-1.1969912945031247},{"$f":"(LOOKUP(Sheet2!C416+0.0001,Sheet2!$C$505:$C$1005,$E$505:$E$1005)-E416)/0.0001","v":-0.5283345633577685},0.4413854685359947,0.4413854685359947]
[null,null,5.189461077844276,-0.8158191210612866,-0.9902745121937931,{"$f":"(LOOKUP(Sheet2!C417+0.0001,Sheet2!$C$505:$C$1005,$D$505:$D$1005)-D417)/0.0001","v":-1.1564511318695736},{"$f":"(LOOKUP(Sheet2!C417+0.0001,Sheet2!$C$505:$C$1005,$E$505:$E$1005)-E417)/0.0001","v":-0.4169361073458333},0.3605306751456023,0.3605306751456023]
[null,null,5.201996007983996,-0.8300593250592221,-0.9948050290013792,{"$f":"(LOOKUP(Sheet2!C418+0.0001,Sheet2!$C$505:$C$1005,$D$505:$D$1005)-D418)/0.0001","v":-1.1151841801992912},{"$f":"(LOOKUP(Sheet2!C418+0.0001,Sheet2!$C$505:$C$1005,$E$505:$E$1005)-E418)/0.0001","v":-0.30494812301440355},0.27345090472849715,0.27345090472849715]
[null,null,5.214530938123716,-0.8437778658419832,-0.9979289376313967,{"$f":"(LOOKUP(Sheet2!C419+0.0001,Sheet2!$C$505:$C$1005,$D$505:$D$1005)-D419)/0.0001","v":-1.073216374327668},{"$f":"(LOOKUP(Sheet2!C419+0.0001,Sheet2!$C$505:$C$1005,$E$505:$E$1005)-E419)/0.0001","v":-0.19252895617882793},0.17939435214025737,0.17939435214025737]
[null,null,5.227065868263437,-0.8569661217871435,-0.9996418210219112,{"$f":"(LOOKUP(Sheet2!C420+0.0001,Sheet2!$C$505:$C$1005,$D$505:$D$1005)-D420)/0.0001","v":-1.0305740895533155},{"$f":"(LOOKUP(Sheet2!C420+0.0001,Sheet2!$C$505:$C$1005,$E$505:$E$1005)-E420)/0.0001","v":-0.0798375623289882},0.07746901764587581,0.07746901764587581]
[null,null,5.239600798403157,-0.8696158045377251,-0.9999412572352431,{"$f":"(LOOKUP(Sheet2!C421+0.0001,Sheet2!$C$505:$C$1005,$D$505:$D$1005)-D421)/0.0001","v":-0.9872841250568865},{"$f":"(LOOKUP(Sheet2!C421+0.0001,Sheet2!$C$505:$C$1005,$E$505:$E$1005)-E421)/0.0001","v":0.0329667181342419},-0.03339131795757618,-0.03339131795757618]
[null,null,5.252135728542878,-0.881718964211141,-0.9988268228824724,{"$f":"(LOOKUP(Sheet2!C422+0.0001,Sheet2!$C$505:$C$1005,$D$505:$D$1005)-D422)/0.0001","v":-0.9433736870634313},{"$f":"(LOOKUP(Sheet2!C422+0.0001,Sheet2!$C$505:$C$1005,$E$505:$E$1005)-E422)/0.0001","v":0.1457243851843426},-0.15447153888504025,-0.15447153888504025]
[null,null,5.264670658682598,-0.8932679943954175,-0.9963000937220928,{"$f":"(LOOKUP(Sheet2!C423+0.0001,Sheet2!$C$505:$C$1005,$D$505:$D$1005)-D423)/0.0001","v":-0.8988703717460744},{"$f":"(LOOKUP(Sheet2!C423+0.0001,Sheet2!$C$505:$C$1005,$E$505:$E$1005)-E423)/0.0001","v":0.258276004713176},-0.2873339836660424,-0.2873339836660424]
[null,null,5.277205588822318,-0.9042556369295577,-0.9923646424319622,{"$f":"(LOOKUP(Sheet2!C424+0.0001,Sheet2!$C$505:$C$1005,$D$505:$D$1005)-D424)/0.0001","v":-0.8538021478821101},{"$f":"(LOOKUP(Sheet2!C424+0.0001,Sheet2!$C$505:$C$1005,$E$505:$E$1005)-E424)/0.0001","v":0.3704624339484486},-0.43389728506469005,-0.43389728506469005]
[null,null,5.289740518962039,-0.9146749864650421,-0.9870260335576998,{"$f":"(LOOKUP(Sheet2!C425+0.0001,Sheet2!$C$505:$C$1005,$D$505:$D$1005)-D425)/0.0001","v":-0.8081973392704},{"$f":"(LOOKUP(Sheet2!C425+0.0001,Sheet2!$C$505:$C$1005,$E$505:$E$1005)-E425)/0.0001","v":0.48212504648148524},-0.596543719033675,-0.596543719033675]
[null,null,5.302275449101759,-0.9245194948055976,-0.9802918156446806,{"$f":"(LOOKUP(Sheet2!C426+0.0001,Sheet2!$C$505:$C$1005,$D$505:$D$1005)-D426)/0.0001","v":-0.7620846069356091},{"$f":"(LOOKUP(Sheet2!C426+0.0001,Sheet2!$C$505:$C$1005,$E$505:$E$1005)-E426)/0.0001","v":0.5931059565578156},-0.7782678604974487,-0.7782678604974487]
[null,null,5.31481037924148,-0.9337829750225101,-0.9721715105647372,{"$f":"(LOOKUP(Sheet2!C427+0.0001,Sheet2!$C$505:$C$1005,$D$505:$D$1005)-D427)/0.0001","v":-0.7154929311148361},{"$f":"(LOOKUP(Sheet2!C427+0.0001,Sheet2!$C$505:$C$1005,$E$505:$E$1005)-E427)/0.0001","v":0.7032482423163788},-0.982886359506895,-0.982886359506895]
[null,null,5.3273453093812,-0.9424596053428919,-0.9626766000526802,{"$f":"(LOOKUP(Sheet2!C428+0.0001,Sheet2!$C$505:$C$1005,$D$505:$D$1005)-D428)/0.0001","v":-0.6684515930466262},{"$f":"(LOOKUP(Sheet2!C428+0.0001,Sheet2!$C$505:$C$1005,$E$505:$E$1005)-E428)/0.0001","v":0.8123961676731462},-1.2153403120343518,-1.2153403120343518]
[null,null,5.33988023952092,-0.9505439328084627,-0.9518205094716516,{"$f":"(LOOKUP(Sheet2!C429+0.0001,Sheet2!$C$505:$C$1005,$D$505:$D$1005)-D429)/0.0001","v":-0.6209901565612519},{"$f":"(LOOKUP(Sheet2!C429+0.0001,Sheet2!$C$505:$C$1005,$E$505:$E$1005)-E429)/0.0001","v":0.9203954025227556},-1.4821416938707492,-1.4821416938707492]
[null,null,5.352415169660641,-0.9580308767025425,-0.9396185888302909,{"$f":"(LOOKUP(Sheet2!C430+0.0001,Sheet2!$C$505:$C$1005,$D$505:$D$1005)-D430)/0.0001","v":-0.5731384495122338},{"$f":"(LOOKUP(Sheet2!C430+0.0001,Sheet2!$C$505:$C$1005,$E$505:$E$1005)-E430)/0.0001","v":1.0270932409550682},-1.7920508418675627,-1.7920508418675627]
[null,null,5.364950099800361,-0.9649157317431043,-0.9260880910785265,{"$f":"(LOOKUP(Sheet2!C431+0.0001,Sheet2!$C$505:$C$1005,$D$505:$D$1005)-D431)/0.0001","v":-0.5249265450191221},{"$f":"(LOOKUP(Sheet2!C431+0.0001,Sheet2!$C$505:$C$1005,$E$505:$E$1005)-E431)/0.0001","v":1.1323388171768922},-2.157137656537532,-2.157137656537532]
[null,null,5.377485029940082,-0.9711941710398787,-0.9112481477127139,{"$f":"(LOOKUP(Sheet2!C432+0.0001,Sheet2!$C$505:$C$1005,$D$505:$D$1005)-D432)/0.0001","v":-0.476384742578162},{"$f":"(LOOKUP(Sheet2!C432+0.0001,Sheet2!$C$505:$C$1005,$E$505:$E$1005)-E432)/0.0001","v":1.2359833188224645},-2.594506516168856,-2.594506516168856]
[null,null,5.390019960079802,-0.9768622488136536,-0.8951197417245766,{"$f":"(LOOKUP(Sheet2!C433+0.0001,Sheet2!$C$505:$C$1005,$D$505:$D$1005)-D433)/0.0001","v":-0.42754354900864655},{"$f":"(LOOKUP(Sheet2!C433+0.0001,Sheet2!$C$505:$C$1005,$E$505:$E$1005)-E433)/0.0001","v":1.337880197371799},-3.1292255501783797,-3.1292255501783797]
[null,null,5.402554890219522,-0.9819164028760573,-0.8777256779322409,{"$f":"(LOOKUP(Sheet2!C434+0.0001,Sheet2!$C$505:$C$1005,$D$505:$D$1005)-D434)/0.0001","v":-0.3784336592937976},{"$f":"(LOOKUP(Sheet2!C434+0.0001,Sheet2!$C$505:$C$1005,$E$505:$E$1005)-E434)/0.0001","v":1.4378853753671539},-3.799570519309566,-3.799570519309566]
[null,null,5.415089820359243,-0.98635345686827,-0.859090550735267,{"$f":"(LOOKUP(Sheet2!C435+0.0001,Sheet2!$C$505:$C$1005,$D$505:$D$1005)-D435)/0.0001","v":-0.32908593727731805},{"$f":"(LOOKUP(Sheet2!C435+0.0001,Sheet2!$C$505:$C$1005,$E$505:$E$1005)-E435)/0.0001","v":1.535857450121192},-4.6670406606494925,-4.6670406606494925]
[null,null,5.427624750498963,-0.9901706222572537,-0.8392407093393232,{"$f":"(LOOKUP(Sheet2!C436+0.0001,Sheet2!$C$505:$C$1005,$D$505:$D$1005)-D436)/0.0001","v":-0.27953139627556745},{"$f":"(LOOKUP(Sheet2!C436+0.0001,Sheet2!$C$505:$C$1005,$E$505:$E$1005)-E436)/0.0001","v":1.6316578936659276},-5.837118532679627,-5.837118532679627]
[null,null,5.440159680638684,-0.9933655000882476,-0.818204220499616,{"$f":"(LOOKUP(Sheet2!C437+0.0001,Sheet2!$C$505:$C$1005,$D$505:$D$1005)-D437)/0.0001","v":-0.2298011795787147},{"$f":"(LOOKUP(Sheet2!C437+0.0001,Sheet2!$C$505:$C$1005,$E$505:$E$1005)-E437)/0.0001","v":1.7251512486171627},-7.507147055466875,-7.507147055466875]
[null,null,5.452694610778404,-0.9959360824924268,-0.7960108288358153,{"$f":"(LOOKUP(Sheet2!C438+0.0001,Sheet2!$C$505:$C$1005,$D$505:$D$1005)-D438)/0.0001","v":-0.17992654089082905},{"$f":"(LOOKUP(Sheet2!C438+0.0001,Sheet2!$C$505:$C$1005,$E$505:$E$1005)-E438)/0.0001","v":1.8162053197046113},-10.094149038337813,-10.094149038337813]
[null,null,5.465229540918124,-0.9978807539487784,-0.7726919147745251,{"$f":"(LOOKUP(Sheet2!C439+0.0001,Sheet2!$C$505:$C$1005,$D$505:$D$1005)-D439)/0.0001","v":-0.1299388246711608},{"$f":"(LOOKUP(Sheet2!C439+0.0001,Sheet2!$C$505:$C$1005,$E$505:$E$1005)-E439)/0.0001","v":1.9046913606945992},-14.658369933042305,-14.658369933042305]
[null,null,5.477764471057845,-0.9991982922993987,-0.7482804501788334,{"$f":"(LOOKUP(Sheet2!C440+0.0001,Sheet2!$C$505:$C$1005,$D$505:$D$1005)-D440)/0.0001","v":-0.07986944645321792},{"$f":"(LOOKUP(Sheet2!C440+0.0001,Sheet2!$C$505:$C$1005,$E$505:$E$1005)-E440)/0.0001","v":1.9904842564311132},-24.92172344773922,-24.92172344773922]
[null,null,5.490299401197565,-0.9998878695175779,-0.7228109517276075,{"$f":"(LOOKUP(Sheet2!C441+0.0001,Sheet2!$C$505:$C$1005,$D$505:$D$1005)-D441)/0.0001","v":-0.02974987308390631},{"$f":"(LOOKUP(Sheet2!C441+0.0001,Sheet2!$C$505:$C$1005,$E$505:$E$1005)-E441)/0.0001","v":2.0734626997342964},-69.69652253259429,-69.69652253259429]
[null,null,5.502834331337286,-0.9999490522281848,-0.696319432110531,{"$f":"(LOOKUP(Sheet2!C442+0.0001,Sheet2!$C$505:$C$1005,$D$505:$D$1005)-D442)/0.0001","v":0.020388397037329753},{"$f":"(LOOKUP(Sheet2!C442+0.0001,Sheet2!$C$505:$C$1005,$E$505:$E$1005)-E442)/0.0001","v":2.153509362937678},105.62426065152401,100]
[null,null,5.515369261477006,-0.9993818019800287,-0.6688433491078105,{"$f":"(LOOKUP(Sheet2!C443+0.0001,Sheet2!$C$505:$C$1005,$D$505:$D$1005)-D443)/0.0001","v":0.07051385376599661},{"$f":"(LOOKUP(Sheet2!C443+0.0001,Sheet2!$C$505:$C$1005,$E$505:$E$1005)-E443)/0.0001","v":2.230511063768814},31.632238838780037,31.632238838780037]
[null,null,5.527904191616726,-0.9981864752700239,-0.6404215526266313,{"$f":"(LOOKUP(Sheet2!C444+0.0001,Sheet2!$C$505:$C$1005,$D$505:$D$1005)-D444)/0.0001","v":0.12059499500671755},{"$f":"(LOOKUP(Sheet2!C444+0.0001,Sheet2!$C$505:$C$1005,$E$505:$E$1005)-E444)/0.0001","v":2.3043589253934904},19.10824678308689,19.10824678308689]
[null,null,5.540439121756447,-0.9963638233191447,-0.6110942297691699,{"$f":"(LOOKUP(Sheet2!C445+0.0001,Sheet2!$C$505:$C$1005,$D$505:$D$1005)-D445)/0.0001","v":0.17060034651628087},{"$f":"(LOOKUP(Sheet2!C445+0.0001,Sheet2!$C$505:$C$1005,$E$505:$E$1005)-E445)/0.0001","v":2.3749485303603546},13.921123719017222,13.921123719017222]
[null,null,5.552974051896167,-0.9939149916003087,-0.5809028480099171,{"$f":"(LOOKUP(Sheet2!C446+0.0001,Sheet2!$C$505:$C$1005,$D$505:$D$1005)-D446)/0.0001","v":0.22049848168337327},{"$f":"(LOOKUP(Sheet2!C446+0.0001,Sheet2!$C$505:$C$1005,$E$505:$E$1005)-E446)/0.0001","v":2.4421800682439265},11.075722833097764,11.075722833097764]
[null,null,5.565508982035888,-0.9908415191184873,-0.5498900965625686,{"$f":"(LOOKUP(Sheet2!C447+0.0001,Sheet2!$C$505:$C$1005,$D$505:$D$1005)-D447)/0.0001","v":0.2702580412772271},{"$f":"(LOOKUP(Sheet2!C447+0.0001,Sheet2!$C$505:$C$1005,$E$505:$E$1005)-E447)/0.0001","v":2.5059584767650467},9.272465917839122,9.272465917839122]
[null,null,5.578043912175608,-0.9871453374434951,-0.5180998260194807,{"$f":"(LOOKUP(Sheet2!C448+0.0001,Sheet2!$C$505:$C$1005,$D$505:$D$1005)-D448)/0.0001","v":0.31984775315851977},{"$f":"(LOOKUP(Sheet2!C448+0.0001,Sheet2!$C$505:$C$1005,$E$505:$E$1005)-E448)/0.0001","v":2.5661935762111288},8.023172121328917,8.023172121328917]
[null,null,5.590578842315328,-0.9828287694960658,-0.48557698634894214,{"$f":"(LOOKUP(Sheet2!C449+0.0001,Sheet2!$C$505:$C$1005,$D$505:$D$1005)-D449)/0.0001","v":0.36923645192699084},{"$f":"(LOOKUP(Sheet2!C449+0.0001,Sheet2!$C$505:$C$1005,$E$505:$E$1005)-E449)/0.0001","v":2.6228001969469394},7.1033078756415575,7.1033078756415575]
[null,null,5.603113772455049,-0.977894528087978,-0.4523675633380275,{"$f":"(LOOKUP(Sheet2!C450+0.0001,Sheet2!$C$505:$C$1005,$D$505:$D$1005)-D450)/0.0001","v":0.4183930985168782},{"$f":"(LOOKUP(Sheet2!C450+0.0001,Sheet2!$C$505:$C$1005,$E$505:$E$1005)-E450)/0.0001","v":2.6756982998343837},6.395177906421524,6.395177906421524]
[null,null,5.615648702594769,{"$f":"SIN(2*t)","v":-0.9723457142171482},{"$f":"COS(3*t)","v":-0.41851851357080255},{"$f":"(LOOKUP(Sheet2!C451+0.0001,Sheet2!$C$505:$C$1005,$D$505:$D$1005)-D451)/0.0001","v":0.4672867996979857},{"$f":"(LOOKUP(Sheet2!C451+0.0001,Sheet2!$C$505:$C$1005,$E$505:$E$1005)-E451)/0.0001","v":2.72481308940975},5.831136448046117,5.831136448046117]
[null,null,5.62818363273449,-0.9661858151187616,-0.3840776980339167,{"$f":"(LOOKUP(Sheet2!C452+0.0001,Sheet2!$C$505:$C$1005,$D$505:$D$1005)-D452)/0.0001","v":0.5158868274912631},{"$f":"(LOOKUP(Sheet2!C452+0.0001,Sheet2!$C$505:$C$1005,$E$505:$E$1005)-E452)/0.0001","v":2.7700751196380047},5.369540317803361,{"$f":"IF(H452>100,100,IF(H452<-100,-100,H452))","v":5.369540317803361}]
[null,null,{"$f":"C452+B$12","v":5.64071856287421},-0.9594187020736672,-0.3490938144433622,{"$f":"(LOOKUP(Sheet2!C453+0.0001,Sheet2!$C$505:$C$1005,$D$505:$D$1005)-D453)/0.0001","v":0.5641626384800258},{"$f":"(LOOKUP(Sheet2!C453+0.0001,Sheet2!$C$505:$C$1005,$E$505:$E$1005)-E453)/0.0001","v":2.8114203921081327},{"$f":"G453/F453","v":4.983350899809135},4.983350899809135]
[null,null,5.65325349301393,-0.952048627975414,-0.3136163283881876,{"$f":"(LOOKUP(Sheet2!C454+0.0001,Sheet2!$C$505:$C$1005,$D$505:$D$1005)-D454)/0.0001","v":0.6120838930101513},{"$f":"(LOOKUP(Sheet2!C454+0.0001,Sheet2!$C$505:$C$1005,$E$505:$E$1005)-E454)/0.0001","v":2.84879044652131},4.654248345780377,4.654248345780377]
[null,null,5.665788423153651,-0.9440802246574553,-0.27769540338842286,{"$f":"(LOOKUP(Sheet2!C455+0.0001,Sheet2!$C$505:$C$1005,$D$505:$D$1005)-D455)/0.0001","v":0.6596204742492784},{"$f":"(LOOKUP(Sheet2!C455+0.0001,Sheet2!$C$505:$C$1005,$E$505:$E$1005)-E455)/0.0001","v":2.882132443353669},4.369379902335289,4.369379902335289]
[null,null,5.678323353293371,-0.9355184999822044,-0.24138182996621477,{"$f":"(LOOKUP(Sheet2!C456+0.0001,Sheet2!$C$505:$C$1005,$D$505:$D$1005)-D456)/0.0001","v":0.7067425071227706},{"$f":"(LOOKUP(Sheet2!C456+0.0001,Sheet2!$C$505:$C$1005,$E$505:$E$1005)-E456)/0.0001","v":2.911399238568202},4.11946247639871,4.11946247639871]
[null,null,5.690858283433092,-0.9263688346937677,-0.20472695383035708,{"$f":"(LOOKUP(Sheet2!C457+0.0001,Sheet2!$C$505:$C$1005,$D$505:$D$1005)-D457)/0.0001","v":0.7534203770809267},{"$f":"(LOOKUP(Sheet2!C457+0.0001,Sheet2!$C$505:$C$1005,$E$505:$E$1005)-E457)/0.0001","v":2.9365494502739398},3.8976241413211974,3.8976241413211974]
[null,null,5.703393213572812,-0.9166369790363366,-0.1677826032758666,{"$f":"(LOOKUP(Sheet2!C458+0.0001,Sheet2!$C$505:$C$1005,$D$505:$D$1005)-D458)/0.0001","v":0.7996247487196406},{"$f":"(LOOKUP(Sheet2!C458+0.0001,Sheet2!$C$505:$C$1005,$E$505:$E$1005)-E458)/0.0001","v":2.95754751723748},3.698669309539388,3.698669309539388]
[null,null,5.715928143712532,-0.906329049140359,-0.13060101590115014,{"$f":"(LOOKUP(Sheet2!C459+0.0001,Sheet2!$C$505:$C$1005,$D$505:$D$1005)-D459)/0.0001","v":0.8453265842078839},{"$f":"(LOOKUP(Sheet2!C459+0.0001,Sheet2!$C$505:$C$1005,$E$505:$E$1005)-E459)/0.0001","v":2.9743637491658204},3.518597196316685,3.518597196316685]
[null,null,5.728463073852253,-0.895451523178767,-0.0932347647464905,{"$f":"(LOOKUP(Sheet2!C460+0.0001,Sheet2!$C$505:$C$1005,$D$505:$D$1005)-D460)/0.0001","v":0.8904971615431023},{"$f":"(LOOKUP(Sheet2!C460+0.0001,Sheet2!$C$505:$C$1005,$E$505:$E$1005)-E460)/0.0001","v":2.986974368687223},3.3542772483533017,3.3542772483533017]
[null,null,5.740998003991973,-0.8840112372956707,-0.05573668395817762,{"$f":"(LOOKUP(Sheet2!C461+0.0001,Sheet2!$C$505:$C$1005,$D$505:$D$1005)-D461)/0.0001","v":0.9351080926001121},{"$f":"(LOOKUP(Sheet2!C461+0.0001,Sheet2!$C$505:$C$1005,$E$505:$E$1005)-E461)/0.0001","v":2.9953615449702236},3.203224919850153,3.203224919850153]
[null,null,5.753532934131694,-0.872015381310082,-0.018159794083504047,{"$f":"(LOOKUP(Sheet2!C462+0.0001,Sheet2!$C$505:$C$1005,$D$505:$D$1005)-D462)/0.0001","v":0.979131340970163},{"$f":"(LOOKUP(Sheet2!C462+0.0001,Sheet2!$C$505:$C$1005,$E$505:$E$1005)-E462)/0.0001","v":2.999513418936658},3.063443374169413,3.063443374169413]
[null,null,5.766067864271414,-0.859471494197365,0.019442772897858465,{"$f":"(LOOKUP(Sheet2!C463+0.0001,Sheet2!$C$505:$C$1005,$D$505:$D$1005)-D463)/0.0001","v":1.022539239584619},{"$f":"(LOOKUP(Sheet2!C463+0.0001,Sheet2!$C$505:$C$1005,$E$505:$E$1005)-E463)/0.0001","v":2.9994241200291536},2.933309553232984,2.933309553232984]
[null,null,5.7786027944111344,-0.8463874593512535,0.05701784869998586,{"$f":"(LOOKUP(Sheet2!C464+0.0001,Sheet2!$C$505:$C$1005,$D$505:$D$1005)-D464)/0.0001","v":1.0653045080977197},{"$f":"(LOOKUP(Sheet2!C464+0.0001,Sheet2!$C$505:$C$1005,$E$505:$E$1005)-E464)/0.0001","v":2.995093774512264},2.8114907538132052,2.8114907538132052]
[null,null,5.791137724550855,-0.8327714996294148,0.09451230390822082,{"$f":"(LOOKUP(Sheet2!C465+0.0001,Sheet2!$C$505:$C$1005,$D$505:$D$1005)-D465)/0.0001","v":1.1074002700384167},{"$f":"(LOOKUP(Sheet2!C465+0.0001,Sheet2!$C$505:$C$1005,$E$505:$E$1005)-E465)/0.0001","v":2.986528505293795},2.6968825871698496,2.6968825871698496]
[null,null,5.803672654690575,-0.8186321721856711,0.13187312310167293,{"$f":"(LOOKUP(Sheet2!C466+0.0001,Sheet2!$C$505:$C$1005,$D$505:$D$1005)-D466)/0.0001","v":1.1488000696924239},{"$f":"(LOOKUP(Sheet2!C466+0.0001,Sheet2!$C$505:$C$1005,$E$505:$E$1005)-E466)/0.0001","v":2.9737404232668685},2.5885621891222974,2.5885621891222974]
[null,null,5.816207584830296,-0.8039783630921283,0.16904747981459345,{"$f":"(LOOKUP(Sheet2!C467+0.0001,Sheet2!$C$505:$C$1005,$D$505:$D$1005)-D467)/0.0001","v":1.1894778887355795},{"$f":"(LOOKUP(Sheet2!C467+0.0001,Sheet2!$C$505:$C$1005,$E$505:$E$1005)-E467)/0.0001","v":2.9567476101871604},2.485752478619167,2.485752478619167]
[null,null,5.828742514970016,-0.7888192817545912,0.20598281123052004,{"$f":"(LOOKUP(Sheet2!C468+0.0001,Sheet2!$C$505:$C$1005,$D$505:$D$1005)-D468)/0.0001","v":1.2294081625841002},{"$f":"(LOOKUP(Sheet2!C468+0.0001,Sheet2!$C$505:$C$1005,$E$505:$E$1005)-E468)/0.0001","v":2.9355740931036323},2.3877945359768327,2.3877945359768327]
[null,null,5.8412774451097365,-0.7731644551247736,0.2426268925036896,{"$f":"(LOOKUP(Sheet2!C469+0.0001,Sheet2!$C$505:$C$1005,$D$505:$D$1005)-D469)/0.0001","v":1.2685657964595087},{"$f":"(LOOKUP(Sheet2!C469+0.0001,Sheet2!$C$505:$C$1005,$E$505:$E$1005)-E469)/0.0001","v":2.910249810388066},2.2941260268173704,2.2941260268173704]
[null,null,5.853812375249457,-0.7570237217129436,0.27892791060252053,{"$f":"(LOOKUP(Sheet2!C470+0.0001,Sheet2!$C$505:$C$1005,$D$505:$D$1005)-D470)/0.0001","v":1.3069261811604616},{"$f":"(LOOKUP(Sheet2!C470+0.0001,Sheet2!$C$505:$C$1005,$E$505:$E$1005)-E470)/0.0001","v":2.8808105694011488},2.2042641818095534,2.2042641818095534]
[null,null,5.866347305389177,-0.7404072254047643,0.3148345375708641,{"$f":"(LOOKUP(Sheet2!C471+0.0001,Sheet2!$C$505:$C$1005,$D$505:$D$1005)-D471)/0.0001","v":1.344465208528156},{"$f":"(LOOKUP(Sheet2!C471+0.0001,Sheet2!$C$505:$C$1005,$E$505:$E$1005)-E471)/0.0001","v":2.847297995864917},2.1177922476565807,2.1177922476565807]
[null,null,5.878882235528898,-0.7233254090862166,0.35029600310332687,{"$f":"(LOOKUP(Sheet2!C472+0.0001,Sheet2!$C$505:$C$1005,$D$505:$D$1005)-D472)/0.0001","v":1.3811592865975442},{"$f":"(LOOKUP(Sheet2!C472+0.0001,Sheet2!$C$505:$C$1005,$E$505:$E$1005)-E472)/0.0001","v":2.809759475004836},2.034348610091612,2.034348610091612]
[null,null,5.891417165668618,-0.7057890080806114,0.38526216633215515,{"$f":"(LOOKUP(Sheet2!C473+0.0001,Sheet2!$C$505:$C$1005,$D$505:$D$1005)-D473)/0.0001","v":1.4169853544276911},{"$f":"(LOOKUP(Sheet2!C473+0.0001,Sheet2!$C$505:$C$1005,$E$505:$E$1005)-E473)/0.0001","v":2.768248084547009},1.953617993225542,1.953617993225542]
[null,null,5.9039520958083385,-0.6878090434018149,0.41968358672406997,{"$f":"(LOOKUP(Sheet2!C474+0.0001,Sheet2!$C$505:$C$1005,$D$505:$D$1005)-D474)/0.0001","v":1.4519208965890762},{"$f":"(LOOKUP(Sheet2!C474+0.0001,Sheet2!$C$505:$C$1005,$E$505:$E$1005)-E474)/0.0001","v":2.7228225196734845},1.8753242866536826,1.8753242866536826]
[null,null,5.916487025948059,-0.669396814827927,0.45351159398691465,{"$f":"(LOOKUP(Sheet2!C475+0.0001,Sheet2!$C$505:$C$1005,$D$505:$D$1005)-D475)/0.0001","v":1.4859439573156052},{"$f":"(LOOKUP(Sheet2!C475+0.0001,Sheet2!$C$505:$C$1005,$E$505:$E$1005)-E475)/0.0001","v":2.6735470100269776},1.7992246590893015,1.7992246590893015]
[null,null,5.929021956087779,-0.6505638937997671,0.4866983568871652,{"$f":"(LOOKUP(Sheet2!C476+0.0001,Sheet2!$C$505:$C$1005,$D$505:$D$1005)-D476)/0.0001","v":1.5190331543069036},{"$f":"(LOOKUP(Sheet2!C476+0.0001,Sheet2!$C$505:$C$1005,$E$505:$E$1005)-E476)/0.0001","v":2.6204912288918525},1.7251046966697159,1.7251046966697159]
[null,null,5.9415568862275,-0.6313221161486283,0.5191969508811015,{"$f":"(LOOKUP(Sheet2!C477+0.0001,Sheet2!$C$505:$C$1005,$D$505:$D$1005)-D477)/0.0001","v":1.551167692160904},{"$f":"(LOOKUP(Sheet2!C477+0.0001,Sheet2!$C$505:$C$1005,$E$505:$E$1005)-E477)/0.0001","v":2.5637301946823676},1.6527743632352738,1.6527743632352738]
[null,null,5.95409181636722,-0.611683574657872,0.5509614244639112,{"$f":"(LOOKUP(Sheet2!C478+0.0001,Sheet2!$C$505:$C$1005,$D$505:$D$1005)-D478)/0.0001","v":1.5823273754456135},{"$f":"(LOOKUP(Sheet2!C478+0.0001,Sheet2!$C$505:$C$1005,$E$505:$E$1005)-E478)/0.0001","v":2.5033441648691923},1.5820646243728185,1.5820646243728185]
[null,null,5.9666267465069405,-0.5916606114630375,0.5819468641430111,{"$f":"(LOOKUP(Sheet2!C479+0.0001,Sheet2!$C$505:$C$1005,$D$505:$D$1005)-D479)/0.0001","v":1.6124926213922919},{"$f":"(LOOKUP(Sheet2!C479+0.0001,Sheet2!$C$505:$C$1005,$E$505:$E$1005)-E479)/0.0001","v":2.439418522497405},1.5128246108754977,1.5128246108754977]
[null,null,5.979161676646661,-0.5712658102952414,0.6121094579436188,{"$f":"(LOOKUP(Sheet2!C480+0.0001,Sheet2!$C$505:$C$1005,$D$505:$D$1005)-D480)/0.0001","v":1.641644472197834},{"$f":"(LOOKUP(Sheet2!C480+0.0001,Sheet2!$C$505:$C$1005,$E$505:$E$1005)-E480)/0.0001","v":2.372043655461953},1.444919223153269,1.444919223153269]
[null,null,5.991696606786381,-0.5505119885727441,0.6414065573568769,{"$f":"(LOOKUP(Sheet2!C481+0.0001,Sheet2!$C$505:$C$1005,$D$505:$D$1005)-D481)/0.0001","v":1.669764606948565},{"$f":"(LOOKUP(Sheet2!C481+0.0001,Sheet2!$C$505:$C$1005,$E$505:$E$1005)-E481)/0.0001","v":2.301314828698775},1.3782270980724316,1.3782270980724316]
[null,null,6.004231536926102,-0.5294121893456505,0.6697967376428432,{"$f":"(LOOKUP(Sheet2!C482+0.0001,Sheet2!$C$505:$C$1005,$D$505:$D$1005)-D482)/0.0001","v":1.6968353531232605},{"$f":"(LOOKUP(Sheet2!C482+0.0001,Sheet2!$C$505:$C$1005,$E$505:$E$1005)-E482)/0.0001","v":2.2273320494914373},1.312638875299082,1.312638875299082]
[null,null,6.016766467065822,-0.5079796730988103,0.6972398564031751,{"$f":"(LOOKUP(Sheet2!C483+0.0001,Sheet2!$C$505:$C$1005,$D$505:$D$1005)-D483)/0.0001","v":1.7228396977042593},{"$f":"(LOOKUP(Sheet2!C483+0.0001,Sheet2!$C$505:$C$1005,$E$505:$E$1005)-E483)/0.0001","v":2.150199926056473},1.2480557122764733,1.2480557122764733]
[null,null,6.0293013972055425,-0.4862279094180677,0.7236971103405971,{"$f":"(LOOKUP(Sheet2!C484+0.0001,Sheet2!$C$505:$C$1005,$D$505:$D$1005)-D484)/0.0001","v":1.7477612978733514},{"$f":"(LOOKUP(Sheet2!C484+0.0001,Sheet2!$C$505:$C$1005,$E$505:$E$1005)-E484)/0.0001","v":2.0700275196394724},1.1843880066220995,1.1843880066220995]
[null,null,6.041836327345263,-0.4641705685250983,0.7491310901249849,{"$f":"(LOOKUP(Sheet2!C485+0.0001,Sheet2!$C$505:$C$1005,$D$505:$D$1005)-D485)/0.0001","v":1.771584491278011},{"$f":"(LOOKUP(Sheet2!C485+0.0001,Sheet2!$C$505:$C$1005,$E$505:$E$1005)-E485)/0.0001","v":1.9869281903062141},1.1215542922668371,1.1215542922668371]
[null,null,6.054371257484983,-0.4418215126861534,0.7735058332884027,{"$f":"(LOOKUP(Sheet2!C486+0.0001,Sheet2!$C$505:$C$1005,$D$505:$D$1005)-D486)/0.0001","v":1.794294305874633},{"$f":"(LOOKUP(Sheet2!C486+0.0001,Sheet2!$C$505:$C$1005,$E$505:$E$1005)-E486)/0.0001","v":1.9010194366542166},1.0594802817074984,1.0594802817074984]
[null,null,6.066906187624704,-0.4191947875001114,0.796786875074385,{"$f":"(LOOKUP(Sheet2!C487+0.0001,Sheet2!$C$505:$C$1005,$D$505:$D$1005)-D487)/0.0001","v":1.8158764693404494},{"$f":"(LOOKUP(Sheet2!C487+0.0001,Sheet2!$C$505:$C$1005,$E$505:$E$1005)-E487)/0.0001","v":1.812422729677854},0.9980980316002167,0.9980980316002167]
[null,null,6.079441117764424,-0.3963046130713108,0.8189412971694853,{"$f":"(LOOKUP(Sheet2!C488+0.0001,Sheet2!$C$505:$C$1005,$D$505:$D$1005)-D488)/0.0001","v":1.8363174180419106},{"$f":"(LOOKUP(Sheet2!C488+0.0001,Sheet2!$C$505:$C$1005,$E$505:$E$1005)-E488)/0.0001","v":1.7212633410113032},0.9373452128154994,0.9373452128154994]
[null,null,6.0919760479041445,-0.3731653750727124,0.8399377742482622,{"$f":"(LOOKUP(Sheet2!C489+0.0001,Sheet2!$C$505:$C$1005,$D$505:$D$1005)-D489)/0.0001","v":1.8556043055578675},{"$f":"(LOOKUP(Sheet2!C489+0.0001,Sheet2!$C$505:$C$1005,$E$505:$E$1005)-E489)/0.0001","v":1.627670165803563},0.8771644692396968,0.8771644692396968]
[null,null,6.104510978043865,-0.34979161570500794,0.8597466182658206,{"$f":"(LOOKUP(Sheet2!C490+0.0001,Sheet2!$C$505:$C$1005,$D$505:$D$1005)-D490)/0.0001","v":1.873725010755889},{"$f":"(LOOKUP(Sheet2!C490+0.0001,Sheet2!$C$505:$C$1005,$E$505:$E$1005)-E490)/0.0001","v":1.5317755404620215},0.817502852162965,0.817502852162965]
[null,null,6.117045908183585,-0.3261980245573561,0.8783398204353453,{"$f":"(LOOKUP(Sheet2!C491+0.0001,Sheet2!$C$505:$C$1005,$D$505:$D$1005)-D491)/0.0001","v":1.8906681454061713},{"$f":"(LOOKUP(Sheet2!C491+0.0001,Sheet2!$C$505:$C$1005,$E$505:$E$1005)-E491)/0.0001","v":1.4337150555432387},0.7583113192163262,0.7583113192163262]
[null,null,6.129580838323306,-0.3023994293754902,0.8956910908312132,{"$f":"(LOOKUP(Sheet2!C492+0.0001,Sheet2!$C$505:$C$1005,$D$505:$D$1005)-D492)/0.0001","v":1.9064230613430322},{"$f":"(LOOKUP(Sheet2!C492+0.0001,Sheet2!$C$505:$C$1005,$E$505:$E$1005)-E492)/0.0001","v":1.3336273640229823},0.6995442884977859,0.6995442884977859]
[null,null,6.142115768463026,-0.27841078674299946,0.9117758955617417,{"$f":"(LOOKUP(Sheet2!C493+0.0001,Sheet2!$C$505:$C$1005,$D$505:$D$1005)-D493)/0.0001","v":1.9209798571528935},{"$f":"(LOOKUP(Sheet2!C493+0.0001,Sheet2!$C$505:$C$1005,$E$505:$E$1005)-E493)/0.0001","v":1.2316539852552655},0.6411592399936531,0.6411592399936531]
[null,null,6.1546506986027465,-0.2542471726816398,0.926571491458961,{"$f":"(LOOKUP(Sheet2!C494+0.0001,Sheet2!$C$505:$C$1005,$D$505:$D$1005)-D494)/0.0001","v":1.9343293843998577},{"$f":"(LOOKUP(Sheet2!C494+0.0001,Sheet2!$C$505:$C$1005,$E$505:$E$1005)-E494)/0.0001","v":1.1279391048701903},0.5831163575174365,0.5831163575174365]
[null,null,6.167185628742467,-0.22992377317658244,0.9400569582364114,{"$f":"(LOOKUP(Sheet2!C495+0.0001,Sheet2!$C$505:$C$1005,$D$505:$D$1005)-D495)/0.0001","v":1.946463253374442},{"$f":"(LOOKUP(Sheet2!C495+0.0001,Sheet2!$C$505:$C$1005,$E$505:$E$1005)-E495)/0.0001","v":1.0226293708981427},0.5253782053811108,0.5253782053811108]
[null,null,6.179720558882187,-0.20545587463255363,0.9522132280694471,{"$f":"(LOOKUP(Sheet2!C496+0.0001,Sheet2!$C$505:$C$1005,$D$505:$D$1005)-D496)/0.0001","v":1.9573738383632522},{"$f":"(LOOKUP(Sheet2!C496+0.0001,Sheet2!$C$505:$C$1005,$E$505:$E$1005)-E496)/0.0001","v":0.9158736864200989},0.46790943480983105,0.46790943480983105]
[null,null,6.192255489021908,-0.18085885426686513,0.9630231125562654,{"$f":"(LOOKUP(Sheet2!C497+0.0001,Sheet2!$C$505:$C$1005,$D$505:$D$1005)-D497)/0.0001","v":1.9670542824462567},{"$f":"(LOOKUP(Sheet2!C497+0.0001,Sheet2!$C$505:$C$1005,$E$505:$E$1005)-E497)/0.0001","v":0.8078229990216013},0.4106765157578575,0.4106765157578575]
[null,null,6.204790419161628,-0.15614817044537138,0.9724713270215014,{"$f":"(LOOKUP(Sheet2!C498+0.0001,Sheet2!$C$505:$C$1005,$D$505:$D$1005)-D498)/0.0001","v":1.9754985018038962},{"$f":"(LOOKUP(Sheet2!C498+0.0001,Sheet2!$C$505:$C$1005,$E$505:$E$1005)-E498)/0.0001","v":0.6986300873645934},0.35364749035580134,0.35364749035580134]
[null,null,6.2173253493013485,-0.1313393529674281,0.9805445121280577,{"$f":"(LOOKUP(Sheet2!C499+0.0001,Sheet2!$C$505:$C$1005,$D$505:$D$1005)-D499)/0.0001","v":1.982701189540137},{"$f":"(LOOKUP(Sheet2!C499+0.0001,Sheet2!$C$505:$C$1005,$E$505:$E$1005)-E499)/0.0001","v":0.5884493451635553},0.2967917446501552,0.2967917446501552]
[null,null,6.229860279441069,-0.10644799330595711,0.987231252766581,{"$f":"(LOOKUP(Sheet2!C500+0.0001,Sheet2!$C$505:$C$1005,$D$505:$D$1005)-D500)/0.0001","v":1.9886578190170257},{"$f":"(LOOKUP(Sheet2!C500+0.0001,Sheet2!$C$505:$C$1005,$E$505:$E$1005)-E500)/0.0001","v":0.4774365628767985},0.2400797956849061,0.2400797956849061]
[null,null,6.242395209580789,-0.08148973480875185,0.9925220941959029,{"$f":"(LOOKUP(Sheet2!C501+0.0001,Sheet2!$C$505:$C$1005,$D$505:$D$1005)-D501)/0.0001","v":1.9933646467021338},{"$f":"(LOOKUP(Sheet2!C501+0.0001,Sheet2!$C$505:$C$1005,$E$505:$E$1005)-E501)/0.0001","v":0.36574870743044663},0.1834830912826458,0.1834830912826458]
[null,null,6.25493013972051,-0.05648026286718104,0.9964095554116007,{"$f":"(LOOKUP(Sheet2!C502+0.0001,Sheet2!$C$505:$C$1005,$D$505:$D$1005)-D502)/0.0001","v":564.8026286718103},{"$f":"(LOOKUP(Sheet2!C502+0.0001,Sheet2!$C$505:$C$1005,$E$505:$E$1005)-E502)/0.0001","v":-9964.095554116007},-17.64173013420205,-17.64173013420205]
[null,null,6.26746506986023,-0.03143529505846955,0.9988881397237945,{"$f":"(LOOKUP(Sheet2!C503+0.0001,Sheet2!$C$505:$C$1005,$D$505:$D$1005)-D503)/0.0001","v":314.35295058469546},{"$f":"(LOOKUP(Sheet2!C503+0.0001,Sheet2!$C$505:$C$1005,$E$505:$E$1005)-E503)/0.0001","v":-9988.881397237945},-31.776006487798693,-31.776006487798693]
[null,null,6.2799999999999505,-0.006370571267751609,0.9999543425292095,{"$f":"(LOOKUP(Sheet2!C504+0.0001,Sheet2!$C$505:$C$1005,$D$505:$D$1005)-D504)/0.0001","v":63.70571267751609},{"$f":"(LOOKUP(Sheet2!C504+0.0001,Sheet2!$C$505:$C$1005,$E$505:$E$1005)-E504)/0.0001","v":-9999.543425292093},-156.96462695442494,-100]
[null,null,{"$f":"C3+0.0001","v":1E-4},1.9999999866666669E-4,0.9999999550000004]
[null,null,{"$f":"C4+0.0001","v":0.012634930139720559},0.025267170953721597,0.9992816994407308]
[null,null,0.02516986027944112,0.05031846237674774,0.9971505058994935]
[null,null,0.03770479041916168,0.07533813040844073,0.9936093877851233]
[null,null,0.05023972055888224,0.10031045106369012,0.9886633520744167]
[null,null,0.0627746506986028,0.1252197301135534,0.9823193922324995]
[null,null,0.07530958083832336,0.15005031294852905,0.9745864783243913]
[null,null,0.08784451097804391,0.17478659441693065,0.965475544331749]
[null,null,0.10037944111776446,0.19941302863217789,0.9549994726927247]
[null,null,0.11291437125748502,0.22391413874284202,0.9431730760867949]
[null,null,0.12544930139720556,{"$f":"SIN(2*t)","v":0.24827452665930483},{"$f":"COS(3*t)","v":0.930013076490319}]
[null,null,0.13798423153692613,0.27247888273091886,0.9155380815324398]
[null,null,0.1505191616766467,0.2965119953675864,0.8997685581847592]
[null,null,0.16305409181636726,0.3203587605997113,0.8827268038219895]
[null,null,0.17558902195608783,0.3440041915705148,0.8644369146944995]
[null,null,0.1881239520958084,0.3674334279547503,0.8449247518573334]
[null,null,0.20065888223552897,0.39063174529789707,0.8242179046038791]
[null,null,0.21319381237524954,0.41358456426996454,0.8023456514558864]
[null,null,0.2257287425149701,0.43627745982809035,0.7793389187649952]
[null,null,0.23826367265469067,0.4586961702821746,0.7552302369843078]
[null,null,0.25079860279441124,0.48082660625785273,0.7300536946718377]
[null,null,0.2633335329341318,0.502654859551174,0.7038448902908687]
[null,null,0.2758684630738524,0.52416721186942,0.6766408818753796]
[null,null,0.28840339321357294,0.5453501434525717,0.6484801346317013]
[null,null,0.3009383233532935,0.5661903415700055,0.6194024665504999]
[null,null,0.3134732534930141,0.5866747088870767,0.5894489921059843]
[null,null,0.32600818363273465,0.6067903716963375,0.5586620641219463]
[null,null,0.3385431137724552,0.6265246880082099,0.5270852138868312]
[null,null,0.3510780439121758,0.6458652554960339,0.49476308960251547]
[null,null,0.36361297405189635,0.6647999192904955,0.46174139325381947]
[null,null,0.3761479041916169,0.6833167796185363,0.4280668159880208]
[null,null,0.3886828343313375,0.701404199281944,0.3937869720957365]
[null,null,0.40121776447105806,0.7190508109709238,0.35895033168652435]
[null,null,0.4137526946107786,0.7362455244080554,0.32360615215439675]
[null,null,0.4262876247504992,0.7529775333181422,0.28780440853014866]
[null,null,0.43882255489021976,0.7692363222195789,0.2515957228189819]
[null,null,0.45135748502994033,0.7850116730329617,0.21503129242333785]
[null,null,0.4638924151696609,0.8002936715027942,0.17816281775214388]
[null,null,0.47642734530938147,0.8150727134282495,0.14104242911883386]
[null,null,0.48896227544910204,0.8293395106990743,0.10372261303150113]
[null,null,0.5014972055888226,0.8430850971328405,0.06625613797941063]
[null,null,0.5140321357285431,0.8563008341098772,0.028695979820803175]
[null,null,0.5265670658682636,0.8689784160023405,-8.904753122513414E-3]
[null,null,0.5391019960079841,0.8811098753940096,-0.04649289515786715]
[null,null,0.5516369261477047,0.8926875880875291,-0.08401529839554556]
[null,null,0.5641718562874252,0.9037042778959496,-0.1214189078974475]
[null,null,0.5767067864271457,0.9141530212155571,-0.15865083669430566]
[null,null,0.5892417165668662,0.9240272513771146,-0.1956584405654081]
[null,null,0.6017766467065867,0.9333207627727843,-0.23238939247508453]
[null,null,0.6143115768463072,0.9420277147561346,-0.26879175656070853]
[null,null,0.6268465069860277,0.9501426353127816,-0.30481406156759927]
[null,null,0.6393814371257482,0.9576604244993595,-0.34040537362698836]
[null,null,0.6519163672654688,0.9645763576486548,-0.37551536827414767]
[null,null,0.6644512974051893,0.9708860883388956,-0.41009440160484906]
[null,null,0.6769862275449098,0.9765856511253244,-0.4440935804695435]
[null,null,0.6895211576846303,0.9816714640323421,-0.4774648316060064]
[null,null,0.7020560878243508,0.9861403308046538,-0.5101609696127006]
[null,null,0.7145910179640713,0.9899894429160033,-0.5421357636667468]
[null,null,0.7271259481037918,0.9932163813342336,-0.5733440028921635]
[null,null,0.7396608782435123,0.9958191180415636,-0.6037415602859474]
[null,null,0.7521958083832329,0.9977960173091269,-0.6332854551116108]
[null,null,0.7647307385229534,0.9991458367249694,-0.6619339136719492]
[null,null,0.7772656686626739,0.999867727974862,-0.6896464283751117]
[null,null,0.7898005988023944,0.9999612373754366,-0.7163838150104587]
[null,null,0.8023355289421149,0.9994263061593099,-0.7421082681532162]
[null,null,{"$f":"C68+0.0001","v":0.8148704590818354},0.9982632705120166,-0.7667834146195951]
[null,null,0.8274053892215559,0.9964728613607287,-0.7903743648967864]
[null,null,0.8399403193612764,0.9940562039148936,-0.8128477624751129]
[null,null,0.852475249500997,0.9910148169590789,-0.8341718310125882]
[null,null,0.8650101796407175,0.9873506118984698,-0.8543164192651901]
[null,null,0.877545109780438,0.983065891557618,-0.8732530437193214]
[null,null,0.8900800399201585,0.9781633487331967,-0.8909549288661781]
[null,null,0.902614970059879,0.9726460645016723,-0.9073970450610759]
[null,null,0.9151499001995995,0.9665175062829564,-0.9225561439142074]
[null,null,0.92768483033932,{"$f":"SIN(2*t)","v":0.9597815256612526},{"$f":"COS(3*t)","v":-0.936410791162788}]
[null,null,0.9402197604790405,0.9524423559644721,-0.9489413969781084]
[null,null,0.9527546906187611,0.9445046096037343,-0.9601302436646445]
[null,null,0.9652896207584816,0.9359732751746284,-0.9699615107120569]
[null,null,0.9778245508982021,0.9268537143220557,-0.9784212971646593]
[null,null,0.9903594810379226,0.9171516583706236,-0.985497641276725]
[null,null,1.0028944111776432,0.9068732047227088,-0.9911805374258401]
[null,null,1.0154293413173638,0.8960248130264535,-0.9954619502603906]
[null,null,1.0279642714570845,0.8846133011161027,-0.9983358260611762]
[null,null,1.040499201596805,0.8726458407272341,-0.9997981013010886]
[null,null,1.0530341317365257,0.8601299529895735,-0.9998467083907505]
[null,null,1.0655690618762463,0.8470735037002283,-0.9984815786019915]
[null,null,1.078103992015967,0.8334846983803094,-0.9957046421650259]
[null,null,1.0906389221556876,0.8193720771180484,-0.9915198255391967]
[null,null,1.1031738522954082,0.8047445092016517,-0.9859330458611448]
[null,null,1.1157087824351288,0.7896111875452629,-0.9789522025782517]
[null,null,1.1282437125748495,0.7739816229115386,-0.9705871662791872]
[null,null,1.14077864271457,0.757865637934467,-0.9608497647373553]
[null,null,1.1533135728542907,0.7412733609461868,-0.9497537661869703]
[null,null,1.1658485029940113,0.7242152196116844,-0.9373148598554124]
[null,null,1.178383433133732,0.7067019343753727,-0.9235506337793886]
[null,null,1.1909183632734526,0.6887445117236659,-0.9084805499362635]
[null,null,1.2034532934131732,0.67035423726779,-0.8921259167257255]
[null,null,1.2159882235528938,0.6515426686511696,-0.8745098588406987]
[null,null,1.2285231536926144,0.6323216282858553,-0.8556572845700995]
[null,null,1.241058083832335,0.6127031959225505,-0.8355948505796706]
[null,null,1.2535930139720557,0.592699701058912,-0.8143509242206923]
[null,null,1.2661279441117763,0.5723237151908925,-0.7919555434198623]
[null,null,1.278662874251497,0.551588043911995,-0.7684403742070619]
[null,null,1.2911978043912176,0.5305057188654064,-0.7438386659410576]
[null,null,1.3037327345309382,0.5090899895540661,-0.7181852042964492]
[null,null,1.3162676646706588,0.48735431501381726,-0.6915162620783389]
[null,null,1.3288025948103794,0.4653123553548739,-0.6638695479342686]
[null,null,1.3413375249501,0.4429779631769206,-0.6352841530359402]
[null,null,1.3538724550898207,0.4203651748632384,-0.6058004958061095]
[null,null,1.3664073852295413,0.3974882017593295,-0.5754602647688145]
[null,null,1.378942315369262,0.37436142124158445,-0.5443063596037335]
[null,null,1.3914772455089826,0.3509993676816045,-0.5123828304880277]
[null,null,1.4040121756487032,0.3274167233118582,-0.4797348158114345]
[null,null,1.4165471057884238,0.30362830899841237,-0.4464084783526745]
[null,null,1.4290820359281444,0.27964907492653696,-0.4124509400074279]
[null,null,1.441616966067865,0.25549409120503697,-0.37791021516015677]
[null,null,1.4541518962075857,0.23117853839521732,-0.3428351427939899]
[null,null,1.4666868263473063,0.20671769797043113,-0.30727531743466996]
[null,null,1.479221756487027,0.18212694271220942,-0.27128101902619123]
[null,null,1.4917566866267475,0.157421727049006,-0.23490314183729102]
[null,null,1.5042916167664682,0.13261757734363055,-0.1981931224993148]
[null,null,1.5168265469061888,0.10773008213547342,-0.1612028672772014]
[null,null,1.5293614770459094,0.0827748823436544,-0.12398467867643657]
[null,null,1.54189640718563,0.05776766143725303,-0.08659118148973333]
[null,null,1.5544313373253507,0.0327241355787974,-0.049075248388012666]
[null,null,1.5669662674650713,0.007660043747206522,-0.011489925160904213]
[null,null,1.579501197604792,-0.01740886215360677,0.02611164428754392]
[null,null,1.5920361277445125,-0.04246682719425573,0.06367629308188005]
[null,null,1.6045710578842332,-0.06749810332130103,0.10115090655074438]
[null,null,{"$f":"C132+0.0001","v":1.6171059880239538},-0.09248695925435088,0.1384824973285546]
[null,null,1.6296409181636744,-0.1174176903726197,0.17561828027717838]
[null,null,1.642175848303395,-0.1422746285847324,0.21250574712167336]
[null,null,1.6547107784431156,-0.16704215217557095,0.24909274069455556]
[null,null,1.6672457085828363,-0.1917046956239753,0.28532752868361017]
[null,null,1.679780638722557,-0.21624675938512827,0.32115887677898547]
[null,null,1.6923155688622775,-0.24065291963147667,0.3565361211161302]
[null,null,1.7048504990019981,-0.26490783794606665,0.39140923991214754]
[null,null,1.7173854291417188,-0.28899627096220165,0.42572892419428]
[null,null,1.7299203592814394,{"$f":"SIN(2*t)","v":-0.31290307994336447},{"$f":"COS(3*t)","v":0.4594466475205048}]
[null,null,1.74245528942116,-0.336613240297383,0.49251473459367556]
[null,null,1.7549902195608806,-0.36011185101886023,0.5248864286721835]
[null,null,1.7675251497006013,-0.3833841440539342,0.556515957681817]
[null,null,1.7800600798403219,-0.4064154935814826,0.5873585989353557]
[null,null,1.7925950099800425,-0.42919142520493936,0.6173707423683742]
[null,null,1.8051299401197631,-0.4516976250489457,0.6465099522018516]
[null,null,1.8176648702594838,-0.4739199487551195,0.6747350269443965]
[null,null,1.8301998003992044,-0.4958444303712895,0.7020060576492418]
[null,null,1.842734730538925,-0.5174572911286066,0.7282844843436468]
[null,null,1.8552696606786456,-0.538744948101018,0.7535331505509117]
[null,null,1.8678045908183663,-0.5596940227416602,0.7777163558279095]
[null,null,1.8803395209580869,-0.5802913492908075,0.8007999062438589]
[null,null,1.8928744510978075,-0.6005239830500901,0.8227511627289563]
[null,null,1.9054093812375281,-0.6203792085177849,0.8435390872245069]
[null,null,1.9179443113772487,-0.6398445473800619,0.8631342865693014]
[null,null,1.9304792415169694,-0.6589077663531682,0.8815090540601803]
[null,null,1.94301417165669,-0.6775568848716176,0.8986374086280291]
[null,null,1.9555491017964106,-0.6957801826175573,0.9144951315738061]
[null,null,1.9680840319361312,-0.7135662068865766,0.9290598008126573]
[null,null,1.9806189620758519,-0.7309037797853306,0.9423108225777057]
[null,null,1.9931538922155725,-0.7477820052564552,0.9542294605386834]
[null,null,2.0056888223552933,-0.7641902759263569,0.9647988622942326]
[null,null,2.0182237524950137,-0.7801182797715751,0.9740040832004199]
[null,null,2.030758682634734,-0.7955560065995297,0.9818321075017702]
[null,null,2.0432936127744545,-0.8104937543395747,0.9882718667349413]
[null,null,2.055828542914175,-0.8249221351404105,0.9933142553790169]
[null,null,2.0683634730538953,-0.8388320812700195,0.9969521437302918]
[null,null,2.0808984031936157,-0.8522148508144183,0.9991803879833422]
[null,null,2.093433333333336,-0.8650620331716441,0.9999958375041275]
[null,null,2.1059682634730565,-0.877365554337524,0.9993973392848412]
[null,null,2.118503193612777,-0.8891176819799033,0.9973857395742106]
[null,null,2.1310381237524973,-0.9003110302981457,0.9939638826809398]
[null,null,2.1435730538922178,-0.910938564664851,0.9891366069519895]
[null,null,2.156107984031938,-0.9209936060468705,0.9829107379313786]
[null,null,2.1686429141716586,-0.9304698352028469,0.9752950787091816]
[null,null,2.181177844311379,-0.9393612966546354,0.9663003974743676]
[null,null,2.1937127744510994,-0.9476624024301135,0.9559394122890797]
[null,null,2.2062477045908198,-0.9553679355750253,0.9442267731058864]
[null,null,2.21878263473054,-0.9624730534316552,0.9311790410534265]
[null,null,2.2313175648702606,-0.9689732906822683,0.916814665019742]
[null,null,2.243852495009981,-0.9748645621554062,0.9011539555664058]
[null,null,2.2563874251497014,-0.9801431653932738,0.8842190562103298]
[null,null,2.2689223552894218,-0.9848057829786057,0.8660339121138585]
[null,null,2.281457285429142,-0.9888494846195449,0.84662423622742]
[null,null,2.2939922155688626,-0.9922717289912302,0.8260174729326066]
[null,null,2.306527145708583,-0.9950703653329289,0.8042427592370919]
[null,null,2.3190620758483034,-0.9972436347997151,0.781330883576253]
[null,null,2.3315970059880238,-0.9987901715678421,0.757314242279751]
[null,null,2.344131936127744,-0.9997090036931142,0.7322267937646229]
[null,null,2.3566668662674646,-0.9999995537217206,0.706104010519655]
[null,null,2.369201796407185,-0.9996616390531438,0.6789828289489285]
[null,null,2.3817367265469054,-0.9986954720549185,0.6509015971454573]
[null,null,2.394271656686626,-0.9971016599291658,0.6219000206687623]
[null,null,2.406806586826346,-0.9948812043309875,0.5920191064030523]
[null,null,{"$f":"C196+0.0001","v":2.4193415169660666},-0.9920355007389616,0.5613011045753912]
[null,null,2.431876447105787,-0.9885663375781326,0.5297894490158356]
[null,null,2.4444113772455074,-0.9844758950960486,0.49752869574401426]
[null,null,2.456946307385228,-0.9797667439925528,0.4645644599689819]
[null,null,2.469481237524948,-0.9744418438041882,0.4309433515914293]
[null,null,2.4820161676646686,-0.9685045410442328,0.39671290929944536]
[null,null,2.494551097804389,-0.9619585670995328,0.36192153335101623]
[null,null,2.5070860279441094,-0.954808035885457,0.3266184171383055]
[null,null,2.51962095808383,-0.9470574412604454,0.2908534776304787]
[null,null,2.53215588822355,{"$f":"SIN(2*t)","v":-0.9387116542017756},{"$f":"COS(3*t)","v":0.2546772847934241}]
[null,null,2.5446908183632706,-0.9297759197443248,0.21814099008616572]
[null,null,2.557225748502991,-0.9202558536842494,0.18129625413507267]
[null,null,2.5697606786427114,-0.910157439049653,0.14419517368812898]
[null,null,2.582295608782432,-0.8994870223404631,0.10689020795254808]
[null,null,2.594830538922152,-0.8882513095398785,0.06943410441988646]
[null,null,2.6073654690618726,-0.8764573618998935,0.03187982428353672]
[null,null,2.619900399201593,-0.8641125915035479,-0.005719532445943725]
[null,null,2.6324353293413134,-0.8512247566066931,-0.04331080202178522]
[null,null,2.644970259481034,-0.8378019567621994,-0.08084083213207831]
[null,null,2.657505189620754,-0.8238526277296712,-0.11825655705467787]
[null,null,2.6700401197604746,-0.8093855361738672,-0.15550507268967248]
[null,null,2.682575049900195,-0.7944097741551588,-0.19253371136333355]
[null,null,2.6951099800399154,-0.7789347534154885,-0.22929011629774956]
[null,null,2.707644910179636,-0.7629701994634193,-0.26572231564090465]
[null,null,2.7201798403193562,-0.7465261454619943,-0.3017787959524404]
[null,null,2.7327147704590766,-0.7296129259232438,-0.337408575041299]
[null,null,2.745249700598797,-0.7122411702133074,-0.37256127405215]
[null,null,2.7577846307385174,-0.694421795872249,-0.40718718869878234]
[null,null,2.770319560878238,-0.6761660017527658,-0.4412373595436336]
[null,null,2.7828544910179582,-0.6574852609821011,-0.47466364122419]
[null,null,2.7953894211576786,-0.6383913137515859,-0.5074187705282713]
[null,null,2.807924351297399,-0.6188961599383397,-0.5394564332220456]
[null,null,2.8204592814371194,-0.599012051563768,-0.5707313295361837]
[null,null,2.83299421157684,-0.5787514850935963,-0.6011992382176562]
[null,null,2.8455291417165602,-0.5581271935842784,-0.6308170790565114]
[null,null,2.8580640718562806,-0.5371521386807169,-0.659542973799317]
[null,null,2.870599001996001,-0.5158395024703228,-0.687336305363046]
[null,null,2.8831339321357214,-0.4942026791985361,-0.7141577752657702]
[null,null,2.895668862275442,-0.47225526685101066,-0.7399694591928705]
[null,null,2.9082037924151622,-0.450011058607757,-0.7647348606202788]
[null,null,2.9207387225548826,-0.42748403417461167,-0.7884189624188518]
[null,null,2.933273652694603,-0.40468835099748157,-0.8109882763669853]
[null,null,2.9458085828343235,-0.38163833536488534,-0.83241089050139]
[null,null,2.958343512974044,-0.3583484734043823,-0.8526565142391437]
[null,null,2.9708784431137643,-0.33483340197854905,-0.871696521207155]
[null,null,2.9834133732534847,-0.3111078994862238,-0.8895039897185427]
[null,null,2.995948303393205,-0.28718687657480013,-0.9060537408386383]
[null,null,3.0084832335329255,-0.2630853667694076,-0.9213223739868449]
[null,null,3.021018163672646,-0.23881851702486734,-0.9352883000239612]
[null,null,3.0335530938123663,-0.21440157820636185,-0.9479317717782341]
[null,null,3.0460880239520867,-0.18984989550480008,-0.9592349119669333]
[null,null,3.058622954091807,-0.1651788987929024,-0.9691817384740102]
[null,null,3.0711578842315275,-0.140404092928066,-0.9777581869480595]
[null,null,3.083692814371248,-0.11554104800810515,-0.9849521306886675]
[null,null,3.0962277445109683,-0.09060538958598983,-0.9907533977929984]
[null,null,3.1087626746506887,-0.06561278884973308,-0.9951537855383976]
[null,null,3.121297604790409,-0.04057895277359811,-0.9981470719806576]
[null,null,3.1338325349301295,-0.015519614246815083,-0.999729024751561]
[null,null,3.14636746506985,0.009549477813988757,-0.9998974070432518]
[null,null,3.1589023952095703,0.03461256836243163,-0.998651980770978]
[null,null,3.1714373253492907,0.05965390612387208,-0.9959945069097331]
[null,null,3.183972255489011,0.08465775349453346,-0.9919287430043178]
[null,null,3.1965071856287315,0.10960839643203671,-0.9864604378563478]
[null,null,3.209042115768452,0.13449015433112568,-0.9795973233957124]
[null,null,{"$f":"C260+0.0001","v":3.2215770459081723},0.15928738987837834,-0.9713491037479874]
[null,null,3.2341119760478927,0.18398451887971062,-0.9617274415132477]
[null,null,3.246646906187613,0.20856602005449662,-0.9507459412756964]
[null,null,3.2591818363273335,0.2330164447901498,-0.9384201303674076]
[null,null,3.271716766467054,0.25732042685103507,-0.9247674369134062]
[null,null,3.2842516966067743,0.2814626920356097,-0.9098071651890989]
[null,null,3.2967866267464947,0.3054280677757239,-0.8935604683249337]
[null,null,3.309321556886215,0.3292014926720487,-0.8760503183968436]
[null,null,3.3218564870259355,0.3527680259596379,-0.8573014739448082]
[null,null,3.334391417165656,{"$f":"SIN(2*t)","v":0.3761128568976756},{"$f":"COS(3*t)","v":-0.8373404449654135}]
[null,null,3.3469263473053763,0.39922131407750794,-0.8161954554279606]
[null,null,3.3594612774450967,0.4220788746431098,-0.7938964033670661]
[null,null,3.371996207584817,0.4446711734181911,-0.7704748186082444]
[null,null,3.3845311377245375,0.46698401193420713,-0.745963818186179]
[null,null,3.397066067864258,0.48900336735359845,-0.7203980595187897]
[null,null,3.4096009980039783,0.5107154012826535,-0.6938136914032318]
[null,null,3.4221359281436987,0.5321064684684541,-0.6662483029031929]
[null,null,3.434670858283419,0.5531631253744396,-0.6377408701996798]
[null,null,3.4472057884231395,0.5738721386291978,-0.608331701480527]
[null,null,3.45974071856286,0.5942204933431767,-0.5780623799464665]
[null,null,3.4722756487025803,0.6141954012880855,-0.5469757050144332]
[null,null,3.4848105788423007,0.633784308933849,-0.5151156318011504]
[null,null,3.497345508982021,0.6529749053380612,-0.4825272089726578]
[null,null,3.5098804391217415,0.671755129882982,-0.44925651504756153]
[null,null,3.522415369261462,0.6901131798552125,-0.41535059324417106]
[null,null,3.5349502994011823,0.7080375178632868,-0.38085738496354493]
[null,null,3.5474852295409027,0.7255168790885195,-0.3458256620025982]
[null,null,3.560020159680623,0.7425402783645487,-0.31030495759301757]
[null,null,3.5725550898203435,0.7590970170811289,-0.2743454963635952]
[null,null,3.585090019960064,0.7751766899078324,-0.23799812332490602]
[null,null,3.5976249500997843,0.7907691913334355,-0.20131423197684772]
[null,null,3.6101598802395047,0.8058647220168784,-0.16434569164058782]
[null,null,3.622694810379225,0.8204537949458073,-0.12714477411777664]
[null,null,3.6352297405189455,0.8345272413988299,-0.08976407978061594]
[null,null,3.647764670658666,0.8480762167077358,-0.05225646319740006]
[null,null,3.6602996007983863,0.86109220581606,-0.01467495839857915]
[null,null,3.6728345309381067,0.8735670286304986,0.02292729611087211]
[null,null,3.685369461077827,0.8854928451618103,0.060497132486864655]
[null,null,3.6979043912175475,0.8968621604519751,0.09798142872303256]
[null,null,3.710439321357268,0.9076678292845133,0.13532718376281494]
[null,null,3.7229742514969884,0.9179030606750035,0.17248159244046368]
[null,null,3.7355091816367088,0.9275614221389787,0.20939212014512726]
[null,null,3.748044111776429,0.9366368437345173,0.24600657710232612]
[null,null,3.7605790419161496,0.9451236218769888,0.2822731921679014]
[null,null,3.77311397205587,0.9530164229235578,0.31814068602998435]
[null,null,3.7856489021955904,0.9603102865251909,0.3535583437155926]
[null,null,3.7981838323353108,0.9670006287440627,0.3884760862992228]
[null,null,3.810718762475031,0.9730832449344,0.42284454171215613]
[null,null,3.8232536926147516,0.9785543123849548,0.456615114552247]
[null,null,3.835788622754472,0.9834103927214439,0.4897400547955944]
[null,null,3.8483235528941924,0.9876484340674474,0.5221725253128356]
[null,null,3.8608584830339128,0.9912657729624053,0.5538666680947002]
[null,null,3.873393413173633,0.9942601360355098,0.5847776690930839]
[null,null,3.8859283433133536,0.9966296414344391,0.6148618215860586]
[null,null,3.898463273453074,0.9983728000080356,0.6440765879771265]
[null,null,3.9109982035927944,0.9994885162421855,0.6723806599414321]
[null,null,3.9235331337325148,0.9999760889483102,0.6997340168337957]
[null,null,3.936068063872235,0.9998352117040404,0.7260979822760706]
[null,null,3.9486029940119556,0.9990659730457898,0.7514352788437284]
[null,null,3.961137924151676,0.9976688564131149,0.7757100807744278]
[null,null,3.9736728542913964,0.9956447398448888,0.7988880646239627]
[null,null,3.986207784431117,0.9929948954274854,0.8209364577980379]
[null,null,3.998742714570837,0.9897209884953173,0.8418240848911813]
[null,null,4.011277644710558,0.9858250765842314,0.8615214117673373]
[null,null,{"$f":"C324+0.0001","v":4.023812574850278},0.9813096081384199,0.88000058731975]
[null,null,4.036347504989998,0.9761774209716586,0.8972354828511514]
[null,null,4.048882435129719,0.9704317404838407,0.9132017290185143]
[null,null,4.061417365269439,0.9640761776339256,0.9278767502901852]
[null,null,4.07395229540916,0.9571147266705776,0.9412397968666278]
[null,null,4.08648722554888,0.9495517626219209,0.9532719740196882]
[null,null,4.0990221556886,0.9413920385459872,0.9639562688088541]
[null,null,4.111557085828321,0.9326406825435858,0.973277574136773]
[null,null,4.124092015968041,0.9233031945354709,0.9812227101099787]
[null,null,4.136626946107762,{"$f":"SIN(2*t)","v":0.9133854428058351},{"$f":"COS(3*t)","v":0.9877804426746574}]
[null,null,4.149161876247482,0.9028936603142974,0.9929414995010718]
[null,null,4.161696806387202,0.8918344407787069,0.9966985830942111]
[null,null,4.174231736526923,0.880214734531222,0.9990463811121063]
[null,null,4.186766666666643,0.8680418441502696,0.999981573877238]
[null,null,4.199301596806364,0.8553234198711314,0.999502839070405]
[null,null,4.211836526946084,0.8420674547780372,0.9976108536004233]
[null,null,4.224371457085804,0.8282822797807935,0.9943082926470082]
[null,null,4.236906387225525,0.8139765583790967,0.9895998258781928]
[null,null,4.249441317365245,0.7991592812178278,0.9834921108476372]
[null,null,4.261976247504966,0.7838397604367469,0.9759937835811522]
[null,null,4.274511177644686,0.7680276238181392,0.9671154463657637]
[null,null,4.287046107784406,0.7517328087360915,0.9568696527585657]
[null,null,4.299581037924127,0.7349655559112003,0.9452708898365786]
[null,null,4.312115968063847,0.7177364029746373,0.9323355577126866]
[null,null,4.324650898203568,0.7000561778456178,0.918081946346648]
[null,null,4.337185828343288,0.6819359919264325,0.9025302096839294]
[null,null,4.349720758483008,0.6633872331193201,0.8857023371589733]
[null,null,4.362255688622729,0.64442155866957,0.867622122603145]
[null,null,4.374790618762449,0.6250508878393511,0.8483151306013715]
[null,null,4.38732554890217,0.6052873944168742,0.8278086603449908]
[null,null,4.39986047904189,0.585143499065591,0.8061317070319747]
[null,null,4.41239540918161,0.5646318615182437,0.7833149208690491]
[null,null,4.424930339321331,0.543765372620665,0.759390563733739]
[null,null,4.437465269461051,0.5225571462303336,0.7343924635575527]
[null,null,4.450000199600772,0.501020510974774,0.7083559664948733]
[null,null,4.462535129740492,0.47916900187498057,0.6813178869451169]
[null,null,4.4750700598802124,0.4570163518391317,0.6533164554988984]
[null,null,4.487604990019933,0.4345764830319371,0.6243912648817292]
[null,null,4.500139920159653,0.4118634981250451,0.5945832139717607]
[null,null,4.512674850299374,0.38889167143400766,0.5639344499706447]
[null,null,4.525209780439094,0.36567543994737295,0.532488308809368]
[null,null,4.5377447105788145,0.34222939425354326,0.5002892538732324]
[null,null,4.550279640718535,0.3185682693711018,0.4673828131327132]
[null,null,4.562814570858255,0.2947069354883689,0.4338155147689965]
[null,null,4.575349500997976,0.27066038861801,0.39963482138531314]
[null,null,4.587884431137696,0.24644374117256665,0.36488906289699374]
[null,null,4.6004193612774165,0.22207221246683448,0.32962736819523525]
[null,null,4.612954291417137,0.1975611191530569,0.2938995956811011]
[null,null,4.625489221556857,0.17292586559494566,0.25775626276808067]
[null,null,4.638024151696578,0.14818193418657757,0.22124847445278248]
[null,null,4.650559081836298,0.12334487562225228,0.18442785105486625]
[null,null,4.6630940119760185,0.09843029912342541,0.1473464552282771]
[null,null,4.675628942115739,0.07345386262885953,0.1100567183470951]
[null,null,4.688163872255459,0.04843126295415803,0.07261136636997584]
[null,null,4.70069880239518,0.023378225926866336,0.035063345288118046]
[null,null,4.7132337325349,-1.6895034966600644E-3,-2.5342537379407643E-3]
[null,null,4.7257686626746205,-0.02675617112640919,-0.04012826944673495]
[null,null,4.738303592814341,-0.05180602343966927,-0.0776655456434575]
[null,null,4.750838522954061,-0.07682331748156603,-0.11509300636032604]
[null,null,4.763373453093782,-0.10179233075895848,-0.15235773090356824]
[null,null,4.775908383233502,-0.12669737112147522,-0.1894070286808004]
[null,null,4.7884433133732225,-0.15152278662348134,-0.2261885137031097]
[null,null,4.800978243512943,-0.1762529753607782,-0.2626501786563851]
[null,null,4.813513173652663,-0.2008723952758536,-0.2987404684372758]
[null,null,{"$f":"C388+0.0001","v":4.826048103792384},-0.22536557392552076,-0.3344083530496886]
[null,null,4.838583033932104,-0.24971711820480702,-0.3696033997588632]
[null,null,4.8511179640718245,-0.273911724020981,-0.40427584440089376]
[null,null,4.863652894211545,-0.29793418591163917,-0.4383766617469752]
[null,null,4.876187824351265,-0.3217694066008062,-0.471857634822777]
[null,null,4.888722754490986,-0.34540240648704434,-0.5046714230850348]
[null,null,4.901257684630706,-0.36881833305760814,-0.5367716293588576]
[null,null,4.9137926147704265,-0.39200247022272877,-0.5681128654412066]
[null,null,4.926327544910147,-0.4149402475641608,-0.5986508162776852]
[null,null,4.938862475049867,{"$f":"SIN(2*t)","v":-0.43761724949218},{"$f":"COS(3*t)","v":-0.6283423026219939}]
[null,null,4.951397405189588,-0.4600192243052763,-0.6571453420893595]
[null,null,4.963932335329308,-0.4821320931468495,-0.6850192085177031]
[null,null,4.9764672654690285,-0.5039419588532772,-0.7119244895525224]
[null,null,4.989002195608749,-0.5254351146877957,-0.7378231423741539]
[null,null,5.001537125748469,-0.5465980529547034,-0.7626785474885365]
[null,null,5.01407205588819,-0.5674174734884758,-0.7864555605054961]
[null,null,5.02660698602791,-0.5878802920124521,-0.8091205618312662]
[null,null,5.0391419161676305,-0.6079736483618459,-0.830641504205051]
[null,null,5.051676846307351,-0.627684914565908,-0.8509879580123496]
[null,null,5.064211776447071,-0.6470017027841642,-0.870131154311036]
[null,null,5.076746706586792,-0.6659118730917386,-0.8880440255092937]
[null,null,5.089281636726512,-0.6844035411088711,-0.9047012436379495]
[null,null,5.1018165668662325,-0.7024650854698349,-0.9200792561630339]
[null,null,5.114351497005953,-0.7200851551265566,-0.9341563192879848]
[null,null,5.126886427145673,-0.7372526764823532,-0.9469125286983555]
[null,null,5.139421357285394,-0.7539568603512993,-0.9583298477056031]
[null,null,5.151956287425114,-0.7701872087388533,-0.9683921327501201]
[null,null,5.1644912175648345,-0.7859335214394781,-0.9770851562274873]
[null,null,5.177026147704555,-0.8011859024471146,-0.9843966266056394]
[null,null,5.189561077844275,-0.8159347661744736,-0.9903162058045277]
[null,null,5.202096007983996,-0.830170843477242,-0.9948355238136807]
[null,null,5.214630938123716,-0.843885187479416,-0.9979481905270146]
[null,null,5.2271658682634365,-0.8570691791960988,-0.9996498047781441]
[null,null,5.239700798403157,-0.8697145329502308,-0.9999379605634297]
[null,null,5.252235728542877,-0.8818133015798474,-0.9988122504439539]
[null,null,5.264770658682598,-0.8933578814325921,-0.9962742661216215]
[null,null,5.277305588822318,-0.9043410171443459,-0.9923275961885674]
[null,null,5.2898405189620386,-0.9147558061989691,-0.9869778210530517]
[null,null,5.302375449101759,-0.9245957032662911,-0.9802325050490248]
[null,null,5.314910379241479,-0.9338545243156215,-0.9721011857405055]
[null,null,5.3274453093812,-0.9425264505021965,-0.9625953604359129]
[null,null,5.33998023952092,-0.9506060318241188,-0.9517284699313994]
[null,null,5.352515169660641,-0.9580881905474937,-0.9395158795061954]
[null,null,5.365050099800361,-0.9649682243976062,-0.9259748571968088]
[null,null,5.377585029940081,-0.9712418095141365,-0.9111245493808316]
[null,null,5.390119960079802,-0.9769050031685544,-0.8949859537048395]
[null,null,5.402654890219522,-0.9819542462419867,-0.8775818893947042]
[null,null,5.415189820359243,-0.9863863654619978,-0.8589369649902548]
[null,null,5.427724750498963,-0.9901985753968813,-0.8390775435499566]
[null,null,5.440259680638683,-0.9933884802062055,-0.8180317053747543]
[null,null,5.452794610778404,-0.9959540751465159,-0.7958292083038448]
[null,null,5.465329540918124,-0.9978937478312455,-0.7725014456384557]
[null,null,5.477864471057845,-0.999206279244044,-0.7480814017531903]
[null,null,5.490399401197565,-0.9998908445048863,-0.722603605457634]
[null,null,5.502934331337285,-0.999947013388481,-0.6961040811742373]
[null,null,5.515469261477006,-0.9993747505946521,-0.6686202980014336]
[null,null,5.528004191616726,-0.9981744157705232,-0.6401911167340919]
[null,null,5.540539121756447,-0.9963467632844931,-0.6108567349161339]
[null,null,5.553074051896167,-0.9938929417521404,-0.5806586300030927]
[null,null,5.565608982035887,-0.9908144933143596,-0.5496395007148921]
[null,null,5.578143912175608,-0.9871133526681792,-0.5178432066618596]
[null,null,5.590678842315328,-0.9827918458508731,-0.48531470632924745]
[null,null,5.603213772455049,-0.9778526887781264,-0.4520999935080441]
[null,null,5.615748702594769,-0.9722989855371784,-0.4182460322618616]
[null,null,{"$f":"C452+0.0001","v":5.628283632734489},-0.9661342264360124,-0.3838006905219529]
[null,null,5.64081856287421,-0.9593622858098192,-0.34881267240415137]
[null,null,5.65335349301393,-0.951987419586113,-0.31333144934353546]
[null,null,5.665888423153651,-0.9440142626100304,-0.2774071901440875]
[null,null,5.678423353293371,-0.9354478257314921,-0.24109069004235795]
[null,null,5.690958283433091,-0.9262934926560596,-0.20443329888532968]
[null,null,5.703493213572812,-0.9165570165614646,-0.16748684852414286]
[null,null,5.716028143712532,-0.9062445164819383,-0.13030357952623356]
[null,null,5.728563073852253,-0.8953624734626127,-0.09293606730962178]
[null,null,5.741098003991973,{"$f":"SIN(2*t)","v":-0.8839177264864106},{"$f":"COS(3*t)","v":-0.0554371478036806}]
[null,null,5.753632934131693,-0.871917468175985,-0.01785984274161038]
[null,null,5.766167864271414,-0.8593692402734066,0.01974271530986138]
[null,null,5.778702794411134,-0.8462809289004437,0.05731735807743708]
[null,null,5.791237724550855,-0.8326607596024109,0.0948109567587502]
[null,null,5.803772654690575,-0.8185172921787018,0.13217049714399962]
[null,null,5.816307584830295,-0.8038594153032548,0.16934315457561216]
[null,null,5.828842514970016,-0.7886963409383327,0.2062763686398304]
[null,null,5.841377445109736,-0.7730375985451277,0.2429179174847284]
[null,null,5.853912375249457,-0.7568930290948276,0.27921599165946065]
[null,null,5.866447305389177,-0.7402727788839115,0.3151192673704506]
[null,null,5.878982235528897,-0.7231872931575568,0.35057697905082735]
[null,null,5.891517165668618,-0.7056473095451686,0.38553899114060985]
[null,null,5.904052095808338,-0.687663851312156,0.4199558689760373]
[null,null,5.916587025948059,-0.6692482204321955,0.45377894868791735]
[null,null,5.929121956087779,-0.6504119904843364,0.48696040601005436]
[null,null,5.941656886227499,-0.6311669993794122,0.5194533239005698]
[null,null,5.95419181636722,-0.6115253419203275,0.5512117588803981]
[null,null,5.96672674650694,-0.5914993622008983,0.5821908059952609]
[null,null,5.979261676646661,-0.5711016458480216,0.612346662309165]
[null,null,5.991796606786381,-0.5503450121120492,0.6416366888397468]
[null,null,6.004331536926101,-0.5292425058103382,0.6700194708477923]
[null,null,6.016866467065822,-0.5078073891290399,0.6974548763957807]
[null,null,6.029401397205542,-0.48605313328828037,0.7239041130925611]
[null,null,6.041936327345263,-0.4639934100759705,0.7493297829440155]
[null,null,6.054471257484983,-0.4416420832555659,0.7736959352320681]
[null,null,6.0670061876247035,-0.41901319985317736,0.7969681173473527]
[null,null,6.079541117764424,-0.3961209813295066,0.8191134235035864]
[null,null,6.092076047904144,-0.3729798146421566,0.8401005412648426]
[null,null,6.104610978043865,-0.34960424320393235,0.8598997958198668]
[null,null,6.117145908183585,-0.32600895774281546,0.8784831919408996]
[null,null,6.1296808383233055,-0.3022087870693559,0.8958244535676155]
[null,null,6.142215768463026,-0.27821868875728417,0.9118990609602672]
[null,null,6.154750698602746,-0.25405373974319984,0.926684285369448]
[null,null,6.167285628742467,-0.229729126851245,0.9401592211735013]
[null,null,6.179820558882187,-0.2052601372487173,0.9523048154380891]
[null,null,6.1923554890219075,-0.1806621488386205,0.9631038948561675]
[null,null,6.204890419161628,-0.155950620595191,0.9725411900302379]
[null,null,6.217425349301348,-0.1311410828484741,0.9806033570625741]
[null,null,6.229960279441069,-0.10624912752405541,0.9872789964228686]
[null,null,6.242495209580789,-0.08129039834408164,0.9925586690666459]
[null,null,6.2550301397205095,{"$f":"Sheet1!Y1002","v":0},{"$f":"Sheet1!Z1002","v":0}]
[null,null,6.26756506986023,{"$f":"Sheet1!Y1003","v":0},{"$f":"Sheet1!Z1003","v":0}]
[null,null,6.28009999999995,{"$f":"Sheet1!Y1004","v":0},{"$f":"Sheet1!Z1004","v":0}]

{"sheet":"Defining Function","index":2,"n_rows":12,"n_cols":1,"rows_kept":12}
["                                                     Defining a Function in Excel"]
[]
["Computers have very specific rules you must follow when defining a function.  If you don't, the program will either not work at all or will work incorrectly."]
[]
["1. The Variable used should be the one named in the instruction, usually x, though sometimes y, t, Q (for an angle theta), "]
[" or even x and y (for a function of two variables). "]
[]
["2.  Order of Operations:  There five arithmetic operations, addition (+), subtraction (-), multiplication (*), division (/), and  exponentiation or power (^).  When computers see any of these operation symbols, they perform the indicated steps in a very particular order.  First, the power is done.  Second, products and quotients of adjacent terms is done.  Third, and last, sums and differences of adjacent terms are done.  So, in 10*x^3 + 5*x – 7, say with x = 2, the first pass only calculates 2^3 and ignores the multiplications and the sums and differences to calculate 2^3 = 8.  The second pass looks at 10*8 + 5*2 – 7 and only does the multiplications, so it produces 80 + 10 -  7.  The third pass looks at the +’s and –‘s to produce 80 + 10 – 7 = 83.  "]
[]
["3.    Parentheses  If you need an operation involving more than two adjacent terms, as in Ö4^3 + 6^2, the computer would take the square root of  4 to produce 2^3 + 6^2;  it would then cube the 2 and square the 6 to produce 8 + 36; and finally it would add the 8 and the 36 to get 44.  If you actually wanted the square root of the entire expression, you would need to use parentheses, as in Ö(4^3 + 6^2) to tell the computer to do all the operations inside the parentheses before taking the square root.  Therefore, it would calculate (4^3 + 6^2) = 64 + 36 = 100 and then take the square root of Ö100  =  10."]
[]
["4.  Built-In Functions  Computer programs have built-in functions for most common algebraic functions.  In Excel, the square root function is denoted by SQRT(…), so SQRT(100) = 10.  Alternatively, you could enter it as 100^.5 or 100^(1/2); notice that parentheses are needed to have the ½ done first.  The common trig functions are SIN (…), COS (…), and TAN (…), where the arguments are automatically interpreted as being in radians, not degrees.  The logarithm to the base 10 is represented by LOG (…) and the logarithm with the base e, known as the natural logarithm, is LN (…). The corresponding exponential function with base e is EXP (x).  If x is the variable, then each of these would be SQRT (x), SIN (x), COS (x), TAN (x), LOG (x) (for log with base 10 ), LN (x) (for log with base e ), and EXP (x)."]

{"sheet":"Sheet3","index":3,"n_rows":0,"n_cols":0,"rows_kept":0}