{"text_format":"3","workbook":"xlsx","n_sheets":3,"sheets":["English System","Metric System","Sheet3"],"not_rendered":{"charts":4,"images":6,"defined_names":5,"comments":2},"read":"whole","date_system":"1900"}

{"sheet":"English System","index":0,"n_rows":37,"n_cols":13,"rows_kept":37,"merged":[[30,2,30,4]]}
[null,"          Projectile Motion"]
[]
[null,"This graphing utility produces the graph "]
[null,"        of the trajectory of a projectile"]
[null,"          based on any combination of"]
[null,"  initial velocity v0 and angle of elevation"]
[null," using the English system of units with feet."]
[]
["What is the initial velocity (in feet per second)?"]
[null,null,{"$f":"E10+1","v":400},null,399]
[]
[]
["   What is the angle of elevation a (in degrees)?"]
[null,null,{"$f":"E14+1","v":36},"°",35]
[]
[]
[{"$nulls":9},"Now trace a point along the path of the projectile"]
[{"$nulls":11},76]
["Click each item below for suggestions and investigations",{"$nulls":8},"t =",{"$f":"L18*Sheet3!B12","v":{"v":11.057346330254445,"d":"11.06"}},"seconds"]
[null,"   Item 1",{"$nulls":7},"x =",{"$f":"LOOKUP(K19+0.01,Sheet3!C3:C104, Sheet3!D3:D104)","v":3578.232437546124},"feet"]
[null,"   Item 2",{"$nulls":7},"y =",{"$f":"LOOKUP(L18*Sheet3!B12+0.01,Sheet3!C3:C104, Sheet3!E3:E104)","v":{"v":643.4995150904808,"d":"643.50"}},"feet"]
[null,"   Item 3",{"$nulls":7},"v =",{"$f":"-32*K19+v0*SIN(2*PI()/360*a0)","v":{"v":-118.72098165115298,"d":"-118.72"}},"ft/sec","(vertical velocity)"]
[null,"   Item 4"]
[null,"   Item 5"]
[null,"   Item 6"]
[null,"   Item 7"]
[]
[]
[]
["To access/download all the DIGMath Apps for Calculus"]
["     Click this link:",null,"DIGMath for Calculus"]
[]
["Created by:  Sheldon P. Gordon   "]
["                      Farmingdale State College    "]
["Development of this module was supported by the "]
["NSF's Division of Undergraduate Education  "]
["under grants DUE-0310123 and DUE-0442160."]

{"sheet":"Metric System","index":1,"n_rows":36,"n_cols":13,"rows_kept":36,"merged":[[29,2,29,4]]}
[null,"           Projectile Motion"]
[]
[null,"  This graphing utility produces the graph "]
[null,null,"of the trajectory of a projectile"]
[null,null,"based on any combination of"]
[null,"   initial velocity v0 and angle of elevation"]
[null,"   using the metric system of units with cm."]
[]
["What is the initial velocity (in centimeters per second)?"]
[null,null,{"$f":"10*E10","v":1230},null,123]
[]
[]
["   What is the angle of elevation a (in degrees)?"]
[null,null,{"$f":"E14+1","v":42},"°",41]
[]
[]
[{"$nulls":9},"Now trace a point along the path of the projectile"]
["Click each item below for suggestions and investigations",{"$nulls":10},41]
[null,"   Item 1",{"$nulls":7},"t =",{"$f":"L18*Sheet3!B16","v":{"v":0.6818398965180282,"d":"0.68"}},"seconds"]
[null,"   Item 2",{"$nulls":7},"x =",{"$f":"LOOKUP(K19+0.01,Sheet3!G3:G104, Sheet3!H3:H104)","v":{"v":623.2481228087399,"d":"623.25"}},"cm."]
[null,"   Item 3",{"$nulls":7},"y =",{"$f":"LOOKUP(K19+0.01,Sheet3!G3:G104, Sheet3!I3:I104)","v":{"v":333.3713645810057,"d":"333.37"}},"cm."]
[null,"   Item 4",{"$nulls":7},"v =",{"$f":"-980*K19+v00*SIN(2*PI()/360*a00)","v":{"v":154.82754723372796,"d":"154.83"}},"cm/sec","(vertical velocity)"]
[null,"   Item 5"]
[null,"   Item 6"]
[null,"   Item 7"]
[]
[]
[]
["To access/download all the DIGMath Apps for Calculus"]
["     Click this link:",null,"DIGMath for Calculus"]
[]
["Created by:  Sheldon P. Gordon   "]
["                      Farmingdale State College    "]
["Development of this module was supported by the "]
["NSF's Division of Undergraduate Education  "]
["under grants DUE-0310123 and DUE-0442160."]

{"sheet":"Sheet3","index":2,"n_rows":104,"n_cols":13,"rows_kept":104}
[null,null,"t","x","y","V","t","x","y","v",null,"t0","tfinal"]
[{"$nulls":3},"English System",{"$nulls":3},"      Metric System",{"$nulls":3},0,{"$f":"2*v0*SIN(2*PI()/360*a0)/32","v":14.694631307311829}]
[null,null,{"$f":"L3","v":0},{"$f":"v0*COS(2*PI()/360*a0)*C3","v":0},{"$f":"-(16*C3^2)+v0*SIN(2*PI()/360*a0)*C3","v":0},{"$f":"-32*C3+v0*SIN(2*PI()/360*a0)","v":235.11410091698926},{"$f":"L18","v":0},{"$f":"v00*COS(2*PI()/360*a00)*G3","v":0},{"$f":"-(490*C3^2)+v00*SIN(2*PI()/360*a00)*G3","v":0},{"$f":"-(980*$G3)+v00*SIN(2*PI()/360*a00)","v":823.0306458213956},"x:",0,0]
[null,null,{"$f":"C3+Sheet3!B$12","v":0.14549139908229533},47.08200575718582,{"$f":"-(16*C4^2)+v0*SIN(2*PI()/360*a0)*C4","v":33.868395531077965},230.45837614635582,{"$f":"G3+B$16","v":0.016630241378488494},15.20117372704244,{"$f":"-(490*$G4^2)+v00*SIN(2*PI()/360*a00)*$G4","v":13.551681487032756},806.7330092704769,null,{"$f":"v0^2/32","v":5000},0]
[null,null,{"$f":"C4+Sheet3!B$12","v":0.29098279816459066},94.16401151437164,{"$f":"IF((-(16*C5^2)+v0*SIN(2*PI()/360*a0)*C5)<0,0,-(16*C5^2)+v0*SIN(2*PI()/360*a0)*C5)","v":67.05942315153436},225.80265137572235,{"$f":"G4+B$16","v":0.03326048275697699},30.40234745408488,{"$f":"IF((-(490*G5^2)+v00*SIN(2*PI()/360*a00)*G5)<0,0,-(490*G5^2)+v00*SIN(2*PI()/360*a00)*G5)","v":26.832329344324855},790.4353727195582,null,"English System"]
[null,null,{"$f":"C5+Sheet3!B$12","v":0.43647419724688596},141.24601727155746,99.5730828613692,221.1469266050889,0.04989072413546548,45.60352118112732,39.8419435718763,774.1377361686394]
[null,null,{"$f":"C6+Sheet3!B$12","v":0.5819655963291813},188.32802302874327,131.4093746605825,216.49120183445547,0.06652096551395398,60.80469490816976,52.58052416968709,757.8400996177207]
[null,null,{"$f":"C7+Sheet3!B$12","v":0.7274569954114767},235.41002878592911,162.56829854917424,211.835477063822,0.08315120689244247,76.0058686352122,65.04807113775723,741.542463066802]
[null,null,{"$f":"C8+Sheet3!B$12","v":0.872948394493772},282.4920345431149,193.0498545271444,207.17975229318856,0.09978144827093097,91.20704236225464,77.24458447608671,725.2448265158832]
[null,null,{"$f":"C9+Sheet3!B$12","v":1.0184397935760674},329.5740403003008,222.85404259449302,202.52402752255512,0.11641168964941946,106.40821608929708,89.17006418467552,708.9471899649645]
[null,null,{"$f":"C10+Sheet3!B$12","v":1.1639311926583626},376.65604605748655,251.98086275122006,197.86830275192165,0.13304193102790796,121.60938981633952,100.82451026352369,692.6495534140458]
["delta t = ",{"$f":"(M2-L2)/101","v":0.14549139908229533},{"$f":"C11+Sheet3!B$12","v":1.309422591740658},423.73805181467236,280.4303149973255,193.2125779812882,0.14967217240639646,136.81056354338196,112.20792271263122,676.3519168631271]
[null,null,{"$f":"C12+Sheet3!B$12","v":1.4549139908229531},470.8200575718582,308.2023993328094,188.55685321065477,0.16630241378488497,152.01173727042442,123.32030153199807,660.0542803122083]
[null,null,{"$f":"C13+Sheet3!B$12","v":1.6004053899052484},517.9020633290439,335.2971157576718,183.9011284400213,0.18293265516337348,167.21291099746688,134.1616467216243,643.7566437612896]
["metric",null,{"$f":"C14+Sheet3!B$12","v":1.7458967889875436},564.9840690862297,361.71446427191256,179.24540366938785,0.199562896541862,182.41408472450934,144.73195828150983,627.4590072103708]
["delta t =",{"$f":"(M18-L18)/101","v":0.016630241378488494},{"$f":"C15+Sheet3!B$12","v":1.8913881880698389},612.0660748434155,387.45444487553186,174.5896788987544,0.2161931379203505,197.6152584515518,155.03123621165474,611.1613706594521,null,"Metric System"]
[null,null,{"$f":"C16+Sheet3!B$12","v":2.0368795871521344},659.1480806006014,412.51705756852954,169.93395412812094,0.232823379298839,212.81643217859423,165.059480512059,594.8637341085334,null,"t0","tfinal"]
[null,null,{"$f":"C17+Sheet3!B$12","v":2.18237098623443},706.2300863577873,436.90230235090564,165.2782293574875,0.24945362067732751,228.01760590563669,174.8166911827226,578.5660975576147,null,0,{"$f":"2*v00*SIN(2*PI()/360*a00)/980","v":1.679654379227338}]
[null,null,{"$f":"C18+Sheet3!B$12","v":2.3278623853167253},753.3120921149731,460.6101792226603,160.62250458685406,0.266083862055816,243.21877963267914,184.30286822364553,562.2684610066959,"x:",0,0]
[null,null,{"$f":"C19+Sheet3!B$12","v":2.4733537843990208},800.394097872159,483.6406881837934,155.9667798162206,0.28271410343430453,258.4199533597216,193.51801163482781,545.9708244557771,null,{"$f":"v00^2/980","v":1543.7755102040817},0]
[null,null,{"$f":"C20+Sheet3!B$12","v":2.6188451834813162},847.4761036293448,505.99382923430477,151.31105504558712,0.29934434481279304,273.62112708676403,202.46212141626944,529.6731879048584]
[null,null,{"$f":"C21+Sheet3!B$12","v":2.7643365825636117},894.5581093865308,527.6696023741947,146.65533027495368,0.31597458619128155,288.8223008138065,211.1351975679704,513.3755513539397]
[null,null,{"$f":"C22+Sheet3!B$12","v":2.909827981645907},941.6401151437166,548.6680076034631,141.99960550432024,0.33260482756977006,304.02347454084895,219.53724008993072,497.077914803021]
[null,null,{"$f":"C23+Sheet3!B$12","v":3.0553193807282026},988.7221209009025,568.9890449221099,137.34388073368677,0.34923506894825856,319.2246482678914,227.66824898215037,480.7802782521022]
[null,null,{"$f":"C24+Sheet3!B$12","v":3.200810779810498},1035.8041266580883,588.6327143301351,132.6881559630533,0.3658653103267471,334.42582199493387,235.52822424462937,464.4826417011835]
[null,null,{"$f":"C25+Sheet3!B$12","v":3.3463021788927936},1082.8861324152742,607.5990158275388,128.03243119241986,0.3824955517052356,349.6269957219763,243.1171658773677,448.1850051502648]
[null,null,{"$f":"C26+Sheet3!B$12","v":3.491793577975089},1129.9681381724602,625.8879494143209,123.37670642178641,0.3991257930837241,364.8281694490188,250.4350738803654,431.887368599346]
[null,null,{"$f":"C27+Sheet3!B$12","v":3.6372849770573845},1177.0501439296459,643.4995150904815,118.72098165115295,0.4157560344622126,380.0293431760612,257.4819482536225,415.58973204842727]
[null,null,{"$f":"C28+Sheet3!B$12","v":3.78277637613968},1224.1321496868318,660.4337128560204,114.0652568805195,0.4323862758407011,395.23051690310365,264.25778899713885,399.29209549750857]
[null,null,{"$f":"C29+Sheet3!B$12","v":3.9282677752219755},1271.2141554440177,676.6905427109378,109.40953210988604,0.4490165172191896,410.43169063014614,270.76259611091456,382.9944589465898]
[null,null,{"$f":"C30+Sheet3!B$12","v":4.0737591743042705},1318.2961612012034,692.2700046552337,104.7538073392526,0.4656467585976781,425.63286435718857,276.9963695949496,366.69682239567106]
[null,null,{"$f":"C31+Sheet3!B$12","v":4.2192505733865655},1365.378166958389,707.172098688908,100.09808256861916,0.48227699997616663,440.83403808423105,282.959109449244,350.39918584475237]
[null,null,{"$f":"C32+Sheet3!B$12","v":4.3647419724688605},1412.4601727155748,721.3968248119606,95.44235779798572,0.49890724135465514,456.0352118112735,288.6508156737978,334.1015492938336]
[null,null,{"$f":"C33+Sheet3!B$12","v":4.510233371551156},1459.5421784727605,734.9441830243918,90.78663302735228,0.5155374827331436,471.23638553831586,294.0714882686109,317.8039127429149]
[null,null,{"$f":"C34+Sheet3!B$12","v":4.655724770633451},{"$f":"v0*COS(2*PI()/360*a0)*C35","v":1506.6241842299462},747.8141733262014,{"$f":"-32*C35+v0*SIN(2*PI()/360*a0)","v":86.13090825671884},0.532167724111632,{"$f":"v00*COS(2*PI()/360*a00)*G35","v":486.4375592653583},299.2211272336833,{"$f":"-(980*$G35)+v00*SIN(2*PI()/360*a00)","v":301.5062761919962}]
[null,null,{"$f":"C35+Sheet3!B$12","v":4.801216169715746},1553.706189987132,760.0067957173894,81.4751834860854,0.5487979654901205,501.63873299240066,304.09973256901503,285.2086396410775]
[null,null,{"$f":"C36+Sheet3!B$12","v":4.946707568798041},1600.7881957443176,{"$f":"IF((-(16*C37^2)+v0*SIN(2*PI()/360*a0)*C37)<0,0,-(16*C37^2)+v0*SIN(2*PI()/360*a0)*C37)","v":771.522050197956},76.81945871545196,0.565428206868609,516.8399067194431,{"$f":"IF((-(490*G37^2)+v00*SIN(2*PI()/360*a00)*G37)<0,0,-(490*G37^2)+v00*SIN(2*PI()/360*a00)*G37)","v":308.70730427460626},268.91100309015883]
[null,null,{"$f":"C37+Sheet3!B$12","v":5.092198967880336},1647.8702015015035,782.359936767901,72.16373394481852,0.5820584482470974,532.0410804464855,313.04384235045666,252.61336653924013]
[null,null,{"$f":"C38+Sheet3!B$12","v":5.237690366962631},1694.9522072586892,792.5204554272243,67.50800917418508,0.5986886896255859,547.2422541735278,317.1093467965665,236.31572998832155]
[null,null,{"$f":"C39+Sheet3!B$12","v":5.383181766044926},1742.034213015875,802.0036061759262,62.852284403551636,0.6153189310040743,562.4434279005703,320.90381761293565,220.01809343740285]
[null,null,{"$f":"C40+Sheet3!B$12","v":5.528673165127221},1789.1162187730606,810.8093890140062,58.196559632918195,0.6319491723825628,577.6446016276127,324.4272547995642,203.72045688648416]
[null,null,{"$f":"C41+Sheet3!B$12","v":5.674164564209516},1836.1982245302463,818.937803941465,53.540834862284754,0.6485794137610512,592.8457753546551,327.679658356452,187.42282033556546]
[null,null,{"$f":"C42+Sheet3!B$12","v":5.819655963291811},1883.280230287432,826.3888509583021,48.88511009165131,0.6652096551395397,608.0469490816974,330.6610282835992,171.12518378464677]
[null,null,{"$f":"C43+Sheet3!B$12","v":5.965147362374106},1930.3622360446177,833.1625300645178,44.22938532101787,0.6818398965180281,623.2481228087399,333.3713645810057,154.82754723372807]
[null,null,{"$f":"C44+Sheet3!B$12","v":6.110638761456401},1977.4442418018034,839.2588412601118,39.57366055038443,0.6984701378965166,638.4492965357823,335.8106672486716,138.52991068280937]
[null,null,{"$f":"C45+Sheet3!B$12","v":6.256130160538696},2024.526247558989,844.6777845450844,34.91793577975099,0.715100379275005,653.6504702628247,337.97893628659693,122.23227413189068]
[null,null,{"$f":"C46+Sheet3!B$12","v":6.401621559620991},2071.608253316175,849.4193599194352,30.26221100911755,0.7317306206534935,668.8516439898671,339.8761716947815,105.93463758097198]
[null,null,{"$f":"C47+Sheet3!B$12","v":6.547112958703286},2118.6902590733607,853.4835673831647,25.60648623848411,0.7483608620319819,684.0528177169095,341.5023734732254,89.6370010300534]
[null,null,{"$f":"C48+Sheet3!B$12","v":6.692604357785581},2165.772264830546,856.8704069362725,20.95076146785067,0.7649911034104704,699.2539914439519,342.85754162192865,73.3393644791347]
[null,null,{"$f":"C49+Sheet3!B$12","v":6.838095756867876},2212.854270587732,859.5798785787588,16.295036697217228,0.7816213447889588,714.4551651709943,343.94167614089133,57.041727928216005]
[null,null,{"$f":"C50+Sheet3!B$12","v":6.983587155950171},2259.9362763449176,861.6119823106233,11.639311926583787,0.7982515861674473,729.6563388980367,344.75477703011336,40.74409137729731]
[null,null,{"$f":"C51+Sheet3!B$12","v":7.129078555032466},2307.0182821021035,862.9667181318664,6.983587155950346,0.8148818275459357,744.8575126250792,345.2968442895946,24.446454826378613]
[null,null,{"$f":"C52+Sheet3!B$12","v":7.274569954114761},2354.1002878592894,863.644086042488,2.327862385316905,0.8315120689244242,760.0586863521215,345.56787791933533,8.148818275459917]
[null,null,{"$f":"C53+Sheet3!B$12","v":7.420061353197056},2401.182293616475,863.6440860424881,-2.3278623853165357,0.8481423103029126,775.2598600791639,345.5678779193353,-8.14881827545878]
[null,null,{"$f":"C54+Sheet3!B$12","v":7.565552752279351},2448.264299373661,862.9667181318665,-6.9835871559499765,0.8647725516814011,790.4610338062063,345.2968442895946,-24.446454826377476]
[null,null,{"$f":"C55+Sheet3!B$12","v":7.711044151361646},2495.3463051308463,861.6119823106235,-11.639311926583417,0.8814027930598896,805.6622075332488,344.75477703011325,-40.74409137729617]
[null,null,{"$f":"C56+Sheet3!B$12","v":7.856535550443941},2542.4283108880322,859.5798785787589,-16.295036697216858,0.898033034438378,820.8633812602911,343.9416761408914,-57.041727928214755]
[null,null,{"$f":"C57+Sheet3!B$12","v":8.002026949526236},2589.5103166452177,856.8704069362727,-20.9507614678503,0.9146632758168665,836.0645549873335,342.8575416219288,-73.33936447913345]
[null,null,{"$f":"C58+Sheet3!B$12","v":8.147518348608532},2636.592322402404,853.4835673831649,-25.606486238483768,0.9312935171953549,851.2657287143759,341.5023734732255,-89.63700103005215]
[null,null,{"$f":"C59+Sheet3!B$12","v":8.293009747690828},2683.67432815959,849.4193599194355,-30.262211009117237,0.9479237585738434,866.4669024414184,339.87617169478165,-105.93463758097084]
[null,null,{"$f":"C60+Sheet3!B$12","v":8.438501146773124},2730.756333916776,844.6777845450845,-34.91793577975071,0.9645539999523318,881.6680761684607,337.978936286597,-122.23227413188954]
[null,null,{"$f":"C61+Sheet3!B$12","v":8.58399254585542},2777.838339673962,839.2588412601121,-39.573660550384176,0.9811842413308203,896.8692498955031,335.81066724867185,-138.52991068280824]
[null,null,{"$f":"C62+Sheet3!B$12","v":8.729483944937716},2824.920345431148,833.1625300645178,-44.229385321017645,0.9978144827093087,912.0704236225455,333.371364581006,-154.82754723372693]
[null,null,{"$f":"C63+Sheet3!B$12","v":8.874975344020012},2872.0023511883337,826.3888509583023,-48.885110091651114,1.0144447240877972,927.271597349588,330.66102828359936,-171.12518378464563]
[null,null,{"$f":"C64+Sheet3!B$12","v":9.020466743102308},2919.08435694552,818.9378039414653,-53.54083486228458,1.0310749654662856,942.4727710766304,327.67965835645225,-187.42282033556432]
[null,null,{"$f":"C65+Sheet3!B$12","v":9.165958142184603},2966.166362702706,810.8093890140065,-58.19655963291805,1.047705206844774,957.6739448036727,324.42725479956437,-203.7204568864829]
[null,null,{"$f":"C66+Sheet3!B$12","v":9.3114495412669},{"$f":"v0*COS(2*PI()/360*a0)*C67","v":3013.248368459892},802.0036061759263,{"$f":"-32*C67+v0*SIN(2*PI()/360*a0)","v":-62.85228440355152},1.0643354482232625,{"$f":"v00*COS(2*PI()/360*a00)*G67","v":972.8751185307151},320.903817612936,{"$f":"-(980*$G67)+v00*SIN(2*PI()/360*a00)","v":-220.0180934374016}]
[null,null,{"$f":"C67+Sheet3!B$12","v":9.456940940349195},3060.330374217078,792.5204554272245,-67.50800917418499,1.080965689601751,988.0762922577576,317.1093467965668,-236.3157299883203]
[null,null,{"$f":"C68+Sheet3!B$12","v":9.602432339431491},3107.412379974264,{"$f":"IF((-(16*C69^2)+v0*SIN(2*PI()/360*a0)*C69)<0,0,-(16*C69^2)+v0*SIN(2*PI()/360*a0)*C69)","v":782.359936767901},-72.16373394481846,{"$f":"G68+B$16","v":1.0975959309802394},1003.2774659848,{"$f":"IF((-(490*G69^2)+v00*SIN(2*PI()/360*a00)*G69)<0,0,-(490*G69^2)+v00*SIN(2*PI()/360*a00)*G69)","v":313.043842350457},-252.613366539239]
[null,null,{"$f":"C69+Sheet3!B$12","v":9.747923738513787},3154.49438573145,771.5220501979561,-76.81945871545193,1.114226172358728,1018.4786397118423,308.7073042746065,-268.9110030901577]
[null,null,{"$f":"C70+Sheet3!B$12","v":9.893415137596083},3201.576391488636,760.0067957173897,-81.4751834860854,1.1308564137372163,1033.6798134388848,304.0997325690154,-285.2086396410764]
[null,null,{"$f":"C71+Sheet3!B$12","v":10.038906536678379},3248.658397245822,747.8141733262016,-86.13090825671887,1.1474866551157048,1048.880987165927,299.22112723368366,-301.5062761919951]
[null,null,{"$f":"C72+Sheet3!B$12","v":10.184397935760675},3295.740403003008,734.9441830243918,-90.78663302735234,1.1641168964941933,1064.0821608929696,294.07148826861123,-317.8039127429138]
[null,null,{"$f":"C73+Sheet3!B$12","v":10.32988933484297},3342.822408760194,721.3968248119602,-95.4423577979858,1.1807471378726817,1079.283334620012,288.6508156737982,-334.1015492938325]
[null,null,{"$f":"C74+Sheet3!B$12","v":10.475380733925267},3389.90441451738,707.1720986889075,-100.09808256861928,1.1973773792511702,1094.4845083470543,282.95910944924447,-350.3991858447512]
[null,null,{"$f":"C75+Sheet3!B$12","v":10.620872133007563},3436.986420274566,692.2700046552332,-104.75380733925275,1.2140076206296586,1109.6856820740968,276.99636959495,-366.69682239566987]
[null,null,{"$f":"C76+Sheet3!B$12","v":10.766363532089859},3484.068426031752,676.6905427109373,-109.40953210988621,1.230637862008147,1124.886855801139,270.76259611091507,-382.99445894658857]
[null,null,{"$f":"C77+Sheet3!B$12","v":10.911854931172154},3531.150431788938,660.4337128560198,-114.06525688051968,1.2472681033866355,1140.0880295281816,264.2577889971394,-399.29209549750726]
[null,null,{"$f":"C78+Sheet3!B$12","v":11.05734633025445},3578.232437546124,643.4995150904808,-118.72098165115315,1.263898344765124,1155.289203255224,257.48194825362305,-415.58973204842596]
[null,null,{"$f":"C79+Sheet3!B$12","v":11.202837729336746},3625.31444330331,625.88794941432,-123.37670642178662,1.2805285861436124,1170.4903769822663,250.43507388036596,-431.8873685993444]
[null,null,{"$f":"C80+Sheet3!B$12","v":11.348329128419042},3672.3964490604963,607.5990158275381,-128.0324311924201,1.2971588275221009,1185.6915507093088,243.1171658773685,-448.1850051502631]
[null,null,{"$f":"C81+Sheet3!B$12","v":11.493820527501338},3719.478454817682,588.6327143301341,-132.68815596305356,1.3137890689005893,1200.8927244363513,235.52822424463022,-464.4826417011818]
[null,null,{"$f":"C82+Sheet3!B$12","v":11.639311926583634},3766.560460574868,568.9890449221089,-137.34388073368703,1.3304193102790778,1216.0938981633935,227.6682489821511,-480.7802782521005]
[null,null,{"$f":"C83+Sheet3!B$12","v":11.78480332566593},3813.642466332054,548.6680076034622,-141.9996055043205,1.3470495516575662,1231.295071890436,219.53724008993152,-497.0779148030192]
[null,null,{"$f":"C84+Sheet3!B$12","v":11.930294724748226},3860.72447208924,527.6696023741933,-146.65533027495397,1.3636797930360547,1246.4962456174783,211.13519756797132,-513.3755513539379]
[null,null,{"$f":"C85+Sheet3!B$12","v":12.075786123830522},3907.8064778464263,505.9938292343031,-151.31105504558744,1.3803100344145431,1261.6974193445208,202.4621214162704,-529.6731879048566]
[null,null,{"$f":"C86+Sheet3!B$12","v":12.221277522912818},3954.8884836036123,483.64068818379155,-155.9667798162209,1.3969402757930316,1276.8985930715633,193.51801163482867,-545.9708244557753]
[null,null,{"$f":"C87+Sheet3!B$12","v":12.366768921995114},4001.970489360798,460.61017922265864,-160.62250458685438,1.41357051717152,1292.0997667986055,184.30286822364678,-562.268461006694]
[null,null,{"$f":"C88+Sheet3!B$12","v":12.51226032107741},4049.052495117984,436.90230235090394,-165.27822935748785,1.4302007585500085,1307.300940525648,174.81669118272373,-578.5660975576127]
[null,null,{"$f":"C89+Sheet3!B$12","v":12.657751720159705},4096.1345008751705,412.51705756852743,-169.93395412812131,1.446830999928497,1322.5021142526905,165.0594805120602,-594.8637341085314]
[null,null,{"$f":"C90+Sheet3!B$12","v":12.803243119242001},4143.216506632356,387.45444487553004,-174.58967889875478,1.4634612413069854,1337.7032879797327,155.03123621165605,-611.1613706594501]
[null,null,{"$f":"C91+Sheet3!B$12","v":12.948734518324297},4190.298512389542,361.7144642719104,-179.24540366938825,1.4800914826854739,1352.9044617067752,144.7319582815112,-627.4590072103688]
[null,null,{"$f":"C92+Sheet3!B$12","v":13.094225917406593},4237.380518146728,335.2971157576694,-183.90112844002172,1.4967217240639623,1368.1056354338175,134.16164672162563,-643.7566437612875]
[null,null,{"$f":"C93+Sheet3!B$12","v":13.239717316488889},4284.462523903914,308.2023993328071,-188.5568532106552,1.5133519654424508,1383.30680916086,123.32030153199958,-660.0542803122062]
[null,null,{"$f":"C94+Sheet3!B$12","v":13.385208715571185},4331.544529661101,280.43031499732297,-193.21257798128866,1.5299822068209392,1398.5079828879025,112.20792271263281,-676.3519168631249]
[null,null,{"$f":"C95+Sheet3!B$12","v":13.53070011465348},4378.626535418286,251.98086275121705,-197.86830275192213,1.5466124481994277,1413.7091566149447,100.82451026352533,-692.6495534140436]
[null,null,{"$f":"C96+Sheet3!B$12","v":13.676191513735777},4425.708541175472,222.85404259448978,-202.5240275225556,1.5632426895779161,1428.9103303419872,89.17006418467713,-708.9471899649623]
[null,null,{"$f":"C97+Sheet3!B$12","v":13.821682912818073},4472.790546932658,193.04985452714072,-207.17975229318907,1.5798729309564046,1444.1115040690297,77.24458447608868,-725.244826515881]
[null,null,{"$f":"C98+Sheet3!B$12","v":13.967174311900369},{"$f":"v0*COS(2*PI()/360*a0)*C99","v":4519.872552689844},162.56829854917078,{"$f":"-32*C99+v0*SIN(2*PI()/360*a0)","v":-211.83547706382254},1.596503172334893,{"$f":"v00*COS(2*PI()/360*a00)*G99","v":1459.312677796072},65.04807113775905,{"$f":"-(980*$G99)+v00*SIN(2*PI()/360*a00)","v":-741.5424630667994}]
[null,null,{"$f":"C99+Sheet3!B$12","v":14.112665710982665},4566.954558447031,131.40937466057858,-216.491201834456,1.6131334137133815,1474.5138515231145,52.58052416968894,-757.8400996177181]
[null,null,{"$f":"C100+Sheet3!B$12","v":14.25815711006496},4614.036564204216,99.57308286136549,-221.14692660508948,1.62976365509187,1489.7150252501567,39.84194357187812,-774.1377361686368]
[null,null,{"$f":"C101+Sheet3!B$12","v":14.403648509147256},4661.1185699614025,67.05942315153015,-225.80265137572295,1.6463938964703584,1504.9161989771992,26.832329344327036,-790.4353727195555]
[null,null,{"$f":"C102+Sheet3!B$12","v":14.549139908229552},4708.200575718588,33.868395531073475,-230.45837614635641,1.6630241378488468,1520.1173727042417,13.551681487034784,-806.7330092704742]
[null,null,{"$f":"C103+Sheet3!B$12","v":14.694631307311848},4755.282581475774,0,-235.11410091698988,1.6796543792273353,1535.318546431284,2.2737367544323206E-12,-823.0306458213929]