{"text_format":"3","workbook":"xlsx","n_sheets":4,"sheets":["Sheet1","Sheet2","Defining Function","Sheet3"],"not_rendered":{"charts":2,"images":2,"macros":1,"defined_names":6,"comments":1},"read":"whole","date_system":"1900"}

{"sheet":"Sheet1","index":0,"n_rows":36,"n_cols":11,"rows_kept":36,"merged":[[29,2,29,3]]}
[null,"Second Fundamental Theorem"]
[]
[null," This DIGMath graphing utility illustrates the "]
[null,"  Second Fundamental Theorem of Calculus"]
[]
[null,"           applied to any desired function"]
[{"$nulls":3},"y = f(x)"]
[null,"      on any interval from x = a  to x = b."]
[]
["   Enter the function in terms of x:  f(x) = ",{"$nulls":4},"x^3+5"]
[]
[]
["Now enter the interval for x:  "]
[null,null,"xMin =",0,{"$nulls":5},{"$f":"\"The area swept out under the curve from x = \"&TEXT(xMin,0)","v":"The area swept out under the curve from x = 0"}]
[null,null,"xMax =",2,{"$nulls":6},{"$f":"\"to x = \"&TEXT(J17,\"0.00\") &\" is about A = \" &TEXT(A, \"0.0000\")","v":"to x = 1.38 is about A = 7.8303"}]
[]
[{"$nulls":9},{"$f":"xMin+Sheet2!B12*n","v":{"v":1.3830845771144278,"d":"1.38"}},139]
[]
[]
[]
[]
["Click each item below for suggestions and investigations"]
[null,"   Item 1"]
[null,"   Item 2"]
[null,"   Item 3"]
[]
[]
[]
["To access/download all the DIGMath Apps for Calculus"]
["     Click this link:",null,"DIGMath for Calculus"]
[]
["Created by:  Sheldon P. Gordon   "]
["                      Farmingdale State College    "]
["Development of this module was supported by the "]
["NSF's Division of Undergraduate Education  "]
["under grants DUE-0310123 and DUE-0442160."]

{"sheet":"Sheet2","index":1,"n_rows":602,"n_cols":10,"rows_kept":602}
[null,null,"x","y = f(x)","Area","plotting points",null,null,"n =",{"$f":"n","v":139}]
[{"$nulls":3},{"$f":"Sheet1!#REF!","v":{"$error":"#REF!"}},null,{"$f":"C3","v":0},{"$f":"0","v":0},null,"x =",{"$f":"Sheet1!J17","v":{"v":1.3830845771144278,"d":"1.38"}}]
[null,null,{"$f":"Sheet1!D14","v":0},{"$f":"x^3+5","v":5},0,{"$f":"F2","v":0},{"$f":"0.9*D3","v":4.5},null,"A =",{"$f":"LOOKUP(xx,C3:C204,E3:E204)","v":7.830288784699967}]
[null,null,{"$f":"C3+Sheet2!B$12","v":0.009950248756218905},5.000000985148759,{"$f":"E3+dx*(D3+D4)/2","v":0.04975124868233213},{"$f":"F3","v":0},{"$f":"G3","v":4.5}]
[null,null,{"$f":"C4+Sheet2!B$12","v":0.01990049751243781},5.000007881190075,0.09950253657456515,{"$f":"F4","v":0},{"$f":"0","v":0},null,{"$f":"xx","v":1.3830845771144278},{"$f":"0","v":0}]
[null,null,{"$f":"C5+Sheet2!B$12","v":0.029850746268656716},5.000026599016501,0.14925395189897597,{"$f":"IF(C4<xx,C5,C$3)","v":0.01990049751243781},{"$f":"0","v":0},null,{"$f":"xx","v":1.3830845771144278},{"$f":"A","v":7.830288784699967}]
[null,null,{"$f":"C6+Sheet2!B$12","v":0.03980099502487562},5.0000630495205955,0.19900564169269286,{"$f":"F6","v":0.01990049751243781},{"$f":"IF(F7<xx,0.91*D4,0)","v":4.550000896485371}]
[null,null,{"$f":"C7+Sheet2!B$12","v":0.04975124378109452},5.000123143594914,0.2487578118076954,{"$f":"F7+dx","v":0.029850746268656716},{"$f":"IF(F7<xx,0.91*D5,0)","v":4.550007171882968}]
[null,null,{"$f":"C8+Sheet2!B$12","v":0.059701492537313425},5.000212792132011,0.29851072691081443,{"$f":"IF(C5<xx,C6,C$3)","v":0.029850746268656716},{"$f":"0","v":0}]
[null,null,{"$f":"C9+Sheet2!B$12","v":0.06965174129353233},5.000337906024443,0.3482647104837321,{"$f":"F9","v":0.029850746268656716},{"$f":"IF(F10<xx,0.91*D5,0)","v":4.550007171882968}]
[null,null,{"$f":"C10+Sheet2!B$12","v":0.07960199004975123},5.000504396164767,0.39802014482298187,{"$f":"F10+dx","v":0.03980099502487562},{"$f":"IF(F10<xx,0.91*D6,0)","v":4.550024205105016}]
["delta x = ",{"$f":"(Sheet1!D15-Sheet1!D14)/201","v":0.009950248756218905},{"$f":"C11+Sheet2!B$12","v":0.08955223880597013},5.000718173445537,0.4477774710399486,{"$f":"IF(C6<xx,C7,C$3)","v":0.03980099502487562},{"$f":"0","v":0}]
[null,null,{"$f":"C12+Sheet2!B$12","v":0.09950248756218903},5.00098514875931,0.4975371890608682,{"$f":"F12","v":0.03980099502487562},{"$f":"IF(F13<xx,0.91*D6,0)","v":4.550024205105016}]
[null,null,{"$f":"C13+Sheet2!B$12","v":0.10945273631840793},5.001311232998641,0.5472998576268282,{"$f":"F13+dx","v":0.04975124378109452},{"$f":"IF(F13<xx,0.91*D7,0)","v":4.5500573750637425}]
[null,null,{"$f":"C14+Sheet2!B$12","v":0.11940298507462684},5.001702337056087,0.5970660942937671,{"$f":"IF(C7<xx,C8,C$3)","v":0.04975124378109452},{"$f":"0","v":0}]
[null,null,{"$f":"C15+Sheet2!B$12","v":0.12935323383084574},5.002164371824204,0.6468365754324751,{"$f":"F15","v":0.04975124378109452},{"$f":"IF(F16<xx,0.91*D7,0)","v":4.5500573750637425}]
[null,null,{"$f":"C16+Sheet2!B$12","v":0.13930348258706465},5.002703248195546,0.6966120362285932,{"$f":"F16+dx","v":0.059701492537313425},{"$f":"IF(F16<xx,0.91*D8,0)","v":4.550112060671372}]
[null,null,{"$f":"C17+Sheet2!B$12","v":0.14925373134328357},5.003324877062671,0.7463932706826142,{"$f":"IF(C8<xx,C9,C$3)","v":0.059701492537313425},{"$f":"0","v":0}]
[null,null,{"$f":"C18+Sheet2!B$12","v":0.15920398009950248},5.004035169318133,0.7961811316098819,{"$f":"F18","v":0.059701492537313425},{"$f":"IF(F19<xx,0.91*D8,0)","v":4.550112060671372}]
[null,null,{"$f":"C19+Sheet2!B$12","v":0.1691542288557214},5.004840035854489,0.8459765306405914,{"$f":"F19+dx","v":0.06965174129353233},{"$f":"IF(F19<xx,0.91*D9,0)","v":4.5501936408401304}]
[null,null,{"$f":"C20+Sheet2!B$12","v":0.17910447761194032},5.0057453875642945,0.8957804382197894,{"$f":"IF(C9<xx,C10,C$3)","v":0.06965174129353233},{"$f":"0","v":0}]
[null,null,{"$f":"C21+Sheet2!B$12","v":0.18905472636815923},5.006757135340106,0.9455938836073734,{"$f":"F21","v":0.06965174129353233},{"$f":"IF(F22<xx,0.91*D9,0)","v":4.5501936408401304}]
[null,null,{"$f":"C22+Sheet2!B$12","v":0.19900497512437815},5.007881190074478,0.9954179548780927,{"$f":"F22+dx","v":0.07960199004975123},{"$f":"IF(F22<xx,0.91*D10,0)","v":4.550307494482244}]
[null,null,{"$f":"C23+Sheet2!B$12","v":0.20895522388059706},5.009123462659968,1.0452537989215476,{"$f":"IF(C10<xx,C11,C$3)","v":0.07960199004975123},{"$f":"0","v":0}]
[null,null,{"$f":"C24+Sheet2!B$12","v":0.21890547263681598},5.010489863989131,1.09510262144219,{"$f":"F24","v":0.07960199004975123},{"$f":"IF(F25<xx,0.91*D10,0)","v":4.550307494482244}]
[null,null,{"$f":"C25+Sheet2!B$12","v":0.2288557213930349},5.011986304954522,1.1449656869593225,{"$f":"F25+dx","v":0.08955223880597013},{"$f":"IF(F25<xx,0.91*D11,0)","v":4.550459000509938}]
[null,null,{"$f":"C26+Sheet2!B$12","v":0.2388059701492538},5.013618696448699,1.1948443188070998,{"$f":"IF(C11<xx,C12,C$3)","v":0.08955223880597013},{"$f":"0","v":0}]
[null,null,{"$f":"C27+Sheet2!B$12","v":0.24875621890547273},5.015392949364216,1.2447398991345273,{"$f":"F27","v":0.08955223880597013},{"$f":"IF(F28<xx,0.91*D11,0)","v":4.550459000509938}]
[null,null,{"$f":"C28+Sheet2!B$12","v":0.25870646766169164},5.01731497459363,1.2946538689054619,{"$f":"F28+dx","v":0.09950248756218903},{"$f":"IF(F28<xx,0.91*D12,0)","v":4.550653537835439}]
[null,null,{"$f":"C29+Sheet2!B$12","v":0.26865671641791056},5.019390683029495,1.3445877278986118,{"$f":"IF(C12<xx,C13,C$3)","v":0.09950248756218903},{"$f":"0","v":0}]
[null,null,{"$f":"C30+Sheet2!B$12","v":0.2786069651741295},5.021625985564369,1.3945430347075365,{"$f":"F30","v":0.09950248756218903},{"$f":"IF(F31<xx,0.91*D12,0)","v":4.550653537835439}]
[null,null,{"$f":"C31+Sheet2!B$12","v":0.2885572139303484},5.024026793090807,1.4445214067406469,{"$f":"F31+dx","v":0.10945273631840793},{"$f":"IF(F31<xx,0.91*D13,0)","v":4.550896485370972}]
[null,null,{"$f":"C32+Sheet2!B$12","v":0.2985074626865673},5.026599016501365,1.494524520221205,{"$f":"IF(C13<xx,C14,C$3)","v":0.10945273631840793},{"$f":"0","v":0}]
[null,null,{"$f":"C33+Sheet2!B$12","v":0.3084577114427862},5.029348566688599,1.5445541101873241,{"$f":"F33","v":0.10945273631840793},{"$f":"IF(F34<xx,0.91*D13,0)","v":4.550896485370972}]
[null,null,{"$f":"C34+Sheet2!B$12","v":0.31840796019900514},5.032281354545064,1.5946119704919692,{"$f":"F34+dx","v":0.11940298507462684},{"$f":"IF(F34<xx,0.91*D14,0)","v":4.551193222028764}]
[null,null,{"$f":"C35+Sheet2!B$12","v":0.32835820895522405},5.035403290963317,1.6446999538029563,{"$f":"IF(C14<xx,C15,C$3)","v":0.11940298507462684},{"$f":"0","v":0}]
[null,null,{"$f":"C36+Sheet2!B$12","v":0.33830845771144297},5.038720286835913,1.6948199716029524,{"$f":"F36","v":0.11940298507462684},{"$f":"IF(F37<xx,0.91*D14,0)","v":4.551193222028764}]
[null,null,{"$f":"C37+Sheet2!B$12","v":0.3482587064676619},5.042238253055408,1.7449739941894764,{"$f":"F37+dx","v":0.12935323383084574},{"$f":"IF(F37<xx,0.91*D15,0)","v":4.5515491267210395}]
[null,null,{"$f":"C38+Sheet2!B$12","v":0.3582089552238808},5.045963100514358,1.795164050674898,{"$f":"IF(C15<xx,C16,C$3)","v":0.12935323383084574},{"$f":"0","v":0}]
[null,null,{"$f":"C39+Sheet2!B$12","v":0.3681592039800997},5.04990074010532,1.8453922289864386,{"$f":"F39","v":0.12935323383084574},{"$f":"IF(F40<xx,0.91*D15,0)","v":4.5515491267210395}]
[null,null,{"$f":"C40+Sheet2!B$12","v":0.37810945273631863},5.054057082720848,1.8956606758661707,{"$f":"F40+dx","v":0.13930348258706465},{"$f":"IF(F40<xx,0.91*D16,0)","v":4.551969578360025}]
[null,null,{"$f":"C41+Sheet2!B$12","v":0.38805970149253755},5.058438039253499,1.9459715968710183,{"$f":"IF(C16<xx,C17,C$3)","v":0.13930348258706465},{"$f":"0","v":0}]
[null,null,{"$f":"C42+Sheet2!B$12","v":0.39800995024875646},5.063049520595828,1.9963272563727563,{"$f":"F42","v":0.13930348258706465},{"$f":"IF(F43<xx,0.91*D16,0)","v":4.551969578360025}]
[null,null,{"$f":"C43+Sheet2!B$12","v":0.4079601990049754},5.067897437640392,2.046729977558011,{"$f":"F43+dx","v":0.14925373134328357},{"$f":"IF(F43<xx,0.91*D17,0)","v":4.552459955857947}]
[null,null,{"$f":"C44+Sheet2!B$12","v":0.4179104477611943},5.072987701279746,2.0971821424282604,{"$f":"IF(C17<xx,C18,C$3)","v":0.14925373134328357},{"$f":"0","v":0}]
[null,null,{"$f":"C45+Sheet2!B$12","v":0.4278606965174132},5.078326222406445,2.1476861917998336,{"$f":"F45","v":0.14925373134328357},{"$f":"IF(F46<xx,0.91*D17,0)","v":4.552459955857947}]
[null,null,{"$f":"C46+Sheet2!B$12","v":0.4378109452736321},5.083918911913047,2.1982446253039107,{"$f":"F46+dx","v":0.15920398009950248},{"$f":"IF(F46<xx,0.91*D18,0)","v":4.55302563812703}]
[null,null,{"$f":"C47+Sheet2!B$12","v":0.44776119402985104},5.089771680692107,2.2488600013865234,{"$f":"IF(C18<xx,C19,C$3)","v":0.15920398009950248},{"$f":"0","v":0}]
[null,null,{"$f":"C48+Sheet2!B$12","v":0.45771144278606996},5.09589043963618,2.2995349373085547,{"$f":"F48","v":0.15920398009950248},{"$f":"IF(F49<xx,0.91*D18,0)","v":4.55302563812703}]
[null,null,{"$f":"C49+Sheet2!B$12","v":0.46766169154228887},5.102281099637823,2.350272109145739,{"$f":"F49+dx","v":0.1691542288557214},{"$f":"IF(F49<xx,0.91*D19,0)","v":4.553672004079501}]
[null,null,{"$f":"C50+Sheet2!B$12","v":0.4776119402985078},5.108949571589591,2.4010742517886614,{"$f":"IF(C19<xx,C20,C$3)","v":0.1691542288557214},{"$f":"0","v":0}]
[null,null,{"$f":"C51+Sheet2!B$12","v":0.4875621890547267},5.11590176638404,2.451944158942759,{"$f":"F51","v":0.1691542288557214},{"$f":"IF(F52<xx,0.91*D19,0)","v":4.553672004079501}]
[null,null,{"$f":"C52+Sheet2!B$12","v":0.4975124378109456},5.123143594913726,2.50288468312832,{"$f":"F52+dx","v":0.17910447761194032},{"$f":"IF(F52<xx,0.91*D20,0)","v":4.554404432627585}]
[null,null,{"$f":"C53+Sheet2!B$12","v":0.5074626865671645},5.130680968071206,2.553898735680484,{"$f":"IF(C20<xx,C21,C$3)","v":0.17910447761194032},{"$f":"0","v":0}]
[null,null,{"$f":"C54+Sheet2!B$12","v":0.5174129353233834},5.138519796749034,2.6049892867492415,{"$f":"F54","v":0.17910447761194032},{"$f":"IF(F55<xx,0.92*D20,0)","v":4.60445283298613}]
[null,null,{"$f":"C55+Sheet2!B$12","v":0.5273631840796023},5.146665991839766,2.6561593652994344,{"$f":"F55+dx","v":0.18905472636815923},{"$f":"IF(F55<xx,0.92*D21,0)","v":4.605285756559152}]
[null,null,{"$f":"C56+Sheet2!B$12","v":0.5373134328358211},5.15512546423596,2.7074120591107564,{"$f":"IF(C21<xx,C22,C$3)","v":0.18905472636815923},{"$f":"0","v":0}]
[null,null,{"$f":"C57+Sheet2!B$12","v":0.54726368159204},5.16390412483017,2.758750514777752,{"$f":"F57","v":0.18905472636815923},{"$f":"IF(F58<xx,0.92*D21,0)","v":4.605285756559152}]
[null,null,{"$f":"C58+Sheet2!B$12","v":0.5572139303482588},5.173007884514952,2.8101779377098173,{"$f":"F58+dx","v":0.19900497512437815},{"$f":"IF(F58<xx,0.92*D22,0)","v":4.606216564512898}]
[null,null,{"$f":"C59+Sheet2!B$12","v":0.5671641791044777},5.182442654182862,2.8616975921311996,{"$f":"IF(C22<xx,C23,C$3)","v":0.19900497512437815},{"$f":"0","v":0}]
[null,null,{"$f":"C60+Sheet2!B$12","v":0.5771144278606966},5.192214344726455,2.913312801080997,{"$f":"F60","v":0.19900497512437815},{"$f":"IF(F61<xx,0.92*D22,0)","v":4.606216564512898}]
[null,null,{"$f":"C61+Sheet2!B$12","v":0.5870646766169154},5.20232886703829,2.96502694641316,{"$f":"F61+dx","v":0.20895522388059706},{"$f":"IF(F61<xx,0.92*D23,0)","v":4.607250694868521}]
[null,null,{"$f":"C62+Sheet2!B$12","v":0.5970149253731343},5.212792132010919,3.0168434687964893,{"$f":"IF(C23<xx,C24,C$3)","v":0.20895522388059706},{"$f":"0","v":0}]
[null,null,{"$f":"C63+Sheet2!B$12","v":0.6069651741293531},5.2236100505369,3.068765867714638,{"$f":"F63","v":0.20895522388059706},{"$f":"IF(F64<xx,0.92*D23,0)","v":4.607250694868521}]
[null,null,{"$f":"C64+Sheet2!B$12","v":0.616915422885572},5.234788533508788,3.120797701466109,{"$f":"F64+dx","v":0.21890547263681598},{"$f":"IF(F64<xx,0.92*D24,0)","v":4.60839358564717}]
[null,null,{"$f":"C65+Sheet2!B$12","v":0.6268656716417909},5.24633349181914,3.1729425871642576,{"$f":"IF(C24<xx,C25,C$3)","v":0.21890547263681598},{"$f":"0","v":0}]
[null,null,{"$f":"C66+Sheet2!B$12","v":0.6368159203980097},{"$f":"x^3+5","v":5.25825083636051},3.2252042007372905,{"$f":"F66","v":0.21890547263681598},{"$f":"IF(F67<xx,0.92*D24,0)","v":4.60839358564717}]
[null,null,{"$f":"C67+Sheet2!B$12","v":0.6467661691542286},5.270546478025456,{"$f":"E67+dx*(D67+D68)/2","v":3.2775862769282655},{"$f":"F67+dx","v":0.2288557213930349},{"$f":"IF(F67<xx,0.92*D25,0)","v":4.60965067487}]
[null,null,{"$f":"C68+Sheet2!B$12","v":0.6567164179104474},5.283226327706533,3.3300926092950913,{"$f":"IF(C25<xx,C26,C$3)","v":0.2288557213930349},{"$f":"0","v":0}]
[null,null,{"$f":"C69+Sheet2!B$12","v":0.6666666666666663},5.296296296296296,3.382727050210528,{"$f":"F69","v":0.2288557213930349},{"$f":"IF(F70<xx,0.92*D25,0)","v":4.60965067487}]
[null,null,{"$f":"C70+Sheet2!B$12","v":0.6766169154228852},5.309762294687301,3.435493510862188,{"$f":"F70+dx","v":0.2388059701492538},{"$f":"IF(F70<xx,0.92*D26,0)","v":4.611027400558161}]
[null,null,{"$f":"C71+Sheet2!B$12","v":0.686567164179104},5.323630233772105,3.4883959612525333,{"$f":"IF(C26<xx,C27,C$3)","v":0.2388059701492538},{"$f":"0","v":0}]
[null,null,{"$f":"C72+Sheet2!B$12","v":0.6965174129353229},5.337906024443264,3.541438430198878,{"$f":"F72","v":0.2388059701492538},{"$f":"IF(F73<xx,0.92*D26,0)","v":4.611027400558161}]
[null,null,{"$f":"C73+Sheet2!B$12","v":0.7064676616915417},5.352595577593332,3.5946250053333886,{"$f":"F73+dx","v":0.24875621890547273},{"$f":"IF(F73<xx,0.92*D27,0)","v":4.612529200732803}]
[null,null,{"$f":"C74+Sheet2!B$12","v":0.7164179104477606},5.367704804114867,3.647959833103081,{"$f":"IF(C27<xx,C28,C$3)","v":0.24875621890547273},{"$f":"0","v":0}]
[null,null,{"$f":"C75+Sheet2!B$12","v":0.7263681592039795},5.383239614900424,3.7014471187698237,{"$f":"F75","v":0.24875621890547273},{"$f":"IF(F76<xx,0.92*D27,0)","v":4.612529200732803}]
[null,null,{"$f":"C76+Sheet2!B$12","v":0.7363184079601983},5.399205920842557,3.755091126410336,{"$f":"F76+dx","v":0.25870646766169164},{"$f":"IF(F76<xx,0.92*D28,0)","v":4.614161513415079}]
[null,null,{"$f":"C77+Sheet2!B$12","v":0.7462686567164172},5.415609632833824,3.808896178916189,{"$f":"IF(C28<xx,C29,C$3)","v":0.25870646766169164},{"$f":"0","v":0}]
[null,null,{"$f":"C78+Sheet2!B$12","v":0.756218905472636},5.432456661766782,3.862866657993804,{"$f":"F78","v":0.25870646766169164},{"$f":"IF(F79<xx,0.92*D28,0)","v":4.614161513415079}]
[null,null,{"$f":"C79+Sheet2!B$12","v":0.7661691542288549},5.449752918533984,3.9170070041644545,{"$f":"F79+dx","v":0.26865671641791056},{"$f":"IF(F79<xx,0.92*D29,0)","v":4.61592977662614}]
[null,null,{"$f":"C80+Sheet2!B$12","v":0.7761194029850738},5.4675043140279875,3.9713217167642654,{"$f":"IF(C29<xx,C30,C$3)","v":0.26865671641791056},{"$f":"0","v":0}]
[null,null,{"$f":"C81+Sheet2!B$12","v":0.7860696517412926},5.485716759141347,4.025815353944212,{"$f":"F81","v":0.26865671641791056},{"$f":"IF(F82<xx,0.92*D29,0)","v":4.61592977662614}]
[null,null,{"$f":"C82+Sheet2!B$12","v":0.7960199004975115},5.504396164766621,4.080492532670123,{"$f":"F82+dx","v":0.2786069651741295},{"$f":"IF(F82<xx,0.92*D30,0)","v":4.617839428387136}]
[null,null,{"$f":"C83+Sheet2!B$12","v":0.8059701492537303},5.523548441796363,4.135357928722675,{"$f":"IF(C30<xx,C31,C$3)","v":0.2786069651741295},{"$f":"0","v":0}]
[null,null,{"$f":"C84+Sheet2!B$12","v":0.8159203980099492},5.543179501123129,4.190416276697398,{"$f":"F84","v":0.2786069651741295},{"$f":"IF(F85<xx,0.92*D30,0)","v":4.617839428387136}]
[null,null,{"$f":"C85+Sheet2!B$12","v":0.8258706467661681},5.563295253639476,4.245672370004675,{"$f":"F85+dx","v":0.2885572139303484},{"$f":"IF(F85<xx,0.92*D31,0)","v":4.619895906719219}]
[null,null,{"$f":"C86+Sheet2!B$12","v":0.8358208955223869},5.583901610237959,4.301131060869737,{"$f":"IF(C31<xx,C32,C$3)","v":0.2885572139303484},{"$f":"0","v":0}]
[null,null,{"$f":"C87+Sheet2!B$12","v":0.8457711442786058},5.605004481811134,4.356797260332668,{"$f":"F87","v":0.2885572139303484},{"$f":"IF(F88<xx,0.92*D31,0)","v":4.619895906719219}]
[null,null,{"$f":"C88+Sheet2!B$12","v":0.8557213930348246},5.626609779251558,4.412675938248403,{"$f":"F88+dx","v":0.2985074626865673},{"$f":"IF(F88<xx,0.92*D32,0)","v":4.622104649643543}]
[null,null,{"$f":"C89+Sheet2!B$12","v":0.8656716417910435},5.648723413451785,4.468772123286728,{"$f":"IF(C32<xx,C33,C$3)","v":0.2985074626865673},{"$f":"0","v":0}]
[null,null,{"$f":"C90+Sheet2!B$12","v":0.8756218905472624},5.671351295304372,4.525090902932281,{"$f":"F90","v":0.2985074626865673},{"$f":"IF(F91<xx,0.92*D32,0)","v":4.622104649643543}]
[null,null,{"$f":"C91+Sheet2!B$12","v":0.8855721393034812},5.694499335701874,4.58163742348455,{"$f":"F91+dx","v":0.3084577114427862},{"$f":"IF(F91<xx,0.92*D33,0)","v":4.6244710951812555}]
[null,null,{"$f":"C92+Sheet2!B$12","v":0.8955223880597001},5.718173445536848,4.6384168900578775,{"$f":"IF(C33<xx,C34,C$3)","v":0.3084577114427862},{"$f":"0","v":0}]
[null,null,{"$f":"C93+Sheet2!B$12","v":0.9054726368159189},5.742379535701849,4.695434566581453,{"$f":"F93","v":0.3084577114427862},{"$f":"IF(F94<xx,0.92*D33,0)","v":4.6244710951812555}]
[null,null,{"$f":"C94+Sheet2!B$12","v":0.9154228855721378},5.767123517089433,4.752695775799321,{"$f":"F94+dx","v":0.31840796019900514},{"$f":"IF(F94<xx,0.92*D34,0)","v":4.627000681353511}]
[null,null,{"$f":"C95+Sheet2!B$12","v":0.9253731343283567},5.792411300592157,4.810205899270374,{"$f":"IF(C34<xx,C35,C$3)","v":0.31840796019900514},{"$f":"0","v":0}]
[null,null,{"$f":"C96+Sheet2!B$12","v":0.9353233830845755},5.818248797102575,4.867970377368358,{"$f":"F96","v":0.31840796019900514},{"$f":"IF(F97<xx,0.92*D34,0)","v":4.627000681353511}]
[null,null,{"$f":"C97+Sheet2!B$12","v":0.9452736318407944},5.844641917513243,4.925994709281869,{"$f":"F97+dx","v":0.32835820895522405},{"$f":"IF(F97<xx,0.92*D35,0)","v":4.6296988461814585}]
[null,null,{"$f":"C98+Sheet2!B$12","v":0.9552238805970132},5.871596572716719,4.984284453014356,{"$f":"IF(C35<xx,C36,C$3)","v":0.32835820895522405},{"$f":"0","v":0}]
[null,null,{"$f":"C99+Sheet2!B$12","v":0.9651741293532321},5.899118673605557,5.042845225384119,{"$f":"F99","v":0.32835820895522405},{"$f":"IF(F100<xx,0.92*D35,0)","v":4.6296988461814585}]
[null,null,{"$f":"C100+Sheet2!B$12","v":0.975124378109451},5.927214131072313,5.101682702024307,{"$f":"F100+dx","v":0.33830845771144297},{"$f":"IF(F100<xx,0.92*D36,0)","v":4.632571027686252}]
[null,null,{"$f":"C101+Sheet2!B$12","v":0.9850746268656698},5.955888856009544,5.160802617382924,{"$f":"IF(C36<xx,C37,C$3)","v":0.33830845771144297},{"$f":"0","v":0}]
[null,null,{"$f":"C102+Sheet2!B$12","v":0.9950248756218887},5.985148759309804,5.220210764722821,{"$f":"F102","v":0.33830845771144297},{"$f":"IF(F103<xx,0.92*D36,0)","v":4.632571027686252}]
[null,null,{"$f":"C103+Sheet2!B$12","v":1.0049751243781075},6.01499975186565,5.279912996121704,{"$f":"F103+dx","v":0.3482587064676619},{"$f":"IF(F103<xx,0.92*D37,0)","v":4.63562266388904}]
[null,null,{"$f":"C104+Sheet2!B$12","v":1.0149253731343264},6.045447744569638,5.339915222472128,{"$f":"IF(C37<xx,C38,C$3)","v":0.3482587064676619},{"$f":"0","v":0}]
[null,null,{"$f":"C105+Sheet2!B$12","v":1.0248756218905453},6.076498648314324,5.400223413481501,{"$f":"F105","v":0.3482587064676619},{"$f":"IF(F106<xx,0.92*D37,0)","v":4.63562266388904}]
[null,null,{"$f":"C106+Sheet2!B$12","v":1.0348258706467641},6.108158373992263,5.460843597672081,{"$f":"F106+dx","v":0.3582089552238808},{"$f":"IF(F106<xx,0.92*D38,0)","v":4.638859192810975}]
[null,null,{"$f":"C107+Sheet2!B$12","v":1.044776119402983},6.140432832496011,5.521781862380978,{"$f":"IF(C38<xx,C39,C$3)","v":0.3582089552238808},{"$f":"0","v":0}]
[null,null,{"$f":"C108+Sheet2!B$12","v":1.0547263681592018},6.173327934718126,5.583044353760153,{"$f":"F108","v":0.3582089552238808},{"$f":"IF(F109<xx,0.92*D38,0)","v":4.638859192810975}]
[null,null,{"$f":"C109+Sheet2!B$12","v":1.0646766169154207},6.20684959155116,5.644637276776418,{"$f":"F109+dx","v":0.3681592039800997},{"$f":"IF(F109<xx,0.92*D39,0)","v":4.64228605247321}]
[null,null,{"$f":"C110+Sheet2!B$12","v":1.0746268656716396},6.241003713887672,5.706566895211437,{"$f":"IF(C39<xx,C40,C$3)","v":0.3681592039800997},{"$f":"0","v":0}]
[null,null,{"$f":"C111+Sheet2!B$12","v":1.0845771144278584},6.275796212620215,5.768839531661725,{"$f":"F111","v":0.3681592039800997},{"$f":"IF(F112<xx,0.92*D39,0)","v":4.64228605247321}]
[null,null,{"$f":"C112+Sheet2!B$12","v":1.0945273631840773},6.311232998641349,5.831461567538648,{"$f":"F112+dx","v":0.37810945273631863},{"$f":"IF(F112<xx,0.92*D40,0)","v":4.645908680896895}]
[null,null,{"$f":"C113+Sheet2!B$12","v":1.1044776119402961},6.347319982843626,5.894439443068424,{"$f":"IF(C40<xx,C41,C$3)","v":0.37810945273631863},{"$f":"0","v":0}]
[null,null,{"$f":"C114+Sheet2!B$12","v":1.114427860696515},6.384063076119603,5.9577796572921216,{"$f":"F114","v":0.37810945273631863},{"$f":"IF(F115<xx,0.92*D40,0)","v":4.645908680896895}]
[null,null,{"$f":"C115+Sheet2!B$12","v":1.1243781094527339},6.421468189361837,6.0214887680656615,{"$f":"F115+dx","v":0.38805970149253755},{"$f":"IF(F115<xx,0.92*D41,0)","v":4.649732516103181}]
[null,null,{"$f":"C116+Sheet2!B$12","v":1.1343283582089527},6.459541233462883,6.085573392059814,{"$f":"IF(C41<xx,C42,C$3)","v":0.38805970149253755},{"$f":"0","v":0}]
[null,null,{"$f":"C117+Sheet2!B$12","v":1.1442786069651716},6.498288119315297,6.150040204760203,{"$f":"F117","v":0.38805970149253755},{"$f":"IF(F118<xx,0.92*D41,0)","v":4.649732516103181}]
[null,null,{"$f":"C118+Sheet2!B$12","v":1.1542288557213904},6.537714757811634,6.2148959404673025,{"$f":"F118+dx","v":0.39800995024875646},{"$f":"IF(F118<xx,0.92*D42,0)","v":4.653762996113219}]
[null,null,{"$f":"C119+Sheet2!B$12","v":1.1641791044776093},6.577827059844452,6.2801473922964375,{"$f":"IF(C42<xx,C43,C$3)","v":0.39800995024875646},{"$f":"0","v":0}]
[null,null,{"$f":"C120+Sheet2!B$12","v":1.1741293532338282},6.618630936306304,6.345801412177784,{"$f":"F120","v":0.39800995024875646},{"$f":"IF(F121<xx,0.92*D42,0)","v":4.653762996113219}]
[null,null,{"$f":"C121+Sheet2!B$12","v":1.184079601990047},6.660132298089748,6.411864910856371,{"$f":"F121+dx","v":0.4079601990049754},{"$f":"IF(F121<xx,0.92*D43,0)","v":4.658005558948162}]
[null,null,{"$f":"C122+Sheet2!B$12","v":1.1940298507462659},6.702337056087339,6.478344857892078,{"$f":"IF(C43<xx,C44,C$3)","v":0.4079601990049754},{"$f":"0","v":0}]
[null,null,{"$f":"C123+Sheet2!B$12","v":1.2039800995024847},6.745251121191633,6.545248281659635,{"$f":"F123","v":0.4079601990049754},{"$f":"IF(F124<xx,0.92*D43,0)","v":4.658005558948162}]
[null,null,{"$f":"C124+Sheet2!B$12","v":1.2139303482587036},6.7888804042951865,6.612582269348624,{"$f":"F124+dx","v":0.4179104477611943},{"$f":"IF(F124<xx,0.92*D44,0)","v":4.662465642629161}]
[null,null,{"$f":"C125+Sheet2!B$12","v":1.2238805970149225},6.833230816290555,6.680353966963478,{"$f":"IF(C44<xx,C45,C$3)","v":0.4179104477611943},{"$f":"0","v":0}]
[null,null,{"$f":"C126+Sheet2!B$12","v":1.2338308457711413},6.878308268070293,6.7485705793234825,{"$f":"F126","v":0.4179104477611943},{"$f":"IF(F127<xx,0.92*D44,0)","v":4.662465642629161}]
[null,null,{"$f":"C127+Sheet2!B$12","v":1.2437810945273602},6.924118670526958,6.817239370062772,{"$f":"F127+dx","v":0.4278606965174132},{"$f":"IF(F127<xx,0.92*D45,0)","v":4.6671486851773665}]
[null,null,{"$f":"C128+Sheet2!B$12","v":1.253731343283579},6.970667934553106,6.886367661630334,{"$f":"IF(C45<xx,C46,C$3)","v":0.4278606965174132},{"$f":"0","v":0}]
[null,null,{"$f":"C129+Sheet2!B$12","v":1.263681592039798},7.0179619710412915,6.955962835290008,{"$f":"F129","v":0.4278606965174132},{"$f":"IF(F130<xx,0.92*D45,0)","v":4.6671486851773665}]
[null,null,{"$f":"C130+Sheet2!B$12","v":1.2736318407960168},{"$f":"x^3+5","v":7.066006690884071},7.026032331120483,{"$f":"F130+dx","v":0.4378109452736321},{"$f":"IF(F130<xx,0.92*D46,0)","v":4.67206012461393}]
[null,null,{"$f":"C131+Sheet2!B$12","v":1.2835820895522356},7.114808004974,{"$f":"E131+dx*(D131+D132)/2","v":7.096583648015299},{"$f":"IF(C46<xx,C47,C$3)","v":0.4378109452736321},{"$f":"0","v":0}]
[null,null,{"$f":"C132+Sheet2!B$12","v":1.2935323383084545},7.164371824203636,7.167624343682849,{"$f":"F132","v":0.4378109452736321},{"$f":"IF(F133<xx,0.92*D46,0)","v":4.67206012461393}]
[null,null,{"$f":"C133+Sheet2!B$12","v":1.3034825870646733},7.214704059465532,7.239162034646378,{"$f":"F133+dx","v":0.44776119402985104},{"$f":"IF(F133<xx,0.92*D47,0)","v":4.6772053989600035}]
[null,null,{"$f":"C134+Sheet2!B$12","v":1.3134328358208922},7.265810621652248,7.311204396243978,{"$f":"IF(C47<xx,C48,C$3)","v":0.44776119402985104},{"$f":"0","v":0}]
[null,null,{"$f":"C135+Sheet2!B$12","v":1.323383084577111},7.3176974216563355,7.383759162628598,{"$f":"F135","v":0.44776119402985104},{"$f":"IF(F136<xx,0.92*D47,0)","v":4.6772053989600035}]
[null,null,{"$f":"C136+Sheet2!B$12","v":1.33333333333333},7.3703703703703525,7.456834126768034,{"$f":"F136+dx","v":0.45771144278606996},{"$f":"IF(F136<xx,0.92*D48,0)","v":4.682589946236739}]
[null,null,{"$f":"C137+Sheet2!B$12","v":1.3432835820895488},7.423835378686855,7.530437140444936,{"$f":"IF(C48<xx,C49,C$3)","v":0.45771144278606996},{"$f":"0","v":0}]
[null,null,{"$f":"C138+Sheet2!B$12","v":1.3532338308457676},7.478098357498397,7.604576114256803,{"$f":"F138","v":0.45771144278606996},{"$f":"IF(F139<xx,0.92*D48,0)","v":4.682589946236739}]
[null,null,{"$f":"C139+Sheet2!B$12","v":1.3631840796019865},7.533165217697538,7.679259017615987,{"$f":"F139+dx","v":0.46766169154228887},{"$f":"IF(F139<xx,0.92*D49,0)","v":4.688219204465286}]
[null,null,{"$f":"C140+Sheet2!B$12","v":1.3731343283582054},7.58904187017683,7.75449387874969,{"$f":"IF(C49<xx,C50,C$3)","v":0.46766169154228887},{"$f":"0","v":0}]
[null,null,{"$f":"C141+Sheet2!B$12","v":1.3830845771144242},7.64573422582883,7.830288784699967,{"$f":"F141","v":0.46766169154228887},{"$f":"IF(F142<xx,0.92*D49,0)","v":4.688219204465286}]
[null,null,{"$f":"C142+Sheet2!B$12","v":1.393034825870643},7.703248195546097,7.9066518813237225,{"$f":"F142+dx","v":0.4776119402985078},{"$f":"IF(F142<xx,0.92*D50,0)","v":4.6940986116667975}]
[null,null,{"$f":"C143+Sheet2!B$12","v":1.402985074626862},7.761589690221182,7.983591373292714,{"$f":"IF(C50<xx,C51,C$3)","v":0.4776119402985078},{"$f":"0","v":0}]
[null,null,{"$f":"C144+Sheet2!B$12","v":1.4129353233830808},7.820764620746644,8.061115524093548,{"$f":"F144","v":0.4776119402985078},{"$f":"IF(F145<xx,0.92*D50,0)","v":4.6940986116667975}]
[null,null,{"$f":"C145+Sheet2!B$12","v":1.4228855721392997},7.880778898015038,8.139232656027685,{"$f":"F145+dx","v":0.4875621890547267},{"$f":"IF(F145<xx,0.92*D51,0)","v":4.700233605862424}]
[null,null,{"$f":"C146+Sheet2!B$12","v":1.4328358208955185},7.94163843291892,8.217951150211436,{"$f":"IF(C51<xx,C52,C$3)","v":0.4875621890547267},{"$f":"0","v":0}]
[null,null,{"$f":"C147+Sheet2!B$12","v":1.4427860696517374},8.003349136350845,8.297279446575962,{"$f":"F147","v":0.4875621890547267},{"$f":"IF(F148<xx,0.92*D51,0)","v":4.700233605862424}]
[null,null,{"$f":"C148+Sheet2!B$12","v":1.4527363184079563},8.065916919203369,8.377226043867276,{"$f":"F148+dx","v":0.4975124378109456},{"$f":"IF(F148<xx,0.92*D52,0)","v":4.706629625073317}]
[null,null,{"$f":"C149+Sheet2!B$12","v":1.462686567164175},8.129347692369048,8.457799499646244,{"$f":"IF(C52<xx,C53,C$3)","v":0.4975124378109456},{"$f":"0","v":0}]
[null,null,{"$f":"C150+Sheet2!B$12","v":1.472636815920394},8.193647366740441,8.539008430288579,{"$f":"F150","v":0.4975124378109456},{"$f":"IF(F151<xx,0.92*D52,0)","v":4.706629625073317}]
[null,null,{"$f":"C151+Sheet2!B$12","v":1.4825870646766128},8.2588218532101,8.62086151098485,{"$f":"F151+dx","v":0.5074626865671645},{"$f":"IF(F151<xx,0.92*D53,0)","v":4.713292107320628}]
[null,null,{"$f":"C152+Sheet2!B$12","v":1.4925373134328317},8.32487706267058,8.703367475740476,{"$f":"IF(C53<xx,C54,C$3)","v":0.5074626865671645},{"$f":"0","v":0}]
[null,null,{"$f":"C153+Sheet2!B$12","v":1.5024875621890506},8.391818906014441,8.786535117375726,{"$f":"F153","v":0.5074626865671645},{"$f":"IF(F154<xx,0.92*D53,0)","v":4.713292107320628}]
[null,null,{"$f":"C154+Sheet2!B$12","v":1.5124378109452694},8.459653294134235,8.87037328752572,{"$f":"F154+dx","v":0.5174129353233834},{"$f":"IF(F154<xx,0.92*D54,0)","v":4.72022649062551}]
[null,null,{"$f":"C155+Sheet2!B$12","v":1.5223880597014883},8.52838613792252,8.95489089664043,{"$f":"IF(C54<xx,C55,C$3)","v":0.5174129353233834},{"$f":"0","v":0}]
[null,null,{"$f":"C156+Sheet2!B$12","v":1.5323383084577071},8.598023348271852,9.04009691398468,{"$f":"F156","v":0.5174129353233834},{"$f":"IF(F157<xx,0.92*D54,0)","v":4.72022649062551}]
[null,null,{"$f":"C157+Sheet2!B$12","v":1.542288557213926},8.668570836074787,9.126000367638145,{"$f":"F157+dx","v":0.5273631840796023},{"$f":"IF(F157<xx,0.92*D55,0)","v":4.727438213009112}]
[null,null,{"$f":"C158+Sheet2!B$12","v":1.5522388059701449},8.740034512223879,9.212610344495353,{"$f":"IF(C55<xx,C56,C$3)","v":0.5273631840796023},{"$f":"0","v":0}]
[null,null,{"$f":"C159+Sheet2!B$12","v":1.5621890547263637},8.812420287611685,9.299935990265679,{"$f":"F159","v":0.5273631840796023},{"$f":"IF(F160<xx,0.92*D55,0)","v":4.727438213009112}]
[null,null,{"$f":"C160+Sheet2!B$12","v":1.5721393034825826},8.885734073130761,9.387986509473352,{"$f":"F160+dx","v":0.5373134328358211},{"$f":"IF(F160<xx,0.92*D56,0)","v":4.7349327124925855}]
[null,null,{"$f":"C161+Sheet2!B$12","v":1.5820895522388014},8.959981779673662,9.476771165457453,{"$f":"IF(C56<xx,C57,C$3)","v":0.5373134328358211},{"$f":"0","v":0}]
[null,null,{"$f":"C162+Sheet2!B$12","v":1.5920398009950203},9.035169318132946,9.566299280371915,{"$f":"F162","v":0.5373134328358211},{"$f":"IF(F163<xx,0.92*D56,0)","v":4.7349327124925855}]
[null,null,{"$f":"C163+Sheet2!B$12","v":1.6019900497512392},9.111302599401167,9.656580235185517,{"$f":"F163+dx","v":0.54726368159204},{"$f":"IF(F163<xx,0.92*D57,0)","v":4.7427154270970835}]
[null,null,{"$f":"C164+Sheet2!B$12","v":1.611940298507458},9.18838753437088,9.747623469681896,{"$f":"IF(C57<xx,C58,C$3)","v":0.54726368159204},{"$f":"0","v":0}]
[null,null,{"$f":"C165+Sheet2!B$12","v":1.6218905472636769},9.266430033934643,9.839438482459535,{"$f":"F165","v":0.54726368159204},{"$f":"IF(F166<xx,0.92*D57,0)","v":4.7427154270970835}]
[null,null,{"$f":"C166+Sheet2!B$12","v":1.6318407960198957},9.345436008985011,9.932034830931771,{"$f":"F166+dx","v":0.5572139303482588},{"$f":"IF(F166<xx,0.92*D58,0)","v":4.750791794843757}]
[null,null,{"$f":"C167+Sheet2!B$12","v":1.6417910447761146},9.42541137041454,10.025422131326794,{"$f":"IF(C58<xx,C59,C$3)","v":0.5572139303482588},{"$f":"0","v":0}]
[null,null,{"$f":"C168+Sheet2!B$12","v":1.6517412935323335},9.506362029115785,10.119610058687641,{"$f":"F168","v":0.5572139303482588},{"$f":"IF(F169<xx,0.92*D58,0)","v":4.750791794843757}]
[null,null,{"$f":"C169+Sheet2!B$12","v":1.6616915422885523},9.588293895981304,10.214608346872204,{"$f":"F169+dx","v":0.5671641791044777},{"$f":"IF(F169<xx,0.92*D59,0)","v":4.759167253753756}]
[null,null,{"$f":"C170+Sheet2!B$12","v":1.6716417910447712},9.67121288190365,10.310426788553224,{"$f":"IF(C59<xx,C60,C$3)","v":0.5671641791044777},{"$f":"0","v":0}]
[null,null,{"$f":"C171+Sheet2!B$12","v":1.68159203980099},9.755124897775381,10.407075235218294,{"$f":"F171","v":0.5671641791044777},{"$f":"IF(F172<xx,0.92*D59,0)","v":4.759167253753756}]
[null,null,{"$f":"C172+Sheet2!B$12","v":1.691542288557209},9.840035854489052,10.504563597169858,{"$f":"F172+dx","v":0.5771144278606966},{"$f":"IF(F172<xx,0.92*D60,0)","v":4.767847241848233}]
[null,null,{"$f":"C173+Sheet2!B$12","v":1.7014925373134278},9.92595166293722,10.602901843525212,{"$f":"IF(C60<xx,C61,C$3)","v":0.5771144278606966},{"$f":"0","v":0}]
[null,null,{"$f":"C174+Sheet2!B$12","v":1.7114427860696466},10.012878234012437,10.702100002216504,{"$f":"F174","v":0.5771144278606966},{"$f":"IF(F175<xx,0.92*D60,0)","v":4.767847241848233}]
[null,null,{"$f":"C175+Sheet2!B$12","v":1.7213930348258655},10.100821478607264,10.802168159990732,{"$f":"F175+dx","v":0.5870646766169154},{"$f":"IF(F175<xx,0.92*D61,0)","v":4.776837197148339}]
[null,null,{"$f":"C176+Sheet2!B$12","v":1.7313432835820843},10.189787307614253,10.903116462409745,{"$f":"IF(C61<xx,C62,C$3)","v":0.5870646766169154},{"$f":"0","v":0}]
[null,null,{"$f":"C177+Sheet2!B$12","v":1.7412935323383032},10.279781631925964,11.004955113850244,{"$f":"F177","v":0.5870646766169154},{"$f":"IF(F178<xx,0.92*D61,0)","v":4.776837197148339}]
[null,null,{"$f":"C178+Sheet2!B$12","v":1.751243781094522},10.370810362434948,11.10769437750378,{"$f":"F178+dx","v":0.5970149253731343},{"$f":"IF(F178<xx,0.92*D62,0)","v":4.786142557675227}]
[null,null,{"$f":"C179+Sheet2!B$12","v":1.761194029850741},10.462879410033764,11.211344575376758,{"$f":"IF(C62<xx,C63,C$3)","v":0.5970149253731343},{"$f":"0","v":0}]
[null,null,{"$f":"C180+Sheet2!B$12","v":1.7711442786069598},10.555994685614968,11.315916088290434,{"$f":"F180","v":0.5970149253731343},{"$f":"IF(F181<xx,0.92*D62,0)","v":4.786142557675227}]
[null,null,{"$f":"C181+Sheet2!B$12","v":1.7810945273631786},10.650162100071114,11.421419355880913,{"$f":"F181+dx","v":0.6069651741293531},{"$f":"IF(F181<xx,0.92*D63,0)","v":4.795768761450046}]
[null,null,{"$f":"C182+Sheet2!B$12","v":1.7910447761193975},10.745387564294756,11.52786487659915,{"$f":"IF(C63<xx,C64,C$3)","v":0.6069651741293531},{"$f":"0","v":0}]
[null,null,{"$f":"C183+Sheet2!B$12","v":1.8009950248756164},10.841676989178456,11.635263207710956,{"$f":"F183","v":0.6069651741293531},{"$f":"IF(F184<xx,0.92*D63,0)","v":4.795768761450046}]
[null,null,{"$f":"C184+Sheet2!B$12","v":1.8109452736318352},10.939036285614765,11.743624965296991,{"$f":"F184+dx","v":0.616915422885572},{"$f":"IF(F184<xx,0.92*D64,0)","v":4.805721246493948}]
[null,null,{"$f":"C185+Sheet2!B$12","v":1.820895522388054},11.037471364496241,11.852960824252767,{"$f":"IF(C64<xx,C65,C$3)","v":0.616915422885572},{"$f":"0","v":0}]
[null,null,{"$f":"C186+Sheet2!B$12","v":1.830845771144273},11.13698813671544,11.963281518288646,{"$f":"F186","v":0.616915422885572},{"$f":"IF(F187<xx,0.92*D64,0)","v":4.805721246493948}]
[null,null,{"$f":"C187+Sheet2!B$12","v":1.8407960199004918},11.237592513164916,12.074597839929842,{"$f":"F187+dx","v":0.6268656716417909},{"$f":"IF(F187<xx,0.92*D65,0)","v":4.816005450828086}]
[null,null,{"$f":"C188+Sheet2!B$12","v":1.8507462686567107},11.339290404737227,12.18692064051642,{"$f":"IF(C65<xx,C66,C$3)","v":0.6268656716417909},{"$f":"0","v":0}]
[null,null,{"$f":"C189+Sheet2!B$12","v":1.8606965174129295},11.442087722324924,12.300260830203296,{"$f":"F189","v":0.6268656716417909},{"$f":"IF(F190<xx,0.92*D65,0)","v":4.816005450828086}]
[null,null,{"$f":"C190+Sheet2!B$12","v":1.8706467661691484},11.54599037682057,12.414629377960239,{"$f":"F190+dx","v":0.6368159203980097},{"$f":"IF(F190<xx,0.92*D66,0)","v":4.826626812473609}]
[null,null,{"$f":"C191+Sheet2!B$12","v":1.8805970149253672},11.651004279116718,12.530037311571867,{"$f":"IF(C66<xx,C67,C$3)","v":0.6368159203980097},{"$f":"0","v":0}]
[null,null,{"$f":"C192+Sheet2!B$12","v":1.890547263681586},11.757135340105922,12.64649571763765,{"$f":"F192","v":0.6368159203980097},{"$f":"IF(F193<xx,0.92*D66,0)","v":4.826626812473609}]
[null,null,{"$f":"C193+Sheet2!B$12","v":1.900497512437805},11.864389470680738,12.764015741571912,{"$f":"F193+dx","v":0.6467661691542286},{"$f":"IF(F193<xx,0.92*D67,0)","v":4.837590769451669}]
[null,null,{"$f":"C194+Sheet2!B$12","v":1.9104477611940238},{"$f":"x^3+5","v":11.972772581733725},12.882608587603825,{"$f":"IF(C67<xx,C68,C$3)","v":0.6467661691542286},{"$f":"0","v":0}]
[null,null,{"$f":"C195+Sheet2!B$12","v":1.9203980099502427},12.082290584157434,{"$f":"E195+dx*(D195+D196)/2","v":13.002285518777413},{"$f":"F195","v":0.6467661691542286},{"$f":"IF(F196<xx,0.92*D67,0)","v":4.837590769451669}]
[null,null,{"$f":"C196+Sheet2!B$12","v":1.9303482587064615},12.192949388844427,13.12305785695155,{"$f":"F196+dx","v":0.6567164179104474},{"$f":"IF(F196<xx,0.92*D68,0)","v":4.84890275978342}]
[null,null,{"$f":"C197+Sheet2!B$12","v":1.9402985074626804},12.304754906687256,13.244936982799967,{"$f":"IF(C68<xx,C69,C$3)","v":0.6567164179104474},{"$f":"0","v":0}]
[null,null,{"$f":"C198+Sheet2!B$12","v":1.9502487562188993},12.417713048578477,13.367934335811238,{"$f":"F198","v":0.6567164179104474},{"$f":"IF(F199<xx,0.92*D68,0)","v":4.84890275978342}]
[null,null,{"$f":"C199+Sheet2!B$12","v":1.9601990049751181},12.531829725410645,13.492061414288797,{"$f":"F199+dx","v":0.6666666666666663},{"$f":"IF(F199<xx,0.92*D69,0)","v":4.860568221490011}]
[null,null,{"$f":"C200+Sheet2!B$12","v":1.970149253731337},12.64711084807632,13.617329775350921,{"$f":"IF(C69<xx,C70,C$3)","v":0.6666666666666663},{"$f":"0","v":0}]
[null,null,{"$f":"C201+Sheet2!B$12","v":1.9800995024875558},12.763562327468051,13.743751034930744,{"$f":"F201","v":0.6666666666666663},{"$f":"IF(F202<xx,0.92*D69,0)","v":4.860568221490011}]
[null,null,{"$f":"C202+Sheet2!B$12","v":1.9900497512437747},12.8811900744784,13.871336867776249,{"$f":"F202+dx","v":0.6766169154228852},{"$f":"IF(F202<xx,0.92*D70,0)","v":4.872592592592593}]
[null,null,{"$f":"C203+Sheet2!B$12","v":1.9999999999999936},12.999999999999922,14.00009900745027,{"$f":"IF(C70<xx,C71,C$3)","v":0.6766169154228852},{"$f":"0","v":0}]
[{"$nulls":5},{"$f":"F204","v":0.6766169154228852},{"$f":"IF(F205<xx,0.92*D70,0)","v":4.872592592592593}]
[{"$nulls":5},{"$f":"F205+dx","v":0.686567164179104},{"$f":"IF(F205<xx,0.92*D71,0)","v":4.884981311112317}]
[{"$nulls":5},{"$f":"IF(C71<xx,C72,C$3)","v":0.686567164179104},{"$f":"0","v":0}]
[{"$nulls":5},{"$f":"F207","v":0.686567164179104},{"$f":"IF(F208<xx,0.92*D71,0)","v":4.884981311112317}]
[{"$nulls":5},{"$f":"F208+dx","v":0.6965174129353229},{"$f":"IF(F208<xx,0.92*D72,0)","v":4.897739815070337}]
[{"$nulls":5},{"$f":"IF(C72<xx,C73,C$3)","v":0.6965174129353229},{"$f":"0","v":0}]
[{"$nulls":5},{"$f":"F210","v":0.6965174129353229},{"$f":"IF(F211<xx,0.92*D72,0)","v":4.897739815070337}]
[{"$nulls":5},{"$f":"F211+dx","v":0.7064676616915417},{"$f":"IF(F211<xx,0.92*D73,0)","v":4.910873542487803}]
[{"$nulls":5},{"$f":"IF(C73<xx,C74,C$3)","v":0.7064676616915417},{"$f":"0","v":0}]
[{"$nulls":5},{"$f":"F213","v":0.7064676616915417},{"$f":"IF(F214<xx,0.92*D73,0)","v":4.910873542487803}]
[{"$nulls":5},{"$f":"F214+dx","v":0.7164179104477606},{"$f":"IF(F214<xx,0.92*D74,0)","v":4.924387931385866}]
[{"$nulls":5},{"$f":"IF(C74<xx,C75,C$3)","v":0.7164179104477606},{"$f":"0","v":0}]
[{"$nulls":5},{"$f":"F216","v":0.7164179104477606},{"$f":"IF(F217<xx,0.92*D74,0)","v":4.924387931385866}]
[{"$nulls":5},{"$f":"F217+dx","v":0.7263681592039795},{"$f":"IF(F217<xx,0.92*D75,0)","v":4.938288419785678}]
[{"$nulls":5},{"$f":"IF(C75<xx,C76,C$3)","v":0.7263681592039795},{"$f":"0","v":0}]
[{"$nulls":5},{"$f":"F219","v":0.7263681592039795},{"$f":"IF(F220<xx,0.92*D75,0)","v":4.938288419785678}]
[{"$nulls":5},{"$f":"F220+dx","v":0.7363184079601983},{"$f":"IF(F220<xx,0.92*D76,0)","v":4.9525804457083895}]
[{"$nulls":5},{"$f":"IF(C76<xx,C77,C$3)","v":0.7363184079601983},{"$f":"0","v":0}]
[{"$nulls":5},{"$f":"F222","v":0.7363184079601983},{"$f":"IF(F223<xx,0.92*D76,0)","v":4.9525804457083895}]
[{"$nulls":5},{"$f":"F223+dx","v":0.7462686567164172},{"$f":"IF(F223<xx,0.92*D77,0)","v":4.967269447175153}]
[{"$nulls":5},{"$f":"IF(C77<xx,C78,C$3)","v":0.7462686567164172},{"$f":"0","v":0}]
[{"$nulls":5},{"$f":"F225","v":0.7462686567164172},{"$f":"IF(F226<xx,0.92*D77,0)","v":4.967269447175153}]
[{"$nulls":5},{"$f":"F226+dx","v":0.756218905472636},{"$f":"IF(F226<xx,0.92*D78,0)","v":4.982360862207119}]
[{"$nulls":5},{"$f":"IF(C78<xx,C79,C$3)","v":0.756218905472636},{"$f":"0","v":0}]
[{"$nulls":5},{"$f":"F228","v":0.756218905472636},{"$f":"IF(F229<xx,0.92*D78,0)","v":4.982360862207119}]
[{"$nulls":5},{"$f":"F229+dx","v":0.7661691542288549},{"$f":"IF(F229<xx,0.92*D79,0)","v":4.997860128825439}]
[{"$nulls":5},{"$f":"IF(C79<xx,C80,C$3)","v":0.7661691542288549},{"$f":"0","v":0}]
[{"$nulls":5},{"$f":"F231","v":0.7661691542288549},{"$f":"IF(F232<xx,0.92*D79,0)","v":4.997860128825439}]
[{"$nulls":5},{"$f":"F232+dx","v":0.7761194029850738},{"$f":"IF(F232<xx,0.92*D80,0)","v":5.013772685051266}]
[{"$nulls":5},{"$f":"IF(C80<xx,C81,C$3)","v":0.7761194029850738},{"$f":"0","v":0}]
[{"$nulls":5},{"$f":"F234","v":0.7761194029850738},{"$f":"IF(F235<xx,0.92*D80,0)","v":5.013772685051266}]
[{"$nulls":5},{"$f":"F235+dx","v":0.7860696517412926},{"$f":"IF(F235<xx,0.92*D81,0)","v":5.030103968905749}]
[{"$nulls":5},{"$f":"IF(C81<xx,C82,C$3)","v":0.7860696517412926},{"$f":"0","v":0}]
[{"$nulls":5},{"$f":"F237","v":0.7860696517412926},{"$f":"IF(F238<xx,0.92*D81,0)","v":5.030103968905749}]
[{"$nulls":5},{"$f":"F238+dx","v":0.7960199004975115},{"$f":"IF(F238<xx,0.92*D82,0)","v":5.0468594184100395}]
[{"$nulls":5},{"$f":"IF(C82<xx,C83,C$3)","v":0.7960199004975115},{"$f":"0","v":0}]
[{"$nulls":5},{"$f":"F240","v":0.7960199004975115},{"$f":"IF(F241<xx,0.92*D82,0)","v":5.0468594184100395}]
[{"$nulls":5},{"$f":"F241+dx","v":0.8059701492537303},{"$f":"IF(F241<xx,0.92*D83,0)","v":5.064044471585291}]
[{"$nulls":5},{"$f":"IF(C83<xx,C84,C$3)","v":0.8059701492537303},{"$f":"0","v":0}]
[{"$nulls":5},{"$f":"F243","v":0.8059701492537303},{"$f":"IF(F244<xx,0.92*D83,0)","v":5.064044471585291}]
[{"$nulls":5},{"$f":"F244+dx","v":0.8159203980099492},{"$f":"IF(F244<xx,0.92*D84,0)","v":5.0816645664526545}]
[{"$nulls":5},{"$f":"IF(C84<xx,C85,C$3)","v":0.8159203980099492},{"$f":"0","v":0}]
[{"$nulls":5},{"$f":"F246","v":0.8159203980099492},{"$f":"IF(F247<xx,0.92*D84,0)","v":5.0816645664526545}]
[{"$nulls":5},{"$f":"F247+dx","v":0.8258706467661681},{"$f":"IF(F247<xx,0.92*D85,0)","v":5.099725141033279}]
[{"$nulls":5},{"$f":"IF(C85<xx,C86,C$3)","v":0.8258706467661681},{"$f":"0","v":0}]
[{"$nulls":5},{"$f":"F249","v":0.8258706467661681},{"$f":"IF(F250<xx,0.92*D85,0)","v":5.099725141033279}]
[{"$nulls":5},{"$f":"F250+dx","v":0.8358208955223869},{"$f":"IF(F250<xx,0.92*D86,0)","v":5.1182316333483175}]
[{"$nulls":5},{"$f":"IF(C86<xx,C87,C$3)","v":0.8358208955223869},{"$f":"0","v":0}]
[{"$nulls":5},{"$f":"F252","v":0.8358208955223869},{"$f":"IF(F253<xx,0.92*D86,0)","v":5.1182316333483175}]
[{"$nulls":5},{"$f":"F253+dx","v":0.8457711442786058},{"$f":"IF(F253<xx,0.92*D87,0)","v":5.137189481418923}]
[{"$nulls":5},{"$f":"IF(C87<xx,C88,C$3)","v":0.8457711442786058},{"$f":"0","v":0}]
[{"$nulls":5},{"$f":"F255","v":0.8457711442786058},{"$f":"IF(F256<xx,0.92*D87,0)","v":5.137189481418923}]
[{"$nulls":5},{"$f":"F256+dx","v":0.8557213930348246},{"$f":"IF(F256<xx,0.92*D88,0)","v":5.156604123266244}]
[{"$nulls":5},{"$f":"IF(C88<xx,C89,C$3)","v":0.8557213930348246},{"$f":"0","v":0}]
[{"$nulls":5},{"$f":"F258","v":0.8557213930348246},{"$f":"IF(F259<xx,0.92*D88,0)","v":5.156604123266244}]
[{"$nulls":5},{"$f":"F259+dx","v":0.8656716417910435},{"$f":"IF(F259<xx,0.92*D89,0)","v":5.176480996911433}]
[{"$nulls":5},{"$f":"IF(C89<xx,C90,C$3)","v":0.8656716417910435},{"$f":"0","v":0}]
[{"$nulls":5},{"$f":"F261","v":0.8656716417910435},{"$f":"IF(F262<xx,0.92*D89,0)","v":5.176480996911433}]
[{"$nulls":5},{"$f":"F262+dx","v":0.8756218905472624},{"$f":"IF(F262<xx,0.92*D90,0)","v":5.1968255403756425}]
[{"$nulls":5},{"$f":"IF(C90<xx,C91,C$3)","v":0.8756218905472624},{"$f":"0","v":0}]
[{"$nulls":5},{"$f":"F264","v":0.8756218905472624},{"$f":"IF(F265<xx,0.92*D90,0)","v":5.1968255403756425}]
[{"$nulls":5},{"$f":"F265+dx","v":0.8855721393034812},{"$f":"IF(F265<xx,0.92*D91,0)","v":5.217643191680022}]
[{"$nulls":5},{"$f":"IF(C91<xx,C92,C$3)","v":0.8855721393034812},{"$f":"0","v":0}]
[{"$nulls":5},{"$f":"F267","v":0.8855721393034812},{"$f":"IF(F268<xx,0.92*D91,0)","v":5.217643191680022}]
[{"$nulls":5},{"$f":"F268+dx","v":0.8955223880597001},{"$f":"IF(F268<xx,0.92*D92,0)","v":5.238939388845724}]
[{"$nulls":5},{"$f":"IF(C92<xx,C93,C$3)","v":0.8955223880597001},{"$f":"0","v":0}]
[{"$nulls":5},{"$f":"F270","v":0.8955223880597001},{"$f":"IF(F271<xx,0.92*D92,0)","v":5.238939388845724}]
[{"$nulls":5},{"$f":"F271+dx","v":0.9054726368159189},{"$f":"IF(F271<xx,0.92*D93,0)","v":5.2607195698939}]
[{"$nulls":5},{"$f":"IF(C93<xx,C94,C$3)","v":0.9054726368159189},{"$f":"0","v":0}]
[{"$nulls":5},{"$f":"F273","v":0.9054726368159189},{"$f":"IF(F274<xx,0.92*D93,0)","v":5.2607195698939}]
[{"$nulls":5},{"$f":"F274+dx","v":0.9154228855721378},{"$f":"IF(F274<xx,0.92*D94,0)","v":5.282989172845701}]
[{"$nulls":5},{"$f":"IF(C94<xx,C95,C$3)","v":0.9154228855721378},{"$f":"0","v":0}]
[{"$nulls":5},{"$f":"F276","v":0.9154228855721378},{"$f":"IF(F277<xx,0.92*D94,0)","v":5.282989172845701}]
[{"$nulls":5},{"$f":"F277+dx","v":0.9253731343283567},{"$f":"IF(F277<xx,0.92*D95,0)","v":5.3057536357222785}]
[{"$nulls":5},{"$f":"IF(C95<xx,C96,C$3)","v":0.9253731343283567},{"$f":"0","v":0}]
[{"$nulls":5},{"$f":"F279","v":0.9253731343283567},{"$f":"IF(F280<xx,0.92*D95,0)","v":5.3057536357222785}]
[{"$nulls":5},{"$f":"F280+dx","v":0.9353233830845755},{"$f":"IF(F280<xx,0.92*D96,0)","v":5.329018396544785}]
[{"$nulls":5},{"$f":"IF(C96<xx,C97,C$3)","v":0.9353233830845755},{"$f":"0","v":0}]
[{"$nulls":5},{"$f":"F282","v":0.9353233830845755},{"$f":"IF(F283<xx,0.92*D96,0)","v":5.329018396544785}]
[{"$nulls":5},{"$f":"F283+dx","v":0.9452736318407944},{"$f":"IF(F283<xx,0.92*D97,0)","v":5.352788893334369}]
[{"$nulls":5},{"$f":"IF(C97<xx,C98,C$3)","v":0.9452736318407944},{"$f":"0","v":0}]
[{"$nulls":5},{"$f":"F285","v":0.9452736318407944},{"$f":"IF(F286<xx,0.92*D97,0)","v":5.352788893334369}]
[{"$nulls":5},{"$f":"F286+dx","v":0.9552238805970132},{"$f":"IF(F286<xx,0.92*D98,0)","v":5.377070564112184}]
[{"$nulls":5},{"$f":"IF(C98<xx,C99,C$3)","v":0.9552238805970132},{"$f":"0","v":0}]
[{"$nulls":5},{"$f":"F288","v":0.9552238805970132},{"$f":"IF(F289<xx,0.92*D98,0)","v":5.377070564112184}]
[{"$nulls":5},{"$f":"F289+dx","v":0.9651741293532321},{"$f":"IF(F289<xx,0.92*D99,0)","v":5.401868846899381}]
[{"$nulls":5},{"$f":"IF(C99<xx,C100,C$3)","v":0.9651741293532321},{"$f":"0","v":0}]
[{"$nulls":5},{"$f":"F291","v":0.9651741293532321},{"$f":"IF(F292<xx,0.92*D99,0)","v":5.401868846899381}]
[{"$nulls":5},{"$f":"F292+dx","v":0.975124378109451},{"$f":"IF(F292<xx,0.92*D100,0)","v":5.427189179717113}]
[{"$nulls":5},{"$f":"IF(C100<xx,C101,C$3)","v":0.975124378109451},{"$f":"0","v":0}]
[{"$nulls":5},{"$f":"F294","v":0.975124378109451},{"$f":"IF(F295<xx,0.92*D100,0)","v":5.427189179717113}]
[{"$nulls":5},{"$f":"F295+dx","v":0.9850746268656698},{"$f":"IF(F295<xx,0.92*D101,0)","v":5.453037000586528}]
[{"$nulls":5},{"$f":"IF(C101<xx,C102,C$3)","v":0.9850746268656698},{"$f":"0","v":0}]
[{"$nulls":5},{"$f":"F297","v":0.9850746268656698},{"$f":"IF(F298<xx,0.92*D101,0)","v":5.453037000586528}]
[{"$nulls":5},{"$f":"F298+dx","v":0.9950248756218887},{"$f":"IF(F298<xx,0.92*D102,0)","v":5.479417747528781}]
[{"$nulls":5},{"$f":"IF(C102<xx,C103,C$3)","v":0.9950248756218887},{"$f":"0","v":0}]
[{"$nulls":5},{"$f":"F300","v":0.9950248756218887},{"$f":"IF(F301<xx,0.93*D102,0)","v":5.538976636088877}]
[{"$nulls":5},{"$f":"F301+dx","v":1.0049751243781075},{"$f":"IF(F301<xx,0.93*D103,0)","v":5.566188346158118}]
[{"$nulls":5},{"$f":"IF(C103<xx,C104,C$3)","v":1.0049751243781075},{"$f":"0","v":0}]
[{"$nulls":5},{"$f":"F303","v":1.0049751243781075},{"$f":"IF(F304<xx,0.93*D103,0)","v":5.566188346158118}]
[{"$nulls":5},{"$f":"F304+dx","v":1.0149253731343264},{"$f":"IF(F304<xx,0.93*D104,0)","v":5.593949769235055}]
[{"$nulls":5},{"$f":"IF(C104<xx,C105,C$3)","v":1.0149253731343264},{"$f":"0","v":0}]
[{"$nulls":5},{"$f":"F306","v":1.0149253731343264},{"$f":"IF(F307<xx,0.93*D104,0)","v":5.593949769235055}]
[{"$nulls":5},{"$f":"F307+dx","v":1.0248756218905453},{"$f":"IF(F307<xx,0.93*D105,0)","v":5.622266402449764}]
[{"$nulls":5},{"$f":"IF(C105<xx,C106,C$3)","v":1.0248756218905453},{"$f":"0","v":0}]
[{"$nulls":5},{"$f":"F309","v":1.0248756218905453},{"$f":"IF(F310<xx,0.93*D105,0)","v":5.622266402449764}]
[{"$nulls":5},{"$f":"F310+dx","v":1.0348258706467641},{"$f":"IF(F310<xx,0.93*D106,0)","v":5.651143742932321}]
[{"$nulls":5},{"$f":"IF(C106<xx,C107,C$3)","v":1.0348258706467641},{"$f":"0","v":0}]
[{"$nulls":5},{"$f":"F312","v":1.0348258706467641},{"$f":"IF(F313<xx,0.93*D106,0)","v":5.651143742932321}]
[{"$nulls":5},{"$f":"F313+dx","v":1.044776119402983},{"$f":"IF(F313<xx,0.93*D107,0)","v":5.680587287812806}]
[{"$nulls":5},{"$f":"IF(C107<xx,C108,C$3)","v":1.044776119402983},{"$f":"0","v":0}]
[{"$nulls":5},{"$f":"F315","v":1.044776119402983},{"$f":"IF(F316<xx,0.93*D107,0)","v":5.680587287812806}]
[{"$nulls":5},{"$f":"F316+dx","v":1.0547263681592018},{"$f":"IF(F316<xx,0.93*D108,0)","v":5.710602534221291}]
[{"$nulls":5},{"$f":"IF(C108<xx,C109,C$3)","v":1.0547263681592018},{"$f":"0","v":0}]
[{"$nulls":5},{"$f":"F318","v":1.0547263681592018},{"$f":"IF(F319<xx,0.93*D108,0)","v":5.710602534221291}]
[{"$nulls":5},{"$f":"F319+dx","v":1.0646766169154207},{"$f":"IF(F319<xx,0.93*D109,0)","v":5.741194979287857}]
[{"$nulls":5},{"$f":"IF(C109<xx,C110,C$3)","v":1.0646766169154207},{"$f":"0","v":0}]
[{"$nulls":5},{"$f":"F321","v":1.0646766169154207},{"$f":"IF(F322<xx,0.93*D109,0)","v":5.741194979287857}]
[{"$nulls":5},{"$f":"F322+dx","v":1.0746268656716396},{"$f":"IF(F322<xx,0.93*D110,0)","v":5.772370120142579}]
[{"$nulls":5},{"$f":"IF(C110<xx,C111,C$3)","v":1.0746268656716396},{"$f":"0","v":0}]
[{"$nulls":5},{"$f":"F324","v":1.0746268656716396},{"$f":"IF(F325<xx,0.93*D110,0)","v":5.772370120142579}]
[{"$nulls":5},{"$f":"F325+dx","v":1.0845771144278584},{"$f":"IF(F325<xx,0.93*D111,0)","v":5.804133453915535}]
[{"$nulls":5},{"$f":"IF(C111<xx,C112,C$3)","v":1.0845771144278584},{"$f":"0","v":0}]
[{"$nulls":5},{"$f":"F327","v":1.0845771144278584},{"$f":"IF(F328<xx,0.93*D111,0)","v":5.804133453915535}]
[{"$nulls":5},{"$f":"F328+dx","v":1.0945273631840773},{"$f":"IF(F328<xx,0.93*D112,0)","v":5.836490477736801}]
[{"$nulls":5},{"$f":"IF(C112<xx,C113,C$3)","v":1.0945273631840773},{"$f":"0","v":0}]
[{"$nulls":5},{"$f":"F330","v":1.0945273631840773},{"$f":"IF(F331<xx,0.93*D112,0)","v":5.836490477736801}]
[{"$nulls":5},{"$f":"F331+dx","v":1.1044776119402961},{"$f":"IF(F331<xx,0.93*D113,0)","v":5.8694466887364545}]
[{"$nulls":5},{"$f":"IF(C113<xx,C114,C$3)","v":1.1044776119402961},{"$f":"0","v":0}]
[{"$nulls":5},{"$f":"F333","v":1.1044776119402961},{"$f":"IF(F334<xx,0.93*D113,0)","v":5.8694466887364545}]
[{"$nulls":5},{"$f":"F334+dx","v":1.114427860696515},{"$f":"IF(F334<xx,0.93*D114,0)","v":5.903007584044572}]
[{"$nulls":5},{"$f":"IF(C114<xx,C115,C$3)","v":1.114427860696515},{"$f":"0","v":0}]
[{"$nulls":5},{"$f":"F336","v":1.114427860696515},{"$f":"IF(F337<xx,0.93*D114,0)","v":5.903007584044572}]
[{"$nulls":5},{"$f":"F337+dx","v":1.1243781094527339},{"$f":"IF(F337<xx,0.93*D115,0)","v":5.937178660791232}]
[{"$nulls":5},{"$f":"IF(C115<xx,C116,C$3)","v":1.1243781094527339},{"$f":"0","v":0}]
[{"$nulls":5},{"$f":"F339","v":1.1243781094527339},{"$f":"IF(F340<xx,0.93*D115,0)","v":5.937178660791232}]
[{"$nulls":5},{"$f":"F340+dx","v":1.1343283582089527},{"$f":"IF(F340<xx,0.93*D116,0)","v":5.971965416106509}]
[{"$nulls":5},{"$f":"IF(C116<xx,C117,C$3)","v":1.1343283582089527},{"$f":"0","v":0}]
[{"$nulls":5},{"$f":"F342","v":1.1343283582089527},{"$f":"IF(F343<xx,0.93*D116,0)","v":5.971965416106509}]
[{"$nulls":5},{"$f":"F343+dx","v":1.1442786069651716},{"$f":"IF(F343<xx,0.93*D117,0)","v":6.007373347120481}]
[{"$nulls":5},{"$f":"IF(C117<xx,C118,C$3)","v":1.1442786069651716},{"$f":"0","v":0}]
[{"$nulls":5},{"$f":"F345","v":1.1442786069651716},{"$f":"IF(F346<xx,0.93*D117,0)","v":6.007373347120481}]
[{"$nulls":5},{"$f":"F346+dx","v":1.1542288557213904},{"$f":"IF(F346<xx,0.93*D118,0)","v":6.043407950963227}]
[{"$nulls":5},{"$f":"IF(C118<xx,C119,C$3)","v":1.1542288557213904},{"$f":"0","v":0}]
[{"$nulls":5},{"$f":"F348","v":1.1542288557213904},{"$f":"IF(F349<xx,0.93*D118,0)","v":6.043407950963227}]
[{"$nulls":5},{"$f":"F349+dx","v":1.1641791044776093},{"$f":"IF(F349<xx,0.93*D119,0)","v":6.08007472476482}]
[{"$nulls":5},{"$f":"IF(C119<xx,C120,C$3)","v":1.1641791044776093},{"$f":"0","v":0}]
[{"$nulls":5},{"$f":"F351","v":1.1641791044776093},{"$f":"IF(F352<xx,0.93*D119,0)","v":6.08007472476482}]
[{"$nulls":5},{"$f":"F352+dx","v":1.1741293532338282},{"$f":"IF(F352<xx,0.93*D120,0)","v":6.117379165655341}]
[{"$nulls":5},{"$f":"IF(C120<xx,C121,C$3)","v":1.1741293532338282},{"$f":"0","v":0}]
[{"$nulls":5},{"$f":"F354","v":1.1741293532338282},{"$f":"IF(F355<xx,0.93*D120,0)","v":6.117379165655341}]
[{"$nulls":5},{"$f":"F355+dx","v":1.184079601990047},{"$f":"IF(F355<xx,0.93*D121,0)","v":6.155326770764863}]
[{"$nulls":5},{"$f":"IF(C121<xx,C122,C$3)","v":1.184079601990047},{"$f":"0","v":0}]
[{"$nulls":5},{"$f":"F357","v":1.184079601990047},{"$f":"IF(F358<xx,0.94*D121,0)","v":6.2215130801279255}]
[{"$nulls":5},{"$f":"F358+dx","v":1.1940298507462659},{"$f":"IF(F358<xx,0.94*D122,0)","v":6.260524360204363}]
[{"$nulls":5},{"$f":"IF(C122<xx,C123,C$3)","v":1.1940298507462659},{"$f":"0","v":0}]
[{"$nulls":5},{"$f":"F360","v":1.1940298507462659},{"$f":"IF(F361<xx,0.94*D122,0)","v":6.260524360204363}]
[{"$nulls":5},{"$f":"F361+dx","v":1.2039800995024847},{"$f":"IF(F361<xx,0.94*D123,0)","v":6.300196832722098}]
[{"$nulls":5},{"$f":"IF(C123<xx,C124,C$3)","v":1.2039800995024847},{"$f":"0","v":0}]
[{"$nulls":5},{"$f":"F363","v":1.2039800995024847},{"$f":"IF(F364<xx,0.94*D123,0)","v":6.300196832722098}]
[{"$nulls":5},{"$f":"F364+dx","v":1.2139303482587036},{"$f":"IF(F364<xx,0.94*D124,0)","v":6.340536053920135}]
[{"$nulls":5},{"$f":"IF(C124<xx,C125,C$3)","v":1.2139303482587036},{"$f":"0","v":0}]
[{"$nulls":5},{"$f":"F366","v":1.2139303482587036},{"$f":"IF(F367<xx,0.94*D124,0)","v":6.340536053920135}]
[{"$nulls":5},{"$f":"F367+dx","v":1.2238805970149225},{"$f":"IF(F367<xx,0.94*D125,0)","v":6.381547580037475}]
[{"$nulls":5},{"$f":"IF(C125<xx,C126,C$3)","v":1.2238805970149225},{"$f":"0","v":0}]
[{"$nulls":5},{"$f":"F369","v":1.2238805970149225},{"$f":"IF(F370<xx,0.94*D125,0)","v":6.381547580037475}]
[{"$nulls":5},{"$f":"F370+dx","v":1.2338308457711413},{"$f":"IF(F370<xx,0.94*D126,0)","v":6.423236967313121}]
[{"$nulls":5},{"$f":"IF(C126<xx,C127,C$3)","v":1.2338308457711413},{"$f":"0","v":0}]
[{"$nulls":5},{"$f":"F372","v":1.2338308457711413},{"$f":"IF(F373<xx,0.94*D126,0)","v":6.423236967313121}]
[{"$nulls":5},{"$f":"F373+dx","v":1.2437810945273602},{"$f":"IF(F373<xx,0.94*D127,0)","v":6.465609771986075}]
[{"$nulls":5},{"$f":"IF(C127<xx,C128,C$3)","v":1.2437810945273602},{"$f":"0","v":0}]
[{"$nulls":5},{"$f":"F375","v":1.2437810945273602},{"$f":"IF(F376<xx,0.94*D127,0)","v":6.465609771986075}]
[{"$nulls":5},{"$f":"F376+dx","v":1.253731343283579},{"$f":"IF(F376<xx,0.94*D128,0)","v":6.5086715502953405}]
[{"$nulls":5},{"$f":"IF(C128<xx,C129,C$3)","v":1.253731343283579},{"$f":"0","v":0}]
[{"$nulls":5},{"$f":"F378","v":1.253731343283579},{"$f":"IF(F379<xx,0.94*D128,0)","v":6.5086715502953405}]
[{"$nulls":5},{"$f":"F379+dx","v":1.263681592039798},{"$f":"IF(F379<xx,0.94*D129,0)","v":6.552427858479919}]
[{"$nulls":5},{"$f":"IF(C129<xx,C130,C$3)","v":1.263681592039798},{"$f":"0","v":0}]
[{"$nulls":5},{"$f":"F381","v":1.263681592039798},{"$f":"IF(F382<xx,0.94*D129,0)","v":6.552427858479919}]
[{"$nulls":5},{"$f":"F382+dx","v":1.2736318407960168},{"$f":"IF(F382<xx,0.94*D130,0)","v":6.596884252778813}]
[{"$nulls":5},{"$f":"IF(C130<xx,C131,C$3)","v":1.2736318407960168},{"$f":"0","v":0}]
[{"$nulls":5},{"$f":"F384","v":1.2736318407960168},{"$f":"IF(F385<xx,0.94*D130,0)","v":6.596884252778813}]
[{"$nulls":5},{"$f":"F385+dx","v":1.2835820895522356},{"$f":"IF(F385<xx,0.94*D131,0)","v":6.642046289431026}]
[{"$nulls":5},{"$f":"IF(C131<xx,C132,C$3)","v":1.2835820895522356},{"$f":"0","v":0}]
[{"$nulls":5},{"$f":"F387","v":1.2835820895522356},{"$f":"IF(F388<xx,0.94*D131,0)","v":6.642046289431026}]
[{"$nulls":5},{"$f":"F388+dx","v":1.2935323383084545},{"$f":"IF(F388<xx,0.94*D132,0)","v":6.68791952467556}]
[{"$nulls":5},{"$f":"IF(C132<xx,C133,C$3)","v":1.2935323383084545},{"$f":"0","v":0}]
[{"$nulls":5},{"$f":"F390","v":1.2935323383084545},{"$f":"IF(F391<xx,0.94*D132,0)","v":6.68791952467556}]
[{"$nulls":5},{"$f":"F391+dx","v":1.3034825870646733},{"$f":"IF(F391<xx,0.94*D133,0)","v":6.734509514751418}]
[{"$nulls":5},{"$f":"IF(C133<xx,C134,C$3)","v":1.3034825870646733},{"$f":"0","v":0}]
[{"$nulls":5},{"$f":"F393","v":1.3034825870646733},{"$f":"IF(F394<xx,0.94*D133,0)","v":6.734509514751418}]
[{"$nulls":5},{"$f":"F394+dx","v":1.3134328358208922},{"$f":"IF(F394<xx,0.94*D134,0)","v":6.7818218158976}]
[{"$nulls":5},{"$f":"IF(C134<xx,C135,C$3)","v":1.3134328358208922},{"$f":"0","v":0}]
[{"$nulls":5},{"$f":"F396","v":1.3134328358208922},{"$f":"IF(F397<xx,0.94*D134,0)","v":6.7818218158976}]
[{"$nulls":5},{"$f":"F397+dx","v":1.323383084577111},{"$f":"IF(F397<xx,0.94*D135,0)","v":6.829861984353113}]
[{"$nulls":5},{"$f":"IF(C135<xx,C136,C$3)","v":1.323383084577111},{"$f":"0","v":0}]
[{"$nulls":5},{"$f":"F399","v":1.323383084577111},{"$f":"IF(F400<xx,0.94*D135,0)","v":6.829861984353113}]
[{"$nulls":5},{"$f":"F400+dx","v":1.33333333333333},{"$f":"IF(F400<xx,0.94*D136,0)","v":6.878635576356955}]
[{"$nulls":5},{"$f":"IF(C136<xx,C137,C$3)","v":1.33333333333333},{"$f":"0","v":0}]
[{"$nulls":5},{"$f":"F402","v":1.33333333333333},{"$f":"IF(F403<xx,0.94*D136,0)","v":6.878635576356955}]
[{"$nulls":5},{"$f":"F403+dx","v":1.3432835820895488},{"$f":"IF(F403<xx,0.94*D137,0)","v":6.928148148148131}]
[{"$nulls":5},{"$f":"IF(C137<xx,C138,C$3)","v":1.3432835820895488},{"$f":"0","v":0}]
[{"$nulls":5},{"$f":"F405","v":1.3432835820895488},{"$f":"IF(F406<xx,0.94*D137,0)","v":6.928148148148131}]
[{"$nulls":5},{"$f":"F406+dx","v":1.3532338308457676},{"$f":"IF(F406<xx,0.94*D138,0)","v":6.978405255965643}]
[{"$nulls":5},{"$f":"IF(C138<xx,C139,C$3)","v":1.3532338308457676},{"$f":"0","v":0}]
[{"$nulls":5},{"$f":"F408","v":1.3532338308457676},{"$f":"IF(F409<xx,0.94*D138,0)","v":6.978405255965643}]
[{"$nulls":5},{"$f":"F409+dx","v":1.3631840796019865},{"$f":"IF(F409<xx,0.94*D139,0)","v":7.029412456048493}]
[{"$nulls":5},{"$f":"IF(C139<xx,C140,C$3)","v":1.3631840796019865},{"$f":"0","v":0}]
[{"$nulls":5},{"$f":"F411","v":1.3631840796019865},{"$f":"IF(F412<xx,0.94*D139,0)","v":7.029412456048493}]
[{"$nulls":5},{"$f":"F412+dx","v":1.3731343283582054},{"$f":"IF(F412<xx,0.94*D140,0)","v":7.081175304635685}]
[{"$nulls":5},{"$f":"IF(C140<xx,C141,C$3)","v":1.3731343283582054},{"$f":"0","v":0}]
[{"$nulls":5},{"$f":"F414","v":1.3731343283582054},{"$f":"IF(F415<xx,0.94*D140,0)","v":7.081175304635685}]
[{"$nulls":5},{"$f":"F415+dx","v":1.3830845771144242},{"$f":"IF(F415<xx,0.94*D141,0)","v":7.13369935796622}]
[{"$nulls":5},{"$f":"IF(C141<xx,C142,C$3)","v":1.3830845771144242},{"$f":"0","v":0}]
[{"$nulls":5},{"$f":"F417","v":1.3830845771144242},{"$f":"IF(F418<xx,0.94*D141,0)","v":7.13369935796622}]
[{"$nulls":5},{"$f":"F418+dx","v":1.393034825870643},{"$f":"IF(F418<xx,0.94*D142,0)","v":7.1869901722791}]
[{"$nulls":5},{"$f":"IF(C142<xx,C143,C$3)","v":1.393034825870643},{"$f":"0","v":0}]
[{"$nulls":5},{"$f":"F420","v":1.393034825870643},{"$f":"IF(F421<xx,0.94*D142,0)","v":0}]
[{"$nulls":5},{"$f":"F421+dx","v":1.402985074626862},{"$f":"IF(F421<xx,0.94*D143,0)","v":0}]
[{"$nulls":5},{"$f":"IF(C143<xx,C144,C$3)","v":0},{"$f":"0","v":0}]
[{"$nulls":5},{"$f":"F423","v":0},{"$f":"IF(F424<xx,0.94*D143,0)","v":7.241053303813331}]
[{"$nulls":5},{"$f":"F424+dx","v":0.009950248756218905},{"$f":"IF(F424<xx,0.94*D144,0)","v":7.295894308807911}]
[{"$nulls":5},{"$f":"IF(C144<xx,C145,C$3)","v":0},{"$f":"0","v":0}]
[{"$nulls":5},{"$f":"F426","v":0},{"$f":"IF(F427<xx,0.94*D144,0)","v":7.295894308807911}]
[{"$nulls":5},{"$f":"F427+dx","v":0.009950248756218905},{"$f":"IF(F427<xx,0.94*D145,0)","v":7.3515187435018445}]
[{"$nulls":5},{"$f":"IF(C145<xx,C146,C$3)","v":0},{"$f":"0","v":0}]
[{"$nulls":5},{"$f":"F429","v":0},{"$f":"IF(F430<xx,0.94*D145,0)","v":7.3515187435018445}]
[{"$nulls":5},{"$f":"F430+dx","v":0.009950248756218905},{"$f":"IF(F430<xx,0.94*D146,0)","v":7.407932164134135}]
[{"$nulls":5},{"$f":"IF(C146<xx,C147,C$3)","v":0},{"$f":"0","v":0}]
[{"$nulls":5},{"$f":"F432","v":0},{"$f":"IF(F433<xx,0.94*D146,0)","v":7.407932164134135}]
[{"$nulls":5},{"$f":"F433+dx","v":0.009950248756218905},{"$f":"IF(F433<xx,0.94*D147,0)","v":7.465140126943784}]
[{"$nulls":5},{"$f":"IF(C147<xx,C148,C$3)","v":0},{"$f":"0","v":0}]
[{"$nulls":5},{"$f":"F435","v":0},{"$f":"IF(F436<xx,0.95*D147,0)","v":7.544556511272973}]
[{"$nulls":5},{"$f":"F436+dx","v":0.009950248756218905},{"$f":"IF(F436<xx,0.95*D148,0)","v":7.603181679533303}]
[{"$nulls":5},{"$f":"IF(C148<xx,C149,C$3)","v":0},{"$f":"0","v":0}]
[{"$nulls":5},{"$f":"F438","v":0},{"$f":"IF(F439<xx,0.95*D148,0)","v":7.603181679533303}]
[{"$nulls":5},{"$f":"F439+dx","v":0.009950248756218905},{"$f":"IF(F439<xx,0.95*D149,0)","v":7.6626210732432005}]
[{"$nulls":5},{"$f":"IF(C149<xx,C150,C$3)","v":0},{"$f":"0","v":0}]
[{"$nulls":5},{"$f":"F441","v":0},{"$f":"IF(F442<xx,0.95*D149,0)","v":7.6626210732432005}]
[{"$nulls":5},{"$f":"F442+dx","v":0.009950248756218905},{"$f":"IF(F442<xx,0.95*D150,0)","v":7.722880307750596}]
[{"$nulls":5},{"$f":"IF(C150<xx,C151,C$3)","v":0},{"$f":"0","v":0}]
[{"$nulls":5},{"$f":"F444","v":0},{"$f":"IF(F445<xx,0.95*D150,0)","v":7.722880307750596}]
[{"$nulls":5},{"$f":"F445+dx","v":0.009950248756218905},{"$f":"IF(F445<xx,0.95*D151,0)","v":7.783964998403419}]
[{"$nulls":5},{"$f":"IF(C151<xx,C152,C$3)","v":0},{"$f":"0","v":0}]
[{"$nulls":5},{"$f":"F447","v":0},{"$f":"IF(F448<xx,0.95*D151,0)","v":7.783964998403419}]
[{"$nulls":5},{"$f":"F448+dx","v":0.009950248756218905},{"$f":"IF(F448<xx,0.95*D152,0)","v":7.845880760549594}]
[{"$nulls":5},{"$f":"IF(C152<xx,C153,C$3)","v":0},{"$f":"0","v":0}]
[{"$nulls":5},{"$f":"F450","v":0},{"$f":"IF(F451<xx,0.95*D152,0)","v":7.845880760549594}]
[{"$nulls":5},{"$f":"F451+dx","v":0.009950248756218905},{"$f":"IF(F451<xx,0.95*D153,0)","v":7.908633209537051}]
[{"$nulls":5},{"$f":"IF(C153<xx,C154,C$3)","v":0},{"$f":"0","v":0}]
[{"$nulls":5},{"$f":"F453","v":0},{"$f":"IF(F454<xx,0.95*D153,0)","v":7.908633209537051}]
[{"$nulls":5},{"$f":"F454+dx","v":0.009950248756218905},{"$f":"IF(F454<xx,0.95*D154,0)","v":7.9722279607137185}]
[{"$nulls":5},{"$f":"IF(C154<xx,C155,C$3)","v":0},{"$f":"0","v":0}]
[{"$nulls":5},{"$f":"F456","v":0},{"$f":"IF(F457<xx,0.95*D154,0)","v":7.9722279607137185}]
[{"$nulls":5},{"$f":"F457+dx","v":0.009950248756218905},{"$f":"IF(F457<xx,0.95*D155,0)","v":8.036670629427523}]
[{"$nulls":5},{"$f":"IF(C155<xx,C156,C$3)","v":0},{"$f":"0","v":0}]
[{"$nulls":5},{"$f":"F459","v":0},{"$f":"IF(F460<xx,0.95*D155,0)","v":8.036670629427523}]
[{"$nulls":5},{"$f":"F460+dx","v":0.009950248756218905},{"$f":"IF(F460<xx,0.95*D156,0)","v":8.101966831026393}]
[{"$nulls":5},{"$f":"IF(C156<xx,C157,C$3)","v":0},{"$f":"0","v":0}]
[{"$nulls":5},{"$f":"F462","v":0},{"$f":"IF(F463<xx,0.95*D156,0)","v":8.101966831026393}]
[{"$nulls":5},{"$f":"F463+dx","v":0.009950248756218905},{"$f":"IF(F463<xx,0.95*D157,0)","v":8.168122180858258}]
[{"$nulls":5},{"$f":"IF(C157<xx,C158,C$3)","v":0},{"$f":"0","v":0}]
[{"$nulls":5},{"$f":"F465","v":0},{"$f":"IF(F466<xx,0.95*D157,0)","v":8.168122180858258}]
[{"$nulls":5},{"$f":"F466+dx","v":0.009950248756218905},{"$f":"IF(F466<xx,0.95*D158,0)","v":8.235142294271048}]
[{"$nulls":5},{"$f":"IF(C158<xx,C159,C$3)","v":0},{"$f":"0","v":0}]
[{"$nulls":5},{"$f":"F468","v":0},{"$f":"IF(F469<xx,0.95*D158,0)","v":8.235142294271048}]
[{"$nulls":5},{"$f":"F469+dx","v":0.009950248756218905},{"$f":"IF(F469<xx,0.95*D159,0)","v":8.303032786612684}]
[{"$nulls":5},{"$f":"IF(C159<xx,C160,C$3)","v":0},{"$f":"0","v":0}]
[{"$nulls":5},{"$f":"F471","v":0},{"$f":"IF(F472<xx,0.95*D159,0)","v":8.303032786612684}]
[{"$nulls":5},{"$f":"F472+dx","v":0.009950248756218905},{"$f":"IF(F472<xx,0.95*D160,0)","v":8.371799273231101}]
[{"$nulls":5},{"$f":"IF(C160<xx,C161,C$3)","v":0},{"$f":"0","v":0}]
[{"$nulls":5},{"$f":"F474","v":0},{"$f":"IF(F475<xx,0.95*D160,0)","v":8.371799273231101}]
[{"$nulls":5},{"$f":"F475+dx","v":0.009950248756218905},{"$f":"IF(F475<xx,0.95*D161,0)","v":8.441447369474222}]
[{"$nulls":5},{"$f":"IF(C161<xx,C162,C$3)","v":0},{"$f":"0","v":0}]
[{"$nulls":5},{"$f":"F477","v":0},{"$f":"IF(F478<xx,0.95*D161,0)","v":8.441447369474222}]
[{"$nulls":5},{"$f":"F478+dx","v":0.009950248756218905},{"$f":"IF(F478<xx,0.95*D162,0)","v":8.511982690689978}]
[{"$nulls":5},{"$f":"IF(C162<xx,C163,C$3)","v":0},{"$f":"0","v":0}]
[{"$nulls":5},{"$f":"F480","v":0},{"$f":"IF(F481<xx,0.95*D162,0)","v":8.511982690689978}]
[{"$nulls":5},{"$f":"F481+dx","v":0.009950248756218905},{"$f":"IF(F481<xx,0.95*D163,0)","v":8.583410852226297}]
[{"$nulls":5},{"$f":"IF(C163<xx,C164,C$3)","v":0},{"$f":"0","v":0}]
[{"$nulls":5},{"$f":"F483","v":0},{"$f":"IF(F484<xx,0.95*D163,0)","v":8.583410852226297}]
[{"$nulls":5},{"$f":"F484+dx","v":0.009950248756218905},{"$f":"IF(F484<xx,0.95*D164,0)","v":8.655737469431108}]
[{"$nulls":5},{"$f":"IF(C164<xx,C165,C$3)","v":0},{"$f":"0","v":0}]
[{"$nulls":5},{"$f":"F486","v":0},{"$f":"IF(F487<xx,0.95*D164,0)","v":8.655737469431108}]
[{"$nulls":5},{"$f":"F487+dx","v":0.009950248756218905},{"$f":"IF(F487<xx,0.95*D165,0)","v":8.728968157652336}]
[{"$nulls":5},{"$f":"IF(C165<xx,C166,C$3)","v":0},{"$f":"0","v":0}]
[{"$nulls":5},{"$f":"F489","v":0},{"$f":"IF(F490<xx,0.95*D165,0)","v":8.728968157652336}]
[{"$nulls":5},{"$f":"F490+dx","v":0.009950248756218905},{"$f":"IF(F490<xx,0.95*D166,0)","v":8.80310853223791}]
[{"$nulls":5},{"$f":"IF(C166<xx,C167,C$3)","v":0},{"$f":"0","v":0}]
[{"$nulls":5},{"$f":"F492","v":0},{"$f":"IF(F493<xx,0.96*D166,0)","v":8.895772832577258}]
[{"$nulls":5},{"$f":"F493+dx","v":0.009950248756218905},{"$f":"IF(F493<xx,0.96*D167,0)","v":8.97161856862561}]
[{"$nulls":5},{"$f":"IF(C167<xx,C168,C$3)","v":0},{"$f":"0","v":0}]
[{"$nulls":5},{"$f":"F495","v":0},{"$f":"IF(F496<xx,0.96*D167,0)","v":8.97161856862561}]
[{"$nulls":5},{"$f":"F496+dx","v":0.009950248756218905},{"$f":"IF(F496<xx,0.96*D168,0)","v":9.048394915597958}]
[{"$nulls":5},{"$f":"IF(C168<xx,C169,C$3)","v":0},{"$f":"0","v":0}]
[{"$nulls":5},{"$f":"F498","v":0},{"$f":"IF(F499<xx,0.96*D168,0)","v":9.048394915597958}]
[{"$nulls":5},{"$f":"F499+dx","v":0.009950248756218905},{"$f":"IF(F499<xx,0.96*D169,0)","v":9.126107547951152}]
[{"$nulls":5},{"$f":"IF(C169<xx,C170,C$3)","v":0},{"$f":"0","v":0}]
[{"$nulls":5},{"$f":"F501","v":0},{"$f":"IF(F502<xx,0.96*D169,0)","v":9.126107547951152}]
[{"$nulls":5},{"$f":"F502+dx","v":0.009950248756218905},{"$f":"IF(F502<xx,0.96*D170,0)","v":9.204762140142051}]
[{"$nulls":5},{"$f":"IF(C170<xx,C171,C$3)","v":0},{"$f":"0","v":0}]
[{"$nulls":5},{"$f":"F504","v":0},{"$f":"IF(F505<xx,0.96*D170,0)","v":9.204762140142051}]
[{"$nulls":5},{"$f":"F505+dx","v":0.009950248756218905},{"$f":"IF(F505<xx,0.96*D171,0)","v":9.284364366627504}]
[{"$nulls":5},{"$f":"IF(C171<xx,C172,C$3)","v":0},{"$f":"0","v":0}]
[{"$nulls":5},{"$f":"F507","v":0},{"$f":"IF(F508<xx,0.96*D171,0)","v":9.284364366627504}]
[{"$nulls":5},{"$f":"F508+dx","v":0.009950248756218905},{"$f":"IF(F508<xx,0.96*D172,0)","v":9.364919901864367}]
[{"$nulls":5},{"$f":"IF(C172<xx,C173,C$3)","v":0},{"$f":"0","v":0}]
[{"$nulls":5},{"$f":"F510","v":0},{"$f":"IF(F511<xx,0.96*D172,0)","v":9.364919901864367}]
[{"$nulls":5},{"$f":"F511+dx","v":0.009950248756218905},{"$f":"IF(F511<xx,0.96*D173,0)","v":9.44643442030949}]
[{"$nulls":5},{"$f":"IF(C173<xx,C174,C$3)","v":0},{"$f":"0","v":0}]
[{"$nulls":5},{"$f":"F513","v":0},{"$f":"IF(F514<xx,0.96*D173,0)","v":9.44643442030949}]
[{"$nulls":5},{"$f":"F514+dx","v":0.009950248756218905},{"$f":"IF(F514<xx,0.96*D174,0)","v":9.52891359641973}]
[{"$nulls":5},{"$f":"IF(C174<xx,C175,C$3)","v":0},{"$f":"0","v":0}]
[{"$nulls":5},{"$f":"F516","v":0},{"$f":"IF(F517<xx,0.96*D174,0)","v":9.52891359641973}]
[{"$nulls":5},{"$f":"F517+dx","v":0.009950248756218905},{"$f":"IF(F517<xx,0.96*D175,0)","v":9.612363104651939}]
[{"$nulls":5},{"$f":"IF(C175<xx,C176,C$3)","v":0},{"$f":"0","v":0}]
[{"$nulls":5},{"$f":"F519","v":0},{"$f":"IF(F520<xx,0.96*D175,0)","v":9.612363104651939}]
[{"$nulls":5},{"$f":"F520+dx","v":0.009950248756218905},{"$f":"IF(F520<xx,0.96*D176,0)","v":9.696788619462973}]
[{"$nulls":5},{"$f":"IF(C176<xx,C177,C$3)","v":0},{"$f":"0","v":0}]
[{"$nulls":5},{"$f":"F522","v":0},{"$f":"IF(F523<xx,0.96*D176,0)","v":9.696788619462973}]
[{"$nulls":5},{"$f":"F523+dx","v":0.009950248756218905},{"$f":"IF(F523<xx,0.96*D177,0)","v":9.782195815309683}]
[{"$nulls":5},{"$f":"IF(C177<xx,C178,C$3)","v":0},{"$f":"0","v":0}]
[{"$nulls":5},{"$f":"F525","v":0},{"$f":"IF(F526<xx,0.96*D177,0)","v":9.782195815309683}]
[{"$nulls":5},{"$f":"F526+dx","v":0.009950248756218905},{"$f":"IF(F526<xx,0.96*D178,0)","v":9.868590366648926}]
[{"$nulls":5},{"$f":"IF(C178<xx,C179,C$3)","v":0},{"$f":"0","v":0}]
[{"$nulls":5},{"$f":"F528","v":0},{"$f":"IF(F529<xx,0.96*D178,0)","v":9.868590366648926}]
[{"$nulls":5},{"$f":"F529+dx","v":0.009950248756218905},{"$f":"IF(F529<xx,0.96*D179,0)","v":9.95597794793755}]
[{"$nulls":5},{"$f":"IF(C179<xx,C180,C$3)","v":0},{"$f":"0","v":0}]
[{"$nulls":5},{"$f":"F531","v":0},{"$f":"IF(F532<xx,0.96*D179,0)","v":9.95597794793755}]
[{"$nulls":5},{"$f":"F532+dx","v":0.009950248756218905},{"$f":"IF(F532<xx,0.96*D180,0)","v":10.044364233632413}]
[{"$nulls":5},{"$f":"IF(C180<xx,C181,C$3)","v":0},{"$f":"0","v":0}]
[{"$nulls":5},{"$f":"F534","v":0},{"$f":"IF(F535<xx,0.96*D180,0)","v":10.044364233632413}]
[{"$nulls":5},{"$f":"F535+dx","v":0.009950248756218905},{"$f":"IF(F535<xx,0.96*D181,0)","v":10.133754898190368}]
[{"$nulls":5},{"$f":"IF(C181<xx,C182,C$3)","v":0},{"$f":"0","v":0}]
[{"$nulls":5},{"$f":"F537","v":0},{"$f":"IF(F538<xx,0.96*D181,0)","v":10.133754898190368}]
[{"$nulls":5},{"$f":"F538+dx","v":0.009950248756218905},{"$f":"IF(F538<xx,0.96*D182,0)","v":10.22415561606827}]
[{"$nulls":5},{"$f":"IF(C182<xx,C183,C$3)","v":0},{"$f":"0","v":0}]
[{"$nulls":5},{"$f":"F540","v":0},{"$f":"IF(F541<xx,0.96*D182,0)","v":10.22415561606827}]
[{"$nulls":5},{"$f":"F541+dx","v":0.009950248756218905},{"$f":"IF(F541<xx,0.96*D183,0)","v":10.315572061722966}]
[{"$nulls":5},{"$f":"IF(C183<xx,C184,C$3)","v":0},{"$f":"0","v":0}]
[{"$nulls":5},{"$f":"F543","v":0},{"$f":"IF(F544<xx,0.96*D183,0)","v":10.315572061722966}]
[{"$nulls":5},{"$f":"F544+dx","v":0.009950248756218905},{"$f":"IF(F544<xx,0.96*D184,0)","v":10.408009909611318}]
[{"$nulls":5},{"$f":"IF(C184<xx,C185,C$3)","v":0},{"$f":"0","v":0}]
[{"$nulls":5},{"$f":"F546","v":0},{"$f":"IF(F547<xx,0.96*D184,0)","v":10.408009909611318}]
[{"$nulls":5},{"$f":"F547+dx","v":0.009950248756218905},{"$f":"IF(F547<xx,0.96*D185,0)","v":10.501474834190175}]
[{"$nulls":5},{"$f":"IF(C185<xx,C186,C$3)","v":0},{"$f":"0","v":0}]
[{"$nulls":5},{"$f":"F549","v":0},{"$f":"IF(F550<xx,0.96*D185,0)","v":10.501474834190175}]
[{"$nulls":5},{"$f":"F550+dx","v":0.009950248756218905},{"$f":"IF(F550<xx,0.96*D186,0)","v":10.595972509916392}]
[{"$nulls":5},{"$f":"IF(C186<xx,C187,C$3)","v":0},{"$f":"0","v":0}]
[{"$nulls":5},{"$f":"F552","v":0},{"$f":"IF(F553<xx,0.96*D186,0)","v":10.595972509916392}]
[{"$nulls":5},{"$f":"F553+dx","v":0.009950248756218905},{"$f":"IF(F553<xx,0.96*D187,0)","v":10.691508611246821}]
[{"$nulls":5},{"$f":"IF(C187<xx,C188,C$3)","v":0},{"$f":"0","v":0}]
[{"$nulls":5},{"$f":"F555","v":0},{"$f":"IF(F556<xx,0.96*D187,0)","v":10.691508611246821}]
[{"$nulls":5},{"$f":"F556+dx","v":0.009950248756218905},{"$f":"IF(F556<xx,0.96*D188,0)","v":10.78808881263832}]
[{"$nulls":5},{"$f":"IF(C188<xx,C189,C$3)","v":0},{"$f":"0","v":0}]
[{"$nulls":5},{"$f":"F558","v":0},{"$f":"IF(F559<xx,0.96*D188,0)","v":10.78808881263832}]
[{"$nulls":5},{"$f":"F559+dx","v":0.009950248756218905},{"$f":"IF(F559<xx,0.96*D189,0)","v":10.885718788547738}]
[{"$nulls":5},{"$f":"IF(C189<xx,C190,C$3)","v":0},{"$f":"0","v":0}]
[{"$nulls":5},{"$f":"F561","v":0},{"$f":"IF(F562<xx,0.96*D189,0)","v":10.885718788547738}]
[{"$nulls":5},{"$f":"F562+dx","v":0.009950248756218905},{"$f":"IF(F562<xx,0.96*D190,0)","v":10.984404213431926}]
[{"$nulls":5},{"$f":"IF(C190<xx,C191,C$3)","v":0},{"$f":"0","v":0}]
[{"$nulls":5},{"$f":"F564","v":0},{"$f":"IF(F565<xx,0.96*D190,0)","v":10.984404213431926}]
[{"$nulls":5},{"$f":"F565+dx","v":0.009950248756218905},{"$f":"IF(F565<xx,0.96*D191,0)","v":11.084150761747747}]
[{"$nulls":5},{"$f":"IF(C191<xx,C192,C$3)","v":0},{"$f":"0","v":0}]
[{"$nulls":5},{"$f":"F567","v":0},{"$f":"IF(F568<xx,0.96*D191,0)","v":11.084150761747747}]
[{"$nulls":5},{"$f":"F568+dx","v":0.009950248756218905},{"$f":"IF(F568<xx,0.96*D192,0)","v":11.184964107952048}]
[{"$nulls":5},{"$f":"IF(C192<xx,C193,C$3)","v":0},{"$f":"0","v":0}]
[{"$nulls":5},{"$f":"F570","v":0},{"$f":"IF(F571<xx,0.96*D192,0)","v":11.184964107952048}]
[{"$nulls":5},{"$f":"F571+dx","v":0.009950248756218905},{"$f":"IF(F571<xx,0.96*D193,0)","v":11.286849926501684}]
[{"$nulls":5},{"$f":"IF(C193<xx,C194,C$3)","v":0},{"$f":"0","v":0}]
[{"$nulls":5},{"$f":"F573","v":0},{"$f":"IF(F574<xx,0.96*D193,0)","v":11.286849926501684}]
[{"$nulls":5},{"$f":"F574+dx","v":0.009950248756218905},{"$f":"IF(F574<xx,0.96*D194,0)","v":11.389813891853509}]
[{"$nulls":5},{"$f":"IF(C194<xx,C195,C$3)","v":0},{"$f":"0","v":0}]
[{"$nulls":5},{"$f":"F576","v":0},{"$f":"IF(F577<xx,0.96*D194,0)","v":11.389813891853509}]
[{"$nulls":5},{"$f":"F577+dx","v":0.009950248756218905},{"$f":"IF(F577<xx,0.96*D195,0)","v":11.493861678464375}]
[{"$nulls":5},{"$f":"IF(C195<xx,C196,C$3)","v":0},{"$f":"0","v":0}]
[{"$nulls":5},{"$f":"F579","v":0},{"$f":"IF(F580<xx,0.96*D195,0)","v":11.493861678464375}]
[{"$nulls":5},{"$f":"F580+dx","v":0.009950248756218905},{"$f":"IF(F580<xx,0.96*D196,0)","v":11.598998960791135}]
[{"$nulls":5},{"$f":"IF(C196<xx,C197,C$3)","v":0},{"$f":"0","v":0}]
[{"$nulls":5},{"$f":"F582","v":0},{"$f":"IF(F583<xx,0.96*D196,0)","v":11.598998960791135}]
[{"$nulls":5},{"$f":"F583+dx","v":0.009950248756218905},{"$f":"IF(F583<xx,0.96*D197,0)","v":11.70523141329065}]
[{"$nulls":5},{"$f":"IF(C197<xx,C198,C$3)","v":0},{"$f":"0","v":0}]
[{"$nulls":5},{"$f":"F585","v":0},{"$f":"IF(F586<xx,0.96*D197,0)","v":11.70523141329065}]
[{"$nulls":5},{"$f":"F586+dx","v":0.009950248756218905},{"$f":"IF(F586<xx,0.96*D198,0)","v":11.812564710419766}]
[{"$nulls":5},{"$f":"IF(C198<xx,C199,C$3)","v":0},{"$f":"0","v":0}]
[{"$nulls":5},{"$f":"F588","v":0},{"$f":"IF(F589<xx,0.96*D198,0)","v":11.812564710419766}]
[{"$nulls":5},{"$f":"F589+dx","v":0.009950248756218905},{"$f":"IF(F589<xx,0.96*D199,0)","v":11.921004526635338}]
[{"$nulls":5},{"$f":"IF(C199<xx,C200,C$3)","v":0},{"$f":"0","v":0}]
[{"$nulls":5},{"$f":"F591","v":0},{"$f":"IF(F592<xx,0.96*D199,0)","v":11.921004526635338}]
[{"$nulls":5},{"$f":"F592+dx","v":0.009950248756218905},{"$f":"IF(F592<xx,0.96*D200,0)","v":12.030556536394219}]
[{"$nulls":5},{"$f":"IF(C200<xx,C201,C$3)","v":0},{"$f":"0","v":0}]
[{"$nulls":5},{"$f":"F594","v":0},{"$f":"IF(F595<xx,0.96*D200,0)","v":12.030556536394219}]
[{"$nulls":5},{"$f":"F595+dx","v":0.009950248756218905},{"$f":"IF(F595<xx,0.96*D201,0)","v":12.141226414153266}]
[{"$nulls":5},{"$f":"IF(C201<xx,C202,C$3)","v":0},{"$f":"0","v":0}]
[{"$nulls":5},{"$f":"F597","v":0},{"$f":"IF(F598<xx,0.96*D201,0)","v":12.141226414153266}]
[{"$nulls":5},{"$f":"F598+dx","v":0.009950248756218905},{"$f":"IF(F598<xx,0.96*D202,0)","v":12.25301983436933}]
[{"$nulls":5},{"$f":"IF(C202<xx,C203,C$3)","v":0},{"$f":"0","v":0}]
[{"$nulls":5},{"$f":"F600","v":0},{"$f":"IF(F601<xx,0.96*D202,0)","v":12.25301983436933}]
[{"$nulls":5},{"$f":"F601+dx","v":0.009950248756218905},{"$f":"IF(F601<xx,0.96*D203,0)","v":12.365942471499263}]

{"sheet":"Defining Function","index":2,"n_rows":12,"n_cols":1,"rows_kept":12}
["                                                     Defining a Function in Excel"]
[]
["Computers have very specific rules you must follow when defining a function.  If you don't, the program will either not work at all or will work incorrectly."]
[]
["1. The Variable used should be the one named in the instruction, usually x, though sometimes y, t, Q (for an angle theta), "]
[" or even x and y (for a function of two variables). "]
[]
["2.  Order of Operations:  There five arithmetic operations, addition (+), subtraction (-), multiplication (*), division (/), and  exponentiation or power (^).  When computers see any of these operation symbols, they perform the indicated steps in a very particular order.  First, the power is done.  Second, products and quotients of adjacent terms is done.  Third, and last, sums and differences of adjacent terms are done.  So, in 10*x^3 + 5*x – 7, say with x = 2, the first pass only calculates 2^3 and ignores the multiplications and the sums and differences to calculate 2^3 = 8.  The second pass looks at 10*8 + 5*2 – 7 and only does the multiplications, so it produces 80 + 10 -  7.  The third pass looks at the +’s and –‘s to produce 80 + 10 – 7 = 83.  "]
[]
["3.    Parentheses  If you need an operation involving more than two adjacent terms, as in Ö4^3 + 6^2, the computer would take the square root of  4 to produce 2^3 + 6^2;  it would then cube the 2 and square the 6 to produce 8 + 36; and finally it would add the 8 and the 36 to get 44.  If you actually wanted the square root of the entire expression, you would need to use parentheses, as in Ö(4^3 + 6^2) to tell the computer to do all the operations inside the parentheses before taking the square root.  Therefore, it would calculate (4^3 + 6^2) = 64 + 36 = 100 and then take the square root of Ö100  =  10."]
[]
["4.  Built-In Functions  Computer programs have built-in functions for most common algebraic functions.  In Excel, the square root function is denoted by SQRT(…), so SQRT(100) = 10.  Alternatively, you could enter it as 100^.5 or 100^(1/2); notice that parentheses are needed to have the ½ done first.  The common trig functions are SIN (…), COS (…), and TAN (…), where the arguments are automatically interpreted as being in radians, not degrees.  The logarithm to the base 10 is represented by LOG (…) and the logarithm with the base e, known as the natural logarithm, is LN (…). The corresponding exponential function with base e is EXP (x).  If x is the variable, then each of these would be SQRT (x), SIN (x), COS (x), TAN (x), LOG (x) (for log with base 10 ), LN (x) (for log with base e ), and EXP (x)."]

{"sheet":"Sheet3","index":3,"n_rows":0,"n_cols":0,"rows_kept":0}