{"text_format":"3","workbook":"xlsx","n_sheets":5,"sheets":["Sheet1","Sheet2","Sheet3","Defining Function","Sheet4"],"not_rendered":{"charts":2,"images":2,"macros":1,"defined_names":6,"comments":1},"read":"whole","date_system":"1900"}

{"sheet":"Sheet1","index":0,"n_rows":42,"n_cols":18,"rows_kept":42,"merged":[[28,2,28,3]]}
[null,"          Sequences Vs. Series"]
[]
[null,"   This graphing utility lets you investigate "]
[null,"            the terms of a sequence ak"]
[null,"         compared to the associated series"]
[{"$nulls":3},"y = f(x)"]
[]
[]
[]
["  Enter the sequence in terms of k:     ak = ",{"$nulls":4},"1/k^2"]
[]
[]
["What is the starting value for k: "]
[null,null,"k0 =",1]
[]
[]
[{"$nulls":10},"        The first",null,{"$f":"xMax","v":24}," terms of the sequence ak =",null,null,{"$f":"F10","v":"1/k^2"}]
[]
[{"$nulls":11}," Select the maximum number of terms n (10 - 1000) =",{"$nulls":5},{"$f":"O21","v":24}]
["Click each item below for suggestions and investigations"]
[null,"   Item 1",{"$nulls":11},14,{"$f":"N21+10","v":24}]
[null,"   Item 2"]
[null,"   Item 3"]
[null,"   Item 4"]
[]
[]
[]
["To access/download all the DIGMath Apps for Calculus"]
["     Click this link:",null,"DIGMath for Calculus"]
[]
["Created by:  Sheldon P. Gordon   "]
["                      Farmingdale State College    "]
["Development of this module was supported by the "]
["NSF's Division of Undergraduate Education  "]
["under grants DUE-0310123 and DUE-0442160."]
[]
[]
[]
[]
[]
[]
[{"$nulls":9},"The sum of the first",null,null,{"$f":"xMax","v":24}," terms of the sequence is",null,null,{"$f":"LastSum","v":1.6041234035910008}]

{"sheet":"Sheet2","index":1,"n_rows":1004,"n_cols":10,"rows_kept":1004}
["k","ak","sum","plot k's","plot a's","plot sum's","xl=",{"$f":"IF(Sheet1!$O$21<Sheet1!D14+80*Sheet2!H5,Sheet1!D14,Sheet1!O21-80*Sheet2!H5)","v":24},{"$f":"LOOKUP(Sheet1!O21,Sheet2!A3:A1002,Sheet2!B3:B1002)+LOOKUP(Sheet1!O21,Sheet2!A3:A1002,Sheet2!C3:C1002)*(H1-Sheet1!O21)","v":1.736111111111111E-3},"\"=yl"]
[{"$nulls":6},"xr=",{"$f":"IF(Sheet1!$O$21>Sheet1!D15-80*Sheet2!H5,Sheet1!D15,Sheet1!O21+80*Sheet2!H5)","v":0},{"$f":"LOOKUP(Sheet1!O21,Sheet2!A3:A1003,Sheet2!B3:B1003)+LOOKUP(Sheet1!O21,Sheet2!A3:A1003,Sheet2!C3:C1003)*(H2-Sheet1!O21)","v":-38.4972255750729},"\"=yR"]
[{"$f":"Sheet1!D14","v":1},{"$f":"1/k^2","v":1},{"$f":"B3","v":1},{"$f":"A3","v":1},{"$f":"B3","v":1},{"$f":"C3","v":1}]
[{"$f":"A3+1","v":2},0.25,{"$f":"C3+B4","v":1.25},{"$f":"D3+1","v":2},{"$f":"B4","v":0.25},{"$f":"F3+E4","v":1.25},null,"a last = ",{"$f":"LOOKUP(xMax,A3:A1003,B3:B1003)","v":1.736111111111111E-3}]
[{"$f":"A4+1","v":3},0.1111111111111111,{"$f":"C4+B5","v":1.3611111111111112},{"$f":"D4+1","v":3},0.1111111111111111,{"$f":"F4+E5","v":1.3611111111111112}]
[4,0.0625,1.4236111111111112,4,0.0625,1.4236111111111112]
[5,0.04,1.4636111111111112,5,0.04,1.4636111111111112,null,"last sum=",{"$f":"LOOKUP(xMax,A3:A1003,C3:C1003)","v":1.6041234035910008}]
[6,0.027777777777777776,1.4913888888888889,6,0.027777777777777776,1.4913888888888889]
[7,0.02040816326530612,1.511797052154195,7,0.02040816326530612,1.511797052154195]
[8,0.015625,1.527422052154195,8,0.015625,1.527422052154195]
[9,0.012345679012345678,1.5397677311665408,9,0.012345679012345678,1.5397677311665408]
[10,0.01,1.5497677311665408,10,0.01,1.5497677311665408]
[11,0.008264462809917356,1.558032193976458,{"$f":"IF(A13<=xMax,A13,xMax)","v":11},{"$f":"IF(A13<=xMax,B13,lastA)","v":0.008264462809917356},{"$f":"IF(A13<=xMax,C13,LastSum)","v":1.558032193976458}]
[12,0.006944444444444444,1.5649766384209025,12,0.006944444444444444,1.5649766384209025]
[13,0.005917159763313609,1.5708937981842162,13,0.005917159763313609,1.5708937981842162]
[14,0.00510204081632653,1.5759958390005426,14,0.00510204081632653,1.5759958390005426]
[15,4.4444444444444444E-3,1.580440283444987,15,4.4444444444444444E-3,1.580440283444987]
[16,3.90625E-3,1.584346533444987,16,3.90625E-3,1.584346533444987]
[17,3.4602076124567475E-3,1.587806741057444,17,3.4602076124567475E-3,1.587806741057444]
[18,3.0864197530864196E-3,1.5908931608105303,18,3.0864197530864196E-3,1.5908931608105303]
[19,0.002770083102493075,1.5936632439130234,19,0.002770083102493075,1.5936632439130234]
[20,0.0025,1.5961632439130233,20,0.0025,1.5961632439130233]
[21,2.2675736961451248E-3,1.5984308176091684,21,2.2675736961451248E-3,1.5984308176091684]
[22,0.002066115702479339,1.6004969333116477,22,0.002066115702479339,1.6004969333116477]
[23,1.890359168241966E-3,1.6023872924798896,23,1.890359168241966E-3,1.6023872924798896]
[24,1.736111111111111E-3,1.6041234035910008,24,1.736111111111111E-3,1.6041234035910008]
[25,0.0016,1.6057234035910009,24,1.736111111111111E-3,1.6041234035910008]
[26,1.4792899408284023E-3,1.6072026935318293,24,1.736111111111111E-3,1.6041234035910008]
[27,1.3717421124828531E-3,1.6085744356443121,24,1.736111111111111E-3,1.6041234035910008]
[28,1.2755102040816326E-3,1.6098499458483937,24,1.736111111111111E-3,1.6041234035910008]
[29,1.1890606420927466E-3,1.6110390064904865,24,1.736111111111111E-3,1.6041234035910008]
[30,1.1111111111111111E-3,1.6121501176015975,24,1.736111111111111E-3,1.6041234035910008]
[31,0.001040582726326743,1.6131907003279242,24,1.736111111111111E-3,1.6041234035910008]
[32,9.765625E-4,1.6141672628279242,24,1.736111111111111E-3,1.6041234035910008]
[33,9.1827364554637281E-4,1.6150855364734706,24,1.736111111111111E-3,1.6041234035910008]
[34,8.6505190311418688E-4,1.6159505883765848,24,1.736111111111111E-3,1.6041234035910008]
[35,8.1632653061224493E-4,1.616766914907197,24,1.736111111111111E-3,1.6041234035910008]
[36,7.716049382716049E-4,1.6175385198454686,24,1.736111111111111E-3,1.6041234035910008]
[37,7.3046018991964939E-4,1.6182689800353882,24,1.736111111111111E-3,1.6041234035910008]
[38,6.925207756232687E-4,1.6189615008110114,24,1.736111111111111E-3,1.6041234035910008]
[39,6.5746219592373442E-4,1.619618963006935,24,1.736111111111111E-3,1.6041234035910008]
[40,0.000625,1.6202439630069352,24,1.736111111111111E-3,1.6041234035910008]
[41,0.000594883997620464,1.6208388470045556,24,1.736111111111111E-3,1.6041234035910008]
[42,5.6689342403628119E-4,1.621405740428592,24,1.736111111111111E-3,1.6041234035910008]
[43,5.4083288263926451E-4,1.6219465733112313,24,1.736111111111111E-3,1.6041234035910008]
[44,5.1652892561983473E-4,1.6224631022368512,24,1.736111111111111E-3,1.6041234035910008]
[45,4.9382716049382717E-4,1.622956929397345,24,1.736111111111111E-3,1.6041234035910008]
[46,4.7258979206049151E-4,1.6234295191894055,24,1.736111111111111E-3,1.6041234035910008]
[47,4.526935264825713E-4,1.623882212715888,24,1.736111111111111E-3,1.6041234035910008]
[48,4.3402777777777775E-4,1.6243162404936657,24,1.736111111111111E-3,1.6041234035910008]
[49,4.1649312786339027E-4,1.6247327336215291,24,1.736111111111111E-3,1.6041234035910008]
[50,0.0004,1.625132733621529,24,1.736111111111111E-3,1.6041234035910008]
[51,3.8446751249519417E-4,1.6255172011340242,24,1.736111111111111E-3,1.6041234035910008]
[52,3.6982248520710058E-4,1.6258870236192313,24,1.736111111111111E-3,1.6041234035910008]
[53,3.55998576005696E-4,1.626243022195237,24,1.736111111111111E-3,1.6041234035910008]
[54,3.4293552812071328E-4,1.626585957723358,24,1.736111111111111E-3,1.6041234035910008]
[55,3.3057851239669424E-4,1.6269165362357545,24,1.736111111111111E-3,1.6041234035910008]
[56,3.1887755102040814E-4,1.6272354137867748,24,1.736111111111111E-3,1.6041234035910008]
[57,3.0778701138811941E-4,1.627543200798163,24,1.736111111111111E-3,1.6041234035910008]
[58,2.9726516052318666E-4,1.627840465958686,24,1.736111111111111E-3,1.6041234035910008]
[59,2.8727377190462512E-4,1.6281277397305907,24,1.736111111111111E-3,1.6041234035910008]
[60,2.7777777777777778E-4,1.6284055175083685,24,1.736111111111111E-3,1.6041234035910008]
[61,2.6874496103198063E-4,1.6286742624694004,24,1.736111111111111E-3,1.6041234035910008]
[62,2.6014568158168577E-4,1.628934408150982,24,1.736111111111111E-3,1.6041234035910008]
[63,2.5195263290501388E-4,1.629186360783887,24,1.736111111111111E-3,1.6041234035910008]
[64,2.44140625E-4,1.629430501408887,24,1.736111111111111E-3,1.6041234035910008]
[65,{"$f":"1/k^2","v":2.3668639053254438E-4},1.6296671877994195,24,1.736111111111111E-3,1.6041234035910008]
[66,2.295684113865932E-4,1.6298967562108062,24,1.736111111111111E-3,1.6041234035910008]
[{"$f":"A68+1","v":67},2.2276676319893073E-4,{"$f":"C68+B69","v":1.630119522974005},24,1.736111111111111E-3,1.6041234035910008]
[68,2.1626297577854672E-4,1.6303357859497836,24,1.736111111111111E-3,1.6041234035910008]
[69,2.1003990758244065E-4,1.630545825857366,24,1.736111111111111E-3,1.6041234035910008]
[70,2.0408163265306123E-4,1.630749907490019,24,1.736111111111111E-3,1.6041234035910008]
[71,1.9837333862328903E-4,1.6309482808286422,24,1.736111111111111E-3,1.6041234035910008]
[72,1.9290123456790122E-4,1.63114118206321,24,1.736111111111111E-3,1.6041234035910008]
[73,1.8765246762994934E-4,1.6313288345308399,24,1.736111111111111E-3,1.6041234035910008]
[74,1.8261504747991235E-4,1.6315114495783198,24,1.736111111111111E-3,1.6041234035910008]
[75,1.7777777777777779E-4,1.6316892273560977,{"$f":"IF(A77<=xMax,A77,xMax)","v":24},{"$f":"IF(A77<=xMax,B77,lastA)","v":1.736111111111111E-3},{"$f":"IF(A77<=xMax,C77,LastSum)","v":1.6041234035910008}]
[76,1.7313019390581717E-4,1.6318623575500035,24,1.736111111111111E-3,1.6041234035910008]
[77,1.6866250632484398E-4,1.6320310200563284,24,1.736111111111111E-3,1.6041234035910008]
[78,1.643655489809336E-4,1.6321953856053093,24,1.736111111111111E-3,1.6041234035910008]
[79,1.602307322544464E-4,1.6323556163375637,24,1.736111111111111E-3,1.6041234035910008]
[80,1.5625E-4,1.6325118663375637,24,1.736111111111111E-3,1.6041234035910008]
[81,1.5241579027587258E-4,1.6326642821278397,24,1.736111111111111E-3,1.6041234035910008]
[82,0.000148720999405116,1.6328130031272448,24,1.736111111111111E-3,1.6041234035910008]
[83,1.4515894904920887E-4,1.632958162076294,24,1.736111111111111E-3,1.6041234035910008]
[84,1.417233560090703E-4,1.6330998854323031,24,1.736111111111111E-3,1.6041234035910008]
[85,1.3840830449826991E-4,1.6332382937368013,24,1.736111111111111E-3,1.6041234035910008]
[86,1.3520822065981613E-4,1.6333735019574611,24,1.736111111111111E-3,1.6041234035910008]
[87,1.3211784912141631E-4,1.6335056198065825,24,1.736111111111111E-3,1.6041234035910008]
[88,1.2913223140495868E-4,1.6336347520379875,24,1.736111111111111E-3,1.6041234035910008]
[89,1.2624668602449185E-4,1.633760998724012,24,1.736111111111111E-3,1.6041234035910008]
[90,1.2345679012345679E-4,1.6338844555141354,24,1.736111111111111E-3,1.6041234035910008]
[91,1.2075836251660427E-4,1.634005213876652,24,1.736111111111111E-3,1.6041234035910008]
[92,1.1814744801512288E-4,1.6341233613246673,24,1.736111111111111E-3,1.6041234035910008]
[93,1.1562030292519366E-4,1.6342389816275924,24,1.736111111111111E-3,1.6041234035910008]
[94,1.1317338162064282E-4,1.634352155009213,24,1.736111111111111E-3,1.6041234035910008]
[95,1.1080332409972299E-4,1.6344629583333128,24,1.736111111111111E-3,1.6041234035910008]
[96,1.0850694444444444E-4,1.6345714652777572,24,1.736111111111111E-3,1.6041234035910008]
[97,1.0628122010840685E-4,1.6346777464978657,24,1.736111111111111E-3,1.6041234035910008]
[98,1.0412328196584757E-4,1.6347818697798315,24,1.736111111111111E-3,1.6041234035910008]
[99,1.0203040506070809E-4,1.6348839001848923,24,1.736111111111111E-3,1.6041234035910008]
[100,1E-4,1.6349839001848923,24,1.736111111111111E-3,1.6041234035910008]
[101,9.8029604940692082E-5,1.635081929789833,24,1.736111111111111E-3,1.6041234035910008]
[102,9.6116878123798542E-5,1.6351780466679566,24,1.736111111111111E-3,1.6041234035910008]
[103,9.4259590913375435E-5,1.63527230625887,24,1.736111111111111E-3,1.6041234035910008]
[104,9.2455621301775146E-5,1.6353647618801719,24,1.736111111111111E-3,1.6041234035910008]
[105,9.0702947845804991E-5,1.6354554648280177,24,1.736111111111111E-3,1.6041234035910008]
[106,8.8999644001424e-05,1.6355444644720192,24,1.736111111111111E-3,1.6041234035910008]
[107,8.7343872827321168E-5,1.6356318083448464,24,1.736111111111111E-3,1.6041234035910008]
[108,8.573388203017832E-5,1.6357175422268766,24,1.736111111111111E-3,1.6041234035910008]
[109,8.4167999326656008E-5,1.6358017102262032,24,1.736111111111111E-3,1.6041234035910008]
[110,8.264462809917356E-5,1.6358843548543025,24,1.736111111111111E-3,1.6041234035910008]
[111,8.1162243324405485E-5,1.6359655170976268,24,1.736111111111111E-3,1.6041234035910008]
[112,7.9719387755102034E-5,1.636045236485382,24,1.736111111111111E-3,1.6041234035910008]
[113,7.8314668337379589E-5,1.6361235511537193,24,1.736111111111111E-3,1.6041234035910008]
[114,7.6946752847029852E-5,1.6362004979065663,24,1.736111111111111E-3,1.6041234035910008]
[115,7.5614366729678632E-5,1.636276112273296,24,1.736111111111111E-3,1.6041234035910008]
[116,7.4316290130796664E-5,1.636350428563427,24,1.736111111111111E-3,1.6041234035910008]
[117,7.3051355102637158E-5,1.6364234799185295,24,1.736111111111111E-3,1.6041234035910008]
[118,7.1818442976156281E-5,1.6364952983615058,24,1.736111111111111E-3,1.6041234035910008]
[119,7.06164818868724e-05,1.6365659148433926,24,1.736111111111111E-3,1.6041234035910008]
[120,6.9444444444444444E-5,1.636635359287837,24,1.736111111111111E-3,1.6041234035910008]
[121,6.8301345536507063E-5,1.6367036606333736,24,1.736111111111111E-3,1.6041234035910008]
[122,6.7186240257995157E-5,1.6367708468736315,24,1.736111111111111E-3,1.6041234035910008]
[123,6.609822195782933E-5,1.6368369450955893,24,1.736111111111111E-3,1.6041234035910008]
[124,6.5036420395421442E-5,1.6369019815159846,24,1.736111111111111E-3,1.6041234035910008]
[125,6.4e-05,1.6369659815159847,24,1.736111111111111E-3,1.6041234035910008]
[126,6.2988158226253471E-5,1.637028969674211,24,1.736111111111111E-3,1.6041234035910008]
[127,6.2000124000248e-05,1.6370909697982112,24,1.736111111111111E-3,1.6041234035910008]
[128,6.103515625E-5,1.6371520049544612,24,1.736111111111111E-3,1.6041234035910008]
[129,{"$f":"1/k^2","v":6.0092542515473829E-5},1.6372120974969766,24,1.736111111111111E-3,1.6041234035910008]
[130,5.9171597633136094E-5,1.6372712690946098,24,1.736111111111111E-3,1.6041234035910008]
[{"$f":"A132+1","v":131},5.8271662490530857E-5,{"$f":"C132+B133","v":1.6373295407571005},24,1.736111111111111E-3,1.6041234035910008]
[132,5.73921028466483e-05,1.637386932859947,24,1.736111111111111E-3,1.6041234035910008]
[133,5.6532308214144386E-5,1.6374434651681613,24,1.736111111111111E-3,1.6041234035910008]
[134,5.5691690799732683E-5,1.637499156858961,24,1.736111111111111E-3,1.6041234035910008]
[135,5.4869684499314129E-5,1.6375540265434603,24,1.736111111111111E-3,1.6041234035910008]
[136,5.406574394463668E-5,1.637608092287405,24,1.736111111111111E-3,1.6041234035910008]
[137,5.3279343598486864E-5,1.6376613716310036,24,1.736111111111111E-3,1.6041234035910008]
[138,5.2509976895610163E-5,1.637713881607899,24,1.736111111111111E-3,1.6041234035910008]
[139,5.1757155426737743E-5,1.637765638763326,{"$f":"IF(A141<=xMax,A141,xMax)","v":24},{"$f":"IF(A141<=xMax,B141,lastA)","v":1.736111111111111E-3},{"$f":"IF(A141<=xMax,C141,LastSum)","v":1.6041234035910008}]
[140,5.1020408163265308E-5,1.637816659171489,24,1.736111111111111E-3,1.6041234035910008]
[141,5.02992807202857e-05,1.6378669584522094,24,1.736111111111111E-3,1.6041234035910008]
[142,4.9593334655822257E-5,1.6379165517868652,24,1.736111111111111E-3,1.6041234035910008]
[143,4.8902146804244705E-5,1.6379654539336694,24,1.736111111111111E-3,1.6041234035910008]
[144,4.8225308641975306E-5,1.6380136792423114,24,1.736111111111111E-3,1.6041234035910008]
[145,4.7562425683709869E-5,1.6380612416679952,24,1.736111111111111E-3,1.6041234035910008]
[146,4.6913116907487336E-5,1.6381081547849026,24,1.736111111111111E-3,1.6041234035910008]
[147,4.6277014207043363E-5,1.6381544317991097,24,1.736111111111111E-3,1.6041234035910008]
[148,4.5653761869978087E-5,1.6382000855609797,24,1.736111111111111E-3,1.6041234035910008]
[149,4.5043016080356741E-5,1.63824512857706,24,1.736111111111111E-3,1.6041234035910008]
[150,4.4444444444444447E-5,1.6382895730215046,24,1.736111111111111E-3,1.6041234035910008]
[151,4.3857725538353582E-5,1.638333430747043,24,1.736111111111111E-3,1.6041234035910008]
[152,4.3282548476454294E-5,1.6383767132955194,24,1.736111111111111E-3,1.6041234035910008]
[153,4.2718612499466016E-5,1.6384194319080188,24,1.736111111111111E-3,1.6041234035910008]
[154,4.2165626581210996E-5,1.6384615975346,24,1.736111111111111E-3,1.6041234035910008]
[155,4.1623309053069721E-5,1.638503220843653,24,1.736111111111111E-3,1.6041234035910008]
[156,4.10913872452334e-05,1.6385443122308982,24,1.736111111111111E-3,1.6041234035910008]
[157,4.0569597143900358E-5,1.6385848818280422,24,1.736111111111111E-3,1.6041234035910008]
[158,4.00576830636116E-5,1.6386249395111059,24,1.736111111111111E-3,1.6041234035910008]
[159,3.9555397333966222E-5,1.63866449490844,24,1.736111111111111E-3,1.6041234035910008]
[160,3.90625e-05,1.6387035574084399,24,1.736111111111111E-3,1.6041234035910008]
[161,3.8578758535550326E-5,1.6387421361669754,24,1.736111111111111E-3,1.6041234035910008]
[162,3.8103947568968146E-5,1.6387802401145444,24,1.736111111111111E-3,1.6041234035910008]
[163,3.7637848620572846E-5,1.638817877963165,24,1.736111111111111E-3,1.6041234035910008]
[164,3.7180249851279e-05,1.6388550582130164,24,1.736111111111111E-3,1.6041234035910008]
[165,3.6730945821854914E-5,1.6388917891588382,24,1.736111111111111E-3,1.6041234035910008]
[166,3.6289737262302218E-5,1.6389280788961005,24,1.736111111111111E-3,1.6041234035910008]
[167,3.58564308508731e-05,1.6389639353269514,24,1.736111111111111E-3,1.6041234035910008]
[168,3.5430839002267575E-5,1.6389993661659537,24,1.736111111111111E-3,1.6041234035910008]
[169,3.5012779664577572E-5,1.6390343789456183,24,1.736111111111111E-3,1.6041234035910008]
[170,3.4602076124567477E-5,1.639068981021743,24,1.736111111111111E-3,1.6041234035910008]
[171,3.4198556820902158E-5,1.6391031795785638,24,1.736111111111111E-3,1.6041234035910008]
[172,3.3802055164954032E-5,1.6391369816337287,24,1.736111111111111E-3,1.6041234035910008]
[173,3.3412409368839586E-5,1.6391703940430975,24,1.736111111111111E-3,1.6041234035910008]
[174,3.3029462280354077E-5,1.6392034235053778,24,1.736111111111111E-3,1.6041234035910008]
[175,3.2653061224489793E-5,1.6392360765666023,24,1.736111111111111E-3,1.6041234035910008]
[176,3.228305785123967E-5,1.6392683596244535,24,1.736111111111111E-3,1.6041234035910008]
[177,3.1919307989402791E-5,1.639300278932443,24,1.736111111111111E-3,1.6041234035910008]
[178,3.1561671506122962E-5,1.639331840603949,24,1.736111111111111E-3,1.6041234035910008]
[179,3.1210012171904748E-5,1.639363050616121,24,1.736111111111111E-3,1.6041234035910008]
[180,3.08641975308642e-05,1.6393939148136518,24,1.736111111111111E-3,1.6041234035910008]
[181,3.0524098775983637E-5,1.6394244389124277,24,1.736111111111111E-3,1.6041234035910008]
[182,3.0189590629151068E-5,1.639454628503057,24,1.736111111111111E-3,1.6041234035910008]
[183,2.9860551225775629E-5,1.6394844890542826,24,1.736111111111111E-3,1.6041234035910008]
[184,2.9536862003780719E-5,1.6395140259162864,24,1.736111111111111E-3,1.6041234035910008]
[185,2.9218407596785974E-5,1.639543244323883,24,1.736111111111111E-3,1.6041234035910008]
[186,2.8905075731298415E-5,1.6395721493996145,24,1.736111111111111E-3,1.6041234035910008]
[187,2.8596757127741712E-5,1.6396007461567423,24,1.736111111111111E-3,1.6041234035910008]
[188,2.8293345405160706E-5,1.6396290395021476,24,1.736111111111111E-3,1.6041234035910008]
[189,2.7994736989445986E-5,1.639657034239137,24,1.736111111111111E-3,1.6041234035910008]
[190,2.7700831024930747E-5,1.639684735070162,24,1.736111111111111E-3,1.6041234035910008]
[191,2.7411529289219047E-5,1.6397121465994513,24,1.736111111111111E-3,1.6041234035910008]
[192,2.712673611111111E-5,1.6397392733355625,24,1.736111111111111E-3,1.6041234035910008]
[193,{"$f":"1/k^2","v":2.6846358291497759E-5},1.639766119693854,24,1.736111111111111E-3,1.6041234035910008]
[194,2.6570305027101713E-5,1.639792689998881,24,1.736111111111111E-3,1.6041234035910008]
[{"$f":"A196+1","v":195},2.6298487836949376E-5,{"$f":"C196+B197","v":1.639818988486718},24,1.736111111111111E-3,1.6041234035910008]
[196,2.6030820491461892E-5,1.6398450193072094,24,1.736111111111111E-3,1.6041234035910008]
[197,2.5767218944059367E-5,1.6398707865261535,24,1.736111111111111E-3,1.6041234035910008]
[198,2.5507601265177022E-5,1.6398962941274187,24,1.736111111111111E-3,1.6041234035910008]
[199,2.52518875785965e-05,1.6399215460149972,24,1.736111111111111E-3,1.6041234035910008]
[200,2.5e-05,1.6399465460149971,24,1.736111111111111E-3,1.6041234035910008]
[201,2.4751862577658969E-5,1.6399712978775747,24,1.736111111111111E-3,1.6041234035910008]
[202,2.4507401235173021E-5,1.63999580527881,24,1.736111111111111E-3,1.6041234035910008]
[203,2.4266543716178503E-5,1.6400200718225262,{"$f":"IF(A205<=xMax,A205,xMax)","v":24},{"$f":"IF(A205<=xMax,B205,lastA)","v":1.736111111111111E-3},{"$f":"IF(A205<=xMax,C205,LastSum)","v":1.6041234035910008}]
[204,2.4029219530949635E-5,1.6400441010420572,24,1.736111111111111E-3,1.6041234035910008]
[205,2.3795359904818562E-5,1.640067896401962,24,1.736111111111111E-3,1.6041234035910008]
[206,2.3564897728343859E-5,1.6400914612996902,24,1.736111111111111E-3,1.6041234035910008]
[207,2.3337767509160075E-5,1.6401147990671994,24,1.736111111111111E-3,1.6041234035910008]
[208,2.3113905325443786E-5,1.6401379129725249,24,1.736111111111111E-3,1.6041234035910008]
[209,2.2893248780934502E-5,1.6401608062213058,24,1.736111111111111E-3,1.6041234035910008]
[210,2.2675736961451248E-5,1.6401834819582672,24,1.736111111111111E-3,1.6041234035910008]
[211,2.246131039284832E-5,1.64020594326866,24,1.736111111111111E-3,1.6041234035910008]
[212,2.2249911000356E-5,1.6402281931796603,24,1.736111111111111E-3,1.6041234035910008]
[213,2.2041482069254335E-5,1.6402502346617296,24,1.736111111111111E-3,1.6041234035910008]
[214,2.1835968206830292E-5,1.6402720706299365,24,1.736111111111111E-3,1.6041234035910008]
[215,2.1633315305570577E-5,1.640293703945242,24,1.736111111111111E-3,1.6041234035910008]
[216,2.143347050754458E-5,1.6403151374157496,24,1.736111111111111E-3,1.6041234035910008]
[217,2.1236382169933532E-5,1.6403363737979195,24,1.736111111111111E-3,1.6041234035910008]
[218,2.1041999831664002E-5,1.6403574157977512,24,1.736111111111111E-3,1.6041234035910008]
[219,2.0850274181105481E-5,1.6403782660719324,24,1.736111111111111E-3,1.6041234035910008]
[220,2.066115702479339E-5,1.6403989272289572,24,1.736111111111111E-3,1.6041234035910008]
[221,2.0474601257140519E-5,1.6404194018302143,24,1.736111111111111E-3,1.6041234035910008]
[222,2.0290560831101371E-5,1.6404396923910454,24,1.736111111111111E-3,1.6041234035910008]
[223,2.0108990729755272E-5,1.640459801381775,24,1.736111111111111E-3,1.6041234035910008]
[224,1.9929846938775509E-5,1.6404797312287138,24,1.736111111111111E-3,1.6041234035910008]
[225,1.9753086419753087E-5,1.6404994843151335,24,1.736111111111111E-3,1.6041234035910008]
[226,1.9578667084344897E-5,1.6405190629822177,24,1.736111111111111E-3,1.6041234035910008]
[227,1.9406547769217335E-5,1.640538469529987,24,1.736111111111111E-3,1.6041234035910008]
[228,1.9236688211757463E-5,1.6405577062181986,24,1.736111111111111E-3,1.6041234035910008]
[229,1.9069049026525047E-5,1.6405767752672251,24,1.736111111111111E-3,1.6041234035910008]
[230,1.8903591682419658E-5,1.6405956788589076,24,1.736111111111111E-3,1.6041234035910008]
[231,1.8740278480538221E-5,1.6406144191373881,24,1.736111111111111E-3,1.6041234035910008]
[232,1.8579072532699166E-5,1.6406329982099208,24,1.736111111111111E-3,1.6041234035910008]
[233,1.8419937740610438E-5,1.6406514181476615,24,1.736111111111111E-3,1.6041234035910008]
[234,1.8262838775659289E-5,1.6406696809864372,24,1.736111111111111E-3,1.6041234035910008]
[235,1.8107741059302852E-5,1.6406877887274964,24,1.736111111111111E-3,1.6041234035910008]
[236,1.795461074403907E-5,1.6407057433382404,24,1.736111111111111E-3,1.6041234035910008]
[237,1.7803414694938489E-5,1.6407235467529353,24,1.736111111111111E-3,1.6041234035910008]
[238,1.76541204717181e-05,1.640741200873407,24,1.736111111111111E-3,1.6041234035910008]
[239,1.7506696311339088E-5,1.6407587075697183,24,1.736111111111111E-3,1.6041234035910008]
[240,1.7361111111111111E-5,1.6407760686808295,24,1.736111111111111E-3,1.6041234035910008]
[241,1.7217334412286289E-5,1.6407932860152417,24,1.736111111111111E-3,1.6041234035910008]
[242,1.7075336384126766E-5,1.6408103613516258,24,1.736111111111111E-3,1.6041234035910008]
[243,1.6935087808430286E-5,1.6408272964394344,24,1.736111111111111E-3,1.6041234035910008]
[244,1.6796560064498789E-5,1.640844092999499,24,1.736111111111111E-3,1.6041234035910008]
[245,1.665972511453561E-5,1.6408607527246135,24,1.736111111111111E-3,1.6041234035910008]
[246,1.6524555489457333E-5,1.640877277280103,24,1.736111111111111E-3,1.6041234035910008]
[247,1.6391024275106952E-5,1.6408936683043782,24,1.736111111111111E-3,1.6041234035910008]
[248,1.6259105098855361E-5,1.6409099274094772,24,1.736111111111111E-3,1.6041234035910008]
[249,1.6128772116578765E-5,1.6409260561815937,24,1.736111111111111E-3,1.6041234035910008]
[250,1.6e-05,1.6409420561815937,24,1.736111111111111E-3,1.6041234035910008]
[251,1.5872763924382153E-5,1.640957928945518,24,1.736111111111111E-3,1.6041234035910008]
[252,1.5747039556563368E-5,1.6409736759850746,24,1.736111111111111E-3,1.6041234035910008]
[253,1.5622803043322032E-5,1.6409892987881178,24,1.736111111111111E-3,1.6041234035910008]
[254,1.5500031000062e-05,1.6410047988191179,24,1.736111111111111E-3,1.6041234035910008]
[255,1.5378700499807768E-5,1.6410201775196176,24,1.736111111111111E-3,1.6041234035910008]
[256,1.52587890625E-5,1.64103543630868,24,1.736111111111111E-3,1.6041234035910008]
[257,{"$f":"1/k^2","v":1.5140274644582053E-5},1.6410505765833248,24,1.736111111111111E-3,1.6041234035910008]
[258,1.5023135628868457E-5,1.6410655997189536,24,1.736111111111111E-3,1.6041234035910008]
[{"$f":"A260+1","v":259},1.4907350814686721E-5,{"$f":"C260+B261","v":1.6410805070697683},24,1.736111111111111E-3,1.6041234035910008]
[260,1.4792899408284024E-5,1.6410952999691766,24,1.736111111111111E-3,1.6041234035910008]
[261,1.46797610134907E-5,1.64110997973019,24,1.736111111111111E-3,1.6041234035910008]
[262,1.4567915622632714E-5,1.6411245476458127,24,1.736111111111111E-3,1.6041234035910008]
[263,1.4457343607685523E-5,1.6411390049894203,24,1.736111111111111E-3,1.6041234035910008]
[264,1.4348025711662075E-5,1.641153353015132,24,1.736111111111111E-3,1.6041234035910008]
[265,1.4239943040227839E-5,1.6411675929581724,24,1.736111111111111E-3,1.6041234035910008]
[266,1.4133077053536096E-5,1.641181726035226,24,1.736111111111111E-3,1.6041234035910008]
[267,1.4027409558276873E-5,1.6411957534447843,{"$f":"IF(A269<=xMax,A269,xMax)","v":24},{"$f":"IF(A269<=xMax,B269,lastA)","v":1.736111111111111E-3},{"$f":"IF(A269<=xMax,C269,LastSum)","v":1.6041234035910008}]
[268,1.3922922699933171E-5,1.6412096763674842,24,1.736111111111111E-3,1.6041234035910008]
[269,1.3819598955238318E-5,1.6412234959664393,24,1.736111111111111E-3,1.6041234035910008]
[270,1.3717421124828532E-5,1.6412372133875641,24,1.736111111111111E-3,1.6041234035910008]
[271,1.3616372326084885E-5,1.6412508297598902,24,1.736111111111111E-3,1.6041234035910008]
[272,1.351643598615917E-5,1.6412643461958765,24,1.736111111111111E-3,1.6041234035910008]
[273,1.3417595835178253E-5,1.6412777637917118,24,1.736111111111111E-3,1.6041234035910008]
[274,1.3319835899621716E-5,1.6412910836276113,24,1.736111111111111E-3,1.6041234035910008]
[275,1.3223140495867768E-5,1.6413043067681072,24,1.736111111111111E-3,1.6041234035910008]
[276,1.3127494223902541E-5,1.6413174342623311,24,1.736111111111111E-3,1.6041234035910008]
[277,1.3032881961188077E-5,1.6413304671442923,24,1.736111111111111E-3,1.6041234035910008]
[278,1.2939288856684436E-5,1.641343406433149,24,1.736111111111111E-3,1.6041234035910008]
[279,1.2846700325021518E-5,1.641356253133474,24,1.736111111111111E-3,1.6041234035910008]
[280,1.2755102040816327E-5,1.6413690082355148,24,1.736111111111111E-3,1.6041234035910008]
[281,1.2664479933131545E-5,1.641381672715448,24,1.736111111111111E-3,1.6041234035910008]
[282,1.2574820180071425E-5,1.641394247535628,24,1.736111111111111E-3,1.6041234035910008]
[283,1.2486109203511094E-5,1.6414067336448315,24,1.736111111111111E-3,1.6041234035910008]
[284,1.2398333663955564E-5,1.6414191319784954,24,1.736111111111111E-3,1.6041234035910008]
[285,1.2311480455524777E-5,1.641431443458951,24,1.736111111111111E-3,1.6041234035910008]
[286,1.2225536701061176E-5,1.641443668995652,24,1.736111111111111E-3,1.6041234035910008]
[287,1.2140489747356409E-5,1.6414558094853993,24,1.736111111111111E-3,1.6041234035910008]
[288,1.2056327160493826E-5,1.6414678658125597,24,1.736111111111111E-3,1.6041234035910008]
[289,1.1973036721303624E-5,1.641479838849281,24,1.736111111111111E-3,1.6041234035910008]
[290,1.1890606420927467E-5,1.6414917294557019,24,1.736111111111111E-3,1.6041234035910008]
[291,1.1809024456489649E-5,1.6415035384801584,24,1.736111111111111E-3,1.6041234035910008]
[292,1.1728279226871834E-5,1.6415152667593853,24,1.736111111111111E-3,1.6041234035910008]
[293,1.1648359328588568E-5,1.641526915118714,24,1.736111111111111E-3,1.6041234035910008]
[294,1.1569253551760841E-5,1.6415384843722658,24,1.736111111111111E-3,1.6041234035910008]
[295,1.1490950876185005E-5,1.641549975323142,24,1.736111111111111E-3,1.6041234035910008]
[296,1.1413440467494522E-5,1.6415613887636094,24,1.736111111111111E-3,1.6041234035910008]
[297,1.1336711673412011E-5,1.6415727254752828,24,1.736111111111111E-3,1.6041234035910008]
[298,1.1260754020089185E-5,1.641583986229303,24,1.736111111111111E-3,1.6041234035910008]
[299,1.1185557208532343E-5,1.6415951717865114,24,1.736111111111111E-3,1.6041234035910008]
[300,1.1111111111111112E-5,1.6416062828976226,24,1.736111111111111E-3,1.6041234035910008]
[301,1.1037405768148255E-5,1.6416173203033908,24,1.736111111111111E-3,1.6041234035910008]
[302,1.0964431384588396E-5,1.6416282847347754,24,1.736111111111111E-3,1.6041234035910008]
[303,1.0892178326743566E-5,1.6416391769131022,24,1.736111111111111E-3,1.6041234035910008]
[304,1.0820637119113573E-5,1.6416499975502215,24,1.736111111111111E-3,1.6041234035910008]
[305,1.0749798441279227E-5,1.6416607473486626,24,1.736111111111111E-3,1.6041234035910008]
[306,1.0679653124866504E-5,1.6416714270017876,24,1.736111111111111E-3,1.6041234035910008]
[307,1.0610192150579848E-5,1.6416820371939382,24,1.736111111111111E-3,1.6041234035910008]
[308,1.0541406645302749E-5,1.6416925786005836,24,1.736111111111111E-3,1.6041234035910008]
[309,1.0473287879263938E-5,1.6417030518884628,24,1.736111111111111E-3,1.6041234035910008]
[310,1.040582726326743E-5,1.641713457715726,24,1.736111111111111E-3,1.6041234035910008]
[311,1.0339016345984843E-5,1.641723796732072,24,1.736111111111111E-3,1.6041234035910008]
[312,1.027284681130835E-5,1.6417340695788831,24,1.736111111111111E-3,1.6041234035910008]
[313,1.0207310475762742E-5,1.6417442768893589,24,1.736111111111111E-3,1.6041234035910008]
[314,1.0142399285975089E-5,1.6417544192886449,24,1.736111111111111E-3,1.6041234035910008]
[315,1.0078105316200555E-5,1.6417644973939611,24,1.736111111111111E-3,1.6041234035910008]
[316,1.00144207659029E-5,1.6417745118147271,24,1.736111111111111E-3,1.6041234035910008]
[317,9.95133795738837e-06,1.6417844631526846,24,1.736111111111111E-3,1.6041234035910008]
[318,9.8888493334915555E-6,1.641794352002018,24,1.736111111111111E-3,1.6041234035910008]
[319,9.8269474553119569E-6,1.6418041789494733,24,1.736111111111111E-3,1.6041234035910008]
[320,9.765625e-06,1.6418139445744733,24,1.736111111111111E-3,1.6041234035910008]
[321,{"$f":"1/k^2","v":9.70487475859124e-06},1.6418236494492318,24,1.736111111111111E-3,1.6041234035910008]
[322,9.6446896338875814E-6,1.6418332941388656,24,1.736111111111111E-3,1.6041234035910008]
[{"$f":"A324+1","v":323},9.5850626383843413E-6,{"$f":"C324+B325","v":1.641842879201504},24,1.736111111111111E-3,1.6041234035910008]
[324,9.5259868922420365E-6,1.6418524051883963,24,1.736111111111111E-3,1.6041234035910008]
[325,9.4674556213017744E-6,1.6418618726440175,24,1.736111111111111E-3,1.6041234035910008]
[326,9.4094621551432116E-6,1.6418712821061727,24,1.736111111111111E-3,1.6041234035910008]
[327,9.351999925184e-06,1.6418806341060979,24,1.736111111111111E-3,1.6041234035910008]
[328,9.29506246281975e-06,1.6418899291685607,24,1.736111111111111E-3,1.6041234035910008]
[329,9.2386433976034954E-6,1.6418991678119583,24,1.736111111111111E-3,1.6041234035910008]
[330,9.1827364554637285E-6,1.6419083505484138,24,1.736111111111111E-3,1.6041234035910008]
[331,9.1273354569600489E-6,1.6419174778838708,{"$f":"IF(A333<=xMax,A333,xMax)","v":24},{"$f":"IF(A333<=xMax,B333,lastA)","v":1.736111111111111E-3},{"$f":"IF(A333<=xMax,C333,LastSum)","v":1.6041234035910008}]
[332,9.0724343155755545E-6,1.6419265503181864,24,1.736111111111111E-3,1.6041234035910008]
[333,9.0180270360450547E-6,1.6419355683452224,24,1.736111111111111E-3,1.6041234035910008]
[334,8.9641077127182758E-6,1.6419445324529351,24,1.736111111111111E-3,1.6041234035910008]
[335,8.910670527957229E-6,1.641953443123463,24,1.736111111111111E-3,1.6041234035910008]
[336,8.8577097505668937E-6,1.6419623008332136,24,1.736111111111111E-3,1.6041234035910008]
[337,8.8052197342584677E-6,1.6419711060529478,24,1.736111111111111E-3,1.6041234035910008]
[338,8.7531949161443929E-6,1.641979859247864,24,1.736111111111111E-3,1.6041234035910008]
[339,8.7016298152644e-06,1.6419885608776794,24,1.736111111111111E-3,1.6041234035910008]
[340,8.65051903114187e-06,1.6419972113967105,24,1.736111111111111E-3,1.6041234035910008]
[341,8.5998572423697766E-6,1.6420058112539528,24,1.736111111111111E-3,1.6041234035910008]
[342,8.54963920522554e-06,1.642014360893158,24,1.736111111111111E-3,1.6041234035910008]
[343,8.4998597523140868E-6,1.6420228607529104,24,1.736111111111111E-3,1.6041234035910008]
[344,8.4505137912385079E-6,1.6420313112667015,24,1.736111111111111E-3,1.6041234035910008]
[345,8.4015963032976262E-6,1.6420397128630049,24,1.736111111111111E-3,1.6041234035910008]
[346,8.3531023422098964E-6,1.6420480659653471,24,1.736111111111111E-3,1.6041234035910008]
[347,8.3050270328629927E-6,1.64205637099238,24,1.736111111111111E-3,1.6041234035910008]
[348,8.25736557008852e-06,1.6420646283579503,24,1.736111111111111E-3,1.6041234035910008]
[349,8.2101132174612691E-6,1.6420728384711678,24,1.736111111111111E-3,1.6041234035910008]
[350,8.1632653061224483E-6,1.642081001736474,24,1.736111111111111E-3,1.6041234035910008]
[351,8.11681723362635e-06,1.6420891185537076,24,1.736111111111111E-3,1.6041234035910008]
[352,8.0707644628099176E-6,1.6420971893181704,24,1.736111111111111E-3,1.6041234035910008]
[353,8.0251025206847011E-6,1.6421052144206911,24,1.736111111111111E-3,1.6041234035910008]
[354,7.9798269973506977E-6,1.6421131942476885,24,1.736111111111111E-3,1.6041234035910008]
[355,7.9349335449315615E-6,1.6421211291812334,24,1.736111111111111E-3,1.6041234035910008]
[356,7.89041787653074e-06,1.64212901959911,24,1.736111111111111E-3,1.6041234035910008]
[357,7.8462757652080447E-6,1.6421368658748752,24,1.736111111111111E-3,1.6041234035910008]
[358,7.8025030429761869E-6,1.6421446683779182,24,1.736111111111111E-3,1.6041234035910008]
[359,7.759095599816886E-6,1.642152427473518,24,1.736111111111111E-3,1.6041234035910008]
[360,7.71604938271605e-06,1.6421601435229007,24,1.736111111111111E-3,1.6041234035910008]
[361,7.673360394717659E-6,1.6421678168832954,24,1.736111111111111E-3,1.6041234035910008]
[362,7.6310246939959091E-6,1.6421754479079893,24,1.736111111111111E-3,1.6041234035910008]
[363,7.5890383929452295E-6,1.6421830369463823,24,1.736111111111111E-3,1.6041234035910008]
[364,7.547397657287767E-6,1.6421905843440396,24,1.736111111111111E-3,1.6041234035910008]
[365,7.5060987051979735E-6,1.642198090442745,24,1.736111111111111E-3,1.6041234035910008]
[366,7.4651378064439071E-6,1.6422055555805513,24,1.736111111111111E-3,1.6041234035910008]
[367,7.4245112815448925E-6,1.6422129800918328,24,1.736111111111111E-3,1.6041234035910008]
[368,7.38421550094518e-06,1.6422203643073336,24,1.736111111111111E-3,1.6041234035910008]
[369,7.3442468842032593E-6,1.6422277085542178,24,1.736111111111111E-3,1.6041234035910008]
[370,7.3046018991964936E-6,1.642235013156117,24,1.736111111111111E-3,1.6041234035910008]
[371,7.2652770613407345E-6,1.6422422784331783,24,1.736111111111111E-3,1.6041234035910008]
[372,7.2262689328246036E-6,1.642249504702111,24,1.736111111111111E-3,1.6041234035910008]
[373,7.1875741218581317E-6,1.642256692276233,24,1.736111111111111E-3,1.6041234035910008]
[374,7.1491892819354281E-6,1.6422638414655149,24,1.736111111111111E-3,1.6041234035910008]
[375,7.111111111111111E-6,1.642270952576626,24,1.736111111111111E-3,1.6041234035910008]
[376,7.0733363512901765E-6,1.6422780259129772,24,1.736111111111111E-3,1.6041234035910008]
[377,7.0358617875310459E-6,1.6422850617747649,24,1.736111111111111E-3,1.6041234035910008]
[378,6.9986842473614964E-6,1.6422920604590123,24,1.736111111111111E-3,1.6041234035910008]
[379,6.961800600107212E-6,1.6422990222596123,24,1.736111111111111E-3,1.6041234035910008]
[380,6.9252077562326867E-6,1.6423059474673685,24,1.736111111111111E-3,1.6041234035910008]
[381,6.8889026666942226E-6,1.6423128363700352,24,1.736111111111111E-3,1.6041234035910008]
[382,6.8528823223047617E-6,1.6423196892523575,24,1.736111111111111E-3,1.6041234035910008]
[383,6.8171437531103219E-6,1.6423265063961106,24,1.736111111111111E-3,1.6041234035910008]
[384,6.7816840277777774E-6,1.6423332880801382,24,1.736111111111111E-3,1.6041234035910008]
[385,{"$f":"1/k^2","v":6.7465002529937596E-6},1.6423400345803911,24,1.736111111111111E-3,1.6041234035910008]
[386,6.71158957287444e-06,1.642346746169964,24,1.736111111111111E-3,1.6041234035910008]
[{"$f":"A388+1","v":387},6.6769491683859811E-6,{"$f":"C388+B389","v":1.6423534231191323},24,1.736111111111111E-3,1.6041234035910008]
[388,6.6425762567754282E-6,1.6423600656953892,24,1.736111111111111E-3,1.6041234035910008]
[389,6.6084680910118228E-6,1.6423666741634801,24,1.736111111111111E-3,1.6041234035910008]
[390,6.574621959237344E-6,1.6423732487854394,24,1.736111111111111E-3,1.6041234035910008]
[391,6.5410351842282562E-6,1.6423797898206236,24,1.736111111111111E-3,1.6041234035910008]
[392,6.507705122865473E-6,1.6423862975257464,24,1.736111111111111E-3,1.6041234035910008]
[393,6.47462916561454e-06,1.642392772154912,24,1.736111111111111E-3,1.6041234035910008]
[394,6.4418047360148418E-6,1.6423992139596482,24,1.736111111111111E-3,1.6041234035910008]
[395,6.4092292901778563E-6,1.6424056231889383,{"$f":"IF(A397<=xMax,A397,xMax)","v":24},{"$f":"IF(A397<=xMax,B397,lastA)","v":1.736111111111111E-3},{"$f":"IF(A397<=xMax,C397,LastSum)","v":1.6041234035910008}]
[396,6.3769003162942556E-6,1.6424120000892546,24,1.736111111111111E-3,1.6041234035910008]
[397,6.3448153341496993E-6,1.6424183449045888,24,1.736111111111111E-3,1.6041234035910008]
[398,6.3129718946491248E-6,1.6424246578764834,24,1.736111111111111E-3,1.6041234035910008]
[399,6.2813675793493756E-6,1.6424309392440628,24,1.736111111111111E-3,1.6041234035910008]
[400,6.25e-06,1.6424371892440628,24,1.736111111111111E-3,1.6041234035910008]
[401,6.2188667980920521E-6,1.642443408110861,24,1.736111111111111E-3,1.6041234035910008]
[402,6.1879656444147422E-6,1.6424495960765053,24,1.736111111111111E-3,1.6041234035910008]
[403,6.1572942386197807E-6,1.642455753370744,24,1.736111111111111E-3,1.6041234035910008]
[404,6.1268503087932551E-6,1.6424618802210529,24,1.736111111111111E-3,1.6041234035910008]
[405,6.0966316110349035E-6,1.642467976852664,24,1.736111111111111E-3,1.6041234035910008]
[406,6.0666359290446258E-6,1.642474043488593,24,1.736111111111111E-3,1.6041234035910008]
[407,6.0368610737161108E-6,1.6424800803496666,24,1.736111111111111E-3,1.6041234035910008]
[408,6.0073048827374089E-6,1.6424860876545493,24,1.736111111111111E-3,1.6041234035910008]
[409,5.9779652201983487E-6,1.6424920656197695,24,1.736111111111111E-3,1.6041234035910008]
[410,5.9488399762046405E-6,1.6424980144597456,24,1.736111111111111E-3,1.6041234035910008]
[411,5.9199270664985411E-6,1.6425039343868122,24,1.736111111111111E-3,1.6041234035910008]
[412,5.8912244320859647E-6,1.6425098256112443,24,1.736111111111111E-3,1.6041234035910008]
[413,5.8627300388699E-6,1.642515688341283,24,1.736111111111111E-3,1.6041234035910008]
[414,5.8344418772900188E-6,1.6425215227831602,24,1.736111111111111E-3,1.6041234035910008]
[415,5.8063579619683555E-6,1.6425273291411222,24,1.736111111111111E-3,1.6041234035910008]
[416,5.7784763313609466E-6,1.6425331076174536,24,1.736111111111111E-3,1.6041234035910008]
[417,5.7507950474153049E-6,1.6425388584125011,24,1.736111111111111E-3,1.6041234035910008]
[418,5.7233121952336254E-6,1.6425445817246964,24,1.736111111111111E-3,1.6041234035910008]
[419,5.6960258827416111E-6,1.6425502777505792,24,1.736111111111111E-3,1.6041234035910008]
[420,5.6689342403628119E-6,1.6425559466848194,24,1.736111111111111E-3,1.6041234035910008]
[421,5.6420354206983716E-6,1.64256158872024,24,1.736111111111111E-3,1.6041234035910008]
[422,5.61532759821208e-06,1.6425672040478383,24,1.736111111111111E-3,1.6041234035910008]
[423,5.5888089689206334E-6,1.6425727928568072,24,1.736111111111111E-3,1.6041234035910008]
[424,5.562477750089e-06,1.6425783553345574,24,1.736111111111111E-3,1.6041234035910008]
[425,5.5363321799307958E-6,1.6425838916667375,24,1.736111111111111E-3,1.6041234035910008]
[426,5.5103705173135838E-6,1.6425894020372547,24,1.736111111111111E-3,1.6041234035910008]
[427,5.4845910414689928E-6,1.6425948866282962,24,1.736111111111111E-3,1.6041234035910008]
[428,5.458992051707573E-6,1.642600345620348,24,1.736111111111111E-3,1.6041234035910008]
[429,5.4335718671383006E-6,1.642605779192215,24,1.736111111111111E-3,1.6041234035910008]
[430,5.4083288263926444E-6,1.6426111875210414,24,1.736111111111111E-3,1.6041234035910008]
[431,5.3832612873531039E-6,1.6426165707823288,24,1.736111111111111E-3,1.6041234035910008]
[432,5.358367626886145E-6,1.6426219291499558,24,1.736111111111111E-3,1.6041234035910008]
[433,5.3336462405794477E-6,1.6426272627961964,24,1.736111111111111E-3,1.6041234035910008]
[434,5.3090955424833829E-6,1.642632571891739,24,1.736111111111111E-3,1.6041234035910008]
[435,5.2847139648566525E-6,1.6426378566057038,24,1.736111111111111E-3,1.6041234035910008]
[436,5.2604999579160005E-6,1.6426431171056617,24,1.736111111111111E-3,1.6041234035910008]
[437,5.2364519895899339E-6,1.6426483535576513,24,1.736111111111111E-3,1.6041234035910008]
[438,5.21256854527637e-06,1.6426535661261965,24,1.736111111111111E-3,1.6041234035910008]
[439,5.188848127604153E-6,1.6426587549743241,24,1.736111111111111E-3,1.6041234035910008]
[440,5.1652892561983475E-6,1.6426639202635802,24,1.736111111111111E-3,1.6041234035910008]
[441,5.1418904674492621E-6,1.6426690621540476,24,1.736111111111111E-3,1.6041234035910008]
[442,5.11865031428513e-06,1.642674180804362,24,1.736111111111111E-3,1.6041234035910008]
[443,5.0955673659483619E-6,1.642679276371728,24,1.736111111111111E-3,1.6041234035910008]
[444,5.0726402077753428E-6,1.6426843490119358,24,1.736111111111111E-3,1.6041234035910008]
[445,5.0498674409796743E-6,1.6426893988793767,24,1.736111111111111E-3,1.6041234035910008]
[446,5.027247682438818E-6,1.642694426127059,24,1.736111111111111E-3,1.6041234035910008]
[447,5.0047795644840826E-6,1.6426994309066236,24,1.736111111111111E-3,1.6041234035910008]
[448,4.9824617346938772E-6,1.6427044133683584,24,1.736111111111111E-3,1.6041234035910008]
[449,{"$f":"1/k^2","v":4.9602928556902e-06},1.6427093736612142,24,1.736111111111111E-3,1.6041234035910008]
[450,4.9382716049382717E-6,1.6427143119328191,24,1.736111111111111E-3,1.6041234035910008]
[{"$f":"A452+1","v":451},4.9163966745492895E-6,{"$f":"C452+B453","v":1.6427192283294938},24,1.736111111111111E-3,1.6041234035910008]
[452,4.8946667710862243E-6,1.6427241229962648,24,1.736111111111111E-3,1.6041234035910008]
[453,4.8730806153726205E-6,1.6427289960768803,24,1.736111111111111E-3,1.6041234035910008]
[454,4.8516369423043337E-6,1.6427338477138225,24,1.736111111111111E-3,1.6041234035910008]
[455,4.8303345006641708E-6,1.642738678048323,24,1.736111111111111E-3,1.6041234035910008]
[456,4.8091720529393658E-6,1.642743487220376,24,1.736111111111111E-3,1.6041234035910008]
[457,4.788148375141849E-6,1.6427482753687512,24,1.736111111111111E-3,1.6041234035910008]
[458,4.7672622566312619E-6,1.642753042631008,24,1.736111111111111E-3,1.6041234035910008]
[459,4.746512499940669E-6,1.642757789143508,{"$f":"IF(A461<=xMax,A461,xMax)","v":24},{"$f":"IF(A461<=xMax,B461,lastA)","v":1.736111111111111E-3},{"$f":"IF(A461<=xMax,C461,LastSum)","v":1.6041234035910008}]
[460,4.7258979206049145E-6,1.6427625150414285,24,1.736111111111111E-3,1.6041234035910008]
[461,4.7054173469915917E-6,1.6427672204587755,24,1.736111111111111E-3,1.6041234035910008]
[462,4.6850696201345552E-6,1.6427719055283956,24,1.736111111111111E-3,1.6041234035910008]
[463,4.6648535935699656E-6,1.6427765703819892,24,1.736111111111111E-3,1.6041234035910008]
[464,4.6447681331747915E-6,1.6427812151501224,24,1.736111111111111E-3,1.6041234035910008]
[465,4.6248121170077469E-6,1.6427858399622395,24,1.736111111111111E-3,1.6041234035910008]
[466,4.6049844351526094E-6,1.6427904449466746,24,1.736111111111111E-3,1.6041234035910008]
[467,4.5852839895638938E-6,1.6427950302306642,24,1.736111111111111E-3,1.6041234035910008]
[468,4.5657096939148223E-6,1.642799595940358,24,1.736111111111111E-3,1.6041234035910008]
[469,4.5462604734475655E-6,1.6428041422008315,24,1.736111111111111E-3,1.6041234035910008]
[470,4.526935264825713E-6,1.6428086691360964,24,1.736111111111111E-3,1.6041234035910008]
[471,4.5077330159889288E-6,1.6428131768691123,24,1.736111111111111E-3,1.6041234035910008]
[472,4.4886526860097676E-6,1.6428176655217983,24,1.736111111111111E-3,1.6041234035910008]
[473,4.4696932449525989E-6,1.6428221352150432,24,1.736111111111111E-3,1.6041234035910008]
[474,4.4508536737346224E-6,1.642826586068717,24,1.736111111111111E-3,1.6041234035910008]
[475,4.43213296398892E-6,1.642831018201681,24,1.736111111111111E-3,1.6041234035910008]
[476,4.4135301179295247E-6,1.6428354317317988,24,1.736111111111111E-3,1.6041234035910008]
[477,4.3950441482184692E-6,1.642839826775947,24,1.736111111111111E-3,1.6041234035910008]
[478,4.376674077834772E-6,1.6428442034500248,24,1.736111111111111E-3,1.6041234035910008]
[479,4.3584189399453454E-6,1.6428485618689648,24,1.736111111111111E-3,1.6041234035910008]
[480,4.3402777777777778E-6,1.6428529021467426,24,1.736111111111111E-3,1.6041234035910008]
[481,4.3222496444949671E-6,1.642857224396387,24,1.736111111111111E-3,1.6041234035910008]
[482,4.3043336030715722E-6,1.6428615287299901,24,1.736111111111111E-3,1.6041234035910008]
[483,4.2865287261722583E-6,1.6428658152587163,24,1.736111111111111E-3,1.6041234035910008]
[484,4.2688340960316914E-6,1.6428700840928123,24,1.736111111111111E-3,1.6041234035910008]
[485,4.2512488043362734E-6,1.6428743353416166,24,1.736111111111111E-3,1.6041234035910008]
[486,4.2337719521075714E-6,1.6428785691135688,24,1.736111111111111E-3,1.6041234035910008]
[487,4.2164026495874247E-6,1.6428827855162185,24,1.736111111111111E-3,1.6041234035910008]
[488,4.1991400161246973E-6,1.6428869846562346,24,1.736111111111111E-3,1.6041234035910008]
[489,4.18198318006365e-06,1.6428911666394146,24,1.736111111111111E-3,1.6041234035910008]
[490,4.1649312786339024E-6,1.6428953315706931,24,1.736111111111111E-3,1.6041234035910008]
[491,4.14798345784197e-06,1.642899479554151,24,1.736111111111111E-3,1.6041234035910008]
[492,4.1311388723643331E-6,1.6429036106930233,24,1.736111111111111E-3,1.6041234035910008]
[493,4.1143966854420306E-6,1.6429077250897086,24,1.736111111111111E-3,1.6041234035910008]
[494,4.097756068776738E-6,1.6429118228457773,24,1.736111111111111E-3,1.6041234035910008]
[495,4.0812162024283235E-6,1.6429159040619796,24,1.736111111111111E-3,1.6041234035910008]
[496,4.06477627471384e-06,1.6429199688382543,24,1.736111111111111E-3,1.6041234035910008]
[497,4.04843548210794e-06,1.6429240172737365,24,1.736111111111111E-3,1.6041234035910008]
[498,4.0321930291446912E-6,1.6429280494667657,24,1.736111111111111E-3,1.6041234035910008]
[499,4.01604812832077E-6,1.642932065514894,24,1.736111111111111E-3,1.6041234035910008]
[500,4e-06,1.642936065514894,24,1.736111111111111E-3,1.6041234035910008]
[501,3.9840478723192335E-6,1.6429400495627662,24,1.736111111111111E-3,1.6041234035910008]
[502,3.9681909810955383E-6,1.6429440177537473,24,1.736111111111111E-3,1.6041234035910008]
[503,3.9524285697346734E-6,1.642947970182317,24,1.736111111111111E-3,1.6041234035910008]
[504,3.9367598891408419E-6,1.6429519069422063,24,1.736111111111111E-3,1.6041234035910008]
[505,3.9211841976276836E-6,1.6429558281264038,24,1.736111111111111E-3,1.6041234035910008]
[506,3.9057007608305081E-6,1.6429597338271646,24,1.736111111111111E-3,1.6041234035910008]
[507,3.89030885161973e-06,1.6429636241360164,24,1.736111111111111E-3,1.6041234035910008]
[508,3.8750077500155e-06,1.6429674991437664,24,1.736111111111111E-3,1.6041234035910008]
[509,3.8597967431035079E-6,1.6429713589405095,24,1.736111111111111E-3,1.6041234035910008]
[510,3.844675124951942E-6,1.6429752036156344,24,1.736111111111111E-3,1.6041234035910008]
[511,3.8296421965295784E-6,1.642979033257831,24,1.736111111111111E-3,1.6041234035910008]
[512,3.814697265625E-6,1.6429828479550965,24,1.736111111111111E-3,1.6041234035910008]
[513,{"$f":"1/k^2","v":3.7998396467669062E-6},1.6429866477947432,24,1.736111111111111E-3,1.6041234035910008]
[514,3.7850686611455132E-6,1.6429904328634044,24,1.736111111111111E-3,1.6041234035910008]
[{"$f":"A516+1","v":515},3.7703836365350176E-6,{"$f":"C516+B517","v":1.642994203247041},24,1.736111111111111E-3,1.6041234035910008]
[516,3.7557839072171143E-6,1.6429979590309483,24,1.736111111111111E-3,1.6041234035910008]
[517,3.741268813905548E-6,1.6430017002997621,24,1.736111111111111E-3,1.6041234035910008]
[518,3.7268377036716803E-6,1.643005427137466,24,1.736111111111111E-3,1.6041234035910008]
[519,3.7124899298710652E-6,1.6430091396273958,24,1.736111111111111E-3,1.6041234035910008]
[520,3.6982248520710059E-6,1.643012837852248,24,1.736111111111111E-3,1.6041234035910008]
[521,3.6840418359790892E-6,1.643016521894084,24,1.736111111111111E-3,1.6041234035910008]
[522,3.669940253372675E-6,1.6430201918343375,24,1.736111111111111E-3,1.6041234035910008]
[523,3.6559194820293278E-6,1.6430238477538195,{"$f":"IF(A525<=xMax,A525,xMax)","v":24},{"$f":"IF(A525<=xMax,B525,lastA)","v":1.736111111111111E-3},{"$f":"IF(A525<=xMax,C525,LastSum)","v":1.6041234035910008}]
[524,3.6419789056581785E-6,1.643027489732725,24,1.736111111111111E-3,1.6041234035910008]
[525,3.6281179138321994E-6,1.643031117850639,24,1.736111111111111E-3,1.6041234035910008]
[526,3.6143359019213808E-6,1.6430347321865408,24,1.736111111111111E-3,1.6041234035910008]
[527,3.6006322710267922E-6,1.6430383328188118,24,1.736111111111111E-3,1.6041234035910008]
[528,3.5870064279155188E-6,1.6430419198252397,24,1.736111111111111E-3,1.6041234035910008]
[529,3.5734577849564572E-6,1.6430454932830247,24,1.736111111111111E-3,1.6041234035910008]
[530,3.55998576005696e-06,1.6430490532687847,24,1.736111111111111E-3,1.6041234035910008]
[531,3.54658977660031e-06,1.6430525998585612,24,1.736111111111111E-3,1.6041234035910008]
[532,3.5332692633840241E-6,1.6430561331278246,24,1.736111111111111E-3,1.6041234035910008]
[533,3.5200236545589585E-6,1.6430596531514792,24,1.736111111111111E-3,1.6041234035910008]
[534,3.5068523895692182E-6,1.6430631600038688,24,1.736111111111111E-3,1.6041234035910008]
[535,3.4937549130928464E-6,1.643066653758782,24,1.736111111111111E-3,1.6041234035910008]
[536,3.4807306749832927E-6,1.643070134489457,24,1.736111111111111E-3,1.6041234035910008]
[537,3.4677791302116388E-6,1.6430736022685872,24,1.736111111111111E-3,1.6041234035910008]
[538,3.4548997388095795E-6,1.643077057168326,24,1.736111111111111E-3,1.6041234035910008]
[539,3.4420919658131427E-6,1.6430804992602919,24,1.736111111111111E-3,1.6041234035910008]
[540,3.429355281207133E-6,1.6430839286155732,24,1.736111111111111E-3,1.6041234035910008]
[541,3.4166891598703026E-6,1.643087345304733,24,1.736111111111111E-3,1.6041234035910008]
[542,3.4040930815212212E-6,1.6430907493978144,24,1.736111111111111E-3,1.6041234035910008]
[543,3.3915665306648486E-6,1.6430941409643451,24,1.736111111111111E-3,1.6041234035910008]
[544,3.3791089965397925E-6,1.6430975200733418,24,1.736111111111111E-3,1.6041234035910008]
[545,3.3667199730662403E-6,1.6431008867933148,24,1.736111111111111E-3,1.6041234035910008]
[546,3.3543989587945633E-6,1.6431042411922736,24,1.736111111111111E-3,1.6041234035910008]
[547,3.3421454568545731E-6,1.6431075833377304,24,1.736111111111111E-3,1.6041234035910008]
[548,3.329958974905429E-6,1.6431109132967054,24,1.736111111111111E-3,1.6041234035910008]
[549,3.3178390250861808E-6,1.6431142311357305,24,1.736111111111111E-3,1.6041234035910008]
[550,3.305785123966942E-6,1.6431175369208544,24,1.736111111111111E-3,1.6041234035910008]
[551,3.2937967925006836E-6,1.6431208307176468,24,1.736111111111111E-3,1.6041234035910008]
[552,3.2818735559756352E-6,1.6431241125912028,24,1.736111111111111E-3,1.6041234035910008]
[553,3.2700149439682939E-6,1.6431273826061468,24,1.736111111111111E-3,1.6041234035910008]
[554,3.2582204902970193E-6,1.643130640826637,24,1.736111111111111E-3,1.6041234035910008]
[555,3.2464897329762196E-6,1.6431338873163701,24,1.736111111111111E-3,1.6041234035910008]
[556,3.234822214171109E-6,1.6431371221385842,24,1.736111111111111E-3,1.6041234035910008]
[557,3.2232174801530383E-6,1.6431403453560645,24,1.736111111111111E-3,1.6041234035910008]
[558,3.2116750812553794E-6,1.6431435570311457,24,1.736111111111111E-3,1.6041234035910008]
[559,3.2001945718299671E-6,1.6431467572257175,24,1.736111111111111E-3,1.6041234035910008]
[560,3.1887755102040818E-6,1.6431499460012278,24,1.736111111111111E-3,1.6041234035910008]
[561,3.1774174586379681E-6,1.6431531234186865,24,1.736111111111111E-3,1.6041234035910008]
[562,3.1661199832828864E-6,1.6431562895386698,24,1.736111111111111E-3,1.6041234035910008]
[563,3.1548826541396792E-6,1.643159444421324,24,1.736111111111111E-3,1.6041234035910008]
[564,3.1437050450178564E-6,1.643162588126369,24,1.736111111111111E-3,1.6041234035910008]
[565,3.1325867334951839E-6,1.6431657207131025,24,1.736111111111111E-3,1.6041234035910008]
[566,3.1215273008777735E-6,1.6431688422404034,24,1.736111111111111E-3,1.6041234035910008]
[567,3.1105263321606647E-6,1.6431719527667354,24,1.736111111111111E-3,1.6041234035910008]
[568,3.0995834159888911E-6,1.6431750523501514,24,1.736111111111111E-3,1.6041234035910008]
[569,3.0886981446190246E-6,1.643178141048296,24,1.736111111111111E-3,1.6041234035910008]
[570,3.0778701138811943E-6,1.6431812189184098,24,1.736111111111111E-3,1.6041234035910008]
[571,3.0670989231415683E-6,1.643184286017333,24,1.736111111111111E-3,1.6041234035910008]
[572,3.0563841752652941E-6,1.6431873424015082,24,1.736111111111111E-3,1.6041234035910008]
[573,3.045725476579894E-6,1.6431903881269847,24,1.736111111111111E-3,1.6041234035910008]
[574,3.0351224368391022E-6,1.6431934232494216,24,1.736111111111111E-3,1.6041234035910008]
[575,3.0245746691871457E-6,1.6431964478240908,24,1.736111111111111E-3,1.6041234035910008]
[576,3.0140817901234566E-6,1.643199461905881,24,1.736111111111111E-3,1.6041234035910008]
[577,{"$f":"1/k^2","v":3.0036434194678146E-6},1.6432024655493005,24,1.736111111111111E-3,1.6041234035910008]
[578,2.993259180325906E-6,1.6432054588084808,24,1.736111111111111E-3,1.6041234035910008]
[{"$f":"A580+1","v":579},2.9829286990553065E-6,{"$f":"C580+B581","v":1.64320844173718},24,1.736111111111111E-3,1.6041234035910008]
[580,2.9726516052318668E-6,1.6432114143887853,24,1.736111111111111E-3,1.6041234035910008]
[581,2.9624275316165077E-6,1.6432143768163168,24,1.736111111111111E-3,1.6041234035910008]
[582,2.9522561141224123E-6,1.6432173290724308,24,1.736111111111111E-3,1.6041234035910008]
[583,2.9421369917826112E-6,1.6432202712094226,24,1.736111111111111E-3,1.6041234035910008]
[584,2.9320698067179585E-6,1.6432232032792293,24,1.736111111111111E-3,1.6041234035910008]
[585,2.9220542041054864E-6,1.6432261253334335,24,1.736111111111111E-3,1.6041234035910008]
[586,2.9120898321471419E-6,1.6432290374232656,24,1.736111111111111E-3,1.6041234035910008]
[587,2.9021763420388948E-6,1.6432319395996078,{"$f":"IF(A589<=xMax,A589,xMax)","v":24},{"$f":"IF(A589<=xMax,B589,lastA)","v":1.736111111111111E-3},{"$f":"IF(A589<=xMax,C589,LastSum)","v":1.6041234035910008}]
[588,2.89231338794021e-06,1.6432348319129957,24,1.736111111111111E-3,1.6041234035910008]
[589,2.8825006269438864E-6,1.6432377144136225,24,1.736111111111111E-3,1.6041234035910008]
[590,2.8727377190462511E-6,1.6432405871513416,24,1.736111111111111E-3,1.6041234035910008]
[591,2.8630243271177077E-6,1.6432434501756688,24,1.736111111111111E-3,1.6041234035910008]
[592,2.8533601168736304E-6,1.6432463035357856,24,1.736111111111111E-3,1.6041234035910008]
[593,2.8437447568456046E-6,1.6432491472805424,24,1.736111111111111E-3,1.6041234035910008]
[594,2.8341779183530027E-6,1.6432519814584607,24,1.736111111111111E-3,1.6041234035910008]
[595,2.8246592754748958E-6,1.643254806117736,24,1.736111111111111E-3,1.6041234035910008]
[596,2.8151885050222963E-6,1.643257621306241,24,1.736111111111111E-3,1.6041234035910008]
[597,2.8057652865107223E-6,1.6432604270715276,24,1.736111111111111E-3,1.6041234035910008]
[598,2.7963893021330858E-6,1.6432632234608298,24,1.736111111111111E-3,1.6041234035910008]
[599,2.7870602367328967E-6,1.6432660105210666,24,1.736111111111111E-3,1.6041234035910008]
[600,2.7777777777777779E-6,1.6432687882988444,24,1.736111111111111E-3,1.6041234035910008]
[601,2.7685416153332911E-6,1.6432715568404597,24,1.736111111111111E-3,1.6041234035910008]
[602,2.7593514420370637E-6,1.6432743161919017,24,1.736111111111111E-3,1.6041234035910008]
[603,2.7502069530732189E-6,1.6432770663988547,24,1.736111111111111E-3,1.6041234035910008]
[604,2.7411078461470989E-6,1.6432798075067008,24,1.736111111111111E-3,1.6041234035910008]
[605,2.7320538214602829E-6,1.6432825395605222,24,1.736111111111111E-3,1.6041234035910008]
[606,2.7230445816858916E-6,1.6432852626051038,24,1.736111111111111E-3,1.6041234035910008]
[607,2.7140798319441768E-6,1.6432879766849358,24,1.736111111111111E-3,1.6041234035910008]
[608,2.7051592797783934E-6,1.6432906818442155,24,1.736111111111111E-3,1.6041234035910008]
[609,2.6962826351309451E-6,1.6432933781268506,24,1.736111111111111E-3,1.6041234035910008]
[610,2.6874496103198067E-6,1.643296065576461,24,1.736111111111111E-3,1.6041234035910008]
[611,2.678659920015215E-6,1.6432987442363811,24,1.736111111111111E-3,1.6041234035910008]
[612,2.669913281216626E-6,1.6433014141496622,24,1.736111111111111E-3,1.6041234035910008]
[613,2.6612094132299366E-6,1.6433040753590755,24,1.736111111111111E-3,1.6041234035910008]
[614,2.6525480376449619E-6,1.6433067279071132,24,1.736111111111111E-3,1.6041234035910008]
[615,2.6439288783131732E-6,1.6433093718359915,24,1.736111111111111E-3,1.6041234035910008]
[616,2.6353516613256872E-6,1.6433120071876528,24,1.736111111111111E-3,1.6041234035910008]
[617,2.6268161149915022E-6,1.6433146340037679,24,1.736111111111111E-3,1.6041234035910008]
[618,2.6183219698159845E-6,1.6433172523257378,24,1.736111111111111E-3,1.6041234035910008]
[619,2.6098689584795948E-6,1.6433198621946963,24,1.736111111111111E-3,1.6041234035910008]
[620,2.6014568158168575E-6,1.643322463651512,24,1.736111111111111E-3,1.6041234035910008]
[621,2.5930852787955638E-6,1.6433250567367907,24,1.736111111111111E-3,1.6041234035910008]
[622,2.5847540864962109E-6,1.6433276414908773,24,1.736111111111111E-3,1.6041234035910008]
[623,2.5764629800916708E-6,1.6433302179538574,24,1.736111111111111E-3,1.6041234035910008]
[624,2.5682117028270876E-6,1.6433327861655602,24,1.736111111111111E-3,1.6041234035910008]
[625,2.56e-06,1.6433353461655602,24,1.736111111111111E-3,1.6041234035910008]
[626,2.5518276189406855E-6,1.6433378979931792,24,1.736111111111111E-3,1.6041234035910008]
[627,2.5436943089927226E-6,1.6433404416874882,24,1.736111111111111E-3,1.6041234035910008]
[628,2.5355998214937724E-6,1.6433429772873096,24,1.736111111111111E-3,1.6041234035910008]
[629,2.5275439097565722E-6,1.6433455048312193,24,1.736111111111111E-3,1.6041234035910008]
[630,2.5195263290501387E-6,1.6433480243575485,24,1.736111111111111E-3,1.6041234035910008]
[631,2.511546836581182E-6,1.643350535904385,24,1.736111111111111E-3,1.6041234035910008]
[632,2.503605191475725E-6,1.6433530395095763,24,1.736111111111111E-3,1.6041234035910008]
[633,2.4957011547609243E-6,1.6433555352107312,24,1.736111111111111E-3,1.6041234035910008]
[634,2.4878344893470927E-6,1.6433580230452205,24,1.736111111111111E-3,1.6041234035910008]
[635,2.48000496000992e-06,1.6433605030501806,24,1.736111111111111E-3,1.6041234035910008]
[636,2.4722123333728889E-6,1.6433629752625138,24,1.736111111111111E-3,1.6041234035910008]
[637,2.464456377889883E-6,1.6433654397188917,24,1.736111111111111E-3,1.6041234035910008]
[638,2.4567368638279892E-6,1.6433678964557554,24,1.736111111111111E-3,1.6041234035910008]
[639,2.4490535632504818E-6,1.6433703455093187,24,1.736111111111111E-3,1.6041234035910008]
[640,2.44140625e-06,1.6433727869155688,24,1.736111111111111E-3,1.6041234035910008]
[641,{"$f":"1/k^2","v":2.4337946996819029E-6},1.6433752207102685,24,1.736111111111111E-3,1.6041234035910008]
[642,2.42621868964781E-6,1.6433776469289583,24,1.736111111111111E-3,1.6041234035910008]
[{"$f":"A644+1","v":643},2.4186779989793177E-6,{"$f":"C644+B645","v":1.6433800656069573},24,1.736111111111111E-3,1.6041234035910008]
[644,2.4111724084718954E-6,1.6433824767793657,24,1.736111111111111E-3,1.6041234035910008]
[645,2.403701700618953E-6,1.6433848804810662,24,1.736111111111111E-3,1.6041234035910008]
[646,2.3962656595960853E-6,1.643387276746726,24,1.736111111111111E-3,1.6041234035910008]
[647,2.3888640712454819E-6,1.6433896656107971,24,1.736111111111111E-3,1.6041234035910008]
[648,2.3814967230605091E-6,1.6433920471075203,24,1.736111111111111E-3,1.6041234035910008]
[649,2.3741634041704555E-6,1.6433944212709244,24,1.736111111111111E-3,1.6041234035910008]
[650,2.3668639053254436E-6,1.6433967881348297,24,1.736111111111111E-3,1.6041234035910008]
[651,2.3595980188815034E-6,1.6433991477328487,{"$f":"IF(A653<=xMax,A653,xMax)","v":24},{"$f":"IF(A653<=xMax,B653,lastA)","v":1.736111111111111E-3},{"$f":"IF(A653<=xMax,C653,LastSum)","v":1.6041234035910008}]
[652,2.3523655387858029E-6,1.6434015000983875,24,1.736111111111111E-3,1.6041234035910008]
[653,2.3451662605620424E-6,1.643403845264648,24,1.736111111111111E-3,1.6041234035910008]
[654,2.337999981296E-6,1.6434061832646294,24,1.736111111111111E-3,1.6041234035910008]
[655,2.330866499621234E-6,1.643408514131129,24,1.736111111111111E-3,1.6041234035910008]
[656,2.3237656157049376E-6,1.6434108378967447,24,1.736111111111111E-3,1.6041234035910008]
[657,2.3166971312339425E-6,1.643413154593876,24,1.736111111111111E-3,1.6041234035910008]
[658,2.3096608494008739E-6,1.6434154642547254,24,1.736111111111111E-3,1.6041234035910008]
[659,2.3026565748904512E-6,1.6434177669113004,24,1.736111111111111E-3,1.6041234035910008]
[660,2.2956841138659321E-6,1.6434200625954143,24,1.736111111111111E-3,1.6041234035910008]
[661,2.2887432739557038E-6,1.6434223513386883,24,1.736111111111111E-3,1.6041234035910008]
[662,2.2818338642400122E-6,1.6434246331725526,24,1.736111111111111E-3,1.6041234035910008]
[663,2.2749556952378351E-6,1.6434269081282478,24,1.736111111111111E-3,1.6041234035910008]
[664,2.2681085788938886E-6,1.6434291762368267,24,1.736111111111111E-3,1.6041234035910008]
[665,2.2612923285657752E-6,1.6434314375291552,24,1.736111111111111E-3,1.6041234035910008]
[666,2.2545067590112637E-6,1.6434336920359143,24,1.736111111111111E-3,1.6041234035910008]
[667,2.2477516863757029E-6,1.6434359397876006,24,1.736111111111111E-3,1.6041234035910008]
[668,2.2410269281795689E-6,1.6434381808145289,24,1.736111111111111E-3,1.6041234035910008]
[669,2.2343323033061413E-6,1.6434404151468323,24,1.736111111111111E-3,1.6041234035910008]
[670,2.2276676319893072E-6,1.6434426428144642,24,1.736111111111111E-3,1.6041234035910008]
[671,2.2210327358014929E-6,1.6434448638472,24,1.736111111111111E-3,1.6041234035910008]
[672,2.2144274376417234E-6,1.6434470782746375,24,1.736111111111111E-3,1.6041234035910008]
[673,2.2078515617238024E-6,1.6434492861261993,24,1.736111111111111E-3,1.6041234035910008]
[674,2.2013049335646169E-6,1.643451487431133,24,1.736111111111111E-3,1.6041234035910008]
[675,2.1947873799725651E-6,1.643453682218513,24,1.736111111111111E-3,1.6041234035910008]
[676,2.1882987290360982E-6,1.6434558705172422,24,1.736111111111111E-3,1.6041234035910008]
[677,2.1818388101123864E-6,1.6434580523560522,24,1.736111111111111E-3,1.6041234035910008]
[678,2.1754074538161e-06,1.643460227763506,24,1.736111111111111E-3,1.6041234035910008]
[679,2.1690044920083031E-6,1.643462396767998,24,1.736111111111111E-3,1.6041234035910008]
[680,2.1626297577854673E-6,1.6434645593977557,24,1.736111111111111E-3,1.6041234035910008]
[681,2.1562830854685926E-6,1.6434667156808411,24,1.736111111111111E-3,1.6041234035910008]
[682,2.1499643105924442E-6,1.6434688656451517,24,1.736111111111111E-3,1.6041234035910008]
[683,2.1436732698948956E-6,1.6434710093184217,24,1.736111111111111E-3,1.6041234035910008]
[684,2.1374098013063849E-6,1.643473146728223,24,1.736111111111111E-3,1.6041234035910008]
[685,2.1311737439394745E-6,1.643475277901967,24,1.736111111111111E-3,1.6041234035910008]
[686,2.1249649380785217E-6,1.643477402866905,24,1.736111111111111E-3,1.6041234035910008]
[687,2.1187832251694498E-6,1.6434795216501301,24,1.736111111111111E-3,1.6041234035910008]
[688,2.112628447809627E-6,1.6434816342785779,24,1.736111111111111E-3,1.6041234035910008]
[689,2.1065004497378461E-6,1.6434837407790275,24,1.736111111111111E-3,1.6041234035910008]
[690,2.1003990758244065E-6,1.6434858411781033,24,1.736111111111111E-3,1.6041234035910008]
[691,2.0943241720612968E-6,1.6434879355022753,24,1.736111111111111E-3,1.6041234035910008]
[692,2.0882755855524741E-6,1.643490023777861,24,1.736111111111111E-3,1.6041234035910008]
[693,2.0822531645042466E-6,1.6434921060310255,24,1.736111111111111E-3,1.6041234035910008]
[694,2.0762567582157482E-6,1.6434941822877838,24,1.736111111111111E-3,1.6041234035910008]
[695,2.07028621706951e-06,1.643496252574001,24,1.736111111111111E-3,1.6041234035910008]
[696,2.06434139252213e-06,1.6434983169153934,24,1.736111111111111E-3,1.6041234035910008]
[697,2.0584221370950314E-6,1.6435003753375306,24,1.736111111111111E-3,1.6041234035910008]
[698,2.0525283043653173E-6,1.643502427865835,24,1.736111111111111E-3,1.6041234035910008]
[699,2.0466597489567152E-6,1.643504474525584,24,1.736111111111111E-3,1.6041234035910008]
[700,2.0408163265306121E-6,1.6435065153419106,24,1.736111111111111E-3,1.6041234035910008]
[701,2.03499789377718e-06,1.6435085503398044,24,1.736111111111111E-3,1.6041234035910008]
[702,2.0292043084065876E-6,1.6435105795441127,24,1.736111111111111E-3,1.6041234035910008]
[703,2.023435429140303E-6,1.643512602979542,24,1.736111111111111E-3,1.6041234035910008]
[704,2.0176911157024794E-6,1.6435146206706577,24,1.736111111111111E-3,1.6041234035910008]
[705,{"$f":"1/k^2","v":2.0119712288114281E-6},1.6435166326418864,24,1.736111111111111E-3,1.6041234035910008]
[706,2.0062756301711753E-6,1.6435186389175165,24,1.736111111111111E-3,1.6041234035910008]
[{"$f":"A708+1","v":707},2.0006041824631039E-6,{"$f":"C708+B709","v":1.643520639521699},24,1.736111111111111E-3,1.6041234035910008]
[708,1.9949567493376744E-6,1.6435226344784484,24,1.736111111111111E-3,1.6041234035910008]
[709,1.9893331954062319E-6,1.6435246238116439,24,1.736111111111111E-3,1.6041234035910008]
[710,1.9837333862328904E-6,1.64352660754503,24,1.736111111111111E-3,1.6041234035910008]
[711,1.9781571883264987E-6,1.6435285857022184,24,1.736111111111111E-3,1.6041234035910008]
[712,1.9726044691326852E-6,1.6435305583066875,24,1.736111111111111E-3,1.6041234035910008]
[713,1.9670750970259793E-6,1.6435325253817845,24,1.736111111111111E-3,1.6041234035910008]
[714,1.9615689413020112E-6,1.6435344869507258,24,1.736111111111111E-3,1.6041234035910008]
[715,1.9560858721697884E-6,1.643536443036598,{"$f":"IF(A717<=xMax,A717,xMax)","v":24},{"$f":"IF(A717<=xMax,B717,lastA)","v":1.736111111111111E-3},{"$f":"IF(A717<=xMax,C717,LastSum)","v":1.6041234035910008}]
[716,1.9506257607440467E-6,1.6435383936623587,24,1.736111111111111E-3,1.6041234035910008]
[717,1.9451884790376763E-6,1.6435403388508376,24,1.736111111111111E-3,1.6041234035910008]
[718,1.9397738999542215E-6,1.6435422786247376,24,1.736111111111111E-3,1.6041234035910008]
[719,1.9343818972804525E-6,1.643544213006635,24,1.736111111111111E-3,1.6041234035910008]
[720,1.9290123456790124E-6,1.6435461420189805,24,1.736111111111111E-3,1.6041234035910008]
[721,1.9236651206811314E-6,1.6435480656841013,24,1.736111111111111E-3,1.6041234035910008]
[722,1.9183400986794148E-6,1.6435499840242,24,1.736111111111111E-3,1.6041234035910008]
[723,1.9130371569206988E-6,1.643551897061357,24,1.736111111111111E-3,1.6041234035910008]
[724,1.9077561734989773E-6,1.6435538048175304,24,1.736111111111111E-3,1.6041234035910008]
[725,1.9024970273483947E-6,1.6435557073145577,24,1.736111111111111E-3,1.6041234035910008]
[726,1.8972595982363074E-6,1.643557604574156,24,1.736111111111111E-3,1.6041234035910008]
[727,1.8920437667564127E-6,1.6435594966179228,24,1.736111111111111E-3,1.6041234035910008]
[728,1.8868494143219417E-6,1.643561383467337,24,1.736111111111111E-3,1.6041234035910008]
[729,1.8816764231589208E-6,1.6435632651437602,24,1.736111111111111E-3,1.6041234035910008]
[730,1.8765246762994934E-6,1.6435651416684365,24,1.736111111111111E-3,1.6041234035910008]
[731,1.8713940575753096E-6,1.643567013062494,24,1.736111111111111E-3,1.6041234035910008]
[732,1.8662844516109768E-6,1.6435688793469456,24,1.736111111111111E-3,1.6041234035910008]
[733,1.8611957438175731E-6,1.6435707405426894,24,1.736111111111111E-3,1.6041234035910008]
[734,1.8561278203862231E-6,1.6435725966705097,24,1.736111111111111E-3,1.6041234035910008]
[735,1.8510805682817346E-6,1.643574447751078,24,1.736111111111111E-3,1.6041234035910008]
[736,1.8460538752362949E-6,1.6435762938049534,24,1.736111111111111E-3,1.6041234035910008]
[737,1.8410476297432292E-6,1.643578134852583,24,1.736111111111111E-3,1.6041234035910008]
[738,1.8360617210508148E-6,1.6435799709143042,24,1.736111111111111E-3,1.6041234035910008]
[739,1.8310960391561578E-6,1.6435818020103434,24,1.736111111111111E-3,1.6041234035910008]
[740,1.8261504747991234E-6,1.6435836281608183,24,1.736111111111111E-3,1.6041234035910008]
[741,1.8212249194563279E-6,1.6435854493857378,24,1.736111111111111E-3,1.6041234035910008]
[742,1.8163192653351836E-6,1.6435872657050032,24,1.736111111111111E-3,1.6041234035910008]
[743,1.8114334053680018E-6,1.6435890771384085,24,1.736111111111111E-3,1.6041234035910008]
[744,1.8065672332061509E-6,1.6435908837056417,24,1.736111111111111E-3,1.6041234035910008]
[745,1.8017206432142695E-6,1.6435926854262848,24,1.736111111111111E-3,1.6041234035910008]
[746,1.7968935304645329E-6,1.6435944823198152,24,1.736111111111111E-3,1.6041234035910008]
[747,1.7920857907309738E-6,1.6435962744056059,24,1.736111111111111E-3,1.6041234035910008]
[748,1.787297320483857E-6,1.6435980617029264,24,1.736111111111111E-3,1.6041234035910008]
[749,1.7825280168841053E-6,1.6435998442309434,24,1.736111111111111E-3,1.6041234035910008]
[750,1.7777777777777777E-6,1.6436016220087213,24,1.736111111111111E-3,1.6041234035910008]
[751,1.7730465016905998E-6,1.643603395055223,24,1.736111111111111E-3,1.6041234035910008]
[752,1.7683340878225441E-6,1.6436051633893107,24,1.736111111111111E-3,1.6041234035910008]
[753,1.7636404360424614E-6,1.6436069270297469,24,1.736111111111111E-3,1.6041234035910008]
[754,1.7589654468827615E-6,1.6436086859951937,24,1.736111111111111E-3,1.6041234035910008]
[755,1.7543090215341433E-6,1.6436104403042153,24,1.736111111111111E-3,1.6041234035910008]
[756,1.7496710618403741E-6,1.6436121899752771,24,1.736111111111111E-3,1.6041234035910008]
[757,1.7450514702931163E-6,1.6436139350267474,24,1.736111111111111E-3,1.6041234035910008]
[758,1.740450150026803E-6,1.6436156754768974,24,1.736111111111111E-3,1.6041234035910008]
[759,1.7358670048135592E-6,1.6436174113439022,24,1.736111111111111E-3,1.6041234035910008]
[760,1.7313019390581717E-6,1.6436191426458413,24,1.736111111111111E-3,1.6041234035910008]
[761,1.7267548577931036E-6,1.643620869400699,24,1.736111111111111E-3,1.6041234035910008]
[762,1.7222256666735557E-6,1.6436225916263658,24,1.736111111111111E-3,1.6041234035910008]
[763,1.7177142719725716E-6,1.6436243093406377,24,1.736111111111111E-3,1.6041234035910008]
[764,1.7132205805761904E-6,1.6436260225612183,24,1.736111111111111E-3,1.6041234035910008]
[765,1.7087444999786407E-6,1.6436277313057182,24,1.736111111111111E-3,1.6041234035910008]
[766,1.7042859382775805E-6,1.6436294355916565,24,1.736111111111111E-3,1.6041234035910008]
[767,1.6998448041693794E-6,1.6436311354364608,24,1.736111111111111E-3,1.6041234035910008]
[768,1.6954210069444444E-6,1.6436328308574677,24,1.736111111111111E-3,1.6041234035910008]
[769,{"$f":"1/k^2","v":1.6910144564825885E-6},1.6436345218719242,24,1.736111111111111E-3,1.6041234035910008]
[770,1.6866250632484399E-6,1.6436362084969873,24,1.736111111111111E-3,1.6041234035910008]
[{"$f":"A772+1","v":771},1.6822527382868948E-6,{"$f":"C772+B773","v":1.6436378907497255},24,1.736111111111111E-3,1.6041234035910008]
[772,1.67789739321861e-06,1.6436395686471188,24,1.736111111111111E-3,1.6041234035910008]
[773,1.6735589402355367E-6,1.6436412422060591,24,1.736111111111111E-3,1.6041234035910008]
[774,1.6692372920964953E-6,1.6436429114433513,24,1.736111111111111E-3,1.6041234035910008]
[775,1.6649323621227887E-6,1.6436445763757135,24,1.736111111111111E-3,1.6041234035910008]
[776,1.660644064193857E-6,1.6436462370197777,24,1.736111111111111E-3,1.6041234035910008]
[777,1.6563723127429691E-6,1.6436478933920904,24,1.736111111111111E-3,1.6041234035910008]
[778,1.6521170227529557E-6,1.6436495455091131,24,1.736111111111111E-3,1.6041234035910008]
[779,1.6478781097519779E-6,1.6436511933872229,{"$f":"IF(A781<=xMax,A781,xMax)","v":24},{"$f":"IF(A781<=xMax,B781,lastA)","v":1.736111111111111E-3},{"$f":"IF(A781<=xMax,C781,LastSum)","v":1.6041234035910008}]
[780,1.643655489809336E-6,1.6436528370427126,24,1.736111111111111E-3,1.6041234035910008]
[781,1.6394490795313143E-6,1.6436544764917922,24,1.736111111111111E-3,1.6041234035910008]
[782,1.635258796057064E-6,1.6436561117505883,24,1.736111111111111E-3,1.6041234035910008]
[783,1.6310845570545222E-6,1.6436577428351453,24,1.736111111111111E-3,1.6041234035910008]
[784,1.6269262807163682E-6,1.6436593697614261,24,1.736111111111111E-3,1.6041234035910008]
[785,1.6227838857560144E-6,1.6436609925453118,24,1.736111111111111E-3,1.6041234035910008]
[786,1.618657291403635E-6,1.6436626112026032,24,1.736111111111111E-3,1.6041234035910008]
[787,1.614546417402227E-6,1.6436642257490206,24,1.736111111111111E-3,1.6041234035910008]
[788,1.6104511840037105E-6,1.6436658362002046,24,1.736111111111111E-3,1.6041234035910008]
[789,1.6063715119650582E-6,1.6436674425717166,24,1.736111111111111E-3,1.6041234035910008]
[790,1.6023073225444641E-6,1.6436690448790392,24,1.736111111111111E-3,1.6041234035910008]
[791,1.5982585374975428E-6,1.6436706431375767,24,1.736111111111111E-3,1.6041234035910008]
[792,1.5942250790735639E-6,1.6436722373626558,24,1.736111111111111E-3,1.6041234035910008]
[793,1.5902068700117197E-6,1.6436738275695257,24,1.736111111111111E-3,1.6041234035910008]
[794,1.5862038335374248E-6,1.6436754137733594,24,1.736111111111111E-3,1.6041234035910008]
[795,1.5822158933586488E-6,1.6436769959892528,24,1.736111111111111E-3,1.6041234035910008]
[796,1.5782429736622812E-6,1.6436785742322264,24,1.736111111111111E-3,1.6041234035910008]
[797,1.5742849991105289E-6,1.6436801485172254,24,1.736111111111111E-3,1.6041234035910008]
[798,1.5703418948373439E-6,1.6436817188591202,24,1.736111111111111E-3,1.6041234035910008]
[799,1.5664135864448834E-6,1.6436832852727066,24,1.736111111111111E-3,1.6041234035910008]
[800,1.5625e-06,1.6436848477727066,24,1.736111111111111E-3,1.6041234035910008]
[801,1.5586010620307636E-6,1.6436864063737686,24,1.736111111111111E-3,1.6041234035910008]
[802,1.554716699523013E-6,1.6436879610904682,24,1.736111111111111E-3,1.6041234035910008]
[803,1.5508468399169367E-6,1.643689511937308,24,1.736111111111111E-3,1.6041234035910008]
[804,1.5469914111036856E-6,1.6436910589287193,24,1.736111111111111E-3,1.6041234035910008]
[805,1.5431503414220131E-6,1.6436926020790608,24,1.736111111111111E-3,1.6041234035910008]
[806,1.5393235596549452E-6,1.6436941414026205,24,1.736111111111111E-3,1.6041234035910008]
[807,1.5355109950264799E-6,1.6436956769136155,24,1.736111111111111E-3,1.6041234035910008]
[808,1.5317125771983138E-6,1.6436972086261927,24,1.736111111111111E-3,1.6041234035910008]
[809,1.5279282362665991E-6,1.6436987365544289,24,1.736111111111111E-3,1.6041234035910008]
[810,1.5241579027587259E-6,1.6437002607123317,24,1.736111111111111E-3,1.6041234035910008]
[811,1.5204015076301351E-6,1.6437017811138392,24,1.736111111111111E-3,1.6041234035910008]
[812,1.5166589822611564E-6,1.6437032977728214,24,1.736111111111111E-3,1.6041234035910008]
[813,1.5129302584538761E-6,1.6437048107030798,24,1.736111111111111E-3,1.6041234035910008]
[814,1.5092152684290277E-6,1.6437063199183484,24,1.736111111111111E-3,1.6041234035910008]
[815,1.5055139448229139E-6,1.6437078254322932,24,1.736111111111111E-3,1.6041234035910008]
[816,1.5018262206843522E-6,1.643709327258514,24,1.736111111111111E-3,1.6041234035910008]
[817,1.4981520294716466E-6,1.6437108254105435,24,1.736111111111111E-3,1.6041234035910008]
[818,1.4944913050495872E-6,1.6437123199018486,24,1.736111111111111E-3,1.6041234035910008]
[819,1.4908439816864725E-6,1.6437138107458302,24,1.736111111111111E-3,1.6041234035910008]
[820,1.4872099940511601E-6,1.6437152979558243,24,1.736111111111111E-3,1.6041234035910008]
[821,1.48358927721014E-6,1.6437167815451015,24,1.736111111111111E-3,1.6041234035910008]
[822,1.4799817666246353E-6,1.6437182615268682,24,1.736111111111111E-3,1.6041234035910008]
[823,1.4763873981477244E-6,1.6437197379142663,24,1.736111111111111E-3,1.6041234035910008]
[824,1.4728061080214912E-6,1.6437212107203742,24,1.736111111111111E-3,1.6041234035910008]
[825,1.4692378328741965E-6,1.6437226799582072,24,1.736111111111111E-3,1.6041234035910008]
[826,1.465682509717475E-6,1.643724145640717,24,1.736111111111111E-3,1.6041234035910008]
[827,1.4621400759435555E-6,1.643725607780793,24,1.736111111111111E-3,1.6041234035910008]
[828,1.4586104693225047E-6,1.6437270663912622,24,1.736111111111111E-3,1.6041234035910008]
[829,1.4550936279994937E-6,1.6437285214848902,24,1.736111111111111E-3,1.6041234035910008]
[830,1.4515894904920889E-6,1.6437299730743806,24,1.736111111111111E-3,1.6041234035910008]
[831,1.4480979956875642E-6,1.6437314211723764,24,1.736111111111111E-3,1.6041234035910008]
[832,1.4446190828402367E-6,1.6437328657914592,24,1.736111111111111E-3,1.6041234035910008]
[833,{"$f":"1/k^2","v":1.4411526915688244E-6},1.6437343069441508,24,1.736111111111111E-3,1.6041234035910008]
[834,1.4376987618538262E-6,1.6437357446429126,24,1.736111111111111E-3,1.6041234035910008]
[{"$f":"A836+1","v":835},1.4342572340349241E-6,{"$f":"C836+B837","v":1.6437371789001467},24,1.736111111111111E-3,1.6041234035910008]
[836,1.4308280488084064E-6,1.6437386097281954,24,1.736111111111111E-3,1.6041234035910008]
[837,1.4274111472246132E-6,1.6437400371393427,24,1.736111111111111E-3,1.6041234035910008]
[838,1.4240064706854028E-6,1.6437414611458134,24,1.736111111111111E-3,1.6041234035910008]
[839,1.4206139609416398E-6,1.6437428817597743,24,1.736111111111111E-3,1.6041234035910008]
[840,1.417233560090703E-6,1.6437442989933344,24,1.736111111111111E-3,1.6041234035910008]
[841,1.4138652105740151E-6,1.6437457128585449,24,1.736111111111111E-3,1.6041234035910008]
[842,1.4105088551745929E-6,1.6437471233674001,24,1.736111111111111E-3,1.6041234035910008]
[843,1.4071644370146163E-6,1.6437485305318371,{"$f":"IF(A845<=xMax,A845,xMax)","v":24},{"$f":"IF(A845<=xMax,B845,lastA)","v":1.736111111111111E-3},{"$f":"IF(A845<=xMax,C845,LastSum)","v":1.6041234035910008}]
[844,1.40383189955302E-6,1.6437499343637367,24,1.736111111111111E-3,1.6041234035910008]
[845,1.4005111865831029E-6,1.6437513348749233,24,1.736111111111111E-3,1.6041234035910008]
[846,1.3972022422301584E-6,1.6437527320771654,24,1.736111111111111E-3,1.6041234035910008]
[847,1.3939050109491238E-6,1.6437541259821764,24,1.736111111111111E-3,1.6041234035910008]
[848,1.39061943752225E-6,1.643755516601614,24,1.736111111111111E-3,1.6041234035910008]
[849,1.3873454670567882E-6,1.643756903947081,24,1.736111111111111E-3,1.6041234035910008]
[850,1.384083044982699E-6,1.643758288030126,24,1.736111111111111E-3,1.6041234035910008]
[851,1.380832117050377E-6,1.6437596688622431,24,1.736111111111111E-3,1.6041234035910008]
[852,1.3775926293283959E-6,1.6437610464548724,24,1.736111111111111E-3,1.6041234035910008]
[853,1.374364528201273E-6,1.6437624208194006,24,1.736111111111111E-3,1.6041234035910008]
[854,1.3711477603672482E-6,1.643763791967161,24,1.736111111111111E-3,1.6041234035910008]
[855,1.3679422728360864E-6,1.6437651599094338,24,1.736111111111111E-3,1.6041234035910008]
[856,1.3647480129268933E-6,1.6437665246574467,24,1.736111111111111E-3,1.6041234035910008]
[857,1.3615649282659517E-6,1.643767886222375,24,1.736111111111111E-3,1.6041234035910008]
[858,1.3583929667845752E-6,1.6437692446153418,24,1.736111111111111E-3,1.6041234035910008]
[859,1.3552320767169775E-6,1.6437705998474186,24,1.736111111111111E-3,1.6041234035910008]
[860,1.3520822065981611E-6,1.6437719519296252,24,1.736111111111111E-3,1.6041234035910008]
[861,1.3489433052618232E-6,1.6437733008729305,24,1.736111111111111E-3,1.6041234035910008]
[862,1.345815321838276E-6,1.6437746466882523,24,1.736111111111111E-3,1.6041234035910008]
[863,1.3426982057523876E-6,1.643775989386458,24,1.736111111111111E-3,1.6041234035910008]
[864,1.3395919067215363E-6,1.6437773289783648,24,1.736111111111111E-3,1.6041234035910008]
[865,1.3364963747535834E-6,1.6437786654747395,24,1.736111111111111E-3,1.6041234035910008]
[866,1.3334115601448619E-6,1.6437799988862996,24,1.736111111111111E-3,1.6041234035910008]
[867,1.3303374134781805E-6,1.6437813292237131,24,1.736111111111111E-3,1.6041234035910008]
[868,1.3272738856208457E-6,1.6437826564975988,24,1.736111111111111E-3,1.6041234035910008]
[869,1.3242209277226976E-6,1.6437839807185266,24,1.736111111111111E-3,1.6041234035910008]
[870,1.3211784912141631E-6,1.6437853018970179,24,1.736111111111111E-3,1.6041234035910008]
[871,1.3181465278043239E-6,1.6437866200435456,24,1.736111111111111E-3,1.6041234035910008]
[872,1.3151249894790001E-6,1.6437879351685352,24,1.736111111111111E-3,1.6041234035910008]
[873,1.31211382849885E-6,1.6437892472823636,24,1.736111111111111E-3,1.6041234035910008]
[874,1.3091129973974835E-6,1.643790556395361,24,1.736111111111111E-3,1.6041234035910008]
[875,1.3061224489795919E-6,1.64379186251781,24,1.736111111111111E-3,1.6041234035910008]
[876,1.3031421363190926E-6,1.6437931656599465,24,1.736111111111111E-3,1.6041234035910008]
[877,1.3001720127572879E-6,1.6437944658319592,24,1.736111111111111E-3,1.6041234035910008]
[878,1.2972120319010382E-6,1.643795763043991,24,1.736111111111111E-3,1.6041234035910008]
[879,1.2942621476209521E-6,1.6437970573061387,24,1.736111111111111E-3,1.6041234035910008]
[880,1.2913223140495869E-6,1.6437983486284526,24,1.736111111111111E-3,1.6041234035910008]
[881,1.2883924855796672E-6,1.6437996370209382,24,1.736111111111111E-3,1.6041234035910008]
[882,1.2854726168623155E-6,1.643800922493555,24,1.736111111111111E-3,1.6041234035910008]
[883,1.282562662805298E-6,1.6438022050562178,24,1.736111111111111E-3,1.6041234035910008]
[884,1.2796625785712824E-6,1.6438034847187963,24,1.736111111111111E-3,1.6041234035910008]
[885,1.2767723195761116E-6,1.643804761491116,24,1.736111111111111E-3,1.6041234035910008]
[886,1.2738918414870905E-6,1.6438060353829576,24,1.736111111111111E-3,1.6041234035910008]
[887,1.2710211002212847E-6,1.6438073064040577,24,1.736111111111111E-3,1.6041234035910008]
[888,1.2681600519438357E-6,1.6438085745641096,24,1.736111111111111E-3,1.6041234035910008]
[889,1.2653086530662858E-6,1.6438098398727625,24,1.736111111111111E-3,1.6041234035910008]
[890,1.2624668602449186E-6,1.6438111023396227,24,1.736111111111111E-3,1.6041234035910008]
[891,1.2596346303791123E-6,1.643812361974253,24,1.736111111111111E-3,1.6041234035910008]
[892,1.2568119206097045E-6,1.6438136187861736,24,1.736111111111111E-3,1.6041234035910008]
[893,1.2539986883173721E-6,1.6438148727848618,24,1.736111111111111E-3,1.6041234035910008]
[894,1.2511948911210207E-6,1.6438161239797529,24,1.736111111111111E-3,1.6041234035910008]
[895,1.2484004868761898E-6,1.6438173723802398,24,1.736111111111111E-3,1.6041234035910008]
[896,1.2456154336734693E-6,1.6438186179956735,24,1.736111111111111E-3,1.6041234035910008]
[897,{"$f":"1/k^2","v":1.2428396898369271E-6},1.6438198608353634,24,1.736111111111111E-3,1.6041234035910008]
[898,1.24007321392255e-06,1.6438211009085772,24,1.736111111111111E-3,1.6041234035910008]
[{"$f":"A900+1","v":899},1.237315964716698E-6,{"$f":"C900+B901","v":1.643822338224542},24,1.736111111111111E-3,1.6041234035910008]
[900,1.2345679012345679E-6,1.6438235727924433,24,1.736111111111111E-3,1.6041234035910008]
[901,1.2318289827186711E-6,1.643824804621426,24,1.736111111111111E-3,1.6041234035910008]
[902,1.2290991686373224E-6,1.6438260337205948,24,1.736111111111111E-3,1.6041234035910008]
[903,1.2263784186831394E-6,1.6438272600990134,24,1.736111111111111E-3,1.6041234035910008]
[904,1.2236666927715561E-6,1.6438284837657062,24,1.736111111111111E-3,1.6041234035910008]
[905,1.2209639510393456E-6,1.6438297047296573,24,1.736111111111111E-3,1.6041234035910008]
[906,1.2182701538431551E-6,1.6438309229998112,24,1.736111111111111E-3,1.6041234035910008]
[907,1.2155852617580524E-6,1.643832138585073,{"$f":"IF(A909<=xMax,A909,xMax)","v":24},{"$f":"IF(A909<=xMax,B909,lastA)","v":1.736111111111111E-3},{"$f":"IF(A909<=xMax,C909,LastSum)","v":1.6041234035910008}]
[908,1.2129092355760834E-6,1.6438333514943084,24,1.736111111111111E-3,1.6041234035910008]
[909,1.2102420363048407E-6,1.6438345617363448,24,1.736111111111111E-3,1.6041234035910008]
[910,1.2075836251660427E-6,1.6438357693199699,24,1.736111111111111E-3,1.6041234035910008]
[911,1.2049339635941252E-6,1.6438369742539334,24,1.736111111111111E-3,1.6041234035910008]
[912,1.2022930132348414E-6,1.6438381765469465,24,1.736111111111111E-3,1.6041234035910008]
[913,1.199660735943875E-6,1.6438393762076824,24,1.736111111111111E-3,1.6041234035910008]
[914,1.1970370937854622E-6,1.6438405732447763,24,1.736111111111111E-3,1.6041234035910008]
[915,1.1944220490310251E-6,1.6438417676668253,24,1.736111111111111E-3,1.6041234035910008]
[916,1.1918155641578155E-6,1.6438429594823896,24,1.736111111111111E-3,1.6041234035910008]
[917,1.1892176018475685E-6,1.6438441486999915,24,1.736111111111111E-3,1.6041234035910008]
[918,1.1866281249851672E-6,1.6438453353281166,24,1.736111111111111E-3,1.6041234035910008]
[919,1.1840470966573166E-6,1.6438465193752132,24,1.736111111111111E-3,1.6041234035910008]
[920,1.1814744801512286E-6,1.6438477008496934,24,1.736111111111111E-3,1.6041234035910008]
[921,1.1789102389533162E-6,1.6438488797599324,24,1.736111111111111E-3,1.6041234035910008]
[922,1.1763543367478979E-6,1.6438500561142693,24,1.736111111111111E-3,1.6041234035910008]
[923,1.1738067374159115E-6,1.6438512299210066,24,1.736111111111111E-3,1.6041234035910008]
[924,1.1712674050336388E-6,1.6438524011884117,24,1.736111111111111E-3,1.6041234035910008]
[925,1.1687363038714389E-6,1.6438535699247157,24,1.736111111111111E-3,1.6041234035910008]
[926,1.1662133983924914E-6,1.643854736138114,24,1.736111111111111E-3,1.6041234035910008]
[927,1.1636986532515485E-6,1.6438558998367672,24,1.736111111111111E-3,1.6041234035910008]
[928,1.1611920332936979E-6,1.6438570610288004,24,1.736111111111111E-3,1.6041234035910008]
[929,1.1586935035531335E-6,1.643858219722304,24,1.736111111111111E-3,1.6041234035910008]
[930,1.1562030292519367E-6,1.6438593759253333,24,1.736111111111111E-3,1.6041234035910008]
[931,1.153720575798865E-6,1.643860529645909,24,1.736111111111111E-3,1.6041234035910008]
[932,1.1512461087881524E-6,1.643861680892018,24,1.736111111111111E-3,1.6041234035910008]
[933,1.1487795939983159E-6,1.6438628296716118,24,1.736111111111111E-3,1.6041234035910008]
[934,1.1463209973909734E-6,1.6438639759926092,24,1.736111111111111E-3,1.6041234035910008]
[935,1.1438702851096686E-6,1.6438651198628944,24,1.736111111111111E-3,1.6041234035910008]
[936,1.1414274234787056E-6,1.6438662612903179,24,1.736111111111111E-3,1.6041234035910008]
[937,1.138992379001992E-6,1.643867400282697,24,1.736111111111111E-3,1.6041234035910008]
[938,1.1365651183618914E-6,1.6438685368478154,24,1.736111111111111E-3,1.6041234035910008]
[939,1.1341456084180823E-6,1.6438696709934237,24,1.736111111111111E-3,1.6041234035910008]
[940,1.1317338162064282E-6,1.64387080272724,24,1.736111111111111E-3,1.6041234035910008]
[941,1.1293297089378541E-6,1.6438719320569488,24,1.736111111111111E-3,1.6041234035910008]
[942,1.1269332539972322E-6,1.6438730589902029,24,1.736111111111111E-3,1.6041234035910008]
[943,1.1245444189422761E-6,1.6438741835346218,24,1.736111111111111E-3,1.6041234035910008]
[944,1.1221631715024419E-6,1.6438753056977933,24,1.736111111111111E-3,1.6041234035910008]
[945,1.1197894795778394E-6,1.6438764254872729,24,1.736111111111111E-3,1.6041234035910008]
[946,1.1174233112381497E-6,1.643877542910584,24,1.736111111111111E-3,1.6041234035910008]
[947,1.1150646347215515E-6,1.6438786579752187,24,1.736111111111111E-3,1.6041234035910008]
[948,1.1127134184336556E-6,1.6438797706886372,24,1.736111111111111E-3,1.6041234035910008]
[949,1.1103696309464458E-6,1.6438808810582681,24,1.736111111111111E-3,1.6041234035910008]
[950,1.10803324099723E-6,1.643881989091509,24,1.736111111111111E-3,1.6041234035910008]
[951,1.1057042174875969E-6,1.6438830947957266,24,1.736111111111111E-3,1.6041234035910008]
[952,1.1033825294823812E-6,1.6438841981782562,24,1.736111111111111E-3,1.6041234035910008]
[953,1.1010681462086369E-6,1.6438852992464024,24,1.736111111111111E-3,1.6041234035910008]
[954,1.0987610370546173E-6,1.6438863980074394,24,1.736111111111111E-3,1.6041234035910008]
[955,1.0964611715687617E-6,1.643887494468611,24,1.736111111111111E-3,1.6041234035910008]
[956,1.094168519458693E-6,1.6438885886371306,24,1.736111111111111E-3,1.6041234035910008]
[957,1.0918830505902174E-6,1.6438896805201813,24,1.736111111111111E-3,1.6041234035910008]
[958,1.0896047349863363E-6,1.6438907701249161,24,1.736111111111111E-3,1.6041234035910008]
[959,1.0873335428262625E-6,1.643891857458459,24,1.736111111111111E-3,1.6041234035910008]
[960,1.0850694444444444E-6,1.6438929425279034,24,1.736111111111111E-3,1.6041234035910008]
[961,{"$f":"1/k^2","v":1.0828124103295972E-6},1.6438940253403138,24,1.736111111111111E-3,1.6041234035910008]
[962,1.0805624111237418E-6,1.643895105902725,24,1.736111111111111E-3,1.6041234035910008]
[{"$f":"A964+1","v":963},1.0783194176212488E-6,{"$f":"C964+B965","v":1.6438961842221425},24,1.736111111111111E-3,1.6041234035910008]
[964,1.0760834007678931E-6,1.6438972603055433,24,1.736111111111111E-3,1.6041234035910008]
[965,1.0738543316599103E-6,1.643898334159875,24,1.736111111111111E-3,1.6041234035910008]
[966,1.0716321815430646E-6,1.6438994057920564,24,1.736111111111111E-3,1.6041234035910008]
[967,1.0694169218117205E-6,1.6439004752089783,24,1.736111111111111E-3,1.6041234035910008]
[968,1.0672085240079229E-6,1.6439015424175023,24,1.736111111111111E-3,1.6041234035910008]
[969,1.0650069598204824E-6,1.643902607424462,24,1.736111111111111E-3,1.6041234035910008]
[970,1.0628122010840684E-6,1.6439036702366632,24,1.736111111111111E-3,1.6041234035910008]
[971,1.0606242197783082E-6,1.643904730860883,{"$f":"IF(A973<=xMax,A973,xMax)","v":24},{"$f":"IF(A973<=xMax,B973,lastA)","v":1.736111111111111E-3},{"$f":"IF(A973<=xMax,C973,LastSum)","v":1.6041234035910008}]
[972,1.0584429880268929E-6,1.6439057893038709,24,1.736111111111111E-3,1.6041234035910008]
[973,1.0562684780966888E-6,1.643906845572349,24,1.736111111111111E-3,1.6041234035910008]
[974,1.0541006623968562E-6,1.6439078996730112,24,1.736111111111111E-3,1.6041234035910008]
[975,1.0519395134779751E-6,1.6439089516125247,24,1.736111111111111E-3,1.6041234035910008]
[976,1.0497850040311743E-6,1.6439100013975287,24,1.736111111111111E-3,1.6041234035910008]
[977,1.0476371068872711E-6,1.6439110490346356,24,1.736111111111111E-3,1.6041234035910008]
[978,1.0454957950159124E-6,1.6439120945304306,24,1.736111111111111E-3,1.6041234035910008]
[979,1.0433610415247262E-6,1.6439131378914722,24,1.736111111111111E-3,1.6041234035910008]
[980,1.0412328196584756E-6,1.643914179124292,24,1.736111111111111E-3,1.6041234035910008]
[981,1.0391111027982222E-6,1.6439152182353947,24,1.736111111111111E-3,1.6041234035910008]
[982,1.0369958644604924E-6,1.6439162552312592,24,1.736111111111111E-3,1.6041234035910008]
[983,1.0348870782964518E-6,1.6439172901183374,24,1.736111111111111E-3,1.6041234035910008]
[984,1.0327847180910833E-6,1.6439183229030556,24,1.736111111111111E-3,1.6041234035910008]
[985,1.0306887577623747E-6,1.6439193535918133,24,1.736111111111111E-3,1.6041234035910008]
[986,1.0285991713605076E-6,1.6439203821909847,24,1.736111111111111E-3,1.6041234035910008]
[987,1.0265159330670551E-6,1.6439214087069178,24,1.736111111111111E-3,1.6041234035910008]
[988,1.0244390171941845E-6,1.643922433145935,24,1.736111111111111E-3,1.6041234035910008]
[989,1.0223683981838647E-6,1.6439234555143332,24,1.736111111111111E-3,1.6041234035910008]
[990,1.0203040506070809E-6,1.6439244758183837,24,1.736111111111111E-3,1.6041234035910008]
[991,1.0182459491630528E-6,1.6439254940643329,24,1.736111111111111E-3,1.6041234035910008]
[992,1.01619406867846E-6,1.6439265102584015,24,1.736111111111111E-3,1.6041234035910008]
[993,1.0141483841066723E-6,1.6439275244067857,24,1.736111111111111E-3,1.6041234035910008]
[994,1.0121088705269849E-6,1.6439285365156562,24,1.736111111111111E-3,1.6041234035910008]
[995,1.01007550314386e-06,1.6439295465911594,24,1.736111111111111E-3,1.6041234035910008]
[996,1.0080482572861728E-6,1.6439305546394167,24,1.736111111111111E-3,1.6041234035910008]
[997,1.0060271084064632E-6,1.6439315606665252,24,1.736111111111111E-3,1.6041234035910008]
[998,1.0040120320801925E-6,1.6439325646785574,24,1.736111111111111E-3,1.6041234035910008]
[999,1.002003004005006E-6,1.6439335666815613,24,1.736111111111111E-3,1.6041234035910008]
[1000,1e-06,1.6439345666815612,24,1.736111111111111E-3,1.6041234035910008]
[null,{"$error":"#DIV/0!"}]
[null,{"$error":"#DIV/0!"}]

{"sheet":"Sheet3","index":2,"n_rows":1003,"n_cols":2,"rows_kept":1003}
[{"$f":"xMin","v":1},{"$f":"9","v":9}]
[{"$f":"A1+dx","v":1},{"$f":"9","v":9}]
[1,{"$f":"9","v":9}]
[1,{"$f":"9","v":9}]
[1,{"$f":"9","v":9}]
[1,{"$f":"9","v":9}]
[1,{"$f":"9","v":9}]
[1,{"$f":"9","v":9}]
[1,{"$f":"9","v":9}]
[1,{"$f":"9","v":9}]
[1,{"$f":"9","v":9}]
[1,{"$f":"9","v":9}]
[1,{"$f":"9","v":9}]
[1,{"$f":"9","v":9}]
[1,{"$f":"9","v":9}]
[1,{"$f":"9","v":9}]
[1,{"$f":"9","v":9}]
[1,{"$f":"9","v":9}]
[1,{"$f":"9","v":9}]
[1,{"$f":"9","v":9}]
[1,{"$f":"9","v":9}]
[1,{"$f":"9","v":9}]
[1,{"$f":"9","v":9}]
[1,{"$f":"9","v":9}]
[1,{"$f":"9","v":9}]
[1,{"$f":"9","v":9}]
[1,{"$f":"9","v":9}]
[1,{"$f":"9","v":9}]
[1,{"$f":"9","v":9}]
[1,{"$f":"9","v":9}]
[1,{"$f":"9","v":9}]
[1,{"$f":"9","v":9}]
[1,{"$f":"9","v":9}]
[1,{"$f":"9","v":9}]
[1,{"$f":"9","v":9}]
[1,{"$f":"9","v":9}]
[1,{"$f":"9","v":9}]
[1,{"$f":"9","v":9}]
[1,{"$f":"9","v":9}]
[1,{"$f":"9","v":9}]
[1,{"$f":"9","v":9}]
[1,{"$f":"9","v":9}]
[1,{"$f":"9","v":9}]
[1,{"$f":"9","v":9}]
[1,{"$f":"9","v":9}]
[1,{"$f":"9","v":9}]
[1,{"$f":"9","v":9}]
[1,{"$f":"9","v":9}]
[1,{"$f":"9","v":9}]
[1,{"$f":"9","v":9}]
[1,{"$f":"9","v":9}]
[1,{"$f":"9","v":9}]
[1,{"$f":"9","v":9}]
[1,{"$f":"9","v":9}]
[1,{"$f":"9","v":9}]
[1,{"$f":"9","v":9}]
[1,{"$f":"9","v":9}]
[1,{"$f":"9","v":9}]
[1,{"$f":"9","v":9}]
[1,{"$f":"9","v":9}]
[1,{"$f":"9","v":9}]
[1,{"$f":"9","v":9}]
[1,{"$f":"9","v":9}]
[1,{"$f":"9","v":9}]
[1,{"$f":"9","v":9}]
[{"$f":"A65+dx","v":1},{"$f":"9","v":9}]
[1,{"$f":"9","v":9}]
[1,{"$f":"9","v":9}]
[1,{"$f":"9","v":9}]
[1,{"$f":"9","v":9}]
[1,{"$f":"9","v":9}]
[1,{"$f":"9","v":9}]
[1,{"$f":"9","v":9}]
[1,{"$f":"9","v":9}]
[1,{"$f":"9","v":9}]
[1,{"$f":"9","v":9}]
[1,{"$f":"9","v":9}]
[1,{"$f":"9","v":9}]
[1,{"$f":"9","v":9}]
[1,{"$f":"9","v":9}]
[1,{"$f":"9","v":9}]
[1,{"$f":"9","v":9}]
[1,{"$f":"9","v":9}]
[1,{"$f":"9","v":9}]
[1,{"$f":"9","v":9}]
[1,{"$f":"9","v":9}]
[1,{"$f":"9","v":9}]
[1,{"$f":"9","v":9}]
[1,{"$f":"9","v":9}]
[1,{"$f":"9","v":9}]
[1,{"$f":"9","v":9}]
[1,{"$f":"9","v":9}]
[1,{"$f":"9","v":9}]
[1,{"$f":"9","v":9}]
[1,{"$f":"9","v":9}]
[1,{"$f":"9","v":9}]
[1,{"$f":"9","v":9}]
[1,{"$f":"9","v":9}]
[1,{"$f":"9","v":9}]
[1,{"$f":"9","v":9}]
[1,{"$f":"9","v":9}]
[1,{"$f":"9","v":9}]
[1,{"$f":"9","v":9}]
[1,{"$f":"9","v":9}]
[1,{"$f":"9","v":9}]
[1,{"$f":"9","v":9}]
[1,{"$f":"9","v":9}]
[1,{"$f":"9","v":9}]
[1,{"$f":"9","v":9}]
[1,{"$f":"9","v":9}]
[1,{"$f":"9","v":9}]
[1,{"$f":"9","v":9}]
[1,{"$f":"9","v":9}]
[1,{"$f":"9","v":9}]
[1,{"$f":"9","v":9}]
[1,{"$f":"9","v":9}]
[1,{"$f":"9","v":9}]
[1,{"$f":"9","v":9}]
[1,{"$f":"9","v":9}]
[1,{"$f":"9","v":9}]
[1,{"$f":"9","v":9}]
[1,{"$f":"9","v":9}]
[1,{"$f":"9","v":9}]
[1,{"$f":"9","v":9}]
[1,{"$f":"9","v":9}]
[1,{"$f":"9","v":9}]
[1,{"$f":"9","v":9}]
[1,{"$f":"9","v":9}]
[1,{"$f":"9","v":9}]
[{"$f":"A129+dx","v":1},{"$f":"9","v":9}]
[1,{"$f":"9","v":9}]
[1,{"$f":"9","v":9}]
[1,{"$f":"9","v":9}]
[1,{"$f":"9","v":9}]
[1,{"$f":"9","v":9}]
[1,{"$f":"9","v":9}]
[1,{"$f":"9","v":9}]
[1,{"$f":"9","v":9}]
[1,{"$f":"9","v":9}]
[1,{"$f":"9","v":9}]
[1,{"$f":"9","v":9}]
[1,{"$f":"9","v":9}]
[1,{"$f":"9","v":9}]
[1,{"$f":"9","v":9}]
[1,{"$f":"9","v":9}]
[1,{"$f":"9","v":9}]
[1,{"$f":"9","v":9}]
[1,{"$f":"9","v":9}]
[1,{"$f":"9","v":9}]
[1,{"$f":"9","v":9}]
[1,{"$f":"9","v":9}]
[1,{"$f":"9","v":9}]
[1,{"$f":"9","v":9}]
[1,{"$f":"9","v":9}]
[1,{"$f":"9","v":9}]
[1,{"$f":"9","v":9}]
[1,{"$f":"9","v":9}]
[1,{"$f":"9","v":9}]
[1,{"$f":"9","v":9}]
[1,{"$f":"9","v":9}]
[1,{"$f":"9","v":9}]
[1,{"$f":"9","v":9}]
[1,{"$f":"9","v":9}]
[1,{"$f":"9","v":9}]
[1,{"$f":"9","v":9}]
[1,{"$f":"9","v":9}]
[1,{"$f":"9","v":9}]
[1,{"$f":"9","v":9}]
[1,{"$f":"9","v":9}]
[1,{"$f":"9","v":9}]
[1,{"$f":"9","v":9}]
[1,{"$f":"9","v":9}]
[1,{"$f":"9","v":9}]
[1,{"$f":"9","v":9}]
[1,{"$f":"9","v":9}]
[1,{"$f":"9","v":9}]
[1,{"$f":"9","v":9}]
[1,{"$f":"9","v":9}]
[1,{"$f":"9","v":9}]
[1,{"$f":"9","v":9}]
[1,{"$f":"9","v":9}]
[1,{"$f":"9","v":9}]
[1,{"$f":"9","v":9}]
[1,{"$f":"9","v":9}]
[1,{"$f":"9","v":9}]
[1,{"$f":"9","v":9}]
[1,{"$f":"9","v":9}]
[1,{"$f":"9","v":9}]
[1,{"$f":"9","v":9}]
[1,{"$f":"9","v":9}]
[1,{"$f":"9","v":9}]
[1,{"$f":"9","v":9}]
[1,{"$f":"9","v":9}]
[{"$f":"A193+dx","v":1},{"$f":"9","v":9}]
[1,{"$f":"9","v":9}]
[1,{"$f":"9","v":9}]
[1,{"$f":"9","v":9}]
[1,{"$f":"9","v":9}]
[1,{"$f":"9","v":9}]
[1,{"$f":"9","v":9}]
[1,{"$f":"9","v":9}]
[1,{"$f":"9","v":9}]
[1,{"$f":"9","v":9}]
[1,{"$f":"9","v":9}]
[1,{"$f":"9","v":9}]
[1,{"$f":"9","v":9}]
[1,{"$f":"9","v":9}]
[1,{"$f":"9","v":9}]
[1,{"$f":"9","v":9}]
[1,{"$f":"9","v":9}]
[1,{"$f":"9","v":9}]
[1,{"$f":"9","v":9}]
[1,{"$f":"9","v":9}]
[1,{"$f":"9","v":9}]
[1,{"$f":"9","v":9}]
[1,{"$f":"9","v":9}]
[1,{"$f":"9","v":9}]
[1,{"$f":"9","v":9}]
[1,{"$f":"9","v":9}]
[1,{"$f":"9","v":9}]
[1,{"$f":"9","v":9}]
[1,{"$f":"9","v":9}]
[1,{"$f":"9","v":9}]
[1,{"$f":"9","v":9}]
[1,{"$f":"9","v":9}]
[1,{"$f":"9","v":9}]
[1,{"$f":"9","v":9}]
[1,{"$f":"9","v":9}]
[1,{"$f":"9","v":9}]
[1,{"$f":"9","v":9}]
[1,{"$f":"9","v":9}]
[1,{"$f":"9","v":9}]
[1,{"$f":"9","v":9}]
[1,{"$f":"9","v":9}]
[1,{"$f":"9","v":9}]
[1,{"$f":"9","v":9}]
[1,{"$f":"9","v":9}]
[1,{"$f":"9","v":9}]
[1,{"$f":"9","v":9}]
[1,{"$f":"9","v":9}]
[1,{"$f":"9","v":9}]
[1,{"$f":"9","v":9}]
[1,{"$f":"9","v":9}]
[1,{"$f":"9","v":9}]
[1,{"$f":"9","v":9}]
[1,{"$f":"9","v":9}]
[1,{"$f":"9","v":9}]
[1,{"$f":"9","v":9}]
[1,{"$f":"9","v":9}]
[1,{"$f":"9","v":9}]
[1,{"$f":"9","v":9}]
[1,{"$f":"9","v":9}]
[1,{"$f":"9","v":9}]
[1,{"$f":"9","v":9}]
[1,{"$f":"9","v":9}]
[1,{"$f":"9","v":9}]
[1,{"$f":"9","v":9}]
[{"$f":"A257+dx","v":1},{"$f":"9","v":9}]
[1,{"$f":"9","v":9}]
[1,{"$f":"9","v":9}]
[1,{"$f":"9","v":9}]
[1,{"$f":"9","v":9}]
[1,{"$f":"9","v":9}]
[1,{"$f":"9","v":9}]
[1,{"$f":"9","v":9}]
[1,{"$f":"9","v":9}]
[1,{"$f":"9","v":9}]
[1,{"$f":"9","v":9}]
[1,{"$f":"9","v":9}]
[1,{"$f":"9","v":9}]
[1,{"$f":"9","v":9}]
[1,{"$f":"9","v":9}]
[1,{"$f":"9","v":9}]
[1,{"$f":"9","v":9}]
[1,{"$f":"9","v":9}]
[1,{"$f":"9","v":9}]
[1,{"$f":"9","v":9}]
[1,{"$f":"9","v":9}]
[1,{"$f":"9","v":9}]
[1,{"$f":"9","v":9}]
[1,{"$f":"9","v":9}]
[1,{"$f":"9","v":9}]
[1,{"$f":"9","v":9}]
[1,{"$f":"9","v":9}]
[1,{"$f":"9","v":9}]
[1,{"$f":"9","v":9}]
[1,{"$f":"9","v":9}]
[1,{"$f":"9","v":9}]
[1,{"$f":"9","v":9}]
[1,{"$f":"9","v":9}]
[1,{"$f":"9","v":9}]
[1,{"$f":"9","v":9}]
[1,{"$f":"9","v":9}]
[1,{"$f":"9","v":9}]
[1,{"$f":"9","v":9}]
[1,{"$f":"9","v":9}]
[1,{"$f":"9","v":9}]
[1,{"$f":"9","v":9}]
[1,{"$f":"9","v":9}]
[1,{"$f":"9","v":9}]
[1,{"$f":"9","v":9}]
[1,{"$f":"9","v":9}]
[1,{"$f":"9","v":9}]
[1,{"$f":"9","v":9}]
[1,{"$f":"9","v":9}]
[1,{"$f":"9","v":9}]
[1,{"$f":"9","v":9}]
[1,{"$f":"9","v":9}]
[1,{"$f":"9","v":9}]
[1,{"$f":"9","v":9}]
[1,{"$f":"9","v":9}]
[1,{"$f":"9","v":9}]
[1,{"$f":"9","v":9}]
[1,{"$f":"9","v":9}]
[1,{"$f":"9","v":9}]
[1,{"$f":"9","v":9}]
[1,{"$f":"9","v":9}]
[1,{"$f":"9","v":9}]
[1,{"$f":"9","v":9}]
[1,{"$f":"9","v":9}]
[1,{"$f":"9","v":9}]
[{"$f":"A321+dx","v":1},{"$f":"9","v":9}]
[1,{"$f":"9","v":9}]
[1,{"$f":"9","v":9}]
[1,{"$f":"9","v":9}]
[1,{"$f":"9","v":9}]
[1,{"$f":"9","v":9}]
[1,{"$f":"9","v":9}]
[1,{"$f":"9","v":9}]
[1,{"$f":"9","v":9}]
[1,{"$f":"9","v":9}]
[1,{"$f":"9","v":9}]
[1,{"$f":"9","v":9}]
[1,{"$f":"9","v":9}]
[1,{"$f":"9","v":9}]
[1,{"$f":"9","v":9}]
[1,{"$f":"9","v":9}]
[1,{"$f":"9","v":9}]
[1,{"$f":"9","v":9}]
[1,{"$f":"9","v":9}]
[1,{"$f":"9","v":9}]
[1,{"$f":"9","v":9}]
[1,{"$f":"9","v":9}]
[1,{"$f":"9","v":9}]
[1,{"$f":"9","v":9}]
[1,{"$f":"9","v":9}]
[1,{"$f":"9","v":9}]
[1,{"$f":"9","v":9}]
[1,{"$f":"9","v":9}]
[1,{"$f":"9","v":9}]
[1,{"$f":"9","v":9}]
[1,{"$f":"9","v":9}]
[1,{"$f":"9","v":9}]
[1,{"$f":"9","v":9}]
[1,{"$f":"9","v":9}]
[1,{"$f":"9","v":9}]
[1,{"$f":"9","v":9}]
[1,{"$f":"9","v":9}]
[1,{"$f":"9","v":9}]
[1,{"$f":"9","v":9}]
[1,{"$f":"9","v":9}]
[1,{"$f":"9","v":9}]
[1,{"$f":"9","v":9}]
[1,{"$f":"9","v":9}]
[1,{"$f":"9","v":9}]
[1,{"$f":"9","v":9}]
[1,{"$f":"9","v":9}]
[1,{"$f":"9","v":9}]
[1,{"$f":"9","v":9}]
[1,{"$f":"9","v":9}]
[1,{"$f":"9","v":9}]
[1,{"$f":"9","v":9}]
[1,{"$f":"9","v":9}]
[1,{"$f":"9","v":9}]
[1,{"$f":"9","v":9}]
[1,{"$f":"9","v":9}]
[1,{"$f":"9","v":9}]
[1,{"$f":"9","v":9}]
[1,{"$f":"9","v":9}]
[1,{"$f":"9","v":9}]
[1,{"$f":"9","v":9}]
[1,{"$f":"9","v":9}]
[1,{"$f":"9","v":9}]
[1,{"$f":"9","v":9}]
[1,{"$f":"9","v":9}]
[{"$f":"A385+dx","v":1},{"$f":"9","v":9}]
[1,{"$f":"9","v":9}]
[1,{"$f":"9","v":9}]
[1,{"$f":"9","v":9}]
[1,{"$f":"9","v":9}]
[1,{"$f":"9","v":9}]
[1,{"$f":"9","v":9}]
[1,{"$f":"9","v":9}]
[1,{"$f":"9","v":9}]
[1,{"$f":"9","v":9}]
[1,{"$f":"9","v":9}]
[1,{"$f":"9","v":9}]
[1,{"$f":"9","v":9}]
[1,{"$f":"9","v":9}]
[1,{"$f":"9","v":9}]
[1,{"$f":"9","v":9}]
[1,{"$f":"9","v":9}]
[1,{"$f":"9","v":9}]
[1,{"$f":"9","v":9}]
[1,{"$f":"9","v":9}]
[1,{"$f":"9","v":9}]
[1,{"$f":"9","v":9}]
[1,{"$f":"9","v":9}]
[1,{"$f":"9","v":9}]
[1,{"$f":"9","v":9}]
[1,{"$f":"9","v":9}]
[1,{"$f":"9","v":9}]
[1,{"$f":"9","v":9}]
[1,{"$f":"9","v":9}]
[1,{"$f":"9","v":9}]
[1,{"$f":"9","v":9}]
[1,{"$f":"9","v":9}]
[1,{"$f":"9","v":9}]
[1,{"$f":"9","v":9}]
[1,{"$f":"9","v":9}]
[1,{"$f":"9","v":9}]
[1,{"$f":"9","v":9}]
[1,{"$f":"9","v":9}]
[1,{"$f":"9","v":9}]
[1,{"$f":"9","v":9}]
[1,{"$f":"9","v":9}]
[1,{"$f":"9","v":9}]
[1,{"$f":"9","v":9}]
[1,{"$f":"9","v":9}]
[1,{"$f":"9","v":9}]
[1,{"$f":"9","v":9}]
[1,{"$f":"9","v":9}]
[1,{"$f":"9","v":9}]
[1,{"$f":"9","v":9}]
[1,{"$f":"9","v":9}]
[1,{"$f":"9","v":9}]
[1,{"$f":"9","v":9}]
[1,{"$f":"9","v":9}]
[1,{"$f":"9","v":9}]
[1,{"$f":"9","v":9}]
[1,{"$f":"9","v":9}]
[1,{"$f":"9","v":9}]
[1,{"$f":"9","v":9}]
[1,{"$f":"9","v":9}]
[1,{"$f":"9","v":9}]
[1,{"$f":"9","v":9}]
[1,{"$f":"9","v":9}]
[1,{"$f":"9","v":9}]
[1,{"$f":"9","v":9}]
[{"$f":"A449+dx","v":1},{"$f":"9","v":9}]
[1,{"$f":"9","v":9}]
[1,{"$f":"9","v":9}]
[1,{"$f":"9","v":9}]
[1,{"$f":"9","v":9}]
[1,{"$f":"9","v":9}]
[1,{"$f":"9","v":9}]
[1,{"$f":"9","v":9}]
[1,{"$f":"9","v":9}]
[1,{"$f":"9","v":9}]
[1,{"$f":"9","v":9}]
[1,{"$f":"9","v":9}]
[1,{"$f":"9","v":9}]
[1,{"$f":"9","v":9}]
[1,{"$f":"9","v":9}]
[1,{"$f":"9","v":9}]
[1,{"$f":"9","v":9}]
[1,{"$f":"9","v":9}]
[1,{"$f":"9","v":9}]
[1,{"$f":"9","v":9}]
[1,{"$f":"9","v":9}]
[1,{"$f":"9","v":9}]
[1,{"$f":"9","v":9}]
[1,{"$f":"9","v":9}]
[1,{"$f":"9","v":9}]
[1,{"$f":"9","v":9}]
[1,{"$f":"9","v":9}]
[1,{"$f":"9","v":9}]
[1,{"$f":"9","v":9}]
[1,{"$f":"9","v":9}]
[1,{"$f":"9","v":9}]
[1,{"$f":"9","v":9}]
[1,{"$f":"9","v":9}]
[1,{"$f":"9","v":9}]
[1,{"$f":"9","v":9}]
[1,{"$f":"9","v":9}]
[1,{"$f":"9","v":9}]
[1,{"$f":"9","v":9}]
[1,{"$f":"9","v":9}]
[1,{"$f":"9","v":9}]
[1,{"$f":"9","v":9}]
[1,{"$f":"9","v":9}]
[1,{"$f":"9","v":9}]
[1,{"$f":"9","v":9}]
[1,{"$f":"9","v":9}]
[1,{"$f":"9","v":9}]
[1,{"$f":"9","v":9}]
[1,{"$f":"9","v":9}]
[1,{"$f":"9","v":9}]
[1,{"$f":"9","v":9}]
[1,{"$f":"9","v":9}]
[1,{"$f":"9","v":9}]
[1,{"$f":"9","v":9}]
[1,{"$f":"9","v":9}]
[1,{"$f":"9","v":9}]
[1,{"$f":"9","v":9}]
[1,{"$f":"9","v":9}]
[1,{"$f":"9","v":9}]
[1,{"$f":"9","v":9}]
[1,{"$f":"9","v":9}]
[1,{"$f":"9","v":9}]
[1,{"$f":"9","v":9}]
[1,{"$f":"9","v":9}]
[1,{"$f":"9","v":9}]
[{"$f":"A513+dx","v":1},{"$f":"9","v":9}]
[1,{"$f":"9","v":9}]
[1,{"$f":"9","v":9}]
[1,{"$f":"9","v":9}]
[1,{"$f":"9","v":9}]
[1,{"$f":"9","v":9}]
[1,{"$f":"9","v":9}]
[1,{"$f":"9","v":9}]
[1,{"$f":"9","v":9}]
[1,{"$f":"9","v":9}]
[1,{"$f":"9","v":9}]
[1,{"$f":"9","v":9}]
[1,{"$f":"9","v":9}]
[1,{"$f":"9","v":9}]
[1,{"$f":"9","v":9}]
[1,{"$f":"9","v":9}]
[1,{"$f":"9","v":9}]
[1,{"$f":"9","v":9}]
[1,{"$f":"9","v":9}]
[1,{"$f":"9","v":9}]
[1,{"$f":"9","v":9}]
[1,{"$f":"9","v":9}]
[1,{"$f":"9","v":9}]
[1,{"$f":"9","v":9}]
[1,{"$f":"9","v":9}]
[1,{"$f":"9","v":9}]
[1,{"$f":"9","v":9}]
[1,{"$f":"9","v":9}]
[1,{"$f":"9","v":9}]
[1,{"$f":"9","v":9}]
[1,{"$f":"9","v":9}]
[1,{"$f":"9","v":9}]
[1,{"$f":"9","v":9}]
[1,{"$f":"9","v":9}]
[1,{"$f":"9","v":9}]
[1,{"$f":"9","v":9}]
[1,{"$f":"9","v":9}]
[1,{"$f":"9","v":9}]
[1,{"$f":"9","v":9}]
[1,{"$f":"9","v":9}]
[1,{"$f":"9","v":9}]
[1,{"$f":"9","v":9}]
[1,{"$f":"9","v":9}]
[1,{"$f":"9","v":9}]
[1,{"$f":"9","v":9}]
[1,{"$f":"9","v":9}]
[1,{"$f":"9","v":9}]
[1,{"$f":"9","v":9}]
[1,{"$f":"9","v":9}]
[1,{"$f":"9","v":9}]
[1,{"$f":"9","v":9}]
[1,{"$f":"9","v":9}]
[1,{"$f":"9","v":9}]
[1,{"$f":"9","v":9}]
[1,{"$f":"9","v":9}]
[1,{"$f":"9","v":9}]
[1,{"$f":"9","v":9}]
[1,{"$f":"9","v":9}]
[1,{"$f":"9","v":9}]
[1,{"$f":"9","v":9}]
[1,{"$f":"9","v":9}]
[1,{"$f":"9","v":9}]
[1,{"$f":"9","v":9}]
[1,{"$f":"9","v":9}]
[{"$f":"A577+dx","v":1},{"$f":"9","v":9}]
[1,{"$f":"9","v":9}]
[1,{"$f":"9","v":9}]
[1,{"$f":"9","v":9}]
[1,{"$f":"9","v":9}]
[1,{"$f":"9","v":9}]
[1,{"$f":"9","v":9}]
[1,{"$f":"9","v":9}]
[1,{"$f":"9","v":9}]
[1,{"$f":"9","v":9}]
[1,{"$f":"9","v":9}]
[1,{"$f":"9","v":9}]
[1,{"$f":"9","v":9}]
[1,{"$f":"9","v":9}]
[1,{"$f":"9","v":9}]
[1,{"$f":"9","v":9}]
[1,{"$f":"9","v":9}]
[1,{"$f":"9","v":9}]
[1,{"$f":"9","v":9}]
[1,{"$f":"9","v":9}]
[1,{"$f":"9","v":9}]
[1,{"$f":"9","v":9}]
[1,{"$f":"9","v":9}]
[1,{"$f":"9","v":9}]
[1,{"$f":"9","v":9}]
[1,{"$f":"9","v":9}]
[1,{"$f":"9","v":9}]
[1,{"$f":"9","v":9}]
[1,{"$f":"9","v":9}]
[1,{"$f":"9","v":9}]
[1,{"$f":"9","v":9}]
[1,{"$f":"9","v":9}]
[1,{"$f":"9","v":9}]
[1,{"$f":"9","v":9}]
[1,{"$f":"9","v":9}]
[1,{"$f":"9","v":9}]
[1,{"$f":"9","v":9}]
[1,{"$f":"9","v":9}]
[1,{"$f":"9","v":9}]
[1,{"$f":"9","v":9}]
[1,{"$f":"9","v":9}]
[1,{"$f":"9","v":9}]
[1,{"$f":"9","v":9}]
[1,{"$f":"9","v":9}]
[1,{"$f":"9","v":9}]
[1,{"$f":"9","v":9}]
[1,{"$f":"9","v":9}]
[1,{"$f":"9","v":9}]
[1,{"$f":"9","v":9}]
[1,{"$f":"9","v":9}]
[1,{"$f":"9","v":9}]
[1,{"$f":"9","v":9}]
[1,{"$f":"9","v":9}]
[1,{"$f":"9","v":9}]
[1,{"$f":"9","v":9}]
[1,{"$f":"9","v":9}]
[1,{"$f":"9","v":9}]
[1,{"$f":"9","v":9}]
[1,{"$f":"9","v":9}]
[1,{"$f":"9","v":9}]
[1,{"$f":"9","v":9}]
[1,{"$f":"9","v":9}]
[1,{"$f":"9","v":9}]
[1,{"$f":"9","v":9}]
[{"$f":"A641+dx","v":1},{"$f":"9","v":9}]
[1,{"$f":"9","v":9}]
[1,{"$f":"9","v":9}]
[1,{"$f":"9","v":9}]
[1,{"$f":"9","v":9}]
[1,{"$f":"9","v":9}]
[1,{"$f":"9","v":9}]
[1,{"$f":"9","v":9}]
[1,{"$f":"9","v":9}]
[1,{"$f":"9","v":9}]
[1,{"$f":"9","v":9}]
[1,{"$f":"9","v":9}]
[1,{"$f":"9","v":9}]
[1,{"$f":"9","v":9}]
[1,{"$f":"9","v":9}]
[1,{"$f":"9","v":9}]
[1,{"$f":"9","v":9}]
[1,{"$f":"9","v":9}]
[1,{"$f":"9","v":9}]
[1,{"$f":"9","v":9}]
[1,{"$f":"9","v":9}]
[1,{"$f":"9","v":9}]
[1,{"$f":"9","v":9}]
[1,{"$f":"9","v":9}]
[1,{"$f":"9","v":9}]
[1,{"$f":"9","v":9}]
[1,{"$f":"9","v":9}]
[1,{"$f":"9","v":9}]
[1,{"$f":"9","v":9}]
[1,{"$f":"9","v":9}]
[1,{"$f":"9","v":9}]
[1,{"$f":"9","v":9}]
[1,{"$f":"9","v":9}]
[1,{"$f":"9","v":9}]
[1,{"$f":"9","v":9}]
[1,{"$f":"9","v":9}]
[1,{"$f":"9","v":9}]
[1,{"$f":"9","v":9}]
[1,{"$f":"9","v":9}]
[1,{"$f":"9","v":9}]
[1,{"$f":"9","v":9}]
[1,{"$f":"9","v":9}]
[1,{"$f":"9","v":9}]
[1,{"$f":"9","v":9}]
[1,{"$f":"9","v":9}]
[1,{"$f":"9","v":9}]
[1,{"$f":"9","v":9}]
[1,{"$f":"9","v":9}]
[1,{"$f":"9","v":9}]
[1,{"$f":"9","v":9}]
[1,{"$f":"9","v":9}]
[1,{"$f":"9","v":9}]
[1,{"$f":"9","v":9}]
[1,{"$f":"9","v":9}]
[1,{"$f":"9","v":9}]
[1,{"$f":"9","v":9}]
[1,{"$f":"9","v":9}]
[1,{"$f":"9","v":9}]
[1,{"$f":"9","v":9}]
[1,{"$f":"9","v":9}]
[1,{"$f":"9","v":9}]
[1,{"$f":"9","v":9}]
[1,{"$f":"9","v":9}]
[1,{"$f":"9","v":9}]
[{"$f":"A705+dx","v":1},{"$f":"9","v":9}]
[1,{"$f":"9","v":9}]
[1,{"$f":"9","v":9}]
[1,{"$f":"9","v":9}]
[1,{"$f":"9","v":9}]
[1,{"$f":"9","v":9}]
[1,{"$f":"9","v":9}]
[1,{"$f":"9","v":9}]
[1,{"$f":"9","v":9}]
[1,{"$f":"9","v":9}]
[1,{"$f":"9","v":9}]
[1,{"$f":"9","v":9}]
[1,{"$f":"9","v":9}]
[1,{"$f":"9","v":9}]
[1,{"$f":"9","v":9}]
[1,{"$f":"9","v":9}]
[1,{"$f":"9","v":9}]
[1,{"$f":"9","v":9}]
[1,{"$f":"9","v":9}]
[1,{"$f":"9","v":9}]
[1,{"$f":"9","v":9}]
[1,{"$f":"9","v":9}]
[1,{"$f":"9","v":9}]
[1,{"$f":"9","v":9}]
[1,{"$f":"9","v":9}]
[1,{"$f":"9","v":9}]
[1,{"$f":"9","v":9}]
[1,{"$f":"9","v":9}]
[1,{"$f":"9","v":9}]
[1,{"$f":"9","v":9}]
[1,{"$f":"9","v":9}]
[1,{"$f":"9","v":9}]
[1,{"$f":"9","v":9}]
[1,{"$f":"9","v":9}]
[1,{"$f":"9","v":9}]
[1,{"$f":"9","v":9}]
[1,{"$f":"9","v":9}]
[1,{"$f":"9","v":9}]
[1,{"$f":"9","v":9}]
[1,{"$f":"9","v":9}]
[1,{"$f":"9","v":9}]
[1,{"$f":"9","v":9}]
[1,{"$f":"9","v":9}]
[1,{"$f":"9","v":9}]
[1,{"$f":"9","v":9}]
[1,{"$f":"9","v":9}]
[1,{"$f":"9","v":9}]
[1,{"$f":"9","v":9}]
[1,{"$f":"9","v":9}]
[1,{"$f":"9","v":9}]
[1,{"$f":"9","v":9}]
[1,{"$f":"9","v":9}]
[1,{"$f":"9","v":9}]
[1,{"$f":"9","v":9}]
[1,{"$f":"9","v":9}]
[1,{"$f":"9","v":9}]
[1,{"$f":"9","v":9}]
[1,{"$f":"9","v":9}]
[1,{"$f":"9","v":9}]
[1,{"$f":"9","v":9}]
[1,{"$f":"9","v":9}]
[1,{"$f":"9","v":9}]
[1,{"$f":"9","v":9}]
[1,{"$f":"9","v":9}]
[{"$f":"A769+dx","v":1},{"$f":"9","v":9}]
[1,{"$f":"9","v":9}]
[1,{"$f":"9","v":9}]
[1,{"$f":"9","v":9}]
[1,{"$f":"9","v":9}]
[1,{"$f":"9","v":9}]
[1,{"$f":"9","v":9}]
[1,{"$f":"9","v":9}]
[1,{"$f":"9","v":9}]
[1,{"$f":"9","v":9}]
[1,{"$f":"9","v":9}]
[1,{"$f":"9","v":9}]
[1,{"$f":"9","v":9}]
[1,{"$f":"9","v":9}]
[1,{"$f":"9","v":9}]
[1,{"$f":"9","v":9}]
[1,{"$f":"9","v":9}]
[1,{"$f":"9","v":9}]
[1,{"$f":"9","v":9}]
[1,{"$f":"9","v":9}]
[1,{"$f":"9","v":9}]
[1,{"$f":"9","v":9}]
[1,{"$f":"9","v":9}]
[1,{"$f":"9","v":9}]
[1,{"$f":"9","v":9}]
[1,{"$f":"9","v":9}]
[1,{"$f":"9","v":9}]
[1,{"$f":"9","v":9}]
[1,{"$f":"9","v":9}]
[1,{"$f":"9","v":9}]
[1,{"$f":"9","v":9}]
[1,{"$f":"9","v":9}]
[1,{"$f":"9","v":9}]
[1,{"$f":"9","v":9}]
[1,{"$f":"9","v":9}]
[1,{"$f":"9","v":9}]
[1,{"$f":"9","v":9}]
[1,{"$f":"9","v":9}]
[1,{"$f":"9","v":9}]
[1,{"$f":"9","v":9}]
[1,{"$f":"9","v":9}]
[1,{"$f":"9","v":9}]
[1,{"$f":"9","v":9}]
[1,{"$f":"9","v":9}]
[1,{"$f":"9","v":9}]
[1,{"$f":"9","v":9}]
[1,{"$f":"9","v":9}]
[1,{"$f":"9","v":9}]
[1,{"$f":"9","v":9}]
[1,{"$f":"9","v":9}]
[1,{"$f":"9","v":9}]
[1,{"$f":"9","v":9}]
[1,{"$f":"9","v":9}]
[1,{"$f":"9","v":9}]
[1,{"$f":"9","v":9}]
[1,{"$f":"9","v":9}]
[1,{"$f":"9","v":9}]
[1,{"$f":"9","v":9}]
[1,{"$f":"9","v":9}]
[1,{"$f":"9","v":9}]
[1,{"$f":"9","v":9}]
[1,{"$f":"9","v":9}]
[1,{"$f":"9","v":9}]
[1,{"$f":"9","v":9}]
[{"$f":"A833+dx","v":1},{"$f":"9","v":9}]
[1,{"$f":"9","v":9}]
[1,{"$f":"9","v":9}]
[1,{"$f":"9","v":9}]
[1,{"$f":"9","v":9}]
[1,{"$f":"9","v":9}]
[1,{"$f":"9","v":9}]
[1,{"$f":"9","v":9}]
[1,{"$f":"9","v":9}]
[1,{"$f":"9","v":9}]
[1,{"$f":"9","v":9}]
[1,{"$f":"9","v":9}]
[1,{"$f":"9","v":9}]
[1,{"$f":"9","v":9}]
[1,{"$f":"9","v":9}]
[1,{"$f":"9","v":9}]
[1,{"$f":"9","v":9}]
[1,{"$f":"9","v":9}]
[1,{"$f":"9","v":9}]
[1,{"$f":"9","v":9}]
[1,{"$f":"9","v":9}]
[1,{"$f":"9","v":9}]
[1,{"$f":"9","v":9}]
[1,{"$f":"9","v":9}]
[1,{"$f":"9","v":9}]
[1,{"$f":"9","v":9}]
[1,{"$f":"9","v":9}]
[1,{"$f":"9","v":9}]
[1,{"$f":"9","v":9}]
[1,{"$f":"9","v":9}]
[1,{"$f":"9","v":9}]
[1,{"$f":"9","v":9}]
[1,{"$f":"9","v":9}]
[1,{"$f":"9","v":9}]
[1,{"$f":"9","v":9}]
[1,{"$f":"9","v":9}]
[1,{"$f":"9","v":9}]
[1,{"$f":"9","v":9}]
[1,{"$f":"9","v":9}]
[1,{"$f":"9","v":9}]
[1,{"$f":"9","v":9}]
[1,{"$f":"9","v":9}]
[1,{"$f":"9","v":9}]
[1,{"$f":"9","v":9}]
[1,{"$f":"9","v":9}]
[1,{"$f":"9","v":9}]
[1,{"$f":"9","v":9}]
[1,{"$f":"9","v":9}]
[1,{"$f":"9","v":9}]
[1,{"$f":"9","v":9}]
[1,{"$f":"9","v":9}]
[1,{"$f":"9","v":9}]
[1,{"$f":"9","v":9}]
[1,{"$f":"9","v":9}]
[1,{"$f":"9","v":9}]
[1,{"$f":"9","v":9}]
[1,{"$f":"9","v":9}]
[1,{"$f":"9","v":9}]
[1,{"$f":"9","v":9}]
[1,{"$f":"9","v":9}]
[1,{"$f":"9","v":9}]
[1,{"$f":"9","v":9}]
[1,{"$f":"9","v":9}]
[1,{"$f":"9","v":9}]
[{"$f":"A897+dx","v":1},{"$f":"9","v":9}]
[1,{"$f":"9","v":9}]
[1,{"$f":"9","v":9}]
[1,{"$f":"9","v":9}]
[1,{"$f":"9","v":9}]
[1,{"$f":"9","v":9}]
[1,{"$f":"9","v":9}]
[1,{"$f":"9","v":9}]
[1,{"$f":"9","v":9}]
[1,{"$f":"9","v":9}]
[1,{"$f":"9","v":9}]
[1,{"$f":"9","v":9}]
[1,{"$f":"9","v":9}]
[1,{"$f":"9","v":9}]
[1,{"$f":"9","v":9}]
[1,{"$f":"9","v":9}]
[1,{"$f":"9","v":9}]
[1,{"$f":"9","v":9}]
[1,{"$f":"9","v":9}]
[1,{"$f":"9","v":9}]
[1,{"$f":"9","v":9}]
[1,{"$f":"9","v":9}]
[1,{"$f":"9","v":9}]
[1,{"$f":"9","v":9}]
[1,{"$f":"9","v":9}]
[1,{"$f":"9","v":9}]
[1,{"$f":"9","v":9}]
[1,{"$f":"9","v":9}]
[1,{"$f":"9","v":9}]
[1,{"$f":"9","v":9}]
[1,{"$f":"9","v":9}]
[1,{"$f":"9","v":9}]
[1,{"$f":"9","v":9}]
[1,{"$f":"9","v":9}]
[1,{"$f":"9","v":9}]
[1,{"$f":"9","v":9}]
[1,{"$f":"9","v":9}]
[1,{"$f":"9","v":9}]
[1,{"$f":"9","v":9}]
[1,{"$f":"9","v":9}]
[1,{"$f":"9","v":9}]
[1,{"$f":"9","v":9}]
[1,{"$f":"9","v":9}]
[1,{"$f":"9","v":9}]
[1,{"$f":"9","v":9}]
[1,{"$f":"9","v":9}]
[1,{"$f":"9","v":9}]
[1,{"$f":"9","v":9}]
[1,{"$f":"9","v":9}]
[1,{"$f":"9","v":9}]
[1,{"$f":"9","v":9}]
[1,{"$f":"9","v":9}]
[1,{"$f":"9","v":9}]
[1,{"$f":"9","v":9}]
[1,{"$f":"9","v":9}]
[1,{"$f":"9","v":9}]
[1,{"$f":"9","v":9}]
[1,{"$f":"9","v":9}]
[1,{"$f":"9","v":9}]
[1,{"$f":"9","v":9}]
[1,{"$f":"9","v":9}]
[1,{"$f":"9","v":9}]
[1,{"$f":"9","v":9}]
[1,{"$f":"9","v":9}]
[{"$f":"A961+dx","v":1},{"$f":"9","v":9}]
[1,{"$f":"9","v":9}]
[1,{"$f":"9","v":9}]
[1,{"$f":"9","v":9}]
[1,{"$f":"9","v":9}]
[1,{"$f":"9","v":9}]
[1,{"$f":"9","v":9}]
[1,{"$f":"9","v":9}]
[1,{"$f":"9","v":9}]
[1,{"$f":"9","v":9}]
[1,{"$f":"9","v":9}]
[1,{"$f":"9","v":9}]
[1,{"$f":"9","v":9}]
[1,{"$f":"9","v":9}]
[1,{"$f":"9","v":9}]
[1,{"$f":"9","v":9}]
[1,{"$f":"9","v":9}]
[1,{"$f":"9","v":9}]
[1,{"$f":"9","v":9}]
[1,{"$f":"9","v":9}]
[1,{"$f":"9","v":9}]
[1,{"$f":"9","v":9}]
[1,{"$f":"9","v":9}]
[1,{"$f":"9","v":9}]
[1,{"$f":"9","v":9}]
[1,{"$f":"9","v":9}]
[1,{"$f":"9","v":9}]
[1,{"$f":"9","v":9}]
[1,{"$f":"9","v":9}]
[1,{"$f":"9","v":9}]
[1,{"$f":"9","v":9}]
[1,{"$f":"9","v":9}]
[1,{"$f":"9","v":9}]
[1,{"$f":"9","v":9}]
[1,{"$f":"9","v":9}]
[1,{"$f":"9","v":9}]
[1,{"$f":"9","v":9}]
[1,{"$f":"9","v":9}]
[1,{"$f":"9","v":9}]
[1,{"$f":"9","v":9}]
[1,{"$f":"9","v":9}]
[null,{"$f":"9","v":9}]

{"sheet":"Defining Function","index":3,"n_rows":12,"n_cols":1,"rows_kept":12}
["                                                     Defining a Function in Excel"]
[]
["Computers have very specific rules you must follow when defining a function.  If you don't, the program will either not work at all or will work incorrectly."]
[]
["1. The Variable used should be the one named in the instruction, usually x, though sometimes y, t, Q (for an angle theta), "]
[" or even x and y (for a function of two variables). "]
[]
["2.  Order of Operations:  There five arithmetic operations, addition (+), subtraction (-), multiplication (*), division (/), and  exponentiation or power (^).  When computers see any of these operation symbols, they perform the indicated steps in a very particular order.  First, the power is done.  Second, products and quotients of adjacent terms is done.  Third, and last, sums and differences of adjacent terms are done.  So, in 10*x^3 + 5*x – 7, say with x = 2, the first pass only calculates 2^3 and ignores the multiplications and the sums and differences to calculate 2^3 = 8.  The second pass looks at 10*8 + 5*2 – 7 and only does the multiplications, so it produces 80 + 10 -  7.  The third pass looks at the +’s and –‘s to produce 80 + 10 – 7 = 83.  "]
[]
["3.    Parentheses  If you need an operation involving more than two adjacent terms, as in Ö4^3 + 6^2, the computer would take the square root of  4 to produce 2^3 + 6^2;  it would then cube the 2 and square the 6 to produce 8 + 36; and finally it would add the 8 and the 36 to get 44.  If you actually wanted the square root of the entire expression, you would need to use parentheses, as in Ö(4^3 + 6^2) to tell the computer to do all the operations inside the parentheses before taking the square root.  Therefore, it would calculate (4^3 + 6^2) = 64 + 36 = 100 and then take the square root of Ö100  =  10."]
[]
["4.  Built-In Functions  Computer programs have built-in functions for most common algebraic functions.  In Excel, the square root function is denoted by SQRT(…), so SQRT(100) = 10.  Alternatively, you could enter it as 100^.5 or 100^(1/2); notice that parentheses are needed to have the ½ done first.  The common trig functions are SIN (…), COS (…), and TAN (…), where the arguments are automatically interpreted as being in radians, not degrees.  The logarithm to the base 10 is represented by LOG (…) and the logarithm with the base e, known as the natural logarithm, is LN (…). The corresponding exponential function with base e is EXP (x).  If x is the variable, then each of these would be SQRT (x), SIN (x), COS (x), TAN (x), LOG (x) (for log with base 10 ), LN (x) (for log with base e ), and EXP (x)."]

{"sheet":"Sheet4","index":4,"n_rows":0,"n_cols":0,"rows_kept":0}