{"text_format":"3","workbook":"xlsx","n_sheets":4,"sheets":["Sheet1","Sheet2","Defining Function","Sheet3"],"not_rendered":{"charts":1,"images":1,"macros":1,"defined_names":3,"comments":1},"read":"whole","date_system":"1900"}

{"sheet":"Sheet1","index":0,"n_rows":36,"n_cols":17,"rows_kept":36,"merged":[[29,2,29,3]]}
["       The Tangent Parabola to a Curve"]
[]
[null,"  This graphing utility lets you investigate "]
[null," the parabola that is tangent to the curve"]
[null,null,"  of any desired function"]
[{"$nulls":3},"y = f(x)"]
[null,"   on any interval from x = a  to x = b."]
[]
["  Enter the function in terms of x:     f(x)  =",{"$nulls":4},"x^4-5*x^2+4*x+3"]
[]
[]
["Now enter the interval for x:  "]
[null,null,"xMin =",-3]
[null,null,"xMax =",2]
[]
[]
[]
[]
[{"$nulls":12},"The graph of the function y =",null,null,{"$f":"F9","v":"x^4-5*x^2+4*x+3"}]
[]
["Click each item below for suggestions and investigations"]
[null,"   Item 1",{"$nulls":10},"   Select the point of tangency x0 =",{"$nulls":3},{"$f":"P24","v":-0.2999999999999998}]
[null," Item 2"]
[null,"   Item 3",{"$nulls":12},54,{"$f":"D13+O24*(D14-D13)/100","v":-0.2999999999999998}]
[null,"   Item 4"]
[]
[{"$nulls":12},"The equation of the tangent parabola is"]
[{"$nulls":11},"  y =  ",{"$f":"Sheet2!K1","v":"1.3395 + 6.8938[x - (-.3)] + -8.9364[x - (-.3)]^2/2"}]
["To access/download all the DIGMath Apps for Calculus"]
["     Click this link:",null,"DIGMath for Calculus"]
[]
["Created by:  Sheldon P. Gordon   "]
["                      Farmingdale State College    "]
["Development of this module was supported by the "]
["NSF's Division of Undergraduate Education  "]
["under grants DUE-0310123 and DUE-0442160."]

{"sheet":"Sheet2","index":1,"n_rows":1004,"n_cols":11,"rows_kept":1004}
["x","f(x)","slope","f \"","parabola","xl=",{"$f":"IF(Sheet1!$P$24<Sheet1!D13+80*Sheet2!G5,Sheet1!D13,Sheet1!P24-80*Sheet2!G5)","v":-0.6996003996003994},{"$f":"LOOKUP(Sheet1!P24,Sheet2!A3:A1002,Sheet2!B3:B1002)+LOOKUP(Sheet1!P24,Sheet2!A3:A1002,Sheet2!C3:C1002)*(G1-Sheet1!P24)","v":-1.4152773135923966},"\"=yl",null,{"$f":"TEXT(G10,\"###.####\")&\" + \" &TEXT(G11,\"###.####\") &\"[x - (\" & TEXT(G9,\"###.####\") & \")] + \" &TEXT(G12,\"###.####\") &\"[x - (\" & TEXT(G9,\"###.####\") & \")]^2/2\"","v":"1.3395 + 6.8938[x - (-.3)] + -8.9364[x - (-.3)]^2/2"}]
[{"$nulls":5},"xr=",{"$f":"IF(Sheet1!$P$24>Sheet1!D14-80*Sheet2!G5,Sheet1!D14,Sheet1!P24+80*Sheet2!G5)","v":0.09960039960039979},{"$f":"LOOKUP(Sheet1!P24,Sheet2!A3:A1003,Sheet2!B3:B1003)+LOOKUP(Sheet1!P24,Sheet2!A3:A1003,Sheet2!C3:C1003)*(G2-Sheet1!P24)","v":4.094232843474936},"\"=yR"]
[{"$f":"Sheet1!D13","v":{"v":-3,"d":"-3.00"}},{"$f":"x^4-5*x^2+4*x+3","v":27},{"$f":"(B4-B3)/Sheet2!$G$5","v":-73.75554403151808},{"$f":"(C4-C3)/G$5","v":97.64070894213143},{"$f":"G$10+G$11*(A3-G$9)+G$12*(A3-G$9)^2/2","v":-49.847001702430376},{"$nulls":4},{"$f":"G9","v":-0.2999999999999998},{"$f":"G10","v":1.3394777649412695}]
[{"$f":"A3+Sheet2!G$5","v":{"v":-2.995004995004995,"d":"-3.00"}},26.631590689153256,{"$f":"(B5-B4)/Sheet2!$G$5","v":-73.26782820263631},{"$f":"(B5-2*B4+B3)/G$5^2","v":97.64070894213214},{"$f":"G$10+G$11*(A4-G$9)+G$12*(A4-G$9)^2/2","v":-49.692157459794075},{"$nulls":4},{"$f":"IF(AND(E4>G$7,E4<G$8),A4,Sheet1!$Q$22)","v":-0.2999999999999998},{"$f":"IF(AND(E4>G$7,E4<G$8),E4,G$10)","v":1.3394777649412695}]
[{"$f":"A4+Sheet2!G$5","v":{"v":-2.99000999000999,"d":"-2.99"}},26.26561752130792,{"$f":"(B6-B5)/Sheet2!$G$5","v":-72.78190429263037},{"$f":"(B6-2*B5+B4)/G$5^2","v":97.28196678318687},-49.537536181760665,"delta x = ",{"$f":"(Sheet1!D14-Sheet1!D13)/1001","v":4.995004995004995E-3},null,null,{"$f":"IF(AND(E5>G$7,E5<G$8),A5,Sheet1!$Q$22)","v":-0.2999999999999998},1.3394777649412695]
[{"$f":"A5+Sheet2!G$5","v":{"v":-2.985014985014985,"d":"-2.99"}},25.902071545820256,{"$f":"(B7-B6)/Sheet2!$G$5","v":-72.29776931046119},96.92382343026983,-49.38313786833017,{"$nulls":4},{"$f":"IF(AND(E6>G$7,E6<G$8),A6,Sheet1!$Q$22)","v":-0.2999999999999998},1.3394777649412695]
[{"$f":"A6+Sheet2!G$5","v":{"v":-2.9800199800199803,"d":"-2.98"}},25.540943826986783,{"$f":"(B8-B7)/Sheet2!$G$5","v":-71.81542026512523},96.5662788762614,-49.22896251950258,"fMin  =",{"$f":"MIN(B3:B1003)","v":-9.933650926616437},null,null,{"$f":"IF(AND(E7>G$7,E7<G$8),A7,Sheet1!$Q$22)","v":-0.2999999999999998},1.3394777649412695]
[{"$f":"A7+Sheet2!G$5","v":{"v":-2.9750249750249753,"d":"-2.98"}},25.1822254440441,{"$f":"(B9-B8)/Sheet2!$G$5","v":-71.33485416560612},96.20933312372463,-49.07501013527791,"fMax =",{"$f":"MAX(B3:B1003)","v":27},null,null,{"$f":"IF(AND(E8>G$7,E8<G$8),A8,Sheet1!$Q$22)","v":-0.2999999999999998},1.3394777649412695]
[{"$f":"A8+Sheet2!G$5","v":{"v":-2.9700299700299704,"d":"-2.97"}},24.825907491168945,{"$f":"(B10-B9)/Sheet2!$G$5","v":-70.85606802087331},95.85298617550738,-48.92128071565613,"x0 =",{"$f":"Sheet1!$Q$22","v":-0.2999999999999998},"x1=",{"$f":"G9+G5","v":-0.29500499500499483},{"$f":"IF(AND(E9>G$7,E9<G$8),A9,Sheet1!$Q$22)","v":-0.2999999999999998},1.3394777649412695]
[{"$f":"A9+Sheet2!G$5","v":{"v":-2.9650349650349654,"d":"-2.97"}},24.47198107747827,{"$f":"(B11-B10)/Sheet2!$G$5","v":-70.3790588399247},95.49723802591393,-48.76777426063727,"f(x0) =",{"$f":"LOOKUP(Sheet1!$Q$22,A3:A1002,B3:B1002)","v":1.3394777649412695},"x2=",{"$f":"I9+G5","v":-0.29000999000998984},{"$f":"IF(AND(E10>G$7,E10<G$8),A10,Sheet1!$Q$22)","v":-0.2999999999999998},1.3394777649412695]
[{"$f":"A10+Sheet2!G$5","v":{"v":-2.9600399600399605,"d":"-2.96"}},24.120437327029094,{"$f":"(B12-B11)/Sheet2!$G$5","v":-69.90382363173254},95.14208868007044,-48.61449077022132,"f '(x0) =",{"$f":"LOOKUP(Sheet1!$Q$22,A3:A1002,C3:C1002)","v":6.893774584030499},null,null,{"$f":"IF(AND(E11>G$7,E11<G$8),A11,Sheet1!$Q$22)","v":-0.2999999999999998},1.3394777649412695]
[{"$f":"A11+Sheet2!G$5","v":{"v":-2.9550449550449556,"d":"-2.96"}},23.771267378818642,{"$f":"(B13-B12)/Sheet2!$G$5","v":-69.4303594052748},94.78753813683775,-48.46143024440828,"f \"(x0) =",{"$f":"H16","v":-8.936430203152069},null,null,{"$f":"IF(AND(E12>G$7,E12<G$8),A12,Sheet1!$Q$22)","v":-0.2999999999999998},1.3394777649412695]
[{"$f":"A12+Sheet2!G$5","v":{"v":-2.9500499500499506,"d":"-2.95"}},23.424462386784302,{"$f":"(B14-B13)/Sheet2!$G$5","v":-68.95866316954228},94.4335863936528,-48.30859268319814,{"$nulls":4},{"$f":"IF(AND(E13>G$7,E13<G$8),A13,Sheet1!$Q$22)","v":-0.2999999999999998},1.3394777649412695]
[{"$f":"A13+Sheet2!G$5","v":{"v":-2.9450549450549457,"d":"-2.95"}},23.080013519803572,{"$f":"(B15-B14)/Sheet2!$G$5","v":-68.48873193351291},94.08023345307866,-48.155978086590906,{"$nulls":4},{"$f":"IF(AND(E14>G$7,E14<G$8),A14,Sheet1!$Q$22)","v":-0.2999999999999998},1.3394777649412695]
[{"$f":"A14+Sheet2!G$5","v":{"v":-2.9400599400599408,"d":"-2.94"}},22.737911961694117,{"$f":"(B16-B15)/Sheet2!$G$5","v":-68.02056270617179},93.7274793136914,-48.00358645458659,null,{"$f":"LOOKUP(Sheet2!$I10,A3:A1002,B3:B1002)","v":1.4081236773017027},{"$f":"SUM(G15:G17)","v":-2.2296460290838205E-4},null,{"$f":"IF(AND(E15>G$7,E15<G$8),A15,Sheet1!$Q$22)","v":-0.2999999999999998},1.3394777649412695]
[{"$f":"A15+Sheet2!G$5","v":{"v":-2.935064935064936,"d":"-2.94"}},22.398148911213738,{"$f":"(B17-B16)/Sheet2!$G$5","v":-67.55415249649832},93.37532397663016,-47.851417787185184,null,{"$f":"-2*(LOOKUP(Sheet2!$I9,A3:A1002,B3:B1002))","v":-2.7478244068458806},{"$f":"H15/G5^2","v":-8.936430203152069},null,{"$f":"IF(AND(E16>G$7,E16<G$8),A16,Sheet1!$Q$22)","v":-0.2999999999999998},1.3394777649412695]
[{"$f":"A16+Sheet2!G$5","v":{"v":-2.930069930069931,"d":"-2.93"}},22.0607155820604,{"$f":"(B18-B17)/Sheet2!$G$5","v":-67.08949831347613},93.02376744104058,-47.69947208438667,null,{"$f":"(LOOKUP(Sheet1!$Q$22,A3:A1002,B3:B1002))","v":1.3394777649412695},null,null,{"$f":"IF(AND(E17>G$7,E17<G$8),A17,Sheet1!$Q$22)","v":-0.2999999999999998},1.3394777649412695]
[{"$f":"A17+Sheet2!G$5","v":{"v":-2.925074925074926,"d":"-2.93"}},21.725603202872207,{"$f":"(B19-B18)/Sheet2!$G$5","v":-66.62659716608037},92.67280970863138,-47.54774934619108,{"$nulls":4},{"$f":"IF(AND(E18>G$7,E18<G$8),A18,Sheet1!$Q$22)","v":-0.2999999999999998},1.3394777649412695]
[{"$f":"A18+Sheet2!G$5","v":{"v":-2.920079920079921,"d":"-2.92"}},21.39280301722745,{"$f":"(B20-B19)/Sheet2!$G$5","v":-66.1654460633075},92.32245077513078,-47.39624957259839,{"$nulls":4},{"$f":"IF(AND(E19>G$7,E19<G$8),A19,Sheet1!$Q$22)","v":-0.2999999999999998},1.3394777649412695]
[{"$f":"A19+Sheet2!G$5","v":{"v":-2.915084915084916,"d":"-2.92"}},21.062306283644496,{"$f":"(B21-B20)/Sheet2!$G$5","v":-65.70604201412408},91.97269064651925,-47.244972763608615,{"$nulls":4},{"$f":"IF(AND(E20>G$7,E20<G$8),A20,Sheet1!$Q$22)","v":-0.2999999999999998},1.3394777649412695]
[{"$f":"A20+Sheet2!G$5","v":{"v":-2.910089910089911,"d":"-2.91"}},20.734104275581938,{"$f":"(B22-B21)/Sheet2!$G$5","v":-65.24838202752517},91.62352931710113,-47.09391891922175,{"$nulls":4},{"$f":"IF(AND(E21>G$7,E21<G$8),A21,Sheet1!$Q$22)","v":-0.2999999999999998},1.3394777649412695]
[{"$f":"A21+Sheet2!G$5","v":{"v":-2.905094905094906,"d":"-2.91"}},20.408188281438456,{"$f":"(B23-B22)/Sheet2!$G$5","v":-64.7924631124802},91.27496679200252,-46.94308803943778,{"$nulls":4},{"$f":"IF(AND(E22>G$7,E22<G$8),A22,Sheet1!$Q$22)","v":-0.2999999999999998},1.3394777649412695]
[{"$f":"A22+Sheet2!G$5","v":{"v":-2.9000999000999013,"d":"-2.90"}},20.08454960455294,{"$f":"(B24-B23)/Sheet2!$G$5","v":-64.33828227797994},90.92700306695163,-46.792480124256734,{"$nulls":4},{"$f":"IF(AND(E23>G$7,E23<G$8),A23,Sheet1!$Q$22)","v":-0.2999999999999998},1.3394777649412695]
[{"$f":"A23+Sheet2!G$5","v":{"v":-2.8951048951048963,"d":"-2.90"}},19.76317956320439,{"$f":"(B25-B24)/Sheet2!$G$5","v":-63.88583653300663},90.5796381436572,-46.6420951736786,{"$nulls":4},{"$f":"IF(AND(E24>G$7,E24<G$8),A24,Sheet1!$Q$22)","v":-0.2999999999999998},1.3394777649412695]
[{"$f":"A24+Sheet2!G$5","v":{"v":-2.8901098901098914,"d":"-2.89"}},19.44406949061195,{"$f":"(B26-B25)/Sheet2!$G$5","v":-63.435122886531126},90.23287202439752,-46.49193318770335,{"$nulls":4},{"$f":"IF(AND(E25>G$7,E25<G$8),A25,Sheet1!$Q$22)","v":-0.2999999999999998},1.3394777649412695]
[{"$f":"A25+Sheet2!G$5","v":{"v":-2.8851148851148865,"d":"-2.89"}},19.12721073493497,{"$f":"(B27-B26)/Sheet2!$G$5","v":-62.98613834755556},89.88670470290728,-46.341994166331034,{"$nulls":4},{"$f":"IF(AND(E26>G$7,E26<G$8),A26,Sheet1!$Q$22)","v":-0.2999999999999998},1.3394777649412695]
[{"$f":"A26+Sheet2!G$5","v":{"v":-2.8801198801198815,"d":"-2.88"}},18.812594659272854,{"$f":"(B28-B27)/Sheet2!$G$5","v":-62.538879925045116},89.54113618659092,-46.192278109561606,{"$nulls":4},{"$f":"IF(AND(E27>G$7,E27<G$8),A27,Sheet1!$Q$22)","v":-0.2999999999999998},1.3394777649412695]
[{"$f":"A27+Sheet2!G$5","v":{"v":-2.8751248751248766,"d":"-2.88"}},18.500212641665236,{"$f":"(B29-B28)/Sheet2!$G$5","v":-62.09334462798914},89.19616647060708,-46.0427850173951,{"$nulls":4},{"$f":"IF(AND(E28>G$7,E28<G$8),A28,Sheet1!$Q$22)","v":-0.2999999999999998},1.3394777649412695]
[{"$f":"A28+Sheet2!G$5","v":{"v":-2.8701298701298716,"d":"-2.87"}},18.190056075091864,{"$f":"(B30-B29)/Sheet2!$G$5","v":-61.64952946536844},88.85179555666447,-45.89351488983149,{"$nulls":4},{"$f":"IF(AND(E29>G$7,E29<G$8),A29,Sheet1!$Q$22)","v":-0.2999999999999998},1.3394777649412695]
[{"$f":"A29+Sheet2!G$5","v":{"v":-2.8651348651348667,"d":"-2.87"}},17.88211636747264,{"$f":"(B31-B30)/Sheet2!$G$5","v":-61.20743144615671},88.50802344618704,-45.7444677268708,{"$nulls":4},{"$f":"IF(AND(E30>G$7,E30<G$8),A30,Sheet1!$Q$22)","v":-0.2999999999999998},1.3394777649412695]
[{"$f":"A30+Sheet2!G$5","v":{"v":-2.8601398601398618,"d":"-2.86"}},17.576384941667662,{"$f":"(B32-B31)/Sheet2!$G$5","v":-60.767047579353275},88.16485013404862,-45.595643528513015,{"$nulls":4},{"$f":"IF(AND(E31>G$7,E31<G$8),A31,Sheet1!$Q$22)","v":-0.2999999999999998},1.3394777649412695]
[{"$f":"A31+Sheet2!G$5","v":{"v":-2.855144855144857,"d":"-2.86"}},17.272853235477086,{"$f":"(B33-B32)/Sheet2!$G$5","v":-60.32837487392186},87.82227562736887,-45.44704229475814,{"$nulls":4},{"$f":"IF(AND(E32>G$7,E32<G$8),A32,Sheet1!$Q$22)","v":-0.2999999999999998},1.3394777649412695]
[{"$f":"A32+Sheet2!G$5","v":{"v":-2.850149850149852,"d":"-2.85"}},16.971512701641313,{"$f":"(B34-B33)/Sheet2!$G$5","v":-59.8914103388632},87.48029991874334,-45.29866402560617,{"$nulls":4},{"$f":"IF(AND(E33>G$7,E33<G$8),A33,Sheet1!$Q$22)","v":-0.2999999999999998},1.3394777649412695]
[{"$f":"A33+Sheet2!G$5","v":{"v":-2.845154845154847,"d":"-2.85"}},16.672354807840797,{"$f":"(B35-B34)/Sheet2!$G$5","v":-59.45615098314104},87.1389230155765,-45.15050872105711,{"$nulls":4},{"$f":"IF(AND(E34>G$7,E34<G$8),A34,Sheet1!$Q$22)","v":-0.2999999999999998},1.3394777649412695]
[{"$f":"A34+Sheet2!G$5","v":{"v":-2.840159840159842,"d":"-2.84"}},16.375371036696237,{"$f":"(B36-B35)/Sheet2!$G$5","v":-59.022593815749},86.7981449118878,-45.002576381110956,{"$nulls":4},{"$f":"IF(AND(E35>G$7,E35<G$8),A35,Sheet1!$Q$22)","v":-0.2999999999999998},1.3394777649412695]
[{"$f":"A35+Sheet2!G$5","v":{"v":-2.835164835164837,"d":"-2.84"}},16.08055288576842,{"$f":"(B37-B36)/Sheet2!$G$5","v":-58.59073584566219},86.45796561137949,-44.854867005767716,{"$nulls":4},{"$f":"IF(AND(E36>G$7,E36<G$8),A36,Sheet1!$Q$22)","v":-0.2999999999999998},1.3394777649412695]
[{"$f":"A36+Sheet2!G$5","v":{"v":-2.830169830169832,"d":"-2.83"}},15.787891867558319,{"$f":"(B38-B37)/Sheet2!$G$5","v":-58.160574081870315},86.11838511120371,-44.707380595027374,{"$nulls":4},{"$f":"IF(AND(E37>G$7,E37<G$8),A37,Sheet1!$Q$22)","v":-0.2999999999999998},1.3394777649412695]
[{"$f":"A37+Sheet2!G$5","v":{"v":-2.825174825174827,"d":"-2.83"}},15.497379509507018,{"$f":"(B39-B38)/Sheet2!$G$5","v":-57.73210553335135},85.77940341349633,-44.56011714888995,{"$nulls":4},{"$f":"IF(AND(E38>G$7,E38<G$8),A38,Sheet1!$Q$22)","v":-0.2999999999999998},1.3394777649412695]
[{"$f":"A38+Sheet2!G$5","v":{"v":-2.8201798201798223,"d":"-2.82"}},15.209007353995773,{"$f":"(B40-B39)/Sheet2!$G$5","v":-57.30532720908504},85.44102051811498,-44.41307666735543,{"$nulls":4},{"$f":"IF(AND(E39>G$7,E39<G$8),A39,Sheet1!$Q$22)","v":-0.2999999999999998},1.3394777649412695]
[{"$f":"A39+Sheet2!G$5","v":{"v":-2.8151848151848173,"d":"-2.82"}},14.922766958345997,{"$f":"(B41-B40)/Sheet2!$G$5","v":-56.880236118055045},85.10323642420529,-44.26625915042382,{"$nulls":4},{"$f":"IF(AND(E40>G$7,E40<G$8),A40,Sheet1!$Q$22)","v":-0.2999999999999998},1.3394777649412695]
[{"$f":"A40+Sheet2!G$5","v":{"v":-2.8101898101898124,"d":"-2.81"}},14.638649894819249,{"$f":"(B42-B41)/Sheet2!$G$5","v":-56.45682926924786},84.7660511311977,-44.11966459809512,{"$nulls":4},{"$f":"IF(AND(E41>G$7,E41<G$8),A41,Sheet1!$Q$22)","v":-0.2999999999999998},1.3394777649412695]
[{"$f":"A41+Sheet2!G$5","v":{"v":-2.8051948051948075,"d":"-2.81"}},14.356647750617212,{"$f":"(B43-B42)/Sheet2!$G$5","v":-56.035103671640044},84.4294646410857,-43.973293010369325,{"$nulls":4},{"$f":"IF(AND(E42>G$7,E42<G$8),A42,Sheet1!$Q$22)","v":-0.2999999999999998},1.3394777649412695]
[{"$f":"A42+Sheet2!G$5","v":{"v":-2.8001998001998025,"d":"-2.80"}},14.076752127881747,{"$f":"(B44-B43)/Sheet2!$G$5","v":-55.6150563342124},84.09347695301493,-43.82714438724644,{"$nulls":4},{"$f":"IF(AND(E43>G$7,E43<G$8),A43,Sheet1!$Q$22)","v":-0.2999999999999998},1.3394777649412695]
[{"$f":"A43+Sheet2!G$5","v":{"v":-2.7952047952047976,"d":"-2.80"}},13.798954643694872,{"$f":"(B45-B44)/Sheet2!$G$5","v":-55.19668426595285},83.75808806556147,-43.68121872872646,{"$nulls":4},{"$f":"IF(AND(E44>G$7,E44<G$8),A44,Sheet1!$Q$22)","v":-0.2999999999999998},1.3394777649412695]
[{"$f":"A44+Sheet2!G$5","v":{"v":-2.7902097902097927,"d":"-2.79"}},13.523246930078724,{"$f":"(B46-B45)/Sheet2!$G$5","v":-54.77998447583795},83.42329798100361,-43.5355160348094,{"$nulls":4},{"$f":"IF(AND(E45>G$7,E45<G$8),A45,Sheet1!$Q$22)","v":-0.2999999999999998},1.3394777649412695]
[{"$f":"A45+Sheet2!G$5","v":{"v":-2.7852147852147877,"d":"-2.79"}},13.249620633995617,{"$f":"(B47-B46)/Sheet2!$G$5","v":-54.36495397285277},83.08910669763262,-43.39003630549524,{"$nulls":4},{"$f":"IF(AND(E46>G$7,E46<G$8),A46,Sheet1!$Q$22)","v":-0.2999999999999998},1.3394777649412695]
[{"$f":"A46+Sheet2!G$5","v":{"v":-2.7802197802197828,"d":"-2.78"}},12.978067417348,{"$f":"(B48-B47)/Sheet2!$G$5","v":-53.95158976598098},82.7555142157333,-43.24477954078399,{"$nulls":4},{"$f":"IF(AND(E47>G$7,E47<G$8),A47,Sheet1!$Q$22)","v":-0.2999999999999998},1.3394777649412695]
[{"$f":"A47+Sheet2!G$5","v":{"v":-2.775224775224778,"d":"-2.78"}},12.708578956978466,{"$f":"(B49-B48)/Sheet2!$G$5","v":-53.53988886420053},82.42252053644478,-43.099745740675644,{"$nulls":4},{"$f":"IF(AND(E48>G$7,E48<G$8),A48,Sheet1!$Q$22)","v":-0.2999999999999998},1.3394777649412695]
[{"$f":"A48+Sheet2!G$5","v":{"v":-2.770229770229773,"d":"-2.77"}},12.441146944669772,{"$f":"(B50-B49)/Sheet2!$G$5","v":-53.12984827649652},82.09012565834315,-42.954934905170205,{"$nulls":4},{"$f":"IF(AND(E49>G$7,E49<G$8),A49,Sheet1!$Q$22)","v":-0.2999999999999998},1.3394777649412695]
[{"$f":"A49+Sheet2!G$5","v":{"v":-2.765234765234768,"d":"-2.77"}},12.175763087144814,{"$f":"(B51-B50)/Sheet2!$G$5","v":-52.72146501184691},81.75832958285233,-42.81034703426768,{"$nulls":4},{"$f":"IF(AND(E50>G$7,E50<G$8),A50,Sheet1!$Q$22)","v":-0.2999999999999998},1.3394777649412695]
[{"$f":"A50+Sheet2!G$5","v":{"v":-2.760239760239763,"d":"-2.76"}},11.912419106066658,{"$f":"(B52-B51)/Sheet2!$G$5","v":-52.31473607923962},81.4271323079788,-42.665982127968064,{"$nulls":4},{"$f":"IF(AND(E51>G$7,E51<G$8),A51,Sheet1!$Q$22)","v":-0.2999999999999998},1.3394777649412695]
[{"$f":"A51+Sheet2!G$5","v":{"v":-2.755244755244758,"d":"-2.76"}},11.651106738038488,{"$f":"(B53-B52)/Sheet2!$G$5","v":-51.90965848765121},81.09653383600087,-42.521840186271355,{"$nulls":4},{"$f":"IF(AND(E52>G$7,E52<G$8),A52,Sheet1!$Q$22)","v":-0.2999999999999998},1.3394777649412695]
[{"$f":"A52+Sheet2!G$5","v":{"v":-2.750249750249753,"d":"-2.75"}},11.391817734603666,{"$f":"(B54-B53)/Sheet2!$G$5","v":-51.50622924606959},80.76653416464025,-42.37792120917755,{"$nulls":4},{"$f":"IF(AND(E53>G$7,E53<G$8),A53,Sheet1!$Q$22)","v":-0.2999999999999998},1.3394777649412695]
[{"$f":"A53+Sheet2!G$5","v":{"v":-2.745254745254748,"d":"-2.75"}},11.134543862245676,{"$f":"(B55-B54)/Sheet2!$G$5","v":-51.104445363468464},80.4371332967448,-42.23422519668666,{"$nulls":4},{"$f":"IF(AND(E54>G$7,E54<G$8),A54,Sheet1!$Q$22)","v":-0.2999999999999998},1.3394777649412695]
[{"$f":"A54+Sheet2!G$5","v":{"v":-2.7402597402597433,"d":"-2.74"}},10.879276902388192,{"$f":"(B56-B55)/Sheet2!$G$5","v":-50.704303848835764},80.10833122946664,-42.09075214879868,{"$nulls":4},{"$f":"IF(AND(E55>G$7,E55<G$8),A55,Sheet1!$Q$22)","v":-0.2999999999999998},1.3394777649412695]
[{"$f":"A55+Sheet2!G$5","v":{"v":-2.7352647352647383,"d":"-2.74"}},10.626008651395006,{"$f":"(B57-B56)/Sheet2!$G$5","v":-50.30580171115514},79.78012796366016,-41.947502065513596,{"$nulls":4},{"$f":"IF(AND(E56>G$7,E56<G$8),A56,Sheet1!$Q$22)","v":-0.2999999999999998},1.3394777649412695]
[{"$f":"A56+Sheet2!G$5","v":{"v":-2.7302697302697334,"d":"-2.73"}},10.374730920570055,{"$f":"(B58-B57)/Sheet2!$G$5","v":-49.908935959404566},79.4525235004645,-41.804474946831434,{"$nulls":4},{"$f":"IF(AND(E57>G$7,E57<G$8),A57,Sheet1!$Q$22)","v":-0.2999999999999998},1.3394777649412695]
[{"$f":"A57+Sheet2!G$5","v":{"v":-2.7252747252747285,"d":"-2.73"}},10.125435536157445,{"$f":"(B59-B58)/Sheet2!$G$5","v":-49.5137036025677},79.12551783874048,-41.661670792752176,{"$nulls":4},{"$f":"IF(AND(E58>G$7,E58<G$8),A58,Sheet1!$Q$22)","v":-0.2999999999999998},1.3394777649412695]
[{"$f":"A58+Sheet2!G$5","v":{"v":-2.7202797202797235,"d":"-2.72"}},9.878114339341423,{"$f":"(B60-B59)/Sheet2!$G$5","v":-49.120101649625354},78.7991109790577,-41.51908960327582,{"$nulls":4},{"$f":"IF(AND(E59>G$7,E59<G$8),A59,Sheet1!$Q$22)","v":-0.2999999999999998},1.3394777649412695]
[{"$f":"A59+Sheet2!G$5","v":{"v":-2.7152847152847186,"d":"-2.72"}},9.63275918624639,{"$f":"(B61-B60)/Sheet2!$G$5","v":-48.728127109562614},78.4733029205618,-41.376731378402376,{"$nulls":4},{"$f":"IF(AND(E60>G$7,E60<G$8),A60,Sheet1!$Q$22)","v":-0.2999999999999998},1.3394777649412695]
[{"$f":"A60+Sheet2!G$5","v":{"v":-2.7102897102897137,"d":"-2.71"}},9.389361947936887,{"$f":"(B62-B61)/Sheet2!$G$5","v":-48.33777699135601},78.1480936649615,-41.23459611813185,{"$nulls":4},{"$f":"IF(AND(E61>G$7,E61<G$8),A61,Sheet1!$Q$22)","v":-0.2999999999999998},1.3394777649412695]
[{"$f":"A61+Sheet2!G$5","v":{"v":-2.7052947052947087,"d":"-2.71"}},9.147914510417626,{"$f":"(B63-B62)/Sheet2!$G$5","v":-47.94904830399348},77.8234832099785,-41.09268382246422,{"$nulls":4},{"$f":"IF(AND(E62>G$7,E62<G$8),A62,Sheet1!$Q$22)","v":-0.2999999999999998},1.3394777649412695]
[{"$f":"A62+Sheet2!G$5","v":{"v":-2.700299700299704,"d":"-2.70"}},8.908408774633443,{"$f":"(B64-B63)/Sheet2!$G$5","v":-47.56193805645441},77.49947155732153,-40.9509944913995,{"$nulls":4},{"$f":"IF(AND(E63>G$7,E63<G$8),A63,Sheet1!$Q$22)","v":-0.2999999999999998},1.3394777649412695]
[{"$f":"A63+Sheet2!G$5","v":{"v":-2.695304695304699,"d":"-2.70"}},8.670836656469335,{"$f":"(B65-B64)/Sheet2!$G$5","v":-47.17644325771962},77.17605870670579,-40.80952812493769,{"$nulls":4},{"$f":"IF(AND(E64>G$7,E64<G$8),A64,Sheet1!$Q$22)","v":-0.2999999999999998},1.3394777649412695]
[{"$f":"A64+Sheet2!G$5","v":{"v":-2.690309690309694,"d":"-2.69"}},8.435190086750456,{"$f":"(B66-B65)/Sheet2!$G$5","v":-46.7925609167756},76.85324465699215,-40.66828472307879,{"$nulls":4},{"$f":"IF(AND(E65>G$7,E65<G$8),A65,Sheet1!$Q$22)","v":-0.2999999999999998},1.3394777649412695]
[{"$f":"A65+Sheet2!G$5","v":{"v":-2.685314685314689,"d":"-2.69"}},8.201461011242086,{"$f":"(B67-B66)/Sheet2!$G$5","v":-46.410288042597486},76.53102941045887,-40.5272642858228,{"$nulls":4},{"$f":"IF(AND(E66>G$7,E66<G$8),A66,Sheet1!$Q$22)","v":-0.2999999999999998},1.3394777649412695]
[{"$f":"A66+Sheet2!G$5","v":{"v":-2.680319680319684,"d":"-2.68"}},{"$f":"x^4-5*x^2+4*x+3","v":7.9696413906496915},{"$f":"(B68-B67)/Sheet2!$G$5","v":-46.02962164417177},76.20941296482769,-40.38646681316971,{"$nulls":4},{"$f":"IF(AND(E67>G$7,E67<G$8),A67,Sheet1!$Q$22)","v":-0.2999999999999998},1.3394777649412695]
[{"$f":"A67+Sheet2!G$5","v":{"v":-2.675324675324679,"d":"-2.68"}},7.739723200618863,{"$f":"(B69-B68)/Sheet2!$G$5","v":-45.65055873048212},75.8883953206682,{"$f":"G$10+G$11*(A68-G$9)+G$12*(A68-G$9)^2/2","v":-40.24589230511954},{"$nulls":4},{"$f":"IF(AND(E68>G$7,E68<G$8),A68,Sheet1!$Q$22)","v":-0.2999999999999998},{"$f":"IF(AND(E68>G$7,E68<G$8),E68,G$10)","v":1.3394777649412695}]
[{"$f":"A68+Sheet2!G$5","v":{"v":-2.670329670329674,"d":"-2.67"}},7.511698431735336,{"$f":"(B70-B69)/Sheet2!$G$5","v":-45.273096310506496},{"$f":"(B70-2*B69+B68)/G$5^2","v":75.56797647911948},-40.10554076167227,{"$nulls":4},{"$f":"IF(AND(E69>G$7,E69<G$8),A69,Sheet1!$Q$22)","v":-0.2999999999999998},1.3394777649412695]
[{"$f":"A69+Sheet2!G$5","v":{"v":-2.6653346653346692,"d":"-2.67"}},7.285559089525014,{"$f":"(B71-B70)/Sheet2!$G$5","v":-44.897231393228566},75.24815643904245,-39.96541218282791,{"$nulls":4},{"$f":"IF(AND(E70>G$7,E70<G$8),A70,Sheet1!$Q$22)","v":-0.2999999999999998},1.3394777649412695]
[{"$f":"A70+Sheet2!G$5","v":{"v":-2.6603396603396643,"d":"-2.66"}},7.061297194453942,{"$f":"(B72-B71)/Sheet2!$G$5","v":-44.522960987630555},74.92893520072187,-39.82550656858646,{"$nulls":4},{"$f":"IF(AND(E71>G$7,E71<G$8),A71,Sheet1!$Q$22)","v":-0.2999999999999998},1.3394777649412695]
[{"$f":"A71+Sheet2!G$5","v":{"v":-2.6553446553446594,"d":"-2.66"}},6.838904781928315,{"$f":"(B73-B72)/Sheet2!$G$5","v":-44.150282102696124},74.61031276387294,-39.68582391894792,{"$nulls":4},{"$f":"IF(AND(E72>G$7,E72<G$8),A72,Sheet1!$Q$22)","v":-0.2999999999999998},1.3394777649412695]
[{"$f":"A72+Sheet2!G$5","v":{"v":-2.6503496503496544,"d":"-2.65"}},6.6183739022944685,{"$f":"(B74-B73)/Sheet2!$G$5","v":-43.77919174740324},74.29228912963482,-39.546364233912286,{"$nulls":4},{"$f":"IF(AND(E73>G$7,E73<G$8),A73,Sheet1!$Q$22)","v":-0.2999999999999998},1.3394777649412695]
[{"$f":"A73+Sheet2!G$5","v":{"v":-2.6453546453546495,"d":"-2.65"}},6.399696620838908,{"$f":"(B75-B74)/Sheet2!$G$5","v":-43.40968693073557},73.97486429686838,-39.407127513479566,{"$nulls":4},{"$f":"IF(AND(E74>G$7,E74<G$8),A74,Sheet1!$Q$22)","v":-0.2999999999999998},1.3394777649412695]
[{"$f":"A74+Sheet2!G$5","v":{"v":-2.6403596403596445,"d":"-2.64"}},6.182865017788281,{"$f":"(B76-B75)/Sheet2!$G$5","v":-43.0417646616796},73.65803826500401,-39.26811375764974,{"$nulls":4},{"$f":"IF(AND(E75>G$7,E75<G$8),A75,Sheet1!$Q$22)","v":-0.2999999999999998},1.3394777649412695]
[{"$f":"A75+Sheet2!G$5","v":{"v":-2.6353646353646396,"d":"-2.64"}},5.967871188309362,{"$f":"(B77-B76)/Sheet2!$G$5","v":-42.675421949210474},73.34181103632004,-39.12932296642283,{"$nulls":4},{"$f":"IF(AND(E76>G$7,E76<G$8),A76,Sheet1!$Q$22)","v":-0.2999999999999998},1.3394777649412695]
[{"$f":"A76+Sheet2!G$5","v":{"v":-2.6303696303696347,"d":"-2.63"}},5.7547072425091095,{"$f":"(B78-B77)/Sheet2!$G$5","v":-42.31065580231468},73.02618260853815,-38.990755139798836,{"$nulls":4},{"$f":"IF(AND(E77>G$7,E77<G$8),A77,Sheet1!$Q$22)","v":-0.2999999999999998},1.3394777649412695]
[{"$f":"A77+Sheet2!G$5","v":{"v":-2.6253746253746297,"d":"-2.63"}},5.543365305434611,{"$f":"(B79-B78)/Sheet2!$G$5","v":-41.94746322997161},72.71115298308229,-38.85241027777774,{"$nulls":4},{"$f":"IF(AND(E78>G$7,E78<G$8),A78,Sheet1!$Q$22)","v":-0.2999999999999998},1.3394777649412695]
[{"$f":"A78+Sheet2!G$5","v":{"v":-2.620379620379625,"d":"-2.62"}},5.333837517073114,{"$f":"(B80-B79)/Sheet2!$G$5","v":-41.58584124116777},72.3967221585285,-38.71428838035956,{"$nulls":4},{"$f":"IF(AND(E79>G$7,E79<G$8),A79,Sheet1!$Q$22)","v":-0.2999999999999998},1.3394777649412695]
[{"$f":"A79+Sheet2!G$5","v":{"v":-2.61538461538462,"d":"-2.62"}},5.126116032351996,{"$f":"(B81-B80)/Sheet2!$G$5","v":-41.22578684487971},72.08289013687033,-38.57638944754429,{"$nulls":4},{"$f":"IF(AND(E80>G$7,E80<G$8),A80,Sheet1!$Q$22)","v":-0.2999999999999998},1.3394777649412695]
[{"$f":"A80+Sheet2!G$5","v":{"v":-2.610389610389615,"d":"-2.61"}},4.920193021138811,{"$f":"(B82-B81)/Sheet2!$G$5","v":-40.867297050091075},71.76965691668381,-38.438713479331916,{"$nulls":4},{"$f":"IF(AND(E81>G$7,E81<G$8),A81,Sheet1!$Q$22)","v":-0.2999999999999998},1.3394777649412695]
[{"$f":"A81+Sheet2!G$5","v":{"v":-2.60539460539461,"d":"-2.61"}},4.716060668241253,{"$f":"(B83-B82)/Sheet2!$G$5","v":-40.51036886578554},71.45702249796896,-38.30126047572246,{"$nulls":4},{"$f":"IF(AND(E82>G$7,E82<G$8),A82,Sheet1!$Q$22)","v":-0.2999999999999998},1.3394777649412695]
[{"$f":"A82+Sheet2!G$5","v":{"v":-2.600399600399605,"d":"-2.60"}},4.5137111734071595,{"$f":"(B84-B83)/Sheet2!$G$5","v":-40.1549993009439},71.14498688129535,-38.16403043671591,{"$nulls":4},{"$f":"IF(AND(E83>G$7,E83<G$8),A83,Sheet1!$Q$22)","v":-0.2999999999999998},1.3394777649412695]
[{"$f":"A83+Sheet2!G$5","v":{"v":-2.5954045954046,"d":"-2.60"}},4.313136751324523,{"$f":"(B85-B84)/Sheet2!$G$5","v":-39.80118536454841},70.8335500663782,-38.02702336231227,{"$nulls":4},{"$f":"IF(AND(E84>G$7,E84<G$8),A84,Sheet1!$Q$22)","v":-0.2999999999999998},1.3394777649412695]
[{"$f":"A84+Sheet2!G$5","v":{"v":-2.590409590409595,"d":"-2.59"}},4.114329631621484,{"$f":"(B86-B85)/Sheet2!$G$5","v":-39.44892406558271},70.52271205293269,-37.89023925251154,{"$nulls":4},{"$f":"IF(AND(E85>G$7,E85<G$8),A85,Sheet1!$Q$22)","v":-0.2999999999999998},1.3394777649412695]
[{"$f":"A85+Sheet2!G$5","v":{"v":-2.5854145854145902,"d":"-2.59"}},3.9172820588663253,{"$f":"(B87-B86)/Sheet2!$G$5","v":-39.098212413024775},70.212472842098,-37.75367810731371,{"$nulls":4},{"$f":"IF(AND(E86>G$7,E86<G$8),A86,Sheet1!$Q$22)","v":-0.2999999999999998},1.3394777649412695]
[{"$f":"A86+Sheet2!G$5","v":{"v":-2.5804195804195853,"d":"-2.58"}},3.7219862925675002,{"$f":"(B88-B87)/Sheet2!$G$5","v":-38.749047415862535},69.90283243188061,-37.6173399267188,{"$nulls":4},{"$f":"IF(AND(E87>G$7,E87<G$8),A87,Sheet1!$Q$22)","v":-0.2999999999999998},1.3394777649412695]
[{"$f":"A87+Sheet2!G$5","v":{"v":-2.5754245754245804,"d":"-2.58"}},3.5284346071735815,{"$f":"(B89-B88)/Sheet2!$G$5","v":-38.40142608307111},69.59379082484361,-37.48122471072679,{"$nulls":4},{"$f":"IF(AND(E88>G$7,E88<G$8),A88,Sheet1!$Q$22)","v":-0.2999999999999998},1.3394777649412695]
[{"$f":"A88+Sheet2!G$5","v":{"v":-2.5704295704295754,"d":"-2.57"}},3.336619292073326,{"$f":"(B90-B89)/Sheet2!$G$5","v":-38.05534542363558},69.28534801899347,-37.34533245933768,{"$nulls":4},{"$f":"IF(AND(E89>G$7,E89<G$8),A89,Sheet1!$Q$22)","v":-0.2999999999999998},1.3394777649412695]
[{"$f":"A89+Sheet2!G$5","v":{"v":-2.5654345654345705,"d":"-2.57"}},3.146532651595626,{"$f":"(B91-B90)/Sheet2!$G$5","v":-37.710802446542445},68.97750401404545,-37.2096631725515,{"$nulls":4},{"$f":"IF(AND(E90>G$7,E90<G$8),A90,Sheet1!$Q$22)","v":-0.2999999999999998},1.3394777649412695]
[{"$f":"A90+Sheet2!G$5","v":{"v":-2.5604395604395656,"d":"-2.56"}},2.9581670050095,{"$f":"(B92-B91)/Sheet2!$G$5","v":-37.36779416076683},68.6702588122778,-37.07421685036822,{"$nulls":4},{"$f":"IF(AND(E91>G$7,E91<G$8),A91,Sheet1!$Q$22)","v":-0.2999999999999998},1.3394777649412695]
[{"$f":"A91+Sheet2!G$5","v":{"v":-2.5554445554445606,"d":"-2.56"}},2.771514686524151,{"$f":"(B93-B92)/Sheet2!$G$5","v":-37.026317575296666},68.36361241112745,-36.93899349278784,{"$nulls":4},{"$f":"IF(AND(E92>G$7,E92<G$8),A92,Sheet1!$Q$22)","v":-0.2999999999999998},1.3394777649412695]
[{"$f":"A92+Sheet2!G$5","v":{"v":-2.5504495504495557,"d":"-2.55"}},2.586568045288903,{"$f":"(B94-B93)/Sheet2!$G$5","v":-36.68636969910564},68.05756481344226,-36.80399309981037,{"$nulls":4},{"$f":"IF(AND(E93>G$7,E93<G$8),A93,Sheet1!$Q$22)","v":-0.2999999999999998},1.3394777649412695]
[{"$f":"A93+Sheet2!G$5","v":{"v":-2.5454545454545507,"d":"-2.55"}},2.4033194453932705,{"$f":"(B95-B94)/Sheet2!$G$5","v":-36.34794754118596},67.75211601552003,-36.669215671435815,{"$nulls":4},{"$f":"IF(AND(E94>G$7,E94<G$8),A94,Sheet1!$Q$22)","v":-0.2999999999999998},1.3394777649412695]
[{"$f":"A94+Sheet2!G$5","v":{"v":-2.540459540459546,"d":"-2.54"}},2.221761265866867,{"$f":"(B96-B95)/Sheet2!$G$5","v":-36.011048110512746},67.44726602077817,-36.534661207664165,{"$nulls":4},{"$f":"IF(AND(E95>G$7,E95<G$8),A95,Sheet1!$Q$22)","v":-0.2999999999999998},1.3394777649412695]
[{"$f":"A95+Sheet2!G$5","v":{"v":-2.535464535464541,"d":"-2.54"}},2.0418859006794907,{"$f":"(B97-B96)/Sheet2!$G$5","v":-35.67566841607249},67.14301482693841,-36.40032970849543,{"$nulls":4},{"$f":"IF(AND(E96>G$7,E96<G$8),A96,Sheet1!$Q$22)","v":-0.2999999999999998},1.3394777649412695]
[{"$f":"A96+Sheet2!G$5","v":{"v":-2.530469530469536,"d":"-2.53"}},1.8636857587410667,{"$f":"(B98-B97)/Sheet2!$G$5","v":-35.34180546683962},66.83936243642142,-36.266221173929594,{"$nulls":4},{"$f":"IF(AND(E97>G$7,E97<G$8),A97,Sheet1!$Q$22)","v":-0.2999999999999998},1.3394777649412695]
[{"$f":"A97+Sheet2!G$5","v":{"v":-2.525474525474531,"d":"-2.53"}},1.687153263901708,{"$f":"(B99-B98)/Sheet2!$G$5","v":-35.009456271807025},66.53630884552499,-36.132335603966666,{"$nulls":4},{"$f":"IF(AND(E98>G$7,E98<G$8),A98,Sheet1!$Q$22)","v":-0.2999999999999998},1.3394777649412695]
[{"$f":"A98+Sheet2!G$5","v":{"v":-2.520479520479526,"d":"-2.52"}},1.512280854951623,{"$f":"(B100-B99)/Sheet2!$G$5","v":-34.678617839947705},66.23385405823612,-35.99867299860665,{"$nulls":4},{"$f":"IF(AND(E99>G$7,E99<G$8),A99,Sheet1!$Q$22)","v":-0.2999999999999998},1.3394777649412695]
[{"$f":"A99+Sheet2!G$5","v":{"v":-2.515484515484521,"d":"-2.52"}},1.3390609856212148,{"$f":"(B101-B100)/Sheet2!$G$5","v":-34.34928718024887},65.93199807170694,-35.86523335784955,{"$nulls":4},{"$f":"IF(AND(E100>G$7,E100<G$8),A100,Sheet1!$Q$22)","v":-0.2999999999999998},1.3394777649412695]
[{"$f":"A100+Sheet2!G$5","v":{"v":-2.510489510489516,"d":"-2.51"}},1.1674861245810106,{"$f":"(B102-B101)/Sheet2!$G$5","v":-34.0214613016892},65.63074088764618,-35.73201668169534,{"$nulls":4},{"$f":"IF(AND(E101>G$7,E101<G$8),A101,Sheet1!$Q$22)","v":-0.2999999999999998},1.3394777649412695]
[{"$f":"A101+Sheet2!G$5","v":{"v":-2.5054945054945112,"d":"-2.51"}},0.997548755441704,{"$f":"(B103-B102)/Sheet2!$G$5","v":-33.69513721325377},65.3300825047723,-35.599022970144055,{"$nulls":4},{"$f":"IF(AND(E102>G$7,E102<G$8),A102,Sheet1!$Q$22)","v":-0.2999999999999998},1.3394777649412695]
[{"$f":"A102+Sheet2!G$5","v":{"v":-2.5004995004995063,"d":"-2.50"}},0.8292413767541227,{"$f":"(B104-B103)/Sheet2!$G$5","v":-33.37031192392198},65.03002292422444,-35.466252223195674,{"$nulls":4},{"$f":"IF(AND(E103>G$7,E103<G$8),A103,Sheet1!$Q$22)","v":-0.2999999999999998},1.3394777649412695]
[{"$f":"A103+Sheet2!G$5","v":{"v":-2.4955044955045014,"d":"-2.50"}},0.6625565020092576,{"$f":"(B105-B104)/Sheet2!$G$5","v":-33.04698244267677},64.73056214529063,-35.3337044408502,{"$nulls":4},{"$f":"IF(AND(E104>G$7,E104<G$8),A104,Sheet1!$Q$22)","v":-0.2999999999999998},1.3394777649412695]
[{"$f":"A104+Sheet2!G$5","v":{"v":-2.4905094905094964,"d":"-2.49"}},0.4974866596382448,{"$f":"(B106-B105)/Sheet2!$G$5","v":-32.725145778502515},64.4317001676861,-35.201379623107634,{"$nulls":4},{"$f":"IF(AND(E105>G$7,E105<G$8),A105,Sheet1!$Q$22)","v":-0.2999999999999998},1.3394777649412695]
[{"$f":"A105+Sheet2!G$5","v":{"v":-2.4855144855144915,"d":"-2.49"}},0.3340243930123581,{"$f":"(B107-B106)/Sheet2!$G$5","v":-32.404798940378605},64.1334369924076,-35.069277769967975,{"$nulls":4},{"$f":"IF(AND(E106>G$7,E106<G$8),A106,Sheet1!$Q$22)","v":-0.2999999999999998},1.3394777649412695]
[{"$f":"A106+Sheet2!G$5","v":{"v":-2.4805194805194866,"d":"-2.48"}},0.1721622604430344,{"$f":"(B108-B107)/Sheet2!$G$5","v":-32.08593893728371},63.835772619597506,-34.93739888143123,{"$nulls":4},{"$f":"IF(AND(E107>G$7,E107<G$8),A107,Sheet1!$Q$22)","v":-0.2999999999999998},1.3394777649412695]
[{"$f":"A107+Sheet2!G$5","v":{"v":-2.4755244755244816,"d":"-2.48"}},0.011892835181877004,{"$f":"(B109-B108)/Sheet2!$G$5","v":-31.768562778209322},63.53870704669275,-34.80574295749739,{"$nulls":4},{"$f":"IF(AND(E108>G$7,E108<G$8),A108,Sheet1!$Q$22)","v":-0.2999999999999998},1.3394777649412695]
[{"$f":"A108+Sheet2!G$5","v":{"v":-2.4705294705294767,"d":"-2.47"}},-0.14679129457940832,{"$f":"(B110-B109)/Sheet2!$G$5","v":-31.452667472127715},63.24224027753795,-34.67430999816645,{"$nulls":4},{"$f":"IF(AND(E109>G$7,E109<G$8),A109,Sheet1!$Q$22)","v":-0.2999999999999998},1.3394777649412695]
[{"$f":"A109+Sheet2!G$5","v":{"v":-2.4655344655344718,"d":"-2.47"}},-0.30389752570891737,{"$f":"(B111-B110)/Sheet2!$G$5","v":-31.138250028028235},62.946372308715674,-34.543100003438425,{"$nulls":4},{"$f":"IF(AND(E110>G$7,E110<G$8),A110,Sheet1!$Q$22)","v":-0.2999999999999998},1.3394777649412695]
[{"$f":"A110+Sheet2!G$5","v":{"v":-2.460539460539467,"d":"-2.46"}},-0.4594332401346328,{"$f":"(B112-B111)/Sheet2!$G$5","v":-30.82530745488672},62.651103142931376,-34.41211297331331,{"$nulls":4},{"$f":"IF(AND(E111>G$7,E111<G$8),A111,Sheet1!$Q$22)","v":-0.2999999999999998},1.3394777649412695]
[{"$f":"A111+Sheet2!G$5","v":{"v":-2.455544455544462,"d":"-2.46"}},-0.6134058048443567,{"$f":"(B113-B112)/Sheet2!$G$5","v":-30.513836761691092},62.35643277776439,-34.281348907791106,{"$nulls":4},{"$f":"IF(AND(E112>G$7,E112<G$8),A112,Sheet1!$Q$22)","v":-0.2999999999999998},1.3394777649412695]
[{"$f":"A112+Sheet2!G$5","v":{"v":-2.450549450549457,"d":"-2.45"}},-0.7658225718857707,{"$f":"(B114-B113)/Sheet2!$G$5","v":-30.203834957419325},62.06236121520821,-34.15080780687181,{"$nulls":4},{"$f":"IF(AND(E113>G$7,E113<G$8),A113,Sheet1!$Q$22)","v":-0.2999999999999998},1.3394777649412695]
[{"$f":"A113+Sheet2!G$5","v":{"v":-2.445554445554452,"d":"-2.45"}},-0.9166908783663867,{"$f":"(B115-B114)/Sheet2!$G$5","v":-29.89529905105578},61.768888453981305,-34.02048967055542,{"$nulls":4},{"$f":"IF(AND(E114>G$7,E114<G$8),A114,Sheet1!$Q$22)","v":-0.2999999999999998},1.3394777649412695]
[{"$f":"A114+Sheet2!G$5","v":{"v":-2.440559440559447,"d":"-2.44"}},-1.0660180464535784,{"$f":"(B116-B115)/Sheet2!$G$5","v":-29.58822605157772},61.4760144955076,-33.890394498841935,{"$nulls":4},{"$f":"IF(AND(E115>G$7,E115<G$8),A115,Sheet1!$Q$22)","v":-0.2999999999999998},1.3394777649412695]
[{"$f":"A115+Sheet2!G$5","v":{"v":-2.435564435564442,"d":"-2.44"}},-1.213811383374546,{"$f":"(B117-B116)/Sheet2!$G$5","v":-29.282612967975204},61.18373933722402,-33.76052229173136,{"$nulls":4},{"$f":"IF(AND(E116>G$7,E116<G$8),A116,Sheet1!$Q$22)","v":-0.2999999999999998},1.3394777649412695]
[{"$f":"A116+Sheet2!G$5","v":{"v":-2.430569430569437,"d":"-2.43"}},-1.3600781814163803,{"$f":"(B118-B117)/Sheet2!$G$5","v":-28.97845680922264},60.89206298226321,-33.630873049223695,{"$nulls":4},{"$f":"IF(AND(E117>G$7,E117<G$8),A117,Sheet1!$Q$22)","v":-0.2999999999999998},1.3394777649412695]
[{"$f":"A117+Sheet2!G$5","v":{"v":-2.4255744255744323,"d":"-2.43"}},-1.5048257179259839,{"$f":"(B119-B118)/Sheet2!$G$5","v":-28.675754584307956},60.60098542791972,-33.501446771318946,{"$nulls":4},{"$f":"IF(AND(E118>G$7,E118<G$8),A118,Sheet1!$Q$22)","v":-0.2999999999999998},1.3394777649412695]
[{"$f":"A118+Sheet2!G$5","v":{"v":-2.4205794205794273,"d":"-2.42"}},-1.6480612553101395,{"$f":"(B120-B119)/Sheet2!$G$5","v":-28.37450330220912},60.310506676187025,-33.372243458017095,{"$nulls":4},{"$f":"IF(AND(E119>G$7,E119<G$8),A119,Sheet1!$Q$22)","v":-0.2999999999999998},1.3394777649412695]
[{"$f":"A119+Sheet2!G$5","v":{"v":-2.4155844155844224,"d":"-2.42"}},-1.7897920410354597,{"$f":"(B121-B120)/Sheet2!$G$5","v":-28.0746999719105},60.0206267257836,-33.24326310931815,{"$nulls":4},{"$f":"IF(AND(E120>G$7,E120<G$8),A120,Sheet1!$Q$22)","v":-0.2999999999999998},1.3394777649412695]
[{"$f":"A120+Sheet2!G$5","v":{"v":-2.4105894105894174,"d":"-2.41"}},-1.9300253076284193,{"$f":"(B122-B121)/Sheet2!$G$5","v":-27.776341602390776},59.7313455778486,-33.11450572522212,{"$nulls":4},{"$f":"IF(AND(E121>G$7,E121<G$8),A121,Sheet1!$Q$22)","v":-0.2999999999999998},1.3394777649412695]
[{"$f":"A121+Sheet2!G$5","v":{"v":-2.4055944055944125,"d":"-2.41"}},-2.0687682726753263,{"$f":"(B123-B122)/Sheet2!$G$5","v":-27.479425202638588},59.442663230388504,-32.985971305728995,{"$nulls":4},{"$f":"IF(AND(E122>G$7,E122<G$8),A122,Sheet1!$Q$22)","v":-0.2999999999999998},1.3394777649412695]
[{"$f":"A122+Sheet2!G$5","v":{"v":-2.4005994005994076,"d":"-2.40"}},-2.206028138822372,{"$f":"(B124-B123)/Sheet2!$G$5","v":-27.18394778162763},59.15457968639358,-32.857659850838786,{"$nulls":4},{"$f":"IF(AND(E123>G$7,E123<G$8),A123,Sheet1!$Q$22)","v":-0.2999999999999998},1.3394777649412695]
[{"$f":"A123+Sheet2!G$5","v":{"v":-2.3956043956044026,"d":"-2.40"}},-2.341812093775557,{"$f":"(B125-B124)/Sheet2!$G$5","v":-26.88990634834512},58.86709494315835,-32.729571360551475,{"$nulls":4},{"$f":"IF(AND(E124>G$7,E124<G$8),A124,Sheet1!$Q$22)","v":-0.2999999999999998},1.3394777649412695]
[{"$f":"A124+Sheet2!G$5","v":{"v":-2.3906093906093977,"d":"-2.39"}},-2.4761273103007575,{"$f":"(B126-B125)/Sheet2!$G$5","v":-26.597297911774007},58.580209001537185,-32.601705834867076,{"$nulls":4},{"$f":"IF(AND(E125>G$7,E125<G$8),A125,Sheet1!$Q$22)","v":-0.2999999999999998},1.3394777649412695]
[{"$f":"A125+Sheet2!G$5","v":{"v":-2.3856143856143928,"d":"-2.39"}},-2.6089809462237046,{"$f":"(B127-B126)/Sheet2!$G$5","v":-26.306119480893674},58.29392186224204,-32.47406327378559,{"$nulls":4},{"$f":"IF(AND(E126>G$7,E126<G$8),A126,Sheet1!$Q$22)","v":-0.2999999999999998},1.3394777649412695]
[{"$f":"A126+Sheet2!G$5","v":{"v":-2.380619380619388,"d":"-2.38"}},-2.7403801444299667,{"$f":"(B128-B127)/Sheet2!$G$5","v":-26.016368064684944},58.00823352498812,-32.346643677307014,{"$nulls":4},{"$f":"IF(AND(E127>G$7,E127<G$8),A127,Sheet1!$Q$22)","v":-0.2999999999999998},1.3394777649412695]
[{"$f":"A127+Sheet2!G$5","v":{"v":-2.375624375624383,"d":"-2.38"}},-2.8703320328649564,{"$f":"(B129-B128)/Sheet2!$G$5","v":-25.728040672133602},57.7231439887787,-32.21944704543134,{"$nulls":4},{"$f":"IF(AND(E128>G$7,E128<G$8),A128,Sheet1!$Q$22)","v":-0.2999999999999998},1.3394777649412695]
[{"$f":"A128+Sheet2!G$5","v":{"v":-2.370629370629378,"d":"-2.37"}},-2.9988437245339554,{"$f":"(B130-B129)/Sheet2!$G$5","v":-25.441134312219752},57.4386532547529,-32.092473378158566,{"$nulls":4},{"$f":"IF(AND(E129>G$7,E129<G$8),A129,Sheet1!$Q$22)","v":-0.2999999999999998},1.3394777649412695]
[{"$f":"A129+Sheet2!G$5","v":{"v":-2.365634365634373,"d":"-2.37"}},-3.125922317502086,{"$f":"(B131-B130)/Sheet2!$G$5","v":-25.155645993924203},57.154761322768344,-31.965722675488717,{"$nulls":4},{"$f":"IF(AND(E130>G$7,E130<G$8),A130,Sheet1!$Q$22)","v":-0.2999999999999998},1.3394777649412695]
[{"$f":"A130+Sheet2!G$5","v":{"v":-2.360639360639368,"d":"-2.36"}},{"$f":"x^4-5*x^2+4*x+3","v":-3.251574894894315},{"$f":"(B132-B131)/Sheet2!$G$5","v":-24.87157272623133},56.87146819211305,-31.839194937421766,{"$nulls":4},{"$f":"IF(AND(E131>G$7,E131<G$8),A131,Sheet1!$Q$22)","v":-0.2999999999999998},1.3394777649412695]
[{"$f":"A131+Sheet2!G$5","v":{"v":-2.355644355644363,"d":"-2.36"}},-3.3758085248954703,{"$f":"(B133-B132)/Sheet2!$G$5","v":-24.588911518123368},56.588773863214215,{"$f":"G$10+G$11*(A132-G$9)+G$12*(A132-G$9)^2/2","v":-31.71289016395773},{"$nulls":4},{"$f":"IF(AND(E132>G$7,E132<G$8),A132,Sheet1!$Q$22)","v":-0.2999999999999998},{"$f":"IF(AND(E132>G$7,E132<G$8),E132,G$10)","v":1.3394777649412695}]
[{"$f":"A132+Sheet2!G$5","v":{"v":-2.350649350649358,"d":"-2.35"}},-3.4986302607502324,{"$f":"(B134-B133)/Sheet2!$G$5","v":-24.307659378578283},{"$f":"(B134-2*B133+B132)/G$5^2","v":56.30667833692618},-31.586808355096597,{"$nulls":4},{"$f":"IF(AND(E133>G$7,E133<G$8),A133,Sheet1!$Q$22)","v":-0.2999999999999998},1.3394777649412695]
[{"$f":"A133+Sheet2!G$5","v":{"v":-2.3456543456543533,"d":"-2.35"}},-3.620047140763111,{"$f":"(B135-B134)/Sheet2!$G$5","v":-24.027813316582577},56.02518161154024,-31.460949510838375,{"$nulls":4},{"$f":"IF(AND(E134>G$7,E134<G$8),A134,Sheet1!$Q$22)","v":-0.2999999999999998},1.3394777649412695]
[{"$f":"A134+Sheet2!G$5","v":{"v":-2.3406593406593483,"d":"-2.34"}},-3.7400661882984885,{"$f":"(B136-B135)/Sheet2!$G$5","v":-23.749370341116354},55.74428368833793,-31.335313631183062,{"$nulls":4},{"$f":"IF(AND(E135>G$7,E135<G$8),A135,Sheet1!$Q$22)","v":-0.2999999999999998},1.3394777649412695]
[{"$f":"A135+Sheet2!G$5","v":{"v":-2.3356643356643434,"d":"-2.34"}},-3.858694411780588,{"$f":"(B137-B136)/Sheet2!$G$5","v":-23.472327461161136},55.463984567034466,-31.209900716130655,{"$nulls":4},{"$f":"IF(AND(E136>G$7,E136<G$8),A136,Sheet1!$Q$22)","v":-0.2999999999999998},1.3394777649412695]
[{"$f":"A136+Sheet2!G$5","v":{"v":-2.3306693306693385,"d":"-2.33"}},-3.975938804693481,{"$f":"(B138-B137)/Sheet2!$G$5","v":-23.196681685702007},55.184284246917876,-31.084710765681155,{"$nulls":4},{"$f":"IF(AND(E137>G$7,E137<G$8),A137,Sheet1!$Q$22)","v":-0.2999999999999998},1.3394777649412695]
[{"$f":"A137+Sheet2!G$5","v":{"v":-2.3256743256743335,"d":"-2.33"}},-4.091806345581103,{"$f":"(B139-B138)/Sheet2!$G$5","v":-22.92243002371693},54.9051827294121,-30.959743779834568,{"$nulls":4},{"$f":"IF(AND(E138>G$7,E138<G$8),A138,Sheet1!$Q$22)","v":-0.2999999999999998},1.3394777649412695]
[{"$f":"A138+Sheet2!G$5","v":{"v":-2.3206793206793286,"d":"-2.32"}},-4.206303998047222,{"$f":"(B140-B139)/Sheet2!$G$5","v":-22.64956948418886},54.62668001352037,-30.834999758590882,{"$nulls":4},{"$f":"IF(AND(E139>G$7,E139<G$8),A139,Sheet1!$Q$22)","v":-0.2999999999999998},1.3394777649412695]
[{"$f":"A139+Sheet2!G$5","v":{"v":-2.3156843156843236,"d":"-2.32"}},-4.319438710755458,{"$f":"(B141-B140)/Sheet2!$G$5","v":-22.378097076102865},54.34877609881553,-30.710478701950112,{"$nulls":4},{"$f":"IF(AND(E140>G$7,E140<G$8),A140,Sheet1!$Q$22)","v":-0.2999999999999998},1.3394777649412695]
[{"$f":"A140+Sheet2!G$5","v":{"v":-2.3106893106893187,"d":"-2.31"}},-4.431217417429298,{"$f":"(B142-B141)/Sheet2!$G$5","v":-22.108009808436925},54.07147098672149,-30.58618060991225,{"$nulls":4},{"$f":"IF(AND(E141>G$7,E141<G$8),A141,Sheet1!$Q$22)","v":-0.2999999999999998},1.3394777649412695]
[{"$f":"A141+Sheet2!G$5","v":{"v":-2.3056943056943138,"d":"-2.31"}},-4.54164703685206,{"$f":"(B143-B142)/Sheet2!$G$5","v":-21.839304690176114},53.794764675814335,-30.4621054824773,{"$nulls":4},{"$f":"IF(AND(E142>G$7,E142<G$8),A142,Sheet1!$Q$22)","v":-0.2999999999999998},1.3394777649412695]
[{"$f":"A142+Sheet2!G$5","v":{"v":-2.300699300699309,"d":"-2.30"}},-4.650734472866926,{"$f":"(B144-B143)/Sheet2!$G$5","v":-21.571978730301957},53.518657166806015,-30.338253319645247,{"$nulls":4},{"$f":"IF(AND(E143>G$7,E143<G$8),A143,Sheet1!$Q$22)","v":-0.2999999999999998},1.3394777649412695]
[{"$f":"A143+Sheet2!G$5","v":{"v":-2.295704295704304,"d":"-2.30"}},-4.758486614376926,{"$f":"(B145-B144)/Sheet2!$G$5","v":-21.306028937793847},53.24314846012373,-30.214624121416108,{"$nulls":4},{"$f":"IF(AND(E144>G$7,E144<G$8),A144,Sheet1!$Q$22)","v":-0.2999999999999998},1.3394777649412695]
[{"$f":"A144+Sheet2!G$5","v":{"v":-2.290709290709299,"d":"-2.29"}},-4.864910335344927,{"$f":"(B146-B145)/Sheet2!$G$5","v":-21.041452321636864},52.96823855462831,-30.09121788778988,{"$nulls":4},{"$f":"IF(AND(E145>G$7,E145<G$8),A145,Sheet1!$Q$22)","v":-0.2999999999999998},1.3394777649412695]
[{"$f":"A145+Sheet2!G$5","v":{"v":-2.285714285714294,"d":"-2.29"}},-4.970012494793663,{"$f":"(B147-B146)/Sheet2!$G$5","v":-20.778245890811817},52.69392745117413,-29.968034618766552,{"$nulls":4},{"$f":"IF(AND(E146>G$7,E146<G$8),A146,Sheet1!$Q$22)","v":-0.2999999999999998},1.3394777649412695]
[{"$f":"A146+Sheet2!G$5","v":{"v":-2.280719280719289,"d":"-2.28"}},-5.07379993680571,{"$f":"(B148-B147)/Sheet2!$G$5","v":-20.516406654300233},52.4202151496188,-29.845074314346142,{"$nulls":4},{"$f":"IF(AND(E147>G$7,E147<G$8),A147,Sheet1!$Q$22)","v":-0.2999999999999998},1.3394777649412695]
[{"$f":"A147+Sheet2!G$5","v":{"v":-2.275724275724284,"d":"-2.28"}},-5.176279490523493,{"$f":"(B149-B148)/Sheet2!$G$5","v":-20.255931621086486},52.14710164939273,-29.722336974528638,{"$nulls":4},{"$f":"IF(AND(E148>G$7,E148<G$8),A148,Sheet1!$Q$22)","v":-0.2999999999999998},1.3394777649412695]
[{"$f":"A148+Sheet2!G$5","v":{"v":-2.270729270729279,"d":"-2.27"}},-5.2774579701493,{"$f":"(B150-B149)/Sheet2!$G$5","v":-19.99681780014996},51.87458695149269,-29.599822599314038,{"$nulls":4},{"$f":"IF(AND(E149>G$7,E149<G$8),A149,Sheet1!$Q$22)","v":-0.2999999999999998},1.3394777649412695]
[{"$f":"A149+Sheet2!G$5","v":{"v":-2.2657342657342743,"d":"-2.27"}},-5.3773421749452535,{"$f":"(B151-B150)/Sheet2!$G$5","v":-19.7390622004736},51.602671055206706,-29.47753118870235,{"$nulls":4},{"$f":"IF(AND(E150>G$7,E150<G$8),A150,Sheet1!$Q$22)","v":-0.2999999999999998},1.3394777649412695]
[{"$f":"A150+Sheet2!G$5","v":{"v":-2.2607392607392693,"d":"-2.26"}},-5.475938889233333,{"$f":"(B152-B151)/Sheet2!$G$5","v":-19.482661831038225},51.331353960961955,-29.355462742693568,{"$nulls":4},{"$f":"IF(AND(E151>G$7,E151<G$8),A151,Sheet1!$Q$22)","v":-0.2999999999999998},1.3394777649412695]
[{"$f":"A151+Sheet2!G$5","v":{"v":-2.2557442557442644,"d":"-2.26"}},-5.5732548823953625,{"$f":"(B153-B152)/Sheet2!$G$5","v":-19.227613700829625},51.06063566776169,-29.233617261287698,{"$nulls":4},{"$f":"IF(AND(E152>G$7,E152<G$8),A152,Sheet1!$Q$22)","v":-0.2999999999999998},1.3394777649412695]
[{"$f":"A152+Sheet2!G$5","v":{"v":-2.2507492507492595,"d":"-2.25"}},-5.669296908873033,{"$f":"(B154-B153)/Sheet2!$G$5","v":-18.973914818825058},50.79051617731463,-29.111994744484736,{"$nulls":4},{"$f":"IF(AND(E153>G$7,E153<G$8),A153,Sheet1!$Q$22)","v":-0.2999999999999998},1.3394777649412695]
[{"$f":"A153+Sheet2!G$5","v":{"v":-2.2457542457542545,"d":"-2.25"}},-5.764071708167863,{"$f":"(B155-B154)/Sheet2!$G$5","v":-18.721562194010314},50.52099548791205,-28.99059519228468,{"$nulls":4},{"$f":"IF(AND(E154>G$7,E154<G$8),A154,Sheet1!$Q$22)","v":-0.2999999999999998},1.3394777649412695]
[{"$f":"A154+Sheet2!G$5","v":{"v":-2.2407592407592496,"d":"-2.24"}},-5.857586004841242,{"$f":"(B156-B155)/Sheet2!$G$5","v":-18.47055283536478},50.252073600835494,-28.86941860468753,{"$nulls":4},{"$f":"IF(AND(E155>G$7,E155<G$8),A155,Sheet1!$Q$22)","v":-0.2999999999999998},1.3394777649412695]
[{"$f":"A155+Sheet2!G$5","v":{"v":-2.2357642357642447,"d":"-2.24"}},-5.949846508514392,{"$f":"(B157-B156)/Sheet2!$G$5","v":-18.220883751872833},49.98375051508821,-28.748464981693296,{"$nulls":4},{"$f":"IF(AND(E156>G$7,E156<G$8),A156,Sheet1!$Q$22)","v":-0.2999999999999998},1.3394777649412695]
[{"$f":"A156+Sheet2!G$5","v":{"v":-2.2307692307692397,"d":"-2.23"}},-6.0408599138684025,{"$f":"(B158-B157)/Sheet2!$G$5","v":-17.972551952513857},49.716026231666945,-28.627734323301965,{"$nulls":4},{"$f":"IF(AND(E157>G$7,E157<G$8),A157,Sheet1!$Q$22)","v":-0.2999999999999998},1.3394777649412695]
[{"$f":"A157+Sheet2!G$5","v":{"v":-2.225774225774235,"d":"-2.23"}},-6.130632900644196,{"$f":"(B159-B158)/Sheet2!$G$5","v":-17.725554446272934},49.44890074943257,-28.507226629513546,{"$nulls":4},{"$f":"IF(AND(E158>G$7,E158<G$8),A158,Sheet1!$Q$22)","v":-0.2999999999999998},1.3394777649412695]
[{"$f":"A158+Sheet2!G$5","v":{"v":-2.22077922077923,"d":"-2.22"}},-6.219172133642562,{"$f":"(B160-B159)/Sheet2!$G$5","v":-17.479888242128744},49.182374069666594,-28.386941900328026,{"$nulls":4},{"$f":"IF(AND(E159>G$7,E159<G$8),A159,Sheet1!$Q$22)","v":-0.2999999999999998},1.3394777649412695]
[{"$f":"A159+Sheet2!G$5","v":{"v":-2.215784215784225,"d":"-2.22"}},-6.306484262724124,{"$f":"(B161-B160)/Sheet2!$G$5","v":-17.23555034906637},48.9164461910875,-28.266880135745424,{"$nulls":4},{"$f":"IF(AND(E160>G$7,E160<G$8),A160,Sheet1!$Q$22)","v":-0.2999999999999998},1.3394777649412695]
[{"$f":"A160+Sheet2!G$5","v":{"v":-2.21078921078922,"d":"-2.21"}},-6.392575922809371,{"$f":"(B162-B161)/Sheet2!$G$5","v":-16.99253777606591},48.65111711469204,-28.147041335765728,{"$nulls":4},{"$f":"IF(AND(E161>G$7,E161<G$8),A161,Sheet1!$Q$22)","v":-0.2999999999999998},1.3394777649412695]
[{"$f":"A161+Sheet2!G$5","v":{"v":-2.205794205794215,"d":"-2.21"}},-6.477453733878631,{"$f":"(B163-B162)/Sheet2!$G$5","v":-16.750847532111024},48.38638683976825,-28.027425500388937,{"$nulls":4},{"$f":"IF(AND(E162>G$7,E162<G$8),A162,Sheet1!$Q$22)","v":-0.2999999999999998},1.3394777649412695]
[{"$f":"A162+Sheet2!G$5","v":{"v":-2.20079920079921,"d":"-2.20"}},-6.561124300972093,{"$f":"(B164-B163)/Sheet2!$G$5","v":-16.510476626181102},48.122255367170474,-27.90803262961506,{"$nulls":4},{"$f":"IF(AND(E163>G$7,E163<G$8),A163,Sheet1!$Q$22)","v":-0.2999999999999998},1.3394777649412695]
[{"$f":"A163+Sheet2!G$5","v":{"v":-2.195804195804205,"d":"-2.20"}},-6.643594214189781,{"$f":"(B165-B164)/Sheet2!$G$5","v":-16.271422067260513},47.85872269590197,-27.78886272344409,{"$nulls":4},{"$f":"IF(AND(E164>G$7,E164<G$8),A164,Sheet1!$Q$22)","v":-0.2999999999999998},1.3394777649412695]
[{"$f":"A164+Sheet2!G$5","v":{"v":-2.1908091908092002,"d":"-2.19"}},-6.724870048691582,{"$f":"(B166-B165)/Sheet2!$G$5","v":-16.03368086433149},47.595788826389914,-27.669915781876025,{"$nulls":4},{"$f":"IF(AND(E165>G$7,E165<G$8),A165,Sheet1!$Q$22)","v":-0.2999999999999998},1.3394777649412695]
[{"$f":"A165+Sheet2!G$5","v":{"v":-2.1858141858141953,"d":"-2.19"}},-6.804958364697233,{"$f":"(B167-B166)/Sheet2!$G$5","v":-15.797250026374142},47.33345375906149,-27.55119180491087,{"$nulls":4},{"$f":"IF(AND(E166>G$7,E166<G$8),A166,Sheet1!$Q$22)","v":-0.2999999999999998},1.3394777649412695]
[{"$f":"A166+Sheet2!G$5","v":{"v":-2.1808191808191904,"d":"-2.18"}},-6.883865707486315,{"$f":"(B168-B167)/Sheet2!$G$5","v":-15.56212656237141},47.07171749334712,-27.432690792548627,{"$nulls":4},{"$f":"IF(AND(E167>G$7,E167<G$8),A167,Sheet1!$Q$22)","v":-0.2999999999999998},1.3394777649412695]
[{"$f":"A167+Sheet2!G$5","v":{"v":-2.1758241758241854,"d":"-2.18"}},-6.96159860739826,{"$f":"(B169-B168)/Sheet2!$G$5","v":-15.328307481304817},46.8105800295316,-27.314412744789287,{"$nulls":4},{"$f":"IF(AND(E168>G$7,E168<G$8),A168,Sheet1!$Q$22)","v":-0.2999999999999998},1.3394777649412695]
[{"$f":"A168+Sheet2!G$5","v":{"v":-2.1708291708291805,"d":"-2.17"}},-7.03816357983235,{"$f":"(B170-B169)/Sheet2!$G$5","v":-15.095789792158737},46.550041367045345,-27.19635766163286,{"$nulls":4},{"$f":"IF(AND(E169>G$7,E169<G$8),A169,Sheet1!$Q$22)","v":-0.2999999999999998},1.3394777649412695]
[{"$f":"A169+Sheet2!G$5","v":{"v":-2.1658341658341755,"d":"-2.17"}},-7.113567125247728,{"$f":"(B171-B170)/Sheet2!$G$5","v":-14.864570503912557},46.290101506885115,-27.078525543079337,{"$nulls":4},{"$f":"IF(AND(E170>G$7,E170<G$8),A170,Sheet1!$Q$22)","v":-0.2999999999999998},1.3394777649412695]
[{"$f":"A170+Sheet2!G$5","v":{"v":-2.1608391608391706,"d":"-2.16"}},-7.1878157291633755,{"$f":"(B172-B171)/Sheet2!$G$5","v":-14.634646625549937},46.030760448196546,-26.960916389128723,{"$nulls":4},{"$f":"IF(AND(E171>G$7,E171<G$8),A171,Sheet1!$Q$22)","v":-0.2999999999999998},1.3394777649412695]
[{"$f":"A171+Sheet2!G$5","v":{"v":-2.1558441558441657,"d":"-2.16"}},-7.2609158621581305,{"$f":"(B173-B172)/Sheet2!$G$5","v":-14.406015166050267},45.772018191834,-26.84353019978102,{"$nulls":4},{"$f":"IF(AND(E172>G$7,E172<G$8),A172,Sheet1!$Q$22)","v":-0.2999999999999998},1.3394777649412695]
[{"$f":"A172+Sheet2!G$5","v":{"v":-2.1508491508491607,"d":"-2.15"}},-7.332873979870669,{"$f":"(B174-B173)/Sheet2!$G$5","v":-14.178673134398627},45.51387473665834,-26.726366975036225,{"$nulls":4},{"$f":"IF(AND(E173>G$7,E173<G$8),A173,Sheet1!$Q$22)","v":-0.2999999999999998},1.3394777649412695]
[{"$f":"A173+Sheet2!G$5","v":{"v":-2.145854145854156,"d":"-2.15"}},-7.4036965229995335,{"$f":"(B175-B174)/Sheet2!$G$5","v":-13.952617539576542},45.25633008338151,-26.609426714894337,{"$nulls":4},{"$f":"IF(AND(E174>G$7,E174<G$8),A174,Sheet1!$Q$22)","v":-0.2999999999999998},1.3394777649412695]
[{"$f":"A174+Sheet2!G$5","v":{"v":-2.140859140859151,"d":"-2.14"}},-7.473389917303113,{"$f":"(B176-B175)/Sheet2!$G$5","v":-13.727845390564111},44.99938423228832,-26.492709419355357,{"$nulls":4},{"$f":"IF(AND(E175>G$7,E175<G$8),A175,Sheet1!$Q$22)","v":-0.2999999999999998},1.3394777649412695]
[{"$f":"A175+Sheet2!G$5","v":{"v":-2.135864135864146,"d":"-2.14"}},-7.541960573599637,{"$f":"(B177-B176)/Sheet2!$G$5","v":-13.504353696346419},44.743037182382004,-26.376215088419286,{"$nulls":4},{"$f":"IF(AND(E176>G$7,E176<G$8),A176,Sheet1!$Q$22)","v":-0.2999999999999998},1.3394777649412695]
[{"$f":"A176+Sheet2!G$5","v":{"v":-2.130869130869141,"d":"-2.13"}},-7.609414887767201,{"$f":"(B178-B177)/Sheet2!$G$5","v":-13.282139465902143},44.487288934944104,-26.25994372208612,{"$nulls":4},{"$f":"IF(AND(E177>G$7,E177<G$8),A177,Sheet1!$Q$22)","v":-0.2999999999999998},1.3394777649412695]
[{"$f":"A177+Sheet2!G$5","v":{"v":-2.125874125874136,"d":"-2.13"}},-7.675759240743735,{"$f":"(B179-B178)/Sheet2!$G$5","v":-13.061199708214941},44.232139488977865,-26.14389532035587,{"$nulls":4},{"$f":"IF(AND(E178>G$7,E178<G$8),A178,Sheet1!$Q$22)","v":-0.2999999999999998},1.3394777649412695]
[{"$f":"A178+Sheet2!G$5","v":{"v":-2.120879120879131,"d":"-2.12"}},-7.740999998527027,{"$f":"(B180-B179)/Sheet2!$G$5","v":-12.841531432267049},43.97758884476808,-26.028069883228525,{"$nulls":4},{"$f":"IF(AND(E179>G$7,E179<G$8),A179,Sheet1!$Q$22)","v":-0.2999999999999998},1.3394777649412695]
[{"$f":"A179+Sheet2!G$5","v":{"v":-2.115884115884126,"d":"-2.12"}},-7.805143512174714,{"$f":"(B181-B180)/Sheet2!$G$5","v":-12.623131647041413},43.72363700217235,-25.91246741070409,{"$nulls":4},{"$f":"IF(AND(E180>G$7,E180<G$8),A180,Sheet1!$Q$22)","v":-0.2999999999999998},1.3394777649412695]
[{"$f":"A180+Sheet2!G$5","v":{"v":-2.1108891108891212,"d":"-2.11"}},-7.868196117804292,{"$f":"(B182-B181)/Sheet2!$G$5","v":-12.405997361518134},43.47028396176025,-25.797087902782557,{"$nulls":4},{"$f":"IF(AND(E181>G$7,E181<G$8),A181,Sheet1!$Q$22)","v":-0.2999999999999998},1.3394777649412695]
[{"$f":"A181+Sheet2!G$5","v":{"v":-2.1058941058941163,"d":"-2.11"}},-7.930164136593094,{"$f":"(B183-B182)/Sheet2!$G$5","v":-12.19012558467874},43.217529723247,-25.68193135946394,{"$nulls":4},{"$f":"IF(AND(E182>G$7,E182<G$8),A182,Sheet1!$Q$22)","v":-0.2999999999999998},1.3394777649412695]
[{"$f":"A182+Sheet2!G$5","v":{"v":-2.1008991008991114,"d":"-2.10"}},-7.991053874778302,{"$f":"(B184-B183)/Sheet2!$G$5","v":-11.975513325509018},42.965374285778225,-25.566997780748224,{"$nulls":4},{"$f":"IF(AND(E183>G$7,E183<G$8),A183,Sheet1!$Q$22)","v":-0.2999999999999998},1.3394777649412695]
[{"$f":"A183+Sheet2!G$5","v":{"v":-2.0959040959041064,"d":"-2.10"}},-8.050871623656969,{"$f":"(B185-B184)/Sheet2!$G$5","v":-11.762157592986227},42.713817651062655,-25.452287166635422,{"$nulls":4},{"$f":"IF(AND(E184>G$7,E184<G$8),A184,Sheet1!$Q$22)","v":-0.2999999999999998},1.3394777649412695]
[{"$f":"A184+Sheet2!G$5","v":{"v":-2.0909090909091015,"d":"-2.09"}},-8.10962365958597,{"$f":"(B186-B185)/Sheet2!$G$5","v":-11.550055396096159},42.46285981739157,-25.337799517125525,{"$nulls":4},{"$f":"IF(AND(E185>G$7,E185<G$8),A185,Sheet1!$Q$22)","v":-0.2999999999999998},1.3394777649412695]
[{"$f":"A185+Sheet2!G$5","v":{"v":-2.0859140859140965,"d":"-2.09"}},-8.167316243982055,{"$f":"(B187-B186)/Sheet2!$G$5","v":-11.339203743818205},42.212500786046505,-25.22353483221854,{"$nulls":4},{"$f":"IF(AND(E186>G$7,E186<G$8),A186,Sheet1!$Q$22)","v":-0.2999999999999998},1.3394777649412695]
[{"$f":"A186+Sheet2!G$5","v":{"v":-2.0809190809190916,"d":"-2.08"}},-8.223955623321807,{"$f":"(B188-B187)/Sheet2!$G$5","v":-11.129599645136022},41.96274055617311,-25.10949311191446,{"$nulls":4},{"$f":"IF(AND(E187>G$7,E187<G$8),A187,Sheet1!$Q$22)","v":-0.2999999999999998},1.3394777649412695]
[{"$f":"A187+Sheet2!G$5","v":{"v":-2.0759240759240867,"d":"-2.08"}},-8.279548029141667,{"$f":"(B189-B188)/Sheet2!$G$5","v":-10.921240109031134},41.71357912819855,-24.99567435621329,{"$nulls":4},{"$f":"IF(AND(E188>G$7,E188<G$8),A188,Sheet1!$Q$22)","v":-0.2999999999999998},1.3394777649412695]
[{"$f":"A188+Sheet2!G$5","v":{"v":-2.0709290709290817,"d":"-2.07"}},-8.334099678037926,{"$f":"(B190-B189)/Sheet2!$G$5","v":-10.714122144487199},41.46501650169566,-24.882078565115027,{"$nulls":4},{"$f":"IF(AND(E189>G$7,E189<G$8),A189,Sheet1!$Q$22)","v":-0.2999999999999998},1.3394777649412695]
[{"$f":"A189+Sheet2!G$5","v":{"v":-2.065934065934077,"d":"-2.07"}},-8.387616771666734,{"$f":"(B191-B190)/Sheet2!$G$5","v":-10.508242760482187},41.21705267780358,-24.768705738619673,{"$nulls":4},{"$f":"IF(AND(E190>G$7,E190<G$8),A190,Sheet1!$Q$22)","v":-0.2999999999999998},1.3394777649412695]
[{"$f":"A190+Sheet2!G$5","v":{"v":-2.060939060939072,"d":"-2.06"}},-8.440105496744067,{"$f":"(B192-B191)/Sheet2!$G$5","v":-10.303598966001887},40.969687654955976,-24.655555876727227,{"$nulls":4},{"$f":"IF(AND(E191>G$7,E191<G$8),A191,Sheet1!$Q$22)","v":-0.2999999999999998},1.3394777649412695]
[{"$f":"A191+Sheet2!G$5","v":{"v":-2.055944055944067,"d":"-2.06"}},-8.491572025045775,{"$f":"(B193-B192)/Sheet2!$G$5","v":-10.100187770026402},40.72292143429201,-24.542628979437694,{"$nulls":4},{"$f":"IF(AND(E192>G$7,E192<G$8),A192,Sheet1!$Q$22)","v":-0.2999999999999998},1.3394777649412695]
[{"$f":"A192+Sheet2!G$5","v":{"v":-2.050949050949062,"d":"-2.05"}},-8.542022513407545,{"$f":"(B194-B193)/Sheet2!$G$5","v":-9.898006181540103},40.476754014957315,-24.429925046751066,{"$nulls":4},{"$f":"IF(AND(E193>G$7,E193<G$8),A193,Sheet1!$Q$22)","v":-0.2999999999999998},1.3394777649412695]
[{"$f":"A193+Sheet2!G$5","v":{"v":-2.045954045954057,"d":"-2.05"}},-8.591463103724928,{"$f":"(B195-B194)/Sheet2!$G$5","v":-9.697051209520243},40.231185398375814,-24.317444078667343,{"$nulls":4},{"$f":"IF(AND(E194>G$7,E194<G$8),A194,Sheet1!$Q$22)","v":-0.2999999999999998},1.3394777649412695]
[{"$f":"A194+Sheet2!G$5","v":{"v":-2.040959040959052,"d":"-2.04"}},{"$f":"x^4-5*x^2+4*x+3","v":-8.639899922953301},{"$f":"(B196-B195)/Sheet2!$G$5","v":-9.497319862954038},39.98621558255402,-24.205186075186532,{"$nulls":4},{"$f":"IF(AND(E195>G$7,E195<G$8),A195,Sheet1!$Q$22)","v":-0.2999999999999998},1.3394777649412695]
[{"$f":"A195+Sheet2!G$5","v":{"v":-2.035964035964047,"d":"-2.04"}},-8.687339083107917,{"$f":"(B197-B196)/Sheet2!$G$5","v":-9.298809150822303},39.74184456877346,{"$f":"G$10+G$11*(A196-G$9)+G$12*(A196-G$9)^2/2","v":-24.093151036308626},{"$nulls":4},{"$f":"IF(AND(E196>G$7,E196<G$8),A196,Sheet1!$Q$22)","v":-0.2999999999999998},{"$f":"IF(AND(E196>G$7,E196<G$8),E196,G$10)","v":1.3394777649412695}]
[{"$f":"A196+Sheet2!G$5","v":{"v":-2.0309690309690422,"d":"-2.03"}},-8.733786681263872,{"$f":"(B198-B197)/Sheet2!$G$5","v":-9.101516082104427},{"$f":"(B198-2*B197+B196)/G$5^2","v":39.49807235731892},-23.981338962033632,{"$nulls":4},{"$f":"IF(AND(E197>G$7,E197<G$8),A197,Sheet1!$Q$22)","v":-0.2999999999999998},1.3394777649412695]
[{"$f":"A197+Sheet2!G$5","v":{"v":-2.0259740259740373,"d":"-2.03"}},-8.779248799556102,{"$f":"(B199-B198)/Sheet2!$G$5","v":-8.905437665784778},39.25489894719365,-23.869749852361547,{"$nulls":4},{"$f":"IF(AND(E198>G$7,E198<G$8),A198,Sheet1!$Q$22)","v":-0.2999999999999998},1.3394777649412695]
[{"$f":"A198+Sheet2!G$5","v":{"v":-2.0209790209790324,"d":"-2.02"}},-8.823731505179403,{"$f":"(B200-B199)/Sheet2!$G$5","v":-8.71057091084417},39.01232433910962,-23.758383707292367,{"$nulls":4},{"$f":"IF(AND(E199>G$7,E199<G$8),A199,Sheet1!$Q$22)","v":-0.2999999999999998},1.3394777649412695]
[{"$f":"A199+Sheet2!G$5","v":{"v":-2.0159840159840274,"d":"-2.02"}},-8.867240850388415,{"$f":"(B201-B200)/Sheet2!$G$5","v":-8.516912826266262},38.77034853249725,-23.6472405268261,{"$nulls":4},{"$f":"IF(AND(E200>G$7,E200<G$8),A200,Sheet1!$Q$22)","v":-0.2999999999999998},1.3394777649412695]
[{"$f":"A200+Sheet2!G$5","v":{"v":-2.0109890109890225,"d":"-2.01"}},-8.909782872497637,{"$f":"(B202-B201)/Sheet2!$G$5","v":-8.324460421031155},38.52897152806851,-23.536320310962736,{"$nulls":4},{"$f":"IF(AND(E201>G$7,E201<G$8),A201,Sheet1!$Q$22)","v":-0.2999999999999998},1.3394777649412695]
[{"$f":"A201+Sheet2!G$5","v":{"v":-2.0059940059940176,"d":"-2.01"}},-8.951363593881409,{"$f":"(B203-B202)/Sheet2!$G$5","v":-8.133210704123217},38.28819332496904,-23.425623059702282,{"$nulls":4},{"$f":"IF(AND(E202>G$7,E202<G$8),A202,Sheet1!$Q$22)","v":-0.2999999999999998},1.3394777649412695]
[{"$f":"A202+Sheet2!G$5","v":{"v":-2.0009990009990126,"d":"-2.00"}},-8.991989021973932,{"$f":"(B204-B203)/Sheet2!$G$5","v":-7.9431606845214855},38.0480139242668,-23.31514877304474,{"$nulls":4},{"$f":"IF(AND(E203>G$7,E203<G$8),A203,Sheet1!$Q$22)","v":-0.2999999999999998},1.3394777649412695]
[{"$f":"A203+Sheet2!G$5","v":{"v":-1.9960039960040077,"d":"-2.00"}},-9.031665149269244,{"$f":"(B205-B204)/Sheet2!$G$5","v":-7.754307371209972},37.808433324965016,-23.204897450990103,{"$nulls":4},{"$f":"IF(AND(E204>G$7,E204<G$8),A204,Sheet1!$Q$22)","v":-0.2999999999999998},1.3394777649412695]
[{"$f":"A204+Sheet2!G$5","v":{"v":-1.9910089910090027,"d":"-1.99"}},-9.070397953321242,{"$f":"(B206-B205)/Sheet2!$G$5","v":-7.566647773170912},37.56945152741969,-23.094869093538374,{"$nulls":4},{"$f":"IF(AND(E205>G$7,E205<G$8),A205,Sheet1!$Q$22)","v":-0.2999999999999998},1.3394777649412695]
[{"$f":"A205+Sheet2!G$5","v":{"v":-1.9860139860139978,"d":"-1.99"}},-9.108193396743674,{"$f":"(B207-B206)/Sheet2!$G$5","v":-7.380178899385475},37.331068531844394,-22.985063700689558,{"$nulls":4},{"$f":"IF(AND(E206>G$7,E206<G$8),A206,Sheet1!$Q$22)","v":-0.2999999999999998},1.3394777649412695]
[{"$f":"A206+Sheet2!G$5","v":{"v":-1.9810189810189929,"d":"-1.98"}},-9.145057427210135,{"$f":"(B208-B207)/Sheet2!$G$5","v":-7.194897758835186},37.09328433816795,-22.875481272443643,{"$nulls":4},{"$f":"IF(AND(E207>G$7,E207<G$8),A207,Sheet1!$Q$22)","v":-0.2999999999999998},1.3394777649412695]
[{"$f":"A207+Sheet2!G$5","v":{"v":-1.976023976023988,"d":"-1.98"}},-9.180995977454067,{"$f":"(B209-B208)/Sheet2!$G$5","v":-7.010801360504413},36.85609894582077,-22.76612180880064,{"$nulls":4},{"$f":"IF(AND(E208>G$7,E208<G$8),A208,Sheet1!$Q$22)","v":-0.2999999999999998},1.3394777649412695]
[{"$f":"A208+Sheet2!G$5","v":{"v":-1.971028971028983,"d":"-1.97"}},-9.216014965268775,{"$f":"(B210-B209)/Sheet2!$G$5","v":-6.827886713371836},36.61951235594201,-22.656985309760547,{"$nulls":4},{"$f":"IF(AND(E209>G$7,E209<G$8),A209,Sheet1!$Q$22)","v":-0.2999999999999998},1.3394777649412695]
[{"$f":"A209+Sheet2!G$5","v":{"v":-1.966033966033978,"d":"-1.97"}},-9.250120293507395,{"$f":"(B211-B210)/Sheet2!$G$5","v":-6.64615082642289},36.38352456717893,-22.54807177532336,{"$nulls":4},{"$f":"IF(AND(E210>G$7,E210<G$8),A210,Sheet1!$Q$22)","v":-0.2999999999999998},1.3394777649412695]
[{"$f":"A210+Sheet2!G$5","v":{"v":-1.9610389610389731,"d":"-1.96"}},-9.283317850082934,{"$f":"(B212-B211)/Sheet2!$G$5","v":-6.465590708636255},36.148135580884265,-22.439381205489084,{"$nulls":4},{"$f":"IF(AND(E211>G$7,E211<G$8),A211,Sheet1!$Q$22)","v":-0.2999999999999998},1.3394777649412695]
[{"$f":"A211+Sheet2!G$5","v":{"v":-1.9560439560439682,"d":"-1.96"}},-9.31561350796823,{"$f":"(B213-B212)/Sheet2!$G$5","v":-6.2862033689977235},35.91334539563408,-22.330913600257716,{"$nulls":4},{"$f":"IF(AND(E212>G$7,E212<G$8),A212,Sheet1!$Q$22)","v":-0.2999999999999998},1.3394777649412695]
[{"$f":"A212+Sheet2!G$5","v":{"v":-1.9510489510489633,"d":"-1.95"}},-9.347013125195991,{"$f":"(B214-B213)/Sheet2!$G$5","v":-6.107985816484907},35.67915401306591,-22.222668959629253,{"$nulls":4},{"$f":"IF(AND(E213>G$7,E213<G$8),A213,Sheet1!$Q$22)","v":-0.2999999999999998},1.3394777649412695]
[{"$f":"A213+Sheet2!G$5","v":{"v":-1.9460539460539583,"d":"-1.95"}},-9.377522544858753,{"$f":"(B215-B214)/Sheet2!$G$5","v":-5.930935060084308},35.445561431399824,-22.114647283603702,{"$nulls":4},{"$f":"IF(AND(E214>G$7,E214<G$8),A214,Sheet1!$Q$22)","v":-0.2999999999999998},1.3394777649412695]
[{"$f":"A214+Sheet2!G$5","v":{"v":-1.9410589410589534,"d":"-1.94"}},-9.407147595108924,{"$f":"(B216-B215)/Sheet2!$G$5","v":-5.7550481087746075},35.21256765220216,-22.006848572181056,{"$nulls":4},{"$f":"IF(AND(E215>G$7,E215<G$8),A215,Sheet1!$Q$22)","v":-0.2999999999999998},1.3394777649412695]
[{"$f":"A215+Sheet2!G$5","v":{"v":-1.9360639360639484,"d":"-1.94"}},-9.435894089158747,{"$f":"(B217-B216)/Sheet2!$G$5","v":-5.580321971539817},34.98017267440496,-21.899272825361322,{"$nulls":4},{"$f":"IF(AND(E216>G$7,E216<G$8),A216,Sheet1!$Q$22)","v":-0.2999999999999998},1.3394777649412695]
[{"$f":"A216+Sheet2!G$5","v":{"v":-1.9310689310689435,"d":"-1.93"}},-9.463767825280325,{"$f":"(B218-B217)/Sheet2!$G$5","v":-5.406753657360396},34.74837649872019,-21.791920043144493,{"$nulls":4},{"$f":"IF(AND(E217>G$7,E217<G$8),A217,Sheet1!$Q$22)","v":-0.2999999999999998},1.3394777649412695]
[{"$f":"A217+Sheet2!G$5","v":{"v":-1.9260739260739386,"d":"-1.93"}},-9.490774586805601,{"$f":"(B219-B218)/Sheet2!$G$5","v":-5.234340175219645},34.517179124578284,-21.684790225530573,{"$nulls":4},{"$f":"IF(AND(E218>G$7,E218<G$8),A218,Sheet1!$Q$22)","v":-0.2999999999999998},1.3394777649412695]
[{"$f":"A218+Sheet2!G$5","v":{"v":-1.9210789210789336,"d":"-1.92"}},-9.516920142126379,{"$f":"(B220-B219)/Sheet2!$G$5","v":-5.063078534099089},34.286580552335224,-21.577883372519565,{"$nulls":4},{"$f":"IF(AND(E219>G$7,E219<G$8),A219,Sheet1!$Q$22)","v":-0.2999999999999998},1.3394777649412695]
[{"$f":"A219+Sheet2!G$5","v":{"v":-1.9160839160839287,"d":"-1.92"}},-9.542210244694306,{"$f":"(B221-B220)/Sheet2!$G$5","v":-4.892965742982032},34.05658078163502,-21.471199484111462,{"$nulls":4},{"$f":"IF(AND(E220>G$7,E220<G$8),A220,Sheet1!$Q$22)","v":-0.2999999999999998},1.3394777649412695]
[{"$f":"A220+Sheet2!G$5","v":{"v":-1.9110889110889238,"d":"-1.91"}},-9.56665063302089,{"$f":"(B222-B221)/Sheet2!$G$5","v":-4.72399881084715},33.827179813403234,-21.364738560306268,{"$nulls":4},{"$f":"IF(AND(E221>G$7,E221<G$8),A221,Sheet1!$Q$22)","v":-0.2999999999999998},1.3394777649412695]
[{"$f":"A221+Sheet2!G$5","v":{"v":-1.9060939060939188,"d":"-1.91"}},-9.59024703067747,{"$f":"(B223-B222)/Sheet2!$G$5","v":-4.556174746679526},33.59837764635832,-21.258500601103982,{"$nulls":4},{"$f":"IF(AND(E222>G$7,E222<G$8),A222,Sheet1!$Q$22)","v":-0.2999999999999998},1.3394777649412695]
[{"$f":"A222+Sheet2!G$5","v":{"v":-1.9010989010989139,"d":"-1.90"}},-9.613005146295249,{"$f":"(B224-B223)/Sheet2!$G$5","v":-4.3894905594606834},33.37017428121226,-21.152485606504605,{"$nulls":4},{"$f":"IF(AND(E223>G$7,E223<G$8),A223,Sheet1!$Q$22)","v":-0.2999999999999998},1.3394777649412695]
[{"$f":"A223+Sheet2!G$5","v":{"v":-1.896103896103909,"d":"-1.90"}},-9.634930673565282,{"$f":"(B225-B224)/Sheet2!$G$5","v":-4.223943258172502},33.142569717893835,-21.046693576508137,{"$nulls":4},{"$f":"IF(AND(E224>G$7,E224<G$8),A224,Sheet1!$Q$22)","v":-0.2999999999999998},1.3394777649412695]
[{"$f":"A224+Sheet2!G$5","v":{"v":-1.891108891108904,"d":"-1.89"}},-9.656029291238472,{"$f":"(B226-B225)/Sheet2!$G$5","v":-4.059529851796151},32.915563956545455,-20.941124511114573,{"$nulls":4},{"$f":"IF(AND(E225>G$7,E225<G$8),A225,Sheet1!$Q$22)","v":-0.2999999999999998},1.3394777649412695]
[{"$f":"A225+Sheet2!G$5","v":{"v":-1.886113886113899,"d":"-1.89"}},-9.676306663125565,{"$f":"(B227-B226)/Sheet2!$G$5","v":-3.896247349314222},32.68915699688233,-20.835778410323925,{"$nulls":4},{"$f":"IF(AND(E226>G$7,E226<G$8),A226,Sheet1!$Q$22)","v":-0.2999999999999998},1.3394777649412695]
[{"$f":"A226+Sheet2!G$5","v":{"v":-1.8811188811188941,"d":"-1.88"}},-9.695768438097165,{"$f":"(B228-B227)/Sheet2!$G$5","v":-3.7340927597085933},32.46334883904685,-20.73065527413618,{"$nulls":4},{"$f":"IF(AND(E227>G$7,E227<G$8),A227,Sheet1!$Q$22)","v":-0.2999999999999998},1.3394777649412695]
[{"$f":"A227+Sheet2!G$5","v":{"v":-1.8761238761238892,"d":"-1.88"}},-9.714420250083721,{"$f":"(B229-B228)/Sheet2!$G$5","v":-3.5730630919622124},32.23813948282543,-20.625755102551345,{"$nulls":4},{"$f":"IF(AND(E228>G$7,E228<G$8),A228,Sheet1!$Q$22)","v":-0.2999999999999998},1.3394777649412695]
[{"$f":"A228+Sheet2!G$5","v":{"v":-1.8711288711288843,"d":"-1.87"}},-9.73226771807554,{"$f":"(B230-B229)/Sheet2!$G$5","v":-3.413155355055893},32.01352892864524,-20.52107789556942,{"$nulls":4},{"$f":"IF(AND(E229>G$7,E229<G$8),A229,Sheet1!$Q$22)","v":-0.2999999999999998},1.3394777649412695]
[{"$f":"A229+Sheet2!G$5","v":{"v":-1.8661338661338793,"d":"-1.87"}},-9.749316446122773,{"$f":"(B231-B230)/Sheet2!$G$5","v":-3.254366557972225},31.789517176150312,-20.4166236531904,{"$nulls":4},{"$f":"IF(AND(E230>G$7,E230<G$8),A230,Sheet1!$Q$22)","v":-0.2999999999999998},1.3394777649412695]
[{"$f":"A230+Sheet2!G$5","v":{"v":-1.8611388611388744,"d":"-1.86"}},-9.765572023335421,{"$f":"(B232-B231)/Sheet2!$G$5","v":-3.0966937096934446},31.56610422541183,-20.31239237541429,{"$nulls":4},{"$f":"IF(AND(E231>G$7,E231<G$8),A231,Sheet1!$Q$22)","v":-0.2999999999999998},1.3394777649412695]
[{"$f":"A231+Sheet2!G$5","v":{"v":-1.8561438561438695,"d":"-1.86"}},-9.78104002388334,{"$f":"(B233-B232)/Sheet2!$G$5","v":-2.9401338192010757},31.343290076572192,-20.208384062241088,{"$nulls":4},{"$f":"IF(AND(E232>G$7,E232<G$8),A232,Sheet1!$Q$22)","v":-0.2999999999999998},1.3394777649412695]
[{"$f":"A232+Sheet2!G$5","v":{"v":-1.8511488511488645,"d":"-1.85"}},-9.795726006996233,{"$f":"(B234-B233)/Sheet2!$G$5","v":-2.7846838954780657},31.12107472934661,-20.104598713670796,{"$nulls":4},{"$f":"IF(AND(E233>G$7,E233<G$8),A233,Sheet1!$Q$22)","v":-0.2999999999999998},1.3394777649412695]
[{"$f":"A233+Sheet2!G$5","v":{"v":-1.8461538461538596,"d":"-1.85"}},-9.809635516963656,{"$f":"(B235-B234)/Sheet2!$G$5","v":-2.630340947504872},30.89945818423346,-20.00103632970341,{"$nulls":4},{"$f":"IF(AND(E234>G$7,E234<G$8),A234,Sheet1!$Q$22)","v":-0.2999999999999998},1.3394777649412695]
[{"$f":"A234+Sheet2!G$5","v":{"v":-1.8411588411588546,"d":"-1.84"}},-9.822774083135009,{"$f":"(B236-B235)/Sheet2!$G$5","v":-2.4771019842644404},30.678440440734366,-19.897696910338933,{"$nulls":4},{"$f":"IF(AND(E235>G$7,E235<G$8),A235,Sheet1!$Q$22)","v":-0.2999999999999998},1.3394777649412695]
[{"$f":"A235+Sheet2!G$5","v":{"v":-1.8361638361638497,"d":"-1.84"}},-9.835147219919547,{"$f":"(B237-B236)/Sheet2!$G$5","v":-2.3249640147386517},30.458021499062923,-19.794580455577364,{"$nulls":4},{"$f":"IF(AND(E236>G$7,E236<G$8),A236,Sheet1!$Q$22)","v":-0.2999999999999998},1.3394777649412695]
[{"$f":"A236+Sheet2!G$5","v":{"v":-1.8311688311688448,"d":"-1.83"}},-9.846760426786373,{"$f":"(B238-B237)/Sheet2!$G$5","v":-2.1739240479108077},30.238201358934337,-19.691686965418704,{"$nulls":4},{"$f":"IF(AND(E237>G$7,E237<G$8),A237,Sheet1!$Q$22)","v":-0.2999999999999998},1.3394777649412695]
[{"$f":"A237+Sheet2!G$5","v":{"v":-1.8261738261738398,"d":"-1.83"}},-9.857619188264449,{"$f":"(B239-B238)/Sheet2!$G$5","v":-2.023979092760655},30.018980021060578,-19.589016439862952,{"$nulls":4},{"$f":"IF(AND(E238>G$7,E238<G$8),A238,Sheet1!$Q$22)","v":-0.2999999999999998},1.3394777649412695]
[{"$f":"A238+Sheet2!G$5","v":{"v":-1.821178821178835,"d":"-1.82"}},-9.867728973942574,{"$f":"(B240-B239)/Sheet2!$G$5","v":-1.875126158272207},29.800357484587288,-19.48656887891011,{"$nulls":4},{"$f":"IF(AND(E239>G$7,E239<G$8),A239,Sheet1!$Q$22)","v":-0.2999999999999998},1.3394777649412695]
[{"$f":"A239+Sheet2!G$5","v":{"v":-1.81618381618383,"d":"-1.82"}},-9.877095238469408,{"$f":"(B241-B240)/Sheet2!$G$5","v":-1.727362253425921},29.58233375022643,-19.384344282560175,{"$nulls":4},{"$f":"IF(AND(E240>G$7,E240<G$8),A240,Sheet1!$Q$22)","v":-0.2999999999999998},1.3394777649412695]
[{"$f":"A240+Sheet2!G$5","v":{"v":-1.811188811188825,"d":"-1.81"}},-9.885723421553454,{"$f":"(B242-B241)/Sheet2!$G$5","v":-1.5806843872054555},29.364908817337234,-19.28234265081315,{"$nulls":4},{"$f":"IF(AND(E241>G$7,E241<G$8),A241,Sheet1!$Q$22)","v":-0.2999999999999998},1.3394777649412695]
[{"$f":"A241+Sheet2!G$5","v":{"v":-1.80619380619382,"d":"-1.81"}},-9.893618947963072,{"$f":"(B243-B242)/Sheet2!$G$5","v":-1.4350895685902003},29.14808268677406,-19.180563983669032,{"$nulls":4},{"$f":"IF(AND(E242>G$7,E242<G$8),A242,Sheet1!$Q$22)","v":-0.2999999999999998},1.3394777649412695]
[{"$f":"A242+Sheet2!G$5","v":{"v":-1.8011988011988151,"d":"-1.80"}},-9.90078722752646,{"$f":"(B244-B243)/Sheet2!$G$5","v":-1.290574806565592},28.931855357326572,-19.07900828112782,{"$nulls":4},{"$f":"IF(AND(E243>G$7,E243<G$8),A243,Sheet1!$Q$22)","v":-0.2999999999999998},1.3394777649412695]
[{"$f":"A243+Sheet2!G$5","v":{"v":-1.7962037962038102,"d":"-1.80"}},-9.907233655131682,{"$f":"(B245-B244)/Sheet2!$G$5","v":-1.1471371101113768},28.716226830133905,-18.97767554318952,{"$nulls":4},{"$f":"IF(AND(E244>G$7,E244<G$8),A244,Sheet1!$Q$22)","v":-0.2999999999999998},1.3394777649412695]
[{"$f":"A244+Sheet2!G$5","v":{"v":-1.7912087912088053,"d":"-1.79"}},-9.912963610726644,{"$f":"(B246-B245)/Sheet2!$G$5","v":-1.0047734882112125},28.501197104412906,-18.87656576985413,{"$nulls":4},{"$f":"IF(AND(E245>G$7,E245<G$8),A245,Sheet1!$Q$22)","v":-0.2999999999999998},1.3394777649412695]
[{"$f":"A245+Sheet2!G$5","v":{"v":-1.7862137862138003,"d":"-1.79"}},-9.917982459319107,{"$f":"(B247-B246)/Sheet2!$G$5","v":-0.8634809498441338},28.286766181089124,-18.775678961121642,{"$nulls":4},{"$f":"IF(AND(E246>G$7,E246<G$8),A246,Sheet1!$Q$22)","v":-0.2999999999999998},1.3394777649412695]
[{"$f":"A246+Sheet2!G$5","v":{"v":-1.7812187812187954,"d":"-1.78"}},-9.92229555097667,{"$f":"(B248-B247)/Sheet2!$G$5","v":-0.7232565039959329},28.072934058809828,-18.675015116992064,{"$nulls":4},{"$f":"IF(AND(E247>G$7,E247<G$8),A247,Sheet1!$Q$22)","v":-0.2999999999999998},1.3394777649412695]
[{"$f":"A247+Sheet2!G$5","v":{"v":-1.7762237762237905,"d":"-1.78"}},-9.9259082208268,{"$f":"(B249-B248)/Sheet2!$G$5","v":-0.5840971596456445},27.85970073892775,-18.5745742374654,{"$nulls":4},{"$f":"IF(AND(E248>G$7,E248<G$8),A248,Sheet1!$Q$22)","v":-0.2999999999999998},1.3394777649412695]
[{"$f":"A248+Sheet2!G$5","v":{"v":-1.7712287712287855,"d":"-1.77"}},-9.928825789056798,{"$f":"(B250-B249)/Sheet2!$G$5","v":-0.4459999257776378},27.647066220374942,-18.474356322541638,{"$nulls":4},{"$f":"IF(AND(E249>G$7,E249<G$8),A249,Sheet1!$Q$22)","v":-0.2999999999999998},1.3394777649412695]
[{"$f":"A249+Sheet2!G$5","v":{"v":-1.7662337662337806,"d":"-1.77"}},-9.93105356091383,{"$f":"(B251-B250)/Sheet2!$G$5","v":-0.30896181137165896},27.43503050407696,-18.37436137222079,{"$nulls":4},{"$f":"IF(AND(E250>G$7,E250<G$8),A250,Sheet1!$Q$22)","v":-0.2999999999999998},1.3394777649412695]
[{"$f":"A250+Sheet2!G$5","v":{"v":-1.7612387612387757,"d":"-1.76"}},-9.932596826704897,{"$f":"(B252-B251)/Sheet2!$G$5","v":-0.1729798254117217},27.223593589179448,-18.274589386502846,{"$nulls":4},{"$f":"IF(AND(E251>G$7,E251<G$8),A251,Sheet1!$Q$22)","v":-0.2999999999999998},1.3394777649412695]
[{"$f":"A251+Sheet2!G$5","v":{"v":-1.7562437562437707,"d":"-1.76"}},-9.933460861796863,{"$f":"(B253-B252)/Sheet2!$G$5","v":-0.03805097687863892},27.012755476323168,-18.17504036538781,{"$nulls":4},{"$f":"IF(AND(E252>G$7,E252<G$8),A252,Sheet1!$Q$22)","v":-0.2999999999999998},1.3394777649412695]
[{"$f":"A252+Sheet2!G$5","v":{"v":-1.7512487512487658,"d":"-1.75"}},-9.933650926616437,{"$f":"(B254-B253)/Sheet2!$G$5","v":0.09582772524499816},26.802516165152145,-18.075714308875686,{"$nulls":4},{"$f":"IF(AND(E253>G$7,E253<G$8),A253,Sheet1!$Q$22)","v":-0.2999999999999998},1.3394777649412695]
[{"$f":"A253+Sheet2!G$5","v":{"v":-1.7462537462537608,"d":"-1.75"}},-9.933172266650178,{"$f":"(B255-B254)/Sheet2!$G$5","v":0.22865927197695407},26.592875655737572,-17.976611216966468,{"$nulls":4},{"$f":"IF(AND(E254>G$7,E254<G$8),A254,Sheet1!$Q$22)","v":-0.2999999999999998},1.3394777649412695]
[{"$f":"A254+Sheet2!G$5","v":{"v":-1.741258741258756,"d":"-1.74"}},-9.9320301124445,{"$f":"(B256-B255)/Sheet2!$G$5","v":0.36044665433606016},26.383833948293038,-17.87773108966016,{"$nulls":4},{"$f":"IF(AND(E255>G$7,E255<G$8),A255,Sheet1!$Q$22)","v":-0.2999999999999998},1.3394777649412695]
[{"$f":"A255+Sheet2!G$5","v":{"v":-1.736263736263751,"d":"-1.74"}},-9.930229679605658,{"$f":"(B257-B256)/Sheet2!$G$5","v":0.4911928633397252},26.175391042533757,-17.77907392695676,{"$nulls":4},{"$f":"IF(AND(E256>G$7,E256<G$8),A256,Sheet1!$Q$22)","v":-0.2999999999999998},1.3394777649412695]
[{"$f":"A256+Sheet2!G$5","v":{"v":-1.731268731268746,"d":"-1.73"}},-9.927776168799765,{"$f":"(B258-B257)/Sheet2!$G$5","v":0.6209008900060695},25.967546938602123,-17.680639728856267,{"$nulls":4},{"$f":"IF(AND(E257>G$7,E257<G$8),A257,Sheet1!$Q$22)","v":-0.2999999999999998},1.3394777649412695]
[{"$f":"A257+Sheet2!G$5","v":{"v":-1.726273726273741,"d":"-1.73"}},-9.924674765752782,{"$f":"(B259-B258)/Sheet2!$G$5","v":0.7495737253528574},25.760301636426938,-17.582428495358684,{"$nulls":4},{"$f":"IF(AND(E258>G$7,E258<G$8),A258,Sheet1!$Q$22)","v":-0.2999999999999998},1.3394777649412695]
[{"$f":"A258+Sheet2!G$5","v":{"v":-1.7212787212787362,"d":"-1.72"}},{"$f":"x^4-5*x^2+4*x+3","v":-9.92093064125052},{"$f":"(B260-B259)/Sheet2!$G$5","v":0.8772143603982091},25.553655136079403,-17.484440226464006,{"$nulls":4},{"$f":"IF(AND(E259>G$7,E259<G$8),A259,Sheet1!$Q$22)","v":-0.2999999999999998},1.3394777649412695]
[{"$f":"A259+Sheet2!G$5","v":{"v":-1.7162837162837312,"d":"-1.72"}},-9.91654895113864,{"$f":"(B261-B260)/Sheet2!$G$5","v":1.0038257861602446},25.347607437559514,{"$f":"G$10+G$11*(A260-G$9)+G$12*(A260-G$9)^2/2","v":-17.38667492217224},{"$nulls":4},{"$f":"IF(AND(E260>G$7,E260<G$8),A260,Sheet1!$Q$22)","v":-0.2999999999999998},{"$f":"IF(AND(E260>G$7,E260<G$8),E260,G$10)","v":1.3394777649412695}]
[{"$f":"A260+Sheet2!G$5","v":{"v":-1.7112887112887263,"d":"-1.71"}},-9.911534836322655,{"$f":"(B262-B261)/Sheet2!$G$5","v":1.1294109936560173},{"$f":"(B262-2*B261+B260)/G$5^2","v":25.14215854065368},-17.289132582483383,{"$nulls":4},{"$f":"IF(AND(E261>G$7,E261<G$8),A261,Sheet1!$Q$22)","v":-0.2999999999999998},1.3394777649412695]
[{"$f":"A261+Sheet2!G$5","v":{"v":-1.7062937062937213,"d":"-1.71"}},-9.90589342276793,{"$f":"(B263-B262)/Sheet2!$G$5","v":1.2539729739050696},24.93730844586028,-17.19181320739743,{"$nulls":4},{"$f":"IF(AND(E262>G$7,E262<G$8),A262,Sheet1!$Q$22)","v":-0.2999999999999998},1.3394777649412695]
[{"$f":"A262+Sheet2!G$5","v":{"v":-1.7012987012987164,"d":"-1.70"}},-9.899629821499673,{"$f":"(B264-B263)/Sheet2!$G$5","v":1.3775147179240992},24.73305715260974,-17.09471679691439,{"$nulls":4},{"$f":"IF(AND(E263>G$7,E263<G$8),A263,Sheet1!$Q$22)","v":-0.2999999999999998},1.3394777649412695]
[{"$f":"A263+Sheet2!G$5","v":{"v":-1.6963036963037115,"d":"-1.70"}},-9.892749128602949,{"$f":"(B265-B264)/Sheet2!$G$5","v":1.500039216731582},24.52940466125804,-16.997843351034255,{"$nulls":4},{"$f":"IF(AND(E264>G$7,E264<G$8),A264,Sheet1!$Q$22)","v":-0.2999999999999998},1.3394777649412695]
[{"$f":"A264+Sheet2!G$5","v":{"v":-1.6913086913087065,"d":"-1.69"}},-9.885256425222671,{"$f":"(B266-B265)/Sheet2!$G$5","v":1.6215494613456378},24.326350971733994,-16.90119286975703,{"$nulls":4},{"$f":"IF(AND(E265>G$7,E265<G$8),A265,Sheet1!$Q$22)","v":-0.2999999999999998},1.3394777649412695]
[{"$f":"A265+Sheet2!G$5","v":{"v":-1.6863136863137016,"d":"-1.69"}},-9.877156777563602,{"$f":"(B267-B266)/Sheet2!$G$5","v":1.7420484427840315},24.123896083966393,-16.804765353082715,{"$nulls":4},{"$f":"IF(AND(E266>G$7,E266<G$8),A266,Sheet1!$Q$22)","v":-0.2999999999999998},1.3394777649412695]
[{"$f":"A266+Sheet2!G$5","v":{"v":-1.6813186813186967,"d":"-1.68"}},-9.868455236890355,{"$f":"(B268-B267)/Sheet2!$G$5","v":1.8615391520641715},23.92203999788405,-16.708560801011302,{"$nulls":4},{"$f":"IF(AND(E267>G$7,E267<G$8),A267,Sheet1!$Q$22)","v":-0.2999999999999998},1.3394777649412695]
[{"$f":"A267+Sheet2!G$5","v":{"v":-1.6763236763236917,"d":"-1.68"}},-9.859156839527397,{"$f":"(B269-B268)/Sheet2!$G$5","v":1.9800245802052452},23.720782713842937,-16.612579213542805,{"$nulls":4},{"$f":"IF(AND(E268>G$7,E268<G$8),A268,Sheet1!$Q$22)","v":-0.2999999999999998},1.3394777649412695]
[{"$f":"A268+Sheet2!G$5","v":{"v":-1.6713286713286868,"d":"-1.67"}},-9.84926660685904,{"$f":"(B270-B269)/Sheet2!$G$5","v":2.0975077182243056},23.520124231415885,-16.516820590677213,{"$nulls":4},{"$f":"IF(AND(E269>G$7,E269<G$8),A269,Sheet1!$Q$22)","v":-0.2999999999999998},1.3394777649412695]
[{"$f":"A269+Sheet2!G$5","v":{"v":-1.6663336663336819,"d":"-1.67"}},-9.838789545329448,{"$f":"(B271-B270)/Sheet2!$G$5","v":2.2139915571398285},23.320064550887675,-16.42128493241453,{"$nulls":4},{"$f":"IF(AND(E270>G$7,E270<G$8),A270,Sheet1!$Q$22)","v":-0.2999999999999998},1.3394777649412695]
[{"$f":"A270+Sheet2!G$5","v":{"v":-1.661338661338677,"d":"-1.66"}},-9.827730646442635,{"$f":"(B272-B271)/Sheet2!$G$5","v":2.329479087968867},23.120603671973523,-16.32597223875475,{"$nulls":4},{"$f":"IF(AND(E271>G$7,E271<G$8),A271,Sheet1!$Q$22)","v":-0.2999999999999998},1.3394777649412695]
[{"$f":"A271+Sheet2!G$5","v":{"v":-1.656343656343672,"d":"-1.66"}},-9.816094886762471,{"$f":"(B273-B272)/Sheet2!$G$5","v":2.4439733017306082},22.921741595100606,-16.230882509697885,{"$nulls":4},{"$f":"IF(AND(E272>G$7,E272<G$8),A272,Sheet1!$Q$22)","v":-0.2999999999999998},1.3394777649412695]
[{"$f":"A272+Sheet2!G$5","v":{"v":-1.651348651348667,"d":"-1.65"}},-9.803887227912668,{"$f":"(B274-B273)/Sheet2!$G$5","v":2.5574771894421056},22.72347831984175,-16.136015745243927,{"$nulls":4},{"$f":"IF(AND(E273>G$7,E273<G$8),A273,Sheet1!$Q$22)","v":-0.2999999999999998},1.3394777649412695]
[{"$f":"A273+Sheet2!G$5","v":{"v":-1.646353646353662,"d":"-1.65"}},-9.791112616576793,{"$f":"(B275-B274)/Sheet2!$G$5","v":2.6699937421218345},22.525813846481732,-16.041371945392875,{"$nulls":4},{"$f":"IF(AND(E274>G$7,E274<G$8),A274,Sheet1!$Q$22)","v":-0.2999999999999998},1.3394777649412695]
[{"$f":"A274+Sheet2!G$5","v":{"v":-1.6413586413586572,"d":"-1.64"}},-9.777775984498263,{"$f":"(B276-B275)/Sheet2!$G$5","v":2.7815259507879153},22.328748174949364,-15.946951110144736,{"$nulls":4},{"$f":"IF(AND(E275>G$7,E275<G$8),A275,Sheet1!$Q$22)","v":-0.2999999999999998},1.3394777649412695]
[{"$f":"A275+Sheet2!G$5","v":{"v":-1.6363636363636522,"d":"-1.64"}},-9.763882248480341,{"$f":"(B277-B276)/Sheet2!$G$5","v":2.892076806458112},22.132281305173446,-15.852753239499503,{"$nulls":4},{"$f":"IF(AND(E276>G$7,E276<G$8),A276,Sheet1!$Q$22)","v":-0.2999999999999998},1.3394777649412695]
[{"$f":"A276+Sheet2!G$5","v":{"v":-1.6313686313686473,"d":"-1.63"}},-9.749436310386145,{"$f":"(B278-B277)/Sheet2!$G$5","v":3.0016493001494786},21.936413237011582,-15.758778333457178,{"$nulls":4},{"$f":"IF(AND(E277>G$7,E277<G$8),A277,Sheet1!$Q$22)","v":-0.2999999999999998},1.3394777649412695]
[{"$f":"A277+Sheet2!G$5","v":{"v":-1.6263736263736424,"d":"-1.63"}},-9.734443057138645,{"$f":"(B279-B278)/Sheet2!$G$5","v":3.1102464228812017},21.741143970890956,-15.665026392017761,{"$nulls":4},{"$f":"IF(AND(E278>G$7,E278<G$8),A278,Sheet1!$Q$22)","v":-0.2999999999999998},1.3394777649412695]
[{"$f":"A278+Sheet2!G$5","v":{"v":-1.6213786213786374,"d":"-1.62"}},-9.718907360720657,{"$f":"(B280-B279)/Sheet2!$G$5","v":3.2178711656714016},21.54647350659798,-15.571497415181254,{"$nulls":4},{"$f":"IF(AND(E279>G$7,E279<G$8),A279,Sheet1!$Q$22)","v":-0.2999999999999998},1.3394777649412695]
[{"$f":"A279+Sheet2!G$5","v":{"v":-1.6163836163836325,"d":"-1.62"}},-9.702834078174845,{"$f":"(B281-B280)/Sheet2!$G$5","v":3.324526519537131},21.352401843919058,-15.478191402947655,{"$nulls":4},{"$f":"IF(AND(E280>G$7,E280<G$8),A280,Sheet1!$Q$22)","v":-0.2999999999999998},1.3394777649412695]
[{"$f":"A280+Sheet2!G$5","v":{"v":-1.6113886113886275,"d":"-1.61"}},-9.686228051603731,{"$f":"(B282-B281)/Sheet2!$G$5","v":3.430215475496155},21.158928982996585,-15.385108355316964,{"$nulls":4},{"$f":"IF(AND(E281>G$7,E281<G$8),A281,Sheet1!$Q$22)","v":-0.2999999999999998},1.3394777649412695]
[{"$f":"A281+Sheet2!G$5","v":{"v":-1.6063936063936226,"d":"-1.61"}},-9.669094108169684,{"$f":"(B283-B282)/Sheet2!$G$5","v":3.5349410245683712},20.966054924257744,-15.292248272289179,{"$nulls":4},{"$f":"IF(AND(E282>G$7,E282<G$8),A282,Sheet1!$Q$22)","v":-0.2999999999999998},1.3394777649412695]
[{"$f":"A282+Sheet2!G$5","v":{"v":-1.6013986013986177,"d":"-1.60"}},-9.651437060094917,{"$f":"(B284-B283)/Sheet2!$G$5","v":3.6387061577687},20.773779666705778,-15.199611153864307,{"$nulls":4},{"$f":"IF(AND(E283>G$7,E283<G$8),A283,Sheet1!$Q$22)","v":-0.2999999999999998},1.3394777649412695]
[{"$f":"A283+Sheet2!G$5","v":{"v":-1.5964035964036127,"d":"-1.60"}},-9.633261704661507,{"$f":"(B285-B284)/Sheet2!$G$5","v":3.7415138661181055},20.582103211551033,-15.10719700004234,{"$nulls":4},{"$f":"IF(AND(E284>G$7,E284<G$8),A284,Sheet1!$Q$22)","v":-0.2999999999999998},1.3394777649412695]
[{"$f":"A284+Sheet2!G$5","v":{"v":-1.5914085914086078,"d":"-1.59"}},-9.614572824211367,{"$f":"(B286-B285)/Sheet2!$G$5","v":3.843367140632931},20.391025557867952,-15.015005810823283,{"$nulls":4},{"$f":"IF(AND(E285>G$7,E285<G$8),A285,Sheet1!$Q$22)","v":-0.2999999999999998},1.3394777649412695]
[{"$f":"A285+Sheet2!G$5","v":{"v":-1.5864135864136029,"d":"-1.59"}},-9.595375186146267,{"$f":"(B287-B286)/Sheet2!$G$5","v":3.9442689723316504},20.200546706083713,-14.923037586207133,{"$nulls":4},{"$f":"IF(AND(E286>G$7,E286<G$8),A286,Sheet1!$Q$22)","v":-0.2999999999999998},1.3394777649412695]
[{"$f":"A286+Sheet2!G$5","v":{"v":-1.581418581418598,"d":"-1.58"}},-9.575673542927827,{"$f":"(B288-B287)/Sheet2!$G$5","v":4.044222352231318},20.010666655913532,-14.831292326193891,{"$nulls":4},{"$f":"IF(AND(E287>G$7,E287<G$8),A287,Sheet1!$Q$22)","v":-0.2999999999999998},1.3394777649412695]
[{"$f":"A287+Sheet2!G$5","v":{"v":-1.576423576423593,"d":"-1.58"}},-9.555472632077521,{"$f":"(B289-B288)/Sheet2!$G$5","v":4.143230271351477},19.821385407855786,-14.739770030783559,{"$nulls":4},{"$f":"IF(AND(E288>G$7,E288<G$8),A288,Sheet1!$Q$22)","v":-0.2999999999999998},1.3394777649412695]
[{"$f":"A288+Sheet2!G$5","v":{"v":-1.571428571428588,"d":"-1.57"}},-9.534777176176664,{"$f":"(B290-B289)/Sheet2!$G$5","v":4.24129572070918},19.632702961412093,-14.648470699976134,{"$nulls":4},{"$f":"IF(AND(E289>G$7,E289<G$8),A289,Sheet1!$Q$22)","v":-0.2999999999999998},1.3394777649412695]
[{"$f":"A289+Sheet2!G$5","v":{"v":-1.5664335664335831,"d":"-1.57"}},-9.513591882866429,{"$f":"(B291-B290)/Sheet2!$G$5","v":4.338421691322547},19.44461931679605,-14.557394333771619,{"$nulls":4},{"$f":"IF(AND(E290>G$7,E290<G$8),A290,Sheet1!$Q$22)","v":-0.2999999999999998},1.3394777649412695]
[{"$f":"A290+Sheet2!G$5","v":{"v":-1.5614385614385782,"d":"-1.56"}},-9.491921444847835,{"$f":"(B292-B291)/Sheet2!$G$5","v":4.434611174208631},19.25713447379406,-14.466540932170012,{"$nulls":4},{"$f":"IF(AND(E291>G$7,E291<G$8),A291,Sheet1!$Q$22)","v":-0.2999999999999998},1.3394777649412695]
[{"$f":"A291+Sheet2!G$5","v":{"v":-1.5564435564435732,"d":"-1.56"}},-9.469770539881758,{"$f":"(B293-B292)/Sheet2!$G$5","v":4.529867160387331},19.070248432975703,-14.375910495171311,{"$nulls":4},{"$f":"IF(AND(E292>G$7,E292<G$8),A292,Sheet1!$Q$22)","v":-0.2999999999999998},1.3394777649412695]
[{"$f":"A292+Sheet2!G$5","v":{"v":-1.5514485514485683,"d":"-1.55"}},-9.447143830788914,{"$f":"(B294-B293)/Sheet2!$G$5","v":4.624192640874632},18.883961193557813,-14.285503022775522,{"$nulls":4},{"$f":"IF(AND(E293>G$7,E293<G$8),A293,Sheet1!$Q$22)","v":-0.2999999999999998},1.3394777649412695]
[{"$f":"A293+Sheet2!G$5","v":{"v":-1.5464535464535634,"d":"-1.55"}},-9.42404596544988,{"$f":"(B295-B294)/Sheet2!$G$5","v":4.717590606690079},18.698272756252354,-14.195318514982638,{"$nulls":4},{"$f":"IF(AND(E294>G$7,E294<G$8),A294,Sheet1!$Q$22)","v":-0.2999999999999998},1.3394777649412695]
[{"$f":"A294+Sheet2!G$5","v":{"v":-1.5414585414585584,"d":"-1.54"}},-9.400481576805074,{"$f":"(B296-B295)/Sheet2!$G$5","v":4.810064048851435},18.513183120703346,-14.105356971792665,{"$nulls":4},{"$f":"IF(AND(E295>G$7,E295<G$8),A295,Sheet1!$Q$22)","v":-0.2999999999999998},1.3394777649412695]
[{"$f":"A295+Sheet2!G$5","v":{"v":-1.5364635364635535,"d":"-1.54"}},-9.376455282854767,{"$f":"(B297-B296)/Sheet2!$G$5","v":4.90161595837433},18.328692286483612,-14.0156183932056,{"$nulls":4},{"$f":"IF(AND(E296>G$7,E296<G$8),A296,Sheet1!$Q$22)","v":-0.2999999999999998},1.3394777649412695]
[{"$f":"A296+Sheet2!G$5","v":{"v":-1.5314685314685486,"d":"-1.53"}},-9.351971686659091,{"$f":"(B298-B297)/Sheet2!$G$5","v":4.9922493262811525},18.144800254945878,-13.926102779221441,{"$nulls":4},{"$f":"IF(AND(E297>G$7,E297<G$8),A297,Sheet1!$Q$22)","v":-0.2999999999999998},1.3394777649412695]
[{"$f":"A297+Sheet2!G$5","v":{"v":-1.5264735264735436,"d":"-1.53"}},-9.327035376338007,{"$f":"(B299-B298)/Sheet2!$G$5","v":5.081967143585043},17.961507024239044,-13.836810129840194,{"$nulls":4},{"$f":"IF(AND(E298>G$7,E298<G$8),A298,Sheet1!$Q$22)","v":-0.2999999999999998},1.3394777649412695]
[{"$f":"A298+Sheet2!G$5","v":{"v":-1.5214785214785387,"d":"-1.52"}},-9.301650925071348,{"$f":"(B300-B299)/Sheet2!$G$5","v":5.170772401308035},17.778812596143016,-13.74774044506185,{"$nulls":4},{"$f":"IF(AND(E299>G$7,E299<G$8),A299,Sheet1!$Q$22)","v":-0.2999999999999998},1.3394777649412695]
[{"$f":"A299+Sheet2!G$5","v":{"v":-1.5164835164835337,"d":"-1.52"}},-9.27582289109878,{"$f":"(B301-B300)/Sheet2!$G$5","v":5.258668090465048},17.596716969233867,-13.65889372488642,{"$nulls":4},{"$f":"IF(AND(E300>G$7,E300<G$8),A300,Sheet1!$Q$22)","v":-0.2999999999999998},1.3394777649412695]
[{"$f":"A300+Sheet2!G$5","v":{"v":-1.5114885114885288,"d":"-1.51"}},-9.249555817719834,{"$f":"(B302-B301)/Sheet2!$G$5","v":5.345657202075978},17.415220144508346,-13.570269969313898,{"$nulls":4},{"$f":"IF(AND(E301>G$7,E301<G$8),A301,Sheet1!$Q$22)","v":-0.2999999999999998},1.3394777649412695]
[{"$f":"A301+Sheet2!G$5","v":{"v":-1.5064935064935239,"d":"-1.51"}},-9.22285423329388,{"$f":"(B303-B302)/Sheet2!$G$5","v":5.431742727158593},17.234322121539275,-13.481869178344281,{"$nulls":4},{"$f":"IF(AND(E302>G$7,E302<G$8),A302,Sheet1!$Q$22)","v":-0.2999999999999998},1.3394777649412695]
[{"$f":"A302+Sheet2!G$5","v":{"v":-1.501498501498519,"d":"-1.50"}},-9.19572265124014,{"$f":"(B304-B303)/Sheet2!$G$5","v":5.516927656729231},17.05402290004187,-13.393691351977575,{"$nulls":4},{"$f":"IF(AND(E303>G$7,E303<G$8),A303,Sheet1!$Q$22)","v":-0.2999999999999998},1.3394777649412695]
[{"$f":"A303+Sheet2!G$5","v":{"v":-1.496503496503514,"d":"-1.50"}},-9.168165570037697,{"$f":"(B305-B304)/Sheet2!$G$5","v":5.601214981808148},16.874322480799286,-13.305736490213775,{"$nulls":4},{"$f":"IF(AND(E304>G$7,E304<G$8),A304,Sheet1!$Q$22)","v":-0.2999999999999998},1.3394777649412695]
[{"$f":"A304+Sheet2!G$5","v":{"v":-1.491508491508509,"d":"-1.49"}},-9.140187473225469,{"$f":"(B306-B305)/Sheet2!$G$5","v":5.684607693411687},16.69522086302837,-13.218004593052886,{"$nulls":4},{"$f":"IF(AND(E305>G$7,E305<G$8),A305,Sheet1!$Q$22)","v":-0.2999999999999998},1.3394777649412695]
[{"$f":"A305+Sheet2!G$5","v":{"v":-1.4865134865135041,"d":"-1.49"}},-9.111792829402233,{"$f":"(B307-B306)/Sheet2!$G$5","v":5.767108782558678},16.516718047227496,-13.130495660494905,{"$nulls":4},{"$f":"IF(AND(E306>G$7,E306<G$8),A306,Sheet1!$Q$22)","v":-0.2999999999999998},1.3394777649412695]
[{"$f":"A306+Sheet2!G$5","v":{"v":-1.4815184815184992,"d":"-1.48"}},-9.082986092226616,{"$f":"(B308-B307)/Sheet2!$G$5","v":5.848721240266529},16.338814033111873,-13.043209692539829,{"$nulls":4},{"$f":"IF(AND(E307>G$7,E307<G$8),A307,Sheet1!$Q$22)","v":-0.2999999999999998},1.3394777649412695]
[{"$f":"A307+Sheet2!G$5","v":{"v":-1.4765234765234942,"d":"-1.48"}},-9.053771700417093,{"$f":"(B309-B308)/Sheet2!$G$5","v":5.929448057553362},16.161508820823894,-12.956146689187666,{"$nulls":4},{"$f":"IF(AND(E308>G$7,E308<G$8),A308,Sheet1!$Q$22)","v":-0.2999999999999998},1.3394777649412695]
[{"$f":"A308+Sheet2!G$5","v":{"v":-1.4715284715284893,"d":"-1.47"}},-9.02415407775199,{"$f":"(B310-B309)/Sheet2!$G$5","v":6.009292225437651},15.984802410434762,-12.869306650438407,{"$nulls":4},{"$f":"IF(AND(E309>G$7,E309<G$8),A309,Sheet1!$Q$22)","v":-0.2999999999999998},1.3394777649412695]
[{"$f":"A309+Sheet2!G$5","v":{"v":-1.4665334665334844,"d":"-1.47"}},-8.994137633069485,{"$f":"(B311-B310)/Sheet2!$G$5","v":6.088256734935739},15.808694801517293,-12.78268957629206,{"$nulls":4},{"$f":"IF(AND(E310>G$7,E310<G$8),A310,Sheet1!$Q$22)","v":-0.2999999999999998},1.3394777649412695]
[{"$f":"A310+Sheet2!G$5","v":{"v":-1.4615384615384794,"d":"-1.46"}},-8.963726760267608,{"$f":"(B312-B311)/Sheet2!$G$5","v":6.166344577068592},15.633185994997042,-12.696295466748621,{"$nulls":4},{"$f":"IF(AND(E311>G$7,E311<G$8),A311,Sheet1!$Q$22)","v":-0.2999999999999998},1.3394777649412695]
[{"$f":"A311+Sheet2!G$5","v":{"v":-1.4565434565434745,"d":"-1.46"}},-8.932925838304229,{"$f":"(B313-B312)/Sheet2!$G$5","v":6.243558742851127},15.45827598966367,-12.61012432180809,{"$nulls":4},{"$f":"IF(AND(E312>G$7,E312<G$8),A312,Sheet1!$Q$22)","v":-0.2999999999999998},1.3394777649412695]
[{"$f":"A312+Sheet2!G$5","v":{"v":-1.4515484515484696,"d":"-1.45"}},-8.90173923119708,{"$f":"(B314-B313)/Sheet2!$G$5","v":6.319902223303245},15.283964786513927,-12.524176141470466,{"$nulls":4},{"$f":"IF(AND(E313>G$7,E313<G$8),A313,Sheet1!$Q$22)","v":-0.2999999999999998},1.3394777649412695]
[{"$f":"A313+Sheet2!G$5","v":{"v":-1.4465534465534646,"d":"-1.45"}},-8.870171288023737,{"$f":"(B315-B314)/Sheet2!$G$5","v":6.395378009441997},15.110252384978242,-12.43845092573575,{"$nulls":4},{"$f":"IF(AND(E314>G$7,E314<G$8),A314,Sheet1!$Q$22)","v":-0.2999999999999998},1.3394777649412695]
[{"$f":"A314+Sheet2!G$5","v":{"v":-1.4415584415584597,"d":"-1.44"}},-8.83822634292163,{"$f":"(B316-B315)/Sheet2!$G$5","v":6.4699890922855054},14.937138785270202,-12.352948674603944,{"$nulls":4},{"$f":"IF(AND(E315>G$7,E315<G$8),A315,Sheet1!$Q$22)","v":-0.2999999999999998},1.3394777649412695]
[{"$f":"A315+Sheet2!G$5","v":{"v":-1.4365634365634548,"d":"-1.44"}},-8.805908715088036,{"$f":"(B317-B316)/Sheet2!$G$5","v":6.543738462852243},14.764623987461007,-12.267669388075046,{"$nulls":4},{"$f":"IF(AND(E316>G$7,E316<G$8),A316,Sheet1!$Q$22)","v":-0.2999999999999998},1.3394777649412695]
[{"$f":"A316+Sheet2!G$5","v":{"v":-1.4315684315684498,"d":"-1.43"}},-8.773222708780082,{"$f":"(B318-B317)/Sheet2!$G$5","v":6.6166291121592655},14.592707991265868,-12.182613066149056,{"$nulls":4},{"$f":"IF(AND(E317>G$7,E317<G$8),A317,Sheet1!$Q$22)","v":-0.2999999999999998},1.3394777649412695]
[{"$f":"A317+Sheet2!G$5","v":{"v":-1.4265734265734449,"d":"-1.43"}},-8.740172613314751,{"$f":"(B319-B318)/Sheet2!$G$5","v":6.688664031225048},14.421390796969572,-12.097779708825975,{"$nulls":4},{"$f":"IF(AND(E318>G$7,E318<G$8),A318,Sheet1!$Q$22)","v":-0.2999999999999998},1.3394777649412695]
[{"$f":"A318+Sheet2!G$5","v":{"v":-1.42157842157844,"d":"-1.42"}},-8.706762703068872,{"$f":"(B320-B319)/Sheet2!$G$5","v":6.7598462110677096},14.250672404500923,-12.013169316105802,{"$nulls":4},{"$f":"IF(AND(E319>G$7,E319<G$8),A319,Sheet1!$Q$22)","v":-0.2999999999999998},1.3394777649412695]
[{"$f":"A319+Sheet2!G$5","v":{"v":-1.416583416583435,"d":"-1.42"}},-8.672997237479123,{"$f":"(B321-B320)/Sheet2!$G$5","v":6.830178642705727},14.080552813931117,-11.928781887988537,{"$nulls":4},{"$f":"IF(AND(E320>G$7,E320<G$8),A320,Sheet1!$Q$22)","v":-0.2999999999999998},1.3394777649412695]
[{"$f":"A320+Sheet2!G$5","v":{"v":-1.41158841158843,"d":"-1.41"}},-8.638880461042032,{"$f":"(B322-B321)/Sheet2!$G$5","v":6.899664317155443},13.911032024832975,-11.844617424474182,{"$nulls":4},{"$f":"IF(AND(E321>G$7,E321<G$8),A321,Sheet1!$Q$22)","v":-0.2999999999999998},1.3394777649412695]
[{"$f":"A321+Sheet2!G$5","v":{"v":-1.4065934065934251,"d":"-1.41"}},-8.604416603313982,{"$f":"(B323-B322)/Sheet2!$G$5","v":6.968306225436398},13.742110037847267,-11.760675925562733,{"$nulls":4},{"$f":"IF(AND(E322>G$7,E322<G$8),A322,Sheet1!$Q$22)","v":-0.2999999999999998},1.3394777649412695]
[{"$f":"A322+Sheet2!G$5","v":{"v":-1.4015984015984202,"d":"-1.40"}},{"$f":"x^4-5*x^2+4*x+3","v":-8.569609878911203},{"$f":"(B324-B323)/Sheet2!$G$5","v":7.036107358565647},13.573786852475616,-11.676957391254195,{"$nulls":4},{"$f":"IF(AND(E323>G$7,E323<G$8),A323,Sheet1!$Q$22)","v":-0.2999999999999998},1.3394777649412695]
[{"$f":"A323+Sheet2!G$5","v":{"v":-1.3966033966034153,"d":"-1.40"}},-8.534464487509776,{"$f":"(B325-B324)/Sheet2!$G$5","v":7.10307070756202},13.406062469074003,{"$f":"G$10+G$11*(A324-G$9)+G$12*(A324-G$9)^2/2","v":-11.593461821548564},{"$nulls":4},{"$f":"IF(AND(E324>G$7,E324<G$8),A324,Sheet1!$Q$22)","v":-0.2999999999999998},{"$f":"IF(AND(E324>G$7,E324<G$8),E324,G$10)","v":1.3394777649412695}]
[{"$f":"A324+Sheet2!G$5","v":{"v":-1.3916083916084103,"d":"-1.39"}},-8.49898461384563,{"$f":"(B326-B325)/Sheet2!$G$5","v":7.169199263442216},{"$f":"(B326-2*B325+B324)/G$5^2","v":13.238936887215251},-11.510189216445841,{"$nulls":4},{"$f":"IF(AND(E325>G$7,E325<G$8),A325,Sheet1!$Q$22)","v":-0.2999999999999998},1.3394777649412695]
[{"$f":"A325+Sheet2!G$5","v":{"v":-1.3866133866134054,"d":"-1.39"}},-8.46317442771455,{"$f":"(B327-B326)/Sheet2!$G$5","v":7.234496017225422},13.072410107397737,-11.427139575946025,{"$nulls":4},{"$f":"IF(AND(E326>G$7,E326<G$8),A326,Sheet1!$Q$22)","v":-0.2999999999999998},1.3394777649412695]
[{"$f":"A326+Sheet2!G$5","v":{"v":-1.3816183816184004,"d":"-1.38"}},-8.427038083972166,{"$f":"(B328-B327)/Sheet2!$G$5","v":7.298963959929401},12.906482129336672,-11.344312900049122,{"$nulls":4},{"$f":"IF(AND(E327>G$7,E327<G$8),A327,Sheet1!$Q$22)","v":-0.2999999999999998},1.3394777649412695]
[{"$f":"A327+Sheet2!G$5","v":{"v":-1.3766233766233955,"d":"-1.38"}},-8.390579722533957,{"$f":"(B329-B328)/Sheet2!$G$5","v":7.362606082570852},12.741152952818467,-11.261709188755122,{"$nulls":4},{"$f":"IF(AND(E328>G$7,E328<G$8),A328,Sheet1!$Q$22)","v":-0.2999999999999998},1.3394777649412695]
[{"$f":"A328+Sheet2!G$5","v":{"v":-1.3716283716283906,"d":"-1.37"}},-8.353803468375261,{"$f":"(B330-B329)/Sheet2!$G$5","v":7.425425376169317},12.576422578412695,-11.179328442064033,{"$nulls":4},{"$f":"IF(AND(E329>G$7,E329<G$8),A329,Sheet1!$Q$22)","v":-0.2999999999999998},1.3394777649412695]
[{"$f":"A329+Sheet2!G$5","v":{"v":-1.3666333666333856,"d":"-1.37"}},-8.316713431531259,{"$f":"(B331-B330)/Sheet2!$G$5","v":7.487424831742916},12.41229100583457,-11.097170659975852,{"$nulls":4},{"$f":"IF(AND(E330>G$7,E330<G$8),A330,Sheet1!$Q$22)","v":-0.2999999999999998},1.3394777649412695]
[{"$f":"A330+Sheet2!G$5","v":{"v":-1.3616383616383807,"d":"-1.36"}},-8.279313707096978,{"$f":"(B332-B331)/Sheet2!$G$5","v":7.5486074403079915},12.24875823472811,-11.01523584249058,{"$nulls":4},{"$f":"IF(AND(E331>G$7,E331<G$8),A331,Sheet1!$Q$22)","v":-0.2999999999999998},1.3394777649412695]
[{"$f":"A331+Sheet2!G$5","v":{"v":-1.3566433566433758,"d":"-1.36"}},-8.241608375227308,{"$f":"(B333-B332)/Sheet2!$G$5","v":7.608976192883375},12.085824265591688,-10.933523989608217,{"$nulls":4},{"$f":"IF(AND(E332>G$7,E332<G$8),A332,Sheet1!$Q$22)","v":-0.2999999999999998},1.3394777649412695]
[{"$f":"A332+Sheet2!G$5","v":{"v":-1.3516483516483708,"d":"-1.35"}},-8.203601501136982,{"$f":"(B334-B333)/Sheet2!$G$5","v":7.668534080487186},11.923489098282914,-10.85203510132876,{"$nulls":4},{"$f":"IF(AND(E333>G$7,E333<G$8),A333,Sheet1!$Q$22)","v":-0.2999999999999998},1.3394777649412695]
[{"$f":"A333+Sheet2!G$5","v":{"v":-1.346653346653366,"d":"-1.35"}},-8.165297135100582,{"$f":"(B335-B334)/Sheet2!$G$5","v":7.7272840941379},11.761752732872981,-10.770769177652213,{"$nulls":4},{"$f":"IF(AND(E334>G$7,E334<G$8),A334,Sheet1!$Q$22)","v":-0.2999999999999998},1.3394777649412695]
[{"$f":"A334+Sheet2!G$5","v":{"v":-1.341658341658361,"d":"-1.34"}},-8.12669931245254,{"$f":"(B336-B335)/Sheet2!$G$5","v":7.785229224851859},11.600615168934715,-10.689726218578574,{"$nulls":4},{"$f":"IF(AND(E335>G$7,E335<G$8),A335,Sheet1!$Q$22)","v":-0.2999999999999998},1.3394777649412695]
[{"$f":"A335+Sheet2!G$5","v":{"v":-1.336663336663356,"d":"-1.34"}},-8.087812053587147,{"$f":"(B337-B336)/Sheet2!$G$5","v":7.842372463649318},11.440076407251274,-10.608906224107844,{"$nulls":4},{"$f":"IF(AND(E336>G$7,E336<G$8),A336,Sheet1!$Q$22)","v":-0.2999999999999998},1.3394777649412695]
[{"$f":"A336+Sheet2!G$5","v":{"v":-1.331668331668351,"d":"-1.33"}},-8.048639363958529,{"$f":"(B338-B337)/Sheet2!$G$5","v":7.898716801545907},11.280136446897103,-10.528309194240023,{"$nulls":4},{"$f":"IF(AND(E337>G$7,E337<G$8),A337,Sheet1!$Q$22)","v":-0.2999999999999998},1.3394777649412695]
[{"$f":"A337+Sheet2!G$5","v":{"v":-1.3266733266733461,"d":"-1.33"}},-8.009185234080677,{"$f":"(B339-B338)/Sheet2!$G$5","v":7.954265229560813},11.12079528858417,-10.447935128975107,{"$nulls":4},{"$f":"IF(AND(E338>G$7,E338<G$8),A338,Sheet1!$Q$22)","v":-0.2999999999999998},1.3394777649412695]
[{"$f":"A338+Sheet2!G$5","v":{"v":-1.3216783216783412,"d":"-1.32"}},-7.969453639527426,{"$f":"(B340-B339)/Sheet2!$G$5","v":8.009020738712511},10.962052932170078,-10.367784028313103,{"$nulls":4},{"$f":"IF(AND(E339>G$7,E339<G$8),A339,Sheet1!$Q$22)","v":-0.2999999999999998},1.3394777649412695]
[{"$f":"A339+Sheet2!G$5","v":{"v":-1.3166833166833363,"d":"-1.32"}},-7.929448540932459,{"$f":"(B341-B340)/Sheet2!$G$5","v":8.062986320017702},10.803909377298847,-10.287855892254004,{"$nulls":4},{"$f":"IF(AND(E340>G$7,E340<G$8),A340,Sheet1!$Q$22)","v":-0.2999999999999998},1.3394777649412695]
[{"$f":"A340+Sheet2!G$5","v":{"v":-1.3116883116883313,"d":"-1.31"}},-7.889173883989313,{"$f":"(B342-B341)/Sheet2!$G$5","v":8.116164964494857},10.646364624326461,-10.208150720797816,{"$nulls":4},{"$f":"IF(AND(E341>G$7,E341<G$8),A341,Sheet1!$Q$22)","v":-0.2999999999999998},1.3394777649412695]
[{"$f":"A341+Sheet2!G$5","v":{"v":-1.3066933066933264,"d":"-1.31"}},-7.848633599451377,{"$f":"(B343-B342)/Sheet2!$G$5","v":8.168559663163164},10.48941867339531,-10.128668513944536,{"$nulls":4},{"$f":"IF(AND(E342>G$7,E342<G$8),A342,Sheet1!$Q$22)","v":-0.2999999999999998},1.3394777649412695]
[{"$f":"A342+Sheet2!G$5","v":{"v":-1.3016983016983215,"d":"-1.30"}},-7.807831603131881,{"$f":"(B344-B343)/Sheet2!$G$5","v":8.220173407037901},10.333071523722234,-10.049409271694163,{"$nulls":4},{"$f":"IF(AND(E343>G$7,E343<G$8),A343,Sheet1!$Q$22)","v":-0.2999999999999998},1.3394777649412695]
[{"$f":"A343+Sheet2!G$5","v":{"v":-1.2967032967033165,"d":"-1.30"}},-7.766771795903919,{"$f":"(B345-B344)/Sheet2!$G$5","v":8.271009187139676},10.177323176375179,-9.970372994046702,{"$nulls":4},{"$f":"IF(AND(E344>G$7,E344<G$8),A344,Sheet1!$Q$22)","v":-0.2999999999999998},1.3394777649412695]
[{"$f":"A344+Sheet2!G$5","v":{"v":-1.2917082917083116,"d":"-1.29"}},-7.725458063700424,{"$f":"(B346-B345)/Sheet2!$G$5","v":8.321069994485184},10.022173630570986,-9.891559681002144,{"$nulls":4},{"$f":"IF(AND(E345>G$7,E345<G$8),A345,Sheet1!$Q$22)","v":-1.2917082917083116},-9.891559681002144]
[{"$f":"A345+Sheet2!G$5","v":{"v":-1.2867132867133066,"d":"-1.29"}},-7.6838942775141845,{"$f":"(B347-B346)/Sheet2!$G$5","v":8.37035882009255},9.86762288659444,-9.812969332560499,{"$nulls":4},{"$f":"IF(AND(E346>G$7,E346<G$8),A346,Sheet1!$Q$22)","v":-1.2867132867133066},-9.812969332560499]
[{"$f":"A346+Sheet2!G$5","v":{"v":-1.2817182817183017,"d":"-1.28"}},-7.642084293397838,{"$f":"(B348-B347)/Sheet2!$G$5","v":8.41887865497989},9.71367094444554,-9.73460194872176,{"$nulls":4},{"$f":"IF(AND(E347>G$7,E347<G$8),A347,Sheet1!$Q$22)","v":-1.2817182817183017},-9.73460194872176]
[{"$f":"A347+Sheet2!G$5","v":{"v":-1.2767232767232968,"d":"-1.28"}},-7.600031952463873,{"$f":"(B349-B348)/Sheet2!$G$5","v":8.466632490165326},9.560317804124285,-9.65645752948593,{"$nulls":4},{"$f":"IF(AND(E348>G$7,E348<G$8),A348,Sheet1!$Q$22)","v":-1.2767232767232968},-9.65645752948593]
[{"$f":"A348+Sheet2!G$5","v":{"v":-1.2717282717282918,"d":"-1.27"}},-7.557741080884625,{"$f":"(B350-B349)/Sheet2!$G$5","v":8.51362331666591},9.40756346541709,-9.578536074853009,{"$nulls":4},{"$f":"IF(AND(E349>G$7,E349<G$8),A349,Sheet1!$Q$22)","v":-1.2717282717282918},-9.578536074853009]
[{"$f":"A349+Sheet2!G$5","v":{"v":-1.266733266733287,"d":"-1.27"}},-7.515215489892288,{"$f":"(B351-B350)/Sheet2!$G$5","v":8.559854125501186},9.255407928822326,-9.500837584822994,{"$nulls":4},{"$f":"IF(AND(E350>G$7,E350<G$8),A350,Sheet1!$Q$22)","v":-1.266733266733287},-9.500837584822994]
[{"$f":"A350+Sheet2!G$5","v":{"v":-1.261738261738282,"d":"-1.26"}},-7.4724589757788955,{"$f":"(B352-B351)/Sheet2!$G$5","v":8.605327907687496},9.103851193699226,-9.423362059395892,{"$nulls":4},{"$f":"IF(AND(E351>G$7,E351<G$8),A351,Sheet1!$Q$22)","v":-1.261738261738282},-9.423362059395892]
[{"$f":"A351+Sheet2!G$5","v":{"v":-1.256743256743277,"d":"-1.26"}},-7.429475319896341,{"$f":"(B353-B352)/Sheet2!$G$5","v":8.650047654244027},8.952893260617362,-9.346109498571694,{"$nulls":4},{"$f":"IF(AND(E352>G$7,E352<G$8),A352,Sheet1!$Q$22)","v":-1.256743256743277},-9.346109498571694]
[{"$f":"A352+Sheet2!G$5","v":{"v":-1.251748251748272,"d":"-1.25"}},-7.38626828865636,{"$f":"(B354-B353)/Sheet2!$G$5","v":8.694016356188186},8.802534129220753,-9.269079902350406,{"$nulls":4},{"$f":"IF(AND(E353>G$7,E353<G$8),A353,Sheet1!$Q$22)","v":-1.251748251748272},-9.269079902350406]
[{"$f":"A353+Sheet2!G$5","v":{"v":-1.2467532467532672,"d":"-1.25"}},-7.342841633530545,{"$f":"(B355-B354)/Sheet2!$G$5","v":8.73723700453774},8.652773799580594,-9.192273270732027,{"$nulls":4},{"$f":"IF(AND(E354>G$7,E354<G$8),A354,Sheet1!$Q$22)","v":-1.2467532467532672},-9.192273270732027]
[{"$f":"A354+Sheet2!G$5","v":{"v":-1.2417582417582622,"d":"-1.24"}},-7.299199091050337,{"$f":"(B356-B355)/Sheet2!$G$5","v":8.779712590311163},8.503612271839277,-9.115689603716554,{"$nulls":4},{"$f":"IF(AND(E355>G$7,E355<G$8),A355,Sheet1!$Q$22)","v":-1.2417582417582622},-9.115689603716554]
[{"$f":"A355+Sheet2!G$5","v":{"v":-1.2367632367632573,"d":"-1.24"}},-7.255344382807024,{"$f":"(B357-B356)/Sheet2!$G$5","v":8.821446104526576},8.355049545925608,-9.039328901303993,{"$nulls":4},{"$f":"IF(AND(E356>G$7,E356<G$8),A356,Sheet1!$Q$22)","v":-1.2367632367632573},-9.039328901303993]
[{"$f":"A356+Sheet2!G$5","v":{"v":-1.2317682317682523,"d":"-1.23"}},-7.211281215451747,{"$f":"(B358-B357)/Sheet2!$G$5","v":8.862440538201032},8.207085621625996,-8.963191163494338,{"$nulls":4},{"$f":"IF(AND(E357>G$7,E357<G$8),A357,Sheet1!$Q$22)","v":-1.2317682317682523},-8.963191163494338]
[{"$f":"A357+Sheet2!G$5","v":{"v":-1.2267732267732474,"d":"-1.23"}},-7.167013280695498,{"$f":"(B359-B358)/Sheet2!$G$5","v":8.902698882353361},8.059720499296423,-8.88727639028759,{"$nulls":4},{"$f":"IF(AND(E358>G$7,E358<G$8),A358,Sheet1!$Q$22)","v":-1.2267732267732474},-8.88727639028759]
[{"$f":"A358+Sheet2!G$5","v":{"v":-1.2217782217782425,"d":"-1.22"}},-7.122544255309117,{"$f":"(B360-B359)/Sheet2!$G$5","v":8.942224128000973},7.912954178652104,-8.811584581683753,{"$nulls":4},{"$f":"IF(AND(E359>G$7,E359<G$8),A359,Sheet1!$Q$22)","v":-1.2217782217782425},-8.811584581683753]
[{"$f":"A359+Sheet2!G$5","v":{"v":-1.2167832167832375,"d":"-1.22"}},-7.077877801123298,{"$f":"(B361-B360)/Sheet2!$G$5","v":8.9810192661627},7.766786659977824,-8.736115737682823,{"$nulls":4},{"$f":"IF(AND(E360>G$7,E360<G$8),A360,Sheet1!$Q$22)","v":-1.2167832167832375},-8.736115737682823]
[{"$f":"A360+Sheet2!G$5","v":{"v":-1.2117882117882326,"d":"-1.21"}},-7.0330175650285796,{"$f":"(B362-B361)/Sheet2!$G$5","v":9.01908728785524},7.621217942846406,-8.660869858284801,{"$nulls":4},{"$f":"IF(AND(E361>G$7,E361<G$8),A361,Sheet1!$Q$22)","v":-1.2117882117882326},-8.660869858284801]
[{"$f":"A361+Sheet2!G$5","v":{"v":-1.2067932067932277,"d":"-1.21"}},-6.987967178975357,{"$f":"(B363-B362)/Sheet2!$G$5","v":9.056431184097423},7.476248027685027,-8.58584694348969,{"$nulls":4},{"$f":"IF(AND(E362>G$7,E362<G$8),A362,Sheet1!$Q$22)","v":-1.2067932067932277},-8.58584694348969]
[{"$f":"A362+Sheet2!G$5","v":{"v":-1.2017982017982227,"d":"-1.20"}},-6.942730259973871,{"$f":"(B364-B363)/Sheet2!$G$5","v":9.093053945907014},7.331876914280098,-8.511046993297484,{"$nulls":4},{"$f":"IF(AND(E363>G$7,E363<G$8),A363,Sheet1!$Q$22)","v":-1.2017982017982227},-8.511046993297484]
[{"$f":"A363+Sheet2!G$5","v":{"v":-1.1968031968032178,"d":"-1.20"}},-6.8973104100942155,{"$f":"(B365-B364)/Sheet2!$G$5","v":9.128958564302133},7.188104602702816,-8.43647000770819,{"$nulls":4},{"$f":"IF(AND(E364>G$7,E364<G$8),A364,Sheet1!$Q$22)","v":-1.1968031968032178},-8.43647000770819]
[{"$f":"A364+Sheet2!G$5","v":{"v":-1.1918081918082128,"d":"-1.19"}},-6.851711216466333,{"$f":"(B366-B365)/Sheet2!$G$5","v":9.164148030300545},7.044931092881984,-8.3621159867218,{"$nulls":4},{"$f":"IF(AND(E365>G$7,E365<G$8),A365,Sheet1!$Q$22)","v":-1.1918081918082128},-8.3621159867218]
[{"$f":"A365+Sheet2!G$5","v":{"v":-1.186813186813208,"d":"-1.19"}},-6.805936251280016,{"$f":"(B367-B366)/Sheet2!$G$5","v":9.198625334920369},6.902356384888798,-8.287984930338322,{"$nulls":4},{"$f":"IF(AND(E366>G$7,E366<G$8),A366,Sheet1!$Q$22)","v":-1.186813186813208},-8.287984930338322]
[{"$f":"A366+Sheet2!G$5","v":{"v":-1.181818181818203,"d":"-1.18"}},-6.75998907178491,{"$f":"(B368-B367)/Sheet2!$G$5","v":9.232393469179726},6.76038047872326,-8.214076838557752,{"$nulls":4},{"$f":"IF(AND(E367>G$7,E367<G$8),A367,Sheet1!$Q$22)","v":-1.181818181818203},-8.214076838557752]
[{"$f":"A367+Sheet2!G$5","v":{"v":-1.176823176823198,"d":"-1.18"}},-6.713873220290505,{"$f":"(B369-B368)/Sheet2!$G$5","v":9.265455424095313},6.619003374100582,-8.140391711380088,{"$nulls":4},{"$f":"IF(AND(E368>G$7,E368<G$8),A368,Sheet1!$Q$22)","v":-1.176823176823198},-8.140391711380088]
[{"$f":"A368+Sheet2!G$5","v":{"v":-1.171828171828193,"d":"-1.17"}},-6.667592224166153,{"$f":"(B370-B369)/Sheet2!$G$5","v":9.29781419068774},6.478225071803926,-8.066929548805335,{"$nulls":4},{"$f":"IF(AND(E369>G$7,E369<G$8),A369,Sheet1!$Q$22)","v":-1.171828171828193},-8.066929548805335]
[{"$f":"A369+Sheet2!G$5","v":{"v":-1.1668331668331882,"d":"-1.17"}},-6.62114959584104,{"$f":"(B371-B370)/Sheet2!$G$5","v":9.329472759971926},6.338045570694148,-7.993690350833488,{"$nulls":4},{"$f":"IF(AND(E370>G$7,E370<G$8),A370,Sheet1!$Q$22)","v":-1.1668331668331882},-7.993690350833488]
[{"$f":"A370+Sheet2!G$5","v":{"v":-1.1618381618381832,"d":"-1.16"}},-6.574548832804217,{"$f":"(B372-B371)/Sheet2!$G$5","v":9.36043412296777},6.198464871768,-7.920674117464552,{"$nulls":4},{"$f":"IF(AND(E371>G$7,E371<G$8),A371,Sheet1!$Q$22)","v":-1.1618381618381832},-7.920674117464552]
[{"$f":"A371+Sheet2!G$5","v":{"v":-1.1568431568431783,"d":"-1.16"}},-6.5277934176045775,{"$f":"(B373-B372)/Sheet2!$G$5","v":9.390701270693393},6.059482974669498,-7.847880848698523,{"$nulls":4},{"$f":"IF(AND(E372>G$7,E372<G$8),A372,Sheet1!$Q$22)","v":-1.1568431568431783},-7.847880848698523]
[{"$f":"A372+Sheet2!G$5","v":{"v":-1.1518481518481734,"d":"-1.15"}},-6.480886817850864,{"$f":"(B374-B373)/Sheet2!$G$5","v":9.420277194165134},5.921099879042661,-7.775310544535401,{"$nulls":4},{"$f":"IF(AND(E373>G$7,E373<G$8),A373,Sheet1!$Q$22)","v":-1.1518481518481734},-7.775310544535401]
[{"$f":"A373+Sheet2!G$5","v":{"v":-1.1468531468531684,"d":"-1.15"}},-6.433832486211678,{"$f":"(B375-B374)/Sheet2!$G$5","v":9.449164884403249},5.783315585670649,-7.70296320497519,{"$nulls":4},{"$f":"IF(AND(E374>G$7,E374<G$8),A374,Sheet1!$Q$22)","v":-1.1468531468531684},-7.70296320497519]
[{"$f":"A374+Sheet2!G$5","v":{"v":-1.1418581418581635,"d":"-1.14"}},-6.386633860415458,{"$f":"(B376-B375)/Sheet2!$G$5","v":9.477367332423013},5.646130093556711,-7.630838830017885,{"$nulls":4},{"$f":"IF(AND(E375>G$7,E375<G$8),A375,Sheet1!$Q$22)","v":-1.1418581418581635},-7.630838830017885]
[{"$f":"A375+Sheet2!G$5","v":{"v":-1.1368631368631585,"d":"-1.14"}},-6.339294363250508,{"$f":"(B377-B376)/Sheet2!$G$5","v":9.50488752924468},5.5095434036976,-7.55893741966349,{"$nulls":4},{"$f":"IF(AND(E376>G$7,E376<G$8),A376,Sheet1!$Q$22)","v":-1.1368631368631585},-7.55893741966349]
[{"$f":"A376+Sheet2!G$5","v":{"v":-1.1318681318681536,"d":"-1.13"}},-6.29181740256497,{"$f":"(B378-B377)/Sheet2!$G$5","v":9.53172846588459},5.373555515310152,-7.487258973912004,{"$nulls":4},{"$f":"IF(AND(E377>G$7,E377<G$8),A377,Sheet1!$Q$22)","v":-1.1318681318681536},-7.487258973912004]
[{"$f":"A377+Sheet2!G$5","v":{"v":-1.1268731268731487,"d":"-1.13"}},-6.244206371266845,{"$f":"(B379-B378)/Sheet2!$G$5","v":9.557893133362644},5.238166429106334,-7.415803492763424,{"$nulls":4},{"$f":"IF(AND(E378>G$7,E378<G$8),A378,Sheet1!$Q$22)","v":-1.1268731268731487},-7.415803492763424]
[{"$f":"A378+Sheet2!G$5","v":{"v":-1.1218781218781437,"d":"-1.12"}},-6.196464647323975,{"$f":"(B380-B379)/Sheet2!$G$5","v":9.583384522694827},5.103376144302984,-7.344570976217755,{"$nulls":4},{"$f":"IF(AND(E379>G$7,E379<G$8),A379,Sheet1!$Q$22)","v":-1.1218781218781437},-7.344570976217755]
[{"$f":"A379+Sheet2!G$5","v":{"v":-1.1168831168831388,"d":"-1.12"}},-6.14859559376406,{"$f":"(B381-B380)/Sheet2!$G$5","v":9.608205624899615},4.969184661398476,-7.273561424274991,{"$nulls":4},{"$f":"IF(AND(E380>G$7,E380<G$8),A380,Sheet1!$Q$22)","v":-1.1168831168831388},-7.273561424274991]
[{"$f":"A380+Sheet2!G$5","v":{"v":-1.1118881118881339,"d":"-1.11"}},-6.100602558674652,{"$f":"(B382-B381)/Sheet2!$G$5","v":9.632359430996194},4.835591980535205,-7.202774836935138,{"$nulls":4},{"$f":"IF(AND(E381>G$7,E381<G$8),A381,Sheet1!$Q$22)","v":-1.1118881118881339},-7.202774836935138]
[{"$f":"A381+Sheet2!G$5","v":{"v":-1.106893106893129,"d":"-1.11"}},-6.052488875203142,{"$f":"(B383-B382)/Sheet2!$G$5","v":9.655848932001263},4.702598101214795,-7.132211214198194,{"$nulls":4},{"$f":"IF(AND(E382>G$7,E382<G$8),A382,Sheet1!$Q$22)","v":-1.106893106893129},-7.132211214198194]
[{"$f":"A382+Sheet2!G$5","v":{"v":-1.101898101898124,"d":"-1.10"}},-6.004257861556782,{"$f":"(B384-B383)/Sheet2!$G$5","v":9.678677118933297},4.570203023793227,-7.0618705560641555,{"$nulls":4},{"$f":"IF(AND(E383>G$7,E383<G$8),A383,Sheet1!$Q$22)","v":-1.101898101898124},-7.0618705560641555]
[{"$f":"A383+Sheet2!G$5","v":{"v":-1.096903096903119,"d":"-1.10"}},-5.95591282100267,{"$f":"(B385-B384)/Sheet2!$G$5","v":9.700846982809349},4.4384067479857165,-6.991752862533028,{"$nulls":4},{"$f":"IF(AND(E384>G$7,E384<G$8),A384,Sheet1!$Q$22)","v":-1.096903096903119},-6.991752862533028]
[{"$f":"A384+Sheet2!G$5","v":{"v":-1.091908091908114,"d":"-1.09"}},-5.907457041867758,{"$f":"(B386-B385)/Sheet2!$G$5","v":9.722361514648608},4.307209274219443,-6.9218581336048075,{"$nulls":4},{"$f":"IF(AND(E385>G$7,E385<G$8),A385,Sheet1!$Q$22)","v":-1.091908091908114},-6.9218581336048075]
[{"$f":"A385+Sheet2!G$5","v":{"v":-1.0869130869131092,"d":"-1.09"}},-5.858893797538844,{"$f":"(B387-B386)/Sheet2!$G$5","v":9.743223705469191},4.176610602280816,-6.8521863692794955,{"$nulls":4},{"$f":"IF(AND(E386>G$7,E386<G$8),A386,Sheet1!$Q$22)","v":-1.0869130869131092},-6.8521863692794955]
[{"$f":"A386+Sheet2!G$5","v":{"v":-1.0819180819181042,"d":"-1.08"}},{"$f":"x^4-5*x^2+4*x+3","v":-5.810226346462574},{"$f":"(B388-B387)/Sheet2!$G$5","v":9.763436546288153},4.046610731956245,-6.782737569557093,{"$nulls":4},{"$f":"IF(AND(E387>G$7,E387<G$8),A387,Sheet1!$Q$22)","v":-1.0819180819181042},-6.782737569557093]
[{"$f":"A387+Sheet2!G$5","v":{"v":-1.0769230769230993,"d":"-1.08"}},-5.761457932145451,{"$f":"(B389-B388)/Sheet2!$G$5","v":9.78300302812326},3.9172096633881255,{"$f":"G$10+G$11*(A388-G$9)+G$12*(A388-G$9)^2/2","v":-6.713511734437597},{"$nulls":4},{"$f":"IF(AND(E388>G$7,E388<G$8),A388,Sheet1!$Q$22)","v":-1.0769230769230993},{"$f":"IF(AND(E388>G$7,E388<G$8),E388,G$10)","v":-6.713511734437597}]
[{"$f":"A388+Sheet2!G$5","v":{"v":-1.0719280719280944,"d":"-1.07"}},-5.712591783153826,{"$f":"(B390-B389)/Sheet2!$G$5","v":9.80192614199334},{"$f":"(B390-2*B389+B388)/G$5^2","v":3.7884073967900447},-6.644508863921011,{"$nulls":4},{"$f":"IF(AND(E389>G$7,E389<G$8),A389,Sheet1!$Q$22)","v":-1.0719280719280944},-6.644508863921011]
[{"$f":"A389+Sheet2!G$5","v":{"v":-1.0669330669330894,"d":"-1.07"}},-5.663631113113899,{"$f":"(B391-B390)/Sheet2!$G$5","v":9.820208878916159},3.6602039319484145,-6.575728958007333,{"$nulls":4},{"$f":"IF(AND(E390>G$7,E390<G$8),A390,Sheet1!$Q$22)","v":-1.0669330669330894},-6.575728958007333]
[{"$f":"A390+Sheet2!G$5","v":{"v":-1.0619380619380845,"d":"-1.06"}},-5.614579120711721,{"$f":"(B392-B391)/Sheet2!$G$5","v":9.837854229909482},3.5325992688632346,-6.507172016696563,{"$nulls":4},{"$f":"IF(AND(E391>G$7,E391<G$8),A391,Sheet1!$Q$22)","v":-1.0619380619380845},-6.507172016696563]
[{"$f":"A391+Sheet2!G$5","v":{"v":-1.0569430569430796,"d":"-1.06"}},-5.565438989693192,{"$f":"(B393-B392)/Sheet2!$G$5","v":9.854865185991784},3.4055934076768977,-6.438838039988703,{"$nulls":4},{"$f":"IF(AND(E392>G$7,E392<G$8),A392,Sheet1!$Q$22)","v":-1.0569430569430796},-6.438838039988703]
[{"$f":"A392+Sheet2!G$5","v":{"v":-1.0519480519480746,"d":"-1.05"}},-5.516213888864062,{"$f":"(B394-B393)/Sheet2!$G$5","v":9.871244738179762},3.279186348033422,-6.370727027883749,{"$nulls":4},{"$f":"IF(AND(E393>G$7,E393<G$8),A393,Sheet1!$Q$22)","v":-1.0519480519480746},-6.370727027883749]
[{"$f":"A393+Sheet2!G$5","v":{"v":-1.0469530469530697,"d":"-1.05"}},-5.466906972089937,{"$f":"(B395-B394)/Sheet2!$G$5","v":9.886995877492605},3.1533780904311817,-6.302838980381704,{"$nulls":4},{"$f":"IF(AND(E394>G$7,E394<G$8),A394,Sheet1!$Q$22)","v":-1.0469530469530697},-6.302838980381704]
[{"$f":"A394+Sheet2!G$5","v":{"v":-1.0419580419580647,"d":"-1.04"}},-5.417521378296268,{"$f":"(B396-B395)/Sheet2!$G$5","v":9.902121594948078},3.0281686345853918,-6.235173897482568,{"$nulls":4},{"$f":"IF(AND(E395>G$7,E395<G$8),A395,Sheet1!$Q$22)","v":-1.0419580419580647},-6.235173897482568]
[{"$f":"A395+Sheet2!G$5","v":{"v":-1.0369630369630598,"d":"-1.04"}},-5.368060231468355,{"$f":"(B397-B396)/Sheet2!$G$5","v":9.91662488156394},2.9035579804960525,-6.167731779186338,{"$nulls":4},{"$f":"IF(AND(E396>G$7,E396<G$8),A396,Sheet1!$Q$22)","v":-1.0369630369630598},-6.167731779186338]
[{"$f":"A396+Sheet2!G$5","v":{"v":-1.0319680319680549,"d":"-1.03"}},-5.318526640651353,{"$f":"(B398-B397)/Sheet2!$G$5","v":9.930508728357964},2.779546128163163,-6.10051262549302,{"$nulls":4},{"$f":"IF(AND(E397>G$7,E397<G$8),A397,Sheet1!$Q$22)","v":-1.0319680319680549},-6.10051262549302]
[{"$f":"A397+Sheet2!G$5","v":{"v":-1.02697302697305,"d":"-1.03"}},-5.268923699950264,{"$f":"(B399-B398)/Sheet2!$G$5","v":9.943776126348618},2.6561330777291166,-6.033516436402609,{"$nulls":4},{"$f":"IF(AND(E398>G$7,E398<G$8),A398,Sheet1!$Q$22)","v":-1.02697302697305},-6.033516436402609]
[{"$f":"A398+Sheet2!G$5","v":{"v":-1.021978021978045,"d":"-1.02"}},-5.219254488529941,{"$f":"(B400-B399)/Sheet2!$G$5","v":9.95643006655367},2.5333188290515203,-5.966743211915106,{"$nulls":4},{"$f":"IF(AND(E399>G$7,E399<G$8),A399,Sheet1!$Q$22)","v":-1.021978021978045},-5.966743211915106]
[{"$f":"A399+Sheet2!G$5","v":{"v":-1.01698301698304,"d":"-1.02"}},-5.169522070615088,{"$f":"(B401-B400)/Sheet2!$G$5","v":9.96847353999053},2.4111033820591783,-5.900192952030512,{"$nulls":4},{"$f":"IF(AND(E400>G$7,E400<G$8),A400,Sheet1!$Q$22)","v":-1.01698301698304},-5.900192952030512]
[{"$f":"A400+Sheet2!G$5","v":{"v":-1.0119880119880351,"d":"-1.01"}},-5.11972949549026,{"$f":"(B402-B401)/Sheet2!$G$5","v":9.979909537678383},2.2894867371080716,-5.833865656748825,{"$nulls":4},{"$f":"IF(AND(E401>G$7,E401<G$8),A401,Sheet1!$Q$22)","v":-1.0119880119880351},-5.833865656748825]
[{"$f":"A401+Sheet2!G$5","v":{"v":-1.0069930069930302,"d":"-1.01"}},-5.069879797499858,{"$f":"(B403-B402)/Sheet2!$G$5","v":9.990741050633925},2.1684688936998264,-5.7677613260700475,{"$nulls":4},{"$f":"IF(AND(E402>G$7,E402<G$8),A402,Sheet1!$Q$22)","v":-1.0069930069930302},-5.7677613260700475]
[{"$f":"A402+Sheet2!G$5","v":{"v":-1.0019980019980252,"d":"-1.00"}},-5.0199759960481405,{"$f":"(B404-B403)/Sheet2!$G$5","v":10.000971069876348},2.0480498523328166,-5.701879959994178,{"$nulls":4},{"$f":"IF(AND(E403>G$7,E403<G$8),A403,Sheet1!$Q$22)","v":-1.0019980019980252},-5.701879959994178]
[{"$f":"A403+Sheet2!G$5","v":{"v":-0.9970029970030202,"d":"-1.00"}},-4.970021095599208,{"$f":"(B405-B404)/Sheet2!$G$5","v":10.010602586422344},1.9282296125086682,-5.636221558521216,{"$nulls":4},{"$f":"IF(AND(E404>G$7,E404<G$8),A404,Sheet1!$Q$22)","v":-0.9970029970030202},-5.636221558521216]
[{"$f":"A404+Sheet2!G$5","v":{"v":-0.9920079920080151,"d":"-0.99"}},-4.920018085677018,{"$f":"(B406-B405)/Sheet2!$G$5","v":10.019638591290748},1.809008174654559,-5.570786121651162,{"$nulls":4},{"$f":"IF(AND(E405>G$7,E405<G$8),A405,Sheet1!$Q$22)","v":-0.9920079920080151},-5.570786121651162]
[{"$f":"A405+Sheet2!G$5","v":{"v":-0.9870129870130101,"d":"-0.99"}},-4.869969940865376,{"$f":"(B407-B406)/Sheet2!$G$5","v":10.028082075499325},1.6903855385569,-5.505573649384017,{"$nulls":4},{"$f":"IF(AND(E406>G$7,E406<G$8),A406,Sheet1!$Q$22)","v":-0.9870129870130101},-5.505573649384017]
[{"$f":"A406+Sheet2!G$5","v":{"v":-0.982017982018005,"d":"-0.98"}},-4.819879620807937,{"$f":"(B408-B407)/Sheet2!$G$5","v":10.035936030065837},1.5723617042156914,-5.440584141719778,{"$nulls":4},{"$f":"IF(AND(E407>G$7,E407<G$8),A407,Sheet1!$Q$22)","v":-0.982017982018005},-5.440584141719778]
[{"$f":"A407+Sheet2!G$5","v":{"v":-0.977022977023,"d":"-0.98"}},-4.769750070208207,{"$f":"(B409-B408)/Sheet2!$G$5","v":10.043203446008583},1.4549366717377277,-5.37581759865845,{"$nulls":4},{"$f":"IF(AND(E408>G$7,E408<G$8),A408,Sheet1!$Q$22)","v":-0.977022977023},-5.37581759865845]
[{"$f":"A408+Sheet2!G$5","v":{"v":-0.972027972027995,"d":"-0.97"}},-4.719584218829543,{"$f":"(B410-B409)/Sheet2!$G$5","v":10.049887314344971},1.3381104409450175,-5.31127402020003,{"$nulls":4},{"$f":"IF(AND(E409>G$7,E409<G$8),A409,Sheet1!$Q$22)","v":-0.972027972027995},-5.31127402020003]
[{"$f":"A409+Sheet2!G$5","v":{"v":-0.9670329670329899,"d":"-0.97"}},-4.669384981495153,{"$f":"(B411-B410)/Sheet2!$G$5","v":10.055990626094012},1.2218830121579451,-5.246953406344518,{"$nulls":4},{"$f":"IF(AND(E410>G$7,E410<G$8),A410,Sheet1!$Q$22)","v":-0.9670329670329899},-5.246953406344518]
[{"$f":"A410+Sheet2!G$5","v":{"v":-0.9620379620379849,"d":"-0.96"}},-4.61915525808809,{"$f":"(B412-B411)/Sheet2!$G$5","v":10.06151637227258},1.106254384949332,-5.1828557570919145,{"$nulls":4},{"$f":"IF(AND(E411>G$7,E411<G$8),A411,Sheet1!$Q$22)","v":-0.9620379620379849},-5.1828557570919145]
[{"$f":"A411+Sheet2!G$5","v":{"v":-0.9570429570429798,"d":"-0.96"}},-4.568897933551264,{"$f":"(B413-B412)/Sheet2!$G$5","v":10.066467543899508},0.9912245597107583,-5.118981072442219,{"$nulls":4},{"$f":"IF(AND(E412>G$7,E412<G$8),A412,Sheet1!$Q$22)","v":-0.9570429570429798},-5.118981072442219]
[{"$f":"A412+Sheet2!G$5","v":{"v":-0.9520479520479748,"d":"-0.95"}},-4.51861587788743,{"$f":"(B414-B413)/Sheet2!$G$5","v":10.070847131991668},0.8767935360506437,-5.0553293523954315,{"$nulls":4},{"$f":"IF(AND(E413>G$7,E413<G$8),A413,Sheet1!$Q$22)","v":-0.9520479520479748},-5.0553293523954315]
[{"$f":"A413+Sheet2!G$5","v":{"v":-0.9470529470529697,"d":"-0.95"}},-4.4683119461592,{"$f":"(B415-B414)/Sheet2!$G$5","v":10.074658127568428},0.7629613144673634,-4.991900596951554,{"$nulls":4},{"$f":"IF(AND(E414>G$7,E414<G$8),A414,Sheet1!$Q$22)","v":-0.9470529470529697},-4.991900596951554]
[{"$f":"A414+Sheet2!G$5","v":{"v":-0.9420579420579647,"d":"-0.94"}},-4.417988978489028,{"$f":"(B416-B415)/Sheet2!$G$5","v":10.077903521646663},0.6497278944625421,-4.928694806110583,{"$nulls":4},{"$f":"IF(AND(E415>G$7,E415<G$8),A415,Sheet1!$Q$22)","v":-0.9420579420579647},-4.928694806110583]
[{"$f":"A415+Sheet2!G$5","v":{"v":-0.9370629370629596,"d":"-0.94"}},-4.367649800059224,{"$f":"(B417-B416)/Sheet2!$G$5","v":10.080586305244848},0.5370932763565639,-4.865711979872522,{"$nulls":4},{"$f":"IF(AND(E416>G$7,E416<G$8),A416,Sheet1!$Q$22)","v":-0.9370629370629596},-4.865711979872522]
[{"$f":"A416+Sheet2!G$5","v":{"v":-0.9320679320679546,"d":"-0.93"}},-4.317297221111947,{"$f":"(B418-B417)/Sheet2!$G$5","v":10.082709469380925},0.42505746004263417,-4.802952118237369,{"$nulls":4},{"$f":"IF(AND(E417>G$7,E417<G$8),A417,Sheet1!$Q$22)","v":-0.9320679320679546},-4.802952118237369]
[{"$f":"A417+Sheet2!G$5","v":{"v":-0.9270729270729495,"d":"-0.93"}},-4.2669340369492055,{"$f":"(B419-B418)/Sheet2!$G$5","v":10.08427600507248},0.31362044544955636,-4.740415221205123,{"$nulls":4},{"$f":"IF(AND(E418>G$7,E418<G$8),A418,Sheet1!$Q$22)","v":-0.9270729270729495},-4.740415221205123]
[{"$f":"A418+Sheet2!G$5","v":{"v":-0.9220779220779445,"d":"-0.92"}},-4.216563027932859,{"$f":"(B420-B419)/Sheet2!$G$5","v":10.085288903337991},0.2027822327553217,-4.678101288775786,{"$nulls":4},{"$f":"IF(AND(E419>G$7,E419<G$8),A419,Sheet1!$Q$22)","v":-0.9220779220779445},-4.678101288775786]
[{"$f":"A419+Sheet2!G$5","v":{"v":-0.9170829170829394,"d":"-0.92"}},-4.166186959484618,{"$f":"(B421-B420)/Sheet2!$G$5","v":10.0857511551954},0.09254282185313546,-4.616010320949359,{"$nulls":4},{"$f":"IF(AND(E420>G$7,E420<G$8),A420,Sheet1!$Q$22)","v":-0.9170829170829394},-4.616010320949359]
[{"$f":"A420+Sheet2!G$5","v":{"v":-0.9120879120879344,"d":"-0.91"}},-4.115808582086039,{"$f":"(B422-B421)/Sheet2!$G$5","v":10.085665751662114},-0.01709778736379704,-4.554142317725839,{"$nulls":4},{"$f":"IF(AND(E421>G$7,E421<G$8),A421,Sheet1!$Q$22)","v":-0.9120879120879344},-4.554142317725839]
[{"$f":"A421+Sheet2!G$5","v":{"v":-0.9070929070929293,"d":"-0.91"}},-4.065430631278536,{"$f":"(B423-B422)/Sheet2!$G$5","v":10.085035683756788},-0.1261395946462882,-4.492497279105227,{"$nulls":4},{"$f":"IF(AND(E422>G$7,E422<G$8),A422,Sheet1!$Q$22)","v":-0.9070929070929293},-4.492497279105227]
[{"$f":"A422+Sheet2!G$5","v":{"v":-0.9020979020979243,"d":"-0.90"}},-4.015055827663367,{"$f":"(B424-B423)/Sheet2!$G$5","v":10.083863942497187},-0.23458260017232918,-4.431075205087525,{"$nulls":4},{"$f":"IF(AND(E423>G$7,E423<G$8),A423,Sheet1!$Q$22)","v":-0.9020979020979243},-4.431075205087525]
[{"$f":"A423+Sheet2!G$5","v":{"v":-0.8971028971029192,"d":"-0.90"}},-3.9646868769016432,{"$f":"(B425-B424)/Sheet2!$G$5","v":10.08215351890054},-0.3424268040487146,-4.36987609567273,{"$nulls":4},{"$f":"IF(AND(E424>G$7,E424<G$8),A424,Sheet1!$Q$22)","v":-0.8971028971029192},-4.36987609567273]
[{"$f":"A424+Sheet2!G$5","v":{"v":-0.8921078921079142,"d":"-0.89"}},-3.914326469714328,{"$f":"(B426-B425)/Sheet2!$G$5","v":10.079907403986034},-0.44967220588386403,-4.308899950860843,{"$nulls":4},{"$f":"IF(AND(E425>G$7,E425<G$8),A425,Sheet1!$Q$22)","v":-0.8921078921079142},-4.308899950860843]
[{"$f":"A425+Sheet2!G$5","v":{"v":-0.8871128871129091,"d":"-0.89"}},-3.8639772818822298,{"$f":"(B427-B426)/Sheet2!$G$5","v":10.077128588770902},-0.556318806069358,-4.248146770651866,{"$nulls":4},{"$f":"IF(AND(E426>G$7,E426<G$8),A426,Sheet1!$Q$22)","v":-0.8871128871129091},-4.248146770651866]
[{"$f":"A426+Sheet2!G$5","v":{"v":-0.8821178821179041,"d":"-0.88"}},-3.8136419742460115,{"$f":"(B428-B427)/Sheet2!$G$5","v":10.073820064273265},-0.6623666044272052,-4.187616555045796,{"$nulls":4},{"$f":"IF(AND(E427>G$7,E427<G$8),A427,Sheet1!$Q$22)","v":-0.8821178821179041},-4.187616555045796]
[{"$f":"A427+Sheet2!G$5","v":{"v":-0.877122877122899,"d":"-0.88"}},-3.763323192706185,{"$f":"(B429-B428)/Sheet2!$G$5","v":10.069984821511062},-0.767815600993004,-4.127309304042635,{"$nulls":4},{"$f":"IF(AND(E428>G$7,E428<G$8),A428,Sheet1!$Q$22)","v":-0.877122877122899},-4.127309304042635]
[{"$f":"A428+Sheet2!G$5","v":{"v":-0.872127872127894,"d":"-0.87"}},-3.7130235682231127,{"$f":"(B430-B429)/Sheet2!$G$5","v":10.06562585150277},-0.8726657956599598,-4.067225017642382,{"$nulls":4},{"$f":"IF(AND(E429>G$7,E429<G$8),A429,Sheet1!$Q$22)","v":-0.872127872127894},-4.067225017642382]
[{"$f":"A429+Sheet2!G$5","v":{"v":-0.867132867132889,"d":"-0.87"}},-3.662745716817005,{"$f":"(B431-B430)/Sheet2!$G$5","v":10.06074614526491},-0.9769171888196528,-4.007363695845038,{"$nulls":4},{"$f":"IF(AND(E430>G$7,E430<G$8),A430,Sheet1!$Q$22)","v":-0.867132867132889},-4.007363695845038]
[{"$f":"A430+Sheet2!G$5","v":{"v":-0.8621378621378839,"d":"-0.86"}},-3.6124922395679295,{"$f":"(B432-B431)/Sheet2!$G$5","v":10.055348693817379},-1.080569779795717,-3.947725338650602,{"$nulls":4},{"$f":"IF(AND(E431>G$7,E431<G$8),A431,Sheet1!$Q$22)","v":-0.8621378621378839},-3.947725338650602]
[{"$f":"A431+Sheet2!G$5","v":{"v":-0.8571428571428789,"d":"-0.86"}},-3.5622657226157948,{"$f":"(B433-B432)/Sheet2!$G$5","v":10.049436488176697},-1.1836235692645187,-3.888309946059074,{"$nulls":4},{"$f":"IF(AND(E432>G$7,E432<G$8),A432,Sheet1!$Q$22)","v":-0.8571428571428789},-3.888309946059074]
[{"$f":"A432+Sheet2!G$5","v":{"v":-0.8521478521478738,"d":"-0.85"}},-3.5120687371603667,{"$f":"(B434-B433)/Sheet2!$G$5","v":10.04301251936134},-1.286078556834477,-3.829117518070455,{"$nulls":4},{"$f":"IF(AND(E433>G$7,E433<G$8),A433,Sheet1!$Q$22)","v":-0.8521478521478738},-3.829117518070455]
[{"$f":"A433+Sheet2!G$5","v":{"v":-0.8471528471528688,"d":"-0.85"}},-3.461903839461259,{"$f":"(B435-B434)/Sheet2!$G$5","v":10.036079778389606},-1.3879347425411908,-3.7701480546847446,{"$nulls":4},{"$f":"IF(AND(E434>G$7,E434<G$8),A434,Sheet1!$Q$22)","v":-0.8471528471528688},-3.7701480546847446]
[{"$f":"A434+Sheet2!G$5","v":{"v":-0.8421578421578637,"d":"-0.84"}},-3.4117735708379344,{"$f":"(B436-B435)/Sheet2!$G$5","v":10.028641256278902},-1.4891921265626507,-3.711401555901942,{"$nulls":4},{"$f":"IF(AND(E435>G$7,E435<G$8),A435,Sheet1!$Q$22)","v":-0.8421578421578637},-3.711401555901942]
[{"$f":"A435+Sheet2!G$5","v":{"v":-0.8371628371628587,"d":"-0.84"}},-3.361680457669708,{"$f":"(B437-B436)/Sheet2!$G$5","v":10.02069994404753},-1.5898507087208655,-3.6528780217220476,{"$nulls":4},{"$f":"IF(AND(E436>G$7,E436<G$8),A436,Sheet1!$Q$22)","v":-0.8371628371628587},-3.6528780217220476]
[{"$f":"A436+Sheet2!G$5","v":{"v":-0.8321678321678536,"d":"-0.83"}},-3.3116270113957444,{"$f":"(B438-B437)/Sheet2!$G$5","v":10.01225883271325},-1.6899104891226302,-3.5945774521450624,{"$nulls":4},{"$f":"IF(AND(E437>G$7,E437<G$8),A437,Sheet1!$Q$22)","v":-0.8321678321678536},-3.5945774521450624]
[{"$f":"A437+Sheet2!G$5","v":{"v":-0.8271728271728486,"d":"-0.83"}},-3.261615728515059,{"$f":"(B439-B438)/Sheet2!$G$5","v":10.003320913294187},-1.7893714676967485,-3.536499847170985,{"$nulls":4},{"$f":"IF(AND(E438>G$7,E438<G$8),A438,Sheet1!$Q$22)","v":-0.8271728271728486},-3.536499847170985]
[{"$f":"A438+Sheet2!G$5","v":{"v":-0.8221778221778435,"d":"-0.82"}},-3.2116490905865165,{"$f":"(B440-B439)/Sheet2!$G$5","v":9.993889176808457},-1.88823364444322,-3.4786452067998157,{"$nulls":4},{"$f":"IF(AND(E439>G$7,E439<G$8),A439,Sheet1!$Q$22)","v":-0.8221778221778435},-3.4786452067998157]
[{"$f":"A439+Sheet2!G$5","v":{"v":-0.8171828171828385,"d":"-0.82"}},-3.161729564228832,{"$f":"(B441-B440)/Sheet2!$G$5","v":9.98396661427329},-1.9864970195400358,-3.421013531031556,{"$nulls":4},{"$f":"IF(AND(E440>G$7,E440<G$8),A440,Sheet1!$Q$22)","v":-0.8171828171828385},-3.421013531031556]
[{"$f":"A440+Sheet2!G$5","v":{"v":-0.8121878121878334,"d":"-0.81"}},-3.1118596011205737,{"$f":"(B442-B441)/Sheet2!$G$5","v":9.973556216707879},-2.0841615925956156,-3.363604819866204,{"$nulls":4},{"$f":"IF(AND(E441>G$7,E441<G$8),A441,Sheet1!$Q$22)","v":-0.8121878121878334},-3.363604819866204]
[{"$f":"A441+Sheet2!G$5","v":{"v":-0.8071928071928284,"d":"-0.81"}},-3.0620416380001547,{"$f":"(B443-B442)/Sheet2!$G$5","v":9.962660975129094},-2.1812273640727367,-3.30641907330376,{"$nulls":4},{"$f":"IF(AND(E442>G$7,E442<G$8),A442,Sheet1!$Q$22)","v":-0.8071928071928284},-3.30641907330376]
[{"$f":"A442+Sheet2!G$5","v":{"v":-0.8021978021978233,"d":"-0.80"}},-3.0122780966658436,{"$f":"(B444-B443)/Sheet2!$G$5","v":9.95128388055559},-2.277694333615416,-3.2494562913442246,{"$nulls":4},{"$f":"IF(AND(E443>G$7,E443<G$8),A443,Sheet1!$Q$22)","v":-0.8021978021978233},-3.2494562913442246]
[{"$f":"A443+Sheet2!G$5","v":{"v":-0.7972027972028183,"d":"-0.80"}},-2.9625713839757557,{"$f":"(B445-B444)/Sheet2!$G$5","v":9.939427924004955},-2.3735625014372435,-3.192716473987598,{"$nulls":4},{"$f":"IF(AND(E444>G$7,E444<G$8),A444,Sheet1!$Q$22)","v":-0.7972027972028183},-3.192716473987598]
[{"$f":"A444+Sheet2!G$5","v":{"v":-0.7922077922078132,"d":"-0.79"}},-2.912923891847859,{"$f":"(B446-B445)/Sheet2!$G$5","v":9.927096096495307},-2.4688318674314247,-3.136199621233879,{"$nulls":4},{"$f":"IF(AND(E445>G$7,E445<G$8),A445,Sheet1!$Q$22)","v":-0.7922077922078132},-3.136199621233879]
[{"$f":"A445+Sheet2!G$5","v":{"v":-0.7872127872128082,"d":"-0.79"}},-2.86333799725997,{"$f":"(B447-B446)/Sheet2!$G$5","v":9.914291389044411},-2.5635024316691553,-3.079905733083069,{"$nulls":4},{"$f":"IF(AND(E446>G$7,E446<G$8),A446,Sheet1!$Q$22)","v":-0.7872127872128082},-3.079905733083069]
[{"$f":"A446+Sheet2!G$5","v":{"v":-0.7822177822178031,"d":"-0.78"}},-2.8138160622497583,{"$f":"(B448-B447)/Sheet2!$G$5","v":9.901016792670923},-2.6575741939724447,-3.0238348095351677,{"$nulls":4},{"$f":"IF(AND(E447>G$7,E447<G$8),A447,Sheet1!$Q$22)","v":-0.7822177822178031},-3.0238348095351677]
[{"$f":"A447+Sheet2!G$5","v":{"v":-0.7772227772227981,"d":"-0.78"}},-2.7643604339147387,{"$f":"(B449-B448)/Sheet2!$G$5","v":9.887275298391893},-2.7510471546616766,-2.967986850590174,{"$nulls":4},{"$f":"IF(AND(E448>G$7,E448<G$8),A448,Sheet1!$Q$22)","v":-0.7772227772227981},-2.967986850590174]
[{"$f":"A448+Sheet2!G$5","v":{"v":-0.772227772227793,"d":"-0.77"}},-2.7149734444122817,{"$f":"(B450-B449)/Sheet2!$G$5","v":9.873069897225623},-2.8439213134876637,-2.912361856248089,{"$nulls":4},{"$f":"IF(AND(E449>G$7,E449<G$8),A449,Sheet1!$Q$22)","v":-0.772227772227793},-2.912361856248089]
[{"$f":"A449+Sheet2!G$5","v":{"v":-0.767232767232788,"d":"-0.77"}},-2.6656574109596063,{"$f":"(B451-B450)/Sheet2!$G$5","v":9.858403580190583},-2.936196670414808,-2.8569598265089127,{"$nulls":4},{"$f":"IF(AND(E450>G$7,E450<G$8),A450,Sheet1!$Q$22)","v":-0.767232767232788},-2.8569598265089127]
[{"$f":"A450+Sheet2!G$5","v":{"v":-0.762237762237783,"d":"-0.76"}},{"$f":"x^4-5*x^2+4*x+3","v":-2.616414635833779},{"$f":"(B452-B451)/Sheet2!$G$5","v":9.84327933830383},-3.0278732257278946,-2.8017807613726444,{"$nulls":4},{"$f":"IF(AND(E451>G$7,E451<G$8),A451,Sheet1!$Q$22)","v":-0.762237762237783},-2.8017807613726444]
[{"$f":"A451+Sheet2!G$5","v":{"v":-0.7572427572427779,"d":"-0.76"}},-2.567247406371722,{"$f":"(B453-B452)/Sheet2!$G$5","v":9.827700162584195},-3.118950979070942,{"$f":"G$10+G$11*(A452-G$9)+G$12*(A452-G$9)^2/2","v":-2.7468246608392843},{"$nulls":4},{"$f":"IF(AND(E452>G$7,E452<G$8),A452,Sheet1!$Q$22)","v":-0.7572427572427779},{"$f":"IF(AND(E452>G$7,E452<G$8),E452,G$10)","v":-2.7468246608392843}]
[{"$f":"A452+Sheet2!G$5","v":{"v":-0.7522477522477728,"d":"-0.75"}},-2.5181579949702027,{"$f":"(B454-B453)/Sheet2!$G$5","v":9.811669044049264},{"$f":"(B454-2*B453+B452)/G$5^2","v":-3.2094299306931373},-2.692091524908833,{"$nulls":4},{"$f":"IF(AND(E453>G$7,E453<G$8),A453,Sheet1!$Q$22)","v":-0.7522477522477728},-2.692091524908833]
[{"$f":"A453+Sheet2!G$5","v":{"v":-0.7472527472527678,"d":"-0.75"}},-2.4691486590858407,{"$f":"(B455-B454)/Sheet2!$G$5","v":9.79518897371698},-3.2993100805232842,-2.63758135358129,{"$nulls":4},{"$f":"IF(AND(E454>G$7,E454<G$8),A454,Sheet1!$Q$22)","v":-0.7472527472527678},-2.63758135358129]
[{"$f":"A454+Sheet2!G$5","v":{"v":-0.7422577422577628,"d":"-0.74"}},-2.4202216412351065,{"$f":"(B456-B455)/Sheet2!$G$5","v":9.778262942605107},-3.3885914285969805,-2.5832941468566553,{"$nulls":4},{"$f":"IF(AND(E455>G$7,E455<G$8),A455,Sheet1!$Q$22)","v":-0.7422577422577628},-2.5832941468566553]
[{"$f":"A455+Sheet2!G$5","v":{"v":-0.7372627372627577,"d":"-0.74"}},-2.3713791689943218,{"$f":"(B457-B456)/Sheet2!$G$5","v":9.760893941732299},-3.477273974736236,-2.529229904734929,{"$nulls":4},{"$f":"IF(AND(E456>G$7,E456<G$8),A456,Sheet1!$Q$22)","v":-0.7372627372627577},-2.529229904734929]
[{"$f":"A456+Sheet2!G$5","v":{"v":-0.7322677322677527,"d":"-0.73"}},-2.322623454999655,{"$f":"(B458-B457)/Sheet2!$G$5","v":9.743084962115963},-3.5653577191902377,-2.475388627216111,{"$nulls":4},{"$f":"IF(AND(E457>G$7,E457<G$8),A457,Sheet1!$Q$22)","v":-0.7322677322677527},-2.475388627216111]
[{"$f":"A457+Sheet2!G$5","v":{"v":-0.7272727272727476,"d":"-0.73"}},-2.2739566969471277,{"$f":"(B459-B458)/Sheet2!$G$5","v":9.724838994774045},-3.6528426618521905,-2.4217703143002014,{"$nulls":4},{"$f":"IF(AND(E458>G$7,E458<G$8),A458,Sheet1!$Q$22)","v":-0.7272727272727476},-2.4217703143002014]
[{"$f":"A458+Sheet2!G$5","v":{"v":-0.7222777222777426,"d":"-0.72"}},-2.225381077592612,{"$f":"(B460-B459)/Sheet2!$G$5","v":9.706159030724661},-3.739728802686497,-2.3683749659872007,{"$nulls":4},{"$f":"IF(AND(E459>G$7,E459<G$8),A459,Sheet1!$Q$22)","v":-0.7222777222777426},-2.3683749659872007]
[{"$f":"A459+Sheet2!G$5","v":{"v":-0.7172827172827375,"d":"-0.72"}},-2.1768987647518294,{"$f":"(B461-B460)/Sheet2!$G$5","v":9.687048060986113},-3.8260161416575587,-2.3152025822771076,{"$nulls":4},{"$f":"IF(AND(E460>G$7,E460<G$8),A460,Sheet1!$Q$22)","v":-0.7172827172827375},-2.3152025822771076]
[{"$f":"A460+Sheet2!G$5","v":{"v":-0.7122877122877325,"d":"-0.71"}},-2.1285119113003503,{"$f":"(B462-B461)/Sheet2!$G$5","v":9.667509076575628},-3.911704678978965,-2.262253163169923,{"$nulls":4},{"$f":"IF(AND(E461>G$7,E461<G$8),A461,Sheet1!$Q$22)","v":-0.7122877122877325},-2.262253163169923]
[{"$f":"A461+Sheet2!G$5","v":{"v":-0.7072927072927274,"d":"-0.71"}},-2.080222655173599,{"$f":"(B463-B462)/Sheet2!$G$5","v":9.647545068511862},-3.9967944143659295,-2.2095267086656474,{"$nulls":4},{"$f":"IF(AND(E462>G$7,E462<G$8),A462,Sheet1!$Q$22)","v":-0.7072927072927274},-2.2095267086656474]
[{"$f":"A462+Sheet2!G$5","v":{"v":-0.7022977022977224,"d":"-0.70"}},-2.0320331193668464,{"$f":"(B464-B463)/Sheet2!$G$5","v":9.62715902781258},-4.081285347996444,-2.15702321876428,{"$nulls":4},{"$f":"IF(AND(E463>G$7,E463<G$8),A463,Sheet1!$Q$22)","v":-0.7022977022977224},-2.15702321876428]
[{"$f":"A463+Sheet2!G$5","v":{"v":-0.6973026973027173,"d":"-0.70"}},-1.9839454119352151,{"$f":"(B465-B464)/Sheet2!$G$5","v":9.606353945495544},-4.165177479870509,-2.1047426934658207,{"$nulls":4},{"$f":"IF(AND(E464>G$7,E464<G$8),A464,Sheet1!$Q$22)","v":-0.6973026973027173},-2.1047426934658207]
[{"$f":"A464+Sheet2!G$5","v":{"v":-0.6923076923077123,"d":"-0.69"}},-1.935961625993679,{"$f":"(B466-B465)/Sheet2!$G$5","v":9.585132812578877},-4.248470809916926,-2.0526851327702698,{"$nulls":4},{"$f":"IF(AND(E465>G$7,E465<G$8),A465,Sheet1!$Q$22)","v":-0.6923076923077123},-2.0526851327702698]
[{"$f":"A465+Sheet2!G$5","v":{"v":-0.6873126873127072,"d":"-0.69"}},-1.8880838397170612,{"$f":"(B467-B466)/Sheet2!$G$5","v":9.563498620080518},-4.331165338171295,-2.0008505366776275,{"$nulls":4},{"$f":"IF(AND(E466>G$7,E466<G$8),A466,Sheet1!$Q$22)","v":-0.6873126873127072},-2.0008505366776275]
[{"$f":"A466+Sheet2!G$5","v":{"v":-0.6823176823177022,"d":"-0.68"}},-1.8403141163400356,{"$f":"(B468-B467)/Sheet2!$G$5","v":9.541454359018589},-4.413261064598018,-1.9492389051878933,{"$nulls":4},{"$f":"IF(AND(E467>G$7,E467<G$8),A467,Sheet1!$Q$22)","v":-0.6823176823177022},-1.9492389051878933]
[{"$f":"A467+Sheet2!G$5","v":{"v":-0.6773226773226971,"d":"-0.68"}},-1.7926545041571256,{"$f":"(B469-B468)/Sheet2!$G$5","v":9.519003020410857},-4.49475798926829,-1.8978502383010678,{"$nulls":4},{"$f":"IF(AND(E468>G$7,E468<G$8),A468,Sheet1!$Q$22)","v":-0.6773226773226971},-1.8978502383010678]
[{"$f":"A468+Sheet2!G$5","v":{"v":-0.6723276723276921,"d":"-0.67"}},-1.7451070365227057,{"$f":"(B470-B469)/Sheet2!$G$5","v":9.496147595275614},-4.575656112075318,-1.8466845360171507,{"$nulls":4},{"$f":"IF(AND(E469>G$7,E469<G$8),A469,Sheet1!$Q$22)","v":-0.6723276723276921},-1.8466845360171507]
[{"$f":"A469+Sheet2!G$5","v":{"v":-0.667332667332687,"d":"-0.67"}},-1.6976737318509993,{"$f":"(B471-B470)/Sheet2!$G$5","v":9.472891074630096},-4.65595543323269,-1.7957417983361417,{"$nulls":4},{"$f":"IF(AND(E470>G$7,E470<G$8),A470,Sheet1!$Q$22)","v":-0.667332667332687},-1.7957417983361417]
[{"$f":"A470+Sheet2!G$5","v":{"v":-0.662337662337682,"d":"-0.66"}},-1.6503565936160838,{"$f":"(B472-B471)/Sheet2!$G$5","v":9.449236449493133},-4.735655952420022,-1.745022025258041,{"$nulls":4},{"$f":"IF(AND(E471>G$7,E471<G$8),A471,Sheet1!$Q$22)","v":-0.662337662337682},-1.745022025258041]
[{"$f":"A471+Sheet2!G$5","v":{"v":-0.6573426573426769,"d":"-0.66"}},-1.6031576103518823,{"$f":"(B473-B472)/Sheet2!$G$5","v":9.425186710882134},-4.814757669922101,-1.694525216782849,{"$nulls":4},{"$f":"IF(AND(E472>G$7,E472<G$8),A472,Sheet1!$Q$22)","v":-0.6573426573426769},-1.694525216782849]
[{"$f":"A472+Sheet2!G$5","v":{"v":-0.6523476523476719,"d":"-0.65"}},-1.5560787556521714,{"$f":"(B474-B473)/Sheet2!$G$5","v":9.400744849815574},-4.893260585525336,-1.6442513729105657,{"$nulls":4},{"$f":"IF(AND(E473>G$7,E473<G$8),A473,Sheet1!$Q$22)","v":-0.6523476523476719},-1.6442513729105657]
[{"$f":"A473+Sheet2!G$5","v":{"v":-0.6473526473526668,"d":"-0.65"}},-1.509121988170575,{"$f":"(B475-B474)/Sheet2!$G$5","v":9.375913857310683},-4.9711646994789165,-1.59420049364119,{"$nulls":4},{"$f":"IF(AND(E474>G$7,E474<G$8),A474,Sheet1!$Q$22)","v":-0.6473526473526668},-1.59420049364119]
[{"$f":"A474+Sheet2!G$5","v":{"v":-0.6423576423576618,"d":"-0.64"}},-1.4622892516205717,{"$f":"(B476-B475)/Sheet2!$G$5","v":9.350696724386296},-5.048470011462457,-1.5443725789747234,{"$nulls":4},{"$f":"IF(AND(E475>G$7,E475<G$8),A475,Sheet1!$Q$22)","v":-0.6423576423576618},-1.5443725789747234]
[{"$f":"A475+Sheet2!G$5","v":{"v":-0.6373626373626567,"d":"-0.64"}},-1.4155824747754853,{"$f":"(B477-B476)/Sheet2!$G$5","v":9.325096442059463},-5.12517652183194,-1.4947676289111649,{"$nulls":4},{"$f":"IF(AND(E476>G$7,E476<G$8),A476,Sheet1!$Q$22)","v":-0.6373626373626567},-1.4947676289111649]
[{"$f":"A476+Sheet2!G$5","v":{"v":-0.6323676323676517,"d":"-0.63"}},-1.369003571468495,{"$f":"(B478-B477)/Sheet2!$G$5","v":9.299116001349017},-5.201284230231384,-1.4453856434505146,{"$nulls":4},{"$f":"IF(AND(E477>G$7,E477<G$8),A477,Sheet1!$Q$22)","v":-0.6323676323676517},-1.4453856434505146]
[{"$f":"A477+Sheet2!G$5","v":{"v":-0.6273726273726467,"d":"-0.63"}},-1.3225544405926257,{"$f":"(B479-B478)/Sheet2!$G$5","v":9.272758393272543},-5.276793136909975,-1.3962266225927729,{"$nulls":4},{"$f":"IF(AND(E478>G$7,E478<G$8),A478,Sheet1!$Q$22)","v":-0.6273726273726467},-1.3962266225927729]
[{"$f":"A478+Sheet2!G$5","v":{"v":-0.6223776223776416,"d":"-0.62"}},-1.2762369661007549,{"$f":"(B480-B479)/Sheet2!$G$5","v":9.246026608847808},-5.3517032418321175,-1.3472905663379395,{"$nulls":4},{"$f":"IF(AND(E479>G$7,E479<G$8),A479,Sheet1!$Q$22)","v":-0.6223776223776416},-1.3472905663379395]
[{"$f":"A479+Sheet2!G$5","v":{"v":-0.6173826173826366,"d":"-0.62"}},-1.230053017005611,{"$f":"(B481-B480)/Sheet2!$G$5","v":9.21892363909293},-5.426014544926612,-1.2985774746860144,{"$nulls":4},{"$f":"IF(AND(E480>G$7,E480<G$8),A480,Sheet1!$Q$22)","v":-0.6173826173826366},-1.2985774746860144]
[{"$f":"A480+Sheet2!G$5","v":{"v":-0.6123876123876315,"d":"-0.61"}},-1.1840044473797722,{"$f":"(B482-B481)/Sheet2!$G$5","v":9.191452475026384},-5.499727046122263,-1.2500873476369978,{"$nulls":4},{"$f":"IF(AND(E481>G$7,E481<G$8),A481,Sheet1!$Q$22)","v":-0.6123876123876315},-1.2500873476369978]
[{"$f":"A481+Sheet2!G$5","v":{"v":-0.6073926073926265,"d":"-0.61"}},-1.1380930963556644,{"$f":"(B483-B482)/Sheet2!$G$5","v":9.163616107665227},-5.572840745703858,-1.2018201851908898,{"$nulls":4},{"$f":"IF(AND(E482>G$7,E482<G$8),A482,Sheet1!$Q$22)","v":-0.6073926073926265},-1.2018201851908898]
[{"$f":"A482+Sheet2!G$5","v":{"v":-0.6023976023976214,"d":"-0.60"}},-1.0923207881255683,{"$f":"(B484-B483)/Sheet2!$G$5","v":9.135417528028109},-5.645355643351011,-1.1537759873476896,{"$nulls":4},{"$f":"IF(AND(E483>G$7,E483<G$8),A483,Sheet1!$Q$22)","v":-0.6023976023976214},-1.1537759873476896]
[{"$f":"A483+Sheet2!G$5","v":{"v":-0.5974025974026164,"d":"-0.60"}},-1.0466893319416117,{"$f":"(B485-B484)/Sheet2!$G$5","v":9.106859727132795},-5.717271739241714,-1.1059547541073984,{"$nulls":4},{"$f":"IF(AND(E484>G$7,E484<G$8),A484,Sheet1!$Q$22)","v":-0.5974025974026164},-1.1059547541073984]
[{"$f":"A484+Sheet2!G$5","v":{"v":-0.5924075924076113,"d":"-0.59"}},-1.0012005221157736,{"$f":"(B486-B485)/Sheet2!$G$5","v":9.07794569599723},-5.788589033340369,-1.0583564854700154,{"$nulls":4},{"$f":"IF(AND(E485>G$7,E485<G$8),A485,Sheet1!$Q$22)","v":-0.5924075924076113},-1.0583564854700154]
[{"$f":"A485+Sheet2!G$5","v":{"v":-0.5874125874126063,"d":"-0.59"}},-0.9558561380198833,{"$f":"(B487-B486)/Sheet2!$G$5","v":9.048678425639352},-5.859307525646975,-1.0109811814355407,{"$nulls":4},{"$f":"IF(AND(E486>G$7,E486<G$8),A486,Sheet1!$Q$22)","v":-0.5874125874126063},-1.0109811814355407]
[{"$f":"A486+Sheet2!G$5","v":{"v":-0.5824175824176012,"d":"-0.58"}},-0.9106579440856208,{"$f":"(B488-B487)/Sheet2!$G$5","v":9.019060907077106},-5.929427216161533,-0.9638288420039742,{"$nulls":4},{"$f":"IF(AND(E487>G$7,E487<G$8),A487,Sheet1!$Q$22)","v":-0.5824175824176012},-0.9638288420039742]
[{"$f":"A487+Sheet2!G$5","v":{"v":-0.5774225774225962,"d":"-0.58"}},-0.8656076898045164,{"$f":"(B489-B488)/Sheet2!$G$5","v":8.989096131328791},-5.998948104812845,-0.9168994671753163,{"$nulls":4},{"$f":"IF(AND(E488>G$7,E488<G$8),A488,Sheet1!$Q$22)","v":-0.5774225774225962},-0.9168994671753163]
[{"$f":"A488+Sheet2!G$5","v":{"v":-0.5724275724275911,"d":"-0.57"}},-0.820707109727949,{"$f":"(B490-B489)/Sheet2!$G$5","v":8.958787089411903},-6.067870191761105,-0.870193056949567,{"$nulls":4},{"$f":"IF(AND(E489>G$7,E489<G$8),A489,Sheet1!$Q$22)","v":-0.5724275724275911},-0.870193056949567]
[{"$f":"A489+Sheet2!G$5","v":{"v":-0.5674325674325861,"d":"-0.57"}},-0.7759579234671503,{"$f":"(B491-B490)/Sheet2!$G$5","v":8.92813677234474},-6.1361934768461195,-0.8237096113267257,{"$nulls":4},{"$f":"IF(AND(E490>G$7,E490<G$8),A490,Sheet1!$Q$22)","v":-0.5674325674325861},-0.8237096113267257]
[{"$f":"A490+Sheet2!G$5","v":{"v":-0.562437562437581,"d":"-0.56"}},-0.7313618356932006,{"$f":"(B492-B491)/Sheet2!$G$5","v":8.897148171145066},-6.203917960174684,-0.7774491303067932,{"$nulls":4},{"$f":"IF(AND(E491>G$7,E491<G$8),A491,Sheet1!$Q$22)","v":-0.562437562437581},-0.7774491303067932]
[{"$f":"A491+Sheet2!G$5","v":{"v":-0.557442557442576,"d":"-0.56"}},-0.6869205361370314,{"$f":"(B493-B492)/Sheet2!$G$5","v":8.86582427683109},-6.271043641657804,-0.7314116138897686,{"$nulls":4},{"$f":"IF(AND(E492>G$7,E492<G$8),A492,Sheet1!$Q$22)","v":-0.557442557442576},-0.7314116138897686]
[{"$f":"A492+Sheet2!G$5","v":{"v":-0.5524475524475709,"d":"-0.55"}},-0.6426356995894236,{"$f":"(B494-B493)/Sheet2!$G$5","v":8.834168080420579},-6.337570521384473,-0.6855970620756526,{"$nulls":4},{"$f":"IF(AND(E493>G$7,E493<G$8),A493,Sheet1!$Q$22)","v":-0.5524475524475709},-0.6855970620756526]
[{"$f":"A493+Sheet2!G$5","v":{"v":-0.5474525474525659,"d":"-0.55"}},-0.5985089859010091,{"$f":"(B495-B494)/Sheet2!$G$5","v":8.802182572931471},-6.403498599319093,-0.6400054748644453,{"$nulls":4},{"$f":"IF(AND(E494>G$7,E494<G$8),A494,Sheet1!$Q$22)","v":-0.5474525474525659},-0.6400054748644453]
[{"$f":"A494+Sheet2!G$5","v":{"v":-0.5424575424575608,"d":"-0.54"}},-0.5545420399822705,{"$f":"(B496-B495)/Sheet2!$G$5","v":8.76987074538198},-6.468827875408268,-0.5946368522561459,{"$nulls":4},{"$f":"IF(AND(E495>G$7,E495<G$8),A495,Sheet1!$Q$22)","v":-0.5424575424575608},-0.5946368522561459]
[{"$f":"A495+Sheet2!G$5","v":{"v":-0.5374625374625558,"d":"-0.54"}},-0.5107364918035393,{"$f":"(B497-B496)/Sheet2!$G$5","v":8.737235588789778},-6.533558349758791,-0.549491194250755,{"$nulls":4},{"$f":"IF(AND(E496>G$7,E496<G$8),A496,Sheet1!$Q$22)","v":-0.5374625374625558},-0.549491194250755]
[{"$f":"A496+Sheet2!G$5","v":{"v":-0.5324675324675507,"d":"-0.53"}},-0.46709395639499895,{"$f":"(B498-B497)/Sheet2!$G$5","v":8.704280094173164},-6.59769002224607,-0.5045685008482728,{"$nulls":4},{"$f":"IF(AND(E497>G$7,E497<G$8),A497,Sheet1!$Q$22)","v":-0.5324675324675507},-0.5045685008482728]
[{"$f":"A497+Sheet2!G$5","v":{"v":-0.5274725274725457,"d":"-0.53"}},-0.42361603384668145,{"$f":"(B499-B498)/Sheet2!$G$5","v":8.671007252549815},-6.661222892994697,-0.4598687720486987,{"$nulls":4},{"$f":"IF(AND(E498>G$7,E498<G$8),A498,Sheet1!$Q$22)","v":-0.5274725274725457},-0.4598687720486987]
[{"$f":"A498+Sheet2!G$5","v":{"v":-0.5224775224775406,"d":"-0.52"}},-0.3803043093084706,{"$f":"(B500-B499)/Sheet2!$G$5","v":8.63742005493776},-6.724156961933478,-0.4153920078520329,{"$nulls":4},{"$f":"IF(AND(E499>G$7,E499<G$8),A499,Sheet1!$Q$22)","v":-0.5224775224775406},-0.4153920078520329]
[{"$f":"A499+Sheet2!G$5","v":{"v":-0.5174825174825356,"d":"-0.52"}},-0.33716035299010017,{"$f":"(B501-B500)/Sheet2!$G$5","v":8.603521492355208},-6.786492229026812,-0.3711382082582758,{"$nulls":4},{"$f":"IF(AND(E500>G$7,E500<G$8),A500,Sheet1!$Q$22)","v":-0.5174825174825356},-0.3711382082582758]
[{"$f":"A500+Sheet2!G$5","v":{"v":-0.5124875124875305,"d":"-0.51"}},-0.2941857201611531,{"$f":"(B502-B501)/Sheet2!$G$5","v":8.569314555819835},-6.848228694381495,-0.3271073732674269,{"$nulls":4},{"$f":"IF(AND(E501>G$7,E501<G$8),A501,Sheet1!$Q$22)","v":-0.5124875124875305},-0.3271073732674269]
[{"$f":"A501+Sheet2!G$5","v":{"v":-0.5074925074925255,"d":"-0.51"}},-0.251381951151064,{"$f":"(B503-B502)/Sheet2!$G$5","v":8.534802236349584},-6.90936635794413,-0.2832995028794866,{"$nulls":4},{"$f":"IF(AND(E502>G$7,E502<G$8),A502,Sheet1!$Q$22)","v":-0.5074925074925255},-0.2832995028794866]
[{"$f":"A502+Sheet2!G$5","v":{"v":-0.5024975024975205,"d":"-0.50"}},-0.208750571349118,{"$f":"(B504-B503)/Sheet2!$G$5","v":8.499987524962666},-6.969905219661318,-0.23971459709445436,{"$nulls":4},{"$f":"IF(AND(E503>G$7,E503<G$8),A503,Sheet1!$Q$22)","v":-0.5024975024975205},-0.23971459709445436]
[{"$f":"A503+Sheet2!G$5","v":{"v":-0.49750249750251546,"d":"-0.50"}},-0.16629309120444935,{"$f":"(B505-B504)/Sheet2!$G$5","v":8.464873412677019},-7.029845279586459,-0.19635265591233111,{"$nulls":4},{"$f":"IF(AND(E504>G$7,E504<G$8),A504,Sheet1!$Q$22)","v":-0.49750249750251546},-0.19635265591233111]
[{"$f":"A504+Sheet2!G$5","v":{"v":-0.49250749250751047,"d":"-0.49"}},-0.12401100622604266,{"$f":"(B506-B505)/Sheet2!$G$5","v":8.42946289051041},-7.0891865377551495,-0.15321367933311625,{"$nulls":4},{"$f":"IF(AND(E505>G$7,E505<G$8),A505,Sheet1!$Q$22)","v":-0.49250749250751047},-0.15321367933311625]
[{"$f":"A505+Sheet2!G$5","v":{"v":-0.4875124875125055,"d":"-0.49"}},-0.08190579698273392,{"$f":"(B507-B506)/Sheet2!$G$5","v":8.393758949481047},-7.147928994078394,-0.11029766735680976,{"$nulls":4},{"$f":"IF(AND(E506>G$7,E506<G$8),A506,Sheet1!$Q$22)","v":-0.4875124875125055},-0.11029766735680976]
[{"$f":"A506+Sheet2!G$5","v":{"v":-0.4825174825175005,"d":"-0.48"}},-0.039978929103208216,{"$f":"(B508-B507)/Sheet2!$G$5","v":8.357764580606872},-7.20607264860959,-0.06760461998341166,{"$nulls":4},{"$f":"IF(AND(E507>G$7,E507<G$8),A507,Sheet1!$Q$22)","v":-0.4825174825175005},-0.06760461998341166]
[{"$f":"A507+Sheet2!G$5","v":{"v":-0.4775224775224955,"d":"-0.48"}},1.7681467239989423E-3,{"$f":"(B509-B508)/Sheet2!$G$5","v":8.321482774905563},-7.263617501402136,-0.025134537212921942,{"$nulls":4},{"$f":"IF(AND(E508>G$7,E508<G$8),A508,Sheet1!$Q$22)","v":-0.4775224775224955},-0.025134537212921942]
[{"$f":"A508+Sheet2!G$5","v":{"v":-0.4725274725274905,"d":"-0.47"}},0.04333399475050026,{"$f":"(B510-B509)/Sheet2!$G$5","v":8.284916523395417},-7.320563552331436,0.017112580954659395,{"$nulls":4},{"$f":"IF(AND(E509>G$7,E509<G$8),A509,Sheet1!$Q$22)","v":-0.4725274725274905},0.017112580954659395]
[{"$f":"A509+Sheet2!G$5","v":{"v":-0.4675324675324855,"d":"-0.47"}},0.08471719416805978,{"$f":"(B511-B510)/Sheet2!$G$5","v":8.248068817094374},-7.3769108014686875,0.05913673451933213,{"$nulls":4},{"$f":"IF(AND(E510>G$7,E510<G$8),A510,Sheet1!$Q$22)","v":-0.4675324675324855},0.05913673451933213]
[{"$f":"A510+Sheet2!G$5","v":{"v":-0.4625374625374805,"d":"-0.46"}},0.12591633910859112,{"$f":"(B512-B511)/Sheet2!$G$5","v":8.2109426470202},-7.432659248849489,0.10093792348109672,{"$nulls":4},{"$f":"IF(AND(E511>G$7,E511<G$8),A511,Sheet1!$Q$22)","v":-0.4625374625374805},0.10093792348109672]
[{"$f":"A511+Sheet2!G$5","v":{"v":-0.4575424575424755,"d":"-0.46"}},0.16693003864415656,{"$f":"(B513-B512)/Sheet2!$G$5","v":8.173541004191017},-7.487808894402644,0.1425161478399529,{"$nulls":4},{"$f":"IF(AND(E512>G$7,E512<G$8),A512,Sheet1!$Q$22)","v":-0.4575424575424755},0.1425161478399529]
[{"$f":"A512+Sheet2!G$5","v":{"v":-0.45254745254747053,"d":"-0.45"}},0.20775691678696884,{"$f":"(B514-B513)/Sheet2!$G$5","v":8.135866879624764},-7.54235973816375,0.1838714075959007,{"$nulls":4},{"$f":"IF(AND(E513>G$7,E513<G$8),A513,Sheet1!$Q$22)","v":-0.45254745254747053},0.1838714075959007]
[{"$f":"A513+Sheet2!G$5","v":{"v":-0.44755244755246554,"d":"-0.45"}},0.24839561248939024,{"$f":"(B515-B514)/Sheet2!$G$5","v":8.097923264339386},-7.596311780132808,0.22500370274894016,{"$nulls":4},{"$f":"IF(AND(E514>G$7,E514<G$8),A514,Sheet1!$Q$22)","v":-0.44755244755246554},0.22500370274894016]
[{"$f":"A514+Sheet2!G$5","v":{"v":-0.44255744255746055,"d":"-0.44"}},{"$f":"x^4-5*x^2+4*x+3","v":0.2888447796439326},{"$f":"(B516-B515)/Sheet2!$G$5","v":8.059713149352913},-7.649665020292019,0.2659130332990712,{"$nulls":4},{"$f":"IF(AND(E515>G$7,E515<G$8),A515,Sheet1!$Q$22)","v":-0.44255744255746055},0.2659130332990712]
[{"$f":"A515+Sheet2!G$5","v":{"v":-0.43756243756245555,"d":"-0.44"}},0.32910308708325786,{"$f":"(B517-B516)/Sheet2!$G$5","v":8.021239525683287},-7.702419458659181,{"$f":"G$10+G$11*(A516-G$9)+G$12*(A516-G$9)^2/2","v":0.30659939924629387},{"$nulls":4},{"$f":"IF(AND(E516>G$7,E516<G$8),A516,Sheet1!$Q$22)","v":-0.43756243756245555},{"$f":"IF(AND(E516>G$7,E516<G$8),E516,G$10)","v":0.30659939924629387}]
[{"$f":"A516+Sheet2!G$5","v":{"v":-0.43256743256745056,"d":"-0.43"}},0.36916921858017737,{"$f":"(B518-B517)/Sheet2!$G$5","v":7.98250538434845},{"$f":"(B518-2*B517+B516)/G$5^2","v":-7.754575095234295},0.3470628005906081,{"$nulls":4},{"$f":"IF(AND(E517>G$7,E517<G$8),A517,Sheet1!$Q$22)","v":-0.43256743256745056},0.3470628005906081]
[{"$f":"A517+Sheet2!G$5","v":{"v":-0.42757242757244557,"d":"-0.43"}},0.40904187284765214,{"$f":"(B519-B518)/Sheet2!$G$5","v":7.943513716366344},-7.80613193001736,0.38730323733201405,{"$nulls":4},{"$f":"IF(AND(E518>G$7,E518<G$8),A518,Sheet1!$Q$22)","v":-0.42757242757244557},0.38730323733201405]
[{"$f":"A518+Sheet2!G$5","v":{"v":-0.4225774225774406,"d":"-0.42"}},0.4487197635387927,{"$f":"(B520-B519)/Sheet2!$G$5","v":7.904267512755003},-7.857089962990577,0.4273207094705115,{"$nulls":4},{"$f":"IF(AND(E519>G$7,E519<G$8),A519,Sheet1!$Q$22)","v":-0.4225774225774406},0.4273207094705115]
[{"$f":"A519+Sheet2!G$5","v":{"v":-0.4175824175824356,"d":"-0.42"}},0.4882016192468597,{"$f":"(B521-B520)/Sheet2!$G$5","v":7.864769764532545},-7.907449194136149,0.4671152170061006,{"$nulls":4},{"$f":"IF(AND(E520>G$7,E520<G$8),A520,Sheet1!$Q$22)","v":-0.4175824175824356},0.4671152170061006]
[{"$f":"A520+Sheet2!G$5","v":{"v":-0.4125874125874306,"d":"-0.41"}},0.527486183505264,{"$f":"(B522-B521)/Sheet2!$G$5","v":7.8250234627165565},-7.957209623560868,0.5066867599387813,{"$nulls":4},{"$f":"IF(AND(E521>G$7,E521<G$8),A521,Sheet1!$Q$22)","v":-0.4125874125874306},0.5066867599387813]
[{"$f":"A521+Sheet2!G$5","v":{"v":-0.4075924075924256,"d":"-0.41"}},0.5665722147875645,{"$f":"(B523-B522)/Sheet2!$G$5","v":7.785031598325336},-8.006371251122342,0.5460353382685538,{"$nulls":4},{"$f":"IF(AND(E522>G$7,E522<G$8),A522,Sheet1!$Q$22)","v":-0.4075924075924256},0.5460353382685538]
[{"$f":"A522+Sheet2!G$5","v":{"v":-0.4025974025974206,"d":"-0.40"}},0.6054584865074712,{"$f":"(B524-B523)/Sheet2!$G$5","v":7.744797162376737},-8.054934076909566,0.5851609519954177,{"$nulls":4},{"$f":"IF(AND(E523>G$7,E523<G$8),A523,Sheet1!$Q$22)","v":-0.4025974025974206},0.5851609519954177]
[{"$f":"A523+Sheet2!G$5","v":{"v":-0.3976023976024156,"d":"-0.40"}},0.6441437870188436,{"$f":"(B525-B524)/Sheet2!$G$5","v":7.704323145888701},-8.102898100904744,0.6240636011193733,{"$nulls":4},{"$f":"IF(AND(E524>G$7,E524<G$8),A524,Sheet1!$Q$22)","v":-0.3976023976024156},0.6240636011193733]
[{"$f":"A524+Sheet2!G$5","v":{"v":-0.3926073926074106,"d":"-0.39"}},0.6826269196156902,{"$f":"(B526-B525)/Sheet2!$G$5","v":7.663612539879349},-8.150263323072274,0.6627432856404205,{"$nulls":4},{"$f":"IF(AND(E525>G$7,E525<G$8),A525,Sheet1!$Q$22)","v":-0.3926073926074106},0.6627432856404205]
[{"$f":"A525+Sheet2!G$5","v":{"v":-0.38761238761240563,"d":"-0.39"}},0.7209067025321705,{"$f":"(B527-B526)/Sheet2!$G$5","v":7.622668335366267},-8.197029743518952,0.7012000055585593,{"$nulls":4},{"$f":"IF(AND(E526>G$7,E526<G$8),A526,Sheet1!$Q$22)","v":-0.38761238761240563},0.7012000055585593]
[{"$f":"A526+Sheet2!G$5","v":{"v":-0.38261738261740064,"d":"-0.38"}},0.7589819689425914,{"$f":"(B528-B527)/Sheet2!$G$5","v":7.581493523368021},-8.243197362048987,0.7394337608737898,{"$nulls":4},{"$f":"IF(AND(E527>G$7,E527<G$8),A527,Sheet1!$Q$22)","v":-0.38261738261740064},0.7394337608737898]
[{"$f":"A527+Sheet2!G$5","v":{"v":-0.37762237762239564,"d":"-0.38"}},0.7968515669614127,{"$f":"(B529-B528)/Sheet2!$G$5","v":7.540091094902018},-8.288766178893768,0.7774445515861118,{"$nulls":4},{"$f":"IF(AND(E528>G$7,E528<G$8),A528,Sheet1!$Q$22)","v":-0.37762237762239564},0.7774445515861118]
[{"$f":"A528+Sheet2!G$5","v":{"v":-0.37262737262739065,"d":"-0.37"}},0.8345143596432409,{"$f":"(B530-B529)/Sheet2!$G$5","v":7.498464040986645},-8.333736193857506,0.8152323776955256,{"$nulls":4},{"$f":"IF(AND(E529>G$7,E529<G$8),A529,Sheet1!$Q$22)","v":-0.37262737262739065},0.8152323776955256]
[{"$f":"A529+Sheet2!G$5","v":{"v":-0.36763236763238566,"d":"-0.37"}},0.8719692249828346,{"$f":"(B531-B530)/Sheet2!$G$5","v":7.45661535263958},-8.378107407082593,0.8527972392020309,{"$nulls":4},{"$f":"IF(AND(E530>G$7,E530<G$8),A530,Sheet1!$Q$22)","v":-0.36763236763238566},0.8527972392020309]
[{"$f":"A530+Sheet2!G$5","v":{"v":-0.36263736263738067,"d":"-0.36"}},0.9092150559151002,{"$f":"(B532-B531)/Sheet2!$G$5","v":7.4145480208788515},-8.421879818497832,0.8901391361056278,{"$nulls":4},{"$f":"IF(AND(E531>G$7,E531<G$8),A531,Sheet1!$Q$22)","v":-0.36263736263738067},0.8901391361056278]
[{"$f":"A531+Sheet2!G$5","v":{"v":-0.3576423576423757,"d":"-0.36"}},0.9462507603150945,{"$f":"(B533-B532)/Sheet2!$G$5","v":7.37226503672258},-8.465053428085424,0.9272580684063163,{"$nulls":4},{"$f":"IF(AND(E532>G$7,E532<G$8),A532,Sheet1!$Q$22)","v":-0.3576423576423757},0.9272580684063163]
[{"$f":"A532+Sheet2!G$5","v":{"v":-0.3526473526473707,"d":"-0.35"}},0.9830752609980244,{"$f":"(B534-B533)/Sheet2!$G$5","v":7.329769391188665},-8.507628235889868,0.9641540361040964,{"$nulls":4},{"$f":"IF(AND(E533>G$7,E533<G$8),A533,Sheet1!$Q$22)","v":-0.3526473526473707},0.9641540361040964]
[{"$f":"A533+Sheet2!G$5","v":{"v":-0.3476523476523657,"d":"-0.35"}},1.0196874957192466,{"$f":"(B535-B534)/Sheet2!$G$5","v":7.287064075295003},-8.549604241911164,1.0008270391989682,{"$nulls":4},{"$f":"IF(AND(E534>G$7,E534<G$8),A534,Sheet1!$Q$22)","v":-0.3476523476523657},1.0008270391989682]
[{"$f":"A534+Sheet2!G$5","v":{"v":-0.3426573426573607,"d":"-0.34"}},1.0560864171742665,{"$f":"(B536-B535)/Sheet2!$G$5","v":7.244152080059581},-8.59098144613151,1.0372770776909315,{"$nulls":4},{"$f":"IF(AND(E535>G$7,E535<G$8),A535,Sheet1!$Q$22)","v":-0.3426573426573607},1.0372770776909315]
[{"$f":"A535+Sheet2!G$5","v":{"v":-0.3376623376623557,"d":"-0.34"}},1.09227099299874,{"$f":"(B537-B536)/Sheet2!$G$5","v":7.20103639650043},-8.63175984854201,1.0735041515799866,{"$nulls":4},{"$f":"IF(AND(E536>G$7,E536<G$8),A536,Sheet1!$Q$22)","v":-0.3376623376623557},1.0735041515799866]
[{"$f":"A536+Sheet2!G$5","v":{"v":-0.3326673326673507,"d":"-0.33"}},1.1282402057684724,{"$f":"(B538-B537)/Sheet2!$G$5","v":7.157720015635448},-8.67193944916936,1.1095082608661333,{"$nulls":4},{"$f":"IF(AND(E537>G$7,E537<G$8),A537,Sheet1!$Q$22)","v":-0.3326673326673507},1.1095082608661333]
[{"$f":"A537+Sheet2!G$5","v":{"v":-0.3276723276723457,"d":"-0.33"}},1.1639930529994187,{"$f":"(B539-B538)/Sheet2!$G$5","v":7.114205928482756},-8.711520247969064,1.1452894055493714,{"$nulls":4},{"$f":"IF(AND(E538>G$7,E538<G$8),A538,Sheet1!$Q$22)","v":-0.3276723276723457},1.1452894055493714]
[{"$f":"A538+Sheet2!G$5","v":{"v":-0.3226773226773407,"d":"-0.32"}},1.1995285471476842,{"$f":"(B540-B539)/Sheet2!$G$5","v":7.070497126060072},-8.750502245021217,1.1808475856297014,{"$nulls":4},{"$f":"IF(AND(E539>G$7,E539<G$8),A539,Sheet1!$Q$22)","v":-0.3226773226773407},1.1808475856297014]
[{"$f":"A539+Sheet2!G$5","v":{"v":-0.31768231768233574,"d":"-0.32"}},1.2348457156095227,{"$f":"(B541-B540)/Sheet2!$G$5","v":7.0265965993856065},-8.788885440227924,1.216182801107123,{"$nulls":4},{"$f":"IF(AND(E540>G$7,E540<G$8),A540,Sheet1!$Q$22)","v":-0.31768231768233574},1.216182801107123]
[{"$f":"A540+Sheet2!G$5","v":{"v":-0.31268731268733074,"d":"-0.31"}},1.269943600721339,{"$f":"(B542-B541)/Sheet2!$G$5","v":6.9825073394772135},-8.826669833660382,1.251295051981636,{"$nulls":4},{"$f":"IF(AND(E541>G$7,E541<G$8),A541,Sheet1!$Q$22)","v":-0.31268731268733074},1.251295051981636]
[{"$f":"A541+Sheet2!G$5","v":{"v":-0.30769230769232575,"d":"-0.31"}},1.3048212597596867,{"$f":"(B543-B542)/Sheet2!$G$5","v":6.938232337352878},-8.863855425291893,1.2861843382532407,{"$nulls":4},{"$f":"IF(AND(E542>G$7,E542<G$8),A542,Sheet1!$Q$22)","v":-0.30769230769232575},1.2861843382532407]
[{"$f":"A542+Sheet2!G$5","v":{"v":-0.30269730269732076,"d":"-0.30"}},1.3394777649412695,{"$f":"(B544-B543)/Sheet2!$G$5","v":6.893774584030499},-8.900442215140254,1.3208506599219372,{"$nulls":4},{"$f":"IF(AND(E543>G$7,E543<G$8),A543,Sheet1!$Q$22)","v":-0.30269730269732076},1.3208506599219372]
[{"$f":"A543+Sheet2!G$5","v":{"v":-0.29770229770231577,"d":"-0.30"}},1.3739122034229403,{"$f":"(B545-B544)/Sheet2!$G$5","v":6.849137070528242},-8.936430203152069,1.355294016987725,{"$nulls":4},{"$f":"IF(AND(E544>G$7,E544<G$8),A544,Sheet1!$Q$22)","v":-0.29770229770231577},1.355294016987725]
[{"$f":"A544+Sheet2!G$5","v":{"v":-0.2927072927073108,"d":"-0.29"}},1.4081236773017027,{"$f":"(B546-B545)/Sheet2!$G$5","v":6.804322787863868},-8.971819389407434,1.3895144094506044,{"$nulls":4},{"$f":"IF(AND(E545>G$7,E545<G$8),A545,Sheet1!$Q$22)","v":-0.2927072927073108},1.3895144094506044]
[{"$f":"A545+Sheet2!G$5","v":{"v":-0.2877122877123058,"d":"-0.29"}},1.442111303614709,{"$f":"(B547-B546)/Sheet2!$G$5","v":6.759334727055501},-9.006609773835152,1.4235118373105757,{"$nulls":4},{"$f":"IF(AND(E546>G$7,E546<G$8),A546,Sheet1!$Q$22)","v":-0.2877122877123058},1.4235118373105757]
[{"$f":"A546+Sheet2!G$5","v":{"v":-0.2827172827173008,"d":"-0.28"}},1.475874214339262,{"$f":"(B548-B547)/Sheet2!$G$5","v":6.7141758791209485},-9.04080135649752,1.4572863005676384,{"$nulls":4},{"$f":"IF(AND(E547>G$7,E547<G$8),A547,Sheet1!$Q$22)","v":-0.2827172827173008},1.4572863005676384]
[{"$f":"A547+Sheet2!G$5","v":{"v":-0.2777222777222958,"d":"-0.28"}},1.5094115563928132,{"$f":"(B549-B548)/Sheet2!$G$5","v":6.668849235078374},-9.074394137323342,1.490837799221793,{"$nulls":4},{"$f":"IF(AND(E548>G$7,E548<G$8),A548,Sheet1!$Q$22)","v":-0.2777222777222958},1.490837799221793]
[{"$f":"A548+Sheet2!G$5","v":{"v":-0.2727272727272908,"d":"-0.27"}},1.542722491632965,{"$f":"(B550-B549)/Sheet2!$G$5","v":6.6233577859456325},-9.107388116374915,1.524166333273039,{"$nulls":4},{"$f":"IF(AND(E549>G$7,E549<G$8),A549,Sheet1!$Q$22)","v":-0.2727272727272908},1.524166333273039]
[{"$f":"A549+Sheet2!G$5","v":{"v":-0.2677322677322858,"d":"-0.27"}},1.5758061968574686,{"$f":"(B551-B550)/Sheet2!$G$5","v":6.577704522740665},-9.13978329363444,1.5572719027213766,{"$nulls":4},{"$f":"IF(AND(E550>G$7,E550<G$8),A550,Sheet1!$Q$22)","v":-0.2677322677322858},1.5572719027213766]
[{"$f":"A550+Sheet2!G$5","v":{"v":-0.2627372627372808,"d":"-0.26"}},1.6086618638042252,{"$f":"(B552-B551)/Sheet2!$G$5","v":6.531892436481503},-9.171579669084117,1.590154507566806,{"$nulls":4},{"$f":"IF(AND(E551>G$7,E551<G$8),A551,Sheet1!$Q$22)","v":-0.2627372627372808},1.590154507566806]
[{"$f":"A551+Sheet2!G$5","v":{"v":-0.2577422577422758,"d":"-0.26"}},1.6412886991512856,{"$f":"(B553-B552)/Sheet2!$G$5","v":6.485924518186135},-9.202777242732846,1.622814147809327,{"$nulls":4},{"$f":"IF(AND(E552>G$7,E552<G$8),A552,Sheet1!$Q$22)","v":-0.2577422577422758},1.622814147809327]
[{"$f":"A552+Sheet2!G$5","v":{"v":-0.25274725274727083,"d":"-0.25"}},1.6736859245168507,{"$f":"(B554-B553)/Sheet2!$G$5","v":6.439803758872456},-9.233376014598425,1.6552508234489394,{"$nulls":4},{"$f":"IF(AND(E553>G$7,E553<G$8),A553,Sheet1!$Q$22)","v":-0.25274725274727083},1.6552508234489394]
[{"$f":"A553+Sheet2!G$5","v":{"v":-0.24775224775226584,"d":"-0.25"}},1.7058527764592706,{"$f":"(B555-B554)/Sheet2!$G$5","v":6.393533149558544},-9.26337598464526,1.6874645344856436,{"$nulls":4},{"$f":"IF(AND(E554>G$7,E554<G$8),A554,Sheet1!$Q$22)","v":-0.24775224775226584},1.6874645344856436]
[{"$f":"A554+Sheet2!G$5","v":{"v":-0.24275724275726085,"d":"-0.24"}},1.7377885064770455,{"$f":"(B556-B555)/Sheet2!$G$5","v":6.347115681262206},-9.292777152926742,1.7194552809194394,{"$nulls":4},{"$f":"IF(AND(E555>G$7,E555<G$8),A555,Sheet1!$Q$22)","v":-0.24275724275726085},1.7194552809194394]
[{"$f":"A555+Sheet2!G$5","v":{"v":-0.23776223776225586,"d":"-0.24"}},1.7694923810088248,{"$f":"(B557-B556)/Sheet2!$G$5","v":6.300554345001564},-9.32157951938058,1.7512230627503265,{"$nulls":4},{"$f":"IF(AND(E556>G$7,E556<G$8),A556,Sheet1!$Q$22)","v":-0.23776223776225586},1.7512230627503265]
[{"$f":"A556+Sheet2!G$5","v":{"v":-0.23276723276725086,"d":"-0.23"}},1.800963681433408,{"$f":"(B558-B557)/Sheet2!$G$5","v":6.253852131794515},-9.349783084051266,1.7827678799783058,{"$nulls":4},{"$f":"IF(AND(E557>G$7,E557<G$8),A557,Sheet1!$Q$22)","v":-0.23276723276725086},1.7827678799783058]
[{"$f":"A557+Sheet2!G$5","v":{"v":-0.22777222777224587,"d":"-0.23"}},1.8322017040697443,{"$f":"(B559-B558)/Sheet2!$G$5","v":6.207012032659089},-9.377387846912107,1.8140897326033762,{"$nulls":4},{"$f":"IF(AND(E558>G$7,E558<G$8),A558,Sheet1!$Q$22)","v":-0.22777222777224587},1.8140897326033762]
[{"$f":"A558+Sheet2!G$5","v":{"v":-0.22277722277724088,"d":"-0.22"}},1.8632057601769325,{"$f":"(B560-B559)/Sheet2!$G$5","v":6.160037038613186},-9.404393807989798,1.8451886206255386,{"$nulls":4},{"$f":"IF(AND(E559>G$7,E559<G$8),A559,Sheet1!$Q$22)","v":-0.22277722277724088},1.8451886206255386]
[{"$f":"A559+Sheet2!G$5","v":{"v":-0.2177822177822359,"d":"-0.22"}},1.8939751759542212,{"$f":"(B561-B560)/Sheet2!$G$5","v":6.112930140674792},-9.43080096726654,1.8760645440447923,{"$nulls":4},{"$f":"IF(AND(E560>G$7,E560<G$8),A560,Sheet1!$Q$22)","v":-0.2177822177822359},1.8760645440447923]
[{"$f":"A560+Sheet2!G$5","v":{"v":-0.2127872127872309,"d":"-0.21"}},1.9245092925410083,{"$f":"(B562-B561)/Sheet2!$G$5","v":6.065694329861894},-9.456609324742336,1.9067175028611378,{"$nulls":4},{"$f":"IF(AND(E561>G$7,E561<G$8),A561,Sheet1!$Q$22)","v":-0.2127872127872309},1.9067175028611378]
[{"$f":"A561+Sheet2!G$5","v":{"v":-0.2077922077922259,"d":"-0.21"}},1.954807466016842,{"$f":"(B563-B562)/Sheet2!$G$5","v":6.018332597192477},-9.481818880417183,1.9371474970745748,{"$nulls":4},{"$f":"IF(AND(E562>G$7,E562<G$8),A562,Sheet1!$Q$22)","v":-0.2077922077922259},1.9371474970745748]
[{"$f":"A562+Sheet2!G$5","v":{"v":-0.2027972027972209,"d":"-0.20"}},1.9848690674014198,{"$f":"(B564-B563)/Sheet2!$G$5","v":5.970847933684485},-9.506429634299982,1.9673545266851034,{"$nulls":4},{"$f":"IF(AND(E563>G$7,E563<G$8),A563,Sheet1!$Q$22)","v":-0.2027972027972209},1.9673545266851034]
[{"$f":"A563+Sheet2!G$5","v":{"v":-0.19780219780221592,"d":"-0.20"}},2.014693482654589,{"$f":"(B565-B564)/Sheet2!$G$5","v":5.92324333035586},-9.530441586390733,1.997338591692724,{"$nulls":4},{"$f":"IF(AND(E564>G$7,E564<G$8),A564,Sheet1!$Q$22)","v":-0.19780219780221592},1.997338591692724]
[{"$f":"A564+Sheet2!G$5","v":{"v":-0.19280719280721093,"d":"-0.19"}},2.0442801126763466,{"$f":"(B566-B565)/Sheet2!$G$5","v":5.875521778224589},-9.553854736680536,2.027099692097436,{"$nulls":4},{"$f":"IF(AND(E565>G$7,E565<G$8),A565,Sheet1!$Q$22)","v":-0.19280719280721093},2.027099692097436]
[{"$f":"A565+Sheet2!G$5","v":{"v":-0.18781218781220593,"d":"-0.19"}},2.073628373306839,{"$f":"(B567-B566)/Sheet2!$G$5","v":5.827686268308791},-9.576669085142692,2.0566378278992397,{"$nulls":4},{"$f":"IF(AND(E566>G$7,E566<G$8),A566,Sheet1!$Q$22)","v":-0.18781218781220593},2.0566378278992397]
[{"$f":"A566+Sheet2!G$5","v":{"v":-0.18281718281720094,"d":"-0.18"}},2.1027376953263635,{"$f":"(B568-B567)/Sheet2!$G$5","v":5.779739791626143},-9.598884631866197,2.0859529990981343,{"$nulls":4},{"$f":"IF(AND(E567>G$7,E567<G$8),A567,Sheet1!$Q$22)","v":-0.18281718281720094},2.0859529990981343]
[{"$f":"A567+Sheet2!G$5","v":{"v":-0.17782217782219595,"d":"-0.18"}},2.131607524455365,{"$f":"(B569-B568)/Sheet2!$G$5","v":5.731685339194942},-9.620501376726455,2.1150452056941216,{"$nulls":4},{"$f":"IF(AND(E568>G$7,E568<G$8),A568,Sheet1!$Q$22)","v":-0.17782217782219595},2.1150452056941216]
[{"$f":"A568+Sheet2!G$5","v":{"v":-0.17282717282719096,"d":"-0.17"}},2.160237321354441,{"$f":"(B570-B569)/Sheet2!$G$5","v":5.683525902032774},-9.641519319865864,2.1439144476872,{"$nulls":4},{"$f":"IF(AND(E569>G$7,E569<G$8),A569,Sheet1!$Q$22)","v":-0.17282717282719096},2.1439144476872]
[{"$f":"A569+Sheet2!G$5","v":{"v":-0.16783216783218596,"d":"-0.17"}},2.1886265616243348,{"$f":"(B571-B570)/Sheet2!$G$5","v":5.635264471158028},-9.661938461124228,2.17256072507737,{"$nulls":4},{"$f":"IF(AND(E570>G$7,E570<G$8),A570,Sheet1!$Q$22)","v":-0.16783216783218596},2.17256072507737]
[{"$f":"A570+Sheet2!G$5","v":{"v":-0.16283716283718097,"d":"-0.16"}},2.2167747358059433,{"$f":"(B572-B571)/Sheet2!$G$5","v":5.586904037588467},-9.681758800626142,2.2009840378646315,{"$nulls":4},{"$f":"IF(AND(E571>G$7,E571<G$8),A571,Sheet1!$Q$22)","v":-0.16283716283718097},2.2009840378646315]
[{"$f":"A571+Sheet2!G$5","v":{"v":-0.15784215784217598,"d":"-0.16"}},2.2446813493803113,{"$f":"(B573-B572)/Sheet2!$G$5","v":5.538447592341944},-9.700980338353807,2.2291843860489844,{"$nulls":4},{"$f":"IF(AND(E572>G$7,E572<G$8),A572,Sheet1!$Q$22)","v":-0.15784215784217598},2.2291843860489844]
[{"$f":"A572+Sheet2!G$5","v":{"v":-0.152847152847171,"d":"-0.15"}},2.2723459227686327,{"$f":"(B574-B573)/Sheet2!$G$5","v":5.4898981264365805},-9.719603074253824,2.2571617696304296,{"$nulls":4},{"$f":"IF(AND(E573>G$7,E573<G$8),A573,Sheet1!$Q$22)","v":-0.152847152847171},2.2571617696304296]
[{"$f":"A573+Sheet2!G$5","v":{"v":-0.147852147852166,"d":"-0.15"}},2.299767991332252,{"$f":"(B575-B574)/Sheet2!$G$5","v":5.441258630890318},-9.737627008361793,2.284916188608966,{"$nulls":4},{"$f":"IF(AND(E574>G$7,E574<G$8),A574,Sheet1!$Q$22)","v":-0.147852147852166},2.284916188608966]
[{"$f":"A574+Sheet2!G$5","v":{"v":-0.142857142857161,"d":"-0.14"}},2.326947105372663,{"$f":"(B576-B575)/Sheet2!$G$5","v":5.392532096721188},-9.755052140659915,2.312447642984594,{"$nulls":4},{"$f":"IF(AND(E575>G$7,E575<G$8),A575,Sheet1!$Q$22)","v":-0.142857142857161},2.312447642984594]
[{"$f":"A575+Sheet2!G$5","v":{"v":-0.137862137862156,"d":"-0.14"}},2.3538828301315102,{"$f":"(B577-B576)/Sheet2!$G$5","v":5.343721514947043},-9.771878471183788,2.339756132757314,{"$nulls":4},{"$f":"IF(AND(E576>G$7,E576<G$8),A576,Sheet1!$Q$22)","v":-0.137862137862156},2.339756132757314]
[{"$f":"A576+Sheet2!G$5","v":{"v":-0.13286713286715102,"d":"-0.13"}},2.3805747457905864,{"$f":"(B578-B577)/Sheet2!$G$5","v":5.294829876586004},-9.788105999880013,2.366841657927125,{"$nulls":4},{"$f":"IF(AND(E577>G$7,E577<G$8),A577,Sheet1!$Q$22)","v":-0.13286713286715102},2.366841657927125]
[{"$f":"A577+Sheet2!G$5","v":{"v":-0.12787212787214602,"d":"-0.13"}},2.407022447471835,{"$f":"(B579-B578)/Sheet2!$G$5","v":5.245860172655835},-9.803734726819789,2.3937042184940287,{"$nulls":4},{"$f":"IF(AND(E578>G$7,E578<G$8),A578,Sheet1!$Q$22)","v":-0.12787212787214602},2.3937042184940287]
[{"$f":"A578+Sheet2!G$5","v":{"v":-0.12287712287714103,"d":"-0.12"}},{"$f":"x^4-5*x^2+4*x+3","v":2.433225545237349},{"$f":"(B580-B579)/Sheet2!$G$5","v":5.196815394174568},-9.818764651949717,2.420343814458023,{"$nulls":4},{"$f":"IF(AND(E579>G$7,E579<G$8),A579,Sheet1!$Q$22)","v":-0.12287712287714103},2.420343814458023]
[{"$f":"A579+Sheet2!G$5","v":{"v":-0.11788211788213604,"d":"-0.12"}},2.4591836640893696,{"$f":"(B581-B580)/Sheet2!$G$5","v":5.147698532160411},-9.833195775234199,{"$f":"G$10+G$11*(A580-G$9)+G$12*(A580-G$9)^2/2","v":2.446760445819109},{"$nulls":4},{"$f":"IF(AND(E580>G$7,E580<G$8),A580,Sheet1!$Q$22)","v":-0.11788211788213604},{"$f":"IF(AND(E580>G$7,E580<G$8),E580,G$10)","v":2.446760445819109}]
[{"$f":"A580+Sheet2!G$5","v":{"v":-0.11288711288713105,"d":"-0.11"}},2.4848964439702907,{"$f":"(B582-B581)/Sheet2!$G$5","v":5.09851257763104},{"$f":"(B582-2*B581+B580)/G$5^2","v":-9.847028096780031},2.4729541125772867,{"$nulls":4},{"$f":"IF(AND(E581>G$7,E581<G$8),A581,Sheet1!$Q$22)","v":-0.11288711288713105},2.4729541125772867]
[{"$f":"A581+Sheet2!G$5","v":{"v":-0.10789210789212605,"d":"-0.11"}},2.5103635397626536,{"$f":"(B583-B582)/Sheet2!$G$5","v":5.049260521604576},-9.860261616498216,2.4989248147325562,{"$nulls":4},{"$f":"IF(AND(E582>G$7,E582<G$8),A582,Sheet1!$Q$22)","v":-0.10789210789212605},2.4989248147325562]
[{"$f":"A582+Sheet2!G$5","v":{"v":-0.10289710289712106,"d":"-0.10"}},2.53558462128915,{"$f":"(B584-B583)/Sheet2!$G$5","v":4.999945355098871},-9.87289633444215,2.5246725522849176,{"$nulls":4},{"$f":"IF(AND(E583>G$7,E583<G$8),A583,Sheet1!$Q$22)","v":-0.10289710289712106},2.5246725522849176]
[{"$f":"A583+Sheet2!G$5","v":{"v":-0.09790209790211607,"d":"-0.10"}},2.560559373312621,{"$f":"(B585-B584)/Sheet2!$G$5","v":4.950570069132045},-9.884932250558439,2.55019732523437,{"$nulls":4},{"$f":"IF(AND(E584>G$7,E584<G$8),A584,Sheet1!$Q$22)","v":-0.09790209790211607},2.55019732523437]
[{"$f":"A584+Sheet2!G$5","v":{"v":-0.09290709290711108,"d":"-0.09"}},2.5852874955360576,{"$f":"(B586-B585)/Sheet2!$G$5","v":4.901137654721864},-9.896369364918277,2.575499133580914,{"$nulls":4},{"$f":"IF(AND(E585>G$7,E585<G$8),A585,Sheet1!$Q$22)","v":-0.09290709290711108},2.575499133580914]
[{"$f":"A585+Sheet2!G$5","v":{"v":-0.08791208791210608,"d":"-0.09"}},2.6097687026026004,{"$f":"(B587-B586)/Sheet2!$G$5","v":4.851651102886536},-9.90720767743267,2.6005779773245505,{"$nulls":4},{"$f":"IF(AND(E586>G$7,E586<G$8),A586,Sheet1!$Q$22)","v":-0.08791208791210608},2.6005779773245505]
[{"$f":"A586+Sheet2!G$5","v":{"v":-0.08291708291710109,"d":"-0.08"}},2.63400272409554,{"$f":"(B588-B587)/Sheet2!$G$5","v":4.802113404643914},-9.917447188172813,2.625433856465278,{"$nulls":4},{"$f":"IF(AND(E587>G$7,E587<G$8),A587,Sheet1!$Q$22)","v":-0.08291708291710109},2.625433856465278]
[{"$f":"A587+Sheet2!G$5","v":{"v":-0.0779220779220961,"d":"-0.08"}},2.657989304538317,{"$f":"(B589-B588)/Sheet2!$G$5","v":4.75252755101203},-9.927087897103108,2.650066771003097,{"$nulls":4},{"$f":"IF(AND(E588>G$7,E588<G$8),A588,Sheet1!$Q$22)","v":-0.0779220779220961},2.650066771003097]
[{"$f":"A588+Sheet2!G$5","v":{"v":-0.07292707292709111,"d":"-0.07"}},2.681728203394521,{"$f":"(B590-B589)/Sheet2!$G$5","v":4.70289653300865},-9.936129804276954,2.674476720938008,{"$nulls":4},{"$f":"IF(AND(E589>G$7,E589<G$8),A589,Sheet1!$Q$22)","v":-0.07292707292709111},2.674476720938008]
[{"$f":"A589+Sheet2!G$5","v":{"v":-0.06793206793208612,"d":"-0.07"}},2.7052191950678908,{"$f":"(B591-B590)/Sheet2!$G$5","v":4.653223341651979},-9.944572909605354,2.6986637062700103,{"$nulls":4},{"$f":"IF(AND(E590>G$7,E590<G$8),A590,Sheet1!$Q$22)","v":-0.06793206793208612},2.6986637062700103]
[{"$f":"A590+Sheet2!G$5","v":{"v":-0.06293706293708112,"d":"-0.06"}},2.7284620689023162,{"$f":"(B592-B591)/Sheet2!$G$5","v":4.603510967959874},-9.952417213159505,2.7226277269991046,{"$nulls":4},{"$f":"IF(AND(E591>G$7,E591<G$8),A591,Sheet1!$Q$22)","v":-0.06293706293708112},2.7226277269991046]
[{"$f":"A591+Sheet2!G$5","v":{"v":-0.05794205794207613,"d":"-0.06"}},2.751456629181836,{"$f":"(B593-B592)/Sheet2!$G$5","v":4.5537624029503645},-9.959662714903807,2.74636878312529,{"$nulls":4},{"$f":"IF(AND(E592>G$7,E592<G$8),A592,Sheet1!$Q$22)","v":-0.05794205794207613},2.74636878312529]
[{"$f":"A592+Sheet2!G$5","v":{"v":-0.05294705294707114,"d":"-0.05"}},2.774202695130639,{"$f":"(B594-B593)/Sheet2!$G$5","v":4.503980637641304},-9.96630941487386,2.769886874648567,{"$nulls":4},{"$f":"IF(AND(E593>G$7,E593<G$8),A593,Sheet1!$Q$22)","v":-0.05294705294707114},2.769886874648567]
[{"$f":"A593+Sheet2!G$5","v":{"v":-0.047952047952066146,"d":"-0.05"}},2.796700100913063,{"$f":"(B595-B594)/Sheet2!$G$5","v":4.454168663050902},-9.972357312998469,2.793182001568936,{"$nulls":4},{"$f":"IF(AND(E594>G$7,E594<G$8),A594,Sheet1!$Q$22)","v":-0.047952047952066146},2.793182001568936]
[{"$f":"A594+Sheet2!G$5","v":{"v":-0.04295704295706115,"d":"-0.04"}},2.818948695633597,{"$f":"(B596-B595)/Sheet2!$G$5","v":4.404329470196834},-9.977806409384426,2.8162541638863963,{"$nulls":4},{"$f":"IF(AND(E595>G$7,E595<G$8),A595,Sheet1!$Q$22)","v":-0.04295704295706115},2.8162541638863963]
[{"$f":"A595+Sheet2!G$5","v":{"v":-0.03796203796205616,"d":"-0.04"}},2.840948343336878,{"$f":"(B597-B596)/Sheet2!$G$5","v":4.354466050097309},-9.982656703924937,2.839103361600949,{"$nulls":4},{"$f":"IF(AND(E596>G$7,E596<G$8),A596,Sheet1!$Q$22)","v":-0.03796203796205616},2.839103361600949]
[{"$f":"A596+Sheet2!G$5","v":{"v":-0.03296703296705117,"d":"-0.03"}},2.862698923007694,{"$f":"(B598-B597)/Sheet2!$G$5","v":4.304581393770091},-9.986908196708997,2.8617295947125925,{"$nulls":4},{"$f":"IF(AND(E597>G$7,E597<G$8),A597,Sheet1!$Q$22)","v":-0.03296703296705117},2.8617295947125925]
[{"$f":"A597+Sheet2!G$5","v":{"v":-0.027972027972046173,"d":"-0.03"}},2.884200328570981,{"$f":"(B599-B598)/Sheet2!$G$5","v":4.2546784922333005},-9.990560887665412,2.8841328632213274,{"$nulls":4},{"$f":"IF(AND(E598>G$7,E598<G$8),A598,Sheet1!$Q$22)","v":-0.027972027972046173},2.8841328632213274]
[{"$f":"A598+Sheet2!G$5","v":{"v":-0.022977022977041177,"d":"-0.02"}},2.9054524688918266,{"$f":"(B600-B599)/Sheet2!$G$5","v":4.20476033650488},-9.993614776829778,2.9063131671271547,{"$nulls":4},{"$f":"IF(AND(E599>G$7,E599<G$8),A599,Sheet1!$Q$22)","v":-0.022977022977041177},2.9063131671271547]
[{"$f":"A599+Sheet2!G$5","v":{"v":-0.01798201798203618,"d":"-0.02"}},2.9264552677754674,{"$f":"(B601-B600)/Sheet2!$G$5","v":4.154829917602861},-9.996069864184296,2.9282705064300734,{"$nulls":4},{"$f":"IF(AND(E600>G$7,E600<G$8),A600,Sheet1!$Q$22)","v":-0.01798201798203618},2.9282705064300734]
[{"$f":"A600+Sheet2!G$5","v":{"v":-0.012987012987031185,"d":"-0.01"}},2.94720866396729,{"$f":"(B602-B601)/Sheet2!$G$5","v":4.104890226544918},-9.997926149800163,2.9500048811300834,{"$nulls":4},{"$f":"IF(AND(E601>G$7,E601<G$8),A601,Sheet1!$Q$22)","v":-0.012987012987031185},2.9500048811300834]
[{"$f":"A601+Sheet2!G$5","v":{"v":-0.00799200799202619,"d":"-0.01"}},2.967712611152829,{"$f":"(B603-B602)/Sheet2!$G$5","v":4.054944254349438},-9.999183633534987,2.971516291227185,{"$nulls":4},{"$f":"IF(AND(E602>G$7,E602<G$8),A602,Sheet1!$Q$22)","v":-0.00799200799202619},2.971516291227185]
[{"$f":"A602+Sheet2!G$5","v":{"v":-2.9970029970211942E-3,"d":"-0.00"}},2.987967077957771,{"$f":"(B604-B603)/Sheet2!$G$5","v":4.004994992034098},-9.999842315531158,2.9928047367213786,{"$nulls":4},{"$f":"IF(AND(E603>G$7,E603<G$8),A603,Sheet1!$Q$22)","v":-2.9970029970211942E-3},2.9928047367213786]
[{"$f":"A603+Sheet2!G$5","v":{"v":1.9980019979838008E-3,"d":"0.00"}},3.0079720479479515,{"$f":"(B605-B604)/Sheet2!$G$5","v":3.955045430617017},-9.999902195699683,3.0138702176126637,{"$nulls":4},{"$f":"IF(AND(E604>G$7,E604<G$8),A604,Sheet1!$Q$22)","v":1.9980019979838008E-3},3.0138702176126637]
[{"$f":"A604+Sheet2!G$5","v":{"v":0.006993006992988796,"d":"0.01"}},3.027727519629355,{"$f":"(B606-B605)/Sheet2!$G$5","v":3.905098561116048},-9.999363274093959,3.0347127339010402,{"$nulls":4},{"$f":"IF(AND(E605>G$7,E605<G$8),A605,Sheet1!$Q$22)","v":0.006993006992988796},3.0347127339010402]
[{"$f":"A605+Sheet2!G$5","v":{"v":0.01198801198799379,"d":"0.01"}},3.0472335064481166,{"$f":"(B607-B606)/Sheet2!$G$5","v":3.8551573745493117},-9.998225550660589,3.055332285586509,{"$nulls":4},{"$f":"IF(AND(E606>G$7,E606<G$8),A606,Sheet1!$Q$22)","v":0.01198801198799379},3.055332285586509]
[{"$f":"A606+Sheet2!G$5","v":{"v":0.016983016982998787,"d":"0.02"}},3.066490036790521,{"$f":"(B608-B607)/Sheet2!$G$5","v":3.8052248619344837},-9.996489025488566,3.0757288726690684,{"$nulls":4},{"$f":"IF(AND(E607>G$7,E607<G$8),A607,Sheet1!$Q$22)","v":0.016983016982998787},3.0757288726690684]
[{"$f":"A607+Sheet2!G$5","v":{"v":0.021978021978003782,"d":"0.02"}},3.0854971539830007,{"$f":"(B609-B608)/Sheet2!$G$5","v":3.7553040142900396},-9.994153698417703,3.0959024951487204,{"$nulls":4},{"$f":"IF(AND(E608>G$7,E608<G$8),A608,Sheet1!$Q$22)","v":0.021978021978003782},3.0959024951487204]
[{"$f":"A608+Sheet2!G$5","v":{"v":0.02697302697300878,"d":"0.03"}},3.104254916292142,{"$f":"(B610-B609)/Sheet2!$G$5","v":3.7053978226333886},-9.991219569661585,3.115853153025463,{"$nulls":4},{"$f":"IF(AND(E609>G$7,E609<G$8),A609,Sheet1!$Q$22)","v":0.02697302697300878},3.115853153025463]
[{"$f":"A609+Sheet2!G$5","v":{"v":0.031968031968013774,"d":"0.03"}},3.122763396924676,{"$f":"(B611-B610)/Sheet2!$G$5","v":3.6555092779829166},-9.987686639024421,3.1355808462992982,{"$nulls":4},{"$f":"IF(AND(E610>G$7,E610<G$8),A610,Sheet1!$Q$22)","v":0.031968031968013774},3.1355808462992982]
[{"$f":"A610+Sheet2!G$5","v":{"v":0.03696303696301877,"d":"0.04"}},3.141022684027488,{"$f":"(B612-B611)/Sheet2!$G$5","v":3.6056413713563003},-9.983554906648608,3.1550855749702245,{"$nulls":4},{"$f":"IF(AND(E611>G$7,E611<G$8),A611,Sheet1!$Q$22)","v":0.03696303696301877},3.1550855749702245]
[{"$f":"A611+Sheet2!G$5","v":{"v":0.04195804195802376,"d":"0.04"}},3.1590328806876093,{"$f":"(B613-B612)/Sheet2!$G$5","v":3.555797093771837},-9.97882437240955,3.1743673390382425,{"$nulls":4},{"$f":"IF(AND(E612>G$7,E612<G$8),A612,Sheet1!$Q$22)","v":0.04195804195802376},3.1743673390382425]
[{"$f":"A612+Sheet2!G$5","v":{"v":0.04695304695302875,"d":"0.05"}},3.176794104932224,{"$f":"(B614-B613)/Sheet2!$G$5","v":3.5059794362471135},-9.97349503644964,3.193426138503352,{"$nulls":4},{"$f":"IF(AND(E613>G$7,E613<G$8),A613,Sheet1!$Q$22)","v":0.04695304695302875},3.193426138503352]
[{"$f":"A613+Sheet2!G$5","v":{"v":0.051948051948033744,"d":"0.05"}},3.194306489728663,{"$f":"(B615-B614)/Sheet2!$G$5","v":3.456191389800428},-9.967566898626483,3.2122619733655533,{"$nulls":4},{"$f":"IF(AND(E614>G$7,E614<G$8),A614,Sheet1!$Q$22)","v":0.051948051948033744},3.2122619733655533]
[{"$f":"A614+Sheet2!G$5","v":{"v":0.056943056943038736,"d":"0.06"}},3.2115701829844094,{"$f":"(B616-B615)/Sheet2!$G$5","v":3.4064359454495445},-9.961039959046877,3.230874843624846,{"$nulls":4},{"$f":"IF(AND(E615>G$7,E615<G$8),A615,Sheet1!$Q$22)","v":0.056943056943038736},3.230874843624846]
[{"$f":"A615+Sheet2!G$5","v":{"v":0.06193806193804373,"d":"0.06"}},3.2285853475470945,{"$f":"(B617-B616)/Sheet2!$G$5","v":3.356716094212583},-9.953914217639626,3.249264749281231,{"$nulls":4},{"$f":"IF(AND(E616>G$7,E616<G$8),A616,Sheet1!$Q$22)","v":0.06193806193804373},3.249264749281231]
[{"$f":"A616+Sheet2!G$5","v":{"v":0.06693306693304872,"d":"0.07"}},3.2453521612045,{"$f":"(B618-B617)/Sheet2!$G$5","v":3.3070348271073087},-9.946189674475923,3.267431690334707,{"$nulls":4},{"$f":"IF(AND(E617>G$7,E617<G$8),A617,Sheet1!$Q$22)","v":0.06693306693304872},3.267431690334707]
[{"$f":"A617+Sheet2!G$5","v":{"v":0.07192807192805371,"d":"0.07"}},3.2618708166845565,{"$f":"(B619-B618)/Sheet2!$G$5","v":3.2573951351519304},-9.937866329466775,3.2853756667852743,{"$nulls":4},{"$f":"IF(AND(E618>G$7,E618<G$8),A618,Sheet1!$Q$22)","v":0.07192807192805371},3.2853756667852743]
[{"$f":"A618+Sheet2!G$5","v":{"v":0.0769230769230587,"d":"0.08"}},3.2781415216553453,{"$f":"(B620-B619)/Sheet2!$G$5","v":3.207800009364301},-9.928944182683377,3.303096678632934,{"$nulls":4},{"$f":"IF(AND(E619>G$7,E619<G$8),A619,Sheet1!$Q$22)","v":0.0769230769230587},3.303096678632934]
[{"$f":"A619+Sheet2!G$5","v":{"v":0.0819180819180637,"d":"0.08"}},3.294164498725097,{"$f":"(B621-B620)/Sheet2!$G$5","v":3.1582524407622743},-9.91942323412573,3.3205947258776844,{"$nulls":4},{"$f":"IF(AND(E620>G$7,E620<G$8),A620,Sheet1!$Q$22)","v":0.0819180819180637},3.3205947258776844]
[{"$f":"A620+Sheet2!G$5","v":{"v":0.08691308691306869,"d":"0.09"}},3.3099399854421914,{"$f":"(B622-B621)/Sheet2!$G$5","v":3.1087554203640595},-9.909303483722638,3.3378698085195273,{"$nulls":4},{"$f":"IF(AND(E621>G$7,E621<G$8),A621,Sheet1!$Q$22)","v":0.08691308691306869},3.3378698085195273]
[{"$f":"A621+Sheet2!G$5","v":{"v":0.09190809190807368,"d":"0.09"}},3.3254682342951587,{"$f":"(B623-B622)/Sheet2!$G$5","v":3.0593119391875097},-9.898584931545296,3.354921926558461,{"$nulls":4},{"$f":"IF(AND(E622>G$7,E622<G$8),A622,Sheet1!$Q$22)","v":0.09190809190807368},3.354921926558461]
[{"$f":"A622+Sheet2!G$5","v":{"v":0.09690309690307868,"d":"0.10"}},3.3407495127126787,{"$f":"(B624-B623)/Sheet2!$G$5","v":3.009924988250567},-9.887267577575907,3.3717510799944876,{"$nulls":4},{"$f":"IF(AND(E623>G$7,E623<G$8),A623,Sheet1!$Q$22)","v":0.09690309690307868},3.3717510799944876]
[{"$f":"A623+Sheet2!G$5","v":{"v":0.10189810189808367,"d":"0.10"}},3.3557841030635807,{"$f":"(B625-B624)/Sheet2!$G$5","v":2.960597558571174},-9.875351421814468,3.388357268827604,{"$nulls":4},{"$f":"IF(AND(E624>G$7,E624<G$8),A624,Sheet1!$Q$22)","v":0.10189810189808367},3.388357268827604]
[{"$f":"A624+Sheet2!G$5","v":{"v":0.10689310689308866,"d":"0.11"}},3.3705723026568433,{"$f":"(B626-B625)/Sheet2!$G$5","v":2.911332641167362},-9.86283646424318,3.4047404930578136,{"$nulls":4},{"$f":"IF(AND(E625>G$7,E625<G$8),A625,Sheet1!$Q$22)","v":0.10689310689308866},3.4047404930578136]
[{"$f":"A625+Sheet2!G$5","v":{"v":0.11188811188809365,"d":"0.11"}},3.3851144237415953,{"$f":"(B627-B626)/Sheet2!$G$5","v":2.862133227057251},-9.849722704844249,3.4209007526851143,{"$nulls":4},{"$f":"IF(AND(E626>G$7,E626<G$8),A626,Sheet1!$Q$22)","v":0.11188811188809365},3.4209007526851143]
[{"$f":"A626+Sheet2!G$5","v":{"v":0.11688311688309865,"d":"0.12"}},3.399410793507116,{"$f":"(B628-B627)/Sheet2!$G$5","v":2.813002307258427},-9.836010143724463,3.4368380477095064,{"$nulls":4},{"$f":"IF(AND(E627>G$7,E627<G$8),A627,Sheet1!$Q$22)","v":0.11688311688309865},3.4368380477095064]
[{"$f":"A627+Sheet2!G$5","v":{"v":0.12187812187810364,"d":"0.12"}},3.4134617540828325,{"$f":"(B629-B628)/Sheet2!$G$5","v":2.7639428727892783},-9.821698780723635,3.452552378130991,{"$nulls":4},{"$f":"IF(AND(E628>G$7,E628<G$8),A628,Sheet1!$Q$22)","v":0.12187812187810364},3.452552378130991]
[{"$f":"A628+Sheet2!G$5","v":{"v":0.12687312687310864,"d":"0.13"}},3.4272676625383234,{"$f":"(B630-B629)/Sheet2!$G$5","v":2.714957914667479},-9.806788615984154,3.4680437439495653,{"$nulls":4},{"$f":"IF(AND(E629>G$7,E629<G$8),A629,Sheet1!$Q$22)","v":0.12687312687310864},3.4680437439495653]
[{"$f":"A629+Sheet2!G$5","v":{"v":0.13186813186811364,"d":"0.13"}},3.440828890883316,{"$f":"(B631-B630)/Sheet2!$G$5","v":2.6660504239111504},-9.791279649417028,3.483312145165233,{"$nulls":4},{"$f":"IF(AND(E630>G$7,E630<G$8),A630,Sheet1!$Q$22)","v":0.13186813186811364},3.483312145165233]
[{"$f":"A630+Sheet2!G$5","v":{"v":0.13686313686311863,"d":"0.14"}},3.454145826067687,{"$f":"(B632-B631)/Sheet2!$G$5","v":2.617223391538145},-9.775171881075652,3.4983575817779915,{"$nulls":4},{"$f":"IF(AND(E631>G$7,E631<G$8),A631,Sheet1!$Q$22)","v":0.13686313686311863},3.4983575817779915]
[{"$f":"A631+Sheet2!G$5","v":{"v":0.14185814185812362,"d":"0.14"}},3.467218869981464,{"$f":"(B633-B632)/Sheet2!$G$5","v":2.568479808566584},-9.75846531090663,3.5131800537878415,{"$nulls":4},{"$f":"IF(AND(E632>G$7,E632<G$8),A632,Sheet1!$Q$22)","v":0.14185814185812362},3.5131800537878415]
[{"$f":"A632+Sheet2!G$5","v":{"v":0.1468531468531286,"d":"0.15"}},3.4800484394548237,{"$f":"(B634-B633)/Sheet2!$G$5","v":2.5198226660143193},-9.741159938963357,3.5277795611947846,{"$nulls":4},{"$f":"IF(AND(E633>G$7,E633<G$8),A633,Sheet1!$Q$22)","v":0.1468531468531286},3.5277795611947846]
[{"$f":"A633+Sheet2!G$5","v":{"v":0.1518481518481336,"d":"0.15"}},3.492634966258092,{"$f":"(B635-B634)/Sheet2!$G$5","v":2.4712549548993827},-9.723255765210238,3.542156103998818,{"$nulls":4},{"$f":"IF(AND(E634>G$7,E634<G$8),A634,Sheet1!$Q$22)","v":0.1518481518481336},3.542156103998818]
[{"$f":"A634+Sheet2!G$5","v":{"v":0.1568431568431386,"d":"0.16"}},3.5049788971017453,{"$f":"(B636-B635)/Sheet2!$G$5","v":2.422779666239628},-9.70475278968287,3.5563096821999425,{"$nulls":4},{"$f":"IF(AND(E635>G$7,E635<G$8),A635,Sheet1!$Q$22)","v":0.1568431568431386},3.5563096821999425]
[{"$f":"A635+Sheet2!G$5","v":{"v":0.1618381618381436,"d":"0.16"}},3.5170806936364087,{"$f":"(B637-B636)/Sheet2!$G$5","v":2.3743997910532646},-9.685651012310055,3.5702402957981603,{"$nulls":4},{"$f":"IF(AND(E636>G$7,E636<G$8),A636,Sheet1!$Q$22)","v":0.1618381618381436},3.5702402957981603]
[{"$f":"A636+Sheet2!G$5","v":{"v":0.16683316683314858,"d":"0.17"}},3.5289408324528586,{"$f":"(B638-B637)/Sheet2!$G$5","v":2.3261183203580558},-9.66595043318079,3.5839479447934677,{"$nulls":4},{"$f":"IF(AND(E637>G$7,E637<G$8),A637,Sheet1!$Q$22)","v":0.16683316683314858},3.5839479447934677]
[{"$f":"A637+Sheet2!G$5","v":{"v":0.17182817182815358,"d":"0.17"}},3.5405598050820197,{"$f":"(B639-B638)/Sheet2!$G$5","v":2.2779382451719443},-9.645651052259476,3.5974326291858683,{"$nulls":4},{"$f":"IF(AND(E638>G$7,E638<G$8),A638,Sheet1!$Q$22)","v":0.17182817182815358},3.5974326291858683]
[{"$f":"A638+Sheet2!G$5","v":{"v":0.17682317682315857,"d":"0.18"}},3.5519381179949665,{"$f":"(B640-B639)/Sheet2!$G$5","v":2.2298625565130505},-9.624752869510516,3.61069434897536,{"$nulls":4},{"$f":"IF(AND(E639>G$7,E639<G$8),A639,Sheet1!$Q$22)","v":0.17682317682315857},3.61069434897536]
[{"$f":"A639+Sheet2!G$5","v":{"v":0.18181818181816356,"d":"0.18"}},3.563076292602924,{"$f":"(B641-B640)/Sheet2!$G$5","v":2.181894245399406},-9.60325588495171,3.6237331041619427,{"$nulls":4},{"$f":"IF(AND(E640>G$7,E640<G$8),A640,Sheet1!$Q$22)","v":0.18181818181816356},3.6237331041619427]
[{"$f":"A640+Sheet2!G$5","v":{"v":0.18681318681316855,"d":"0.19"}},3.5739748652572665,{"$f":"(B642-B641)/Sheet2!$G$5","v":2.1340363028486853},-9.581160098654252,3.6365488947456184,{"$nulls":4},{"$f":"IF(AND(E641>G$7,E641<G$8),A641,Sheet1!$Q$22)","v":0.18681318681316855},3.6365488947456184]
[{"$f":"A641+Sheet2!G$5","v":{"v":0.19180819180817354,"d":"0.19"}},3.5846343872495177,{"$f":"(B643-B642)/Sheet2!$G$5","v":2.0862917198790094},-9.558465510529146,3.6491417207263837,{"$nulls":4},{"$f":"IF(AND(E642>G$7,E642<G$8),A642,Sheet1!$Q$22)","v":0.19180819180817354},3.6491417207263837]
[{"$f":"A642+Sheet2!G$5","v":{"v":0.19680319680317854,"d":"0.20"}},{"$f":"x^4-5*x^2+4*x+3","v":3.595055424811351},{"$f":"(B644-B643)/Sheet2!$G$5","v":2.0386634875085865},-9.535172120558595,3.661511582104243,{"$nulls":4},{"$f":"IF(AND(E643>G$7,E643<G$8),A643,Sheet1!$Q$22)","v":0.19680319680317854},3.661511582104243]
[{"$f":"A643+Sheet2!G$5","v":{"v":0.20179820179818353,"d":"0.20"}},3.6052385591145906,{"$f":"(B645-B644)/Sheet2!$G$5","v":1.9911545967550044},-9.511279928867193,{"$f":"G$10+G$11*(A644-G$9)+G$12*(A644-G$9)^2/2","v":3.6736584788791924},{"$nulls":4},{"$f":"IF(AND(E644>G$7,E644<G$8),A644,Sheet1!$Q$22)","v":0.20179820179818353},{"$f":"IF(AND(E644>G$7,E644<G$8),E644,G$10)","v":3.6736584788791924}]
[{"$f":"A644+Sheet2!G$5","v":{"v":0.20679320679318852,"d":"0.21"}},3.615184386271209,{"$f":"(B646-B645)/Sheet2!$G$5","v":1.9437680386362932},{"$f":"(B646-2*B645+B644)/G$5^2","v":-9.486788935365942},3.685582411051234,{"$nulls":4},{"$f":"IF(AND(E645>G$7,E645<G$8),A645,Sheet1!$Q$22)","v":0.20679320679318852},3.685582411051234]
[{"$f":"A645+Sheet2!G$5","v":{"v":0.21178821178819351,"d":"0.21"}},3.6248935173333283,{"$f":"(B647-B646)/Sheet2!$G$5","v":1.8965068041707516},-9.461699140001446,3.6972833786203676,{"$nulls":4},{"$f":"IF(AND(E646>G$7,E646<G$8),A646,Sheet1!$Q$22)","v":0.21178821178819351},3.6972833786203676]
[{"$f":"A646+Sheet2!G$5","v":{"v":0.2167832167831985,"d":"0.22"}},3.634366578293222,{"$f":"(B648-B647)/Sheet2!$G$5","v":1.8493738843760548},-9.4360105428983,3.7087613815865907,{"$nulls":4},{"$f":"IF(AND(E647>G$7,E647<G$8),A647,Sheet1!$Q$22)","v":0.2167832167831985},3.7087613815865907]
[{"$f":"A647+Sheet2!G$5","v":{"v":0.2217782217782035,"d":"0.22"}},3.6436042100833124,{"$f":"(B649-B648)/Sheet2!$G$5","v":1.8023722702701452},-9.409723144003106,3.720016419949908,{"$nulls":4},{"$f":"IF(AND(E648>G$7,E648<G$8),A648,Sheet1!$Q$22)","v":0.2217782217782035},3.720016419949908]
[{"$f":"A648+Sheet2!G$5","v":{"v":0.2267732267732085,"d":"0.23"}},3.6526070685761702,{"$f":"(B650-B649)/Sheet2!$G$5","v":1.7555049528712319},-9.382836943262465,3.731048493710316,{"$nulls":4},{"$f":"IF(AND(E649>G$7,E649<G$8),A649,Sheet1!$Q$22)","v":0.2267732267732085},3.731048493710316]
[{"$f":"A649+Sheet2!G$5","v":{"v":0.23176823176821348,"d":"0.23"}},3.661375824584518,{"$f":"(B651-B650)/Sheet2!$G$5","v":1.7087749231969902},-9.355351940783173,3.7418576028678148,{"$nulls":4},{"$f":"IF(AND(E650>G$7,E650<G$8),A650,Sheet1!$Q$22)","v":0.23176823176821348},3.7418576028678148]
[{"$f":"A650+Sheet2!G$5","v":{"v":0.23676323676321848,"d":"0.24"}},3.6699111638612263,{"$f":"(B652-B651)/Sheet2!$G$5","v":1.6621851722657182},-9.327268136440637,3.752443747422407,{"$nulls":4},{"$f":"IF(AND(E651>G$7,E651<G$8),A651,Sheet1!$Q$22)","v":0.23676323676321848},3.752443747422407]
[{"$f":"A651+Sheet2!G$5","v":{"v":0.24175824175822347,"d":"0.24"}},3.678213787099317,{"$f":"(B653-B652)/Sheet2!$G$5","v":1.6157386910950027},-9.298585530377249,3.762806927374089,{"$nulls":4},{"$f":"IF(AND(E652>G$7,E652<G$8),A652,Sheet1!$Q$22)","v":0.24175824175822347},3.762806927374089]
[{"$f":"A652+Sheet2!G$5","v":{"v":0.24675324675322846,"d":"0.25"}},3.686284409931959,{"$f":"(B654-B653)/Sheet2!$G$5","v":1.5694384707032305},-9.269304122432816,3.772947142722863,{"$nulls":4},{"$f":"IF(AND(E653>G$7,E653<G$8),A653,Sheet1!$Q$22)","v":0.24675324675322846},3.772947142722863]
[{"$f":"A653+Sheet2!G$5","v":{"v":0.25174825174823345,"d":"0.25"}},3.694123762932475,{"$f":"(B655-B654)/Sheet2!$G$5","v":1.523287502108077},-9.239423912749732,3.7828643934687296,{"$nulls":4},{"$f":"IF(AND(E654>G$7,E654<G$8),A654,Sheet1!$Q$22)","v":0.25174825174823345},3.7828643934687296]
[{"$f":"A654+Sheet2!G$5","v":{"v":0.25674325674323845,"d":"0.26"}},3.7017325916143333,{"$f":"(B656-B655)/Sheet2!$G$5","v":1.4772887763275735},-9.208944901256801,3.7925586796116866,{"$nulls":4},{"$f":"IF(AND(E655>G$7,E655<G$8),A655,Sheet1!$Q$22)","v":0.25674325674323845},3.7925586796116866]
[{"$f":"A655+Sheet2!G$5","v":{"v":0.26173826173824344,"d":"0.26"}},3.7091116564311544,{"$f":"(B657-B656)/Sheet2!$G$5","v":1.4314452843797512},-9.177867087954024,3.802030001151736,{"$nulls":4},{"$f":"IF(AND(E656>G$7,E656<G$8),A656,Sheet1!$Q$22)","v":0.26173826173824344},3.802030001151736]
[{"$f":"A656+Sheet2!G$5","v":{"v":0.26673326673324843,"d":"0.27"}},3.7162617327767076,{"$f":"(B658-B657)/Sheet2!$G$5","v":1.3857600172824633},-9.146190472876995,3.8112783580888774,{"$nulls":4},{"$f":"IF(AND(E657>G$7,E657<G$8),A657,Sheet1!$Q$22)","v":0.26673326673324843},3.8112783580888774]
[{"$f":"A657+Sheet2!G$5","v":{"v":0.2717282717282534,"d":"0.27"}},3.7231836109849117,{"$f":"(B659-B658)/Sheet2!$G$5","v":1.3402359660538306},-9.11391505597232,3.820303750423109,{"$nulls":4},{"$f":"IF(AND(E658>G$7,E658<G$8),A658,Sheet1!$Q$22)","v":0.2717282717282534},3.820303750423109]
[{"$f":"A658+Sheet2!G$5","v":{"v":0.2767232767232584,"d":"0.28"}},3.729878096329836,{"$f":"(B660-B659)/Sheet2!$G$5","v":1.2948761217118834},-9.081040837257799,3.829106178154433,{"$nulls":4},{"$f":"IF(AND(E659>G$7,E659<G$8),A659,Sheet1!$Q$22)","v":0.2767232767232584},3.829106178154433]
[{"$f":"A659+Sheet2!G$5","v":{"v":0.2817182817182634,"d":"0.28"}},3.7363460090256995,{"$f":"(B661-B660)/Sheet2!$G$5","v":1.249683475274209},-9.047567816822424,3.837685641282848,{"$nulls":4},{"$f":"IF(AND(E660>G$7,E660<G$8),A660,Sheet1!$Q$22)","v":0.2817182817182634},3.837685641282848]
[{"$f":"A660+Sheet2!G$5","v":{"v":0.2867132867132684,"d":"0.29"}},3.7425881842268693,{"$f":"(B662-B661)/Sheet2!$G$5","v":1.2046610177591939},-9.013495994506005,3.8460421398083557,{"$nulls":4},{"$f":"IF(AND(E661>G$7,E661<G$8),A661,Sheet1!$Q$22)","v":0.2867132867132684},3.8460421398083557]
[{"$f":"A661+Sheet2!G$5","v":{"v":0.2917082917082734,"d":"0.29"}},3.7486054720278643,{"$f":"(B663-B662)/Sheet2!$G$5","v":1.1598117401846029},-8.978825370433137,3.854175673730956,{"$nulls":4},{"$f":"IF(AND(E662>G$7,E662<G$8),A662,Sheet1!$Q$22)","v":0.2917082917082734},3.854175673730956]
[{"$f":"A662+Sheet2!G$5","v":{"v":0.2967032967032784,"d":"0.30"}},3.754398737463352,{"$f":"(B664-B663)/Sheet2!$G$5","v":1.115138633568378},-8.943555944568221,3.8620862430506455,{"$nulls":4},{"$f":"IF(AND(E663>G$7,E663<G$8),A663,Sheet1!$Q$22)","v":0.2967032967032784},3.8620862430506455]
[{"$f":"A663+Sheet2!G$5","v":{"v":0.3016983016982834,"d":"0.30"}},3.759968860508149,{"$f":"(B665-B664)/Sheet2!$G$5","v":1.0706446889286394},-8.907687716875657,3.869773847767428,{"$nulls":4},{"$f":"IF(AND(E664>G$7,E664<G$8),A664,Sheet1!$Q$22)","v":0.3016983016982834},3.869773847767428]
[{"$f":"A664+Sheet2!G$5","v":{"v":0.30669330669328837,"d":"0.31"}},3.765316736077223,{"$f":"(B666-B665)/Sheet2!$G$5","v":1.0263328972833294},-8.871220687391046,3.877238487881302,{"$nulls":4},{"$f":"IF(AND(E665>G$7,E665<G$8),A665,Sheet1!$Q$22)","v":0.30669330669328837},3.877238487881302]
[{"$f":"A665+Sheet2!G$5","v":{"v":0.31168831168829336,"d":"0.31"}},3.7704432740256912,{"$f":"(B667-B666)/Sheet2!$G$5","v":0.9822062496502127},-8.834154856149983,3.8844801633922668,{"$nulls":4},{"$f":"IF(AND(E666>G$7,E666<G$8),A666,Sheet1!$Q$22)","v":0.31168831168829336},3.8844801633922668]
[{"$f":"A666+Sheet2!G$5","v":{"v":0.31668331668329835,"d":"0.32"}},3.775349399148819,{"$f":"(B668-B667)/Sheet2!$G$5","v":0.9382677370475869},-8.796490223045677,3.891498874300325,{"$nulls":4},{"$f":"IF(AND(E667>G$7,E667<G$8),A667,Sheet1!$Q$22)","v":0.31668331668329835},3.891498874300325]
[{"$f":"A667+Sheet2!G$5","v":{"v":0.32167832167830335,"d":"0.32"}},3.780036051182024,{"$f":"(B669-B668)/Sheet2!$G$5","v":0.8945203504930389},-8.758226788220519,3.898294620605472,{"$nulls":4},{"$f":"IF(AND(E668>G$7,E668<G$8),A668,Sheet1!$Q$22)","v":0.32167832167830335},3.898294620605472]
[{"$f":"A668+Sheet2!G$5","v":{"v":0.32667332667330834,"d":"0.33"}},3.7845041848008703,{"$f":"(B670-B669)/Sheet2!$G$5","v":0.8509670810049554},-8.719364551514316,3.904867402307713,{"$nulls":4},{"$f":"IF(AND(E669>G$7,E669<G$8),A669,Sheet1!$Q$22)","v":0.32667332667330834},3.904867402307713]
[{"$f":"A669+Sheet2!G$5","v":{"v":0.33166833166831333,"d":"0.33"}},3.788754769621075,{"$f":"(B671-B670)/Sheet2!$G$5","v":0.8076109196010121},-8.67990351306946,3.911217219407045,{"$nulls":4},{"$f":"IF(AND(E670>G$7,E670<G$8),A670,Sheet1!$Q$22)","v":0.33166833166831333},3.911217219407045]
[{"$f":"A670+Sheet2!G$5","v":{"v":0.3366633366633183,"d":"0.34"}},3.7927887901985025,{"$f":"(B672-B671)/Sheet2!$G$5","v":0.76445485729924},-8.63984367281476,3.917344071903468,{"$nulls":4},{"$f":"IF(AND(E671>G$7,E671<G$8),A671,Sheet1!$Q$22)","v":0.3366633366633183},3.917344071903468]
[{"$f":"A671+Sheet2!G$5","v":{"v":0.3416583416583233,"d":"0.34"}},3.796607246029168,{"$f":"(B673-B672)/Sheet2!$G$5","v":0.7215018851176705},-8.59918503075021,3.923247959796983,{"$nulls":4},{"$f":"IF(AND(E672>G$7,E672<G$8),A672,Sheet1!$Q$22)","v":0.3416583416583233},3.923247959796983]
[{"$f":"A672+Sheet2!G$5","v":{"v":0.3466533466533283,"d":"0.35"}},3.8002111515492363,{"$f":"(B674-B673)/Sheet2!$G$5","v":0.6787549940741571},-8.557927586911413,3.9289288830875906,{"$nulls":4},{"$f":"IF(AND(E673>G$7,E673<G$8),A673,Sheet1!$Q$22)","v":0.3466533466533283},3.9289288830875906]
[{"$f":"A673+Sheet2!G$5","v":{"v":0.3516483516483333,"d":"0.35"}},3.8036015361350213,{"$f":"(B675-B674)/Sheet2!$G$5","v":0.6362171751868195},-8.516071341244967,3.934386841775288,{"$nulls":4},{"$f":"IF(AND(E674>G$7,E674<G$8),A674,Sheet1!$Q$22)","v":0.3516483516483333},3.934386841775288]
[{"$f":"A674+Sheet2!G$5","v":{"v":0.3566433566433383,"d":"0.36"}},3.8067794441029874,{"$f":"(B676-B675)/Sheet2!$G$5","v":0.5938914194736004},-8.473616293786474,3.9396218358600774,{"$nulls":4},{"$f":"IF(AND(E675>G$7,E675<G$8),A675,Sheet1!$Q$22)","v":0.3566433566433383},3.9396218358600774]
[{"$f":"A675+Sheet2!G$5","v":{"v":0.3616383616383433,"d":"0.36"}},3.8097459347097486,{"$f":"(B677-B676)/Sheet2!$G$5","v":0.551780717952353},-8.43056244455373,3.944633865341959,{"$nulls":4},{"$f":"IF(AND(E676>G$7,E676<G$8),A676,Sheet1!$Q$22)","v":0.3616383616383433},3.944633865341959]
[{"$f":"A676+Sheet2!G$5","v":{"v":0.3666333666333483,"d":"0.37"}},3.812502082152068,{"$f":"(B678-B677)/Sheet2!$G$5","v":0.5098880616411974},-8.386909793493341,3.9494229302209325,{"$nulls":4},{"$f":"IF(AND(E677>G$7,E677<G$8),A677,Sheet1!$Q$22)","v":0.3666333666333483},3.9494229302209325]
[{"$f":"A677+Sheet2!G$5","v":{"v":0.37162837162835327,"d":"0.37"}},3.8150489755668593,{"$f":"(B679-B678)/Sheet2!$G$5","v":0.4682164415578982},-8.342658340676502,3.953989030496997,{"$nulls":4},{"$f":"IF(AND(E678>G$7,E678<G$8),A678,Sheet1!$Q$22)","v":0.37162837162835327},3.953989030496997]
[{"$f":"A678+Sheet2!G$5","v":{"v":0.37662337662335826,"d":"0.38"}},3.8173877190311845,{"$f":"(B680-B679)/Sheet2!$G$5","v":0.42676884872066434},-8.297808086014216,3.9583321661701545,{"$nulls":4},{"$f":"IF(AND(E679>G$7,E679<G$8),A679,Sheet1!$Q$22)","v":0.37662337662335826},3.9583321661701545]
[{"$f":"A679+Sheet2!G$5","v":{"v":0.38161838161836326,"d":"0.38"}},3.8195194315622567,{"$f":"(B681-B680)/Sheet2!$G$5","v":0.38554827414734927},-8.252359029577683,3.9624523372404026,{"$nulls":4},{"$f":"IF(AND(E680>G$7,E680<G$8),A680,Sheet1!$Q$22)","v":0.38161838161836326},3.9624523372404026]
[{"$f":"A680+Sheet2!G$5","v":{"v":0.38661338661336825,"d":"0.39"}},3.8214452471174383,{"$f":"(B682-B681)/Sheet2!$G$5","v":0.3445577088558952},-8.2063111713491,3.9663495437077425,{"$nulls":4},{"$f":"IF(AND(E681>G$7,E681<G$8),A681,Sheet1!$Q$22)","v":0.38661338661336825},3.9663495437077425]
[{"$f":"A681+Sheet2!G$5","v":{"v":0.39160839160837324,"d":"0.39"}},3.823166314594241,{"$f":"(B683-B682)/Sheet2!$G$5","v":0.30380014386433346},-8.159664511310668,3.970023785572173,{"$nulls":4},{"$f":"IF(AND(E682>G$7,E682<G$8),A682,Sheet1!$Q$22)","v":0.39160839160837324},3.970023785572173]
[{"$f":"A682+Sheet2!G$5","v":{"v":0.39660339660337823,"d":"0.40"}},3.8246837978303265,{"$f":"(B684-B683)/Sheet2!$G$5","v":0.26327857019060624},-8.11241904948019,3.9734750628336952,{"$nulls":4},{"$f":"IF(AND(E683>G$7,E683<G$8),A683,Sheet1!$Q$22)","v":0.39660339660337823},3.9734750628336952]
[{"$f":"A683+Sheet2!G$5","v":{"v":0.4015984015983832,"d":"0.40"}},3.8259988756035064,{"$f":"(B685-B684)/Sheet2!$G$5","v":0.22299597885265587},-8.064574785857662,3.97670337549231,{"$nulls":4},{"$f":"IF(AND(E684>G$7,E684<G$8),A684,Sheet1!$Q$22)","v":0.4015984015983832},3.97670337549231]
[{"$f":"A684+Sheet2!G$5","v":{"v":0.4065934065933882,"d":"0.41"}},3.8271127416317414,{"$f":"(B686-B685)/Sheet2!$G$5","v":0.18295536086851358},-8.016131720425287,3.9797087235480166,{"$nulls":4},{"$f":"IF(AND(E685>G$7,E685<G$8),A685,Sheet1!$Q$22)","v":0.4065934065933882},3.9797087235480166]
[{"$f":"A685+Sheet2!G$5","v":{"v":0.4115884115883932,"d":"0.41"}},3.8280266045731426,{"$f":"(B687-B686)/Sheet2!$G$5","v":0.14315970725612165},-7.967089853200863,3.9824911070008135,{"$nulls":4},{"$f":"IF(AND(E686>G$7,E686<G$8),A686,Sheet1!$Q$22)","v":0.4115884115883932},3.9824911070008135]
[{"$f":"A686+Sheet2!G$5","v":{"v":0.4165834165833982,"d":"0.42"}},3.8287416880259704,{"$f":"(B688-B687)/Sheet2!$G$5","v":0.10361200903342241},-7.917449184184392,3.9850505258507036,{"$nulls":4},{"$f":"IF(AND(E687>G$7,E687<G$8),A687,Sheet1!$Q$22)","v":0.4165834165833982},3.9850505258507036]
[{"$f":"A687+Sheet2!G$5","v":{"v":0.4215784215784032,"d":"0.42"}},3.829259230528635,{"$f":"(B689-B688)/Sheet2!$G$5","v":0.06431525721835811},-7.867209713375871,3.9873869800976856,{"$nulls":4},{"$f":"IF(AND(E688>G$7,E688<G$8),A688,Sheet1!$Q$22)","v":0.4215784215784032},3.9873869800976856]
[{"$f":"A688+Sheet2!G$5","v":{"v":0.4265734265734082,"d":"0.43"}},3.8295804855596955,{"$f":"(B690-B689)/Sheet2!$G$5","v":0.0252724428290489},-7.8163714407397045,3.9895004697417566,{"$nulls":4},{"$f":"IF(AND(E689>G$7,E689<G$8),A689,Sheet1!$Q$22)","v":0.4265734265734082},3.9895004697417566]
[{"$f":"A689+Sheet2!G$5","v":{"v":0.4315684315684132,"d":"0.43"}},3.8297067215378626,{"$f":"(B691-B690)/Sheet2!$G$5","v":-0.013513443116651836},-7.764934366329288,3.9913909947829214,{"$nulls":4},{"$f":"IF(AND(E690>G$7,E690<G$8),A690,Sheet1!$Q$22)","v":0.4315684315684132},3.9913909947829214]
[{"$f":"A690+Sheet2!G$5","v":{"v":0.4365634365634182,"d":"0.44"}},3.8296392218219952,{"$f":"(B692-B691)/Sheet2!$G$5","v":-0.0520394096008018},-7.712898490126824,3.9930585552211766,{"$nulls":4},{"$f":"IF(AND(E691>G$7,E691<G$8),A691,Sheet1!$Q$22)","v":0.4365634365634182},3.9930585552211766]
[{"$f":"A691+Sheet2!G$5","v":{"v":0.44155844155842316,"d":"0.44"}},3.829379284711102,{"$f":"(B693-B692)/Sheet2!$G$5","v":-0.09030246560536978},-7.660263812114511,3.994503151056524,{"$nulls":4},{"$f":"IF(AND(E692>G$7,E692<G$8),A692,Sheet1!$Q$22)","v":0.44155844155842316},3.994503151056524]
[{"$f":"A692+Sheet2!G$5","v":{"v":0.44655344655342816,"d":"0.45"}},3.828928223444342,{"$f":"(B694-B693)/Sheet2!$G$5","v":-0.1282996201123246},-7.607030332292351,3.995724782288964,{"$nulls":4},{"$f":"IF(AND(E693>G$7,E693<G$8),A693,Sheet1!$Q$22)","v":0.44655344655342816},3.995724782288964]
[{"$f":"A693+Sheet2!G$5","v":{"v":0.45154845154843315,"d":"0.45"}},3.8282873662010237,{"$f":"(B695-B694)/Sheet2!$G$5","v":-0.1660278821039017},-7.553198050713741,3.9967234489184937,{"$nulls":4},{"$f":"IF(AND(E694>G$7,E694<G$8),A694,Sheet1!$Q$22)","v":0.45154845154843315},3.9967234489184937]
[{"$f":"A694+Sheet2!G$5","v":{"v":0.45654345654343814,"d":"0.46"}},3.8274580561006046,{"$f":"(B696-B695)/Sheet2!$G$5","v":-0.20348426056189214},-7.4987669672896855,3.9974991509451168,{"$nulls":4},{"$f":"IF(AND(E695>G$7,E695<G$8),A695,Sheet1!$Q$22)","v":0.45654345654343814},3.9974991509451168]
[{"$f":"A695+Sheet2!G$5","v":{"v":0.46153846153844313,"d":"0.46"}},3.826441651202693,{"$f":"(B697-B696)/Sheet2!$G$5","v":-0.2406657644684425},-7.44373708209138,3.9980518883688316,{"$nulls":4},{"$f":"IF(AND(E696>G$7,E696<G$8),A696,Sheet1!$Q$22)","v":0.46153846153844313},3.9980518883688316]
[{"$f":"A696+Sheet2!G$5","v":{"v":0.4665334665334481,"d":"0.47"}},3.8252395245070465,{"$f":"(B698-B697)/Sheet2!$G$5","v":-0.2775694028057883},-7.3881083951366255,3.9983816611896352,{"$nulls":4},{"$f":"IF(AND(E697>G$7,E697<G$8),A697,Sheet1!$Q$22)","v":0.4665334665334481},3.9983816611896352]
[{"$f":"A697+Sheet2!G$5","v":{"v":0.4715284715284531,"d":"0.47"}},3.823853063953571,{"$f":"(B699-B698)/Sheet2!$G$5","v":-0.31419218455536485},-7.331880906265227,3.9984884694075338,{"$nulls":4},{"$f":"IF(AND(E698>G$7,E698<G$8),A698,Sheet1!$Q$22)","v":0.4715284715284531},3.9984884694075338]
[{"$f":"A698+Sheet2!G$5","v":{"v":0.4765234765234581,"d":"0.48"}},3.8222836724223255,{"$f":"(B700-B699)/Sheet2!$G$5","v":-0.3505311186998522},-7.275054615726376,3.9983723130225215,{"$nulls":4},{"$f":"IF(AND(E699>G$7,E699<G$8),A699,Sheet1!$Q$22)","v":0.4765234765234581},3.9983723130225215]
[{"$f":"A699+Sheet2!G$5","v":{"v":0.4815184815184631,"d":"0.48"}},3.820532767733515,{"$f":"(B701-B700)/Sheet2!$G$5","v":-0.3865832142210414},-7.217629523342078,3.998033192034602,{"$nulls":4},{"$f":"IF(AND(E700>G$7,E700<G$8),A700,Sheet1!$Q$22)","v":0.4815184815184631},3.998033192034602]
[{"$f":"A700+Sheet2!G$5","v":{"v":0.4865134865134681,"d":"0.49"}},3.818601782647496,{"$f":"(B702-B701)/Sheet2!$G$5","v":-0.4223454801008123},-7.159605629130133,3.9974711064437747,{"$nulls":4},{"$f":"IF(AND(E701>G$7,E701<G$8),A701,Sheet1!$Q$22)","v":0.4865134865134681},3.9974711064437747]
[{"$f":"A701+Sheet2!G$5","v":{"v":0.4915084915084731,"d":"0.49"}},3.8164921648647745,{"$f":"(B703-B702)/Sheet2!$G$5","v":-0.4578149253212226},-7.10098293312614,3.9966860562500375,{"$nulls":4},{"$f":"IF(AND(E702>G$7,E702<G$8),A702,Sheet1!$Q$22)","v":0.4915084915084731},3.9966860562500375]
[{"$f":"A702+Sheet2!G$5","v":{"v":0.4965034965034781,"d":"0.50"}},3.814205377026007,{"$f":"(B704-B703)/Sheet2!$G$5","v":-0.4929885588646856},-7.041761435401296,3.995678041453394,{"$nulls":4},{"$f":"IF(AND(E703>G$7,E703<G$8),A703,Sheet1!$Q$22)","v":0.4965034965034781},3.995678041453394]
[{"$f":"A703+Sheet2!G$5","v":{"v":0.5014985014984831,"d":"0.50"}},3.8117428967119977,{"$f":"(B705-B704)/Sheet2!$G$5","v":-0.5278633897126367},-6.981941135759808,3.9944470620538395,{"$nulls":4},{"$f":"IF(AND(E704>G$7,E704<G$8),A704,Sheet1!$Q$22)","v":0.5014985014984831},3.9944470620538395]
[{"$f":"A704+Sheet2!G$5","v":{"v":0.5064935064934881,"d":"0.51"}},3.809106216443703,{"$f":"(B706-B705)/Sheet2!$G$5","v":-0.562436426847667},-6.9215220344330675,3.9929931180513782,{"$nulls":4},{"$f":"IF(AND(E705>G$7,E705<G$8),A705,Sheet1!$Q$22)","v":0.5064935064934881},3.9929931180513782]
[{"$f":"A705+Sheet2!G$5","v":{"v":0.5114885114884932,"d":"0.51"}},3.806296843682226,{"$f":"(B707-B706)/Sheet2!$G$5","v":-0.5967046792513008},-6.860504131207483,3.9913162094460084,{"$nulls":4},{"$f":"IF(AND(E706>G$7,E706<G$8),A706,Sheet1!$Q$22)","v":0.5114885114884932},3.9913162094460084]
[{"$f":"A706+Sheet2!G$5","v":{"v":0.5164835164834982,"d":"0.52"}},{"$f":"x^4-5*x^2+4*x+3","v":3.803316300828823},{"$f":"(B708-B707)/Sheet2!$G$5","v":-0.6306651559061291},-6.798887426296646,3.9894163362377304,{"$nulls":4},{"$f":"IF(AND(E707>G$7,E707<G$8),A707,Sheet1!$Q$22)","v":0.5164835164834982},3.9894163362377304]
[{"$f":"A707+Sheet2!G$5","v":{"v":0.5214785214785033,"d":"0.52"}},3.800166125224896,{"$f":"(B709-B708)/Sheet2!$G$5","v":-0.6643148657935876},-6.736671919469165,{"$f":"G$10+G$11*(A708-G$9)+G$12*(A708-G$9)^2/2","v":3.9872934984265442},{"$nulls":4},{"$f":"IF(AND(E708>G$7,E708<G$8),A708,Sheet1!$Q$22)","v":0.5214785214785033},{"$f":"IF(AND(E708>G$7,E708<G$8),E708,G$10)","v":3.9872934984265442}]
[{"$f":"A708+Sheet2!G$5","v":{"v":0.5264735264735083,"d":"0.53"}},3.796847869152001,{"$f":"(B710-B709)/Sheet2!$G$5","v":-0.6976508178960892},{"$f":"(B710-2*B709+B708)/G$5^2","v":-6.673857610920834},3.984947696012449,{"$nulls":4},{"$f":"IF(AND(E709>G$7,E709<G$8),A709,Sheet1!$Q$22)","v":0.5264735264735083},3.984947696012449]
[{"$f":"A709+Sheet2!G$5","v":{"v":0.5314685314685134,"d":"0.53"}},3.793363099831841,{"$f":"(B711-B710)/Sheet2!$G$5","v":-0.730670021195603},-6.610444500562654,3.9823789289954443,{"$nulls":4},{"$f":"IF(AND(E710>G$7,E710<G$8),A710,Sheet1!$Q$22)","v":0.5314685314685134},3.9823789289954443]
[{"$f":"A710+Sheet2!G$5","v":{"v":0.5364635364635184,"d":"0.54"}},3.7897133994262684,{"$f":"(B712-B711)/Sheet2!$G$5","v":-0.7633694846740087},-6.5464325883768275,3.979587197375533,{"$nulls":4},{"$f":"IF(AND(E711>G$7,E711<G$8),A711,Sheet1!$Q$22)","v":0.5364635364635184},3.979587197375533]
[{"$f":"A711+Sheet2!G$5","v":{"v":0.5414585414585235,"d":"0.54"}},3.7859003650372873,{"$f":"(B713-B712)/Sheet2!$G$5","v":-0.7957462173136308},-6.481821874452351,3.9765725011527127,{"$nulls":4},{"$f":"IF(AND(E712>G$7,E712<G$8),A712,Sheet1!$Q$22)","v":0.5414585414585235},3.9765725011527127]
[{"$f":"A712+Sheet2!G$5","v":{"v":0.5464535464535285,"d":"0.55"}},3.7819256087070494,{"$f":"(B714-B713)/Sheet2!$G$5","v":-0.8277972280959937},-6.41661235862903,3.973334840326985,{"$nulls":4},{"$f":"IF(AND(E713>G$7,E713<G$8),A713,Sheet1!$Q$22)","v":0.5464535464535285},3.973334840326985]
[{"$f":"A713+Sheet2!G$5","v":{"v":0.5514485514485336,"d":"0.55"}},3.7777907574178586,{"$f":"(B715-B714)/Sheet2!$G$5","v":-0.8595195260037771},-6.350804041138256,3.969874214898348,{"$nulls":4},{"$f":"IF(AND(E714>G$7,E714<G$8),A714,Sheet1!$Q$22)","v":0.5514485514485336},3.969874214898348]
[{"$f":"A714+Sheet2!G$5","v":{"v":0.5564435564435386,"d":"0.56"}},3.7734974530921654,{"$f":"(B716-B715)/Sheet2!$G$5","v":-0.8909101200186834},-6.284396921784236,3.966190624866803,{"$nulls":4},{"$f":"IF(AND(E715>G$7,E715<G$8),A715,Sheet1!$Q$22)","v":0.5564435564435386},3.966190624866803]
[{"$f":"A715+Sheet2!G$5","v":{"v":0.5614385614385436,"d":"0.56"}},3.7690473525925716,{"$f":"(B717-B716)/Sheet2!$G$5","v":-0.9219660191224145},-6.217391000566971,3.9622840702323474,{"$nulls":4},{"$f":"IF(AND(E716>G$7,E716<G$8),A716,Sheet1!$Q$22)","v":0.5614385614385436},3.9622840702323474]
[{"$f":"A716+Sheet2!G$5","v":{"v":0.5664335664335487,"d":"0.57"}},3.7644421277218303,{"$f":"(B718-B717)/Sheet2!$G$5","v":-0.9526842322976505},-6.149786277682251,3.958154550994985,{"$nulls":4},{"$f":"IF(AND(E717>G$7,E717<G$8),A717,Sheet1!$Q$22)","v":0.5664335664335487},3.958154550994985]
[{"$f":"A717+Sheet2!G$5","v":{"v":0.5714285714285537,"d":"0.57"}},3.759683465222841,{"$f":"(B719-B718)/Sheet2!$G$5","v":-0.9830617685260046},-6.081582752916488,3.953802067154715,{"$nulls":4},{"$f":"IF(AND(E718>G$7,E718<G$8),A718,Sheet1!$Q$22)","v":0.5714285714285537},3.953802067154715]
[{"$f":"A718+Sheet2!G$5","v":{"v":0.5764235764235588,"d":"0.58"}},3.754773066778655,{"$f":"(B720-B719)/Sheet2!$G$5","v":-1.0130956367894455},-6.0127804263408775,3.9492266187115366,{"$nulls":4},{"$f":"IF(AND(E719>G$7,E719<G$8),A719,Sheet1!$Q$22)","v":0.5764235764235588},3.9492266187115366]
[{"$f":"A719+Sheet2!G$5","v":{"v":0.5814185814185638,"d":"0.58"}},3.749712649012474,{"$f":"(B721-B720)/Sheet2!$G$5","v":-1.0427828460704756},-5.943379298062213,3.94442820566545,{"$nulls":4},{"$f":"IF(AND(E720>G$7,E720<G$8),A720,Sheet1!$Q$22)","v":0.5814185814185638},3.94442820566545]
[{"$f":"A720+Sheet2!G$5","v":{"v":0.5864135864135689,"d":"0.59"}},3.7445039434876466,{"$f":"(B722-B721)/Sheet2!$G$5","v":-1.07212040535053},-5.8733793678669075,3.9394068280164545,{"$nulls":4},{"$f":"IF(AND(E721>G$7,E721<G$8),A721,Sheet1!$Q$22)","v":0.5864135864135689},3.9394068280164545]
[{"$f":"A721+Sheet2!G$5","v":{"v":0.5914085914085739,"d":"0.59"}},3.739148696707674,{"$f":"(B723-B722)/Sheet2!$G$5","v":-1.1011053236119335},-5.80278063593295,3.9341624857645483,{"$nulls":4},{"$f":"IF(AND(E722>G$7,E722<G$8),A722,Sheet1!$Q$22)","v":0.5914085914085739},3.9341624857645483]
[{"$f":"A722+Sheet2!G$5","v":{"v":0.596403596403579,"d":"0.60"}},3.7336486701162057,{"$f":"(B724-B723)/Sheet2!$G$5","v":-1.1297346098368322},-5.731583102224744,3.928695178909736,{"$nulls":4},{"$f":"IF(AND(E723>G$7,E723<G$8),A723,Sheet1!$Q$22)","v":0.596403596403579},3.928695178909736]
[{"$f":"A723+Sheet2!G$5","v":{"v":0.601398601398584,"d":"0.60"}},3.7280056400970407,{"$f":"(B725-B724)/Sheet2!$G$5","v":-1.1580052730070176},-5.6597867666710915,3.9230049074520155,{"$nulls":4},{"$f":"IF(AND(E724>G$7,E724<G$8),A724,Sheet1!$Q$22)","v":0.601398601398584},3.9230049074520155]
[{"$f":"A724+Sheet2!G$5","v":{"v":0.6063936063935891,"d":"0.61"}},3.7222213979741285,{"$f":"(B726-B725)/Sheet2!$G$5","v":-1.1859143221048136},-5.587391629378788,3.9170916713913866,{"$nulls":4},{"$f":"IF(AND(E725>G$7,E725<G$8),A725,Sheet1!$Q$22)","v":0.6063936063935891},3.9170916713913866]
[{"$f":"A725+Sheet2!G$5","v":{"v":0.6113886113885941,"d":"0.61"}},3.716297750011567,{"$f":"(B727-B726)/Sheet2!$G$5","v":-1.213458766111834},-5.514397690205441,3.9109554707278495,{"$nulls":4},{"$f":"IF(AND(E726>G$7,E726<G$8),A726,Sheet1!$Q$22)","v":0.6113886113885941},3.9109554707278495]
[{"$f":"A726+Sheet2!G$5","v":{"v":0.6163836163835992,"d":"0.62"}},3.710236517413606,{"$f":"(B728-B727)/Sheet2!$G$5","v":-1.2406356140103136},-5.440804949275644,3.9045963054614035,{"$nulls":4},{"$f":"IF(AND(E727>G$7,E727<G$8),A727,Sheet1!$Q$22)","v":0.6163836163835992},3.9045963054614035]
[{"$f":"A727+Sheet2!G$5","v":{"v":0.6213786213786042,"d":"0.62"}},3.7040395363246432,{"$f":"(B729-B728)/Sheet2!$G$5","v":-1.2674418747825773},-5.366613406607195,3.898014175592048,{"$nulls":4},{"$f":"IF(AND(E728>G$7,E728<G$8),A728,Sheet1!$Q$22)","v":0.6213786213786042},3.898014175592048]
[{"$f":"A728+Sheet2!G$5","v":{"v":0.6263736263736093,"d":"0.63"}},3.6977086578292258,{"$f":"(B730-B729)/Sheet2!$G$5","v":-1.2938745574102382},-5.291823062057703,3.8912090811197855,{"$nulls":4},{"$f":"IF(AND(E729>G$7,E729<G$8),A729,Sheet1!$Q$22)","v":0.6263736263736093},3.8912090811197855]
[{"$f":"A729+Sheet2!G$5","v":{"v":0.6313686313686143,"d":"0.63"}},3.6912457479520517,{"$f":"(B731-B730)/Sheet2!$G$5","v":-1.319930670875265},-5.216433915698363,3.8841810220446145,{"$nulls":4},{"$f":"IF(AND(E730>G$7,E730<G$8),A730,Sheet1!$Q$22)","v":0.6313686313686143},3.8841810220446145]
[{"$f":"A730+Sheet2!G$5","v":{"v":0.6363636363636194,"d":"0.64"}},3.6846526876579695,{"$f":"(B732-B731)/Sheet2!$G$5","v":-1.34560722416016},-5.14044596763597,3.876929998366535,{"$nulls":4},{"$f":"IF(AND(E731>G$7,E731<G$8),A731,Sheet1!$Q$22)","v":0.6363636363636194},3.876929998366535]
[{"$f":"A731+Sheet2!G$5","v":{"v":0.6413586413586244,"d":"0.64"}},3.6779313728519747,{"$f":"(B733-B732)/Sheet2!$G$5","v":-1.370901226246536},-5.063859217692533,3.869456010085547,{"$nulls":4},{"$f":"IF(AND(E732>G$7,E732<G$8),A732,Sheet1!$Q$22)","v":0.6413586413586244},3.869456010085547]
[{"$f":"A732+Sheet2!G$5","v":{"v":0.6463536463536295,"d":"0.65"}},3.6710837143792148,{"$f":"(B734-B733)/Sheet2!$G$5","v":-1.3958096861168072},-4.986673666028244,3.8617590572016516,{"$nulls":4},{"$f":"IF(AND(E733>G$7,E733<G$8),A733,Sheet1!$Q$22)","v":0.6463536463536295},3.8617590572016516]
[{"$f":"A733+Sheet2!G$5","v":{"v":0.6513486513486345,"d":"0.65"}},3.664111638024985,{"$f":"(B735-B734)/Sheet2!$G$5","v":-1.420329612752497},-4.908889312465112,3.8538391397148457,{"$nulls":4},{"$f":"IF(AND(E734>G$7,E734<G$8),A734,Sheet1!$Q$22)","v":0.6513486513486345},3.8538391397148457]
[{"$f":"A734+Sheet2!G$5","v":{"v":0.6563436563436396,"d":"0.66"}},3.6570170845147327,{"$f":"(B736-B735)/Sheet2!$G$5","v":-1.4444580151359303},-4.830506157163329,3.845696257625132,{"$nulls":4},{"$f":"IF(AND(E735>G$7,E735<G$8),A735,Sheet1!$Q$22)","v":0.6563436563436396},3.845696257625132]
[{"$f":"A735+Sheet2!G$5","v":{"v":0.6613386613386446,"d":"0.66"}},3.6498020095140538,{"$f":"(B737-B736)/Sheet2!$G$5","v":-1.4681919022494312},-4.751524200122895,3.8373304109325117,{"$nulls":4},{"$f":"IF(AND(E736>G$7,E736<G$8),A736,Sheet1!$Q$22)","v":0.6613386613386446},3.8373304109325117]
[{"$f":"A736+Sheet2!G$5","v":{"v":0.6663336663336497,"d":"0.67"}},3.642468383628692,{"$f":"(B738-B737)/Sheet2!$G$5","v":-1.4915282830743464},-4.671943441148019,3.828741599636981,{"$nulls":4},{"$f":"IF(AND(E737>G$7,E737<G$8),A737,Sheet1!$Q$22)","v":0.6663336663336497},3.828741599636981]
[{"$f":"A737+Sheet2!G$5","v":{"v":0.6713286713286547,"d":"0.67"}},3.6350181924045444,{"$f":"(B739-B738)/Sheet2!$G$5","v":-1.514464166593178},-4.591763880470091,3.8199298237385433,{"$nulls":4},{"$f":"IF(AND(E738>G$7,E738<G$8),A738,Sheet1!$Q$22)","v":0.6713286713286547},3.8199298237385433]
[{"$f":"A738+Sheet2!G$5","v":{"v":0.6763236763236598,"d":"0.68"}},3.6274534363276554,{"$f":"(B740-B739)/Sheet2!$G$5","v":-1.536996561787895},-4.5109855179823155,3.8108950832371953,{"$nulls":4},{"$f":"IF(AND(E739>G$7,E739<G$8),A739,Sheet1!$Q$22)","v":0.6763236763236598},3.8108950832371953]
[{"$f":"A739+Sheet2!G$5","v":{"v":0.6813186813186648,"d":"0.68"}},3.6197761308242193,{"$f":"(B741-B740)/Sheet2!$G$5","v":-1.5591224776404657},-4.429608353684692,3.8016373781329404,{"$nulls":4},{"$f":"IF(AND(E740>G$7,E740<G$8),A740,Sheet1!$Q$22)","v":0.6813186813186648},3.8016373781329404]
[{"$f":"A740+Sheet2!G$5","v":{"v":0.6863136863136698,"d":"0.69"}},3.6119883062605807,{"$f":"(B742-B741)/Sheet2!$G$5","v":-1.5808389231328595},-4.347632387577221,3.792156708425777,{"$nulls":4},{"$f":"IF(AND(E741>G$7,E741<G$8),A741,Sheet1!$Q$22)","v":0.6863136863136698},3.792156708425777]
[{"$f":"A741+Sheet2!G$5","v":{"v":0.6913086913086749,"d":"0.69"}},3.6040920079432337,{"$f":"(B743-B742)/Sheet2!$G$5","v":-1.6021429072473115},-4.2650576197133,3.782453074115706,{"$nulls":4},{"$f":"IF(AND(E742>G$7,E742<G$8),A742,Sheet1!$Q$22)","v":0.6913086913086749},3.782453074115706]
[{"$f":"A742+Sheet2!G$5","v":{"v":0.6963036963036799,"d":"0.70"}},3.5960892961188216,{"$f":"(B744-B743)/Sheet2!$G$5","v":-1.6230314389657017},-4.181884050021732,3.772526475202726,{"$nulls":4},{"$f":"IF(AND(E743>G$7,E743<G$8),A743,Sheet1!$Q$22)","v":0.6963036963036799},3.772526475202726]
[{"$f":"A743+Sheet2!G$5","v":{"v":0.701298701298685,"d":"0.70"}},3.5879822459741377,{"$f":"(B745-B744)/Sheet2!$G$5","v":-1.643501527270088},-4.098111678538116,3.762376911686837,{"$nulls":4},{"$f":"IF(AND(E744>G$7,E744<G$8),A744,Sheet1!$Q$22)","v":0.701298701298685},3.762376911686837]
[{"$f":"A744+Sheet2!G$5","v":{"v":0.70629370629369,"d":"0.71"}},3.5797729476361253,{"$f":"(B746-B745)/Sheet2!$G$5","v":-1.663550181142439},-4.013740505244652,3.75200438356804,{"$nulls":4},{"$f":"IF(AND(E745>G$7,E745<G$8),A745,Sheet1!$Q$22)","v":0.70629370629369},3.75200438356804]
[{"$f":"A745+Sheet2!G$5","v":{"v":0.7112887112886951,"d":"0.71"}},3.5714635061718774,{"$f":"(B747-B746)/Sheet2!$G$5","v":-1.683174409564901},-3.928770530176939,3.741408890846335,{"$nulls":4},{"$f":"IF(AND(E746>G$7,E746<G$8),A746,Sheet1!$Q$22)","v":0.7112887112886951},3.741408890846335]
[{"$f":"A746+Sheet2!G$5","v":{"v":0.7162837162837001,"d":"0.72"}},3.563056041588636,{"$f":"(B748-B747)/Sheet2!$G$5","v":-1.7023712215193545},-3.843201753281579,3.73059043352172,{"$nulls":4},{"$f":"IF(AND(E747>G$7,E747<G$8),A747,Sheet1!$Q$22)","v":0.7162837162837001},3.73059043352172]
[{"$f":"A747+Sheet2!G$5","v":{"v":0.7212787212787052,"d":"0.72"}},3.554552688833794,{"$f":"(B749-B748)/Sheet2!$G$5","v":-1.7211376259879458},-3.7570341746119698,3.7195490115942,{"$nulls":4},{"$f":"IF(AND(E748>G$7,E748<G$8),A748,Sheet1!$Q$22)","v":0.7212787212787052},3.7195490115942]
[{"$f":"A748+Sheet2!G$5","v":{"v":0.7262737262737102,"d":"0.73"}},3.5459555977948933,{"$f":"(B750-B749)/Sheet2!$G$5","v":-1.7394706319528215},-3.6702677941681117,3.7082846250637687,{"$nulls":4},{"$f":"IF(AND(E749>G$7,E749<G$8),A749,Sheet1!$Q$22)","v":0.7262737262737102},3.7082846250637687]
[{"$f":"A749+Sheet2!G$5","v":{"v":0.7312687312687153,"d":"0.73"}},3.5372669332996245,{"$f":"(B751-B750)/Sheet2!$G$5","v":-1.7573672483955947},-3.5829026118432092,3.6967972739304287,{"$nulls":4},{"$f":"IF(AND(E750>G$7,E750<G$8),A750,Sheet1!$Q$22)","v":0.7312687312687153},3.6967972739304287]
[{"$f":"A750+Sheet2!G$5","v":{"v":0.7362637362637203,"d":"0.74"}},3.5284888751158303,{"$f":"(B752-B751)/Sheet2!$G$5","v":-1.774824484298768},-3.494938627815254,3.685086958194181,{"$nulls":4},{"$f":"IF(AND(E751>G$7,E751<G$8),A751,Sheet1!$Q$22)","v":0.7362637362637203},3.685086958194181]
[{"$f":"A751+Sheet2!G$5","v":{"v":0.7412587412587254,"d":"0.74"}},3.519623617951501,{"$f":"(B753-B752)/Sheet2!$G$5","v":-1.7918393486441317},-3.406375841941853,3.6731536778550264,{"$nulls":4},{"$f":"IF(AND(E752>G$7,E752<G$8),A752,Sheet1!$Q$22)","v":0.7412587412587254},3.6731536778550264]
[{"$f":"A752+Sheet2!G$5","v":{"v":0.7462537462537304,"d":"0.75"}},3.510673371454777,{"$f":"(B754-B753)/Sheet2!$G$5","v":-1.808408850413744},-3.3172142542764034,3.6609974329129615,{"$nulls":4},{"$f":"IF(AND(E753>G$7,E753<G$8),A753,Sheet1!$Q$22)","v":0.7462537462537304},3.6609974329129615]
[{"$f":"A753+Sheet2!G$5","v":{"v":0.7512487512487355,"d":"0.75"}},3.501640360213949,{"$f":"(B755-B754)/Sheet2!$G$5","v":-1.8245299985897516},-3.2274538648367046,3.648618223367988,{"$nulls":4},{"$f":"IF(AND(E754>G$7,E754<G$8),A754,Sheet1!$Q$22)","v":0.7512487512487355},3.648618223367988]
[{"$f":"A754+Sheet2!G$5","v":{"v":0.7562437562437405,"d":"0.76"}},3.4925268237574567,{"$f":"(B756-B755)/Sheet2!$G$5","v":-1.8401998021539452},-3.13709467355156,3.6360160492201086,{"$nulls":4},{"$f":"IF(AND(E755>G$7,E755<G$8),A755,Sheet1!$Q$22)","v":0.7562437562437405},3.6360160492201086]
[{"$f":"A755+Sheet2!G$5","v":{"v":0.7612387612387456,"d":"0.76"}},3.4833350165538906,{"$f":"(B757-B756)/Sheet2!$G$5","v":-1.8554152700884716},-3.0461366804921663,3.6231909104693196,{"$nulls":4},{"$f":"IF(AND(E756>G$7,E756<G$8),A756,Sheet1!$Q$22)","v":0.7612387612387456},3.6231909104693196]
[{"$f":"A756+Sheet2!G$5","v":{"v":0.7662337662337506,"d":"0.77"}},3.47406720801199,{"$f":"(B758-B757)/Sheet2!$G$5","v":-1.8701734113753883},-2.954579885640724,3.610142807115621,{"$nulls":4},{"$f":"IF(AND(E757>G$7,E757<G$8),A757,Sheet1!$Q$22)","v":0.7662337662337506},3.610142807115621]
[{"$f":"A757+Sheet2!G$5","v":{"v":0.7712287712287557,"d":"0.77"}},3.4647256824806445,{"$f":"(B759-B758)/Sheet2!$G$5","v":-1.8844712349967532},-2.8624242889972336,3.596871739159016,{"$nulls":4},{"$f":"IF(AND(E758>G$7,E758<G$8),A758,Sheet1!$Q$22)","v":0.7712287712287557},3.596871739159016]
[{"$f":"A758+Sheet2!G$5","v":{"v":0.7762237762237607,"d":"0.78"}},3.4553127392488925,{"$f":"(B760-B759)/Sheet2!$G$5","v":-1.8983057499346236},-2.7696698905616945,3.583377706599501,{"$nulls":4},{"$f":"IF(AND(E759>G$7,E759<G$8),A759,Sheet1!$Q$22)","v":0.7762237762237607},3.583377706599501]
[{"$f":"A759+Sheet2!G$5","v":{"v":0.7812187812187658,"d":"0.78"}},3.4458306925459223,{"$f":"(B761-B760)/Sheet2!$G$5","v":-1.91167396517088},-2.6763166902985085,3.569660709437078,{"$nulls":4},{"$f":"IF(AND(E760>G$7,E760<G$8),A760,Sheet1!$Q$22)","v":0.7812187812187658},3.569660709437078]
[{"$f":"A760+Sheet2!G$5","v":{"v":0.7862137862137708,"d":"0.79"}},3.436281871541073,{"$f":"(B762-B761)/Sheet2!$G$5","v":-1.9245728896877574},-2.5823646882788727,3.5557207476717476,{"$nulls":4},{"$f":"IF(AND(E761>G$7,E761<G$8),A761,Sheet1!$Q$22)","v":0.7862137862137708},3.5557207476717476]
[{"$f":"A761+Sheet2!G$5","v":{"v":0.7912087912087759,"d":"0.79"}},3.4266686203438312,{"$f":"(B763-B762)/Sheet2!$G$5","v":-1.9369995324669582},-2.487813884395992,3.541557821303507,{"$nulls":4},{"$f":"IF(AND(E762>G$7,E762<G$8),A762,Sheet1!$Q$22)","v":0.7912087912087759},3.541557821303507]
[{"$f":"A762+Sheet2!G$5","v":{"v":0.7962037962037809,"d":"0.80"}},3.4169932980038364,{"$f":"(B764-B763)/Sheet2!$G$5","v":-1.9489509024908955},-2.392664278792259,3.5271719303323597,{"$nulls":4},{"$f":"IF(AND(E763>G$7,E763<G$8),A763,Sheet1!$Q$22)","v":0.7962037962037809},3.5271719303323597]
[{"$f":"A763+Sheet2!G$5","v":{"v":0.801198801198786,"d":"0.80"}},3.407258278510875,{"$f":"(B765-B764)/Sheet2!$G$5","v":-1.9604240087412717},-2.2969158713252815,3.5125630747583045,{"$nulls":4},{"$f":"IF(AND(E764>G$7,E764<G$8),A764,Sheet1!$Q$22)","v":0.801198801198786},3.5125630747583045]
[{"$f":"A764+Sheet2!G$5","v":{"v":0.806193806193791,"d":"0.81"}},3.3974659507948846,{"$f":"(B766-B765)/Sheet2!$G$5","v":-1.9714158602004108},-2.2005686621196525,3.497731254581338,{"$nulls":4},{"$f":"IF(AND(E765>G$7,E765<G$8),A765,Sheet1!$Q$22)","v":0.806193806193791},3.497731254581338]
[{"$f":"A765+Sheet2!G$5","v":{"v":0.811188811188796,"d":"0.81"}},3.3876187187259514,{"$f":"(B767-B766)/Sheet2!$G$5","v":-1.981923465850104},-2.1036226510685783,3.482676469801465,{"$nulls":4},{"$f":"IF(AND(E766>G$7,E766<G$8),A766,Sheet1!$Q$22)","v":0.811188811188796},3.482676469801465]
[{"$f":"A766+Sheet2!G$5","v":{"v":0.8161838161838011,"d":"0.82"}},3.3777190011143126,{"$f":"(B768-B767)/Sheet2!$G$5","v":-1.9919438346725866},-2.0060778382610533,3.467398720418685,{"$nulls":4},{"$f":"IF(AND(E767>G$7,E767<G$8),A767,Sheet1!$Q$22)","v":0.8161838161838011},3.467398720418685]
[{"$f":"A767+Sheet2!G$5","v":{"v":0.8211788211788061,"d":"0.82"}},3.3677692317103536,{"$f":"(B769-B768)/Sheet2!$G$5","v":-2.0014739756496502},-1.9079342236080827,3.4518980064329936,{"$nulls":4},{"$f":"IF(AND(E768>G$7,E768<G$8),A768,Sheet1!$Q$22)","v":0.8211788211788061},3.4518980064329936]
[{"$f":"A768+Sheet2!G$5","v":{"v":0.8261738261738112,"d":"0.83"}},3.357771859204611,{"$f":"(B770-B769)/Sheet2!$G$5","v":-2.0105108977634405},-1.809191807180863,3.4361743278443946,{"$nulls":4},{"$f":"IF(AND(E769>G$7,E769<G$8),A769,Sheet1!$Q$22)","v":0.8261738261738112},3.4361743278443946]
[{"$f":"A769+Sheet2!G$5","v":{"v":0.8311688311688162,"d":"0.83"}},3.3477293472277707,{"$f":"(B771-B770)/Sheet2!$G$5","v":-2.019051609996105},-1.7098505889793938,3.4202276846528887,{"$nulls":4},{"$f":"IF(AND(E770>G$7,E770<G$8),A770,Sheet1!$Q$22)","v":0.8311688311688162},3.4202276846528887]
[{"$f":"A770+Sheet2!G$5","v":{"v":0.8361638361638213,"d":"0.84"}},{"$f":"x^4-5*x^2+4*x+3","v":3.3376441743506673},{"$f":"(B772-B771)/Sheet2!$G$5","v":-2.0270931213295227},-1.6099105689502782,3.4040580768584734,{"$nulls":4},{"$f":"IF(AND(E771>G$7,E771<G$8),A771,Sheet1!$Q$22)","v":0.8361638361638213},3.4040580768584734]
[{"$f":"A771+Sheet2!G$5","v":{"v":0.8411588411588263,"d":"0.84"}},3.327518834084286,{"$f":"(B773-B772)/Sheet2!$G$5","v":-2.03463244074593},-1.5093717471647121,{"$f":"G$10+G$11*(A772-G$9)+G$12*(A772-G$9)^2/2","v":3.3876655044611494},{"$nulls":4},{"$f":"IF(AND(E772>G$7,E772<G$8),A772,Sheet1!$Q$22)","v":0.8411588411588263},{"$f":"IF(AND(E772>G$7,E772<G$8),E772,G$10)","v":3.3876655044611494}]
[{"$f":"A772+Sheet2!G$5","v":{"v":0.8461538461538314,"d":"0.85"}},3.317355834879761,{"$f":"(B774-B773)/Sheet2!$G$5","v":-2.0416665772268505},{"$f":"(B774-2*B773+B772)/G$5^2","v":-1.408234123480303},3.3710499674609196,{"$nulls":4},{"$f":"IF(AND(E773>G$7,E773<G$8),A773,Sheet1!$Q$22)","v":0.8461538461538314},3.3710499674609196]
[{"$f":"A773+Sheet2!G$5","v":{"v":0.8511488511488364,"d":"0.85"}},3.307157700128378,{"$f":"(B775-B774)/Sheet2!$G$5","v":-2.0481925397548757},-1.3064976981106402,3.3542114658577775,{"$nulls":4},{"$f":"IF(AND(E774>G$7,E774<G$8),A774,Sheet1!$Q$22)","v":0.8511488511488364},3.3542114658577775]
[{"$f":"A774+Sheet2!G$5","v":{"v":0.8561438561438415,"d":"0.86"}},3.2969269681615705,{"$f":"(B776-B775)/Sheet2!$G$5","v":-2.0542073373119742},-1.2041624709311298,3.3371499996517295,{"$nulls":4},{"$f":"IF(AND(E775>G$7,E775<G$8),A775,Sheet1!$Q$22)","v":0.8561438561438415},3.3371499996517295]
[{"$f":"A775+Sheet2!G$5","v":{"v":0.8611388611388465,"d":"0.86"}},3.2866661922509213,{"$f":"(B777-B776)/Sheet2!$G$5","v":-2.0597079788796706},-1.1012284418527762,3.319865568842774,{"$nulls":4},{"$f":"IF(AND(E776>G$7,E776<G$8),A776,Sheet1!$Q$22)","v":0.8611388611388465},3.319865568842774]
[{"$f":"A776+Sheet2!G$5","v":{"v":0.8661338661338516,"d":"0.87"}},3.2763779406081657,{"$f":"(B778-B777)/Sheet2!$G$5","v":-2.0646914734406443},-0.9976956111069681,3.3023581734309078,{"$nulls":4},{"$f":"IF(AND(E777>G$7,E777<G$8),A777,Sheet1!$Q$22)","v":0.8661338661338516},3.3023581734309078]
[{"$f":"A777+Sheet2!G$5","v":{"v":0.8711288711288566,"d":"0.87"}},3.2660647963851854,{"$f":"(B779-B778)/Sheet2!$G$5","v":-2.0691548299763314},-0.8935639784445178,3.284627813416134,{"$nulls":4},{"$f":"IF(AND(E778>G$7,E778<G$8),A778,Sheet1!$Q$22)","v":0.8711288711288566},3.284627813416134]
[{"$f":"A778+Sheet2!G$5","v":{"v":0.8761238761238617,"d":"0.88"}},3.255729357674015,{"$f":"(B780-B779)/Sheet2!$G$5","v":-2.0730950574694114},-0.7888335441146128,3.2666744887984516,{"$nulls":4},{"$f":"IF(AND(E779>G$7,E779<G$8),A779,Sheet1!$Q$22)","v":0.8761238761238617},3.2666744887984516]
[{"$f":"A779+Sheet2!G$5","v":{"v":0.8811188811188667,"d":"0.88"}},3.245374237506835,{"$f":"(B781-B780)/Sheet2!$G$5","v":-2.0765091649012306},-0.6835043078502665,3.2484981995778606,{"$nulls":4},{"$f":"IF(AND(E780>G$7,E780<G$8),A780,Sheet1!$Q$22)","v":0.8811188811188667},3.2484981995778606]
[{"$f":"A780+Sheet2!G$5","v":{"v":0.8861138861138718,"d":"0.89"}},3.2350020638559798,{"$f":"(B782-B781)/Sheet2!$G$5","v":-2.079394161254381},-0.5775762699006665,3.2300989457543636,{"$nulls":4},{"$f":"IF(AND(E781>G$7,E781<G$8),A781,Sheet1!$Q$22)","v":0.8861138861138718},3.2300989457543636]
[{"$f":"A781+Sheet2!G$5","v":{"v":0.8911088911088768,"d":"0.89"}},3.22461547963393,{"$f":"(B783-B782)/Sheet2!$G$5","v":-2.081747055510653},-0.47104943010562067,3.2114767273279554,{"$nulls":4},{"$f":"IF(AND(E782>G$7,E782<G$8),A782,Sheet1!$Q$22)","v":0.8911088911088768},3.2114767273279554]
[{"$f":"A782+Sheet2!G$5","v":{"v":0.8961038961038819,"d":"0.90"}},3.2142171426933173,{"$f":"(B784-B783)/Sheet2!$G$5","v":-2.0835648566519263},-0.36392378848292817,3.1926315442986386,{"$nulls":4},{"$f":"IF(AND(E783>G$7,E783<G$8),A783,Sheet1!$Q$22)","v":0.8961038961038819},3.1926315442986386]
[{"$f":"A783+Sheet2!G$5","v":{"v":0.9010989010988869,"d":"0.90"}},3.203809725826924,{"$f":"(B785-B784)/Sheet2!$G$5","v":-2.0848445736604364},-0.2561993451037855,3.1735633966664167,{"$nulls":4},{"$f":"IF(AND(E784>G$7,E784<G$8),A784,Sheet1!$Q$22)","v":0.9010989010988869},3.1735633966664167]
[{"$f":"A784+Sheet2!G$5","v":{"v":0.906093906093892,"d":"0.91"}},3.193395916767681,{"$f":"(B786-B785)/Sheet2!$G$5","v":-2.0855832155182417},-0.1478760999325944,3.1542722844312836,{"$nulls":4},{"$f":"IF(AND(E785>G$7,E785<G$8),A785,Sheet1!$Q$22)","v":0.906093906093892},3.1542722844312836]
[{"$f":"A785+Sheet2!G$5","v":{"v":0.911088911088897,"d":"0.91"}},3.182978418188669,{"$f":"(B787-B786)/Sheet2!$G$5","v":-2.0857777912072217},-0.03895405293375664,3.134758207593241,{"$nulls":4},{"$f":"IF(AND(E786>G$7,E786<G$8),A786,Sheet1!$Q$22)","v":0.911088911088897},3.134758207593241]
[{"$f":"A786+Sheet2!G$5","v":{"v":0.916083916083902,"d":"0.92"}},3.1725599477031183,{"$f":"(B788-B787)/Sheet2!$G$5","v":-2.085425309709523},0.07056679583933044,3.1150211661522933,{"$nulls":4},{"$f":"IF(AND(E787>G$7,E787<G$8),A787,Sheet1!$Q$22)","v":0.916083916083902},3.1150211661522933]
[{"$f":"A787+Sheet2!G$5","v":{"v":0.9210789210789071,"d":"0.92"}},3.1621432378644094,{"$f":"(B789-B788)/Sheet2!$G$5","v":-2.0845227800071138},0.18068644642226506,3.0950611601084352,{"$nulls":4},{"$f":"IF(AND(E788>G$7,E788<G$8),A788,Sheet1!$Q$22)","v":0.9210789210789071},3.0950611601084352]
[{"$f":"A788+Sheet2!G$5","v":{"v":0.9260739260739121,"d":"0.93"}},3.151731036166072,{"$f":"(B790-B789)/Sheet2!$G$5","v":-2.0830672110821413},0.291404898779449,3.0748781894616686,{"$nulls":4},{"$f":"IF(AND(E789>G$7,E789<G$8),A789,Sheet1!$Q$22)","v":0.9260739260739121},3.0748781894616686]
[{"$f":"A789+Sheet2!G$5","v":{"v":0.9310689310689172,"d":"0.93"}},3.1413261050417858,{"$f":"(B791-B790)/Sheet2!$G$5","v":-2.081055611916308},0.4027221529998778,3.0544722542119933,{"$nulls":4},{"$f":"IF(AND(E790>G$7,E790<G$8),A790,Sheet1!$Q$22)","v":0.9310689310689172},3.0544722542119933]
[{"$f":"A790+Sheet2!G$5","v":{"v":0.9360639360639222,"d":"0.94"}},3.1309312218653806,{"$f":"(B792-B791)/Sheet2!$G$5","v":-2.078484991492293},0.5146382088877612,3.033843354359412,{"$nulls":4},{"$f":"IF(AND(E791>G$7,E791<G$8),A791,Sheet1!$Q$22)","v":0.9360639360639222},3.033843354359412]
[{"$f":"A791+Sheet2!G$5","v":{"v":0.9410589410589273,"d":"0.94"}},3.1205491789508337,{"$f":"(B793-B792)/Sheet2!$G$5","v":-2.0753523587909988},0.6271530667990816,3.0129914899039205,{"$nulls":4},{"$f":"IF(AND(E792>G$7,E792<G$8),A792,Sheet1!$Q$22)","v":0.9410589410589273},3.0129914899039205]
[{"$f":"A792+Sheet2!G$5","v":{"v":0.9460539460539323,"d":"0.95"}},3.1101827835522773,{"$f":"(B794-B793)/Sheet2!$G$5","v":-2.0716547227959947},0.7402667261998653,2.991916660845522,{"$nulls":4},{"$f":"IF(AND(E793>G$7,E793<G$8),A793,Sheet1!$Q$22)","v":0.9460539460539323},2.991916660845522]
[{"$f":"A793+Sheet2!G$5","v":{"v":0.9510489510489374,"d":"0.95"}},3.0998348578639856,{"$f":"(B795-B794)/Sheet2!$G$5","v":-2.067389092487826},0.8539791876952826,2.9706188671842124,{"$nulls":4},{"$f":"IF(AND(E794>G$7,E794<G$8),A794,Sheet1!$Q$22)","v":0.9510489510489374},2.9706188671842124]
[{"$f":"A794+Sheet2!G$5","v":{"v":0.9560439560439424,"d":"0.96"}},3.08950823902039,{"$f":"(B796-B795)/Sheet2!$G$5","v":-2.062552476849441},0.9682904508047571,2.949098108919996,{"$nulls":4},{"$f":"IF(AND(E795>G$7,E795<G$8),A795,Sheet1!$Q$22)","v":0.9560439560439424},2.949098108919996]
[{"$f":"A795+Sheet2!G$5","v":{"v":0.9610389610389475,"d":"0.96"}},3.079205779096067,{"$f":"(B797-B796)/Sheet2!$G$5","v":-2.0571418848627183},1.0832005157418783,2.9273543860528735,{"$nulls":4},{"$f":"IF(AND(E796>G$7,E796<G$8),A796,Sheet1!$Q$22)","v":0.9610389610389475},2.9273543860528735]
[{"$f":"A796+Sheet2!G$5","v":{"v":0.9660339660339525,"d":"0.97"}},3.068930345105744,{"$f":"(B798-B797)/Sheet2!$G$5","v":-2.0511543255093603},1.1987093825422441,2.9053876985828397,{"$nulls":4},{"$f":"IF(AND(E797>G$7,E797<G$8),A797,Sheet1!$Q$22)","v":0.9660339660339525},2.9053876985828397]
[{"$f":"A797+Sheet2!G$5","v":{"v":0.9710289710289576,"d":"0.97"}},3.0586848190042986,{"$f":"(B799-B798)/Sheet2!$G$5","v":-2.044586807771692},1.3148170510812613,2.8831980465098965,{"$nulls":4},{"$f":"IF(AND(E798>G$7,E798<G$8),A798,Sheet1!$Q$22)","v":0.9710289710289576},2.8831980465098965]
[{"$f":"A798+Sheet2!G$5","v":{"v":0.9760239760239626,"d":"0.98"}},3.0484720976867576,{"$f":"(B800-B799)/Sheet2!$G$5","v":-2.03743634063177},1.4315235214123267,2.8607854298340483,{"$nulls":4},{"$f":"IF(AND(E799>G$7,E799<G$8),A799,Sheet1!$Q$22)","v":0.9760239760239626},2.8607854298340483]
[{"$f":"A799+Sheet2!G$5","v":{"v":0.9810189810189677,"d":"0.98"}},3.0382950929882973,{"$f":"(B801-B800)/Sheet2!$G$5","v":-2.0296999330712975},1.5488287936066372,2.8381498485552896,{"$nulls":4},{"$f":"IF(AND(E800>G$7,E800<G$8),A800,Sheet1!$Q$22)","v":0.9810189810189677},2.8381498485552896]
[{"$f":"A800+Sheet2!G$5","v":{"v":0.9860139860139727,"d":"0.99"}},3.028156731684245,{"$f":"(B802-B801)/Sheet2!$G$5","v":-2.021374594072776},1.6667328675040005,2.8152913026736224,{"$nulls":4},{"$f":"IF(AND(E801>G$7,E801<G$8),A801,Sheet1!$Q$22)","v":0.9860139860139727},2.8152913026736224]
[{"$f":"A801+Sheet2!G$5","v":{"v":0.9910089910089778,"d":"0.99"}},3.018059955490075,{"$f":"(B803-B802)/Sheet2!$G$5","v":-2.012457332617641},1.785235743318006,2.7922097921890465,{"$nulls":4},{"$f":"IF(AND(E802>G$7,E802<G$8),A802,Sheet1!$Q$22)","v":0.9910089910089778},2.7922097921890465]
[{"$f":"A802+Sheet2!G$5","v":{"v":0.9960039960039828,"d":"1.00"}},3.0080077210614156,{"$f":"(B804-B803)/Sheet2!$G$5","v":-2.0029451576883948},1.9043374208350643,2.7689053171015647,{"$nulls":4},{"$f":"IF(AND(E803>G$7,E803<G$8),A803,Sheet1!$Q$22)","v":0.9960039960039828},2.7689053171015647]
[{"$f":"A803+Sheet2!G$5","v":{"v":1.0009990009989878,"d":"1.00"}},2.998002999994041,{"$f":"(B805-B804)/Sheet2!$G$5","v":-1.9928350782670954},2.024037900144171,2.7453778774111726,{"$nulls":4},{"$f":"IF(AND(E804>G$7,E804<G$8),A804,Sheet1!$Q$22)","v":1.0009990009989878},2.7453778774111726]
[{"$f":"A804+Sheet2!G$5","v":{"v":1.0059940059939927,"d":"1.01"}},2.9880487788238757,{"$f":"(B806-B805)/Sheet2!$G$5","v":-1.982124103335711},2.1443371812631256,2.7216274731178736,{"$nulls":4},{"$f":"IF(AND(E805>G$7,E805<G$8),A805,Sheet1!$Q$22)","v":1.0059940059939927},2.7216274731178736]
[{"$f":"A805+Sheet2!G$5","v":{"v":1.0109890109889976,"d":"1.01"}},2.978148059026994,{"$f":"(B807-B806)/Sheet2!$G$5","v":-1.9708092418758554},2.265235264263124,2.697654104221666,{"$nulls":4},{"$f":"IF(AND(E806>G$7,E806<G$8),A806,Sheet1!$Q$22)","v":1.0109890109889976},2.697654104221666]
[{"$f":"A806+Sheet2!G$5","v":{"v":1.0159840159840026,"d":"1.02"}},2.968303857019622,{"$f":"(B808-B807)/Sheet2!$G$5","v":-1.9588875028699415},2.386732148983974,2.673457770722548,{"$nulls":4},{"$f":"IF(AND(E807>G$7,E807<G$8),A807,Sheet1!$Q$22)","v":1.0159840159840026},2.673457770722548]
[{"$f":"A807+Sheet2!G$5","v":{"v":1.0209790209790075,"d":"1.02"}},2.958519204158134,{"$f":"(B809-B808)/Sheet2!$G$5","v":-1.9463558953002047},2.5088278354612745,2.649038472620524,{"$nulls":4},{"$f":"IF(AND(E808>G$7,E808<G$8),A808,Sheet1!$Q$22)","v":1.0209790209790075},2.649038472620524]
[{"$f":"A808+Sheet2!G$5","v":{"v":1.0259740259740124,"d":"1.03"}},2.948797146739052,{"$f":"(B810-B809)/Sheet2!$G$5","v":-1.933211428147992},2.6315223238730163,2.6243962099155906,{"$nulls":4},{"$f":"IF(AND(E809>G$7,E809<G$8),A809,Sheet1!$Q$22)","v":1.0259740259740124},2.6243962099155906]
[{"$f":"A809+Sheet2!G$5","v":{"v":1.0309690309690174,"d":"1.03"}},2.939140745999052,{"$f":"(B811-B810)/Sheet2!$G$5","v":-1.9194511103960719},2.7548156139344138,2.5995309826077504,{"$nulls":4},{"$f":"IF(AND(E810>G$7,E810<G$8),A810,Sheet1!$Q$22)","v":1.0309690309690174},2.5995309826077504]
[{"$f":"A810+Sheet2!G$5","v":{"v":1.0359640359640223,"d":"1.04"}},2.9295530781149557,{"$f":"(B812-B811)/Sheet2!$G$5","v":-1.9050719510257907},2.8787077059302524,2.574442790696999,{"$nulls":4},{"$f":"IF(AND(E811>G$7,E811<G$8),A811,Sheet1!$Q$22)","v":1.0359640359640223},2.574442790696999]
[{"$f":"A811+Sheet2!G$5","v":{"v":1.0409590409590272,"d":"1.04"}},2.920037234203738,{"$f":"(B813-B812)/Sheet2!$G$5","v":-1.8900709590202736},3.0031985995045503,2.5491316341833397,{"$nulls":4},{"$f":"IF(AND(E812>G$7,E812<G$8),A812,Sheet1!$Q$22)","v":1.0409590409590272},2.5491316341833397]
[{"$f":"A812+Sheet2!G$5","v":{"v":1.0459540459540322,"d":"1.05"}},2.910596320322518,{"$f":"(B814-B813)/Sheet2!$G$5","v":-1.8744451433599774},3.1282882951912803,2.5235975130667754,{"$nulls":4},{"$f":"IF(AND(E813>G$7,E813<G$8),A813,Sheet1!$Q$22)","v":1.0459540459540322},2.5235975130667754]
[{"$f":"A813+Sheet2!G$5","v":{"v":1.0509490509490371,"d":"1.05"}},2.901233457468572,{"$f":"(B815-B814)/Sheet2!$G$5","v":-1.8581915130283826},3.253976792385273,2.497840427347299,{"$nulls":4},{"$f":"IF(AND(E814>G$7,E814<G$8),A814,Sheet1!$Q$22)","v":1.0509490509490371},2.497840427347299]
[{"$f":"A814+Sheet2!G$5","v":{"v":1.055944055944042,"d":"1.06"}},2.891951781579319,{"$f":"(B816-B815)/Sheet2!$G$5","v":-1.8413070770063023},3.380264091620502,2.4718603770249157,{"$nulls":4},{"$f":"IF(AND(E815>G$7,E815<G$8),A815,Sheet1!$Q$22)","v":1.055944055944042},2.4718603770249157]
[{"$f":"A815+Sheet2!G$5","v":{"v":1.060939060939047,"d":"1.06"}},2.8827544435323347,{"$f":"(B817-B816)/Sheet2!$G$5","v":-1.8237888442768608},3.5071501924341897,2.445657362099624,{"$nulls":4},{"$f":"IF(AND(E816>G$7,E816<G$8),A816,Sheet1!$Q$22)","v":1.060939060939047},2.445657362099624]
[{"$f":"A816+Sheet2!G$5","v":{"v":1.065934065934052,"d":"1.07"}},2.8736446091453374,{"$f":"(B818-B817)/Sheet2!$G$5","v":-1.8056338238214047},3.634635095182319,2.4192313825714233,{"$nulls":4},{"$f":"IF(AND(E817>G$7,E817<G$8),A817,Sheet1!$Q$22)","v":1.065934065934052},2.4192313825714233]
[{"$f":"A817+Sheet2!G$5","v":{"v":1.0709290709290569,"d":"1.07"}},2.8646254591761995,{"$f":"(B819-B818)/Sheet2!$G$5","v":-1.7868390246223471},3.7627187996513003,2.392582438440316,{"$nulls":4},{"$f":"IF(AND(E818>G$7,E818<G$8),A818,Sheet1!$Q$22)","v":1.0709290709290569},2.392582438440316]
[{"$f":"A818+Sheet2!G$5","v":{"v":1.0759240759240618,"d":"1.08"}},2.855700189322941,{"$f":"(B820-B819)/Sheet2!$G$5","v":-1.7674014556612128},3.891401306019125,2.3657105297062984,{"$nulls":4},{"$f":"IF(AND(E819>G$7,E819<G$8),A819,Sheet1!$Q$22)","v":1.0759240759240618},2.3657105297062984]
[{"$f":"A819+Sheet2!G$5","v":{"v":1.0809190809190667,"d":"1.08"}},2.846872010223734,{"$f":"(B821-B820)/Sheet2!$G$5","v":-1.7473181259205923},4.020682614072203,2.338615656369374,{"$nulls":4},{"$f":"IF(AND(E820>G$7,E820<G$8),A820,Sheet1!$Q$22)","v":1.0809190809190667},2.338615656369374]
[{"$f":"A820+Sheet2!G$5","v":{"v":1.0859140859140717,"d":"1.09"}},2.838144147456898,{"$f":"(B822-B821)/Sheet2!$G$5","v":-1.726586044382188},4.150562723988526,2.311297818429539,{"$nulls":4},{"$f":"IF(AND(E821>G$7,E821<G$8),A821,Sheet1!$Q$22)","v":1.0859140859140717},2.311297818429539]
[{"$f":"A821+Sheet2!G$5","v":{"v":1.0909090909090766,"d":"1.09"}},2.829519841540903,{"$f":"(B823-B822)/Sheet2!$G$5","v":-1.7052022200280577},4.281041635696897,2.2837570158867972,{"$nulls":4},{"$f":"IF(AND(E822>G$7,E822<G$8),A822,Sheet1!$Q$22)","v":1.0909090909090766},2.2837570158867972]
[{"$f":"A822+Sheet2!G$5","v":{"v":1.0959040959040816,"d":"1.10"}},2.8210023479343693,{"$f":"(B824-B823)/Sheet2!$G$5","v":-1.6831636618404366},4.412119349161719,2.255993248741147,{"$nulls":4},{"$f":"IF(AND(E823>G$7,E823<G$8),A823,Sheet1!$Q$22)","v":1.0959040959040816},2.255993248741147]
[{"$f":"A823+Sheet2!G$5","v":{"v":1.1008991008990865,"d":"1.10"}},2.8125949370360654,{"$f":"(B825-B824)/Sheet2!$G$5","v":-1.660467378801205},4.543795864454187,2.228006516992588,{"$nulls":4},{"$f":"IF(AND(E824>G$7,E824<G$8),A824,Sheet1!$Q$22)","v":1.1008991008990865},2.228006516992588]
[{"$f":"A824+Sheet2!G$5","v":{"v":1.1058941058940914,"d":"1.11"}},2.8043008941849106,{"$f":"(B826-B825)/Sheet2!$G$5","v":-1.637110379891887},4.676071181645498,2.1997968206411205,{"$nulls":4},{"$f":"IF(AND(E825>G$7,E825<G$8),A825,Sheet1!$Q$22)","v":1.1058941058940914},2.1997968206411205]
[{"$f":"A825+Sheet2!G$5","v":{"v":1.1108891108890964,"d":"1.11"}},2.796123519659976,{"$f":"(B827-B826)/Sheet2!$G$5","v":-1.6130896740957845},4.80894530037967,2.171364159686746,{"$nulls":4},{"$f":"IF(AND(E826>G$7,E826<G$8),A826,Sheet1!$Q$22)","v":1.1108891108890964},2.171364159686746]
[{"$f":"A826+Sheet2!G$5","v":{"v":1.1158841158841013,"d":"1.12"}},2.7880661286804767,{"$f":"(B828-B827)/Sheet2!$G$5","v":-1.5884022703937113},4.942418221155078,2.1427085341294596,{"$nulls":4},{"$f":"IF(AND(E827>G$7,E827<G$8),A827,Sheet1!$Q$22)","v":1.1158841158841013},2.1427085341294596]
[{"$f":"A827+Sheet2!G$5","v":{"v":1.1208791208791062,"d":"1.12"}},2.780132051405783,{"$f":"(B829-B828)/Sheet2!$G$5","v":-1.5630451777680803},5.076489943651339,2.113829943969268,{"$nulls":4},{"$f":"IF(AND(E828>G$7,E828<G$8),A828,Sheet1!$Q$22)","v":1.1208791208791062},2.113829943969268]
[{"$f":"A828+Sheet2!G$5","v":{"v":1.1258741258741112,"d":"1.13"}},2.7723246329354128,{"$f":"(B830-B829)/Sheet2!$G$5","v":-1.537015405201127},5.211160467904049,2.084728389206168,{"$nulls":4},{"$f":"IF(AND(E829>G$7,E829<G$8),A829,Sheet1!$Q$22)","v":1.1258741258741112},2.084728389206168]
[{"$f":"A829+Sheet2!G$5","v":{"v":1.1308691308691161,"d":"1.13"}},2.7646472333090335,{"$f":"(B831-B830)/Sheet2!$G$5","v":-1.5103099616749092},5.346429793948808,2.055403869840161,{"$nulls":4},{"$f":"IF(AND(E830>G$7,E830<G$8),A830,Sheet1!$Q$22)","v":1.1308691308691161},2.055403869840161]
[{"$f":"A830+Sheet2!G$5","v":{"v":1.135864135864121,"d":"1.14"}},2.7571032275064615,{"$f":"(B832-B831)/Sheet2!$G$5","v":-1.482925856171129},5.482297921856811,2.0258563858712417,{"$nulls":4},{"$f":"IF(AND(E831>G$7,E831<G$8),A831,Sheet1!$Q$22)","v":1.135864135864121},2.0258563858712417]
[{"$f":"A831+Sheet2!G$5","v":{"v":1.140859140859126,"d":"1.14"}},2.7496960054476647,{"$f":"(B833-B832)/Sheet2!$G$5","v":-1.4548600976718438},5.618764851556864,1.9960859372994157,{"$nulls":4},{"$f":"IF(AND(E832>G$7,E832<G$8),A832,Sheet1!$Q$22)","v":1.140859140859126},1.9960859372994157]
[{"$f":"A832+Sheet2!G$5","v":{"v":1.145854145854131,"d":"1.15"}},2.7424289719927604,{"$f":"(B834-B833)/Sheet2!$G$5","v":-1.4261096951594674},5.755830582977768,1.966092524124683,{"$nulls":4},{"$f":"IF(AND(E833>G$7,E833<G$8),A833,Sheet1!$Q$22)","v":1.145854145854131},1.966092524124683]
[{"$f":"A833+Sheet2!G$5","v":{"v":1.1508491508491359,"d":"1.15"}},2.7353055469420138,{"$f":"(B835-B834)/Sheet2!$G$5","v":-1.3966716576155238},5.893495116297514,1.935876146347038,{"$nulls":4},{"$f":"IF(AND(E834>G$7,E834<G$8),A834,Sheet1!$Q$22)","v":1.1508491508491359},1.935876146347038]
[{"$f":"A834+Sheet2!G$5","v":{"v":1.1558441558441408,"d":"1.16"}},{"$f":"x^4-5*x^2+4*x+3","v":2.7283291650358423},{"$f":"(B836-B835)/Sheet2!$G$5","v":-1.3665429940224263},6.0317584513381135,1.905436803966488,{"$nulls":4},{"$f":"IF(AND(E835>G$7,E835<G$8),A835,Sheet1!$Q$22)","v":1.1558441558441408},1.905436803966488]
[{"$f":"A835+Sheet2!G$5","v":{"v":1.1608391608391457,"d":"1.16"}},2.7215032759548112,{"$f":"(B837-B836)/Sheet2!$G$5","v":-1.3357207133622326},6.170620588170761,{"$f":"G$10+G$11*(A836-G$9)+G$12*(A836-G$9)^2/2","v":1.8747744969830276},{"$nulls":4},{"$f":"IF(AND(E836>G$7,E836<G$8),A836,Sheet1!$Q$22)","v":1.1608391608391457},{"$f":"IF(AND(E836>G$7,E836<G$8),E836,G$10)","v":1.8747744969830276}]
[{"$f":"A836+Sheet2!G$5","v":{"v":1.1658341658341507,"d":"1.17"}},2.7148313443196352,{"$f":"(B838-B837)/Sheet2!$G$5","v":-1.304201824616645},{"$f":"(B838-2*B837+B836)/G$5^2","v":6.310081526866654},1.8438892253966603,{"$nulls":4},{"$f":"IF(AND(E837>G$7,E837<G$8),A837,Sheet1!$Q$22)","v":1.1658341658341507},1.8438892253966603]
[{"$f":"A837+Sheet2!G$5","v":{"v":1.1708291708291556,"d":"1.17"}},2.7083168496911805,{"$f":"(B839-B838)/Sheet2!$G$5","v":-1.271983336767543},6.450141267390193,1.8127809892073845,{"$nulls":4},{"$f":"IF(AND(E838>G$7,E838<G$8),A838,Sheet1!$Q$22)","v":1.1708291708291556},1.8127809892073845]
[{"$f":"A838+Sheet2!G$5","v":{"v":1.1758241758241605,"d":"1.18"}},2.7019632865704635,{"$f":"(B840-B839)/Sheet2!$G$5","v":-1.239062258797874},6.590799809527789,1.7814497884152,{"$nulls":4},{"$f":"IF(AND(E839>G$7,E839<G$8),A839,Sheet1!$Q$22)","v":1.1758241758241605},1.7814497884152]
[{"$f":"A839+Sheet2!G$5","v":{"v":1.1808191808191655,"d":"1.18"}},2.695774164398646,{"$f":"(B841-B840)/Sheet2!$G$5","v":-1.2054355996888058},6.7320571536354255,1.749895623020107,{"$nulls":4},{"$f":"IF(AND(E840>G$7,E840<G$8),A840,Sheet1!$Q$22)","v":1.1808191808191655},1.749895623020107]
[{"$f":"A840+Sheet2!G$5","v":{"v":1.1858141858141704,"d":"1.19"}},2.6897530075570435,{"$f":"(B842-B841)/Sheet2!$G$5","v":-1.1711003684227523},6.873913299463913,1.7181184930221072,{"$nulls":4},{"$f":"IF(AND(E841>G$7,E841<G$8),A841,Sheet1!$Q$22)","v":1.1858141858141704},1.7181184930221072]
[{"$f":"A841+Sheet2!G$5","v":{"v":1.1908091908091754,"d":"1.19"}},2.6839033553671197,{"$f":"(B843-B842)/Sheet2!$G$5","v":-1.1360535739814153},7.016368247155646,1.6861183984211952,{"$nulls":4},{"$f":"IF(AND(E842>G$7,E842<G$8),A842,Sheet1!$Q$22)","v":1.1908091908091754},1.6861183984211952]
[{"$f":"A842+Sheet2!G$5","v":{"v":1.1958041958041803,"d":"1.20"}},2.678228762090489,{"$f":"(B844-B843)/Sheet2!$G$5","v":-1.1002922253470306},7.159421996603829,1.653895339217378,{"$nulls":4},{"$f":"IF(AND(E843>G$7,E843<G$8),A843,Sheet1!$Q$22)","v":1.1958041958041803},1.653895339217378]
[{"$f":"A843+Sheet2!G$5","v":{"v":1.2007992007991852,"d":"1.20"}},2.6727327969289156,{"$f":"(B845-B844)/Sheet2!$G$5","v":-1.0638133315016556},7.30307454784406,1.6214493154106506,{"$nulls":4},{"$f":"IF(AND(E844>G$7,E844<G$8),A844,Sheet1!$Q$22)","v":1.2007992007991852},1.6214493154106506]
[{"$f":"A844+Sheet2!G$5","v":{"v":1.2057942057941902,"d":"1.21"}},2.667419044024312,{"$f":"(B846-B845)/Sheet2!$G$5","v":-1.0266139014275262},7.447325900840742,1.5887803270010163,{"$nulls":4},{"$f":"IF(AND(E845>G$7,E845<G$8),A845,Sheet1!$Q$22)","v":1.2057942057941902},1.5887803270010163]
[{"$f":"A845+Sheet2!G$5","v":{"v":1.210789210789195,"d":"1.21"}},2.66229110245874,{"$f":"(B847-B846)/Sheet2!$G$5","v":-0.988690944106344},7.592176055700668,1.5558883739884752,{"$nulls":4},{"$f":"IF(AND(E846>G$7,E846<G$8),A846,Sheet1!$Q$22)","v":1.210789210789195},1.5558883739884752]
[{"$f":"A846+Sheet2!G$5","v":{"v":1.2157842157842,"d":"1.22"}},2.6573525862544125,{"$f":"(B848-B847)/Sheet2!$G$5","v":-0.9500414685201669},7.737625012352644,1.522773456373022,{"$nulls":4},{"$f":"IF(AND(E847>G$7,E847<G$8),A847,Sheet1!$Q$22)","v":1.2157842157842},1.522773456373022]
[{"$f":"A847+Sheet2!G$5","v":{"v":1.220779220779205,"d":"1.22"}},2.6526071243736924,{"$f":"(B849-B848)/Sheet2!$G$5","v":-0.9106624836508749},7.883672770832265,1.4894355741546619,{"$nulls":4},{"$f":"IF(AND(E848>G$7,E848<G$8),A848,Sheet1!$Q$22)","v":1.220779220779205},1.4894355741546619]
[{"$f":"A848+Sheet2!G$5","v":{"v":1.22577422577421,"d":"1.23"}},2.6480583607190926,{"$f":"(B850-B849)/Sheet2!$G$5","v":-0.8705509984812367},8.030319330961543,1.4558747273333932,{"$nulls":4},{"$f":"IF(AND(E849>G$7,E849<G$8),A849,Sheet1!$Q$22)","v":1.22577422577421},1.4558747273333932]
[{"$f":"A849+Sheet2!G$5","v":{"v":1.2307692307692149,"d":"1.23"}},2.6437099541332723,{"$f":"(B851-B850)/Sheet2!$G$5","v":-0.8297040219922435},8.177564693096457,1.4220909159092177,{"$nulls":4},{"$f":"IF(AND(E850>G$7,E850<G$8),A850,Sheet1!$Q$22)","v":1.2307692307692149},1.4220909159092177]
[{"$f":"A850+Sheet2!G$5","v":{"v":1.2357642357642198,"d":"1.24"}},2.6395655783990453,{"$f":"(B852-B851)/Sheet2!$G$5","v":-0.7881185631670196},8.325408856809831,1.3880841398821335,{"$nulls":4},{"$f":"IF(AND(E851>G$7,E851<G$8),A851,Sheet1!$Q$22)","v":1.2357642357642198},1.3880841398821335]
[{"$f":"A851+Sheet2!G$5","v":{"v":1.2407592407592247,"d":"1.24"}},2.63562892223937,{"$f":"(B853-B852)/Sheet2!$G$5","v":-0.745791630986378},8.473851822564441,1.353854399252139,{"$nulls":4},{"$f":"IF(AND(E852>G$7,E852<G$8),A852,Sheet1!$Q$22)","v":1.2407592407592247},1.353854399252139]
[{"$f":"A852+Sheet2!G$5","v":{"v":1.2457542457542297,"d":"1.25"}},2.63190368931736,{"$f":"(B854-B853)/Sheet2!$G$5","v":-0.7027202344334433},8.62289358989751,1.3194016940192377,{"$nulls":4},{"$f":"IF(AND(E853>G$7,E853<G$8),A853,Sheet1!$Q$22)","v":1.2457542457542297},1.3194016940192377]
[{"$f":"A853+Sheet2!G$5","v":{"v":1.2507492507492346,"d":"1.25"}},2.628393598236274,{"$f":"(B855-B854)/Sheet2!$G$5","v":-0.65890138248974},8.772534159129423,1.2847260241834277,{"$nulls":4},{"$f":"IF(AND(E854>G$7,E854<G$8),A854,Sheet1!$Q$22)","v":1.2507492507492346},1.2847260241834277]
[{"$f":"A854+Sheet2!G$5","v":{"v":1.2557442557442395,"d":"1.26"}},2.625102382539522,{"$f":"(B856-B855)/Sheet2!$G$5","v":-0.6143320841371477},8.922773530188982,1.2498273897447092,{"$nulls":4},{"$f":"IF(AND(E855>G$7,E855<G$8),A855,Sheet1!$Q$22)","v":1.2557442557442395},1.2498273897447092]
[{"$f":"A855+Sheet2!G$5","v":{"v":1.2607392607392445,"d":"1.26"}},2.622033790710665,{"$f":"(B857-B856)/Sheet2!$G$5","v":-0.569009348357902},9.07361170300499,1.214705790703082,{"$nulls":4},{"$f":"IF(AND(E856>G$7,E856<G$8),A856,Sheet1!$Q$22)","v":1.2607392607392445},1.214705790703082]
[{"$f":"A856+Sheet2!G$5","v":{"v":1.2657342657342494,"d":"1.27"}},2.6191915861734127,{"$f":"(B858-B857)/Sheet2!$G$5","v":-0.5229301841342384},9.22504867757745,1.1793612270585463,{"$nulls":4},{"$f":"IF(AND(E857>G$7,E857<G$8),A857,Sheet1!$Q$22)","v":1.2657342657342494},1.1793612270585463]
[{"$f":"A857+Sheet2!G$5","v":{"v":1.2707292707292543,"d":"1.27"}},2.6165795472916233,{"$f":"(B859-B858)/Sheet2!$G$5","v":-0.476091600447859},9.377084454013154,1.1437936988111037,{"$nulls":4},{"$f":"IF(AND(E858>G$7,E858<G$8),A858,Sheet1!$Q$22)","v":1.2707292707292543},1.1437936988111037]
[{"$f":"A858+Sheet2!G$5","v":{"v":1.2757242757242593,"d":"1.28"}},2.6142014673693064,{"$f":"(B860-B859)/Sheet2!$G$5","v":-0.42849060628099933},9.529719032205309,1.108003205960749,{"$nulls":4},{"$f":"IF(AND(E859>G$7,E859<G$8),A859,Sheet1!$Q$22)","v":1.2757242757242593},1.108003205960749]
[{"$f":"A859+Sheet2!G$5","v":{"v":1.2807192807192642,"d":"1.28"}},2.61206115465062,{"$f":"(B861-B860)/Sheet2!$G$5","v":-0.38012421061553925},9.68295241222511,1.0719897485074927,{"$nulls":4},{"$f":"IF(AND(E860>G$7,E860<G$8),A860,Sheet1!$Q$22)","v":1.2807192807192642},1.0719897485074927]
[{"$f":"A860+Sheet2!G$5","v":{"v":1.2857142857142692,"d":"1.29"}},2.610162432319873,{"$f":"(B862-B861)/Sheet2!$G$5","v":-0.33098942243371426},9.83678459400136,1.0357533264513226,{"$nulls":4},{"$f":"IF(AND(E861>G$7,E861<G$8),A861,Sheet1!$Q$22)","v":1.2857142857142692},1.0357533264513226]
[{"$f":"A861+Sheet2!G$5","v":{"v":1.290709290709274,"d":"1.29"}},2.608509138501523,{"$f":"(B863-B862)/Sheet2!$G$5","v":-0.28108325071704865},9.991215577676455,0.9992939397922438,{"$nulls":4},{"$f":"IF(AND(E862>G$7,E862<G$8),A862,Sheet1!$Q$22)","v":1.290709290709274},0.9992939397922438]
[{"$f":"A862+Sheet2!G$5","v":{"v":1.295704295704279,"d":"1.30"}},2.607105126260179,{"$f":"(B864-B863)/Sheet2!$G$5","v":-0.23040270444848918},10.146245362965606,0.96261158853026,{"$nulls":4},{"$f":"IF(AND(E863>G$7,E863<G$8),A863,Sheet1!$Q$22)","v":1.295704295704279},0.96261158853026]
[{"$f":"A863+Sheet2!G$5","v":{"v":1.300699300699284,"d":"1.30"}},2.605954263600596,{"$f":"(B865-B864)/Sheet2!$G$5","v":-0.17894479260902668},10.301873950260395,0.9257062726653658,{"$nulls":4},{"$f":"IF(AND(E864>G$7,E864<G$8),A864,Sheet1!$Q$22)","v":1.300699300699284},0.9257062726653658]
[{"$f":"A864+Sheet2!G$5","v":{"v":1.305694305694289,"d":"1.31"}},2.605060433467684,{"$f":"(B866-B865)/Sheet2!$G$5","v":-0.12670652418125225},10.458101339240438,0.888577992197563,{"$nulls":4},{"$f":"IF(AND(E865>G$7,E865<G$8),A865,Sheet1!$Q$22)","v":1.305694305694289},0.888577992197563]
[{"$f":"A865+Sheet2!G$5","v":{"v":1.3106893106892938,"d":"1.31"}},2.604427533746499,{"$f":"(B867-B866)/Sheet2!$G$5","v":-0.07368490814740145},10.614927529976931,0.8512267471268515,{"$nulls":4},{"$f":"IF(AND(E866>G$7,E866<G$8),A866,Sheet1!$Q$22)","v":1.3106893106892938},0.8512267471268515]
[{"$f":"A866+Sheet2!G$5","v":{"v":1.3156843156842988,"d":"1.32"}},2.604059477262246,{"$f":"(B868-B867)/Sheet2!$G$5","v":-0.019876953488998518},10.772352522612268,0.8136525374532333,{"$nulls":4},{"$f":"IF(AND(E867>G$7,E867<G$8),A867,Sheet1!$Q$22)","v":1.3156843156842988},0.8136525374532333]
[{"$f":"A867+Sheet2!G$5","v":{"v":1.3206793206793037,"d":"1.32"}},2.603960191780283,{"$f":"(B869-B868)/Sheet2!$G$5","v":0.03472033081189885},10.930376317039652,0.7758553631767047,{"$nulls":4},{"$f":"IF(AND(E868>G$7,E868<G$8),A868,Sheet1!$Q$22)","v":1.3206793206793037},0.7758553631767047]
[{"$f":"A868+Sheet2!G$5","v":{"v":1.3256743256743087,"d":"1.33"}},2.6041336200061167,{"$f":"(B870-B869)/Sheet2!$G$5","v":0.09010993577234387},11.088998913081095,0.7378352242972692,{"$nulls":4},{"$f":"IF(AND(E869>G$7,E869<G$8),A869,Sheet1!$Q$22)","v":1.3256743256743087},0.7378352242972692]
[{"$f":"A869+Sheet2!G$5","v":{"v":1.3306693306693136,"d":"1.33"}},2.604583719585399,{"$f":"(B871-B870)/Sheet2!$G$5","v":0.14629485241170137},11.24822031119937,0.6995921208149252,{"$nulls":4},{"$f":"IF(AND(E870>G$7,E870<G$8),A870,Sheet1!$Q$22)","v":1.3306693306693136},0.6995921208149252]
[{"$f":"A870+Sheet2!G$5","v":{"v":1.3356643356643185,"d":"1.34"}},2.605314463103939,{"$f":"(B872-B871)/Sheet2!$G$5","v":0.20327807174702456},11.408040510931706,0.6611260527296743,{"$nulls":4},{"$f":"IF(AND(E871>G$7,E871<G$8),A871,Sheet1!$Q$22)","v":1.3356643356643185},0.6611260527296743]
[{"$f":"A871+Sheet2!G$5","v":{"v":1.3406593406593235,"d":"1.34"}},2.6063298380876905,{"$f":"(B873-B872)/Sheet2!$G$5","v":0.26106258479678923},11.568459512562882,0.6224370200415112,{"$nulls":4},{"$f":"IF(AND(E872>G$7,E872<G$8),A872,Sheet1!$Q$22)","v":1.3406593406593235},0.6224370200415112]
[{"$f":"A872+Sheet2!G$5","v":{"v":1.3456543456543284,"d":"1.35"}},2.6076338470027594,{"$f":"(B874-B873)/Sheet2!$G$5","v":0.31965138257804854},11.729477315808115,0.5835250227504449,{"$nulls":4},{"$f":"IF(AND(E873>G$7,E873<G$8),A873,Sheet1!$Q$22)","v":1.3456543456543284},0.5835250227504449]
[{"$f":"A873+Sheet2!G$5","v":{"v":1.3506493506493333,"d":"1.35"}},2.609230507255397,{"$f":"(B875-B874)/Sheet2!$G$5","v":0.3790474561101673},11.891093921130183,0.5443900608564647,{"$nulls":4},{"$f":"IF(AND(E874>G$7,E874<G$8),A874,Sheet1!$Q$22)","v":1.3506493506493333},0.5443900608564647]
[{"$f":"A874+Sheet2!G$5","v":{"v":1.3556443556443383,"d":"1.36"}},2.611123851192011,{"$f":"(B876-B875)/Sheet2!$G$5","v":0.43925379641002105},12.05330932803071,0.5050321343595794,{"$nulls":4},{"$f":"IF(AND(E875>G$7,E875<G$8),A875,Sheet1!$Q$22)","v":1.3556443556443383},0.5050321343595794]
[{"$f":"A875+Sheet2!G$5","v":{"v":1.3606393606393432,"d":"1.36"}},2.613317926099154,{"$f":"(B877-B876)/Sheet2!$G$5","v":0.5002733944957297},12.216123536758886,0.4654512432597855,{"$nulls":4},{"$f":"IF(AND(E876>G$7,E876<G$8),A876,Sheet1!$Q$22)","v":1.3606393606393432},0.4654512432597855]
[{"$f":"A876+Sheet2!G$5","v":{"v":1.3656343656343481,"d":"1.37"}},2.6158167942035284,{"$f":"(B878-B877)/Sheet2!$G$5","v":0.5621092413857692},12.379536547385902,0.4256473875570812,{"$nulls":4},{"$f":"IF(AND(E877>G$7,E877<G$8),A877,Sheet1!$Q$22)","v":1.3656343656343481},0.4256473875570812]
[{"$f":"A877+Sheet2!G$5","v":{"v":1.370629370629353,"d":"1.37"}},2.618624532671989,{"$f":"(B879-B878)/Sheet2!$G$5","v":0.6247643280979039},12.54354835976937,0.38562056725147187,{"$nulls":4},{"$f":"IF(AND(E878>G$7,E878<G$8),A878,Sheet1!$Q$22)","v":1.370629370629353},0.38562056725147187]
[{"$f":"A878+Sheet2!G$5","v":{"v":1.375624375624358,"d":"1.38"}},2.6217452336115388,{"$f":"(B880-B879)/Sheet2!$G$5","v":0.688241645649365},12.708158973802492,0.3453707823429504,{"$nulls":4},{"$f":"IF(AND(E879>G$7,E879<G$8),A879,Sheet1!$Q$22)","v":1.375624375624358},0.3453707823429504]
[{"$f":"A879+Sheet2!G$5","v":{"v":1.380619380619363,"d":"1.38"}},2.625183004069328,{"$f":"(B881-B880)/Sheet2!$G$5","v":0.752544185059517},12.87336838991245,0.30489803283152384,{"$nulls":4},{"$f":"IF(AND(E880>G$7,E880<G$8),A880,Sheet1!$Q$22)","v":1.380619380619363},0.30489803283152384]
[{"$f":"A880+Sheet2!G$5","v":{"v":1.385614385614368,"d":"1.39"}},2.628941966032662,{"$f":"(B882-B881)/Sheet2!$G$5","v":0.8176749373454134},13.039176607636463,0.26420231871718514,{"$nulls":4},{"$f":"IF(AND(E881>G$7,E881<G$8),A881,Sheet1!$Q$22)","v":1.385614385614368},0.26420231871718514]
[{"$f":"A881+Sheet2!G$5","v":{"v":1.3906093906093728,"d":"1.39"}},2.633026256428993,{"$f":"(B883-B882)/Sheet2!$G$5","v":0.8836368935249965},13.205583627152526,0.22328363999994139,{"$nulls":4},{"$f":"IF(AND(E882>G$7,E882<G$8),A882,Sheet1!$Q$22)","v":1.3906093906093728},0.22328363999994139]
[{"$f":"A882+Sheet2!G$5","v":{"v":1.3956043956043778,"d":"1.40"}},2.637440027125921,{"$f":"(B884-B883)/Sheet2!$G$5","v":0.9504330446162085},13.372589448460637,0.18214199667978903,{"$nulls":4},{"$f":"IF(AND(E883>G$7,E883<G$8),A883,Sheet1!$Q$22)","v":1.3956043956043778},0.18214199667978903]
[{"$f":"A883+Sheet2!G$5","v":{"v":1.4005994005993827,"d":"1.40"}},2.6421874449311966,{"$f":"(B885-B884)/Sheet2!$G$5","v":1.018066381637525},13.540194071667592,0.1407773887567263,{"$nulls":4},{"$f":"IF(AND(E884>G$7,E884<G$8),A884,Sheet1!$Q$22)","v":1.4005994005993827},0.1407773887567263]
[{"$f":"A884+Sheet2!G$5","v":{"v":1.4055944055943876,"d":"1.41"}},2.6472726915927227,{"$f":"(B886-B885)/Sheet2!$G$5","v":1.086539895606711},13.708397496630997,0.09918981623075851,{"$nulls":4},{"$f":"IF(AND(E885>G$7,E885<G$8),A885,Sheet1!$Q$22)","v":1.4055944055943876},0.09918981623075851]
[{"$f":"A885+Sheet2!G$5","v":{"v":1.4105894105893926,"d":"1.41"}},2.6526999637985504,{"$f":"(B887-B886)/Sheet2!$G$5","v":1.1558565775413525},13.877199723315252,0.057379279101878566,{"$nulls":4},{"$f":"IF(AND(E886>G$7,E886<G$8),A886,Sheet1!$Q$22)","v":1.4105894105893926},0.057379279101878566]
[{"$f":"A886+Sheet2!G$5","v":{"v":1.4155844155843975,"d":"1.42"}},2.658473473176879,{"$f":"(B888-B887)/Sheet2!$G$5","v":1.2260194184604591},14.046600752005148,0.015345777370093572,{"$nulls":4},{"$f":"IF(AND(E887>G$7,E887<G$8),A887,Sheet1!$Q$22)","v":1.4155844155843975},0.015345777370093572]
[{"$f":"A887+Sheet2!G$5","v":{"v":1.4205794205794025,"d":"1.42"}},2.664597446296062,{"$f":"(B889-B888)/Sheet2!$G$5","v":1.2970314093798394},14.216600582059911,-0.026910688964601803,{"$nulls":4},{"$f":"IF(AND(E888>G$7,E888<G$8),A888,Sheet1!$Q$22)","v":1.4205794205794025},-0.026910688964601803]
[{"$f":"A888+Sheet2!G$5","v":{"v":1.4255744255744074,"d":"1.43"}},2.6710761246645927,{"$f":"(B890-B889)/Sheet2!$G$5","v":1.3688955413204582},14.387199214511893,-0.06939011990220578,{"$nulls":4},{"$f":"IF(AND(E889>G$7,E889<G$8),A889,Sheet1!$Q$22)","v":1.4255744255744074},-0.06939011990220578]
[{"$f":"A889+Sheet2!G$5","v":{"v":1.4305694305694123,"d":"1.43"}},2.6779137647311284,{"$f":"(B891-B890)/Sheet2!$G$5","v":1.4416148052979465},14.558396648293147,-0.11209251544271659,{"$nulls":4},{"$f":"IF(AND(E890>G$7,E890<G$8),A890,Sheet1!$Q$22)","v":1.4305694305694123},-0.11209251544271659]
[{"$f":"A890+Sheet2!G$5","v":{"v":1.4355644355644173,"d":"1.44"}},2.685114637884465,{"$f":"(B892-B891)/Sheet2!$G$5","v":1.5151921923309577},14.730192884008842,-0.155017875586136,{"$nulls":4},{"$f":"IF(AND(E891>G$7,E891<G$8),A891,Sheet1!$Q$22)","v":1.4355644355644173},-0.155017875586136]
[{"$f":"A891+Sheet2!G$5","v":{"v":1.4405594405594222,"d":"1.44"}},2.6926830304535505,{"$f":"(B893-B892)/Sheet2!$G$5","v":1.5896306934376119},14.902587921552184,-0.1981662003324658,{"$nulls":4},{"$f":"IF(AND(E892>G$7,E892<G$8),A892,Sheet1!$Q$22)","v":1.4405594405594222},-0.1981662003324658]
[{"$f":"A892+Sheet2!G$5","v":{"v":1.4455544455544271,"d":"1.45"}},2.7006232437074846,{"$f":"(B894-B893)/Sheet2!$G$5","v":1.6649332996358515},15.075581760887575,-0.24153748968170063,{"$nulls":4},{"$f":"IF(AND(E893>G$7,E893<G$8),A893,Sheet1!$Q$22)","v":1.4455544455544271},-0.24153748968170063]
[{"$f":"A893+Sheet2!G$5","v":{"v":1.450549450549432,"d":"1.45"}},2.708939593855516,{"$f":"(B895-B894)/Sheet2!$G$5","v":1.7411030019436189},15.249174402015013,-0.28513174363384763,{"$nulls":4},{"$f":"IF(AND(E894>G$7,E894<G$8),A894,Sheet1!$Q$22)","v":1.450549450549432},-0.28513174363384763]
[{"$f":"A894+Sheet2!G$5","v":{"v":1.455544455544437,"d":"1.46"}},2.7176364120470424,{"$f":"(B896-B895)/Sheet2!$G$5","v":1.8181427913790338},15.423365844970098,-0.32894896218890146,{"$nulls":4},{"$f":"IF(AND(E895>G$7,E895<G$8),A895,Sheet1!$Q$22)","v":1.455544455544437},-0.32894896218890146]
[{"$f":"A895+Sheet2!G$5","v":{"v":1.460539460539442,"d":"1.46"}},2.726718044371613,{"$f":"(B897-B896)/Sheet2!$G$5","v":1.8960556589598612},15.598156089681634,-0.3729891453468639,{"$nulls":4},{"$f":"IF(AND(E896>G$7,E896<G$8),A896,Sheet1!$Q$22)","v":1.460539460539442},-0.3729891453468639]
[{"$f":"A896+Sheet2!G$5","v":{"v":1.4655344655344469,"d":"1.47"}},2.736188851858925,{"$f":"(B898-B897)/Sheet2!$G$5","v":1.9748445957042209},15.773545136220816,-0.41725229310773315,{"$nulls":4},{"$f":"IF(AND(E897>G$7,E897<G$8),A897,Sheet1!$Q$22)","v":1.4655344655344469},-0.41725229310773315]
[{"$f":"A897+Sheet2!G$5","v":{"v":1.4705294705294518,"d":"1.47"}},2.7460532104788262,{"$f":"(B899-B898)/Sheet2!$G$5","v":2.054512592629344},15.949532984409654,-0.461738405471511,{"$nulls":4},{"$f":"IF(AND(E898>G$7,E898<G$8),A898,Sheet1!$Q$22)","v":1.4705294705294518},-0.461738405471511]
[{"$f":"A898+Sheet2!G$5","v":{"v":1.4755244755244568,"d":"1.48"}},{"$f":"x^4-5*x^2+4*x+3","v":2.7563155111413105},{"$f":"(B900-B899)/Sheet2!$G$5","v":2.1350626407544175},16.12611963463973,-0.5064474824381993,{"$nulls":4},{"$f":"IF(AND(E899>G$7,E899<G$8),A899,Sheet1!$Q$22)","v":1.4755244755244568},-0.5064474824381993]
[{"$f":"A899+Sheet2!G$5","v":{"v":1.4805194805194617,"d":"1.48"}},2.7669801596965273,{"$f":"(B901-B900)/Sheet2!$G$5","v":2.2164977310966725},16.303305086519455,{"$f":"G$10+G$11*(A900-G$9)+G$12*(A900-G$9)^2/2","v":-0.5513795240077926},{"$nulls":4},{"$f":"IF(AND(E900>G$7,E900<G$8),A900,Sheet1!$Q$22)","v":1.4805194805194617},{"$f":"IF(AND(E900>G$7,E900<G$8),E900,G$10)","v":-0.5513795240077926}]
[{"$f":"A900+Sheet2!G$5","v":{"v":1.4855144855144666,"d":"1.49"}},2.7780515769347724,{"$f":"(B902-B901)/Sheet2!$G$5","v":2.2988208546742293},{"$f":"(B902-2*B901+B900)/G$5^2","v":16.48108934022683},-0.596534530180298,{"$nulls":4},{"$f":"IF(AND(E901>G$7,E901<G$8),A901,Sheet1!$Q$22)","v":1.4855144855144666},-0.596534530180298]
[{"$f":"A901+Sheet2!G$5","v":{"v":1.4905094905094716,"d":"1.49"}},2.789534198586492,{"$f":"(B903-B902)/Sheet2!$G$5","v":2.3820350025050296},16.659472395726254,-0.6419125009557121,{"$nulls":4},{"$f":"IF(AND(E902>G$7,E902<G$8),A902,Sheet1!$Q$22)","v":1.4905094905094716},-0.6419125009557121]
[{"$f":"A902+Sheet2!G$5","v":{"v":1.4955044955044765,"d":"1.50"}},2.8014324753222812,{"$f":"(B904-B903)/Sheet2!$G$5","v":2.4661431656071944},16.838454253053328,-0.6875134363340312,{"$nulls":4},{"$f":"IF(AND(E903>G$7,E903<G$8),A903,Sheet1!$Q$22)","v":1.4955044955044765},-0.6875134363340312]
[{"$f":"A903+Sheet2!G$5","v":{"v":1.5004995004994814,"d":"1.50"}},2.8137508727528866,{"$f":"(B905-B904)/Sheet2!$G$5","v":2.551148334998487},17.018034912136848,-0.7333373363152607,{"$nulls":4},{"$f":"IF(AND(E904>G$7,E904<G$8),A904,Sheet1!$Q$22)","v":1.5004995004994814},-0.7333373363152607]
[{"$f":"A904+Sheet2!G$5","v":{"v":1.5054945054944864,"d":"1.51"}},2.8264938714292027,{"$f":"(B906-B905)/Sheet2!$G$5","v":2.6370535016970287},17.198214373048017,-0.779384200899397,{"$nulls":4},{"$f":"IF(AND(E905>G$7,E905<G$8),A905,Sheet1!$Q$22)","v":1.5054945054944864},-0.779384200899397]
[{"$f":"A905+Sheet2!G$5","v":{"v":1.5104895104894913,"d":"1.51"}},2.839665966842275,{"$f":"(B907-B906)/Sheet2!$G$5","v":2.723861656720583},17.378992635715633,-0.8256540300864437,{"$nulls":4},{"$f":"IF(AND(E906>G$7,E906<G$8),A906,Sheet1!$Q$22)","v":1.5104895104894913},-0.8256540300864437]
[{"$f":"A906+Sheet2!G$5","v":{"v":1.5154845154844963,"d":"1.52"}},2.8532716694232967,{"$f":"(B908-B907)/Sheet2!$G$5","v":2.811575791087449},17.560369700246497,-0.872146823876399,{"$nulls":4},{"$f":"IF(AND(E907>G$7,E907<G$8),A907,Sheet1!$Q$22)","v":1.5154845154844963},-0.872146823876399]
[{"$f":"A907+Sheet2!G$5","v":{"v":1.5204795204795012,"d":"1.52"}},2.8673155045436136,{"$f":"(B909-B908)/Sheet2!$G$5","v":2.90019889581539},17.74234556653381,-0.9188625822692611,{"$nulls":4},{"$f":"IF(AND(E908>G$7,E908<G$8),A908,Sheet1!$Q$22)","v":1.5204795204795012},-0.9188625822692611]
[{"$f":"A908+Sheet2!G$5","v":{"v":1.5254745254745061,"d":"1.53"}},2.8818020125147195,{"$f":"(B910-B909)/Sheet2!$G$5","v":2.989733961922171},17.924920234577574,-0.9658013052650318,{"$nulls":4},{"$f":"IF(AND(E909>G$7,E909<G$8),A909,Sheet1!$Q$22)","v":1.5254745254745061},-0.9658013052650318]
[{"$f":"A909+Sheet2!G$5","v":{"v":1.530469530469511,"d":"1.53"}},2.8967357485882568,{"$f":"(B911-B910)/Sheet2!$G$5","v":3.08018398042609},18.10809370448458,-1.0129629928637094,{"$nulls":4},{"$f":"IF(AND(E910>G$7,E910<G$8),A910,Sheet1!$Q$22)","v":1.530469530469511},-1.0129629928637094]
[{"$f":"A910+Sheet2!G$5","v":{"v":1.535464535464516,"d":"1.54"}},2.9121212829560195,{"$f":"(B912-B911)/Sheet2!$G$5","v":3.171551942345445},18.291865976254833,-1.0603476450652973,{"$nulls":4},{"$f":"IF(AND(E911>G$7,E911<G$8),A911,Sheet1!$Q$22)","v":1.535464535464516},-1.0603476450652973]
[{"$f":"A911+Sheet2!G$5","v":{"v":1.540459540459521,"d":"1.54"}},2.9279632007499528,{"$f":"(B913-B912)/Sheet2!$G$5","v":3.2638408386967552},18.47623704953235,-1.1079552618697939,{"$nulls":4},{"$f":"IF(AND(E912>G$7,E912<G$8),A912,Sheet1!$Q$22)","v":1.540459540459521},-1.1079552618697939]
[{"$f":"A912+Sheet2!G$5","v":{"v":1.5454545454545259,"d":"1.55"}},2.9442661020421443,{"$f":"(B914-B913)/Sheet2!$G$5","v":3.357053660500453},18.661206925100288,-1.155785843277199,{"$nulls":4},{"$f":"IF(AND(E913>G$7,E913<G$8),A913,Sheet1!$Q$22)","v":1.5454545454545259},-1.155785843277199]
[{"$f":"A913+Sheet2!G$5","v":{"v":1.5504495504495308,"d":"1.55"}},2.961034601844844,{"$f":"(B915-B914)/Sheet2!$G$5","v":3.4511933987718133},18.846775601926304,-1.203839389287511,{"$nulls":4},{"$f":"IF(AND(E914>G$7,E914<G$8),A914,Sheet1!$Q$22)","v":1.5504495504495308},-1.203839389287511]
[{"$f":"A914+Sheet2!G$5","v":{"v":1.5554445554445357,"d":"1.56"}},2.9782733301104374,{"$f":"(B916-B915)/Sheet2!$G$5","v":3.546263044530378},19.03294308086475,-1.2521158999007298,{"$nulls":4},{"$f":"IF(AND(E915>G$7,E915<G$8),A915,Sheet1!$Q$22)","v":1.5554445554445357},-1.2521158999007298]
[{"$f":"A915+Sheet2!G$5","v":{"v":1.5604395604395407,"d":"1.56"}},2.9959869317314682,{"$f":"(B917-B916)/Sheet2!$G$5","v":3.6422655887942685},19.219709361630844,-1.3006153751168625,{"$nulls":4},{"$f":"IF(AND(E916>G$7,E916<G$8),A916,Sheet1!$Q$22)","v":1.5604395604395407},-1.3006153751168625]
[{"$f":"A916+Sheet2!G$5","v":{"v":1.5654345654345456,"d":"1.57"}},3.0141800665406304,{"$f":"(B918-B917)/Sheet2!$G$5","v":3.739204022580715},19.407074444046593,-1.3493378149359003,{"$nulls":4},{"$f":"IF(AND(E917>G$7,E917<G$8),A917,Sheet1!$Q$22)","v":1.5654345654345456},-1.3493378149359003]
[{"$f":"A917+Sheet2!G$5","v":{"v":1.5704295704295506,"d":"1.57"}},3.032857409310764,{"$f":"(B919-B918)/Sheet2!$G$5","v":3.8370813369076604},19.59503832825439,-1.398283219357845,{"$nulls":4},{"$f":"IF(AND(E918>G$7,E918<G$8),A918,Sheet1!$Q$22)","v":1.5704295704295506},-1.398283219357845]
[{"$f":"A918+Sheet2!G$5","v":{"v":1.5754245754245555,"d":"1.58"}},3.052023649754858,{"$f":"(B920-B919)/Sheet2!$G$5","v":3.9359005227935793},19.78360101436103,-1.4474515883827017,{"$nulls":4},{"$f":"IF(AND(E919>G$7,E919<G$8),A919,Sheet1!$Q$22)","v":1.5754245754245555},-1.4474515883827017]
[{"$f":"A919+Sheet2!G$5","v":{"v":1.5804195804195604,"d":"1.58"}},3.0716834925260548,{"$f":"(B921-B920)/Sheet2!$G$5","v":4.035664571256415},19.97276250225972,-1.4968429220104653,{"$nulls":4},{"$f":"IF(AND(E920>G$7,E920<G$8),A920,Sheet1!$Q$22)","v":1.5804195804195604},-1.4968429220104653]
[{"$f":"A920+Sheet2!G$5","v":{"v":1.5854145854145654,"d":"1.59"}},3.0918416572176453,{"$f":"(B922-B921)/Sheet2!$G$5","v":4.136376473313932},20.162522791914856,-1.5464572202411357,{"$nulls":4},{"$f":"IF(AND(E921>G$7,E921<G$8),A921,Sheet1!$Q$22)","v":1.5854145854145654},-1.5464572202411357]
[{"$f":"A921+Sheet2!G$5","v":{"v":1.5904095904095703,"d":"1.59"}},3.1125028783630695,{"$f":"(B923-B922)/Sheet2!$G$5","v":4.238039219983716},20.35288188329085,-1.5962944830747166,{"$nulls":4},{"$f":"IF(AND(E922>G$7,E922<G$8),A922,Sheet1!$Q$22)","v":1.5904095904095703},-1.5962944830747166]
[{"$f":"A922+Sheet2!G$5","v":{"v":1.5954045954045752,"d":"1.60"}},3.1336719054359152,{"$f":"(B924-B923)/Sheet2!$G$5","v":4.3406558022846},20.54383977663688,-1.6463547105112024,{"$nulls":4},{"$f":"IF(AND(E923>G$7,E923<G$8),A923,Sheet1!$Q$22)","v":1.5954045954045752},-1.6463547105112024]
[{"$f":"A923+Sheet2!G$5","v":{"v":1.6003996003995802,"d":"1.60"}},3.155353502849924,{"$f":"(B925-B924)/Sheet2!$G$5","v":4.444229211233991},20.735396471668164,-1.6966379025506022,{"$nulls":4},{"$f":"IF(AND(E924>G$7,E924<G$8),A924,Sheet1!$Q$22)","v":1.6003996003995802},-1.6966379025506022]
[{"$f":"A924+Sheet2!G$5","v":{"v":1.6053946053945851,"d":"1.61"}},3.177552449958985,{"$f":"(B926-B925)/Sheet2!$G$5","v":4.54876243785001},20.927551968527094,-1.747144059192907,{"$nulls":4},{"$f":"IF(AND(E925>G$7,E925<G$8),A925,Sheet1!$Q$22)","v":1.6053946053945851},-1.747144059192907]
[{"$f":"A925+Sheet2!G$5","v":{"v":1.61038961038959,"d":"1.61"}},3.200273541057137,{"$f":"(B927-B926)/Sheet2!$G$5","v":4.654258473150422},21.120306267142475,-1.7978731804381187,{"$nulls":4},{"$f":"IF(AND(E926>G$7,E926<G$8),A926,Sheet1!$Q$22)","v":1.61038961038959},-1.7978731804381187]
[{"$f":"A926+Sheet2!G$5","v":{"v":1.615384615384595,"d":"1.62"}},3.2235215853785677,{"$f":"(B928-B927)/Sheet2!$G$5","v":4.760720308153347},21.313659367585505,-1.8488252662862408,{"$nulls":4},{"$f":"IF(AND(E927>G$7,E927<G$8),A927,Sheet1!$Q$22)","v":1.615384615384595},-1.8488252662862408]
[{"$f":"A927+Sheet2!G$5","v":{"v":1.6203796203796,"d":"1.62"}},3.2473014070976154,{"$f":"(B929-B928)/Sheet2!$G$5","v":4.868150933876727},21.50761126982058,-1.9000003167372697,{"$nulls":4},{"$f":"IF(AND(E928>G$7,E928<G$8),A928,Sheet1!$Q$22)","v":1.6203796203796},-1.9000003167372697]
[{"$f":"A928+Sheet2!G$5","v":{"v":1.6253746253746049,"d":"1.63"}},3.271617845328768,{"$f":"(B930-B929)/Sheet2!$G$5","v":4.976553341339037},21.7021619739545,-1.951398331791209,{"$nulls":4},{"$f":"IF(AND(E929>G$7,E929<G$8),A929,Sheet1!$Q$22)","v":1.6253746253746049},-1.951398331791209]
[{"$f":"A929+Sheet2!G$5","v":{"v":1.6303696303696098,"d":"1.63"}},3.296475754126665,{"$f":"(B931-B930)/Sheet2!$G$5","v":5.085930521557153},21.897311479666875,-2.0030193114480532,{"$nulls":4},{"$f":"IF(AND(E930>G$7,E930<G$8),A930,Sheet1!$Q$22)","v":1.6303696303696098},-2.0030193114480532]
[{"$f":"A930+Sheet2!G$5","v":{"v":1.6353646353646147,"d":"1.64"}},3.3218800024860915,{"$f":"(B932-B931)/Sheet2!$G$5","v":5.1962854655504405},22.093059787456088,-2.0548632557078115,{"$nulls":4},{"$f":"IF(AND(E931>G$7,E931<G$8),A931,Sheet1!$Q$22)","v":1.6353646353646147},-2.0548632557078115]
[{"$f":"A931+Sheet2!G$5","v":{"v":1.6403596403596197,"d":"1.64"}},3.347835474341988,{"$f":"(B933-B932)/Sheet2!$G$5","v":5.307621164335418},22.289406896752563,-2.106930164570473,{"$nulls":4},{"$f":"IF(AND(E932>G$7,E932<G$8),A932,Sheet1!$Q$22)","v":1.6403596403596197},-2.106930164570473]
[{"$f":"A932+Sheet2!G$5","v":{"v":1.6453546453546246,"d":"1.65"}},3.3743470685694374,{"$f":"(B934-B933)/Sheet2!$G$5","v":5.419940608930562},22.486352807947885,-2.159220038036045,{"$nulls":4},{"$f":"IF(AND(E933>G$7,E933<G$8),A933,Sheet1!$Q$22)","v":1.6453546453546246},-2.159220038036045]
[{"$f":"A933+Sheet2!G$5","v":{"v":1.6503496503496295,"d":"1.65"}},3.401419698983676,{"$f":"(B935-B934)/Sheet2!$G$5","v":5.5332467903547045},22.68389752111324,-2.211732876104527,{"$nulls":4},{"$f":"IF(AND(E934>G$7,E934<G$8),A934,Sheet1!$Q$22)","v":1.6503496503496295},-2.211732876104527]
[{"$f":"A934+Sheet2!G$5","v":{"v":1.6553446553446345,"d":"1.66"}},3.429058294340093,{"$f":"(B936-B935)/Sheet2!$G$5","v":5.647542699625076},22.882041035928253,-2.2644686787759145,{"$nulls":4},{"$f":"IF(AND(E935>G$7,E935<G$8),A935,Sheet1!$Q$22)","v":1.6553446553446345},-2.2644686787759145]
[{"$f":"A935+Sheet2!G$5","v":{"v":1.6603396603396394,"d":"1.66"}},3.4572677983342244,{"$f":"(B937-B936)/Sheet2!$G$5","v":5.762831327759439},23.08078335249972,-2.3174274460502087,{"$nulls":4},{"$f":"IF(AND(E936>G$7,E936<G$8),A936,Sheet1!$Q$22)","v":1.6603396603396394},-2.3174274460502087]
[{"$f":"A936+Sheet2!G$5","v":{"v":1.6653346653346444,"d":"1.67"}},3.486053169601754,{"$f":"(B938-B937)/Sheet2!$G$5","v":5.879115665776273},23.280124470970026,-2.3706091779274168,{"$nulls":4},{"$f":"IF(AND(E937>G$7,E937<G$8),A937,Sheet1!$Q$22)","v":1.6653346653346444},-2.3706091779274168]
[{"$f":"A937+Sheet2!G$5","v":{"v":1.6703296703296493,"d":"1.67"}},3.5154193817185186,{"$f":"(B939-B938)/Sheet2!$G$5","v":5.996398704692451},23.48006439101879,-2.424013874407528,{"$nulls":4},{"$f":"IF(AND(E938>G$7,E938<G$8),A938,Sheet1!$Q$22)","v":1.6703296703296493},-2.424013874407528]
[{"$f":"A938+Sheet2!G$5","v":{"v":1.6753246753246542,"d":"1.68"}},3.545371423200499,{"$f":"(B940-B939)/Sheet2!$G$5","v":6.1146834355280495},23.680603113286782,-2.4776415354905534,{"$nulls":4},{"$f":"IF(AND(E939>G$7,E939<G$8),A939,Sheet1!$Q$22)","v":1.6753246753246542},-2.4776415354905534]
[{"$f":"A939+Sheet2!G$5","v":{"v":1.6803196803196592,"d":"1.68"}},3.575914297503836,{"$f":"(B941-B940)/Sheet2!$G$5","v":6.233972849298876},23.881740636919645,-2.531492161176484,{"$nulls":4},{"$f":"IF(AND(E940>G$7,E940<G$8),A940,Sheet1!$Q$22)","v":1.6803196803196592},-2.531492161176484]
[{"$f":"A940+Sheet2!G$5","v":{"v":1.685314685314664,"d":"1.69"}},3.6070530230248092,{"$f":"(B942-B941)/Sheet2!$G$5","v":6.354269937024298},24.083476962629344,-2.5855657514653245,{"$nulls":4},{"$f":"IF(AND(E941>G$7,E941<G$8),A941,Sheet1!$Q$22)","v":1.685314685314664},-2.5855657514653245]
[{"$f":"A941+Sheet2!G$5","v":{"v":1.690309690309669,"d":"1.69"}},3.6387926330998557,{"$f":"(B943-B942)/Sheet2!$G$5","v":6.475577689721544},24.285812089988696,-2.639862306357072,{"$nulls":4},{"$f":"IF(AND(E942>G$7,E942<G$8),A942,Sheet1!$Q$22)","v":1.690309690309669},-2.639862306357072]
[{"$f":"A942+Sheet2!G$5","v":{"v":1.695304695304674,"d":"1.70"}},3.6711381760055577,{"$f":"(B944-B943)/Sheet2!$G$5","v":6.597899098409091},24.488746019246893,-2.694381825851723,{"$nulls":4},{"$f":"IF(AND(E943>G$7,E943<G$8),A943,Sheet1!$Q$22)","v":1.695304695304674},-2.694381825851723]
[{"$f":"A943+Sheet2!G$5","v":{"v":1.700299700299679,"d":"1.70"}},3.70409471495865,{"$f":"(B945-B944)/Sheet2!$G$5","v":6.721237154104347},24.69227875019034,-2.7491243099492877,{"$nulls":4},{"$f":"IF(AND(E944>G$7,E944<G$8),A944,Sheet1!$Q$22)","v":1.700299700299679},-2.7491243099492877]
[{"$f":"A944+Sheet2!G$5","v":{"v":1.7052947052946839,"d":"1.71"}},3.7376673281160144,{"$f":"(B946-B945)/Sheet2!$G$5","v":6.845594847825789},24.896410283032633,-2.804089758649761,{"$nulls":4},{"$f":"IF(AND(E945>G$7,E945<G$8),A945,Sheet1!$Q$22)","v":1.7052947052946839},-2.804089758649761]
[{"$f":"A945+Sheet2!G$5","v":{"v":1.7102897102896888,"d":"1.71"}},3.7718611085746847,{"$f":"(B947-B946)/Sheet2!$G$5","v":6.97097517059118},25.101140617631376,-2.8592781719531413,{"$nulls":4},{"$f":"IF(AND(E946>G$7,E946<G$8),A946,Sheet1!$Q$22)","v":1.7102897102896888},-2.8592781719531413]
[{"$f":"A946+Sheet2!G$5","v":{"v":1.7152847152846937,"d":"1.72"}},3.8066811643718435,{"$f":"(B948-B947)/Sheet2!$G$5","v":7.0973811134179305},25.306469753915373,-2.914689549859432,{"$nulls":4},{"$f":"IF(AND(E947>G$7,E947<G$8),A947,Sheet1!$Q$22)","v":1.7152847152846937},-2.914689549859432]
[{"$f":"A947+Sheet2!G$5","v":{"v":1.7202797202796987,"d":"1.72"}},3.84213261848482,{"$f":"(B949-B948)/Sheet2!$G$5","v":7.224815667326293},25.512397692454194,-2.9703238923686257,{"$nulls":4},{"$f":"IF(AND(E948>G$7,E948<G$8),A948,Sheet1!$Q$22)","v":1.7202797202796987},-2.9703238923686257]
[{"$f":"A948+Sheet2!G$5","v":{"v":1.7252747252747036,"d":"1.73"}},3.8782206088311053,{"$f":"(B950-B949)/Sheet2!$G$5","v":7.353281823330121},25.718924431966304,-3.026181199480737,{"$nulls":4},{"$f":"IF(AND(E949>G$7,E949<G$8),A949,Sheet1!$Q$22)","v":1.7252747252747036},-3.026181199480737]
[{"$f":"A949+Sheet2!G$5","v":{"v":1.7302697302697085,"d":"1.73"}},3.9149502882683187,{"$f":"(B951-B950)/Sheet2!$G$5","v":7.482782572451802},25.92604997416042,-3.08226147119575,{"$nulls":4},{"$f":"IF(AND(E950>G$7,E950<G$8),A950,Sheet1!$Q$22)","v":1.7302697302697085},-3.08226147119575]
[{"$f":"A950+Sheet2!G$5","v":{"v":1.7352647352647135,"d":"1.74"}},3.9523268245942518,{"$f":"(B952-B951)/Sheet2!$G$5","v":7.613320905705899},26.133774317470216,-3.138564707513673,{"$nulls":4},{"$f":"IF(AND(E951>G$7,E951<G$8),A951,Sheet1!$Q$22)","v":1.7352647352647135},-3.138564707513673]
[{"$f":"A951+Sheet2!G$5","v":{"v":1.7402597402597184,"d":"1.74"}},3.9903554005468287,{"$f":"(B953-B952)/Sheet2!$G$5","v":7.7448998141126655},26.34209746303484,-3.195090908434503,{"$nulls":4},{"$f":"IF(AND(E952>G$7,E952<G$8),A952,Sheet1!$Q$22)","v":1.7402597402597184},-3.195090908434503]
[{"$f":"A952+Sheet2!G$5","v":{"v":1.7452547452547233,"d":"1.75"}},4.029041213804135,{"$f":"(B954-B953)/Sheet2!$G$5","v":7.877522288688802},26.551019410142324,-3.25184007395824,{"$nulls":4},{"$f":"IF(AND(E953>G$7,E953<G$8),A953,Sheet1!$Q$22)","v":1.7452547452547233},-3.25184007395824]
[{"$f":"A953+Sheet2!G$5","v":{"v":1.7502497502497283,"d":"1.75"}},4.0683894769843985,{"$f":"(B955-B954)/Sheet2!$G$5","v":8.011191320453136},26.760540159219847,-3.308812204084891,{"$nulls":4},{"$f":"IF(AND(E954>G$7,E954<G$8),A954,Sheet1!$Q$22)","v":1.7502497502497283},-3.308812204084891]
[{"$f":"A954+Sheet2!G$5","v":{"v":1.7552447552447332,"d":"1.76"}},4.1084054176460025,{"$f":"(B956-B955)/Sheet2!$G$5","v":8.145909900422012},26.970659709769034,-3.3660072988144467,{"$nulls":4},{"$f":"IF(AND(E955>G$7,E955<G$8),A955,Sheet1!$Q$22)","v":1.7552447552447332},-3.3660072988144467]
[{"$f":"A955+Sheet2!G$5","v":{"v":1.7602397602397382,"d":"1.76"}},4.149094278287471,{"$f":"(B957-B956)/Sheet2!$G$5","v":8.28168101961604},27.181378062644242,-3.4234253581469094,{"$nulls":4},{"$f":"IF(AND(E956>G$7,E956<G$8),A956,Sheet1!$Q$22)","v":1.7602397602397382},-3.4234253581469094]
[{"$f":"A956+Sheet2!G$5","v":{"v":1.765234765234743,"d":"1.77"}},4.190461316347491,{"$f":"(B958-B957)/Sheet2!$G$5","v":8.418507669050493},27.392695216777526,-3.481066382082286,{"$nulls":4},{"$f":"IF(AND(E957>G$7,E957<G$8),A957,Sheet1!$Q$22)","v":1.765234765234743},-3.481066382082286]
[{"$f":"A957+Sheet2!G$5","v":{"v":1.770229770229748,"d":"1.77"}},4.232511804204886,{"$f":"(B959-B958)/Sheet2!$G$5","v":8.556392839744914},27.604611173023244,-3.538930370620566,{"$nulls":4},{"$f":"IF(AND(E958>G$7,E958<G$8),A958,Sheet1!$Q$22)","v":1.770229770229748},-3.538930370620566]
[{"$f":"A958+Sheet2!G$5","v":{"v":1.775224775224753,"d":"1.78"}},4.275251029178637,{"$f":"(B960-B959)/Sheet2!$G$5","v":8.695339522717425},27.817125931096605,-3.5970173237617526,{"$nulls":4},{"$f":"IF(AND(E959>G$7,E959<G$8),A959,Sheet1!$Q$22)","v":1.775224775224753},-3.5970173237617526]
[{"$f":"A959+Sheet2!G$5","v":{"v":1.780219780219758,"d":"1.78"}},4.318684293527875,{"$f":"(B961-B960)/Sheet2!$G$5","v":8.835350708984722},28.03023949071283,-3.655327241505855,{"$nulls":4},{"$f":"IF(AND(E960>G$7,E960<G$8),A960,Sheet1!$Q$22)","v":1.780219780219758},-3.655327241505855]
[{"$f":"A960+Sheet2!G$5","v":{"v":1.7852147852147628,"d":"1.79"}},4.362816914451875,{"$f":"(B962-B961)/Sheet2!$G$5","v":8.976429389566349},28.243951852441487,-3.7138601238528572,{"$nulls":4},{"$f":"IF(AND(E961>G$7,E961<G$8),A961,Sheet1!$Q$22)","v":1.7852147852147628},-3.7138601238528572]
[{"$f":"A961+Sheet2!G$5","v":{"v":1.7902097902097678,"d":"1.79"}},4.407654224090068,{"$f":"(B963-B962)/Sheet2!$G$5","v":9.118578555478289},28.458263015570612,-3.772615970802777,{"$nulls":4},{"$f":"IF(AND(E962>G$7,E962<G$8),A962,Sheet1!$Q$22)","v":1.7902097902097678},-3.772615970802777]
[{"$f":"A962+Sheet2!G$5","v":{"v":1.7952047952047727,"d":"1.80"}},{"$f":"x^4-5*x^2+4*x+3","v":4.453201569522028},{"$f":"(B964-B963)/Sheet2!$G$5","v":9.261801197740443},28.673172980883365,-3.8315947823555963,{"$nulls":4},{"$f":"IF(AND(E963>G$7,E963<G$8),A963,Sheet1!$Q$22)","v":1.7952047952047727},-3.8315947823555963]
[{"$f":"A963+Sheet2!G$5","v":{"v":1.8001998001997777,"d":"1.80"}},4.4994643127674845,{"$f":"(B965-B964)/Sheet2!$G$5","v":9.406100307370576},28.888681747952567,{"$f":"G$10+G$11*(A964-G$9)+G$12*(A964-G$9)^2/2","v":-3.8907965585113296},{"$nulls":4},{"$f":"IF(AND(E964>G$7,E964<G$8),A964,Sheet1!$Q$22)","v":1.8001998001997777},{"$f":"IF(AND(E964>G$7,E964<G$8),E964,G$10)","v":-3.8907965585113296}]
[{"$f":"A964+Sheet2!G$5","v":{"v":1.8051948051947826,"d":"1.81"}},4.5464478307863185,{"$f":"(B966-B965)/Sheet2!$G$5","v":9.551478875384673},{"$f":"(B966-2*B965+B964)/G$5^2","v":29.10478931642224},-3.9502212992699715,{"$nulls":4},{"$f":"IF(AND(E965>G$7,E965<G$8),A965,Sheet1!$Q$22)","v":1.8051948051947826},-3.9502212992699715]
[{"$f":"A965+Sheet2!G$5","v":{"v":1.8101898101897875,"d":"1.81"}},4.59415751547855,{"$f":"(B967-B966)/Sheet2!$G$5","v":9.697939892803344},29.321495687217933,-4.009869004631517,{"$nulls":4},{"$f":"IF(AND(E966>G$7,E966<G$8),A966,Sheet1!$Q$22)","v":1.8101898101897875},-4.009869004631517]
[{"$f":"A966+Sheet2!G$5","v":{"v":1.8151848151847925,"d":"1.82"}},4.642598773684361,{"$f":"(B968-B967)/Sheet2!$G$5","v":9.84548635064293},29.538800859485292,-4.069739674595976,{"$nulls":4},{"$f":"IF(AND(E967>G$7,E967<G$8),A967,Sheet1!$Q$22)","v":1.8151848151847925},-4.069739674595976]
[{"$f":"A967+Sheet2!G$5","v":{"v":1.8201798201797974,"d":"1.82"}},4.6917770271840755,{"$f":"(B969-B968)/Sheet2!$G$5","v":9.994121239921554},29.756704833580294,-4.129833309163338,{"$nulls":4},{"$f":"IF(AND(E968>G$7,E968<G$8),A968,Sheet1!$Q$22)","v":1.8201798201797974},-4.129833309163338]
[{"$f":"A968+Sheet2!G$5","v":{"v":1.8251748251748023,"d":"1.83"}},4.741697712698169,{"$f":"(B970-B969)/Sheet2!$G$5","v":10.14384755165769},29.97520760957414,-4.190149908333611,{"$nulls":4},{"$f":"IF(AND(E969>G$7,E969<G$8),A969,Sheet1!$Q$22)","v":1.8251748251748023},-4.190149908333611]
[{"$f":"A969+Sheet2!G$5","v":{"v":1.8301698301698073,"d":"1.83"}},4.7923662818872685,{"$f":"(B971-B970)/Sheet2!$G$5","v":10.294668276868745},30.194309187253243,-4.250689472106796,{"$nulls":4},{"$f":"IF(AND(E970>G$7,E970<G$8),A970,Sheet1!$Q$22)","v":1.8301698301698073},-4.250689472106796]
[{"$f":"A970+Sheet2!G$5","v":{"v":1.8351648351648122,"d":"1.84"}},4.843788201352147,{"$f":"(B972-B971)/Sheet2!$G$5","v":10.446586406574262},30.41400956704478,-4.311452000482884,{"$nulls":4},{"$f":"IF(AND(E971>G$7,E971<G$8),A971,Sheet1!$Q$22)","v":1.8351648351648122},-4.311452000482884]
[{"$f":"A971+Sheet2!G$5","v":{"v":1.8401598401598172,"d":"1.84"}},4.895968952633737,{"$f":"(B973-B972)/Sheet2!$G$5","v":10.599604931788807},30.634308747951994,-4.372437493461888,{"$nulls":4},{"$f":"IF(AND(E972>G$7,E972<G$8),A972,Sheet1!$Q$22)","v":1.8401598401598172},-4.372437493461888]
[{"$f":"A972+Sheet2!G$5","v":{"v":1.845154845154822,"d":"1.85"}},4.948914032213102,{"$f":"(B974-B973)/Sheet2!$G$5","v":10.753726843534768},30.855206731541212,-4.433645951043793,{"$nulls":4},{"$f":"IF(AND(E973>G$7,E973<G$8),A973,Sheet1!$Q$22)","v":1.845154845154822},-4.433645951043793]
[{"$f":"A973+Sheet2!G$5","v":{"v":1.850149850149827,"d":"1.85"}},5.002628951511477,{"$f":"(B975-B974)/Sheet2!$G$5","v":10.908955132825994},31.076703516103724,-4.495077373228604,{"$nulls":4},{"$f":"IF(AND(E974>G$7,E974<G$8),A974,Sheet1!$Q$22)","v":1.850149850149827},-4.495077373228604]
[{"$f":"A974+Sheet2!G$5","v":{"v":1.855144855144832,"d":"1.86"}},5.0571192368902285,{"$f":"(B976-B975)/Sheet2!$G$5","v":11.065292790683099},31.298799102992255,-4.5567317600163335,{"$nulls":4},{"$f":"IF(AND(E975>G$7,E975<G$8),A975,Sheet1!$Q$22)","v":1.855144855144832},-4.5567317600163335]
[{"$f":"A975+Sheet2!G$5","v":{"v":1.860139860139837,"d":"1.86"}},5.112390429650883,{"$f":"(B977-B976)/Sheet2!$G$5","v":11.222742808123845},31.521493491637234,-4.618609111406961,{"$nulls":4},{"$f":"IF(AND(E976>G$7,E976<G$8),A976,Sheet1!$Q$22)","v":1.860139860139837},-4.618609111406961]
[{"$f":"A976+Sheet2!G$5","v":{"v":1.8651348651348418,"d":"1.87"}},5.168448086035118,{"$f":"(B978-B977)/Sheet2!$G$5","v":11.381308176164573},31.74478668175388,-4.6807094274005046,{"$nulls":4},{"$f":"IF(AND(E977>G$7,E977<G$8),A977,Sheet1!$Q$22)","v":1.8651348651348418},-4.6807094274005046]
[{"$f":"A977+Sheet2!G$5","v":{"v":1.8701298701298468,"d":"1.87"}},5.2252977772247515,{"$f":"(B979-B978)/Sheet2!$G$5","v":11.540991885825184},31.968678674054157,-4.743032707996949,{"$nulls":4},{"$f":"IF(AND(E978>G$7,E978<G$8),A978,Sheet1!$Q$22)","v":1.8701298701298468},-4.743032707996949]
[{"$f":"A978+Sheet2!G$5","v":{"v":1.8751248751248517,"d":"1.88"}},5.28294508934176,{"$f":"(B980-B979)/Sheet2!$G$5","v":11.701796928122016},32.193169467826095,-4.80557895319631,{"$nulls":4},{"$f":"IF(AND(E979>G$7,E979<G$8),A979,Sheet1!$Q$22)","v":1.8751248751248517},-4.80557895319631]
[{"$f":"A979+Sheet2!G$5","v":{"v":1.8801198801198566,"d":"1.88"}},5.341395623448264,{"$f":"(B981-B980)/Sheet2!$G$5","v":11.863726294074262},32.41825906363927,-4.868348162998576,{"$nulls":4},{"$f":"IF(AND(E980>G$7,E980<G$8),A980,Sheet1!$Q$22)","v":1.8801198801198566},-4.868348162998576]
[{"$f":"A980+Sheet2!G$5","v":{"v":1.8851148851148616,"d":"1.89"}},5.400654995546537,{"$f":"(B982-B981)/Sheet2!$G$5","v":12.02678297469968},32.643947461208896,-4.931340337403746,{"$nulls":4},{"$f":"IF(AND(E981>G$7,E981<G$8),A981,Sheet1!$Q$22)","v":1.8851148851148616},-4.931340337403746]
[{"$f":"A981+Sheet2!G$5","v":{"v":1.8901098901098665,"d":"1.89"}},5.460728836579003,{"$f":"(B983-B982)/Sheet2!$G$5","v":12.190969961014616},32.87023466025018,-4.994555476411833,{"$nulls":4},{"$f":"IF(AND(E982>G$7,E982<G$8),A982,Sheet1!$Q$22)","v":1.8901098901098665},-4.994555476411833]
[{"$f":"A982+Sheet2!G$5","v":{"v":1.8951048951048715,"d":"1.90"}},5.521622792428227,{"$f":"(B984-B983)/Sheet2!$G$5","v":12.356290244040034},33.09712066168869,-5.057993580022821,{"$nulls":4},{"$f":"IF(AND(E983>G$7,E983<G$8),A983,Sheet1!$Q$22)","v":1.8951048951048715},-5.057993580022821]
[{"$f":"A983+Sheet2!G$5","v":{"v":1.9000999000998764,"d":"1.90"}},5.583342523916938,{"$f":"(B985-B984)/Sheet2!$G$5","v":12.52274681479192},33.324605464527664,-5.121654648236721,{"$nulls":4},{"$f":"IF(AND(E984>G$7,E984<G$8),A984,Sheet1!$Q$22)","v":1.9000999000998764},-5.121654648236721]
[{"$f":"A984+Sheet2!G$5","v":{"v":1.9050949050948813,"d":"1.91"}},5.645893706808007,{"$f":"(B986-B985)/Sheet2!$G$5","v":12.690342664287684},33.552689069051894,-5.185538681053529,{"$nulls":4},{"$f":"IF(AND(E985>G$7,E985<G$8),A985,Sheet1!$Q$22)","v":1.9050949050948813},-5.185538681053529]
[{"$f":"A985+Sheet2!G$5","v":{"v":1.9100899100898863,"d":"1.91"}},5.709282031804449,{"$f":"(B987-B986)/Sheet2!$G$5","v":12.859080783546869},33.78137147568856,-5.249645678473247,{"$nulls":4},{"$f":"IF(AND(E986>G$7,E986<G$8),A986,Sheet1!$Q$22)","v":1.9100899100898863},-5.249645678473247]
[{"$f":"A986+Sheet2!G$5","v":{"v":1.9150849150848912,"d":"1.92"}},5.773513204549438,{"$f":"(B988-B987)/Sheet2!$G$5","v":13.028964163586524},34.01065268393928,-5.313975640495869,{"$nulls":4},{"$f":"IF(AND(E987>G$7,E987<G$8),A987,Sheet1!$Q$22)","v":1.9150849150848912},-5.313975640495869]
[{"$f":"A987+Sheet2!G$5","v":{"v":1.9200799200798961,"d":"1.92"}},5.838592945626294,{"$f":"(B989-B988)/Sheet2!$G$5","v":13.199995795425842},34.240532694231234,-5.3785285671214,{"$nulls":4},{"$f":"IF(AND(E988>G$7,E988<G$8),A988,Sheet1!$Q$22)","v":1.9200799200798961},-5.3785285671214]
[{"$f":"A988+Sheet2!G$5","v":{"v":1.925074925074901,"d":"1.93"}},5.904526990558491,{"$f":"(B990-B989)/Sheet2!$G$5","v":13.372178670080805},34.471011505923656,-5.443304458349843,{"$nulls":4},{"$f":"IF(AND(E989>G$7,E989<G$8),A989,Sheet1!$Q$22)","v":1.925074925074901},-5.443304458349843]
[{"$f":"A989+Sheet2!G$5","v":{"v":1.930069930069906,"d":"1.93"}},5.971321089809644,{"$f":"(B991-B990)/Sheet2!$G$5","v":13.545515778569891},34.70208911951492,-5.508303314181195,{"$nulls":4},{"$f":"IF(AND(E990>G$7,E990<G$8),A990,Sheet1!$Q$22)","v":1.930069930069906},-5.508303314181195]
[{"$f":"A990+Sheet2!G$5","v":{"v":1.935064935064911,"d":"1.94"}},6.038981008783519,{"$f":"(B992-B991)/Sheet2!$G$5","v":13.720010111912996},34.933765535289815,-5.573525134615448,{"$nulls":4},{"$f":"IF(AND(E991>G$7,E991<G$8),A991,Sheet1!$Q$22)","v":1.935064935064911},-5.573525134615448]
[{"$f":"A991+Sheet2!G$5","v":{"v":1.9400599400599159,"d":"1.94"}},6.107512527824044,{"$f":"(B993-B992)/Sheet2!$G$5","v":13.895664661125753},35.16604075239398,-5.63896991965262,{"$nulls":4},{"$f":"IF(AND(E992>G$7,E992<G$8),A992,Sheet1!$Q$22)","v":1.9400599400599159},-5.63896991965262]
[{"$f":"A992+Sheet2!G$5","v":{"v":1.9450549450549208,"d":"1.95"}},6.176921442215281,{"$f":"(B994-B993)/Sheet2!$G$5","v":14.072482417228061},35.39891477168178,-5.704637669292691,{"$nulls":4},{"$f":"IF(AND(E993>G$7,E993<G$8),A993,Sheet1!$Q$22)","v":1.9450549450549208},-5.704637669292691]
[{"$f":"A993+Sheet2!G$5","v":{"v":1.9500499500499258,"d":"1.95"}},6.2472135621814555,{"$f":"(B995-B994)/Sheet2!$G$5","v":14.250466371235547},35.63238759229885,-5.770528383535673,{"$nulls":4},{"$f":"IF(AND(E994>G$7,E994<G$8),A994,Sheet1!$Q$22)","v":1.9500499500499258},-5.770528383535673]
[{"$f":"A994+Sheet2!G$5","v":{"v":1.9550449550449307,"d":"1.96"}},6.318394712886928,{"$f":"(B996-B995)/Sheet2!$G$5","v":14.429619514168468},35.86645921517074,-5.836642062381568,{"$nulls":4},{"$f":"IF(AND(E995>G$7,E995<G$8),A995,Sheet1!$Q$22)","v":1.9550449550449307},-5.836642062381568]
[{"$f":"A995+Sheet2!G$5","v":{"v":1.9600399600399356,"d":"1.96"}},6.390470734436221,{"$f":"(B997-B996)/Sheet2!$G$5","v":14.609944837043164},36.1011296395143,-5.902978705830364,{"$nulls":4},{"$f":"IF(AND(E996>G$7,E996<G$8),A996,Sheet1!$Q$22)","v":1.9600399600399356},-5.902978705830364]
[{"$f":"A996+Sheet2!G$5","v":{"v":1.9650349650349406,"d":"1.97"}},6.463447481873999,{"$f":"(B998-B997)/Sheet2!$G$5","v":14.791445330878824},36.33639886589909,-5.969538313882072,{"$nulls":4},{"$f":"IF(AND(E997>G$7,E997<G$8),A997,Sheet1!$Q$22)","v":1.9650349650349406},-5.969538313882072]
[{"$f":"A997+Sheet2!G$5","v":{"v":1.9700299700299455,"d":"1.97"}},6.537330825185082,{"$f":"(B999-B998)/Sheet2!$G$5","v":14.974123986692856},36.572266893969136,-6.036320886536686,{"$nulls":4},{"$f":"IF(AND(E998>G$7,E998<G$8),A998,Sheet1!$Q$22)","v":1.9700299700299455},-6.036320886536686]
[{"$f":"A998+Sheet2!G$5","v":{"v":1.9750249750249504,"d":"1.98"}},6.612126649294437,{"$f":"(B1000-B999)/Sheet2!$G$5","v":15.157983795502668},36.80873372372444,-6.103326423794215,{"$nulls":4},{"$f":"IF(AND(E999>G$7,E999<G$8),A999,Sheet1!$Q$22)","v":1.9750249750249504},-6.103326423794215]
[{"$f":"A999+Sheet2!G$5","v":{"v":1.9800199800199554,"d":"1.98"}},6.687840854067177,{"$f":"(B1001-B1000)/Sheet2!$G$5","v":15.343027748327804},37.045799355592166,-6.170554925654649,{"$nulls":4},{"$f":"IF(AND(E1000>G$7,E1000<G$8),A1000,Sheet1!$Q$22)","v":1.9800199800199554},-6.170554925654649]
[{"$f":"A1000+Sheet2!G$5","v":{"v":1.9850149850149603,"d":"1.99"}},6.764479354308575,{"$f":"(B1002-B1001)/Sheet2!$G$5","v":15.52925883618496},37.28346378900276,-6.238006392117988,{"$nulls":4},{"$f":"IF(AND(E1001>G$7,E1001<G$8),A1001,Sheet1!$Q$22)","v":1.9850149850149603},-6.238006392117988]
[{"$f":"A1001+Sheet2!G$5","v":{"v":1.9900099900099653,"d":"1.99"}},6.842048079764044,{"$f":"(B1003-B1002)/Sheet2!$G$5","v":15.716680050091547},37.52172702409861,-6.305680823184236,{"$nulls":4},{"$f":"IF(AND(E1002>G$7,E1002<G$8),A1002,Sheet1!$Q$22)","v":1.9900099900099653},-6.305680823184236]
[{"$f":"A1002+Sheet2!G$5","v":{"v":1.9950049950049702,"d":"2.00"}},6.920552975119147,{"$f":"(B1004-B1003)/Sheet2!$G$5","v":15.905294381067106},{"$f":"(B1004-2*B1003+B1002)/G$5^2","v":37.76058906130689},-6.3735782188534]
[{"$f":"A1003+Sheet2!G$5","v":{"v":1.9999999999999751,"d":"2.00"}},6.999999999999602]

{"sheet":"Defining Function","index":2,"n_rows":12,"n_cols":1,"rows_kept":12}
["                                                     Defining a Function in Excel"]
[]
["Computers have very specific rules you must follow when defining a function.  If you don't, the program will either not work at all or will work incorrectly."]
[]
["1. The Variable used should be the one named in the instruction, usually x, though sometimes y, t, Q (for an angle theta), "]
[" or even x and y (for a function of two variables). "]
[]
["2.  Order of Operations:  There five arithmetic operations, addition (+), subtraction (-), multiplication (*), division (/), and  exponentiation or power (^).  When computers see any of these operation symbols, they perform the indicated steps in a very particular order.  First, the power is done.  Second, products and quotients of adjacent terms is done.  Third, and last, sums and differences of adjacent terms are done.  So, in 10*x^3 + 5*x – 7, say with x = 2, the first pass only calculates 2^3 and ignores the multiplications and the sums and differences to calculate 2^3 = 8.  The second pass looks at 10*8 + 5*2 – 7 and only does the multiplications, so it produces 80 + 10 -  7.  The third pass looks at the +’s and –‘s to produce 80 + 10 – 7 = 83.  "]
[]
["3.    Parentheses  If you need an operation involving more than two adjacent terms, as in Ö4^3 + 6^2, the computer would take the square root of  4 to produce 2^3 + 6^2;  it would then cube the 2 and square the 6 to produce 8 + 36; and finally it would add the 8 and the 36 to get 44.  If you actually wanted the square root of the entire expression, you would need to use parentheses, as in Ö(4^3 + 6^2) to tell the computer to do all the operations inside the parentheses before taking the square root.  Therefore, it would calculate (4^3 + 6^2) = 64 + 36 = 100 and then take the square root of Ö100  =  10."]
[]
["4.  Built-In Functions  Computer programs have built-in functions for most common algebraic functions.  In Excel, the square root function is denoted by SQRT(…), so SQRT(100) = 10.  Alternatively, you could enter it as 100^.5 or 100^(1/2); notice that parentheses are needed to have the ½ done first.  The common trig functions are SIN (…), COS (…), and TAN (…), where the arguments are automatically interpreted as being in radians, not degrees.  The logarithm to the base 10 is represented by LOG (…) and the logarithm with the base e, known as the natural logarithm, is LN (…). The corresponding exponential function with base e is EXP (x).  If x is the variable, then each of these would be SQRT (x), SIN (x), COS (x), TAN (x), LOG (x) (for log with base 10 ), LN (x) (for log with base e ), and EXP (x)."]

{"sheet":"Sheet3","index":3,"n_rows":0,"n_cols":0,"rows_kept":0}