{"text_format":"3","workbook":"xlsx","n_sheets":3,"sheets":["y = sinh x","y = cosh x","Sheet1"],"not_rendered":{"charts":2,"images":8,"macros":1,"external_links":1,"defined_names":24,"comments":2},"read":"whole","date_system":"1900"}

{"sheet":"y = sinh x","index":0,"n_rows":858,"n_cols":23,"rows_kept":858,"merged":[[25,4,25,5]]}
[null,"Taylor Polynomial Approximations"]
[null,"      to the Hyperbolic Functions"]
[]
[]
[null,"This graphing utility lets you investigate "]
[null,"  the Taylor polynomial approximations"]
[null,"          to the hyperbolic sine function"]
[null,"                         y = sinh (x)"]
[null,"                 centered about x = 0"]
[]
[]
["Enter the interval for x:  "]
[null,"xMin =",-4,-1]
[null,"xMax =",4,3]
[]
[]
["Click each item below for suggestions and investigations"]
[null,"   Item 1"]
[null,"   Item 2",{"$nulls":5},"Now select all the Taylor polynomials you want to see  "]
[null,"   Item 3"]
[null,"   Item 4",{"$nulls":6},false,true]
[null,"   Item 5"]
[]
[{"$nulls":8},false,true]
["To access/download all the DIGMath Apps for Calculus"]
["    ","       Click this link:",null,null,"DIGMath for Calculus",{"$nulls":4},true]
[]
["Created by:  Sheldon P. Gordon   ",{"$nulls":7},false,true]
["                      Farmingdale State College    "]
["Development of this module was supported by the "]
["NSF's Division of Undergraduate Education  "]
["under grants DUE-0310123 and DUE-0442160."]
{"$rows_empty":825}
[{"$nulls":21},{"$f":"AA858","v":0},{"$f":"AA858","v":0}]

{"sheet":"y = cosh x","index":1,"n_rows":31,"n_cols":11,"rows_kept":31}
[null,null,"Taylor Polynomial Approximations"]
[null,null,"      to the Hyperbolic Functions"]
[]
[null,null,"  This graphing utility lets you investigate "]
[null,null,"    the Taylor polynomial approximations"]
[null,null,"        to the hyperbolic cosine function"]
[null,null,"                       y = cosh (x)"]
[null,null,"              centered about x = 0"]
[]
[]
[null,"Enter the interval for x:  "]
[{"$nulls":3},"xMin =",-4]
[{"$nulls":3},"xMax =",4]
[]
[]
[]
[{"$nulls":3},"Click each item below for suggestions and investigations"]
[{"$nulls":3},"   Item 1",{"$nulls":4},"Now select all the Taylor polynomials you want to see  "]
[{"$nulls":3},"   Item 2"]
[{"$nulls":3},"   Item 3",{"$nulls":5},false,true]
[{"$nulls":3},"   Item 4"]
[{"$nulls":3},"   Item 5"]
[{"$nulls":9},true,true]
["To access/download all the DIGMath Apps for Calculus"]
["Click this link:",null,null,"DIGMath for Calculus",{"$nulls":5},false,true]
[]
["Created by:  Sheldon P. Gordon   ",{"$nulls":8},false,true]
["                      Farmingdale State College    "]
["Development of this module was supported by the "]
["NSF's Division of Undergraduate Education  "]
["under grants DUE-0310123 and DUE-0442160."]

{"sheet":"Sheet1","index":2,"n_rows":202,"n_cols":16,"rows_kept":202}
["Sinh",{"$nulls":8},"cosh"]
[{"$f":"aa","v":-4},{"$f":"SINH(A2)","v":{"v":-27.28991719712775,"d":"-27.28992"}},{"$f":"aa","v":{"v":-4,"d":"-4.00000"}},{"$f":"C2+C2^3/6+C2^5/120+C2^7/5040","v":{"v":-26.45079365079365,"d":"-26.45079"}},null,"Linear",{"$nulls":3},{"$f":"aaa","v":-4},{"$f":"COSH(J2)","v":{"v":27.308232836016487,"d":"27.30823"}},{"$f":"aaa","v":{"v":-4,"d":"-4.00000"}},{"$f":"1+L2^2/2+L2^4/24+L2^6/720+L2^8/5040/8","v":{"v":26.98095238095238,"d":"26.98095"}},null,"Quadratic"]
[{"$f":"A2+(bb-aa)/200","v":-3.96},{"$f":"SINH(A3)","v":{"v":-26.21913141740372,"d":"-26.21913"}},{"$f":"IF('y = sinh x'!I$28=FALSE,aa,C2+(bb-aa)/200)","v":-4},{"$f":"C3+C3^3/6+C3^5/120+C3^7/5040","v":{"v":-26.45079365079365,"d":"-26.45079"}},null,{"$f":"aa","v":-4},{"$f":"F3","v":-4},null,null,{"$f":"J2+(bbb-aaa)/200","v":-3.96},{"$f":"COSH(J3)","v":{"v":26.23819453169533,"d":"26.23819"}},{"$f":"IF('y = cosh x'!J$27=FALSE,aaa,L2+(bbb-aaa)/200)","v":-4},{"$f":"1+L3^2/2+L3^4/24+L3^6/720+L3^8/5040/8","v":{"v":26.98095238095238,"d":"26.98095"}},null,{"$f":"aaa","v":-4},{"$f":"1+O3^2/2","v":9}]
[-3.92,{"v":-25.190301841660556,"d":"-25.19030"},{"$f":"IF('y = sinh x'!I$28=FALSE,aa,C3+(bb-aa)/200)","v":-4},{"v":-26.45079365079365,"d":"-26.45079"},null,{"$f":"IF('y = sinh x'!I21=TRUE,bb,aa)","v":-4},{"$f":"F4","v":-4},null,null,-3.92,{"v":25.210142936404928,"d":"25.21014"},{"$f":"IF('y = cosh x'!J$27=FALSE,aaa,L3+(bbb-aaa)/200)","v":-4},{"v":26.98095238095238,"d":"26.98095"},null,{"$f":"IF('y = cosh x'!J20=FALSE,aaa,aaa+(bbb-aaa)/2)","v":-4},{"$f":"1+O4^2/2","v":9}]
[-3.88,{"v":-24.20178212308173,"d":"-24.20178"},{"$f":"IF('y = sinh x'!I$28=FALSE,aa,C4+(bb-aa)/200)","v":-4},{"v":-26.45079365079365,"d":"-26.45079"},{"$nulls":5},-3.88,{"v":24.222432948263442,"d":"24.22243"},{"$f":"IF('y = cosh x'!J$27=FALSE,aaa,L4+(bbb-aaa)/200)","v":-4},{"v":26.98095238095238,"d":"26.98095"},null,{"$f":"IF('y = cosh x'!J20=FALSE,aaa,bbb)","v":-4},{"$f":"1+O5^2/2","v":9}]
[-3.84,{"v":-23.251990419222054,"d":"-23.25199"},{"$f":"IF('y = sinh x'!I$28=FALSE,aa,C5+(bb-aa)/200)","v":-4},{"v":-26.45079365079365,"d":"-26.45079"},null,"cubic",{"$nulls":3},-3.84,{"v":23.273484020567146,"d":"23.27348"},{"$f":"IF('y = cosh x'!J$27=FALSE,aaa,L5+(bbb-aaa)/200)","v":-4},{"v":26.98095238095238,"d":"26.98095"}]
[-3.8,{"v":-22.339406860722324,"d":"-22.33941"},{"$f":"IF('y = sinh x'!I$28=FALSE,aa,C6+(bb-aa)/200)","v":-4},{"v":-26.45079365079365,"d":"-26.45079"},null,{"$f":"aa","v":-4},{"$f":"F7+F7^3/3","v":-25.333333333333332},null,null,-3.8,{"v":22.36177763257849,"d":"22.36178"},{"$f":"IF('y = cosh x'!J$27=FALSE,aaa,L6+(bbb-aaa)/200)","v":-4},{"v":26.98095238095238,"d":"26.98095"},null,"Quartic"]
[-3.76,{"v":-21.462571119194056,"d":"-21.46257"},{"$f":"IF('y = sinh x'!I$28=FALSE,aa,C7+(bb-aa)/200)","v":-4},{"v":-26.45079365079365,"d":"-26.45079"},null,{"$f":"IF('y = sinh x'!I$24=FALSE,aa,aa+(bb-aa)/3)","v":-4},{"$f":"F8+F8^3/3","v":-25.333333333333332},null,null,-3.76,{"v":21.485854859568956,"d":"21.48585"},{"$f":"IF('y = cosh x'!J$27=FALSE,aaa,L7+(bbb-aaa)/200)","v":-4},{"v":26.98095238095238,"d":"26.98095"},null,{"$f":"aaa","v":-4},{"$f":"1+O8^2/2+O8^4/24","v":19.666666666666664}]
[-3.7199999999999998,{"v":-20.62008007038255,"d":"-20.62008"},{"$f":"IF('y = sinh x'!I$28=FALSE,aa,C8+(bb-aa)/200)","v":-4},{"v":-26.45079365079365,"d":"-26.45079"},null,{"$f":"IF('y = sinh x'!I$24=FALSE,aa,aa+(bb-aa)*2/3)","v":-4},{"$f":"F9+F9^3/3","v":-25.333333333333332},null,null,-3.7199999999999998,{"v":20.644314038228238,"d":"20.64431"},{"$f":"IF('y = cosh x'!J$27=FALSE,aaa,L8+(bbb-aaa)/200)","v":-4},{"v":26.98095238095238,"d":"26.98095"},null,{"$f":"IF('y = cosh x'!J$23=FALSE,aaa,aaa+(bbb-aaa)/4)","v":-2},{"$f":"1+O9^2/2+O9^4/24","v":3.6666666666666665}]
[-3.6799999999999997,{"v":-19.810585548868676,"d":"-19.81059"},{"$f":"IF('y = sinh x'!I$28=FALSE,aa,C9+(bb-aa)/200)","v":-4},{"v":-26.45079365079365,"d":"-26.45079"},null,{"$f":"IF('y = sinh x'!I$24=FALSE,aa,aa+(bb-aa)*3/3)","v":-4},-25.333333333333332,null,null,-3.6799999999999997,{"v":19.835808523703907,"d":"19.83581"},{"$f":"IF('y = cosh x'!J$27=FALSE,aaa,L9+(bbb-aaa)/200)","v":-4},{"v":26.98095238095238,"d":"26.98095"},null,{"$f":"IF('y = cosh x'!J$23=FALSE,aaa,aaa+(bbb-aaa)*2/4)","v":0},{"$f":"1+O10^2/2+O10^4/24","v":1}]
[-3.6399999999999997,{"v":-19.03279219071666,"d":"-19.03279"},{"$f":"IF('y = sinh x'!I$28=FALSE,aa,C10+(bb-aa)/200)","v":-4},{"v":-26.45079365079365,"d":"-26.45079"},{"$nulls":5},-3.6399999999999997,{"v":19.059044534682346,"d":"19.05904"},{"$f":"IF('y = cosh x'!J$27=FALSE,aaa,L10+(bbb-aaa)/200)","v":-4},{"v":26.98095238095238,"d":"26.98095"},null,{"$f":"IF('y = cosh x'!J$23=FALSE,aaa,aaa+(bbb-aaa)*3/4)","v":2},{"$f":"1+O11^2/2+O11^4/24","v":3.6666666666666665}]
[-3.5999999999999996,{"v":-18.28545536061534,"d":"-18.28546"},{"$f":"IF('y = sinh x'!I$28=FALSE,aa,C11+(bb-aa)/200)","v":-4},{"v":-26.45079365079365,"d":"-26.45079"},null,"5th degree",{"$nulls":3},-3.5999999999999996,{"v":18.312779083062633,"d":"18.31278"},{"$f":"IF('y = cosh x'!J$27=FALSE,aaa,L11+(bbb-aaa)/200)","v":-4},{"v":26.98095238095238,"d":"26.98095"},null,{"$f":"IF('y = cosh x'!J$23=FALSE,aaa,bbb)","v":4},{"$f":"1+O12^2/2+O12^4/24","v":19.666666666666664}]
[-3.5599999999999996,{"v":-17.567379160196207,"d":"-17.56738"},{"$f":"IF('y = sinh x'!I$28=FALSE,aa,C12+(bb-aa)/200)","v":-4},{"v":-26.45079365079365,"d":"-26.45079"},null,{"$f":"aa","v":-4},{"$f":"F13+F13^3/6+F13^5/120","v":-23.2},null,null,-3.5599999999999996,{"v":17.595817984910394,"d":"17.59582"},{"$f":"IF('y = cosh x'!J$27=FALSE,aaa,L12+(bbb-aaa)/200)","v":-4},{"v":26.98095238095238,"d":"26.98095"}]
[-3.5199999999999996,{"v":-16.877414514340824,"d":"-16.87741"},{"$f":"IF('y = sinh x'!I$28=FALSE,aa,C13+(bb-aa)/200)","v":-4},{"v":-26.45079365079365,"d":"-26.45079"},null,{"$f":"IF('y = sinh x'!I$26=FALSE,aa,aa+(bb-aa)/5)","v":-4},{"$f":"F14+F14^3/6+F14^5/120","v":-23.2},null,null,-3.5199999999999996,{"v":16.907013949508713,"d":"16.90701"},{"$f":"IF('y = cosh x'!J$27=FALSE,aaa,L13+(bbb-aaa)/200)","v":-4},{"v":26.98095238095238,"d":"26.98095"}]
[-3.4799999999999995,{"v":-16.214457332415513,"d":"-16.21446"},{"$f":"IF('y = sinh x'!I$28=FALSE,aa,C14+(bb-aa)/200)","v":-4},{"v":-26.45079365079365,"d":"-26.45079"},null,{"$f":"IF('y = sinh x'!I$26=FALSE,aa,aa+(bb-aa)*2/5)","v":-4},-23.2,null,null,-3.4799999999999995,{"v":16.245264743448267,"d":"16.24526"},{"$f":"IF('y = cosh x'!J$27=FALSE,aaa,L14+(bbb-aaa)/200)","v":-4},{"v":26.98095238095238,"d":"26.98095"},null,"6th degree"]
[-3.4399999999999995,{"v":-15.577446741490792,"d":"-15.57745"},{"$f":"IF('y = sinh x'!I$28=FALSE,aa,C15+(bb-aa)/200)","v":-4},{"v":-26.45079365079365,"d":"-26.45079"},null,{"$f":"IF('y = sinh x'!I$26=FALSE,aa,aa+(bb-aa)*3/5)","v":-4},-23.2,null,null,-3.4399999999999995,{"v":15.609511426818653,"d":"15.60951"},{"$f":"IF('y = cosh x'!J$27=FALSE,aaa,L15+(bbb-aaa)/200)","v":-4},{"v":26.98095238095238,"d":"26.98095"},null,{"$f":"aaa","v":-4},{"$f":"1+O16^2/2+O16^4/24+O16^6/720","v":25.355555555555554}]
[-3.3999999999999995,{"v":-14.965363388718336,"d":"-14.96536"},{"$f":"IF('y = sinh x'!I$28=FALSE,aa,C16+(bb-aa)/200)","v":-4},{"v":-26.45079365079365,"d":"-26.45079"},null,{"$f":"IF('y = sinh x'!I$26=FALSE,aa,aa+(bb-aa)*4/5)","v":-4},-23.2,null,null,-3.3999999999999995,{"v":14.998736658678661,"d":"14.99874"},{"$f":"IF('y = cosh x'!J$27=FALSE,aaa,L16+(bbb-aaa)/200)","v":-4},{"v":26.98095238095238,"d":"26.98095"},null,{"$f":"IF('y = cosh x'!J$25=FALSE,aaa,aaa+(bbb-aaa)*2/6)","v":-4},{"$f":"1+O17^2/2+O17^4/24+O17^6/720","v":25.355555555555554}]
[-3.3599999999999994,{"v":-14.37722781014896,"d":"-14.37723"},{"$f":"IF('y = sinh x'!I$28=FALSE,aa,C17+(bb-aa)/200)","v":-4},{"v":-26.45079365079365,"d":"-26.45079"},null,{"$f":"IF('y = sinh x'!I$26=FALSE,aa,bb)","v":-4},-23.2,null,null,-3.3599999999999994,{"v":14.4119630690937,"d":"14.41196"},{"$f":"IF('y = cosh x'!J$27=FALSE,aaa,L17+(bbb-aaa)/200)","v":-4},{"v":26.98095238095238,"d":"26.98095"},null,{"$f":"IF('y = cosh x'!J$25=FALSE,aaa,aaa+(bbb-aaa)*3/6)","v":-4},25.355555555555554]
[-3.3199999999999994,{"v":-13.812098863381344,"d":"-13.81210"},{"$f":"IF('y = sinh x'!I$28=FALSE,aa,C18+(bb-aa)/200)","v":-4},{"v":-26.45079365079365,"d":"-26.45079"},{"$nulls":5},-3.3199999999999994,{"v":13.848251695135389,"d":"13.84825"},{"$f":"IF('y = cosh x'!J$27=FALSE,aaa,L18+(bbb-aaa)/200)","v":-4},{"v":26.98095238095238,"d":"26.98095"},null,{"$f":"IF('y = cosh x'!J$25=FALSE,aaa,aaa+(bbb-aaa)*4/6)","v":-4},25.355555555555554]
[-3.2799999999999994,{"v":-13.269072221533381,"d":"-13.26907"},{"$f":"IF('y = sinh x'!I$28=FALSE,aa,C19+(bb-aa)/200)","v":-4},{"v":-26.45079365079365,"d":"-26.45079"},{"$nulls":5},-3.2799999999999994,{"v":13.30670047834056,"d":"13.30670"},{"$f":"IF('y = cosh x'!J$27=FALSE,aaa,L19+(bbb-aaa)/200)","v":-4},{"v":26.98095238095238,"d":"26.98095"},null,{"$f":"IF('y = cosh x'!J$25=FALSE,aaa,aaa+(bbb-aaa)/6)","v":-4},25.355555555555554]
[-3.2399999999999993,{"v":-12.74727892612626,"d":"-12.74728"},{"$f":"IF('y = sinh x'!I$28=FALSE,aa,C20+(bb-aa)/200)","v":-4},{"v":-26.45079365079365,"d":"-26.45079"},{"$nulls":5},-3.2399999999999993,{"v":12.786442821225247,"d":"12.78644"},{"$f":"IF('y = cosh x'!J$27=FALSE,aaa,L20+(bbb-aaa)/200)","v":-4},{"v":26.98095238095238,"d":"26.98095"},null,{"$f":"IF('y = cosh x'!J$25=FALSE,aaa,bbb)","v":-4},25.355555555555554]
[-3.1999999999999993,{"v":-12.245883996565482,"d":"-12.24588"},{"$f":"IF('y = sinh x'!I$28=FALSE,aa,C21+(bb-aa)/200)","v":-4},{"v":-26.45079365079365,"d":"-26.45079"},{"$nulls":5},-3.1999999999999993,{"v":12.28664620054385,"d":"12.28665"},{"$f":"IF('y = cosh x'!J$27=FALSE,aaa,L21+(bbb-aaa)/200)","v":-4},{"v":26.98095238095238,"d":"26.98095"}]
[-3.1599999999999993,{"v":-11.764085093993797,"d":"-11.76409"},{"$f":"IF('y = sinh x'!I$28=FALSE,aa,C22+(bb-aa)/200)","v":-4},{"v":-26.45079365079365,"d":"-26.45079"},{"$nulls":5},-3.1599999999999993,{"v":11.806510835074308,"d":"11.80651"},{"$f":"IF('y = cosh x'!J$27=FALSE,aaa,L22+(bbb-aaa)/200)","v":-4},{"v":26.98095238095238,"d":"26.98095"}]
[-3.119999999999999,{"v":-11.301111237377842,"d":"-11.30111"},{"$f":"IF('y = sinh x'!I$28=FALSE,aa,C23+(bb-aa)/200)","v":-4},{"v":-26.45079365079365,"d":"-26.45079"},{"$nulls":5},-3.119999999999999,{"v":11.345268405797537,"d":"11.34527"},{"$f":"IF('y = cosh x'!J$27=FALSE,aaa,L23+(bbb-aaa)/200)","v":-4},{"v":26.98095238095238,"d":"26.98095"}]
[-3.079999999999999,{"v":-10.856221569774007,"d":"-10.85622"},{"$f":"IF('y = sinh x'!I$28=FALSE,aa,C24+(bb-aa)/200)","v":-4},{"v":-26.45079365079365,"d":"-26.45079"},{"$nulls":5},-3.079999999999999,{"v":10.902180826423052,"d":"10.90218"},{"$f":"IF('y = cosh x'!J$27=FALSE,aaa,L24+(bbb-aaa)/200)","v":-4},{"v":26.98095238095238,"d":"26.98095"}]
[-3.039999999999999,{"v":-10.42870417279927,"d":"-10.42870"},{"$f":"IF('y = sinh x'!I$28=FALSE,aa,C25+(bb-aa)/200)","v":-4},{"v":-26.45079365079365,"d":"-26.45079"},{"$nulls":5},-3.039999999999999,{"v":10.476539062293467,"d":"10.47654"},{"$f":"IF('y = cosh x'!J$27=FALSE,aaa,L25+(bbb-aaa)/200)","v":-4},{"v":26.98095238095238,"d":"26.98095"}]
[-2.999999999999999,{"v":-10.017874927409894,"d":"-10.01787"},{"$f":"IF('y = sinh x'!I$28=FALSE,aa,C26+(bb-aa)/200)","v":-4},{"v":-26.45079365079365,"d":"-26.45079"},{"$nulls":5},-2.999999999999999,{"v":10.067661995777756,"d":"10.06766"},{"$f":"IF('y = cosh x'!J$27=FALSE,aaa,L26+(bbb-aaa)/200)","v":-4},{"v":26.98095238095238,"d":"26.98095"}]
[-2.959999999999999,{"v":-9.623076419165008,"d":"-9.62308"},{"$f":"IF('y = sinh x'!I$28=FALSE,aa,C27+(bb-aa)/200)","v":-4},{"v":-26.45079365079365,"d":"-26.45079"},{"$nulls":5},-2.959999999999999,{"v":9.674895336337732,"d":"9.67490"},{"$f":"IF('y = cosh x'!J$27=FALSE,aaa,L27+(bbb-aaa)/200)","v":-4},{"v":26.98095238095238,"d":"26.98095"}]
[-2.919999999999999,{"v":-9.243676886223247,"d":"-9.24368"},{"$f":"IF('y = sinh x'!I$28=FALSE,aa,C28+(bb-aa)/200)","v":-4},{"v":-26.45079365079365,"d":"-26.45079"},{"$nulls":5},-2.919999999999999,{"v":9.297610573523604,"d":"9.29761"},{"$f":"IF('y = cosh x'!J$27=FALSE,aaa,L28+(bbb-aaa)/200)","v":-4},{"v":26.98095238095238,"d":"26.98095"}]
[-2.879999999999999,{"v":-8.879069208389023,"d":"-8.87907"},{"$f":"IF('y = sinh x'!I$28=FALSE,aa,C29+(bb-aa)/200)","v":-4},{"v":-26.45079365079365,"d":"-26.45079"},{"$nulls":5},-2.879999999999999,{"v":8.935203971223157,"d":"8.93520"},{"$f":"IF('y = cosh x'!J$27=FALSE,aaa,L29+(bbb-aaa)/200)","v":-4},{"v":26.98095238095238,"d":"26.98095"}]
[-2.839999999999999,{"v":-8.528669935590681,"d":"-8.52867"},{"$f":"IF('y = sinh x'!I$28=FALSE,aa,C30+(bb-aa)/200)","v":-4},{"v":-26.45079365079365,"d":"-26.45079"},{"$nulls":5},-2.839999999999999,{"v":8.58709560155518,"d":"8.58710"},{"$f":"IF('y = cosh x'!J$27=FALSE,aaa,L30+(bbb-aaa)/200)","v":-4},{"v":26.98095238095238,"d":"26.98095"}]
[-2.799999999999999,{"v":-8.191918354235908,"d":"-8.19192"},{"$f":"IF('y = sinh x'!I$28=FALSE,aa,C31+(bb-aa)/200)","v":-4},{"v":-26.45079365079365,"d":"-26.45079"},{"$nulls":5},-2.799999999999999,{"v":8.252728416861126,"d":"8.25273"},{"$f":"IF('y = cosh x'!J$27=FALSE,aaa,L31+(bbb-aaa)/200)","v":-4},{"v":26.98095238095238,"d":"26.98095"}]
[-2.759999999999999,{"v":-7.86827558995037,"d":"-7.86828"},{"$f":"IF('y = sinh x'!I$28=FALSE,aa,C32+(bb-aa)/200)","v":-4},{"v":-26.45079365079365,"d":"-26.45079"},{"$nulls":5},-2.759999999999999,{"v":7.93156735831001,"d":"7.93157"},{"$f":"IF('y = cosh x'!J$27=FALSE,aaa,L32+(bbb-aaa)/200)","v":-4},{"v":26.98095238095238,"d":"26.98095"}]
[-2.719999999999999,{"v":-7.557223745263737,"d":"-7.55722"},{"$f":"IF('y = sinh x'!I$28=FALSE,aa,C33+(bb-aa)/200)","v":-4},{"v":-26.45079365079365,"d":"-26.45079"},{"$nulls":5},-2.719999999999999,{"v":7.6230984996901405,"d":"7.62310"},{"$f":"IF('y = cosh x'!J$27=FALSE,aaa,L33+(bbb-aaa)/200)","v":-4},{"v":26.98095238095238,"d":"26.98095"}]
[{"$f":"A34+(bb-aa)/200","v":-2.679999999999999},{"v":-7.2582650708632475,"d":"-7.25827"},{"$f":"IF('y = sinh x'!I$28=FALSE,aa,C34+(bb-aa)/200)","v":-4},{"v":-26.45079365079365,"d":"-26.45079"},{"$nulls":5},{"$f":"J34+(bbb-aaa)/200","v":-2.679999999999999},{"v":7.326828225017525,"d":"7.32683"},{"$f":"IF('y = cosh x'!J$27=FALSE,aaa,L34+(bbb-aaa)/200)","v":-4},{"v":26.98095238095238,"d":"26.98095"}]
[-2.639999999999999,{"v":-6.970921169088605,"d":"-6.97092"},{"$f":"IF('y = sinh x'!I$28=FALSE,aa,C35+(bb-aa)/200)","v":-4},{"v":-26.45079365079365,"d":"-26.45079"},{"$nulls":5},-2.639999999999999,{"v":7.042282438644991,"d":"7.04228"},{"$f":"IF('y = cosh x'!J$27=FALSE,aaa,L35+(bbb-aaa)/200)","v":-4},{"v":26.98095238095238,"d":"26.98095"}]
[-2.5999999999999988,{"v":-6.69473222839367,"d":"-6.69473"},{"$f":"IF('y = sinh x'!I$28=FALSE,aa,C36+(bb-aa)/200)","v":-4},{"v":-26.45079365079365,"d":"-26.45079"},{"$nulls":5},-2.5999999999999988,{"v":6.769005806608003,"d":"6.76901"},{"$f":"IF('y = cosh x'!J$27=FALSE,aaa,L36+(bbb-aaa)/200)","v":-4},{"v":26.98095238095238,"d":"26.98095"}]
[-2.5599999999999987,{"v":-6.42925628754988,"d":"-6.42926"},{"$f":"IF('y = sinh x'!I$28=FALSE,aa,C37+(bb-aa)/200)","v":-4},{"v":-26.45079365079365,"d":"-26.45079"},{"$nulls":5},-2.5599999999999987,{"v":6.50656102799318,"d":"6.50656"},{"$f":"IF('y = cosh x'!J$27=FALSE,aaa,L37+(bbb-aaa)/200)","v":-4},{"v":26.98095238095238,"d":"26.98095"}]
[-2.5199999999999987,{"v":-6.174068528413998,"d":"-6.17407"},{"$f":"IF('y = sinh x'!I$28=FALSE,aa,C38+(bb-aa)/200)","v":-4},{"v":-26.45079365079365,"d":"-26.45079"},{"$nulls":5},-2.5199999999999987,{"v":6.25452813516353,"d":"6.25453"},{"$f":"IF('y = cosh x'!J$27=FALSE,aaa,L38+(bbb-aaa)/200)","v":-4},{"v":26.98095238095238,"d":"26.98095"}]
[-2.4799999999999986,{"v":-5.928760596128446,"d":"-5.92876"},{"$f":"IF('y = sinh x'!I$28=FALSE,aa,C39+(bb-aa)/200)","v":-4},{"v":-26.45079365079365,"d":"-26.45079"},{"$nulls":5},-2.4799999999999986,{"v":6.0125038217206415,"d":"6.01250"},{"$f":"IF('y = cosh x'!J$27=FALSE,aaa,L39+(bbb-aaa)/200)","v":-4},{"v":26.98095238095238,"d":"26.98095"}]
[-2.4399999999999986,{"v":-5.692939945666418,"d":"-5.69294"},{"$f":"IF('y = sinh x'!I$28=FALSE,aa,C40+(bb-aa)/200)","v":-4},{"v":-26.45079365079365,"d":"-26.45079"},{"$nulls":5},-2.4399999999999986,{"v":5.780100797128399,"d":"5.78010"},{"$f":"IF('y = cosh x'!J$27=FALSE,aaa,L40+(bbb-aaa)/200)","v":-4},{"v":26.98095238095238,"d":"26.98095"}]
[-2.3999999999999986,{"v":-5.466229213676086,"d":"-5.46623"},{"$f":"IF('y = sinh x'!I$28=FALSE,aa,C41+(bb-aa)/200)","v":-4},{"v":-26.45079365079365,"d":"-26.45079"},{"$nulls":5},-2.3999999999999986,{"v":5.556947166965499,"d":"5.55695"},{"$f":"IF('y = cosh x'!J$27=FALSE,aaa,L41+(bbb-aaa)/200)","v":-4},{"v":26.98095238095238,"d":"26.98095"}]
[-2.3599999999999985,{"v":-5.248265614618732,"d":"-5.24827"},{"$f":"IF('y = sinh x'!I$28=FALSE,aa,C42+(bb-aa)/200)","v":-4},{"v":-26.45079365079365,"d":"-26.45079"},{"$nulls":5},-2.3599999999999985,{"v":5.342685837815034,"d":"5.34269"},{"$f":"IF('y = cosh x'!J$27=FALSE,aaa,L42+(bbb-aaa)/200)","v":-4},{"v":26.98095238095238,"d":"26.98095"}]
[-2.3199999999999985,{"v":-5.038700360234479,"d":"-5.03870"},{"$f":"IF('y = sinh x'!I$28=FALSE,aa,C43+(bb-aa)/200)","v":-4},{"v":-26.45079365079365,"d":"-26.45079"},{"$nulls":5},-2.3199999999999985,{"v":5.136973945838841,"d":"5.13697"},{"$f":"IF('y = cosh x'!J$27=FALSE,aaa,L43+(bbb-aaa)/200)","v":-4},{"v":26.98095238095238,"d":"26.98095"}]
[-2.2799999999999985,{"v":-4.837198101406676,"d":"-4.83720"},{"$f":"IF('y = sinh x'!I$28=FALSE,aa,C44+(bb-aa)/200)","v":-4},{"v":-26.45079365079365,"d":"-26.45079"},{"$nulls":5},-2.2799999999999985,{"v":4.939482308122214,"d":"4.93948"},{"$f":"IF('y = cosh x'!J$27=FALSE,aaa,L44+(bbb-aaa)/200)","v":-4},{"v":26.98095238095238,"d":"26.98095"}]
[-2.2399999999999984,{"v":-4.643436391531758,"d":"-4.64344"},{"$f":"IF('y = sinh x'!I$28=FALSE,aa,C45+(bb-aa)/200)","v":-4},{"v":-26.45079365079365,"d":"-26.45079"},{"$nulls":5},-2.2399999999999984,{"v":4.7498948959110106,"d":"4.74989"},{"$f":"IF('y = cosh x'!J$27=FALSE,aaa,L45+(bbb-aaa)/200)","v":-4},{"v":26.98095238095238,"d":"26.98095"}]
[-2.1999999999999984,{"v":-4.457105170535886,"d":"-4.45711"},{"$f":"IF('y = sinh x'!I$28=FALSE,aa,C46+(bb-aa)/200)","v":-4},{"v":-26.45079365079365,"d":"-26.45079"},{"$nulls":5},-2.1999999999999984,{"v":4.56790832889822,"d":"4.56791"},{"$f":"IF('y = cosh x'!J$27=FALSE,aaa,L46+(bbb-aaa)/200)","v":-4},{"v":26.98095238095238,"d":"26.98095"}]
[-2.1599999999999984,{"v":-4.277906268712688,"d":"-4.27791"},{"$f":"IF('y = sinh x'!I$28=FALSE,aa,C47+(bb-aa)/200)","v":-4},{"v":-26.45079365079365,"d":"-26.45079"},{"$nulls":5},-2.1599999999999984,{"v":4.393231389750752,"d":"4.39323"},{"$f":"IF('y = cosh x'!J$27=FALSE,aaa,L47+(bbb-aaa)/200)","v":-4},{"v":26.98095238095238,"d":"26.98095"}]
[-2.1199999999999983,{"v":-4.105552929588111,"d":"-4.10555"},{"$f":"IF('y = sinh x'!I$28=FALSE,aa,C48+(bb-aa)/200)","v":-4},{"v":-26.45079365079365,"d":"-26.45079"},{"$nulls":5},-2.1199999999999983,{"v":4.225584558099568,"d":"4.22558"},{"$f":"IF('y = cosh x'!J$27=FALSE,aaa,L48+(bbb-aaa)/200)","v":-4},{"v":26.98095238095238,"d":"26.98095"}]
[-2.0799999999999983,{"v":-3.9397693510488785,"d":"-3.93977"},{"$f":"IF('y = sinh x'!I$28=FALSE,aa,C49+(bb-aa)/200)","v":-4},{"v":-26.45079365079365,"d":"-26.45079"},{"$nulls":5},-2.0799999999999983,{"v":4.064699563247461,"d":"4.06470"},{"$f":"IF('y = cosh x'!J$27=FALSE,aaa,L49+(bbb-aaa)/200)","v":-4},{"v":26.98095238095238,"d":"26.98095"}]
[-2.0399999999999983,{"v":-3.7802902440002795,"d":"-3.78029"},{"$f":"IF('y = sinh x'!I$28=FALSE,aa,C50+(bb-aa)/200)","v":-4},{"v":-26.45079365079365,"d":"-26.45079"},{"$nulls":5},-2.0399999999999983,{"v":3.910318954878705,"d":"3.91032"},{"$f":"IF('y = cosh x'!J$27=FALSE,aaa,L50+(bbb-aaa)/200)","v":-4},{"v":26.98095238095238,"d":"26.98095"}]
[-1.9999999999999982,{"v":-3.626860407847012,"d":"-3.62686"},{"$f":"IF('y = sinh x'!I$28=FALSE,aa,C51+(bb-aa)/200)","v":-4},{"v":-26.45079365079365,"d":"-26.45079"},{"$nulls":5},-1.9999999999999982,{"v":3.762195691083625,"d":"3.76220"},{"$f":"IF('y = cosh x'!J$27=FALSE,aaa,L51+(bbb-aaa)/200)","v":-4},{"v":26.98095238095238,"d":"26.98095"}]
[-1.9599999999999982,{"v":-3.479234322117787,"d":"-3.47923"},{"$f":"IF('y = sinh x'!I$28=FALSE,aa,C52+(bb-aa)/200)","v":-4},{"v":-26.45079365079365,"d":"-26.45079"},{"$nulls":5},-1.9599999999999982,{"v":3.6200927430388323,"d":"3.62009"},{"$f":"IF('y = cosh x'!J$27=FALSE,aaa,L52+(bbb-aaa)/200)","v":-4},{"v":26.98095238095238,"d":"26.98095"}]
[-1.9199999999999982,{"v":-3.337175753580193,"d":"-3.33718"},{"$f":"IF('y = sinh x'!I$28=FALSE,aa,C53+(bb-aa)/200)","v":-4},{"v":-26.45079365079365,"d":"-26.45079"},{"$nulls":5},-1.9199999999999982,{"v":3.483782715710544,"d":"3.48378"},{"$f":"IF('y = cosh x'!J$27=FALSE,aaa,L53+(bbb-aaa)/200)","v":-4},{"v":26.98095238095238,"d":"26.98095"}]
[-1.8799999999999981,{"v":-3.200457378217126,"d":"-3.20046"},{"$f":"IF('y = sinh x'!I$28=FALSE,aa,C54+(bb-aa)/200)","v":-4},{"v":-26.45079365079365,"d":"-26.45079"},{"$nulls":5},-1.8799999999999981,{"v":3.3530474839740103,"d":"3.35305"},{"$f":"IF('y = cosh x'!J$27=FALSE,aaa,L54+(bbb-aaa)/200)","v":-4},{"v":26.98095238095238,"d":"26.98095"}]
[-1.839999999999998,{"v":-3.0688604174598617,"d":"-3.06886"},{"$f":"IF('y = sinh x'!I$28=FALSE,aa,C55+(bb-aa)/200)","v":-4},{"v":-26.45079365079365,"d":"-26.45079"},{"$nulls":5},-1.839999999999998,{"v":3.227677843566783,"d":"3.22768"},{"$f":"IF('y = cosh x'!J$27=FALSE,aaa,L55+(bbb-aaa)/200)","v":-4},{"v":26.98095238095238,"d":"26.98095"}]
[-1.799999999999998,{"v":-2.9421742880956736,"d":"-2.94217"},{"$f":"IF('y = sinh x'!I$28=FALSE,aa,C56+(bb-aa)/200)","v":-4},{"v":-26.45079365079365,"d":"-26.45079"},{"$nulls":5},-1.799999999999998,{"v":3.1074731763172605,"d":"3.10747"},{"$f":"IF('y = cosh x'!J$27=FALSE,aaa,L56+(bbb-aaa)/200)","v":-4},{"v":26.98095238095238,"d":"26.98095"}]
[-1.759999999999998,{"v":-2.820196265289763,"d":"-2.82020"},{"$f":"IF('y = sinh x'!I$28=FALSE,aa,C57+(bb-aa)/200)","v":-4},{"v":-26.45079365079365,"d":"-26.45079"},{"$nulls":5},-1.759999999999998,{"v":2.992241129112814,"d":"2.99224"},{"$f":"IF('y = cosh x'!J$27=FALSE,aaa,L57+(bbb-aaa)/200)","v":-4},{"v":26.98095238095238,"d":"26.98095"}]
[-1.719999999999998,{"v":-2.702731158182275,"d":"-2.70273"},{"$f":"IF('y = sinh x'!I$28=FALSE,aa,C58+(bb-aa)/200)","v":-4},{"v":-26.45079365079365,"d":"-26.45079"},{"$nulls":5},-1.719999999999998,{"v":2.8817973060937683,"d":"2.88180"},{"$f":"IF('y = cosh x'!J$27=FALSE,aaa,L58+(bbb-aaa)/200)","v":-4},{"v":26.98095238095238,"d":"26.98095"}]
[-1.679999999999998,{"v":-2.5895909975412765,"d":"-2.58959"},{"$f":"IF('y = sinh x'!I$28=FALSE,aa,C59+(bb-aa)/200)","v":-4},{"v":-26.45079365079365,"d":"-26.45079"},{"$nulls":5},-1.679999999999998,{"v":2.7759649735806873,"d":"2.77596"},{"$f":"IF('y = cosh x'!J$27=FALSE,aaa,L59+(bbb-aaa)/200)","v":-4},{"v":26.98095238095238,"d":"26.98095"}]
[-1.639999999999998,{"v":-2.480594734971889,"d":"-2.48059"},{"$f":"IF('y = sinh x'!I$28=FALSE,aa,C60+(bb-aa)/200)","v":-4},{"v":-26.45079365079365,"d":"-26.45079"},{"$nulls":5},-1.639999999999998,{"v":2.6745747772627815,"d":"2.67457"},{"$f":"IF('y = cosh x'!J$27=FALSE,aaa,L60+(bbb-aaa)/200)","v":-4},{"v":26.98095238095238,"d":"26.98095"}]
[-1.5999999999999979,{"v":-2.3755679532002243,"d":"-2.37557"},{"$f":"IF('y = sinh x'!I$28=FALSE,aa,C61+(bb-aa)/200)","v":-4},{"v":-26.45079365079365,"d":"-26.45079"},{"$nulls":5},-1.5999999999999979,{"v":2.57746447119488,"d":"2.57746"},{"$f":"IF('y = cosh x'!J$27=FALSE,aaa,L61+(bbb-aaa)/200)","v":-4},{"v":26.98095238095238,"d":"26.98095"}]
[-1.5599999999999978,{"v":-2.274342586968539,"d":"-2.27434"},{"$f":"IF('y = sinh x'!I$28=FALSE,aa,C62+(bb-aa)/200)","v":-4},{"v":-26.45079365079365,"d":"-26.45079"},{"$nulls":5},-1.5599999999999978,{"v":2.4844786581693046,"d":"2.48448"},{"$f":"IF('y = cosh x'!J$27=FALSE,aaa,L62+(bbb-aaa)/200)","v":-4},{"v":26.98095238095238,"d":"26.98095"}]
[-1.5199999999999978,{"v":-2.1767566540949668,"d":"-2.17676"},{"$f":"IF('y = sinh x'!I$28=FALSE,aa,C63+(bb-aa)/200)","v":-4},{"v":-26.45079365079365,"d":"-26.45079"},{"$nulls":5},-1.5199999999999978,{"v":2.3954685410471823,"d":"2.39547"},{"$f":"IF('y = cosh x'!J$27=FALSE,aaa,L63+(bbb-aaa)/200)","v":-4},{"v":26.98095238095238,"d":"26.98095"}]
[-1.4799999999999978,{"v":-2.082653996267467,"d":"-2.08265"},{"$f":"IF('y = sinh x'!I$28=FALSE,aa,C64+(bb-aa)/200)","v":-4},{"v":-26.45079365079365,"d":"-26.45079"},{"$nulls":5},-1.4799999999999978,{"v":2.3102916846512804,"d":"2.31029"},{"$f":"IF('y = cosh x'!J$27=FALSE,aaa,L64+(bbb-aaa)/200)","v":-4},{"v":26.98095238095238,"d":"26.98095"}]
[-1.4399999999999977,{"v":-1.9918840291572106,"d":"-1.99188"},{"$f":"IF('y = sinh x'!I$28=FALSE,aa,C65+(bb-aa)/200)","v":-4},{"v":-26.45079365079365,"d":"-26.45079"},{"$nulls":5},-1.4399999999999977,{"v":2.2288117878393328,"d":"2.22881"},{"$f":"IF('y = cosh x'!J$27=FALSE,aaa,L65+(bbb-aaa)/200)","v":-4},{"v":26.98095238095238,"d":"26.98095"}]
[{"$f":"A66+(bb-aa)/200","v":-1.3999999999999977},{"$f":"SINH(A67)","v":{"v":-1.9043015014515292,"d":"-1.90430"}},{"$f":"IF('y = sinh x'!I$28=FALSE,aa,C66+(bb-aa)/200)","v":-4},{"$f":"C67+C67^3/6+C67^5/120+C67^7/5040","v":{"v":-26.45079365079365,"d":"-26.45079"}},{"$nulls":5},{"$f":"J66+(bbb-aaa)/200","v":-1.3999999999999977},{"$f":"COSH(J67)","v":{"v":2.1508984653931362,"d":"2.15090"}},{"$f":"IF('y = cosh x'!J$27=FALSE,aaa,L66+(bbb-aaa)/200)","v":-4},{"$f":"1+L67^2/2+L67^4/24+L67^6/720+L67^8/5040/8","v":{"v":26.98095238095238,"d":"26.98095"}}]
[-1.3599999999999977,{"v":-1.8197662624208246,"d":"-1.81977"},{"$f":"IF('y = sinh x'!I$28=FALSE,aa,C67+(bb-aa)/200)","v":-4},{"v":-26.45079365079365,"d":"-26.45079"},{"$nulls":5},-1.3599999999999977,{"v":2.076427039374381,"d":"2.07643"},{"$f":"IF('y = cosh x'!J$27=FALSE,aaa,L67+(bbb-aaa)/200)","v":-4},{"v":26.98095238095238,"d":"26.98095"}]
[-1.3199999999999976,{"v":-1.7381430376475013,"d":"-1.73814"},{"$f":"IF('y = sinh x'!I$28=FALSE,aa,C68+(bb-aa)/200)","v":-4},{"v":-26.45079365079365,"d":"-26.45079"},{"$nulls":5},-1.3199999999999976,{"v":2.0052783396133522,"d":"2.00528"},{"$f":"IF('y = cosh x'!J$27=FALSE,aaa,L68+(bbb-aaa)/200)","v":-4},{"v":26.98095238095238,"d":"26.98095"}]
[-1.2799999999999976,{"v":-1.659301212558039,"d":"-1.65930"},{"$f":"IF('y = sinh x'!I$28=FALSE,aa,C69+(bb-aa)/200)","v":-4},{"v":-26.45079365079365,"d":"-26.45079"},{"$nulls":5},-1.2799999999999976,{"v":1.9373385130112337,"d":"1.93734"},{"$f":"IF('y = cosh x'!J$27=FALSE,aaa,L69+(bbb-aaa)/200)","v":-4},{"v":26.98095238095238,"d":"26.98095"}]
[-1.2399999999999975,{"v":-1.5831146234118079,"d":"-1.58311"},{"$f":"IF('y = sinh x'!I$28=FALSE,aa,C70+(bb-aa)/200)","v":-4},{"v":-26.45079365079365,"d":"-26.45079"},{"$nulls":5},-1.2399999999999975,{"v":1.8724988413508592,"d":"1.87250"},{"$f":"IF('y = cosh x'!J$27=FALSE,aaa,L70+(bbb-aaa)/200)","v":-4},{"v":26.98095238095238,"d":"26.98095"}]
[-1.1999999999999975,{"v":-1.509461355412168,"d":"-1.50946"},{"$f":"IF('y = sinh x'!I$28=FALSE,aa,C71+(bb-aa)/200)","v":-4},{"v":-26.45079365079365,"d":"-26.45079"},{"$nulls":5},-1.1999999999999975,{"v":1.8106555673243712,"d":"1.81066"},{"$f":"IF('y = cosh x'!J$27=FALSE,aaa,L71+(bbb-aaa)/200)","v":-4},{"v":26.98095238095238,"d":"26.98095"}]
[-1.1599999999999975,{"v":-1.4382235476167853,"d":"-1.43822"},{"$f":"IF('y = sinh x'!I$28=FALSE,aa,C72+(bb-aa)/200)","v":-4},{"v":-26.45079365079365,"d":"-26.45079"},{"$nulls":5},-1.1599999999999975,{"v":1.7517097284993912,"d":"1.75171"},{"$f":"IF('y = cosh x'!J$27=FALSE,aaa,L72+(bbb-aaa)/200)","v":-4},{"v":26.98095238095238,"d":"26.98095"}]
[-1.1199999999999974,{"v":-1.369287204334977,"d":"-1.36929"},{"$f":"IF('y = sinh x'!I$28=FALSE,aa,C73+(bb-aa)/200)","v":-4},{"v":-26.45079365079365,"d":"-26.45079"},{"$nulls":5},-1.1199999999999974,{"v":1.6955669989580173,"d":"1.69557"},{"$f":"IF('y = cosh x'!J$27=FALSE,aaa,L73+(bbb-aaa)/200)","v":-4},{"v":26.98095238095238,"d":"26.98095"}]
[-1.0799999999999974,{"v":-1.302542012710288,"d":"-1.30254"},{"$f":"IF('y = sinh x'!I$28=FALSE,aa,C74+(bb-aa)/200)","v":-4},{"v":-26.45079365079365,"d":"-26.45079"},{"$nulls":5},-1.0799999999999974,{"v":1.6421375383552281,"d":"1.64214"},{"$f":"IF('y = cosh x'!J$27=FALSE,aaa,L74+(bbb-aaa)/200)","v":-4},{"v":26.98095238095238,"d":"26.98095"}]
[-1.0399999999999974,{"v":-1.2378811661963856,"d":"-1.23788"},{"$f":"IF('y = sinh x'!I$28=FALSE,aa,C75+(bb-aa)/200)","v":-4},{"v":-26.45079365079365,"d":"-26.45079"},{"$nulls":5},-1.0399999999999974,{"v":1.5913358481551667,"d":"1.59134"},{"$f":"IF('y = cosh x'!J$27=FALSE,aaa,L75+(bbb-aaa)/200)","v":-4},{"v":26.98095238095238,"d":"26.98095"}]
[-0.9999999999999973,{"v":-1.1752011936437974,"d":"-1.17520"},{"$f":"IF('y = sinh x'!I$28=FALSE,aa,C76+(bb-aa)/200)","v":-4},{"v":-26.45079365079365,"d":"-26.45079"},{"$nulls":5},-0.9999999999999973,{"v":1.5430806348152406,"d":"1.54308"},{"$f":"IF('y = cosh x'!J$27=FALSE,aaa,L76+(bbb-aaa)/200)","v":-4},{"v":26.98095238095238,"d":"26.98095"}]
[-0.9599999999999973,{"v":-1.114401793723999,"d":"-1.11440"},{"$f":"IF('y = sinh x'!I$28=FALSE,aa,C77+(bb-aa)/200)","v":-4},{"v":-26.45079365079365,"d":"-26.45079"},{"$nulls":5},-0.9599999999999973,{"v":1.4972946796991118,"d":"1.49729"},{"$f":"IF('y = cosh x'!J$27=FALSE,aaa,L77+(bbb-aaa)/200)","v":-4},{"v":26.98095238095238,"d":"26.98095"}]
[-0.9199999999999973,{"v":-1.0553856744258878,"d":"-1.05539"},{"$f":"IF('y = sinh x'!I$28=FALSE,aa,C78+(bb-aa)/200)","v":-4},{"v":-26.45079365079365,"d":"-26.45079"},{"$nulls":5},-0.9199999999999973,{"v":1.453904715510403,"d":"1.45390"},{"$f":"IF('y = cosh x'!J$27=FALSE,aaa,L78+(bbb-aaa)/200)","v":-4},{"v":26.98095238095238,"d":"26.98095"}]
[-0.8799999999999972,{"v":-0.9980583973678103,"d":"-0.99806"},{"$f":"IF('y = sinh x'!I$28=FALSE,aa,C79+(bb-aa)/200)","v":-4},{"v":-26.45079365079365,"d":"-26.45079"},{"$nulls":5},-0.8799999999999972,{"v":1.4128413090493928,"d":"1.41284"},{"$f":"IF('y = cosh x'!J$27=FALSE,aaa,L79+(bbb-aaa)/200)","v":-4},{"v":26.98095238095238,"d":"26.98095"}]
[-0.8399999999999972,{"v":-0.9423282266760022,"d":"-0.94233"},{"$f":"IF('y = sinh x'!I$28=FALSE,aa,C80+(bb-aa)/200)","v":-4},{"v":-26.45079365079365,"d":"-26.45079"},{"$nulls":5},-0.8399999999999972,{"v":1.374038750105083,"d":"1.37404"},{"$f":"IF('y = cosh x'!J$27=FALSE,aaa,L80+(bbb-aaa)/200)","v":-4},{"v":26.98095238095238,"d":"26.98095"}]
[-0.7999999999999972,{"v":-0.8881059821876192,"d":"-0.88811"},{"$f":"IF('y = sinh x'!I$28=FALSE,aa,C81+(bb-aa)/200)","v":-4},{"v":-26.45079365079365,"d":"-26.45079"},{"$nulls":5},-0.7999999999999972,{"v":1.337434946304842,"d":"1.33743"},{"$f":"IF('y = cosh x'!J$27=FALSE,aaa,L81+(bbb-aaa)/200)","v":-4},{"v":26.98095238095238,"d":"26.98095"}]
[-0.7599999999999971,{"v":-0.8353048967434509,"d":"-0.83530"},{"$f":"IF('y = sinh x'!I$28=FALSE,aa,C82+(bb-aa)/200)","v":-4},{"v":-26.45079365079365,"d":"-26.45079"},{"$nulls":5},-0.7599999999999971,{"v":1.3029713237533616,"d":"1.30297"},{"$f":"IF('y = cosh x'!J$27=FALSE,aaa,L82+(bbb-aaa)/200)","v":-4},{"v":26.98095238095238,"d":"26.98095"}]
[-0.7199999999999971,{"v":-0.7838404773419544,"d":"-0.78384"},{"$f":"IF('y = sinh x'!I$28=FALSE,aa,C83+(bb-aa)/200)","v":-4},{"v":-26.45079365079365,"d":"-26.45079"},{"$nulls":5},-0.7199999999999971,{"v":1.2705927333019273,"d":"1.27059"},{"$f":"IF('y = cosh x'!J$27=FALSE,aaa,L83+(bbb-aaa)/200)","v":-4},{"v":26.98095238095238,"d":"26.98095"}]
[-0.679999999999997,{"v":-0.7336303699324254,"d":"-0.73363"},{"$f":"IF('y = sinh x'!I$28=FALSE,aa,C84+(bb-aa)/200)","v":-4},{"v":-26.45079365079365,"d":"-26.45079"},{"$nulls":5},-0.679999999999997,{"v":1.2402473622980164,"d":"1.24025"},{"$f":"IF('y = cosh x'!J$27=FALSE,aaa,L84+(bbb-aaa)/200)","v":-4},{"v":26.98095238095238,"d":"26.98095"}]
[-0.639999999999997,{"v":-0.6845942276309478,"d":"-0.68459"},{"$f":"IF('y = sinh x'!I$28=FALSE,aa,C85+(bb-aa)/200)","v":-4},{"v":-26.45079365079365,"d":"-26.45079"},{"$nulls":5},-0.639999999999997,{"v":1.211886651673998,"d":"1.21189"},{"$f":"IF('y = cosh x'!J$27=FALSE,aaa,L85+(bbb-aaa)/200)","v":-4},{"v":26.98095238095238,"d":"26.98095"}]
[-0.599999999999997,{"v":-0.6366535821482378,"d":"-0.63665"},{"$f":"IF('y = sinh x'!I$28=FALSE,aa,C86+(bb-aa)/200)","v":-4},{"v":-26.45079365079365,"d":"-26.45079"},{"$nulls":5},-0.599999999999997,{"v":1.1854652182422658,"d":"1.18547"},{"$f":"IF('y = cosh x'!J$27=FALSE,aaa,L86+(bbb-aaa)/200)","v":-4},{"v":26.98095238095238,"d":"26.98095"}]
[-0.559999999999997,{"v":-0.5897317182236395,"d":"-0.58973"},{"$f":"IF('y = sinh x'!I$28=FALSE,aa,C87+(bb-aa)/200)","v":-4},{"v":-26.45079365079365,"d":"-26.45079"},{"$nulls":5},-0.559999999999997,{"v":1.1609407820724562,"d":"1.16094"},{"$f":"IF('y = cosh x'!J$27=FALSE,aaa,L87+(bbb-aaa)/200)","v":-4},{"v":26.98095238095238,"d":"26.98095"}]
[-0.5199999999999969,{"v":-0.5437535508643425,"d":"-0.54375"},{"$f":"IF('y = sinh x'!I$28=FALSE,aa,C88+(bb-aa)/200)","v":-4},{"v":-26.45079365079365,"d":"-26.45079"},{"$nulls":5},-0.5199999999999969,{"v":1.1382740988345386,"d":"1.13827"},{"$f":"IF('y = cosh x'!J$27=FALSE,aaa,L88+(bbb-aaa)/200)","v":-4},{"v":26.98095238095238,"d":"26.98095"}]
[-0.47999999999999693,{"v":-0.4986455051933728,"d":"-0.49865"},{"$f":"IF('y = sinh x'!I$28=FALSE,aa,C89+(bb-aa)/200)","v":-4},{"v":-26.45079365079365,"d":"-26.45079"},{"$nulls":5},-0.47999999999999693,{"v":1.1174288969995154,"d":"1.11743"},{"$f":"IF('y = cosh x'!J$27=FALSE,aaa,L89+(bbb-aaa)/200)","v":-4},{"v":26.98095238095238,"d":"26.98095"}]
[-0.43999999999999695,{"v":-0.454335398714094,"d":"-0.45434"},{"$f":"IF('y = sinh x'!I$28=FALSE,aa,C90+(bb-aa)/200)","v":-4},{"v":-26.45079365079365,"d":"-26.45079"},{"$nulls":5},-0.43999999999999695,{"v":1.0983718197972374,"d":"1.09837"},{"$f":"IF('y = cosh x'!J$27=FALSE,aaa,L90+(bbb-aaa)/200)","v":-4},{"v":26.98095238095238,"d":"26.98095"}]
[-0.39999999999999697,{"v":-0.4107523258028123,"d":"-0.41075"},{"$f":"IF('y = sinh x'!I$28=FALSE,aa,C91+(bb-aa)/200)","v":-4},{"v":-26.45079365079365,"d":"-26.45079"},{"$nulls":5},-0.39999999999999697,{"v":1.0810723718384536,"d":"1.08107"},{"$f":"IF('y = cosh x'!J$27=FALSE,aaa,L91+(bbb-aaa)/200)","v":-4},{"v":26.98095238095238,"d":"26.98095"}]
[-0.359999999999997,{"v":-0.3678265442446514,"d":"-0.36783"},{"$f":"IF('y = sinh x'!I$28=FALSE,aa,C92+(bb-aa)/200)","v":-4},{"v":-26.45079365079365,"d":"-26.45079"},{"$nulls":5},-0.359999999999997,{"v":1.0655028703156846,"d":"1.06550"},{"$f":"IF('y = cosh x'!J$27=FALSE,aaa,L92+(bbb-aaa)/200)","v":-4},{"v":26.98095238095238,"d":"26.98095"}]
[-0.319999999999997,{"v":-0.3254893636311299,"d":"-0.32549"},{"$f":"IF('y = sinh x'!I$28=FALSE,aa,C93+(bb-aa)/200)","v":-4},{"v":-26.45079365079365,"d":"-26.45079"},{"$nulls":5},-0.319999999999997,{"v":1.051638400704823,"d":"1.05164"},{"$f":"IF('y = cosh x'!J$27=FALSE,aaa,L93+(bbb-aaa)/200)","v":-4},{"v":26.98095238095238,"d":"26.98095"}]
[-0.27999999999999703,{"v":-0.28367303544085265,"d":"-0.28367"},{"$f":"IF('y = sinh x'!I$28=FALSE,aa,C94+(bb-aa)/200)","v":-4},{"v":-26.45079365079365,"d":"-26.45079"},{"$nulls":5},-0.27999999999999703,{"v":1.0394567768965803,"d":"1.03946"},{"$f":"IF('y = cosh x'!J$27=FALSE,aaa,L94+(bbb-aaa)/200)","v":-4},{"v":26.98095238095238,"d":"26.98095"}]
[-0.23999999999999702,{"v":-0.2423106446274226,"d":"-0.24231"},{"$f":"IF('y = sinh x'!I$28=FALSE,aa,C95+(bb-aa)/200)","v":-4},{"v":-26.45079365079365,"d":"-26.45079"},{"$nulls":5},-0.23999999999999702,{"v":1.0289385056939784,"d":"1.02894"},{"$f":"IF('y = cosh x'!J$27=FALSE,aaa,L95+(bbb-aaa)/200)","v":-4},{"v":26.98095238095238,"d":"26.98095"}]
[-0.199999999999997,{"v":-0.2013360025410909,"d":"-0.20134"},{"$f":"IF('y = sinh x'!I$28=FALSE,aa,C96+(bb-aa)/200)","v":-4},{"v":-26.45079365079365,"d":"-26.45079"},{"$nulls":5},-0.199999999999997,{"v":1.0200667556190752,"d":"1.02007"},{"$f":"IF('y = cosh x'!J$27=FALSE,aaa,L96+(bbb-aaa)/200)","v":-4},{"v":26.98095238095238,"d":"26.98095"}]
[-0.159999999999997,{"v":-0.16068354101279642,"d":"-0.16068"},{"$f":"IF('y = sinh x'!I$28=FALSE,aa,C97+(bb-aa)/200)","v":-4},{"v":-26.45079365079365,"d":"-26.45079"},{"$nulls":5},-0.159999999999997,{"v":1.0128273299790103,"d":"1.01283"},{"$f":"IF('y = cosh x'!J$27=FALSE,aaa,L97+(bbb-aaa)/200)","v":-4},{"v":26.98095238095238,"d":"26.98095"}]
[{"$f":"A98+(bb-aa)/200","v":-0.119999999999997},{"v":-0.12028820743110605,"d":"-0.12029"},{"$f":"IF('y = sinh x'!I$28=FALSE,aa,C98+(bb-aa)/200)","v":-4},{"v":-26.45079365079365,"d":"-26.45079"},{"$nulls":5},{"$f":"J98+(bbb-aaa)/200","v":-0.119999999999997},{"v":1.0072086441482662,"d":"1.00721"},{"$f":"IF('y = cosh x'!J$27=FALSE,aaa,L98+(bbb-aaa)/200)","v":-4},{"v":26.98095238095238,"d":"26.98095"}]
[-0.07999999999999699,{"v":-0.08008536064415836,"d":"-0.08009"},{"$f":"IF('y = sinh x'!I$28=FALSE,aa,C99+(bb-aa)/200)","v":-4},{"v":-26.45079365079365,"d":"-26.45079"},{"$nulls":5},-0.07999999999999699,{"v":1.0032017070307968,"d":"1.00320"},{"$f":"IF('y = cosh x'!J$27=FALSE,aaa,L99+(bbb-aaa)/200)","v":-4},{"v":26.98095238095238,"d":"26.98095"}]
[-0.03999999999999699,{"v":-0.04001066752002949,"d":"-0.04001"},{"$f":"IF('y = sinh x'!I$28=FALSE,aa,C100+(bb-aa)/200)","v":-4},{"v":-26.45079365079365,"d":"-26.45079"},{"$nulls":5},-0.03999999999999699,{"v":1.0008001066723555,"d":"1.00080"},{"$f":"IF('y = cosh x'!J$27=FALSE,aaa,L100+(bbb-aaa)/200)","v":-4},{"v":26.98095238095238,"d":"26.98095"}]
[3.011479954295737e-15,{"v":3.011479954295737e-15,"d":"0.00000"},{"$f":"IF('y = sinh x'!I$28=FALSE,aa,C101+(bb-aa)/200)","v":-4},{"v":-26.45079365079365,"d":"-26.45079"},{"$nulls":5},3.011479954295737e-15,{"v":1,"d":"1.00000"},{"$f":"IF('y = cosh x'!J$27=FALSE,aaa,L101+(bbb-aaa)/200)","v":-4},{"v":26.98095238095238,"d":"26.98095"}]
[0.04000000000000301,{"v":0.04001066752003552,"d":"0.04001"},{"$f":"IF('y = sinh x'!I$28=FALSE,aa,C102+(bb-aa)/200)","v":-4},{"v":-26.45079365079365,"d":"-26.45079"},{"$nulls":5},0.04000000000000301,{"v":1.0008001066723557,"d":"1.00080"},{"$f":"IF('y = cosh x'!J$27=FALSE,aaa,L102+(bbb-aaa)/200)","v":-4},{"v":26.98095238095238,"d":"26.98095"}]
[0.08000000000000301,{"v":0.08008536064416441,"d":"0.08009"},{"$f":"IF('y = sinh x'!I$28=FALSE,aa,C103+(bb-aa)/200)","v":-4},{"v":-26.45079365079365,"d":"-26.45079"},{"$nulls":5},0.08000000000000301,{"v":1.0032017070307973,"d":"1.00320"},{"$f":"IF('y = cosh x'!J$27=FALSE,aaa,L103+(bbb-aaa)/200)","v":-4},{"v":26.98095238095238,"d":"26.98095"}]
[0.12000000000000302,{"v":0.12028820743111211,"d":"0.12029"},{"$f":"IF('y = sinh x'!I$28=FALSE,aa,C104+(bb-aa)/200)","v":-4},{"v":-26.45079365079365,"d":"-26.45079"},{"$nulls":5},0.12000000000000302,{"v":1.007208644148267,"d":"1.00721"},{"$f":"IF('y = cosh x'!J$27=FALSE,aaa,L104+(bbb-aaa)/200)","v":-4},{"v":26.98095238095238,"d":"26.98095"}]
[0.16000000000000303,{"v":0.16068354101280252,"d":"0.16068"},{"$f":"IF('y = sinh x'!I$28=FALSE,aa,C105+(bb-aa)/200)","v":-4},{"v":-26.45079365079365,"d":"-26.45079"},{"$nulls":5},0.16000000000000303,{"v":1.0128273299790114,"d":"1.01283"},{"$f":"IF('y = cosh x'!J$27=FALSE,aaa,L105+(bbb-aaa)/200)","v":-4},{"v":26.98095238095238,"d":"26.98095"}]
[0.20000000000000304,{"v":0.20133600254109707,"d":"0.20134"},{"$f":"IF('y = sinh x'!I$28=FALSE,aa,C106+(bb-aa)/200)","v":-4},{"v":-26.45079365079365,"d":"-26.45079"},{"$nulls":5},0.20000000000000304,{"v":1.0200667556190766,"d":"1.02007"},{"$f":"IF('y = cosh x'!J$27=FALSE,aaa,L106+(bbb-aaa)/200)","v":-4},{"v":26.98095238095238,"d":"26.98095"}]
[0.24000000000000304,{"v":0.2423106446274288,"d":"0.24231"},{"$f":"IF('y = sinh x'!I$28=FALSE,aa,C107+(bb-aa)/200)","v":-4},{"v":-26.45079365079365,"d":"-26.45079"},{"$nulls":5},0.24000000000000304,{"v":1.0289385056939797,"d":"1.02894"},{"$f":"IF('y = cosh x'!J$27=FALSE,aaa,L107+(bbb-aaa)/200)","v":-4},{"v":26.98095238095238,"d":"26.98095"}]
[0.280000000000003,{"v":0.28367303544085887,"d":"0.28367"},{"$f":"IF('y = sinh x'!I$28=FALSE,aa,C108+(bb-aa)/200)","v":-4},{"v":-26.45079365079365,"d":"-26.45079"},{"$nulls":5},0.280000000000003,{"v":1.0394567768965821,"d":"1.03946"},{"$f":"IF('y = cosh x'!J$27=FALSE,aaa,L108+(bbb-aaa)/200)","v":-4},{"v":26.98095238095238,"d":"26.98095"}]
[0.320000000000003,{"v":0.32548936363113623,"d":"0.32549"},{"$f":"IF('y = sinh x'!I$28=FALSE,aa,C109+(bb-aa)/200)","v":-4},{"v":-26.45079365079365,"d":"-26.45079"},{"$nulls":5},0.320000000000003,{"v":1.051638400704825,"d":"1.05164"},{"$f":"IF('y = cosh x'!J$27=FALSE,aaa,L109+(bbb-aaa)/200)","v":-4},{"v":26.98095238095238,"d":"26.98095"}]
[0.360000000000003,{"v":0.36782654424465777,"d":"0.36783"},{"$f":"IF('y = sinh x'!I$28=FALSE,aa,C110+(bb-aa)/200)","v":-4},{"v":-26.45079365079365,"d":"-26.45079"},{"$nulls":5},0.360000000000003,{"v":1.0655028703156868,"d":"1.06550"},{"$f":"IF('y = cosh x'!J$27=FALSE,aaa,L110+(bbb-aaa)/200)","v":-4},{"v":26.98095238095238,"d":"26.98095"}]
[0.40000000000000296,{"v":0.4107523258028187,"d":"0.41075"},{"$f":"IF('y = sinh x'!I$28=FALSE,aa,C111+(bb-aa)/200)","v":-4},{"v":-26.45079365079365,"d":"-26.45079"},{"$nulls":5},0.40000000000000296,{"v":1.081072371838456,"d":"1.08107"},{"$f":"IF('y = cosh x'!J$27=FALSE,aaa,L111+(bbb-aaa)/200)","v":-4},{"v":26.98095238095238,"d":"26.98095"}]
[0.44000000000000294,{"v":0.45433539871410056,"d":"0.45434"},{"$f":"IF('y = sinh x'!I$28=FALSE,aa,C112+(bb-aa)/200)","v":-4},{"v":-26.45079365079365,"d":"-26.45079"},{"$nulls":5},0.44000000000000294,{"v":1.09837181979724,"d":"1.09837"},{"$f":"IF('y = cosh x'!J$27=FALSE,aaa,L112+(bbb-aaa)/200)","v":-4},{"v":26.98095238095238,"d":"26.98095"}]
[0.4800000000000029,{"v":0.49864550519337947,"d":"0.49865"},{"$f":"IF('y = sinh x'!I$28=FALSE,aa,C113+(bb-aa)/200)","v":-4},{"v":-26.45079365079365,"d":"-26.45079"},{"$nulls":5},0.4800000000000029,{"v":1.1174288969995185,"d":"1.11743"},{"$f":"IF('y = cosh x'!J$27=FALSE,aaa,L113+(bbb-aaa)/200)","v":-4},{"v":26.98095238095238,"d":"26.98095"}]
[0.5200000000000029,{"v":0.5437535508643494,"d":"0.54375"},{"$f":"IF('y = sinh x'!I$28=FALSE,aa,C114+(bb-aa)/200)","v":-4},{"v":-26.45079365079365,"d":"-26.45079"},{"$nulls":5},0.5200000000000029,{"v":1.138274098834542,"d":"1.13827"},{"$f":"IF('y = cosh x'!J$27=FALSE,aaa,L114+(bbb-aaa)/200)","v":-4},{"v":26.98095238095238,"d":"26.98095"}]
[0.5600000000000029,{"v":0.5897317182236466,"d":"0.58973"},{"$f":"IF('y = sinh x'!I$28=FALSE,aa,C115+(bb-aa)/200)","v":-4},{"v":-26.45079365079365,"d":"-26.45079"},{"$nulls":5},0.5600000000000029,{"v":1.1609407820724598,"d":"1.16094"},{"$f":"IF('y = cosh x'!J$27=FALSE,aaa,L115+(bbb-aaa)/200)","v":-4},{"v":26.98095238095238,"d":"26.98095"}]
[0.600000000000003,{"v":0.6366535821482449,"d":"0.63665"},{"$f":"IF('y = sinh x'!I$28=FALSE,aa,C116+(bb-aa)/200)","v":-4},{"v":-26.45079365079365,"d":"-26.45079"},{"$nulls":5},0.600000000000003,{"v":1.1854652182422696,"d":"1.18547"},{"$f":"IF('y = cosh x'!J$27=FALSE,aaa,L116+(bbb-aaa)/200)","v":-4},{"v":26.98095238095238,"d":"26.98095"}]
[0.640000000000003,{"v":0.6845942276309549,"d":"0.68459"},{"$f":"IF('y = sinh x'!I$28=FALSE,aa,C117+(bb-aa)/200)","v":-4},{"v":-26.45079365079365,"d":"-26.45079"},{"$nulls":5},0.640000000000003,{"v":1.2118866516740021,"d":"1.21189"},{"$f":"IF('y = cosh x'!J$27=FALSE,aaa,L117+(bbb-aaa)/200)","v":-4},{"v":26.98095238095238,"d":"26.98095"}]
[0.680000000000003,{"v":0.7336303699324329,"d":"0.73363"},{"$f":"IF('y = sinh x'!I$28=FALSE,aa,C118+(bb-aa)/200)","v":-4},{"v":-26.45079365079365,"d":"-26.45079"},{"$nulls":5},0.680000000000003,{"v":1.240247362298021,"d":"1.24025"},{"$f":"IF('y = cosh x'!J$27=FALSE,aaa,L118+(bbb-aaa)/200)","v":-4},{"v":26.98095238095238,"d":"26.98095"}]
[0.7200000000000031,{"v":0.7838404773419619,"d":"0.78384"},{"$f":"IF('y = sinh x'!I$28=FALSE,aa,C119+(bb-aa)/200)","v":-4},{"v":-26.45079365079365,"d":"-26.45079"},{"$nulls":5},0.7200000000000031,{"v":1.2705927333019322,"d":"1.27059"},{"$f":"IF('y = cosh x'!J$27=FALSE,aaa,L119+(bbb-aaa)/200)","v":-4},{"v":26.98095238095238,"d":"26.98095"}]
[0.7600000000000031,{"v":0.8353048967434588,"d":"0.83530"},{"$f":"IF('y = sinh x'!I$28=FALSE,aa,C120+(bb-aa)/200)","v":-4},{"v":-26.45079365079365,"d":"-26.45079"},{"$nulls":5},0.7600000000000031,{"v":1.3029713237533664,"d":"1.30297"},{"$f":"IF('y = cosh x'!J$27=FALSE,aaa,L120+(bbb-aaa)/200)","v":-4},{"v":26.98095238095238,"d":"26.98095"}]
[0.8000000000000032,{"v":0.8881059821876272,"d":"0.88811"},{"$f":"IF('y = sinh x'!I$28=FALSE,aa,C121+(bb-aa)/200)","v":-4},{"v":-26.45079365079365,"d":"-26.45079"},{"$nulls":5},0.8000000000000032,{"v":1.3374349463048474,"d":"1.33743"},{"$f":"IF('y = cosh x'!J$27=FALSE,aaa,L121+(bbb-aaa)/200)","v":-4},{"v":26.98095238095238,"d":"26.98095"}]
[0.8400000000000032,{"v":0.9423282266760102,"d":"0.94233"},{"$f":"IF('y = sinh x'!I$28=FALSE,aa,C122+(bb-aa)/200)","v":-4},{"v":-26.45079365079365,"d":"-26.45079"},{"$nulls":5},0.8400000000000032,{"v":1.3740387501050888,"d":"1.37404"},{"$f":"IF('y = cosh x'!J$27=FALSE,aaa,L122+(bbb-aaa)/200)","v":-4},{"v":26.98095238095238,"d":"26.98095"}]
[0.8800000000000032,{"v":0.9980583973678189,"d":"0.99806"},{"$f":"IF('y = sinh x'!I$28=FALSE,aa,C123+(bb-aa)/200)","v":-4},{"v":-26.45079365079365,"d":"-26.45079"},{"$nulls":5},0.8800000000000032,{"v":1.412841309049399,"d":"1.41284"},{"$f":"IF('y = cosh x'!J$27=FALSE,aaa,L123+(bbb-aaa)/200)","v":-4},{"v":26.98095238095238,"d":"26.98095"}]
[0.9200000000000033,{"v":1.0553856744258965,"d":"1.05539"},{"$f":"IF('y = sinh x'!I$28=FALSE,aa,C124+(bb-aa)/200)","v":-4},{"v":-26.45079365079365,"d":"-26.45079"},{"$nulls":5},0.9200000000000033,{"v":1.4539047155104095,"d":"1.45390"},{"$f":"IF('y = cosh x'!J$27=FALSE,aaa,L124+(bbb-aaa)/200)","v":-4},{"v":26.98095238095238,"d":"26.98095"}]
[0.9600000000000033,{"v":1.1144017937240078,"d":"1.11440"},{"$f":"IF('y = sinh x'!I$28=FALSE,aa,C125+(bb-aa)/200)","v":-4},{"v":-26.45079365079365,"d":"-26.45079"},{"$nulls":5},0.9600000000000033,{"v":1.4972946796991184,"d":"1.49729"},{"$f":"IF('y = cosh x'!J$27=FALSE,aaa,L125+(bbb-aaa)/200)","v":-4},{"v":26.98095238095238,"d":"26.98095"}]
[1.0000000000000033,{"v":1.1752011936438067,"d":"1.17520"},{"$f":"IF('y = sinh x'!I$28=FALSE,aa,C126+(bb-aa)/200)","v":-4},{"v":-26.45079365079365,"d":"-26.45079"},{"$nulls":5},1.0000000000000033,{"v":1.5430806348152477,"d":"1.54308"},{"$f":"IF('y = cosh x'!J$27=FALSE,aaa,L126+(bbb-aaa)/200)","v":-4},{"v":26.98095238095238,"d":"26.98095"}]
[1.0400000000000034,{"v":1.237881166196395,"d":"1.23788"},{"$f":"IF('y = sinh x'!I$28=FALSE,aa,C127+(bb-aa)/200)","v":-4},{"v":-26.45079365079365,"d":"-26.45079"},{"$nulls":5},1.0400000000000034,{"v":1.591335848155174,"d":"1.59134"},{"$f":"IF('y = cosh x'!J$27=FALSE,aaa,L127+(bbb-aaa)/200)","v":-4},{"v":26.98095238095238,"d":"26.98095"}]
[1.0800000000000034,{"v":1.302542012710298,"d":"1.30254"},{"$f":"IF('y = sinh x'!I$28=FALSE,aa,C128+(bb-aa)/200)","v":-4},{"v":-26.45079365079365,"d":"-26.45079"},{"$nulls":5},1.0800000000000034,{"v":1.642137538355236,"d":"1.64214"},{"$f":"IF('y = cosh x'!J$27=FALSE,aaa,L128+(bbb-aaa)/200)","v":-4},{"v":26.98095238095238,"d":"26.98095"}]
[1.1200000000000034,{"v":1.369287204334987,"d":"1.36929"},{"$f":"IF('y = sinh x'!I$28=FALSE,aa,C129+(bb-aa)/200)","v":-4},{"v":-26.45079365079365,"d":"-26.45079"},{"$nulls":5},1.1200000000000034,{"v":1.6955669989580255,"d":"1.69557"},{"$f":"IF('y = cosh x'!J$27=FALSE,aaa,L129+(bbb-aaa)/200)","v":-4},{"v":26.98095238095238,"d":"26.98095"}]
[{"$f":"A130+(bb-aa)/200","v":1.1600000000000035},{"$f":"SINH(A131)","v":{"v":1.4382235476167957,"d":"1.43822"}},{"$f":"IF('y = sinh x'!I$28=FALSE,aa,C130+(bb-aa)/200)","v":-4},{"$f":"C131+C131^3/6+C131^5/120+C131^7/5040","v":{"v":-26.45079365079365,"d":"-26.45079"}},{"$nulls":5},{"$f":"J130+(bbb-aaa)/200","v":1.1600000000000035},{"$f":"COSH(J131)","v":{"v":1.7517097284993999,"d":"1.75171"}},{"$f":"IF('y = cosh x'!J$27=FALSE,aaa,L130+(bbb-aaa)/200)","v":-4},{"$f":"1+L131^2/2+L131^4/24+L131^6/720+L131^8/5040/8","v":{"v":26.98095238095238,"d":"26.98095"}}]
[1.2000000000000035,{"v":1.5094613554121792,"d":"1.50946"},{"$f":"IF('y = sinh x'!I$28=FALSE,aa,C131+(bb-aa)/200)","v":-4},{"v":-26.45079365079365,"d":"-26.45079"},{"$nulls":5},1.2000000000000035,{"v":1.81065556732438,"d":"1.81066"},{"$f":"IF('y = cosh x'!J$27=FALSE,aaa,L131+(bbb-aaa)/200)","v":-4},{"v":26.98095238095238,"d":"26.98095"}]
[1.2400000000000035,{"v":1.5831146234118192,"d":"1.58311"},{"$f":"IF('y = sinh x'!I$28=FALSE,aa,C132+(bb-aa)/200)","v":-4},{"v":-26.45079365079365,"d":"-26.45079"},{"$nulls":5},1.2400000000000035,{"v":1.8724988413508687,"d":"1.87250"},{"$f":"IF('y = cosh x'!J$27=FALSE,aaa,L132+(bbb-aaa)/200)","v":-4},{"v":26.98095238095238,"d":"26.98095"}]
[1.2800000000000036,{"v":1.6593012125580504,"d":"1.65930"},{"$f":"IF('y = sinh x'!I$28=FALSE,aa,C133+(bb-aa)/200)","v":-4},{"v":-26.45079365079365,"d":"-26.45079"},{"$nulls":5},1.2800000000000036,{"v":1.9373385130112437,"d":"1.93734"},{"$f":"IF('y = cosh x'!J$27=FALSE,aaa,L133+(bbb-aaa)/200)","v":-4},{"v":26.98095238095238,"d":"26.98095"}]
[1.3200000000000036,{"v":1.7381430376475133,"d":"1.73814"},{"$f":"IF('y = sinh x'!I$28=FALSE,aa,C134+(bb-aa)/200)","v":-4},{"v":-26.45079365079365,"d":"-26.45079"},{"$nulls":5},1.3200000000000036,{"v":2.005278339613363,"d":"2.00528"},{"$f":"IF('y = cosh x'!J$27=FALSE,aaa,L134+(bbb-aaa)/200)","v":-4},{"v":26.98095238095238,"d":"26.98095"}]
[1.3600000000000037,{"v":1.8197662624208368,"d":"1.81977"},{"$f":"IF('y = sinh x'!I$28=FALSE,aa,C135+(bb-aa)/200)","v":-4},{"v":-26.45079365079365,"d":"-26.45079"},{"$nulls":5},1.3600000000000037,{"v":2.0764270393743915,"d":"2.07643"},{"$f":"IF('y = cosh x'!J$27=FALSE,aaa,L135+(bbb-aaa)/200)","v":-4},{"v":26.98095238095238,"d":"26.98095"}]
[1.4000000000000037,{"v":1.904301501451542,"d":"1.90430"},{"$f":"IF('y = sinh x'!I$28=FALSE,aa,C136+(bb-aa)/200)","v":-4},{"v":-26.45079365079365,"d":"-26.45079"},{"$nulls":5},1.4000000000000037,{"v":2.1508984653931478,"d":"2.15090"},{"$f":"IF('y = cosh x'!J$27=FALSE,aaa,L136+(bbb-aaa)/200)","v":-4},{"v":26.98095238095238,"d":"26.98095"}]
[1.4400000000000037,{"v":1.9918840291572237,"d":"1.99188"},{"$f":"IF('y = sinh x'!I$28=FALSE,aa,C137+(bb-aa)/200)","v":-4},{"v":-26.45079365079365,"d":"-26.45079"},{"$nulls":5},1.4400000000000037,{"v":2.2288117878393447,"d":"2.22881"},{"$f":"IF('y = cosh x'!J$27=FALSE,aaa,L137+(bbb-aaa)/200)","v":-4},{"v":26.98095238095238,"d":"26.98095"}]
[1.4800000000000038,{"v":2.0826539962674806,"d":"2.08265"},{"$f":"IF('y = sinh x'!I$28=FALSE,aa,C138+(bb-aa)/200)","v":-4},{"v":-26.45079365079365,"d":"-26.45079"},{"$nulls":5},1.4800000000000038,{"v":2.3102916846512924,"d":"2.31029"},{"$f":"IF('y = cosh x'!J$27=FALSE,aaa,L138+(bbb-aaa)/200)","v":-4},{"v":26.98095238095238,"d":"26.98095"}]
[1.5200000000000038,{"v":2.1767566540949814,"d":"2.17676"},{"$f":"IF('y = sinh x'!I$28=FALSE,aa,C139+(bb-aa)/200)","v":-4},{"v":-26.45079365079365,"d":"-26.45079"},{"$nulls":5},1.5200000000000038,{"v":2.395468541047195,"d":"2.39547"},{"$f":"IF('y = cosh x'!J$27=FALSE,aaa,L139+(bbb-aaa)/200)","v":-4},{"v":26.98095238095238,"d":"26.98095"}]
[1.5600000000000038,{"v":2.274342586968554,"d":"2.27434"},{"$f":"IF('y = sinh x'!I$28=FALSE,aa,C140+(bb-aa)/200)","v":-4},{"v":-26.45079365079365,"d":"-26.45079"},{"$nulls":5},1.5600000000000038,{"v":2.484478658169318,"d":"2.48448"},{"$f":"IF('y = cosh x'!J$27=FALSE,aaa,L140+(bbb-aaa)/200)","v":-4},{"v":26.98095238095238,"d":"26.98095"}]
[1.6000000000000039,{"v":2.3755679532002394,"d":"2.37557"},{"$f":"IF('y = sinh x'!I$28=FALSE,aa,C141+(bb-aa)/200)","v":-4},{"v":-26.45079365079365,"d":"-26.45079"},{"$nulls":5},1.6000000000000039,{"v":2.577464471194894,"d":"2.57746"},{"$f":"IF('y = cosh x'!J$27=FALSE,aaa,L141+(bbb-aaa)/200)","v":-4},{"v":26.98095238095238,"d":"26.98095"}]
[1.640000000000004,{"v":2.4805947349719046,"d":"2.48059"},{"$f":"IF('y = sinh x'!I$28=FALSE,aa,C142+(bb-aa)/200)","v":-4},{"v":-26.45079365079365,"d":"-26.45079"},{"$nulls":5},1.640000000000004,{"v":2.674574777262796,"d":"2.67457"},{"$f":"IF('y = cosh x'!J$27=FALSE,aaa,L142+(bbb-aaa)/200)","v":-4},{"v":26.98095238095238,"d":"26.98095"}]
[1.680000000000004,{"v":2.5895909975412934,"d":"2.58959"},{"$f":"IF('y = sinh x'!I$28=FALSE,aa,C143+(bb-aa)/200)","v":-4},{"v":-26.45079365079365,"d":"-26.45079"},{"$nulls":5},1.680000000000004,{"v":2.7759649735807024,"d":"2.77596"},{"$f":"IF('y = cosh x'!J$27=FALSE,aaa,L143+(bbb-aaa)/200)","v":-4},{"v":26.98095238095238,"d":"26.98095"}]
[1.720000000000004,{"v":2.7027311581822917,"d":"2.70273"},{"$f":"IF('y = sinh x'!I$28=FALSE,aa,C144+(bb-aa)/200)","v":-4},{"v":-26.45079365079365,"d":"-26.45079"},{"$nulls":5},1.720000000000004,{"v":2.8817973060937843,"d":"2.88180"},{"$f":"IF('y = cosh x'!J$27=FALSE,aaa,L144+(bbb-aaa)/200)","v":-4},{"v":26.98095238095238,"d":"26.98095"}]
[1.760000000000004,{"v":2.820196265289781,"d":"2.82020"},{"$f":"IF('y = sinh x'!I$28=FALSE,aa,C145+(bb-aa)/200)","v":-4},{"v":-26.45079365079365,"d":"-26.45079"},{"$nulls":5},1.760000000000004,{"v":2.992241129112831,"d":"2.99224"},{"$f":"IF('y = cosh x'!J$27=FALSE,aaa,L145+(bbb-aaa)/200)","v":-4},{"v":26.98095238095238,"d":"26.98095"}]
[1.800000000000004,{"v":2.9421742880956923,"d":"2.94217"},{"$f":"IF('y = sinh x'!I$28=FALSE,aa,C146+(bb-aa)/200)","v":-4},{"v":-26.45079365079365,"d":"-26.45079"},{"$nulls":5},1.800000000000004,{"v":3.1074731763172783,"d":"3.10747"},{"$f":"IF('y = cosh x'!J$27=FALSE,aaa,L146+(bbb-aaa)/200)","v":-4},{"v":26.98095238095238,"d":"26.98095"}]
[1.840000000000004,{"v":3.0688604174598813,"d":"3.06886"},{"$f":"IF('y = sinh x'!I$28=FALSE,aa,C147+(bb-aa)/200)","v":-4},{"v":-26.45079365079365,"d":"-26.45079"},{"$nulls":5},1.840000000000004,{"v":3.2276778435668017,"d":"3.22768"},{"$f":"IF('y = cosh x'!J$27=FALSE,aaa,L147+(bbb-aaa)/200)","v":-4},{"v":26.98095238095238,"d":"26.98095"}]
[1.8800000000000041,{"v":3.200457378217146,"d":"3.20046"},{"$f":"IF('y = sinh x'!I$28=FALSE,aa,C148+(bb-aa)/200)","v":-4},{"v":-26.45079365079365,"d":"-26.45079"},{"$nulls":5},1.8800000000000041,{"v":3.3530474839740294,"d":"3.35305"},{"$f":"IF('y = cosh x'!J$27=FALSE,aaa,L148+(bbb-aaa)/200)","v":-4},{"v":26.98095238095238,"d":"26.98095"}]
[1.9200000000000041,{"v":3.337175753580214,"d":"3.33718"},{"$f":"IF('y = sinh x'!I$28=FALSE,aa,C149+(bb-aa)/200)","v":-4},{"v":-26.45079365079365,"d":"-26.45079"},{"$nulls":5},1.9200000000000041,{"v":3.483782715710564,"d":"3.48378"},{"$f":"IF('y = cosh x'!J$27=FALSE,aaa,L149+(bbb-aaa)/200)","v":-4},{"v":26.98095238095238,"d":"26.98095"}]
[1.9600000000000042,{"v":3.479234322117809,"d":"3.47923"},{"$f":"IF('y = sinh x'!I$28=FALSE,aa,C150+(bb-aa)/200)","v":-4},{"v":-26.45079365079365,"d":"-26.45079"},{"$nulls":5},1.9600000000000042,{"v":3.620092743038853,"d":"3.62009"},{"$f":"IF('y = cosh x'!J$27=FALSE,aaa,L150+(bbb-aaa)/200)","v":-4},{"v":26.98095238095238,"d":"26.98095"}]
[2.000000000000004,{"v":3.6268604078470337,"d":"3.62686"},{"$f":"IF('y = sinh x'!I$28=FALSE,aa,C151+(bb-aa)/200)","v":-4},{"v":-26.45079365079365,"d":"-26.45079"},{"$nulls":5},2.000000000000004,{"v":3.762195691083646,"d":"3.76220"},{"$f":"IF('y = cosh x'!J$27=FALSE,aaa,L151+(bbb-aaa)/200)","v":-4},{"v":26.98095238095238,"d":"26.98095"}]
[2.040000000000004,{"v":3.7802902440003017,"d":"3.78029"},{"$f":"IF('y = sinh x'!I$28=FALSE,aa,C152+(bb-aa)/200)","v":-4},{"v":-26.45079365079365,"d":"-26.45079"},{"$nulls":5},2.040000000000004,{"v":3.9103189548787274,"d":"3.91032"},{"$f":"IF('y = cosh x'!J$27=FALSE,aaa,L152+(bbb-aaa)/200)","v":-4},{"v":26.98095238095238,"d":"26.98095"}]
[2.080000000000004,{"v":3.9397693510489016,"d":"3.93977"},{"$f":"IF('y = sinh x'!I$28=FALSE,aa,C153+(bb-aa)/200)","v":-4},{"v":-26.45079365079365,"d":"-26.45079"},{"$nulls":5},2.080000000000004,{"v":4.064699563247483,"d":"4.06470"},{"$f":"IF('y = cosh x'!J$27=FALSE,aaa,L153+(bbb-aaa)/200)","v":-4},{"v":26.98095238095238,"d":"26.98095"}]
[2.120000000000004,{"v":4.105552929588135,"d":"4.10555"},{"$f":"IF('y = sinh x'!I$28=FALSE,aa,C154+(bb-aa)/200)","v":-4},{"v":-26.45079365079365,"d":"-26.45079"},{"$nulls":5},2.120000000000004,{"v":4.225584558099592,"d":"4.22558"},{"$f":"IF('y = cosh x'!J$27=FALSE,aaa,L154+(bbb-aaa)/200)","v":-4},{"v":26.98095238095238,"d":"26.98095"}]
[2.160000000000004,{"v":4.277906268712715,"d":"4.27791"},{"$f":"IF('y = sinh x'!I$28=FALSE,aa,C155+(bb-aa)/200)","v":-4},{"v":-26.45079365079365,"d":"-26.45079"},{"$nulls":5},2.160000000000004,{"v":4.393231389750777,"d":"4.39323"},{"$f":"IF('y = cosh x'!J$27=FALSE,aaa,L155+(bbb-aaa)/200)","v":-4},{"v":26.98095238095238,"d":"26.98095"}]
[2.200000000000004,{"v":4.457105170535913,"d":"4.45711"},{"$f":"IF('y = sinh x'!I$28=FALSE,aa,C156+(bb-aa)/200)","v":-4},{"v":-26.45079365079365,"d":"-26.45079"},{"$nulls":5},2.200000000000004,{"v":4.5679083288982465,"d":"4.56791"},{"$f":"IF('y = cosh x'!J$27=FALSE,aaa,L156+(bbb-aaa)/200)","v":-4},{"v":26.98095238095238,"d":"26.98095"}]
[2.240000000000004,{"v":4.643436391531784,"d":"4.64344"},{"$f":"IF('y = sinh x'!I$28=FALSE,aa,C157+(bb-aa)/200)","v":-4},{"v":-26.45079365079365,"d":"-26.45079"},{"$nulls":5},2.240000000000004,{"v":4.749894895911037,"d":"4.74989"},{"$f":"IF('y = cosh x'!J$27=FALSE,aaa,L157+(bbb-aaa)/200)","v":-4},{"v":26.98095238095238,"d":"26.98095"}]
[2.2800000000000042,{"v":4.837198101406705,"d":"4.83720"},{"$f":"IF('y = sinh x'!I$28=FALSE,aa,C158+(bb-aa)/200)","v":-4},{"v":-26.45079365079365,"d":"-26.45079"},{"$nulls":5},2.2800000000000042,{"v":4.939482308122241,"d":"4.93948"},{"$f":"IF('y = cosh x'!J$27=FALSE,aaa,L158+(bbb-aaa)/200)","v":-4},{"v":26.98095238095238,"d":"26.98095"}]
[2.3200000000000043,{"v":5.038700360234509,"d":"5.03870"},{"$f":"IF('y = sinh x'!I$28=FALSE,aa,C159+(bb-aa)/200)","v":-4},{"v":-26.45079365079365,"d":"-26.45079"},{"$nulls":5},2.3200000000000043,{"v":5.13697394583887,"d":"5.13697"},{"$f":"IF('y = cosh x'!J$27=FALSE,aaa,L159+(bbb-aaa)/200)","v":-4},{"v":26.98095238095238,"d":"26.98095"}]
[2.3600000000000043,{"v":5.248265614618762,"d":"5.24827"},{"$f":"IF('y = sinh x'!I$28=FALSE,aa,C160+(bb-aa)/200)","v":-4},{"v":-26.45079365079365,"d":"-26.45079"},{"$nulls":5},2.3600000000000043,{"v":5.342685837815064,"d":"5.34269"},{"$f":"IF('y = cosh x'!J$27=FALSE,aaa,L160+(bbb-aaa)/200)","v":-4},{"v":26.98095238095238,"d":"26.98095"}]
[2.4000000000000044,{"v":5.466229213676119,"d":"5.46623"},{"$f":"IF('y = sinh x'!I$28=FALSE,aa,C161+(bb-aa)/200)","v":-4},{"v":-26.45079365079365,"d":"-26.45079"},{"$nulls":5},2.4000000000000044,{"v":5.55694716696553,"d":"5.55695"},{"$f":"IF('y = cosh x'!J$27=FALSE,aaa,L161+(bbb-aaa)/200)","v":-4},{"v":26.98095238095238,"d":"26.98095"}]
[{"$f":"A162+(bb-aa)/200","v":2.4400000000000044},{"v":5.692939945666452,"d":"5.69294"},{"$f":"IF('y = sinh x'!I$28=FALSE,aa,C162+(bb-aa)/200)","v":-4},{"v":-26.45079365079365,"d":"-26.45079"},{"$nulls":5},{"$f":"J162+(bbb-aaa)/200","v":2.4400000000000044},{"v":5.780100797128433,"d":"5.78010"},{"$f":"IF('y = cosh x'!J$27=FALSE,aaa,L162+(bbb-aaa)/200)","v":-4},{"v":26.98095238095238,"d":"26.98095"}]
[2.4800000000000044,{"v":5.92876059612848,"d":"5.92876"},{"$f":"IF('y = sinh x'!I$28=FALSE,aa,C163+(bb-aa)/200)","v":-4},{"v":-26.45079365079365,"d":"-26.45079"},{"$nulls":5},2.4800000000000044,{"v":6.012503821720676,"d":"6.01250"},{"$f":"IF('y = cosh x'!J$27=FALSE,aaa,L163+(bbb-aaa)/200)","v":-4},{"v":26.98095238095238,"d":"26.98095"}]
[2.5200000000000045,{"v":6.1740685284140335,"d":"6.17407"},{"$f":"IF('y = sinh x'!I$28=FALSE,aa,C164+(bb-aa)/200)","v":-4},{"v":-26.45079365079365,"d":"-26.45079"},{"$nulls":5},2.5200000000000045,{"v":6.254528135163565,"d":"6.25453"},{"$f":"IF('y = cosh x'!J$27=FALSE,aaa,L164+(bbb-aaa)/200)","v":-4},{"v":26.98095238095238,"d":"26.98095"}]
[2.5600000000000045,{"v":6.429256287549918,"d":"6.42926"},{"$f":"IF('y = sinh x'!I$28=FALSE,aa,C165+(bb-aa)/200)","v":-4},{"v":-26.45079365079365,"d":"-26.45079"},{"$nulls":5},2.5600000000000045,{"v":6.506561027993217,"d":"6.50656"},{"$f":"IF('y = cosh x'!J$27=FALSE,aaa,L165+(bbb-aaa)/200)","v":-4},{"v":26.98095238095238,"d":"26.98095"}]
[2.6000000000000045,{"v":6.694732228393709,"d":"6.69473"},{"$f":"IF('y = sinh x'!I$28=FALSE,aa,C166+(bb-aa)/200)","v":-4},{"v":-26.45079365079365,"d":"-26.45079"},{"$nulls":5},2.6000000000000045,{"v":6.7690058066080425,"d":"6.76901"},{"$f":"IF('y = cosh x'!J$27=FALSE,aaa,L166+(bbb-aaa)/200)","v":-4},{"v":26.98095238095238,"d":"26.98095"}]
[2.6400000000000046,{"v":6.970921169088646,"d":"6.97092"},{"$f":"IF('y = sinh x'!I$28=FALSE,aa,C167+(bb-aa)/200)","v":-4},{"v":-26.45079365079365,"d":"-26.45079"},{"$nulls":5},2.6400000000000046,{"v":7.042282438645032,"d":"7.04228"},{"$f":"IF('y = cosh x'!J$27=FALSE,aaa,L167+(bbb-aaa)/200)","v":-4},{"v":26.98095238095238,"d":"26.98095"}]
[2.6800000000000046,{"v":7.258265070863289,"d":"7.25827"},{"$f":"IF('y = sinh x'!I$28=FALSE,aa,C168+(bb-aa)/200)","v":-4},{"v":-26.45079365079365,"d":"-26.45079"},{"$nulls":5},2.6800000000000046,{"v":7.326828225017567,"d":"7.32683"},{"$f":"IF('y = cosh x'!J$27=FALSE,aaa,L168+(bbb-aaa)/200)","v":-4},{"v":26.98095238095238,"d":"26.98095"}]
[2.7200000000000046,{"v":7.557223745263782,"d":"7.55722"},{"$f":"IF('y = sinh x'!I$28=FALSE,aa,C169+(bb-aa)/200)","v":-4},{"v":-26.45079365079365,"d":"-26.45079"},{"$nulls":5},2.7200000000000046,{"v":7.623098499690185,"d":"7.62310"},{"$f":"IF('y = cosh x'!J$27=FALSE,aaa,L169+(bbb-aaa)/200)","v":-4},{"v":26.98095238095238,"d":"26.98095"}]
[2.7600000000000047,{"v":7.868275589950415,"d":"7.86828"},{"$f":"IF('y = sinh x'!I$28=FALSE,aa,C170+(bb-aa)/200)","v":-4},{"v":-26.45079365079365,"d":"-26.45079"},{"$nulls":5},2.7600000000000047,{"v":7.931567358310056,"d":"7.93157"},{"$f":"IF('y = cosh x'!J$27=FALSE,aaa,L170+(bbb-aaa)/200)","v":-4},{"v":26.98095238095238,"d":"26.98095"}]
[2.8000000000000047,{"v":8.191918354235954,"d":"8.19192"},{"$f":"IF('y = sinh x'!I$28=FALSE,aa,C171+(bb-aa)/200)","v":-4},{"v":-26.45079365079365,"d":"-26.45079"},{"$nulls":5},2.8000000000000047,{"v":8.252728416861173,"d":"8.25273"},{"$f":"IF('y = cosh x'!J$27=FALSE,aaa,L171+(bbb-aaa)/200)","v":-4},{"v":26.98095238095238,"d":"26.98095"}]
[2.8400000000000047,{"v":8.52866993559073,"d":"8.52867"},{"$f":"IF('y = sinh x'!I$28=FALSE,aa,C172+(bb-aa)/200)","v":-4},{"v":-26.45079365079365,"d":"-26.45079"},{"$nulls":5},2.8400000000000047,{"v":8.587095601555228,"d":"8.58710"},{"$f":"IF('y = cosh x'!J$27=FALSE,aaa,L172+(bbb-aaa)/200)","v":-4},{"v":26.98095238095238,"d":"26.98095"}]
[2.880000000000005,{"v":8.879069208389074,"d":"8.87907"},{"$f":"IF('y = sinh x'!I$28=FALSE,aa,C173+(bb-aa)/200)","v":-4},{"v":-26.45079365079365,"d":"-26.45079"},{"$nulls":5},2.880000000000005,{"v":8.935203971223208,"d":"8.93520"},{"$f":"IF('y = cosh x'!J$27=FALSE,aaa,L173+(bbb-aaa)/200)","v":-4},{"v":26.98095238095238,"d":"26.98095"}]
[2.920000000000005,{"v":9.243676886223302,"d":"9.24368"},{"$f":"IF('y = sinh x'!I$28=FALSE,aa,C174+(bb-aa)/200)","v":-4},{"v":-26.45079365079365,"d":"-26.45079"},{"$nulls":5},2.920000000000005,{"v":9.297610573523656,"d":"9.29761"},{"$f":"IF('y = cosh x'!J$27=FALSE,aaa,L174+(bbb-aaa)/200)","v":-4},{"v":26.98095238095238,"d":"26.98095"}]
[2.960000000000005,{"v":9.623076419165065,"d":"9.62308"},{"$f":"IF('y = sinh x'!I$28=FALSE,aa,C175+(bb-aa)/200)","v":-4},{"v":-26.45079365079365,"d":"-26.45079"},{"$nulls":5},2.960000000000005,{"v":9.674895336337789,"d":"9.67490"},{"$f":"IF('y = cosh x'!J$27=FALSE,aaa,L175+(bbb-aaa)/200)","v":-4},{"v":26.98095238095238,"d":"26.98095"}]
[3.000000000000005,{"v":10.017874927409952,"d":"10.01787"},{"$f":"IF('y = sinh x'!I$28=FALSE,aa,C176+(bb-aa)/200)","v":-4},{"v":-26.45079365079365,"d":"-26.45079"},{"$nulls":5},3.000000000000005,{"v":10.067661995777815,"d":"10.06766"},{"$f":"IF('y = cosh x'!J$27=FALSE,aaa,L176+(bbb-aaa)/200)","v":-4},{"v":26.98095238095238,"d":"26.98095"}]
[3.040000000000005,{"v":10.42870417279933,"d":"10.42870"},{"$f":"IF('y = sinh x'!I$28=FALSE,aa,C177+(bb-aa)/200)","v":-4},{"v":-26.45079365079365,"d":"-26.45079"},{"$nulls":5},3.040000000000005,{"v":10.476539062293527,"d":"10.47654"},{"$f":"IF('y = cosh x'!J$27=FALSE,aaa,L177+(bbb-aaa)/200)","v":-4},{"v":26.98095238095238,"d":"26.98095"}]
[3.080000000000005,{"v":10.856221569774071,"d":"10.85622"},{"$f":"IF('y = sinh x'!I$28=FALSE,aa,C178+(bb-aa)/200)","v":-4},{"v":-26.45079365079365,"d":"-26.45079"},{"$nulls":5},3.080000000000005,{"v":10.902180826423116,"d":"10.90218"},{"$f":"IF('y = cosh x'!J$27=FALSE,aaa,L178+(bbb-aaa)/200)","v":-4},{"v":26.98095238095238,"d":"26.98095"}]
[3.120000000000005,{"v":11.301111237377906,"d":"11.30111"},{"$f":"IF('y = sinh x'!I$28=FALSE,aa,C179+(bb-aa)/200)","v":-4},{"v":-26.45079365079365,"d":"-26.45079"},{"$nulls":5},3.120000000000005,{"v":11.3452684057976,"d":"11.34527"},{"$f":"IF('y = cosh x'!J$27=FALSE,aaa,L179+(bbb-aaa)/200)","v":-4},{"v":26.98095238095238,"d":"26.98095"}]
[3.160000000000005,{"v":11.764085093993867,"d":"11.76409"},{"$f":"IF('y = sinh x'!I$28=FALSE,aa,C180+(bb-aa)/200)","v":-4},{"v":-26.45079365079365,"d":"-26.45079"},{"$nulls":5},3.160000000000005,{"v":11.806510835074377,"d":"11.80651"},{"$f":"IF('y = cosh x'!J$27=FALSE,aaa,L180+(bbb-aaa)/200)","v":-4},{"v":26.98095238095238,"d":"26.98095"}]
[3.200000000000005,{"v":12.245883996565553,"d":"12.24588"},{"$f":"IF('y = sinh x'!I$28=FALSE,aa,C181+(bb-aa)/200)","v":-4},{"v":-26.45079365079365,"d":"-26.45079"},{"$nulls":5},3.200000000000005,{"v":12.28664620054392,"d":"12.28665"},{"$f":"IF('y = cosh x'!J$27=FALSE,aaa,L181+(bbb-aaa)/200)","v":-4},{"v":26.98095238095238,"d":"26.98095"}]
[3.240000000000005,{"v":12.747278926126333,"d":"12.74728"},{"$f":"IF('y = sinh x'!I$28=FALSE,aa,C182+(bb-aa)/200)","v":-4},{"v":-26.45079365079365,"d":"-26.45079"},{"$nulls":5},3.240000000000005,{"v":12.78644282122532,"d":"12.78644"},{"$f":"IF('y = cosh x'!J$27=FALSE,aaa,L182+(bbb-aaa)/200)","v":-4},{"v":26.98095238095238,"d":"26.98095"}]
[3.280000000000005,{"v":13.269072221533461,"d":"13.26907"},{"$f":"IF('y = sinh x'!I$28=FALSE,aa,C183+(bb-aa)/200)","v":-4},{"v":-26.45079365079365,"d":"-26.45079"},{"$nulls":5},3.280000000000005,{"v":13.306700478340636,"d":"13.30670"},{"$f":"IF('y = cosh x'!J$27=FALSE,aaa,L183+(bbb-aaa)/200)","v":-4},{"v":26.98095238095238,"d":"26.98095"}]
[3.320000000000005,{"v":13.812098863381424,"d":"13.81210"},{"$f":"IF('y = sinh x'!I$28=FALSE,aa,C184+(bb-aa)/200)","v":-4},{"v":-26.45079365079365,"d":"-26.45079"},{"$nulls":5},3.320000000000005,{"v":13.848251695135469,"d":"13.84825"},{"$f":"IF('y = cosh x'!J$27=FALSE,aaa,L184+(bbb-aaa)/200)","v":-4},{"v":26.98095238095238,"d":"26.98095"}]
[3.360000000000005,{"v":14.377227810149044,"d":"14.37723"},{"$f":"IF('y = sinh x'!I$28=FALSE,aa,C185+(bb-aa)/200)","v":-4},{"v":-26.45079365079365,"d":"-26.45079"},{"$nulls":5},3.360000000000005,{"v":14.411963069093783,"d":"14.41196"},{"$f":"IF('y = cosh x'!J$27=FALSE,aaa,L185+(bbb-aaa)/200)","v":-4},{"v":26.98095238095238,"d":"26.98095"}]
[3.4000000000000052,{"v":14.965363388718423,"d":"14.96536"},{"$f":"IF('y = sinh x'!I$28=FALSE,aa,C186+(bb-aa)/200)","v":-4},{"v":-26.45079365079365,"d":"-26.45079"},{"$nulls":5},3.4000000000000052,{"v":14.998736658678748,"d":"14.99874"},{"$f":"IF('y = cosh x'!J$27=FALSE,aaa,L186+(bbb-aaa)/200)","v":-4},{"v":26.98095238095238,"d":"26.98095"}]
[3.4400000000000053,{"v":15.577446741490883,"d":"15.57745"},{"$f":"IF('y = sinh x'!I$28=FALSE,aa,C187+(bb-aa)/200)","v":-4},{"v":-26.45079365079365,"d":"-26.45079"},{"$nulls":5},3.4400000000000053,{"v":15.609511426818743,"d":"15.60951"},{"$f":"IF('y = cosh x'!J$27=FALSE,aaa,L187+(bbb-aaa)/200)","v":-4},{"v":26.98095238095238,"d":"26.98095"}]
[3.4800000000000053,{"v":16.21445733241561,"d":"16.21446"},{"$f":"IF('y = sinh x'!I$28=FALSE,aa,C188+(bb-aa)/200)","v":-4},{"v":-26.45079365079365,"d":"-26.45079"},{"$nulls":5},3.4800000000000053,{"v":16.245264743448363,"d":"16.24526"},{"$f":"IF('y = cosh x'!J$27=FALSE,aaa,L188+(bbb-aaa)/200)","v":-4},{"v":26.98095238095238,"d":"26.98095"}]
[3.5200000000000053,{"v":16.877414514340924,"d":"16.87741"},{"$f":"IF('y = sinh x'!I$28=FALSE,aa,C189+(bb-aa)/200)","v":-4},{"v":-26.45079365079365,"d":"-26.45079"},{"$nulls":5},3.5200000000000053,{"v":16.907013949508812,"d":"16.90701"},{"$f":"IF('y = cosh x'!J$27=FALSE,aaa,L189+(bbb-aaa)/200)","v":-4},{"v":26.98095238095238,"d":"26.98095"}]
[3.5600000000000054,{"v":17.567379160196307,"d":"17.56738"},{"$f":"IF('y = sinh x'!I$28=FALSE,aa,C190+(bb-aa)/200)","v":-4},{"v":-26.45079365079365,"d":"-26.45079"},{"$nulls":5},3.5600000000000054,{"v":17.595817984910493,"d":"17.59582"},{"$f":"IF('y = cosh x'!J$27=FALSE,aaa,L190+(bbb-aaa)/200)","v":-4},{"v":26.98095238095238,"d":"26.98095"}]
[3.6000000000000054,{"v":18.285455360615448,"d":"18.28546"},{"$f":"IF('y = sinh x'!I$28=FALSE,aa,C191+(bb-aa)/200)","v":-4},{"v":-26.45079365079365,"d":"-26.45079"},{"$nulls":5},3.6000000000000054,{"v":18.31277908306274,"d":"18.31278"},{"$f":"IF('y = cosh x'!J$27=FALSE,aaa,L191+(bbb-aaa)/200)","v":-4},{"v":26.98095238095238,"d":"26.98095"}]
[3.6400000000000055,{"v":19.03279219071677,"d":"19.03279"},{"$f":"IF('y = sinh x'!I$28=FALSE,aa,C192+(bb-aa)/200)","v":-4},{"v":-26.45079365079365,"d":"-26.45079"},{"$nulls":5},3.6400000000000055,{"v":19.059044534682457,"d":"19.05904"},{"$f":"IF('y = cosh x'!J$27=FALSE,aaa,L192+(bbb-aaa)/200)","v":-4},{"v":26.98095238095238,"d":"26.98095"}]
[3.6800000000000055,{"v":19.81058554886879,"d":"19.81059"},{"$f":"IF('y = sinh x'!I$28=FALSE,aa,C193+(bb-aa)/200)","v":-4},{"v":-26.45079365079365,"d":"-26.45079"},{"$nulls":5},3.6800000000000055,{"v":19.83580852370402,"d":"19.83581"},{"$f":"IF('y = cosh x'!J$27=FALSE,aaa,L193+(bbb-aaa)/200)","v":-4},{"v":26.98095238095238,"d":"26.98095"}]
[{"$f":"A194+(bb-aa)/200","v":3.7200000000000055},{"$f":"SINH(A195)","v":{"v":20.620080070382667,"d":"20.62008"}},{"$f":"IF('y = sinh x'!I$28=FALSE,aa,C194+(bb-aa)/200)","v":-4},{"$f":"C195+C195^3/6+C195^5/120+C195^7/5040","v":{"v":-26.45079365079365,"d":"-26.45079"}},{"$nulls":5},{"$f":"J194+(bbb-aaa)/200","v":3.7200000000000055},{"$f":"COSH(J195)","v":{"v":20.644314038228355,"d":"20.64431"}},{"$f":"IF('y = cosh x'!J$27=FALSE,aaa,L194+(bbb-aaa)/200)","v":-4},{"$f":"1+L195^2/2+L195^4/24+L195^6/720+L195^8/5040/8","v":{"v":26.98095238095238,"d":"26.98095"}}]
[3.7600000000000056,{"v":21.46257111919418,"d":"21.46257"},{"$f":"IF('y = sinh x'!I$28=FALSE,aa,C195+(bb-aa)/200)","v":-4},{"v":-26.45079365079365,"d":"-26.45079"},{"$nulls":5},3.7600000000000056,{"v":21.48585485956908,"d":"21.48585"},{"$f":"IF('y = cosh x'!J$27=FALSE,aaa,L195+(bbb-aaa)/200)","v":-4},{"v":26.98095238095238,"d":"26.98095"}]
[3.8000000000000056,{"v":22.339406860722452,"d":"22.33941"},{"$f":"IF('y = sinh x'!I$28=FALSE,aa,C196+(bb-aa)/200)","v":-4},{"v":-26.45079365079365,"d":"-26.45079"},{"$nulls":5},3.8000000000000056,{"v":22.36177763257862,"d":"22.36178"},{"$f":"IF('y = cosh x'!J$27=FALSE,aaa,L196+(bbb-aaa)/200)","v":-4},{"v":26.98095238095238,"d":"26.98095"}]
[3.8400000000000056,{"v":23.25199041922219,"d":"23.25199"},{"$f":"IF('y = sinh x'!I$28=FALSE,aa,C197+(bb-aa)/200)","v":-4},{"v":-26.45079365079365,"d":"-26.45079"},{"$nulls":5},3.8400000000000056,{"v":23.27348402056728,"d":"23.27348"},{"$f":"IF('y = cosh x'!J$27=FALSE,aaa,L197+(bbb-aaa)/200)","v":-4},{"v":26.98095238095238,"d":"26.98095"}]
[3.8800000000000057,{"v":24.20178212308187,"d":"24.20178"},{"$f":"IF('y = sinh x'!I$28=FALSE,aa,C198+(bb-aa)/200)","v":-4},{"v":-26.45079365079365,"d":"-26.45079"},{"$nulls":5},3.8800000000000057,{"v":24.22243294826358,"d":"24.22243"},{"$f":"IF('y = cosh x'!J$27=FALSE,aaa,L198+(bbb-aaa)/200)","v":-4},{"v":26.98095238095238,"d":"26.98095"}]
[3.9200000000000057,{"v":25.190301841660702,"d":"25.19030"},{"$f":"IF('y = sinh x'!I$28=FALSE,aa,C199+(bb-aa)/200)","v":-4},{"v":-26.45079365079365,"d":"-26.45079"},{"$nulls":5},3.9200000000000057,{"v":25.210142936405074,"d":"25.21014"},{"$f":"IF('y = cosh x'!J$27=FALSE,aaa,L199+(bbb-aaa)/200)","v":-4},{"v":26.98095238095238,"d":"26.98095"}]
[3.9600000000000057,{"v":26.21913141740387,"d":"26.21913"},{"$f":"IF('y = sinh x'!I$28=FALSE,aa,C200+(bb-aa)/200)","v":-4},{"v":-26.45079365079365,"d":"-26.45079"},{"$nulls":5},3.9600000000000057,{"v":26.23819453169548,"d":"26.23819"},{"$f":"IF('y = cosh x'!J$27=FALSE,aaa,L200+(bbb-aaa)/200)","v":-4},{"v":26.98095238095238,"d":"26.98095"}]
[4.000000000000005,{"v":27.289917197127895,"d":"27.28992"},{"$f":"IF('y = sinh x'!I$28=FALSE,aa,C201+(bb-aa)/200)","v":-4},{"v":-26.45079365079365,"d":"-26.45079"},{"$nulls":5},4.000000000000005,{"v":27.308232836016632,"d":"27.30823"},{"$f":"IF('y = cosh x'!J$27=FALSE,aaa,L201+(bbb-aaa)/200)","v":-4},{"v":26.98095238095238,"d":"26.98095"}]